{"text_format":"1","workbook":"xlsx","n_sheets":28,"sheets":["2019","Overz.","Overuren","Transponeren","9","17","18","23","25","42","54","43","56","70","73","82","83","85","94","97","99","100","119","124","135","141","142","het probleem"],"not_rendered":{"charts":0,"images":0,"macros":1,"external_links":0,"defined_names":24,"comments":0,"pivot_tables":0},"unopened":[],"bounds":{"document_bytes":16777216,"sheet_cells":100000,"rows_first":2000,"rows_last":500,"rows_between":2000,"halvings":0,"cell_chars":16384,"cell_head_chars":4096},"cells_cut":0,"cells_raw":0,"read":"whole","date_system":"1900"}

{"sheet":"2019","index":0,"n_rows":379,"n_cols":35,"rows_kept":379,"cut":false,"hidden":false,"merged":[[2,29,2,32],[6,33,6,34],[4,25,4,28],[4,29,4,32],[4,33,4,34],[5,25,5,28],[5,29,5,32],[5,33,5,34],[2,33,2,34],[3,25,3,28],[3,29,3,32],[3,33,3,34],[6,21,6,24],[6,25,6,28],[6,29,6,32],[5,21,5,23],[4,21,4,23],[0,29,0,32],[0,33,0,34],[1,25,1,28],[1,29,1,32],[1,33,1,34],[3,21,3,23],[2,21,2,23],[2,25,2,28],[0,1,1,12],[0,21,0,24],[0,25,0,28],[1,21,1,23]]}
["NR","NAAM + VOORNAAM",null,null,null,null,null,null,null,null,null,null,null,null,null,null,null,null,null,null,null,"Soort",null,null,null,"Recht op",null,null,null,"Opgenomen",null,null,null,"Saldo"]
[null,null,null,null,null,null,null,null,null,null,null,null,null,null,null,null,null,null,null,null,null,"ADV-dagen",null,null,"adv",null,null,null,null,{"$f":"(COUNTIF(W$9:AH$39,\"ADV\")+(COUNTIF(W$9:AH$39,\"0,5ADV\"))/2)","v":0},null,null,null,{"$f":"Z2-AD2","v":0}]
[null,null,null,null,null,null,null,null,null,null,null,null,null,null,null,null,null,null,null,null,null,"Vakantie 2019",null,null,"v",null,null,null,null,{"$f":"(COUNTIF(W$9:AH$39,\"V\")+(COUNTIF(W$9:AH$39,\"0,5V\"))/2)","v":0},null,null,null,{"$f":"Z3-AD3","v":0}]
["Opgelet avondwerk ! Van 00:00u tot 00:00u / + 0,00u premie 50%",null,null,null,null,null,null,null,null,null,null,null,null,"Feestdag in weekend 2019",null,null,null,null,"Recup 2018",null,null,"Feestdag 2019",null,null,"f",1,null,null,null,{"$f":"(COUNTIF(W$9:AH$39,\"F\")+(COUNTIF(W$9:AH$39,\"0,5F\"))/2)","v":0},null,null,null,1]
[null,null,null,null,null,null,null,null,null,null,null,null,null,"- nationale feestdag 21/7",null,null,null,null,null,null,null,"Vakantie rest 2018",null,null,"vvj",null,null,null,null,{"$f":"(COUNTIF(W$9:AH$39,\"vvj\")+(COUNTIF(W$9:AH$39,\"0,5vvj\"))/2)","v":0},null,null,null,0]
[null,null,null,null,null,null,null,null,null,null,null,null,null,null,null,null,null,null,"Recup",{"$f":"SUM(S9:S379)-SUM(R9:R379)+T5+T4","v":0},null,"Anciënniteitsdagen",null,null,"a ",null,null,null,null,{"$f":"(COUNTIF(W$9:AH$39,\"A\")+(COUNTIF(W$9:AH$39,\"0,5A\"))/2)","v":0},null,null,null,0]
[null,null,null,null,null,null,null,null,null,null,null,null,null,null,null,null,null,null,null,null,null,"TOTAAL",null,null,null,{"$f":"SUM(Z2:AC6)","v":1},null,null,null,{"$f":"SUM(AD2:AG6)","v":0},null,null,null,{"$f":"SUM(AH2:AI6)","v":1}]
["W","Dag","Datum","Van ","Tot",null,"Pauze","Prestaties","Recup","Andere","Type","Dag","OV DAG","Week","Prestaties","OV WEEK","OV DAG","Rec. -","Rec. +","OV 50%","M",null,"Jan","Feb","Maa","Apr","Mei","Jun","Jul","Aug","Sept","Okt","Nov","Dec"]
[{"$f":"WEEKNUM(C9,21)","v":1},{"$f":"C9","v":"2018-12-31"},"2018-12-31",null,null,{"$f":"(E9-D9)*24","v":0},{"$f":"IF(F9>=6,0.5,0)","v":0},{"$f":"F9-G9","v":0},null,null,null,{"$f":"SUM(H9:J9)","v":0},{"$f":"IF(L9>9,L9-9,\"\")","v":""},null,null,null,null,null,null,null,null,1,{"$f":"K9","v":0},{"$f":"K40","v":0},{"$f":"K68","v":0},{"$f":"K99","v":"zo"},{"$f":"K129","v":0},{"$f":"K160","v":0},{"$f":"K190","v":"zo"},{"$f":"K221","v":0},{"$f":"K252","v":"za"},{"$f":"K282","v":0},{"$f":"K313","v":0},{"$f":"K343","v":"za"},1]
[{"$f":"WEEKNUM(C10,21)","v":1},{"$f":"C10","v":"2019-01-01"},"2019-01-01",null,null,{"$f":"(E10-D10)*24","v":0},{"$f":"IF(F10>=6,0.5,0)","v":0},{"$f":"F10-G10","v":0},null,7.6,"fd",{"$f":"SUM(H10:J10)","v":7.6},"",null,null,null,null,null,null,null,null,2,{"$f":"K10","v":"fd"},{"$f":"K41","v":0},{"$f":"K69","v":0},{"$f":"K100","v":0},{"$f":"K130","v":"fd"},{"$f":"K161","v":"za"},{"$f":"K191","v":0},{"$f":"K222","v":0},{"$f":"K253","v":"zo"},{"$f":"K283","v":0},{"$f":"K314","v":"fd"},{"$f":"K344","v":"zo"},2]
[1,"2019-01-02","2019-01-02",null,null,0,0,0,null,null,null,0,"",null,null,null,null,null,null,null,null,3,0,"za","za",0,0,"zo",0,0,0,0,"za",0,3]
[1,"2019-01-03","2019-01-03",null,null,0,0,0,null,null,null,0,"",null,null,null,null,null,null,null,null,4,0,"zo","zo",0,0,0,0,"za",0,0,"zo",0,4]
[1,"2019-01-04","2019-01-04",null,null,0,0,0,null,null,null,0,"",null,null,null,null,null,null,null,null,5,0,0,0,0,"za",0,0,"zo",0,0,0,{"$f":"K347","v":0},5]
[1,"2019-01-05","2019-01-05",null,null,0,null,0,null,null,"za",0,"","Week",null,"OV WEEK","OV DAG","Recup -","Recup +","OV 50%",null,6,"za",0,0,0,"zo",0,0,0,0,"za",0,0,6]
[1,"2019-01-06","2019-01-06",null,null,0,null,0,null,null,"zo",0,"",{"$f":"SUM(L9:L15)","v":7.6},{"$f":"SUM(H9:H15)","v":0},{"$f":"IF(N15>38,N15-38,0)","v":0},{"$f":"SUM(M9:M15)","v":0},{"$f":"SUM(I9:I15)","v":0},{"$f":"IF(N15>38,N15-38,0)","v":0},{"$f":"IF(P15>Q15,P15,Q15)","v":0},null,7,"zo",0,0,"za",0,0,"za",0,0,"zo",0,0,7]
[2,"2019-01-07","2019-01-07",null,null,0,0,0,null,null,null,0,"",null,null,null,null,null,null,null,null,8,0,0,0,"zo",0,0,"zo",0,"za",0,0,"za",8]
[2,"2019-01-08","2019-01-08",null,null,0,0,0,null,null,null,0,"",null,null,null,null,null,null,null,null,9,0,0,0,0,0,"za",0,0,"zo",0,0,"zo",9]
[2,"2019-01-09","2019-01-09",null,null,0,0,0,null,null,null,0,"",null,null,null,null,null,null,null,null,10,0,"za","za",0,0,"zo",0,0,0,0,"za",0,10]
[2,"2019-01-10","2019-01-10",null,null,0,0,0,null,null,null,0,"",null,null,null,null,null,null,null,null,11,0,"zo","zo",0,0,"fd",0,"za",0,0,"zo",0,11]
[2,"2019-01-11","2019-01-11",null,null,0,0,0,null,null,null,0,"",null,null,null,null,null,null,null,null,12,0,0,0,0,"za",0,0,"zo",0,0,"fd",0,12]
[2,"2019-01-12","2019-01-12",null,null,0,null,0,null,null,"za",0,"","Week",null,"OV WEEK","OV DAG","Recup -","Recup +","OV 50%",null,13,"za",0,0,0,"zo",0,0,0,0,"za",0,0,13]
[2,"2019-01-13","2019-01-13",null,null,0,null,0,null,null,"zo",0,"",{"$f":"SUM(L16:L22)","v":0},{"$f":"SUM(H16:H22)","v":0},{"$f":"IF(N22>38,N22-38,0)","v":0},{"$f":"SUM(M16:M22)","v":0},{"$f":"SUM(I16:I22)","v":0},{"$f":"IF(N22>38,N22-38,0)","v":0},{"$f":"IF(P22>Q22,P22,Q22)","v":0},null,14,"zo",0,0,"za",0,0,"za",0,0,"zo",0,0,14]
[3,"2019-01-14","2019-01-14",null,null,0,0,0,null,null,null,0,"",null,null,null,null,null,null,null,null,15,0,0,0,"zo",0,0,"zo",0,"za",0,0,"za",15]
[3,"2019-01-15","2019-01-15",null,null,0,0,0,null,null,null,0,"",null,null,null,null,null,null,null,null,16,0,0,0,0,0,"za",0,"fd","zo",0,0,"zo",16]
[3,"2019-01-16","2019-01-16",null,null,0,0,0,null,null,null,0,"",null,null,null,null,null,null,null,null,17,0,"za","za",0,0,"zo",0,0,0,0,"za",0,17]
[3,"2019-01-17","2019-01-17",null,null,0,0,0,null,null,null,0,"",null,null,null,null,null,null,null,null,18,0,"zo","zo",0,0,0,0,"za",0,0,"zo",0,18]
[3,"2019-01-18","2019-01-18",null,null,0,0,0,null,null,null,0,"",null,null,null,null,null,null,null,null,19,0,0,0,0,"za",0,0,"zo",0,0,0,0,19]
[3,"2019-01-19","2019-01-19",null,null,0,null,0,null,null,"za",0,"","Week",null,"OV WEEK","OV DAG","Recup -","Recup +","OV 50%",null,20,"za",0,0,0,"zo",0,0,0,0,"za",0,{"$f":"K362","v":0},20]
[3,"2019-01-20","2019-01-20",null,null,0,null,0,null,null,"zo",0,"",{"$f":"SUM(L23:L29)","v":0},{"$f":"SUM(H23:H29)","v":0},{"$f":"IF(N29>38,N29-38,0)","v":0},{"$f":"SUM(M23:M29)","v":0},{"$f":"SUM(I23:I29)","v":0},{"$f":"IF(N29>38,N29-38,0)","v":0},{"$f":"IF(P29>Q29,P29,Q29)","v":0},null,21,"zo",0,0,"za","fd",0,"za",0,0,"zo",0,0,21]
[4,"2019-01-21","2019-01-21",null,null,0,0,0,null,null,null,0,"",null,null,null,null,null,null,null,null,22,0,0,0,"zo",0,0,"zo",0,"za",0,0,"za",22]
[4,"2019-01-22","2019-01-22",null,null,0,0,0,null,null,null,0,"",null,null,null,null,null,null,null,null,23,0,0,0,"fd",0,"za",0,0,"zo",0,0,"zo",23]
[4,"2019-01-23","2019-01-23",null,null,0,0,0,null,null,null,0,"",null,null,null,null,null,null,null,null,24,0,"za","za",0,0,"zo",0,0,0,0,"za",0,24]
[4,"2019-01-24","2019-01-24",null,null,0,0,0,null,null,null,0,"",null,null,null,null,null,null,null,null,25,0,"zo","zo",0,0,0,0,"za",0,0,"zo",0,25]
[4,"2019-01-25","2019-01-25",null,null,0,0,0,null,null,null,0,"",null,null,null,null,null,null,null,null,26,0,0,0,0,"za",0,0,"zo",0,0,0,"fd",26]
[4,"2019-01-26","2019-01-26",null,null,0,null,0,null,null,"za",0,"","Week",null,"OV WEEK","OV DAG","Recup -","Recup +","OV 50%",null,27,"za",0,0,0,"zo",0,0,0,0,"za",0,0,27]
[4,"2019-01-27","2019-01-27",null,null,0,null,0,null,null,"zo",0,"",{"$f":"SUM(L30:L36)","v":0},{"$f":"SUM(H30:H36)","v":0},{"$f":"IF(N36>38,N36-38,0)","v":0},{"$f":"SUM(M30:M36)","v":0},{"$f":"SUM(I30:I36)","v":0},{"$f":"IF(N36>38,N36-38,0)","v":0},{"$f":"IF(P36>Q36,P36,Q36)","v":0},null,28,"zo",0,0,"za",0,0,"za",0,0,"zo",0,0,28]
[5,"2019-01-28","2019-01-28",null,null,0,0,0,null,null,null,0,"",null,null,null,null,null,null,null,null,29,0,null,0,"zo",0,0,"zo",0,"za",0,0,"za",29]
[5,"2019-01-29","2019-01-29",null,null,0,0,0,null,null,null,0,"",null,null,null,null,null,null,null,null,30,0,null,0,0,0,"za",0,0,"zo",0,0,"zo",30]
[5,"2019-01-30","2019-01-30",null,null,0,0,0,null,null,null,0,"",null,null,null,null,null,null,null,null,31,0,null,"za",null,"fd",null,0,0,null,0,null,0,31]
[5,"2019-01-31","2019-01-31",null,null,0,0,0,null,null,null,0,"",null,null,null,null,null,null,null,null,"WD",23,20,21,22,23,20,23,22,21,23,21,22,{"$f":"SUM(W40:AH40)","v":261}]
[5,"2019-02-01","2019-02-01",null,null,0,0,0,null,null,null,0,""]
[5,"2019-02-02","2019-02-02",null,null,0,null,0,null,null,"za",0,"","Week",null,"OV WEEK","OV DAG","Recup -","Recup +","OV 50%"]
[5,"2019-02-03","2019-02-03",null,null,0,null,0,null,null,"zo",0,"",{"$f":"SUM(L37:L43)","v":0},{"$f":"SUM(H37:H43)","v":0},{"$f":"IF(N43>38,N43-38,0)","v":0},{"$f":"SUM(M37:M43)","v":0},{"$f":"SUM(I37:I43)","v":0},{"$f":"IF(N43>38,N43-38,0)","v":0},{"$f":"IF(P43>Q43,P43,Q43)","v":0}]
[6,"2019-02-04","2019-02-04",null,null,0,0,0,null,null,null,0,""]
[6,"2019-02-05","2019-02-05",null,null,0,0,0,null,null,null,0,""]
[6,"2019-02-06","2019-02-06",null,null,0,0,0,null,null,null,0,""]
[6,"2019-02-07","2019-02-07",null,null,0,0,0,null,null,null,0,""]
[6,"2019-02-08","2019-02-08",null,null,0,0,0,null,null,null,0,""]
[6,"2019-02-09","2019-02-09",null,null,0,null,0,null,null,"za",0,"","Week",null,"OV WEEK","OV DAG","Recup -","Recup +","OV 50%"]
[6,"2019-02-10","2019-02-10",null,null,0,null,0,null,null,"zo",0,"",{"$f":"SUM(L44:L50)","v":0},{"$f":"SUM(H44:H50)","v":0},{"$f":"IF(N50>38,N50-38,0)","v":0},{"$f":"SUM(M44:M50)","v":0},{"$f":"SUM(I44:I50)","v":0},{"$f":"IF(N50>38,N50-38,0)","v":0},{"$f":"IF(P50>Q50,P50,Q50)","v":0}]
[7,"2019-02-11","2019-02-11",null,null,0,0,0,null,null,null,0,""]
[7,"2019-02-12","2019-02-12",null,null,0,0,0,null,null,null,0,""]
[7,"2019-02-13","2019-02-13",null,null,0,0,0,null,null,null,0,""]
[7,"2019-02-14","2019-02-14",null,null,0,0,0,null,null,null,0,""]
[7,"2019-02-15","2019-02-15",null,null,0,0,0,null,null,null,0,""]
[7,"2019-02-16","2019-02-16",null,null,0,null,0,null,null,"za",0,"","Week",null,"OV WEEK","OV DAG","Recup -","Recup +","OV 50%"]
[7,"2019-02-17","2019-02-17",null,null,0,null,0,null,null,"zo",0,"",{"$f":"SUM(L51:L57)","v":0},{"$f":"SUM(H51:H57)","v":0},{"$f":"IF(N57>38,N57-38,0)","v":0},{"$f":"SUM(M51:M57)","v":0},{"$f":"SUM(I51:I57)","v":0},{"$f":"IF(N57>38,N57-38,0)","v":0},{"$f":"IF(P57>Q57,P57,Q57)","v":0}]
[8,"2019-02-18","2019-02-18",null,null,0,0,0,null,null,null,0,""]
[8,"2019-02-19","2019-02-19",null,null,0,0,0,null,null,null,0,""]
[8,"2019-02-20","2019-02-20",null,null,0,0,0,null,null,null,0,""]
[8,"2019-02-21","2019-02-21",null,null,0,0,0,null,null,null,0,""]
[8,"2019-02-22","2019-02-22",null,null,0,0,0,null,null,null,0,""]
[8,"2019-02-23","2019-02-23",null,null,0,null,0,null,null,"za",0,"","Week",null,"OV WEEK","OV DAG","Recup -","Recup +","OV 50%"]
[8,"2019-02-24","2019-02-24",null,null,0,null,0,null,null,"zo",0,"",{"$f":"SUM(L58:L64)","v":0},{"$f":"SUM(H58:H64)","v":0},{"$f":"IF(N64>38,N64-38,0)","v":0},{"$f":"SUM(M58:M64)","v":0},{"$f":"SUM(I58:I64)","v":0},{"$f":"IF(N64>38,N64-38,0)","v":0},{"$f":"IF(P64>Q64,P64,Q64)","v":0}]
[9,"2019-02-25","2019-02-25",null,null,0,0,0,null,null,null,0,""]
[9,"2019-02-26","2019-02-26",null,null,0,0,0,null,null,null,0,""]
[9,"2019-02-27","2019-02-27",null,null,0,0,0,null,null,null,0,""]
[9,"2019-02-28","2019-02-28",null,null,0,0,0,null,null,null,0,""]
[9,"2019-03-01","2019-03-01",null,null,0,0,0,null,null,null,0,""]
[9,"2019-03-02","2019-03-02",null,null,0,null,0,null,null,"za",0,"","Week",null,"OV WEEK","OV DAG","Recup -","Recup +","OV 50%"]
[9,"2019-03-03","2019-03-03",null,null,0,null,0,null,null,"zo",0,"",{"$f":"SUM(L65:L71)","v":0},{"$f":"SUM(H65:H71)","v":0},{"$f":"IF(N71>38,N71-38,0)","v":0},{"$f":"SUM(M65:M71)","v":0},{"$f":"SUM(I65:I71)","v":0},{"$f":"IF(N71>38,N71-38,0)","v":0},{"$f":"IF(P71>Q71,P71,Q71)","v":0}]
[10,"2019-03-04","2019-03-04",null,null,0,0,0,null,null,null,0,""]
[10,"2019-03-05","2019-03-05",null,null,0,0,0,null,null,null,0,{"$f":"IF(L73>9,L73-9,\"\")","v":""}]
[{"$f":"WEEKNUM(C74,21)","v":10},{"$f":"C74","v":"2019-03-06"},"2019-03-06",null,null,{"$f":"(E74-D74)*24","v":0},{"$f":"IF(F74>=6,0.5,0)","v":0},{"$f":"F74-G74","v":0},null,null,null,{"$f":"SUM(H74:J74)","v":0},""]
[10,"2019-03-07","2019-03-07",null,null,0,0,0,null,null,null,0,""]
[10,"2019-03-08","2019-03-08",null,null,0,0,0,null,null,null,0,""]
[10,"2019-03-09","2019-03-09",null,null,0,null,0,null,null,"za",0,"","Week",null,"OV WEEK","OV DAG","Recup -","Recup +","OV 50%"]
[10,"2019-03-10","2019-03-10",null,null,0,null,0,null,null,"zo",0,"",{"$f":"SUM(L72:L78)","v":0},{"$f":"SUM(H72:H78)","v":0},{"$f":"IF(N78>38,N78-38,0)","v":0},{"$f":"SUM(M72:M78)","v":0},{"$f":"SUM(I72:I78)","v":0},{"$f":"IF(N78>38,N78-38,0)","v":0},{"$f":"IF(P78>Q78,P78,Q78)","v":0}]
[11,"2019-03-11","2019-03-11",null,null,0,0,0,null,null,null,0,""]
[11,"2019-03-12","2019-03-12",null,null,0,0,0,null,null,null,0,""]
[11,"2019-03-13","2019-03-13",null,null,0,0,0,null,null,null,0,""]
[11,"2019-03-14","2019-03-14",null,null,0,0,0,null,null,null,0,""]
[11,"2019-03-15","2019-03-15",null,null,0,0,0,null,null,null,0,""]
[11,"2019-03-16","2019-03-16",null,null,0,null,0,null,null,"za",0,"","Week",null,"OV WEEK","OV DAG","Recup -","Recup +","OV 50%"]
[11,"2019-03-17","2019-03-17",null,null,0,null,0,null,null,"zo",0,"",{"$f":"SUM(L79:L85)","v":0},{"$f":"SUM(H79:H85)","v":0},{"$f":"IF(N85>38,N85-38,0)","v":0},{"$f":"SUM(M79:M85)","v":0},{"$f":"SUM(I79:I85)","v":0},{"$f":"IF(N85>38,N85-38,0)","v":0},{"$f":"IF(P85>Q85,P85,Q85)","v":0}]
[12,"2019-03-18","2019-03-18",null,null,0,0,0,null,null,null,0,""]
[12,"2019-03-19","2019-03-19",null,null,0,0,0,null,null,null,0,""]
[12,"2019-03-20","2019-03-20",null,null,0,0,0,null,null,null,0,""]
[12,"2019-03-21","2019-03-21",null,null,0,0,0,null,null,null,0,""]
[12,"2019-03-22","2019-03-22",null,null,0,0,0,null,null,null,0,""]
[12,"2019-03-23","2019-03-23",null,null,0,null,0,null,null,"za",0,"","Week",null,"OV WEEK","OV DAG","Recup -","Recup +","OV 50%"]
[12,"2019-03-24","2019-03-24",null,null,0,null,0,null,null,"zo",0,"",{"$f":"SUM(L86:L92)","v":0},{"$f":"SUM(H86:H92)","v":0},{"$f":"IF(N92>38,N92-38,0)","v":0},{"$f":"SUM(M86:M92)","v":0},{"$f":"SUM(I86:I92)","v":0},{"$f":"IF(N92>38,N92-38,0)","v":0},{"$f":"IF(P92>Q92,P92,Q92)","v":0}]
[13,"2019-03-25","2019-03-25",null,null,0,0,0,null,null,null,0,""]
[13,"2019-03-26","2019-03-26",null,null,0,0,0,null,null,null,0,""]
[13,"2019-03-27","2019-03-27",null,null,0,0,0,null,null,null,0,""]
[13,"2019-03-28","2019-03-28",null,null,0,0,0,null,null,null,0,""]
[13,"2019-03-29","2019-03-29",null,null,0,0,0,null,null,null,0,""]
[13,"2019-03-30","2019-03-30",null,null,0,null,0,null,null,"za",0,"","Week",null,"OV WEEK","OV DAG","Recup -","Recup +","OV 50%"]
[13,"2019-03-31","2019-03-31",null,null,0,null,0,null,null,"zo",0,"",{"$f":"SUM(L93:L99)","v":0},{"$f":"SUM(H93:H99)","v":0},{"$f":"IF(N99>38,N99-38,0)","v":0},{"$f":"SUM(M93:M99)","v":0},{"$f":"SUM(I93:I99)","v":0},{"$f":"IF(N99>38,N99-38,0)","v":0},{"$f":"IF(P99>Q99,P99,Q99)","v":0}]
[14,"2019-04-01","2019-04-01",null,null,0,0,0,null,null,null,0,""]
[14,"2019-04-02","2019-04-02",null,null,0,0,0,null,null,null,0,""]
[14,"2019-04-03","2019-04-03",null,null,0,0,0,null,null,null,0,""]
[14,"2019-04-04","2019-04-04",null,null,0,0,0,null,null,null,0,""]
[14,"2019-04-05","2019-04-05",null,null,0,0,0,null,null,null,0,""]
[14,"2019-04-06","2019-04-06",null,null,0,null,0,null,null,"za",0,"","Week",null,"OV WEEK","OV DAG","Recup -","Recup +","OV 50%"]
[14,"2019-04-07","2019-04-07",null,null,0,null,0,null,null,"zo",0,"",{"$f":"SUM(L100:L106)","v":0},{"$f":"SUM(H100:H106)","v":0},{"$f":"IF(N106>38,N106-38,0)","v":0},{"$f":"SUM(M100:M106)","v":0},{"$f":"SUM(I100:I106)","v":0},{"$f":"IF(N106>38,N106-38,0)","v":0},{"$f":"IF(P106>Q106,P106,Q106)","v":0}]
[15,"2019-04-08","2019-04-08",null,null,0,0,0,null,null,null,0,""]
[15,"2019-04-09","2019-04-09",null,null,0,0,0,null,null,null,0,""]
[15,"2019-04-10","2019-04-10",null,null,0,0,0,null,null,null,0,""]
[15,"2019-04-11","2019-04-11",null,null,0,0,0,null,null,null,0,""]
[15,"2019-04-12","2019-04-12",null,null,0,0,0,null,null,null,0,""]
[15,"2019-04-13","2019-04-13",null,null,0,null,0,null,null,"za",0,"","Week",null,"OV WEEK","OV DAG","Recup -","Recup +","OV 50%"]
[15,"2019-04-14","2019-04-14",null,null,0,null,0,null,null,"zo",0,"",{"$f":"SUM(L107:L113)","v":0},{"$f":"SUM(H107:H113)","v":0},{"$f":"IF(N113>38,N113-38,0)","v":0},{"$f":"SUM(M107:M113)","v":0},{"$f":"SUM(I107:I113)","v":0},{"$f":"IF(N113>38,N113-38,0)","v":0},{"$f":"IF(P113>Q113,P113,Q113)","v":0}]
[16,"2019-04-15","2019-04-15",null,null,0,0,0,null,null,null,0,""]
[16,"2019-04-16","2019-04-16",null,null,0,0,0,null,null,null,0,""]
[16,"2019-04-17","2019-04-17",null,null,0,0,0,null,null,null,0,""]
[16,"2019-04-18","2019-04-18",null,null,0,0,0,null,null,null,0,""]
[16,"2019-04-19","2019-04-19",null,null,0,0,0,null,null,null,0,""]
[16,"2019-04-20","2019-04-20",null,null,0,null,0,null,null,"za",0,"","Week",null,"OV WEEK","OV DAG","Recup -","Recup +","OV 50%"]
[16,"2019-04-21","2019-04-21",null,null,0,null,0,null,null,"zo",0,"",{"$f":"SUM(L114:L120)","v":0},{"$f":"SUM(H114:H120)","v":0},{"$f":"IF(N120>38,N120-38,0)","v":0},{"$f":"SUM(M114:M120)","v":0},{"$f":"SUM(I114:I120)","v":0},{"$f":"IF(N120>38,N120-38,0)","v":0},{"$f":"IF(P120>Q120,P120,Q120)","v":0}]
[17,"2019-04-22","2019-04-22",null,null,0,0,0,null,7.6,"fd",7.6,""]
[17,"2019-04-23","2019-04-23",null,null,0,0,0,null,null,null,0,""]
[17,"2019-04-24","2019-04-24",null,null,0,0,0,null,null,null,0,""]
[17,"2019-04-25","2019-04-25",null,null,0,0,0,null,null,null,0,""]
[17,"2019-04-26","2019-04-26",null,null,0,0,0,null,null,null,0,""]
[17,"2019-04-27","2019-04-27",null,null,0,null,0,null,null,"za",0,"","Week",null,"OV WEEK","OV DAG","Recup -","Recup +","OV 50%"]
[17,"2019-04-28","2019-04-28",null,null,0,null,0,null,null,"zo",0,"",{"$f":"SUM(L121:L127)","v":7.6},{"$f":"SUM(H121:H127)","v":0},{"$f":"IF(N127>38,N127-38,0)","v":0},{"$f":"SUM(M121:M127)","v":0},{"$f":"SUM(I121:I127)","v":0},{"$f":"IF(N127>38,N127-38,0)","v":0},{"$f":"IF(P127>Q127,P127,Q127)","v":0}]
[18,"2019-04-29","2019-04-29",null,null,0,0,0,null,null,null,0,""]
[18,"2019-04-30","2019-04-30",null,null,0,0,0,null,null,null,0,""]
[18,"2019-05-01","2019-05-01",null,null,0,0,0,null,7.6,"fd",7.6,""]
[18,"2019-05-02","2019-05-02",null,null,0,0,0,null,null,null,0,""]
[18,"2019-05-03","2019-05-03",null,null,0,0,0,null,null,null,0,""]
[18,"2019-05-04","2019-05-04",null,null,0,null,0,null,null,"za",0,"","Week",null,"OV WEEK","OV DAG","Recup -","Recup +","OV 50%"]
[18,"2019-05-05","2019-05-05",null,null,0,null,0,null,null,"zo",0,"",{"$f":"SUM(L128:L134)","v":7.6},{"$f":"SUM(H128:H134)","v":0},{"$f":"IF(N134>38,N134-38,0)","v":0},{"$f":"SUM(M128:M134)","v":0},{"$f":"SUM(I128:I134)","v":0},{"$f":"IF(N134>38,N134-38,0)","v":0},{"$f":"IF(P134>Q134,P134,Q134)","v":0}]
[19,"2019-05-06","2019-05-06",null,null,0,0,0,null,null,null,0,""]
[19,"2019-05-07","2019-05-07",null,null,0,0,0,null,null,null,0,""]
[19,"2019-05-08","2019-05-08",null,null,0,0,0,null,null,null,0,{"$f":"IF(L137>9,L137-9,\"\")","v":""}]
[{"$f":"WEEKNUM(C138,21)","v":19},{"$f":"C138","v":"2019-05-09"},"2019-05-09",null,null,{"$f":"(E138-D138)*24","v":0},{"$f":"IF(F138>=6,0.5,0)","v":0},{"$f":"F138-G138","v":0},null,null,null,{"$f":"SUM(H138:J138)","v":0},""]
[19,"2019-05-10","2019-05-10",null,null,0,0,0,null,null,null,0,""]
[19,"2019-05-11","2019-05-11",null,null,0,null,0,null,null,"za",0,"","Week",null,"OV WEEK","OV DAG","Recup -","Recup +","OV 50%"]
[19,"2019-05-12","2019-05-12",null,null,0,null,0,null,null,"zo",0,"",{"$f":"SUM(L135:L141)","v":0},{"$f":"SUM(H135:H141)","v":0},{"$f":"IF(N141>38,N141-38,0)","v":0},{"$f":"SUM(M135:M141)","v":0},{"$f":"SUM(I135:I141)","v":0},{"$f":"IF(N141>38,N141-38,0)","v":0},{"$f":"IF(P141>Q141,P141,Q141)","v":0}]
[20,"2019-05-13","2019-05-13",null,null,0,0,0,null,null,null,0,""]
[20,"2019-05-14","2019-05-14",null,null,0,0,0,null,null,null,0,""]
[20,"2019-05-15","2019-05-15",null,null,0,0,0,null,null,null,0,""]
[20,"2019-05-16","2019-05-16",null,null,0,0,0,null,null,null,0,""]
[20,"2019-05-17","2019-05-17",null,null,0,0,0,null,null,null,0,""]
[20,"2019-05-18","2019-05-18",null,null,0,null,0,null,null,"za",0,"","Week",null,"OV WEEK","OV DAG","Recup -","Recup +","OV 50%"]
[20,"2019-05-19","2019-05-19",null,null,0,null,0,null,null,"zo",0,"",{"$f":"SUM(L142:L148)","v":0},{"$f":"SUM(H142:H148)","v":0},{"$f":"IF(N148>38,N148-38,0)","v":0},{"$f":"SUM(M142:M148)","v":0},{"$f":"SUM(I142:I148)","v":0},{"$f":"IF(N148>38,N148-38,0)","v":0},{"$f":"IF(P148>Q148,P148,Q148)","v":0}]
[21,"2019-05-20","2019-05-20",null,null,0,0,0,null,7.6,"fd",7.6,""]
[21,"2019-05-21","2019-05-21",null,null,0,0,0,null,null,null,0,""]
[21,"2019-05-22","2019-05-22",null,null,0,0,0,null,null,null,0,""]
[21,"2019-05-23","2019-05-23",null,null,0,0,0,null,null,null,0,""]
[21,"2019-05-24","2019-05-24",null,null,0,0,0,null,null,null,0,""]
[21,"2019-05-25","2019-05-25",null,null,0,null,0,null,null,"za",0,"","Week",null,"OV WEEK","OV DAG","Recup -","Recup +","OV 50%"]
[21,"2019-05-26","2019-05-26",null,null,0,null,0,null,null,"zo",0,"",{"$f":"SUM(L149:L155)","v":7.6},{"$f":"SUM(H149:H155)","v":0},{"$f":"IF(N155>38,N155-38,0)","v":0},{"$f":"SUM(M149:M155)","v":0},{"$f":"SUM(I149:I155)","v":0},{"$f":"IF(N155>38,N155-38,0)","v":0},{"$f":"IF(P155>Q155,P155,Q155)","v":0}]
[22,"2019-05-27","2019-05-27",null,null,0,0,0,null,null,null,0,""]
[22,"2019-05-28","2019-05-28",null,null,0,0,0,null,null,null,0,""]
[22,"2019-05-29","2019-05-29",null,null,0,0,0,null,null,null,0,""]
[22,"2019-05-30","2019-05-30",null,null,0,0,0,null,7.6,"fd",7.6,""]
[22,"2019-05-31","2019-05-31",null,null,0,0,0,null,null,null,0,""]
[22,"2019-06-01","2019-06-01",null,null,0,null,0,null,null,"za",0,"","Week",null,"OV WEEK","OV DAG","Recup -","Recup +","OV 50%"]
[22,"2019-06-02","2019-06-02",null,null,0,null,0,null,null,"zo",0,"",{"$f":"SUM(L156:L162)","v":7.6},{"$f":"SUM(H156:H162)","v":0},{"$f":"IF(N162>38,N162-38,0)","v":0},{"$f":"SUM(M156:M162)","v":0},{"$f":"SUM(I156:I162)","v":0},{"$f":"IF(N162>38,N162-38,0)","v":0},{"$f":"IF(P162>Q162,P162,Q162)","v":0}]
[23,"2019-06-03","2019-06-03",null,null,0,0,0,null,null,null,0,""]
[23,"2019-06-04","2019-06-04",null,null,0,0,0,null,null,null,0,""]
[23,"2019-06-05","2019-06-05",null,null,0,0,0,null,null,null,0,""]
[23,"2019-06-06","2019-06-06",null,null,0,0,0,null,null,null,0,""]
[23,"2019-06-07","2019-06-07",null,null,0,0,0,null,null,null,0,""]
[23,"2019-06-08","2019-06-08",null,null,0,null,0,null,null,"za",0,"","Week",null,"OV WEEK","OV DAG","Recup -","Recup +","OV 50%"]
[23,"2019-06-09","2019-06-09",null,null,0,null,0,null,null,"zo",0,"",{"$f":"SUM(L163:L169)","v":0},{"$f":"SUM(H163:H169)","v":0},{"$f":"IF(N169>38,N169-38,0)","v":0},{"$f":"SUM(M163:M169)","v":0},{"$f":"SUM(I163:I169)","v":0},{"$f":"IF(N169>38,N169-38,0)","v":0},{"$f":"IF(P169>Q169,P169,Q169)","v":0}]
[24,"2019-06-10","2019-06-10",null,null,0,0,0,null,7.6,"fd",7.6,""]
[24,"2019-06-11","2019-06-11",null,null,0,0,0,null,null,null,0,""]
[24,"2019-06-12","2019-06-12",null,null,0,0,0,null,null,null,0,""]
[24,"2019-06-13","2019-06-13",null,null,0,0,0,null,null,null,0,""]
[24,"2019-06-14","2019-06-14",null,null,0,0,0,null,null,null,0,""]
[24,"2019-06-15","2019-06-15",null,null,0,null,0,null,null,"za",0,"","Week",null,"OV WEEK","OV DAG","Recup -","Recup +","OV 50%"]
[24,"2019-06-16","2019-06-16",null,null,0,null,0,null,null,"zo",0,"",{"$f":"SUM(L170:L176)","v":7.6},{"$f":"SUM(H170:H176)","v":0},{"$f":"IF(N176>38,N176-38,0)","v":0},{"$f":"SUM(M170:M176)","v":0},{"$f":"SUM(I170:I176)","v":0},{"$f":"IF(N176>38,N176-38,0)","v":0},{"$f":"IF(P176>Q176,P176,Q176)","v":0}]
[25,"2019-06-17","2019-06-17",null,null,0,0,0,null,null,null,0,""]
[25,"2019-06-18","2019-06-18",null,null,0,0,0,null,null,null,0,""]
[25,"2019-06-19","2019-06-19",null,null,0,0,0,null,null,null,0,""]
[25,"2019-06-20","2019-06-20",null,null,0,0,0,null,null,null,0,""]
[25,"2019-06-21","2019-06-21",null,null,0,0,0,null,null,null,0,""]
[25,"2019-06-22","2019-06-22",null,null,0,null,0,null,null,"za",0,"","Week",null,"OV WEEK","OV DAG","Recup -","Recup +","OV 50%"]
[25,"2019-06-23","2019-06-23",null,null,0,null,0,null,null,"zo",0,"",{"$f":"SUM(L177:L183)","v":0},{"$f":"SUM(H177:H183)","v":0},{"$f":"IF(N183>38,N183-38,0)","v":0},{"$f":"SUM(M177:M183)","v":0},{"$f":"SUM(I177:I183)","v":0},{"$f":"IF(N183>38,N183-38,0)","v":0},{"$f":"IF(P183>Q183,P183,Q183)","v":0}]
[26,"2019-06-24","2019-06-24",null,null,0,0,0,null,null,null,0,""]
[26,"2019-06-25","2019-06-25",null,null,0,0,0,null,null,null,0,""]
[26,"2019-06-26","2019-06-26",null,null,0,0,0,null,null,null,0,""]
[26,"2019-06-27","2019-06-27",null,null,0,0,0,null,null,null,0,""]
[26,"2019-06-28","2019-06-28",null,null,0,0,0,null,null,null,0,""]
[26,"2019-06-29","2019-06-29",null,null,0,null,0,null,null,"za",0,"","Week",null,"OV WEEK","OV DAG","Recup -","Recup +","OV 50%"]
[26,"2019-06-30","2019-06-30",null,null,0,null,0,null,null,"zo",0,"",{"$f":"SUM(L184:L190)","v":0},{"$f":"SUM(H184:H190)","v":0},{"$f":"IF(N190>38,N190-38,0)","v":0},{"$f":"SUM(M184:M190)","v":0},{"$f":"SUM(I184:I190)","v":0},{"$f":"IF(N190>38,N190-38,0)","v":0},{"$f":"IF(P190>Q190,P190,Q190)","v":0}]
[27,"2019-07-01","2019-07-01",null,null,0,0,0,null,null,null,0,""]
[27,"2019-07-02","2019-07-02",null,null,0,0,0,null,null,null,0,""]
[27,"2019-07-03","2019-07-03",null,null,0,0,0,null,null,null,0,""]
[27,"2019-07-04","2019-07-04",null,null,0,0,0,null,null,null,0,""]
[27,"2019-07-05","2019-07-05",null,null,0,0,0,null,null,null,0,""]
[27,"2019-07-06","2019-07-06",null,null,0,null,0,null,null,"za",0,"","Week",null,"OV WEEK","OV DAG","Recup -","Recup +","OV 50%"]
[27,"2019-07-07","2019-07-07",null,null,0,null,0,null,null,"zo",0,"",{"$f":"SUM(L191:L197)","v":0},{"$f":"SUM(H191:H197)","v":0},{"$f":"IF(N197>38,N197-38,0)","v":0},{"$f":"SUM(M191:M197)","v":0},{"$f":"SUM(I191:I197)","v":0},{"$f":"IF(N197>38,N197-38,0)","v":0},{"$f":"IF(P197>Q197,P197,Q197)","v":0}]
[28,"2019-07-08","2019-07-08",null,null,0,0,0,null,null,null,0,""]
[28,"2019-07-09","2019-07-09",null,null,0,0,0,null,null,null,0,""]
[28,"2019-07-10","2019-07-10",null,null,0,0,0,null,null,null,0,""]
[28,"2019-07-11","2019-07-11",null,null,0,0,0,null,null,null,0,{"$f":"IF(L201>9,L201-9,\"\")","v":""}]
[{"$f":"WEEKNUM(C202,21)","v":28},{"$f":"C202","v":"2019-07-12"},"2019-07-12",null,null,{"$f":"(E202-D202)*24","v":0},{"$f":"IF(F202>=6,0.5,0)","v":0},{"$f":"F202-G202","v":0},null,null,null,{"$f":"SUM(H202:J202)","v":0},""]
[28,"2019-07-13","2019-07-13",null,null,0,null,0,null,null,"za",0,"","Week",null,"OV WEEK","OV DAG","Recup -","Recup +","OV 50%"]
[28,"2019-07-14","2019-07-14",null,null,0,null,0,null,null,"zo",0,"",{"$f":"SUM(L198:L204)","v":0},{"$f":"SUM(H198:H204)","v":0},{"$f":"IF(N204>38,N204-38,0)","v":0},{"$f":"SUM(M198:M204)","v":0},{"$f":"SUM(I198:I204)","v":0},{"$f":"IF(N204>38,N204-38,0)","v":0},{"$f":"IF(P204>Q204,P204,Q204)","v":0}]
[29,"2019-07-15","2019-07-15",null,null,0,0,0,null,null,null,0,""]
[29,"2019-07-16","2019-07-16",null,null,0,0,0,null,null,null,0,""]
[29,"2019-07-17","2019-07-17",null,null,0,0,0,null,null,null,0,""]
[29,"2019-07-18","2019-07-18",null,null,0,0,0,null,null,null,0,""]
[29,"2019-07-19","2019-07-19",null,null,0,0,0,null,null,null,0,""]
[29,"2019-07-20","2019-07-20",null,null,0,null,0,null,null,"za",0,"","Week",null,"OV WEEK","OV DAG","Recup -","Recup +","OV 50%"]
[29,"2019-07-21","2019-07-21",null,null,0,null,0,null,null,"zo",0,"",{"$f":"SUM(L205:L211)","v":0},{"$f":"SUM(H205:H211)","v":0},{"$f":"IF(N211>38,N211-38,0)","v":0},{"$f":"SUM(M205:M211)","v":0},{"$f":"SUM(I205:I211)","v":0},{"$f":"IF(N211>38,N211-38,0)","v":0},{"$f":"IF(P211>Q211,P211,Q211)","v":0}]
[30,"2019-07-22","2019-07-22",null,null,0,0,0,null,null,null,0,""]
[30,"2019-07-23","2019-07-23",null,null,0,0,0,null,null,null,0,""]
[30,"2019-07-24","2019-07-24",null,null,0,0,0,null,null,null,0,""]
[30,"2019-07-25","2019-07-25",null,null,0,0,0,null,null,null,0,""]
[30,"2019-07-26","2019-07-26",null,null,0,0,0,null,null,null,0,""]
[30,"2019-07-27","2019-07-27",null,null,0,null,0,null,null,"za",0,"","Week",null,"OV WEEK","OV DAG","Recup -","Recup +","OV 50%"]
[30,"2019-07-28","2019-07-28",null,null,0,null,0,null,null,"zo",0,"",{"$f":"SUM(L212:L218)","v":0},{"$f":"SUM(H212:H218)","v":0},{"$f":"IF(N218>38,N218-38,0)","v":0},{"$f":"SUM(M212:M218)","v":0},{"$f":"SUM(I212:I218)","v":0},{"$f":"IF(N218>38,N218-38,0)","v":0},{"$f":"IF(P218>Q218,P218,Q218)","v":0}]
[31,"2019-07-29","2019-07-29",null,null,0,0,0,null,null,null,0,""]
[31,"2019-07-30","2019-07-30",null,null,0,0,0,null,null,null,0,""]
[31,"2019-07-31","2019-07-31",null,null,0,0,0,null,null,null,0,""]
[31,"2019-08-01","2019-08-01",null,null,0,0,0,null,null,null,0,""]
[31,"2019-08-02","2019-08-02",null,null,0,0,0,null,null,null,0,""]
[31,"2019-08-03","2019-08-03",null,null,0,null,0,null,null,"za",0,"","Week",null,"OV WEEK","OV DAG","Recup -","Recup +","OV 50%"]
[31,"2019-08-04","2019-08-04",null,null,0,null,0,null,null,"zo",0,"",{"$f":"SUM(L219:L225)","v":0},{"$f":"SUM(H219:H225)","v":0},{"$f":"IF(N225>38,N225-38,0)","v":0},{"$f":"SUM(M219:M225)","v":0},{"$f":"SUM(I219:I225)","v":0},{"$f":"IF(N225>38,N225-38,0)","v":0},{"$f":"IF(P225>Q225,P225,Q225)","v":0}]
[32,"2019-08-05","2019-08-05",null,null,0,0,0,null,null,null,0,""]
[32,"2019-08-06","2019-08-06",null,null,0,0,0,null,null,null,0,""]
[32,"2019-08-07","2019-08-07",null,null,0,0,0,null,null,null,0,""]
[32,"2019-08-08","2019-08-08",null,null,0,0,0,null,null,null,0,""]
[32,"2019-08-09","2019-08-09",null,null,0,0,0,null,null,null,0,""]
[32,"2019-08-10","2019-08-10",null,null,0,null,0,null,null,"za",0,"","Week",null,"OV WEEK","OV DAG","Recup -","Recup +","OV 50%"]
[32,"2019-08-11","2019-08-11",null,null,0,null,0,null,null,"zo",0,"",{"$f":"SUM(L226:L232)","v":0},{"$f":"SUM(H226:H232)","v":0},{"$f":"IF(N232>38,N232-38,0)","v":0},{"$f":"SUM(M226:M232)","v":0},{"$f":"SUM(I226:I232)","v":0},{"$f":"IF(N232>38,N232-38,0)","v":0},{"$f":"IF(P232>Q232,P232,Q232)","v":0}]
[33,"2019-08-12","2019-08-12",null,null,0,0,0,null,null,null,0,""]
[33,"2019-08-13","2019-08-13",null,null,0,0,0,null,null,null,0,""]
[33,"2019-08-14","2019-08-14",null,null,0,0,0,null,null,null,0,""]
[33,"2019-08-15","2019-08-15",null,null,0,0,0,null,7.6,"fd",7.6,""]
[33,"2019-08-16","2019-08-16",null,null,0,0,0,null,null,null,0,""]
[33,"2019-08-17","2019-08-17",null,null,0,null,0,null,null,"za",0,"","Week",null,"OV WEEK","OV DAG","Recup -","Recup +","OV 50%"]
[33,"2019-08-18","2019-08-18",null,null,0,null,0,null,null,"zo",0,"",{"$f":"SUM(L233:L239)","v":7.6},{"$f":"SUM(H233:H239)","v":0},{"$f":"IF(N239>38,N239-38,0)","v":0},{"$f":"SUM(M233:M239)","v":0},{"$f":"SUM(I233:I239)","v":0},{"$f":"IF(N239>38,N239-38,0)","v":0},{"$f":"IF(P239>Q239,P239,Q239)","v":0}]
[34,"2019-08-19","2019-08-19",null,null,0,0,0,null,null,null,0,""]
[34,"2019-08-20","2019-08-20",null,null,0,{"$f":"IF(F241>=6,0.5,0)","v":0},0,null,null,null,0,""]
[34,"2019-08-21","2019-08-21",null,null,0,0,0,null,null,null,0,""]
[34,"2019-08-22","2019-08-22",null,null,0,0,0,null,null,null,0,""]
[34,"2019-08-23","2019-08-23",null,null,0,0,0,null,null,null,0,""]
[34,"2019-08-24","2019-08-24",null,null,0,null,0,null,null,"za",0,"","Week",null,"OV WEEK","OV DAG","Recup -","Recup +","OV 50%"]
[34,"2019-08-25","2019-08-25",null,null,0,null,0,null,null,"zo",0,"",{"$f":"SUM(L240:L246)","v":0},{"$f":"SUM(H240:H246)","v":0},{"$f":"IF(N246>38,N246-38,0)","v":0},{"$f":"SUM(M240:M246)","v":0},{"$f":"SUM(I240:I246)","v":0},{"$f":"IF(N246>38,N246-38,0)","v":0},{"$f":"IF(P246>Q246,P246,Q246)","v":0}]
[35,"2019-08-26","2019-08-26",null,null,0,0,0,null,null,null,0,""]
[35,"2019-08-27","2019-08-27",null,null,0,0,0,null,null,null,0,""]
[35,"2019-08-28","2019-08-28",null,null,0,0,0,null,null,null,0,""]
[35,"2019-08-29","2019-08-29",null,null,0,0,0,null,null,null,0,""]
[35,"2019-08-30","2019-08-30",null,null,0,0,0,null,null,null,0,""]
[35,"2019-08-31","2019-08-31",null,null,0,null,0,null,null,"za",0,"","Week",null,"OV WEEK","OV DAG","Recup -","Recup +","OV 50%"]
[35,"2019-09-01","2019-09-01",null,null,0,null,0,null,null,"zo",0,"",{"$f":"SUM(L247:L253)","v":0},{"$f":"SUM(H247:H253)","v":0},{"$f":"IF(N253>38,N253-38,0)","v":0},{"$f":"SUM(M247:M253)","v":0},{"$f":"SUM(I247:I253)","v":0},{"$f":"IF(N253>38,N253-38,0)","v":0},{"$f":"IF(P253>Q253,P253,Q253)","v":0}]
[36,"2019-09-02","2019-09-02",null,null,0,0,0,null,null,null,0,""]
[36,"2019-09-03","2019-09-03",null,null,0,0,0,null,null,null,0,""]
[36,"2019-09-04","2019-09-04",null,null,0,0,0,null,null,null,0,""]
[36,"2019-09-05","2019-09-05",null,null,0,0,0,null,null,null,0,""]
[36,"2019-09-06","2019-09-06",null,null,0,0,0,null,null,null,0,""]
[36,"2019-09-07","2019-09-07",null,null,0,null,0,null,null,"za",0,"","Week",null,"OV WEEK","OV DAG","Recup -","Recup +","OV 50%"]
[36,"2019-09-08","2019-09-08",null,null,0,null,0,null,null,"zo",0,"",{"$f":"SUM(L254:L260)","v":0},{"$f":"SUM(H254:H260)","v":0},{"$f":"IF(N260>38,N260-38,0)","v":0},{"$f":"SUM(M254:M260)","v":0},{"$f":"SUM(I254:I260)","v":0},{"$f":"IF(N260>38,N260-38,0)","v":0},{"$f":"IF(P260>Q260,P260,Q260)","v":0}]
[37,"2019-09-09","2019-09-09",null,null,0,0,0,null,null,null,0,""]
[37,"2019-09-10","2019-09-10",null,null,0,0,0,null,null,null,0,""]
[37,"2019-09-11","2019-09-11",null,null,0,0,0,null,null,null,0,""]
[37,"2019-09-12","2019-09-12",null,null,0,0,0,null,null,null,0,""]
[37,"2019-09-13","2019-09-13",null,null,0,0,0,null,null,null,0,{"$f":"IF(L265>9,L265-9,\"\")","v":""}]
[{"$f":"WEEKNUM(C266,21)","v":37},{"$f":"C266","v":"2019-09-14"},"2019-09-14",null,null,{"$f":"(E266-D266)*24","v":0},null,{"$f":"F266-G266","v":0},null,null,"za",{"$f":"SUM(H266:J266)","v":0},"","Week",null,"OV WEEK","OV DAG","Recup -","Recup +","OV 50%"]
[37,"2019-09-15","2019-09-15",null,null,0,null,0,null,null,"zo",0,"",{"$f":"SUM(L261:L267)","v":0},{"$f":"SUM(H261:H267)","v":0},{"$f":"IF(N267>38,N267-38,0)","v":0},{"$f":"SUM(M261:M267)","v":0},{"$f":"SUM(I261:I267)","v":0},{"$f":"IF(N267>38,N267-38,0)","v":0},{"$f":"IF(P267>Q267,P267,Q267)","v":0}]
[38,"2019-09-16","2019-09-16",null,null,0,{"$f":"IF(F268>=6,0.5,0)","v":0},0,null,null,null,0,""]
[38,"2019-09-17","2019-09-17",null,null,0,0,0,null,null,null,0,""]
[38,"2019-09-18","2019-09-18",null,null,0,0,0,null,null,null,0,""]
[38,"2019-09-19","2019-09-19",null,null,0,0,0,null,null,null,0,""]
[38,"2019-09-20","2019-09-20",null,null,0,0,0,null,null,null,0,""]
[38,"2019-09-21","2019-09-21",null,null,0,null,0,null,null,"za",0,"","Week",null,"OV WEEK","OV DAG","Recup -","Recup +","OV 50%"]
[38,"2019-09-22","2019-09-22",null,null,0,null,0,null,null,"zo",0,"",{"$f":"SUM(L268:L274)","v":0},{"$f":"SUM(H268:H274)","v":0},{"$f":"IF(N274>38,N274-38,0)","v":0},{"$f":"SUM(M268:M274)","v":0},{"$f":"SUM(I268:I274)","v":0},{"$f":"IF(N274>38,N274-38,0)","v":0},{"$f":"IF(P274>Q274,P274,Q274)","v":0}]
[39,"2019-09-23","2019-09-23",null,null,0,0,0,null,null,null,0,""]
[39,"2019-09-24","2019-09-24",null,null,0,0,0,null,null,null,0,""]
[39,"2019-09-25","2019-09-25",null,null,0,0,0,null,null,null,0,""]
[39,"2019-09-26","2019-09-26",null,null,0,0,0,null,null,null,0,""]
[39,"2019-09-27","2019-09-27",null,null,0,0,0,null,null,null,0,""]
[39,"2019-09-28","2019-09-28",null,null,0,null,0,null,null,"za",0,"","Week",null,"OV WEEK","OV DAG","Recup -","Recup +","OV 50%"]
[39,"2019-09-29","2019-09-29",null,null,0,null,0,null,null,"zo",0,"",{"$f":"SUM(L275:L281)","v":0},{"$f":"SUM(H275:H281)","v":0},{"$f":"IF(N281>38,N281-38,0)","v":0},{"$f":"SUM(M275:M281)","v":0},{"$f":"SUM(I275:I281)","v":0},{"$f":"IF(N281>38,N281-38,0)","v":0},{"$f":"IF(P281>Q281,P281,Q281)","v":0}]
[40,"2019-09-30","2019-09-30",null,null,0,0,0,null,null,null,0,""]
[40,"2019-10-01","2019-10-01",null,null,0,0,0,null,null,null,0,""]
[40,"2019-10-02","2019-10-02",null,null,0,0,0,null,null,null,0,""]
[40,"2019-10-03","2019-10-03",null,null,0,0,0,null,null,null,0,""]
[40,"2019-10-04","2019-10-04",null,null,0,0,0,null,null,null,0,""]
[40,"2019-10-05","2019-10-05",null,null,0,null,0,null,null,"za",0,"","Week",null,"OV WEEK","OV DAG","Recup -","Recup +","OV 50%"]
[40,"2019-10-06","2019-10-06",null,null,0,null,0,null,null,"zo",0,"",{"$f":"SUM(L282:L288)","v":0},{"$f":"SUM(H282:H288)","v":0},{"$f":"IF(N288>38,N288-38,0)","v":0},{"$f":"SUM(M282:M288)","v":0},{"$f":"SUM(I282:I288)","v":0},{"$f":"IF(N288>38,N288-38,0)","v":0},{"$f":"IF(P288>Q288,P288,Q288)","v":0}]
[41,"2019-10-07","2019-10-07",null,null,0,0,0,null,null,null,0,""]
[41,"2019-10-08","2019-10-08",null,null,0,0,0,null,null,null,0,""]
[41,"2019-10-09","2019-10-09",null,null,0,0,0,null,null,null,0,""]
[41,"2019-10-10","2019-10-10",null,null,0,0,0,null,null,null,0,""]
[41,"2019-10-11","2019-10-11",null,null,0,0,0,null,null,null,0,""]
[41,"2019-10-12","2019-10-12",null,null,0,null,0,null,null,"za",0,"","Week",null,"OV WEEK","OV DAG","Recup -","Recup +","OV 50%"]
[41,"2019-10-13","2019-10-13",null,null,0,null,0,null,null,"zo",0,"",{"$f":"SUM(L289:L295)","v":0},{"$f":"SUM(H289:H295)","v":0},{"$f":"IF(N295>38,N295-38,0)","v":0},{"$f":"SUM(M289:M295)","v":0},{"$f":"SUM(I289:I295)","v":0},{"$f":"IF(N295>38,N295-38,0)","v":0},{"$f":"IF(P295>Q295,P295,Q295)","v":0}]
[42,"2019-10-14","2019-10-14",null,null,0,0,0,null,null,null,0,""]
[42,"2019-10-15","2019-10-15",null,null,0,0,0,null,null,null,0,""]
[42,"2019-10-16","2019-10-16",null,null,0,0,0,null,null,null,0,""]
[42,"2019-10-17","2019-10-17",null,null,0,0,0,null,null,null,0,""]
[42,"2019-10-18","2019-10-18",null,null,0,0,0,null,null,null,0,""]
[42,"2019-10-19","2019-10-19",null,null,0,null,0,null,null,"za",0,"","Week",null,"OV WEEK","OV DAG","Recup -","Recup +","OV 50%"]
[42,"2019-10-20","2019-10-20",null,null,0,null,0,null,null,"zo",0,"",{"$f":"SUM(L296:L302)","v":0},{"$f":"SUM(H296:H302)","v":0},{"$f":"IF(N302>38,N302-38,0)","v":0},{"$f":"SUM(M296:M302)","v":0},{"$f":"SUM(I296:I302)","v":0},{"$f":"IF(N302>38,N302-38,0)","v":0},{"$f":"IF(P302>Q302,P302,Q302)","v":0}]
[43,"2019-10-21","2019-10-21",null,null,0,0,0,null,null,null,0,""]
[43,"2019-10-22","2019-10-22",null,null,0,0,0,null,null,null,0,""]
[43,"2019-10-23","2019-10-23",null,null,0,0,0,null,null,null,0,""]
[43,"2019-10-24","2019-10-24",null,null,0,0,0,null,null,null,0,""]
[43,"2019-10-25","2019-10-25",null,null,0,0,0,null,null,null,0,""]
[43,"2019-10-26","2019-10-26",null,null,0,null,0,null,null,"za",0,"","Week",null,"OV WEEK","OV DAG","Recup -","Recup +","OV 50%"]
[43,"2019-10-27","2019-10-27",null,null,0,null,0,null,null,"zo",0,"",{"$f":"SUM(L303:L309)","v":0},{"$f":"SUM(H303:H309)","v":0},{"$f":"IF(N309>38,N309-38,0)","v":0},{"$f":"SUM(M303:M309)","v":0},{"$f":"SUM(I303:I309)","v":0},{"$f":"IF(N309>38,N309-38,0)","v":0},{"$f":"IF(P309>Q309,P309,Q309)","v":0}]
[44,"2019-10-28","2019-10-28",null,null,0,0,0,null,null,null,0,""]
[44,"2019-10-29","2019-10-29",null,null,0,0,0,null,null,null,0,""]
[44,"2019-10-30","2019-10-30",null,null,0,0,0,null,null,null,0,""]
[44,"2019-10-31","2019-10-31",null,null,0,0,0,null,null,null,0,""]
[44,"2019-11-01","2019-11-01",null,null,0,0,0,null,7.6,"fd",7.6,""]
[44,"2019-11-02","2019-11-02",null,null,0,null,0,null,null,"za",0,"","Week",null,"OV WEEK","OV DAG","Recup -","Recup +","OV 50%"]
[44,"2019-11-03","2019-11-03",null,null,0,null,0,null,null,"zo",0,"",{"$f":"SUM(L310:L316)","v":7.6},{"$f":"SUM(H310:H316)","v":0},{"$f":"IF(N316>38,N316-38,0)","v":0},{"$f":"SUM(M310:M316)","v":0},{"$f":"SUM(I310:I316)","v":0},{"$f":"IF(N316>38,N316-38,0)","v":0},{"$f":"IF(P316>Q316,P316,Q316)","v":0}]
[45,"2019-11-04","2019-11-04",null,null,0,0,0,null,null,null,0,""]
[45,"2019-11-05","2019-11-05",null,null,0,0,0,null,null,null,0,""]
[45,"2019-11-06","2019-11-06",null,null,0,0,0,null,null,null,0,""]
[45,"2019-11-07","2019-11-07",null,null,0,0,0,null,null,null,0,""]
[45,"2019-11-08","2019-11-08",null,null,0,0,0,null,null,null,0,""]
[45,"2019-11-09","2019-11-09",null,null,0,null,0,null,null,"za",0,"","Week",null,"OV WEEK","OV DAG","Recup -","Recup +","OV 50%"]
[45,"2019-11-10","2019-11-10",null,null,0,null,0,null,null,"zo",0,"",{"$f":"SUM(L317:L323)","v":0},{"$f":"SUM(H317:H323)","v":0},{"$f":"IF(N323>38,N323-38,0)","v":0},{"$f":"SUM(M317:M323)","v":0},{"$f":"SUM(I317:I323)","v":0},{"$f":"IF(N323>38,N323-38,0)","v":0},{"$f":"IF(P323>Q323,P323,Q323)","v":0}]
[46,"2019-11-11","2019-11-11",null,null,0,0,0,null,7.6,"fd",7.6,""]
[46,"2019-11-12","2019-11-12",null,null,0,0,0,null,null,null,0,""]
[46,"2019-11-13","2019-11-13",null,null,0,0,0,null,null,null,0,""]
[46,"2019-11-14","2019-11-14",null,null,0,0,0,null,null,null,0,""]
[46,"2019-11-15","2019-11-15",null,null,0,0,0,null,null,null,0,""]
[46,"2019-11-16","2019-11-16",null,null,0,null,0,null,null,"za",0,{"$f":"IF(L329>9,L329-9,\"\")","v":""},"Week",null,"OV WEEK","OV DAG","Recup -","Recup +","OV 50%"]
[{"$f":"WEEKNUM(C330,21)","v":46},{"$f":"C330","v":"2019-11-17"},"2019-11-17",null,null,{"$f":"(E330-D330)*24","v":0},null,{"$f":"F330-G330","v":0},null,null,"zo",{"$f":"SUM(H330:J330)","v":0},"",{"$f":"SUM(L324:L330)","v":7.6},{"$f":"SUM(H324:H330)","v":0},{"$f":"IF(N330>38,N330-38,0)","v":0},{"$f":"SUM(M324:M330)","v":0},{"$f":"SUM(I324:I330)","v":0},{"$f":"IF(N330>38,N330-38,0)","v":0},{"$f":"IF(P330>Q330,P330,Q330)","v":0}]
[47,"2019-11-18","2019-11-18",null,null,0,{"$f":"IF(F331>=6,0.5,0)","v":0},0,null,null,null,0,""]
[47,"2019-11-19","2019-11-19",null,null,0,0,0,null,null,null,0,""]
[47,"2019-11-20","2019-11-20",null,null,0,0,0,null,null,null,0,""]
[47,"2019-11-21","2019-11-21",null,null,0,0,0,null,null,null,0,""]
[47,"2019-11-22","2019-11-22",null,null,0,0,0,null,null,null,0,""]
[47,"2019-11-23","2019-11-23",null,null,0,null,0,null,null,"za",0,"","Week",null,"OV WEEK","OV DAG","Recup -","Recup +","OV 50%"]
[47,"2019-11-24","2019-11-24",null,null,0,null,0,null,null,"zo",0,"",{"$f":"SUM(L331:L337)","v":0},{"$f":"SUM(H331:H337)","v":0},{"$f":"IF(N337>38,N337-38,0)","v":0},{"$f":"SUM(M331:M337)","v":0},{"$f":"SUM(I331:I337)","v":0},{"$f":"IF(N337>38,N337-38,0)","v":0},{"$f":"IF(P337>Q337,P337,Q337)","v":0}]
[48,"2019-11-25","2019-11-25",null,null,0,0,0,null,null,null,0,""]
[48,"2019-11-26","2019-11-26",null,null,0,0,0,null,null,null,0,""]
[48,"2019-11-27","2019-11-27",null,null,0,0,0,null,null,null,0,""]
[48,"2019-11-28","2019-11-28",null,null,0,0,0,null,null,null,0,""]
[48,"2019-11-29","2019-11-29",null,null,0,0,0,null,null,null,0,""]
[48,"2019-11-30","2019-11-30",null,null,0,null,0,null,null,"za",0,"","Week",null,"OV WEEK","OV DAG","Recup -","Recup +","OV 50%"]
[48,"2019-12-01","2019-12-01",null,null,0,null,0,null,null,"zo",0,"",{"$f":"SUM(L338:L344)","v":0},{"$f":"SUM(H338:H344)","v":0},{"$f":"IF(N344>38,N344-38,0)","v":0},{"$f":"SUM(M338:M344)","v":0},{"$f":"SUM(I338:I344)","v":0},{"$f":"IF(N344>38,N344-38,0)","v":0},{"$f":"IF(P344>Q344,P344,Q344)","v":0}]
[49,"2019-12-02","2019-12-02",null,null,0,0,0,null,null,null,0,""]
[49,"2019-12-03","2019-12-03",null,null,0,0,0,null,null,null,0,""]
[49,"2019-12-04","2019-12-04",null,null,0,0,0,null,null,null,0,""]
[49,"2019-12-05","2019-12-05",null,null,0,0,0,null,null,null,0,""]
[49,"2019-12-06","2019-12-06",null,null,0,0,0,null,null,null,0,""]
[49,"2019-12-07","2019-12-07",null,null,0,null,0,null,null,"za",0,"","Week",null,"OV WEEK","OV DAG","Recup -","Recup +","OV 50%"]
[49,"2019-12-08","2019-12-08",null,null,0,null,0,null,null,"zo",0,"",{"$f":"SUM(L345:L351)","v":0},{"$f":"SUM(H345:H351)","v":0},{"$f":"IF(N351>38,N351-38,0)","v":0},{"$f":"SUM(M345:M351)","v":0},{"$f":"SUM(I345:I351)","v":0},{"$f":"IF(N351>38,N351-38,0)","v":0},{"$f":"IF(P351>Q351,P351,Q351)","v":0}]
[50,"2019-12-09","2019-12-09",null,null,0,0,0,null,null,null,0,""]
[50,"2019-12-10","2019-12-10",null,null,0,0,0,null,null,null,0,""]
[50,"2019-12-11","2019-12-11",null,null,0,0,0,null,null,null,0,""]
[50,"2019-12-12","2019-12-12",null,null,0,0,0,null,null,null,0,""]
[50,"2019-12-13","2019-12-13",null,null,0,0,0,null,null,null,0,""]
[50,"2019-12-14","2019-12-14",null,null,0,null,0,null,null,"za",0,"","Week",null,"OV WEEK","OV DAG","Recup -","Recup +","OV 50%"]
[50,"2019-12-15","2019-12-15",null,null,0,null,0,null,null,"zo",0,"",{"$f":"SUM(L352:L358)","v":0},{"$f":"SUM(H352:H358)","v":0},{"$f":"IF(N358>38,N358-38,0)","v":0},{"$f":"SUM(M352:M358)","v":0},{"$f":"SUM(I352:I358)","v":0},{"$f":"IF(N358>38,N358-38,0)","v":0},{"$f":"IF(P358>Q358,P358,Q358)","v":0}]
[51,"2019-12-16","2019-12-16",null,null,0,0,0,null,null,null,0,""]
[51,"2019-12-17","2019-12-17",null,null,0,0,0,null,null,null,0,""]
[51,"2019-12-18","2019-12-18",null,null,0,0,0,null,null,null,0,""]
[51,"2019-12-19","2019-12-19",null,null,0,0,0,null,null,null,0,""]
[51,"2019-12-20","2019-12-20",null,null,0,0,0,null,null,null,0,""]
[51,"2019-12-21","2019-12-21",null,null,0,null,0,null,null,"za",0,"","Week",null,"OV WEEK","OV DAG","Recup -","Recup +","OV 50%"]
[51,"2019-12-22","2019-12-22",null,null,0,null,0,null,null,"zo",0,"",{"$f":"SUM(L359:L365)","v":0},{"$f":"SUM(H359:H365)","v":0},{"$f":"IF(N365>38,N365-38,0)","v":0},{"$f":"SUM(M359:M365)","v":0},{"$f":"SUM(I359:I365)","v":0},{"$f":"IF(N365>38,N365-38,0)","v":0},{"$f":"IF(P365>Q365,P365,Q365)","v":0}]
[52,"2019-12-23","2019-12-23",null,null,0,0,0,null,null,null,0,""]
[52,"2019-12-24","2019-12-24",null,null,0,0,0,null,null,null,0,""]
[52,"2019-12-25","2019-12-25",null,null,0,0,0,null,7.6,"fd",7.6,""]
[52,"2019-12-26","2019-12-26",null,null,0,0,0,null,null,null,0,""]
[52,"2019-12-27","2019-12-27",null,null,0,0,0,null,null,null,0,""]
[52,"2019-12-28","2019-12-28",null,null,0,null,0,null,null,"za",0,"","Week",null,"OV WEEK","OV DAG","Recup -","Recup +","OV 50%"]
[52,"2019-12-29","2019-12-29",null,null,0,null,0,null,null,"zo",0,"",{"$f":"SUM(L366:L372)","v":7.6},{"$f":"SUM(H366:H372)","v":0},{"$f":"IF(N372>38,N372-38,0)","v":0},{"$f":"SUM(M366:M372)","v":0},{"$f":"SUM(I366:I372)","v":0},{"$f":"IF(N372>38,N372-38,0)","v":0},{"$f":"IF(P372>Q372,P372,Q372)","v":0}]
[1,"2019-12-30","2019-12-30",null,null,0,0,0,null,null,null,0,""]
[1,"2019-12-31","2019-12-31",null,null,0,0,0,null,null,null,0,""]
[1,"2020-01-01","2020-01-01",null,null,0,0,0,null,7.6,"fd",7.6,""]
[1,"2020-01-02","2020-01-02",null,null,0,0,0,null,null,null,0,""]
[1,"2020-01-03","2020-01-03",null,null,0,0,0,null,null,null,0,""]
[1,"2020-01-04","2020-01-04",null,null,0,null,0,null,null,"za",0,"","Week",null,"OV WEEK","OV DAG","Recup -","Recup +","OV 50%"]
[1,"2020-01-05","2020-01-05",null,null,0,null,0,null,null,"zo",0,"",{"$f":"SUM(L373:L379)","v":7.6},{"$f":"SUM(H373:H379)","v":0},{"$f":"IF(N379>38,N379-38,0)","v":0},{"$f":"SUM(M373:M379)","v":0},{"$f":"SUM(I373:I379)","v":0},{"$f":"IF(N379>38,N379-38,0)","v":0},{"$f":"IF(P379>Q379,P379,Q379)","v":0}]

{"sheet":"Overz.","index":1,"n_rows":26,"n_cols":370,"rows_kept":26,"cut":false,"hidden":false,"merged":[[0,309,0,338],[0,339,0,369],[0,156,0,185],[0,186,0,216],[0,217,0,247],[0,248,0,277],[0,278,0,308],[0,2,0,32],[0,33,0,63],[0,64,0,94],[0,95,0,124],[0,125,0,155]]}
[null,null,"JANUARI",null,null,null,null,null,null,null,null,null,null,null,null,null,null,null,null,null,null,null,null,null,null,null,null,null,null,null,null,null,null,"FEBRUARI",null,null,null,null,null,null,null,null,null,null,null,null,null,null,null,null,null,null,null,null,null,null,null,null,null,null,null,null,null,null,null,null,null,null,null,null,null,null,null,null,null,null,null,null,null,null,null,null,null,null,null,null,null,null,null,null,null,null,null,null,null,"APRIL",null,null,null,null,null,null,null,null,null,null,null,null,null,null,null,null,null,null,null,null,null,null,null,null,null,null,null,null,null,"MEI",null,null,null,null,null,null,null,null,null,null,null,null,null,null,null,null,null,null,null,null,null,null,null,null,null,null,null,null,null,null,"JUNI",null,null,null,null,null,null,null,null,null,null,null,null,null,null,null,null,null,null,null,null,null,null,null,null,null,null,null,null,null,"JULI",null,null,null,null,null,null,null,null,null,null,null,null,null,null,null,null,null,null,null,null,null,null,null,null,null,null,null,null,null,null,"AUGUSTUS",null,null,null,null,null,null,null,null,null,null,null,null,null,null,null,null,null,null,null,null,null,null,null,null,null,null,null,null,null,null,"SEPTEMBER",null,null,null,null,null,null,null,null,null,null,null,null,null,null,null,null,null,null,null,null,null,null,null,null,null,null,null,null,null,"OKTOBER",null,null,null,null,null,null,null,null,null,null,null,null,null,null,null,null,null,null,null,null,null,null,null,null,null,null,null,null,null,null,"NOVEMBER",null,null,null,null,null,null,null,null,null,null,null,null,null,null,null,null,null,null,null,null,null,null,null,null,null,null,null,null,null,"DECEMBER"]
[null,null,9,10,11,12,13,14,15,16,17,18,19,20,21,22,23,24,25,26,27,28,29,30,31,32,33,34,35,36,37,38,39,9,10,11,12,13,14,15,16,17,18,19,20,21,22,23,24,25,26,27,28,29,30,31,32,33,34,35,36]
["Nr.","NAAM",1,2,3,4,5,6,7,8,9,10,11,12,13,14,15,16,17,18,19,20,21,22,23,24,25,26,27,28,29,30,31,1,2,3,4,5,6,7,8,9,10,11,12,13,14,15,16,17,18,19,20,21,22,23,24,25,26,27,28,29,30,31,1,2,3,4,5,6,7,8,9,10,11,12,13,14,15,16,17,18,19,20,21,22,23,24,25,26,27,28,29,30,31,1,2,3,4,5,6,7,8,9,10,11,12,13,14,15,16,17,18,19,20,21,22,23,24,25,26,27,28,29,30,1,2,3,4,5,6,7,8,9,10,11,12,13,14,15,16,17,18,19,20,21,22,23,24,25,26,27,28,29,30,31,1,2,3,4,5,6,7,8,9,10,11,12,13,14,15,16,17,18,19,20,21,22,23,24,25,26,27,28,29,30,1,2,3,4,5,6,7,8,9,10,11,12,13,14,15,16,17,18,19,20,21,22,23,24,25,26,27,28,29,30,31,1,2,3,4,5,6,7,8,9,10,11,12,13,14,15,16,17,18,19,20,21,22,23,24,25,26,27,28,29,30,31,1,2,3,4,5,6,7,8,9,10,11,12,13,14,15,16,17,18,19,20,21,22,23,24,25,26,27,28,29,30,1,2,3,4,5,6,7,8,9,10,11,12,13,14,15,16,17,18,19,20,21,22,23,24,25,26,27,28,29,30,31,1,2,3,4,5,6,7,8,9,10,11,12,13,14,15,16,17,18,19,20,21,22,23,24,25,26,27,28,29,30,1,2,3,4,5,6,7,8,9,10,11,12,13,14,15,16,17,18,19,20,21,22,23,24,25,26,27,28,29,30,31]
[9,{"$f":"'9'!B1","v":"Vanesse Aurélien"},{"$f":"INDIRECT($A4&\"!\"&(\"W\"&C$2))","v":"OK"},{"$f":"INDIRECT($A4&\"!\"&(\"W\"&D$2))","v":"fd"},0,0,0,"za","zo",0,0,0,"ro","ro","za","zo",0,0,0,0,0,"za","zo",0,0,0,0,0,"za","zo",0,0,0,{"$f":"INDIRECT($A4&\"!\"&(\"X\"&AH$2))","v":0},{"$f":"INDIRECT($A4&\"!\"&(\"X\"&AI$2))","v":0},"za","zo","vvj","v","v","v","v","za","zo",0,0,0,0,0,"za","zo",0,0,0,0,0,"za","zo",0,0,0,{"$f":"'9'!$X37","v":0},{"$f":"'9'!$X38","v":0},{"$f":"'9'!$X39","v":0},{"$f":"'9'!$Y9","v":0},{"$f":"'9'!$Y10","v":0},{"$f":"'9'!$Y11","v":"za"},{"$f":"'9'!$Y12","v":"zo"},{"$f":"'9'!$Y13","v":0},{"$f":"'9'!$Y14","v":0},{"$f":"'9'!$Y15","v":0},{"$f":"'9'!$Y16","v":0},{"$f":"'9'!$Y17","v":0},{"$f":"'9'!$Y18","v":"za"},{"$f":"'9'!$Y19","v":"zo"},{"$f":"'9'!$Y20","v":0},{"$f":"'9'!$Y21","v":0},{"$f":"'9'!$Y22","v":0},{"$f":"'9'!$Y23","v":0},{"$f":"'9'!$Y24","v":0},{"$f":"'9'!$Y25","v":"za"},{"$f":"'9'!$Y26","v":"zo"},{"$f":"'9'!$Y27","v":0},{"$f":"'9'!$Y28","v":0},{"$f":"'9'!$Y29","v":0},{"$f":"'9'!$Y30","v":0},{"$f":"'9'!$Y31","v":0},{"$f":"'9'!$Y32","v":"za"},{"$f":"'9'!$Y33","v":"zo"},{"$f":"'9'!$Y34","v":0},{"$f":"'9'!$Y35","v":0},{"$f":"'9'!$Y36","v":0},{"$f":"'9'!$Y37","v":0},{"$f":"'9'!$Y38","v":0},{"$f":"'9'!$Y39","v":"za"},{"$f":"'9'!$Z9","v":"zo"},{"$f":"'9'!$Z10","v":0},{"$f":"'9'!$Z11","v":0},{"$f":"'9'!$Z12","v":0},{"$f":"'9'!$Z13","v":0},{"$f":"'9'!$Z14","v":0},{"$f":"'9'!$Z15","v":"za"},{"$f":"'9'!$Z16","v":"zo"},{"$f":"'9'!$Z17","v":0},{"$f":"'9'!$Z18","v":0},{"$f":"'9'!$Z19","v":0},{"$f":"'9'!$Z20","v":0},{"$f":"'9'!$Z21","v":0},{"$f":"'9'!$Z22","v":"za"},{"$f":"'9'!$Z23","v":"zo"},{"$f":"'9'!$Z24","v":0},{"$f":"'9'!$Z25","v":0},{"$f":"'9'!$Z26","v":0},{"$f":"'9'!$Z27","v":0},{"$f":"'9'!$Z28","v":0},{"$f":"'9'!$Z29","v":"za"},{"$f":"'9'!$Z30","v":"zo"},{"$f":"'9'!$Z31","v":"fd"},{"$f":"'9'!$Z32","v":0},{"$f":"'9'!$Z33","v":0},{"$f":"'9'!$Z34","v":0},{"$f":"'9'!$Z35","v":0},{"$f":"'9'!$Z36","v":"za"},{"$f":"'9'!$Z37","v":"zo"},{"$f":"'9'!$Z38","v":0},{"$f":"'9'!$AA9","v":0},{"$f":"'9'!$AA10","v":"fd"},{"$f":"'9'!$AA11","v":0},{"$f":"'9'!$AA12","v":0},{"$f":"'9'!$AA13","v":"za"},{"$f":"'9'!$AA14","v":"zo"},{"$f":"'9'!$AA15","v":0},{"$f":"'9'!$AA16","v":0},{"$f":"'9'!$AA17","v":0},{"$f":"'9'!$AA18","v":0},{"$f":"'9'!$AA19","v":0},{"$f":"'9'!$AA20","v":"za"},{"$f":"'9'!$AA21","v":"zo"},{"$f":"'9'!$AA22","v":0},{"$f":"'9'!$AA23","v":0},{"$f":"'9'!$AA24","v":0},{"$f":"'9'!$AA25","v":0},{"$f":"'9'!$AA26","v":0},{"$f":"'9'!$AA27","v":"za"},{"$f":"'9'!$AA28","v":"zo"},{"$f":"'9'!$AA29","v":"fd"},{"$f":"'9'!$AA30","v":0},{"$f":"'9'!$AA31","v":0},{"$f":"'9'!$AA32","v":0},{"$f":"'9'!$AA33","v":0},{"$f":"'9'!$AA34","v":"za"},{"$f":"'9'!$AA35","v":"zo"},{"$f":"'9'!$AA36","v":0},{"$f":"'9'!$AA37","v":0},{"$f":"'9'!$AA38","v":0},{"$f":"'9'!$AA39","v":"fd"},{"$f":"'9'!$AB9","v":0},{"$f":"'9'!$AB10","v":"za"},{"$f":"'9'!$AB11","v":"zo"},{"$f":"'9'!$AB12","v":0},{"$f":"'9'!$AB13","v":0},{"$f":"'9'!$AB14","v":0},{"$f":"'9'!$AB15","v":0},{"$f":"'9'!$AB16","v":0},{"$f":"'9'!$AB17","v":"za"},{"$f":"'9'!$AB18","v":"zo"},{"$f":"'9'!$AB19","v":"fd"},{"$f":"'9'!$AB20","v":0},{"$f":"'9'!$AB21","v":0},{"$f":"'9'!$AB22","v":0},{"$f":"'9'!$AB23","v":0},{"$f":"'9'!$AB24","v":"za"},{"$f":"'9'!$AB25","v":"zo"},{"$f":"'9'!$AB26","v":0},{"$f":"'9'!$AB27","v":0},{"$f":"'9'!$AB28","v":0},{"$f":"'9'!$AB29","v":0},{"$f":"'9'!$AB30","v":0},{"$f":"'9'!$AB31","v":"za"},{"$f":"'9'!$AB32","v":"zo"},{"$f":"'9'!$AB33","v":0},{"$f":"'9'!$AB34","v":0},{"$f":"'9'!$AB35","v":0},{"$f":"'9'!$AB36","v":0},{"$f":"'9'!$AB37","v":0},{"$f":"'9'!$AB38","v":"za"},{"$f":"'9'!$AC9","v":"zo"},{"$f":"'9'!$AC10","v":0},{"$f":"'9'!$AC11","v":0},{"$f":"'9'!$AC12","v":0},{"$f":"'9'!$AC13","v":0},{"$f":"'9'!$AC14","v":0},{"$f":"'9'!$AC15","v":"za"},{"$f":"'9'!$AC16","v":"zo"},{"$f":"'9'!$AC17","v":0},{"$f":"'9'!$AC18","v":0},{"$f":"'9'!$AC19","v":0},{"$f":"'9'!$AC20","v":0},{"$f":"'9'!$AC21","v":0},{"$f":"'9'!$AC22","v":"za"},{"$f":"'9'!$AC23","v":"zo"},{"$f":"'9'!$AC24","v":0},{"$f":"'9'!$AC25","v":0},{"$f":"'9'!$AC26","v":0},{"$f":"'9'!$AC27","v":0},{"$f":"'9'!$AC28","v":0},{"$f":"'9'!$AC29","v":"za"},{"$f":"'9'!$AC30","v":"zo"},{"$f":"'9'!$AC31","v":0},{"$f":"'9'!$AC32","v":0},{"$f":"'9'!$AC33","v":0},{"$f":"'9'!$AC34","v":0},{"$f":"'9'!$AC35","v":0},{"$f":"'9'!$AC36","v":"za"},{"$f":"'9'!$AC37","v":"zo"},{"$f":"'9'!$AC38","v":0},{"$f":"'9'!$AC39","v":0},{"$f":"'9'!$AD9","v":0},{"$f":"'9'!$AD10","v":0},{"$f":"'9'!$AD11","v":0},{"$f":"'9'!$AD12","v":"za"},{"$f":"'9'!$AD13","v":"zo"},{"$f":"'9'!$AD14","v":0},{"$f":"'9'!$AD15","v":0},{"$f":"'9'!$AD16","v":0},{"$f":"'9'!$AD17","v":0},{"$f":"'9'!$AD18","v":0},{"$f":"'9'!$AD19","v":"za"},{"$f":"'9'!$AD20","v":"zo"},{"$f":"'9'!$AD21","v":0},{"$f":"'9'!$AD22","v":0},{"$f":"'9'!$AD23","v":0},{"$f":"'9'!$AD24","v":"fd"},{"$f":"'9'!$AD25","v":0},{"$f":"'9'!$AD26","v":"za"},{"$f":"'9'!$AD27","v":"zo"},{"$f":"'9'!$AD28","v":0},{"$f":"'9'!$AD29","v":0},{"$f":"'9'!$AD30","v":0},{"$f":"'9'!$AD31","v":0},{"$f":"'9'!$AD32","v":0},{"$f":"'9'!$AD33","v":"za"},{"$f":"'9'!$AD34","v":"zo"},{"$f":"'9'!$AD35","v":0},{"$f":"'9'!$AD36","v":0},{"$f":"'9'!$AD37","v":0},{"$f":"'9'!$AD38","v":0},{"$f":"'9'!$AD39","v":0},{"$f":"'9'!$AE9","v":"za"},{"$f":"'9'!$AE10","v":"zo"},{"$f":"'9'!$AE11","v":0},{"$f":"'9'!$AE12","v":0},{"$f":"'9'!$AE13","v":0},{"$f":"'9'!$AE14","v":0},{"$f":"'9'!$AE15","v":0},{"$f":"'9'!$AE16","v":"za"},{"$f":"'9'!$AE17","v":"zo"},{"$f":"'9'!$AE18","v":0},{"$f":"'9'!$AE19","v":0},{"$f":"'9'!$AE20","v":0},{"$f":"'9'!$AE21","v":0},{"$f":"'9'!$AE22","v":0},{"$f":"'9'!$AE23","v":"za"},{"$f":"'9'!$AE24","v":"zo"},{"$f":"'9'!$AE25","v":0},{"$f":"'9'!$AE26","v":0},{"$f":"'9'!$AE27","v":0},{"$f":"'9'!$AE28","v":0},{"$f":"'9'!$AE29","v":0},{"$f":"'9'!$AE30","v":"za"},{"$f":"'9'!$AE31","v":"zo"},{"$f":"'9'!$AE32","v":0},{"$f":"'9'!$AE33","v":0},{"$f":"'9'!$AE34","v":0},{"$f":"'9'!$AE35","v":0},{"$f":"'9'!$AE36","v":0},{"$f":"'9'!$AE37","v":"za"},{"$f":"'9'!$AE38","v":"zo"},{"$f":"'9'!$AF9","v":0},{"$f":"'9'!$AF10","v":0},{"$f":"'9'!$AF11","v":0},{"$f":"'9'!$AF12","v":0},{"$f":"'9'!$AF13","v":0},{"$f":"'9'!$AF14","v":"za"},{"$f":"'9'!$AF15","v":"zo"},{"$f":"'9'!$AF16","v":0},{"$f":"'9'!$AF17","v":0},{"$f":"'9'!$AF18","v":0},{"$f":"'9'!$AF19","v":0},{"$f":"'9'!$AF20","v":0},{"$f":"'9'!$AF21","v":"za"},{"$f":"'9'!$AF22","v":"zo"},{"$f":"'9'!$AF23","v":0},{"$f":"'9'!$AF24","v":0},{"$f":"'9'!$AF25","v":0},{"$f":"'9'!$AF26","v":0},{"$f":"'9'!$AF27","v":0},{"$f":"'9'!$AF28","v":"za"},{"$f":"'9'!$AF29","v":"zo"},{"$f":"'9'!$AF30","v":0},{"$f":"'9'!$AF31","v":0},{"$f":"'9'!$AF32","v":0},{"$f":"'9'!$AF33","v":0},{"$f":"'9'!$AF34","v":0},{"$f":"'9'!$AF35","v":"za"},{"$f":"'9'!$AF36","v":"zo"},{"$f":"'9'!$AF37","v":0},{"$f":"'9'!$AF38","v":0},{"$f":"'9'!$AF39","v":0},{"$f":"'9'!$AG9","v":0},{"$f":"'9'!$AG10","v":"fd"},{"$f":"'9'!$AG11","v":"za"},{"$f":"'9'!$AG12","v":"zo"},{"$f":"'9'!$AG13","v":0},{"$f":"'9'!$AG14","v":0},{"$f":"'9'!$AG15","v":0},{"$f":"'9'!$AG16","v":0},{"$f":"'9'!$AG17","v":0},{"$f":"'9'!$AG18","v":"za"},{"$f":"'9'!$AG19","v":"zo"},{"$f":"'9'!$AG20","v":"fd"},{"$f":"'9'!$AG21","v":0},{"$f":"'9'!$AG22","v":0},{"$f":"'9'!$AG23","v":0},{"$f":"'9'!$AG24","v":0},{"$f":"'9'!$AG25","v":"za"},{"$f":"'9'!$AG26","v":"zo"},{"$f":"'9'!$AG27","v":0},{"$f":"'9'!$AG28","v":0},{"$f":"'9'!$AG29","v":0},{"$f":"'9'!$AG30","v":0},{"$f":"'9'!$AG31","v":0},{"$f":"'9'!$AG32","v":"za"},{"$f":"'9'!$AG33","v":"zo"},{"$f":"'9'!$AG34","v":0},{"$f":"'9'!$AG35","v":0},{"$f":"'9'!$AG36","v":0},{"$f":"'9'!$AG37","v":0},{"$f":"'9'!$AG38","v":0},{"$f":"'9'!$AH9","v":"za"},{"$f":"'9'!$AH10","v":"zo"},{"$f":"'9'!$AH11","v":0},{"$f":"'9'!$AH12","v":0},{"$f":"'9'!$AH13","v":0},{"$f":"'9'!$AH14","v":0},{"$f":"'9'!$AH15","v":0},{"$f":"'9'!$AH16","v":"za"},{"$f":"'9'!$AH17","v":"zo"},{"$f":"'9'!$AH18","v":0},{"$f":"'9'!$AH19","v":0},{"$f":"'9'!$AH20","v":0},{"$f":"'9'!$AH21","v":0},{"$f":"'9'!$AH22","v":0},{"$f":"'9'!$AH23","v":"za"},{"$f":"'9'!$AH24","v":"zo"},{"$f":"'9'!$AH25","v":0},{"$f":"'9'!$AH26","v":0},{"$f":"'9'!$AH27","v":0},{"$f":"'9'!$AH28","v":0},{"$f":"'9'!$AH29","v":0},{"$f":"'9'!$AH30","v":"za"},{"$f":"'9'!$AH31","v":"zo"},{"$f":"'9'!$AH32","v":0},{"$f":"'9'!$AH33","v":0},{"$f":"'9'!$AH34","v":"fd"},{"$f":"'9'!$AH35","v":0},{"$f":"'9'!$AH36","v":0},{"$f":"'9'!$AH37","v":"za"},{"$f":"'9'!$AH38","v":"zo"},{"$f":"'9'!$AH39","v":0}]
[17,{"$f":"'17'!$B$1","v":"Maanders Chris"},{"$f":"INDIRECT($A5&\"!\"&(\"W\"&C$2))","v":"z"},"fd","z","z","z","za","zo","z","z","z","z","z","za","zo","z","z","z","z","z","za","zo","z","z","z","z","z","za","zo","z","z","z",{"$f":"INDIRECT($A5&\"!\"&(\"X\"&AH$2))","v":"z"},"z","za","zo","z","z","z","z","z","za","zo","z","z","z","z","z","za","zo","z","z","z","z","z","za","zo","z","z","z",{"$f":"'17'!$X37","v":0},{"$f":"'17'!$X38","v":0},{"$f":"'17'!$X39","v":0},{"$f":"'17'!$Y9","v":"z"},{"$f":"'17'!$Y10","v":"z"},{"$f":"'17'!$Y11","v":"za"},{"$f":"'17'!$Y12","v":"zo"},{"$f":"'17'!$Y13","v":"z"},{"$f":"'17'!$Y14","v":"z"},{"$f":"'17'!$Y15","v":"z"},{"$f":"'17'!$Y16","v":"z"},{"$f":"'17'!$Y17","v":"z"},{"$f":"'17'!$Y18","v":"za"},{"$f":"'17'!$Y19","v":"zo"},{"$f":"'17'!$Y20","v":"z"},{"$f":"'17'!$Y21","v":"z"},{"$f":"'17'!$Y22","v":"z"},{"$f":"'17'!$Y23","v":"z"},{"$f":"'17'!$Y24","v":"z"},{"$f":"'17'!$Y25","v":"za"},{"$f":"'17'!$Y26","v":"zo"},{"$f":"'17'!$Y27","v":"z"},{"$f":"'17'!$Y28","v":"z"},{"$f":"'17'!$Y29","v":"z"},{"$f":"'17'!$Y30","v":"z"},{"$f":"'17'!$Y31","v":"z"},{"$f":"'17'!$Y32","v":"za"},{"$f":"'17'!$Y33","v":"zo"},{"$f":"'17'!$Y34","v":0},{"$f":"'17'!$Y35","v":0},{"$f":"'17'!$Y36","v":0},{"$f":"'17'!$Y37","v":0},{"$f":"'17'!$Y38","v":0},{"$f":"'17'!$Y39","v":"za"},{"$f":"'17'!$Z9","v":"zo"},{"$f":"'17'!$Z10","v":0},{"$f":"'17'!$Z11","v":0},{"$f":"'17'!$Z12","v":0},{"$f":"'17'!$Z13","v":0},{"$f":"'17'!$Z14","v":0},{"$f":"'17'!$Z15","v":"za"},{"$f":"'17'!$Z16","v":"zo"},{"$f":"'17'!$Z17","v":0},{"$f":"'17'!$Z18","v":0},{"$f":"'17'!$Z19","v":0},{"$f":"'17'!$Z20","v":0},{"$f":"'17'!$Z21","v":0},{"$f":"'17'!$Z22","v":"za"},{"$f":"'17'!$Z23","v":"zo"},{"$f":"'17'!$Z24","v":0},{"$f":"'17'!$Z25","v":0},{"$f":"'17'!$Z26","v":0},{"$f":"'17'!$Z27","v":0},{"$f":"'17'!$Z28","v":0},{"$f":"'17'!$Z29","v":"za"},{"$f":"'17'!$Z30","v":"zo"},{"$f":"'17'!$Z31","v":"fd"},{"$f":"'17'!$Z32","v":0},{"$f":"'17'!$Z33","v":0},{"$f":"'17'!$Z34","v":0},{"$f":"'17'!$Z35","v":0},{"$f":"'17'!$Z36","v":"za"},{"$f":"'17'!$Z37","v":"zo"},{"$f":"'17'!$Z38","v":0},{"$f":"'17'!$AA9","v":0},{"$f":"'17'!$AA10","v":"fd"},{"$f":"'17'!$AA11","v":0},{"$f":"'17'!$AA12","v":0},{"$f":"'17'!$AA13","v":"za"},{"$f":"'17'!$AA14","v":"zo"},{"$f":"'17'!$AA15","v":0},{"$f":"'17'!$AA16","v":0},{"$f":"'17'!$AA17","v":0},{"$f":"'17'!$AA18","v":0},{"$f":"'17'!$AA19","v":0},{"$f":"'17'!$AA20","v":"za"},{"$f":"'17'!$AA21","v":"zo"},{"$f":"'17'!$AA22","v":0},{"$f":"'17'!$AA23","v":0},{"$f":"'17'!$AA24","v":0},{"$f":"'17'!$AA25","v":0},{"$f":"'17'!$AA26","v":0},{"$f":"'17'!$AA27","v":"za"},{"$f":"'17'!$AA28","v":"zo"},{"$f":"'17'!$AA29","v":"fd"},{"$f":"'17'!$AA30","v":0},{"$f":"'17'!$AA31","v":0},{"$f":"'17'!$AA32","v":0},{"$f":"'17'!$AA33","v":0},{"$f":"'17'!$AA34","v":"za"},{"$f":"'17'!$AA35","v":"zo"},{"$f":"'17'!$AA36","v":0},{"$f":"'17'!$AA37","v":0},{"$f":"'17'!$AA38","v":0},{"$f":"'17'!$AA39","v":"fd"},{"$f":"'17'!$AB9","v":0},{"$f":"'17'!$AB10","v":"za"},{"$f":"'17'!$AB11","v":"zo"},{"$f":"'17'!$AB12","v":0},{"$f":"'17'!$AB13","v":0},{"$f":"'17'!$AB14","v":0},{"$f":"'17'!$AB15","v":0},{"$f":"'17'!$AB16","v":0},{"$f":"'17'!$AB17","v":"za"},{"$f":"'17'!$AB18","v":"zo"},{"$f":"'17'!$AB19","v":"fd"},{"$f":"'17'!$AB20","v":0},{"$f":"'17'!$AB21","v":0},{"$f":"'17'!$AB22","v":0},{"$f":"'17'!$AB23","v":0},{"$f":"'17'!$AB24","v":"za"},{"$f":"'17'!$AB25","v":"zo"},{"$f":"'17'!$AB26","v":0},{"$f":"'17'!$AB27","v":0},{"$f":"'17'!$AB28","v":0},{"$f":"'17'!$AB29","v":0},{"$f":"'17'!$AB30","v":0},{"$f":"'17'!$AB31","v":"za"},{"$f":"'17'!$AB32","v":"zo"},{"$f":"'17'!$AB33","v":0},{"$f":"'17'!$AB34","v":0},{"$f":"'17'!$AB35","v":0},{"$f":"'17'!$AB36","v":0},{"$f":"'17'!$AB37","v":0},{"$f":"'17'!$AB38","v":"za"},{"$f":"'17'!$AC9","v":"zo"},{"$f":"'17'!$AC10","v":0},{"$f":"'17'!$AC11","v":0},{"$f":"'17'!$AC12","v":0},{"$f":"'17'!$AC13","v":0},{"$f":"'17'!$AC14","v":0},{"$f":"'17'!$AC15","v":"za"},{"$f":"'17'!$AC16","v":"zo"},{"$f":"'17'!$AC17","v":0},{"$f":"'17'!$AC18","v":0},{"$f":"'17'!$AC19","v":0},{"$f":"'17'!$AC20","v":0},{"$f":"'17'!$AC21","v":0},{"$f":"'17'!$AC22","v":"za"},{"$f":"'17'!$AC23","v":"zo"},{"$f":"'17'!$AC24","v":0},{"$f":"'17'!$AC25","v":0},{"$f":"'17'!$AC26","v":0},{"$f":"'17'!$AC27","v":0},{"$f":"'17'!$AC28","v":0},{"$f":"'17'!$AC29","v":"za"},{"$f":"'17'!$AC30","v":"zo"},{"$f":"'17'!$AC31","v":0},{"$f":"'17'!$AC32","v":0},{"$f":"'17'!$AC33","v":0},{"$f":"'17'!$AC34","v":0},{"$f":"'17'!$AC35","v":0},{"$f":"'17'!$AC36","v":"za"},{"$f":"'17'!$AC37","v":"zo"},{"$f":"'17'!$AC38","v":0},{"$f":"'17'!$AC39","v":0},{"$f":"'17'!$AD9","v":0},{"$f":"'17'!$AD10","v":0},{"$f":"'17'!$AD11","v":0},{"$f":"'17'!$AD12","v":"za"},{"$f":"'17'!$AD13","v":"zo"},{"$f":"'17'!$AD14","v":0},{"$f":"'17'!$AD15","v":0},{"$f":"'17'!$AD16","v":0},{"$f":"'17'!$AD17","v":0},{"$f":"'17'!$AD18","v":0},{"$f":"'17'!$AD19","v":"za"},{"$f":"'17'!$AD20","v":"zo"},{"$f":"'17'!$AD21","v":0},{"$f":"'17'!$AD22","v":0},{"$f":"'17'!$AD23","v":0},{"$f":"'17'!$AD24","v":"fd"},{"$f":"'17'!$AD25","v":0},{"$f":"'17'!$AD26","v":"za"},{"$f":"'17'!$AD27","v":"zo"},{"$f":"'17'!$AD28","v":0},{"$f":"'17'!$AD29","v":0},{"$f":"'17'!$AD30","v":0},{"$f":"'17'!$AD31","v":0},{"$f":"'17'!$AD32","v":0},{"$f":"'17'!$AD33","v":"za"},{"$f":"'17'!$AD34","v":"zo"},{"$f":"'17'!$AD35","v":0},{"$f":"'17'!$AD36","v":0},{"$f":"'17'!$AD37","v":0},{"$f":"'17'!$AD38","v":0},{"$f":"'17'!$AD39","v":0},{"$f":"'17'!$AE9","v":"za"},{"$f":"'17'!$AE10","v":"zo"},{"$f":"'17'!$AE11","v":0},{"$f":"'17'!$AE12","v":0},{"$f":"'17'!$AE13","v":0},{"$f":"'17'!$AE14","v":0},{"$f":"'17'!$AE15","v":0},{"$f":"'17'!$AE16","v":"za"},{"$f":"'17'!$AE17","v":"zo"},{"$f":"'17'!$AE18","v":0},{"$f":"'17'!$AE19","v":0},{"$f":"'17'!$AE20","v":0},{"$f":"'17'!$AE21","v":0},{"$f":"'17'!$AE22","v":0},{"$f":"'17'!$AE23","v":"za"},{"$f":"'17'!$AE24","v":"zo"},{"$f":"'17'!$AE25","v":0},{"$f":"'17'!$AE26","v":0},{"$f":"'17'!$AE27","v":0},{"$f":"'17'!$AE28","v":0},{"$f":"'17'!$AE29","v":0},{"$f":"'17'!$AE30","v":"za"},{"$f":"'17'!$AE31","v":"zo"},{"$f":"'17'!$AE32","v":0},{"$f":"'17'!$AE33","v":0},{"$f":"'17'!$AE34","v":0},{"$f":"'17'!$AE35","v":0},{"$f":"'17'!$AE36","v":0},{"$f":"'17'!$AE37","v":"za"},{"$f":"'17'!$AE38","v":"zo"},{"$f":"'17'!$AF9","v":0},{"$f":"'17'!$AF10","v":0},{"$f":"'17'!$AF11","v":0},{"$f":"'17'!$AF12","v":0},{"$f":"'17'!$AF13","v":0},{"$f":"'17'!$AF14","v":"za"},{"$f":"'17'!$AF15","v":"zo"},{"$f":"'17'!$AF16","v":0},{"$f":"'17'!$AF17","v":0},{"$f":"'17'!$AF18","v":0},{"$f":"'17'!$AF19","v":0},{"$f":"'17'!$AF20","v":0},{"$f":"'17'!$AF21","v":"za"},{"$f":"'17'!$AF22","v":"zo"},{"$f":"'17'!$AF23","v":0},{"$f":"'17'!$AF24","v":0},{"$f":"'17'!$AF25","v":0},{"$f":"'17'!$AF26","v":0},{"$f":"'17'!$AF27","v":0},{"$f":"'17'!$AF28","v":"za"},{"$f":"'17'!$AF29","v":"zo"},{"$f":"'17'!$AF30","v":0},{"$f":"'17'!$AF31","v":0},{"$f":"'17'!$AF32","v":0},{"$f":"'17'!$AF33","v":0},{"$f":"'17'!$AF34","v":0},{"$f":"'17'!$AF35","v":"za"},{"$f":"'17'!$AF36","v":"zo"},{"$f":"'17'!$AF37","v":0},{"$f":"'17'!$AF38","v":0},{"$f":"'17'!$AF39","v":0},{"$f":"'17'!$AG9","v":0},{"$f":"'17'!$AG10","v":"fd"},{"$f":"'17'!$AG11","v":"za"},{"$f":"'17'!$AG12","v":"zo"},{"$f":"'17'!$AG13","v":0},{"$f":"'17'!$AG14","v":0},{"$f":"'17'!$AG15","v":0},{"$f":"'17'!$AG16","v":0},{"$f":"'17'!$AG17","v":0},{"$f":"'17'!$AG18","v":"za"},{"$f":"'17'!$AG19","v":"zo"},{"$f":"'17'!$AG20","v":"fd"},{"$f":"'17'!$AG21","v":0},{"$f":"'17'!$AG22","v":0},{"$f":"'17'!$AG23","v":0},{"$f":"'17'!$AG24","v":0},{"$f":"'17'!$AG25","v":"za"},{"$f":"'17'!$AG26","v":"zo"},{"$f":"'17'!$AG27","v":0},{"$f":"'17'!$AG28","v":0},{"$f":"'17'!$AG29","v":0},{"$f":"'17'!$AG30","v":0},{"$f":"'17'!$AG31","v":0},{"$f":"'17'!$AG32","v":"za"},{"$f":"'17'!$AG33","v":"zo"},{"$f":"'17'!$AG34","v":0},{"$f":"'17'!$AG35","v":0},{"$f":"'17'!$AG36","v":0},{"$f":"'17'!$AG37","v":0},{"$f":"'17'!$AG38","v":0},{"$f":"'17'!$AH9","v":"za"},{"$f":"'17'!$AH10","v":"zo"},{"$f":"'17'!$AH11","v":0},{"$f":"'17'!$AH12","v":0},{"$f":"'17'!$AH13","v":0},{"$f":"'17'!$AH14","v":0},{"$f":"'17'!$AH15","v":0},{"$f":"'17'!$AH16","v":"za"},{"$f":"'17'!$AH17","v":"zo"},{"$f":"'17'!$AH18","v":0},{"$f":"'17'!$AH19","v":0},{"$f":"'17'!$AH20","v":0},{"$f":"'17'!$AH21","v":0},{"$f":"'17'!$AH22","v":0},{"$f":"'17'!$AH23","v":"za"},{"$f":"'17'!$AH24","v":"zo"},{"$f":"'17'!$AH25","v":0},{"$f":"'17'!$AH26","v":0},{"$f":"'17'!$AH27","v":0},{"$f":"'17'!$AH28","v":0},{"$f":"'17'!$AH29","v":0},{"$f":"'17'!$AH30","v":"za"},{"$f":"'17'!$AH31","v":"zo"},{"$f":"'17'!$AH32","v":0},{"$f":"'17'!$AH33","v":0},{"$f":"'17'!$AH34","v":"fd"},{"$f":"'17'!$AH35","v":0},{"$f":"'17'!$AH36","v":0},{"$f":"'17'!$AH37","v":"za"},{"$f":"'17'!$AH38","v":"zo"},{"$f":"'17'!$AH39","v":0}]
[18,{"$f":"'18'!$B$1","v":"De Bruycker Joris"},"OK","fd",0,0,"ro","za","zo",0,0,0,0,0,"za","zo",0,0,0,0,0,"za","zo",0,0,0,0,0,"za","zo","ro",0,0,0,0,"za","zo",0,0,0,0,0,"za","zo",0,0,0,0,0,"za","zo",0,0,0,0,0,"za","zo",0,0,0,{"$f":"'18'!$X37","v":0},{"$f":"'18'!$X38","v":0},{"$f":"'18'!$X39","v":0},{"$f":"'18'!$Y9","v":0},{"$f":"'18'!$Y10","v":0},{"$f":"'18'!$Y11","v":"za"},{"$f":"'18'!$Y12","v":"zo"},{"$f":"'18'!$Y13","v":0},{"$f":"'18'!$Y14","v":0},{"$f":"'18'!$Y15","v":0},{"$f":"'18'!$Y16","v":0},{"$f":"'18'!$Y17","v":0},{"$f":"'18'!$Y18","v":"za"},{"$f":"'18'!$Y19","v":"zo"},{"$f":"'18'!$Y20","v":0},{"$f":"'18'!$Y21","v":0},{"$f":"'18'!$Y22","v":0},{"$f":"'18'!$Y23","v":0},{"$f":"'18'!$Y24","v":0},{"$f":"'18'!$Y25","v":"za"},{"$f":"'18'!$Y26","v":"zo"},{"$f":"'18'!$Y27","v":0},{"$f":"'18'!$Y28","v":0},{"$f":"'18'!$Y29","v":0},{"$f":"'18'!$Y30","v":0},{"$f":"'18'!$Y31","v":0},{"$f":"'18'!$Y32","v":"za"},{"$f":"'18'!$Y33","v":"zo"},{"$f":"'18'!$Y34","v":0},{"$f":"'18'!$Y35","v":0},{"$f":"'18'!$Y36","v":0},{"$f":"'18'!$Y37","v":0},{"$f":"'18'!$Y38","v":0},{"$f":"'18'!$Y39","v":"za"},{"$f":"'18'!$Z9","v":"zo"},{"$f":"'18'!$Z10","v":0},{"$f":"'18'!$Z11","v":0},{"$f":"'18'!$Z12","v":0},{"$f":"'18'!$Z13","v":0},{"$f":"'18'!$Z14","v":0},{"$f":"'18'!$Z15","v":"za"},{"$f":"'18'!$Z16","v":"zo"},{"$f":"'18'!$Z17","v":0},{"$f":"'18'!$Z18","v":0},{"$f":"'18'!$Z19","v":0},{"$f":"'18'!$Z20","v":0},{"$f":"'18'!$Z21","v":0},{"$f":"'18'!$Z22","v":"za"},{"$f":"'18'!$Z23","v":"zo"},{"$f":"'18'!$Z24","v":0},{"$f":"'18'!$Z25","v":0},{"$f":"'18'!$Z26","v":0},{"$f":"'18'!$Z27","v":0},{"$f":"'18'!$Z28","v":0},{"$f":"'18'!$Z29","v":"za"},{"$f":"'18'!$Z30","v":"zo"},{"$f":"'18'!$Z31","v":"fd"},{"$f":"'18'!$Z32","v":0},{"$f":"'18'!$Z33","v":0},{"$f":"'18'!$Z34","v":0},{"$f":"'18'!$Z35","v":0},{"$f":"'18'!$Z36","v":"za"},{"$f":"'18'!$Z37","v":"zo"},{"$f":"'18'!$Z38","v":0},{"$f":"'18'!$AA9","v":0},{"$f":"'18'!$AA10","v":"fd"},{"$f":"'18'!$AA11","v":0},{"$f":"'18'!$AA12","v":0},{"$f":"'18'!$AA13","v":"za"},{"$f":"'18'!$AA14","v":"zo"},{"$f":"'18'!$AA15","v":0},{"$f":"'18'!$AA16","v":0},{"$f":"'18'!$AA17","v":0},{"$f":"'18'!$AA18","v":0},{"$f":"'18'!$AA19","v":0},{"$f":"'18'!$AA20","v":"za"},{"$f":"'18'!$AA21","v":"zo"},{"$f":"'18'!$AA22","v":0},{"$f":"'18'!$AA23","v":0},{"$f":"'18'!$AA24","v":0},{"$f":"'18'!$AA25","v":0},{"$f":"'18'!$AA26","v":0},{"$f":"'18'!$AA27","v":"za"},{"$f":"'18'!$AA28","v":"zo"},{"$f":"'18'!$AA29","v":"fd"},{"$f":"'18'!$AA30","v":0},{"$f":"'18'!$AA31","v":0},{"$f":"'18'!$AA32","v":0},{"$f":"'18'!$AA33","v":0},{"$f":"'18'!$AA34","v":"za"},{"$f":"'18'!$AA35","v":"zo"},{"$f":"'18'!$AA36","v":0},{"$f":"'18'!$AA37","v":0},{"$f":"'18'!$AA38","v":0},{"$f":"'18'!$AA39","v":"fd"},{"$f":"'18'!$AB9","v":0},{"$f":"'18'!$AB10","v":"za"},{"$f":"'18'!$AB11","v":"zo"},{"$f":"'18'!$AB12","v":0},{"$f":"'18'!$AB13","v":0},{"$f":"'18'!$AB14","v":0},{"$f":"'18'!$AB15","v":0},{"$f":"'18'!$AB16","v":0},{"$f":"'18'!$AB17","v":"za"},{"$f":"'18'!$AB18","v":"zo"},{"$f":"'18'!$AB19","v":"fd"},{"$f":"'18'!$AB20","v":0},{"$f":"'18'!$AB21","v":0},{"$f":"'18'!$AB22","v":0},{"$f":"'18'!$AB23","v":0},{"$f":"'18'!$AB24","v":"za"},{"$f":"'18'!$AB25","v":"zo"},{"$f":"'18'!$AB26","v":0},{"$f":"'18'!$AB27","v":0},{"$f":"'18'!$AB28","v":0},{"$f":"'18'!$AB29","v":0},{"$f":"'18'!$AB30","v":0},{"$f":"'18'!$AB31","v":"za"},{"$f":"'18'!$AB32","v":"zo"},{"$f":"'18'!$AB33","v":0},{"$f":"'18'!$AB34","v":0},{"$f":"'18'!$AB35","v":0},{"$f":"'18'!$AB36","v":0},{"$f":"'18'!$AB37","v":0},{"$f":"'18'!$AB38","v":"za"},{"$f":"'18'!$AC9","v":"zo"},{"$f":"'18'!$AC10","v":0},{"$f":"'18'!$AC11","v":0},{"$f":"'18'!$AC12","v":0},{"$f":"'18'!$AC13","v":0},{"$f":"'18'!$AC14","v":0},{"$f":"'18'!$AC15","v":"za"},{"$f":"'18'!$AC16","v":"zo"},{"$f":"'18'!$AC17","v":0},{"$f":"'18'!$AC18","v":0},{"$f":"'18'!$AC19","v":0},{"$f":"'18'!$AC20","v":0},{"$f":"'18'!$AC21","v":0},{"$f":"'18'!$AC22","v":"za"},{"$f":"'18'!$AC23","v":"zo"},{"$f":"'18'!$AC24","v":0},{"$f":"'18'!$AC25","v":0},{"$f":"'18'!$AC26","v":0},{"$f":"'18'!$AC27","v":0},{"$f":"'18'!$AC28","v":0},{"$f":"'18'!$AC29","v":"za"},{"$f":"'18'!$AC30","v":"zo"},{"$f":"'18'!$AC31","v":0},{"$f":"'18'!$AC32","v":0},{"$f":"'18'!$AC33","v":0},{"$f":"'18'!$AC34","v":0},{"$f":"'18'!$AC35","v":0},{"$f":"'18'!$AC36","v":"za"},{"$f":"'18'!$AC37","v":"zo"},{"$f":"'18'!$AC38","v":0},{"$f":"'18'!$AC39","v":0},{"$f":"'18'!$AD9","v":0},{"$f":"'18'!$AD10","v":0},{"$f":"'18'!$AD11","v":0},{"$f":"'18'!$AD12","v":"za"},{"$f":"'18'!$AD13","v":"zo"},{"$f":"'18'!$AD14","v":0},{"$f":"'18'!$AD15","v":0},{"$f":"'18'!$AD16","v":0},{"$f":"'18'!$AD17","v":0},{"$f":"'18'!$AD18","v":0},{"$f":"'18'!$AD19","v":"za"},{"$f":"'18'!$AD20","v":"zo"},{"$f":"'18'!$AD21","v":0},{"$f":"'18'!$AD22","v":0},{"$f":"'18'!$AD23","v":0},{"$f":"'18'!$AD24","v":"fd"},{"$f":"'18'!$AD25","v":0},{"$f":"'18'!$AD26","v":"za"},{"$f":"'18'!$AD27","v":"zo"},{"$f":"'18'!$AD28","v":0},{"$f":"'18'!$AD29","v":0},{"$f":"'18'!$AD30","v":0},{"$f":"'18'!$AD31","v":0},{"$f":"'18'!$AD32","v":0},{"$f":"'18'!$AD33","v":"za"},{"$f":"'18'!$AD34","v":"zo"},{"$f":"'18'!$AD35","v":0},{"$f":"'18'!$AD36","v":0},{"$f":"'18'!$AD37","v":0},{"$f":"'18'!$AD38","v":0},{"$f":"'18'!$AD39","v":0},{"$f":"'18'!$AE9","v":"za"},{"$f":"'18'!$AE10","v":"zo"},{"$f":"'18'!$AE11","v":0},{"$f":"'18'!$AE12","v":0},{"$f":"'18'!$AE13","v":0},{"$f":"'18'!$AE14","v":0},{"$f":"'18'!$AE15","v":0},{"$f":"'18'!$AE16","v":"za"},{"$f":"'18'!$AE17","v":"zo"},{"$f":"'18'!$AE18","v":0},{"$f":"'18'!$AE19","v":0},{"$f":"'18'!$AE20","v":0},{"$f":"'18'!$AE21","v":0},{"$f":"'18'!$AE22","v":0},{"$f":"'18'!$AE23","v":"za"},{"$f":"'18'!$AE24","v":"zo"},{"$f":"'18'!$AE25","v":0},{"$f":"'18'!$AE26","v":0},{"$f":"'18'!$AE27","v":0},{"$f":"'18'!$AE28","v":0},{"$f":"'18'!$AE29","v":0},{"$f":"'18'!$AE30","v":"za"},{"$f":"'18'!$AE31","v":"zo"},{"$f":"'18'!$AE32","v":0},{"$f":"'18'!$AE33","v":0},{"$f":"'18'!$AE34","v":0},{"$f":"'18'!$AE35","v":0},{"$f":"'18'!$AE36","v":0},{"$f":"'18'!$AE37","v":"za"},{"$f":"'18'!$AE38","v":"zo"},{"$f":"'18'!$AF9","v":0},{"$f":"'18'!$AF10","v":0},{"$f":"'18'!$AF11","v":0},{"$f":"'18'!$AF12","v":0},{"$f":"'18'!$AF13","v":0},{"$f":"'18'!$AF14","v":"za"},{"$f":"'18'!$AF15","v":"zo"},{"$f":"'18'!$AF16","v":0},{"$f":"'18'!$AF17","v":0},{"$f":"'18'!$AF18","v":0},{"$f":"'18'!$AF19","v":0},{"$f":"'18'!$AF20","v":0},{"$f":"'18'!$AF21","v":"za"},{"$f":"'18'!$AF22","v":"zo"},{"$f":"'18'!$AF23","v":0},{"$f":"'18'!$AF24","v":0},{"$f":"'18'!$AF25","v":0},{"$f":"'18'!$AF26","v":0},{"$f":"'18'!$AF27","v":0},{"$f":"'18'!$AF28","v":"za"},{"$f":"'18'!$AF29","v":"zo"},{"$f":"'18'!$AF30","v":0},{"$f":"'18'!$AF31","v":0},{"$f":"'18'!$AF32","v":0},{"$f":"'18'!$AF33","v":0},{"$f":"'18'!$AF34","v":0},{"$f":"'18'!$AF35","v":"za"},{"$f":"'18'!$AF36","v":"zo"},{"$f":"'18'!$AF37","v":0},{"$f":"'18'!$AF38","v":0},{"$f":"'18'!$AF39","v":0},{"$f":"'18'!$AG9","v":0},{"$f":"'18'!$AG10","v":"fd"},{"$f":"'18'!$AG11","v":"za"},{"$f":"'18'!$AG12","v":"zo"},{"$f":"'18'!$AG13","v":0},{"$f":"'18'!$AG14","v":0},{"$f":"'18'!$AG15","v":0},{"$f":"'18'!$AG16","v":0},{"$f":"'18'!$AG17","v":0},{"$f":"'18'!$AG18","v":"za"},{"$f":"'18'!$AG19","v":"zo"},{"$f":"'18'!$AG20","v":"fd"},{"$f":"'18'!$AG21","v":0},{"$f":"'18'!$AG22","v":0},{"$f":"'18'!$AG23","v":0},{"$f":"'18'!$AG24","v":0},{"$f":"'18'!$AG25","v":"za"},{"$f":"'18'!$AG26","v":"zo"},{"$f":"'18'!$AG27","v":0},{"$f":"'18'!$AG28","v":0},{"$f":"'18'!$AG29","v":0},{"$f":"'18'!$AG30","v":0},{"$f":"'18'!$AG31","v":0},{"$f":"'18'!$AG32","v":"za"},{"$f":"'18'!$AG33","v":"zo"},{"$f":"'18'!$AG34","v":0},{"$f":"'18'!$AG35","v":0},{"$f":"'18'!$AG36","v":0},{"$f":"'18'!$AG37","v":0},{"$f":"'18'!$AG38","v":0},{"$f":"'18'!$AH9","v":"za"},{"$f":"'18'!$AH10","v":"zo"},{"$f":"'18'!$AH11","v":0},{"$f":"'18'!$AH12","v":0},{"$f":"'18'!$AH13","v":0},{"$f":"'18'!$AH14","v":0},{"$f":"'18'!$AH15","v":0},{"$f":"'18'!$AH16","v":"za"},{"$f":"'18'!$AH17","v":"zo"},{"$f":"'18'!$AH18","v":0},{"$f":"'18'!$AH19","v":0},{"$f":"'18'!$AH20","v":0},{"$f":"'18'!$AH21","v":0},{"$f":"'18'!$AH22","v":0},{"$f":"'18'!$AH23","v":"za"},{"$f":"'18'!$AH24","v":"zo"},{"$f":"'18'!$AH25","v":0},{"$f":"'18'!$AH26","v":0},{"$f":"'18'!$AH27","v":0},{"$f":"'18'!$AH28","v":0},{"$f":"'18'!$AH29","v":0},{"$f":"'18'!$AH30","v":"za"},{"$f":"'18'!$AH31","v":"zo"},{"$f":"'18'!$AH32","v":0},{"$f":"'18'!$AH33","v":0},{"$f":"'18'!$AH34","v":"fd"},{"$f":"'18'!$AH35","v":0},{"$f":"'18'!$AH36","v":0},{"$f":"'18'!$AH37","v":"za"},{"$f":"'18'!$AH38","v":"zo"},{"$f":"'18'!$AH39","v":0}]
[23,{"$f":"'23'!$B$1","v":"De Launois Raymond"},"OK","fd",0,0,0,"za","zo",0,0,0,0,0,"za","zo",0,0,0,0,"ro","za","zo",0,0,0,0,"ro","za","zo",0,0,0,0,0,"za","zo",0,0,0,0,0,"za","zo",0,0,0,0,0,"za","zo",0,0,0,0,0,"za","zo",0,0,0,{"$f":"'23'!$X37","v":0},{"$f":"'23'!$X38","v":0},{"$f":"'23'!$X39","v":0},{"$f":"'23'!$Y9","v":0},{"$f":"'23'!$Y10","v":0},{"$f":"'23'!$Y11","v":"za"},{"$f":"'23'!$Y12","v":"zo"},{"$f":"'23'!$Y13","v":0},{"$f":"'23'!$Y14","v":0},{"$f":"'23'!$Y15","v":0},{"$f":"'23'!$Y16","v":0},{"$f":"'23'!$Y17","v":0},{"$f":"'23'!$Y18","v":"za"},{"$f":"'23'!$Y19","v":"zo"},{"$f":"'23'!$Y20","v":0},{"$f":"'23'!$Y21","v":0},{"$f":"'23'!$Y22","v":0},{"$f":"'23'!$Y23","v":0},{"$f":"'23'!$Y24","v":0},{"$f":"'23'!$Y25","v":"za"},{"$f":"'23'!$Y26","v":"zo"},{"$f":"'23'!$Y27","v":0},{"$f":"'23'!$Y28","v":0},{"$f":"'23'!$Y29","v":0},{"$f":"'23'!$Y30","v":0},{"$f":"'23'!$Y31","v":0},{"$f":"'23'!$Y32","v":"za"},{"$f":"'23'!$Y33","v":"zo"},{"$f":"'23'!$Y34","v":0},{"$f":"'23'!$Y35","v":0},{"$f":"'23'!$Y36","v":0},{"$f":"'23'!$Y37","v":0},{"$f":"'23'!$Y38","v":0},{"$f":"'23'!$Y39","v":"za"},{"$f":"'23'!$Z9","v":"zo"},{"$f":"'23'!$Z10","v":0},{"$f":"'23'!$Z11","v":0},{"$f":"'23'!$Z12","v":0},{"$f":"'23'!$Z13","v":0},{"$f":"'23'!$Z14","v":0},{"$f":"'23'!$Z15","v":"za"},{"$f":"'23'!$Z16","v":"zo"},{"$f":"'23'!$Z17","v":0},{"$f":"'23'!$Z18","v":0},{"$f":"'23'!$Z19","v":0},{"$f":"'23'!$Z20","v":0},{"$f":"'23'!$Z21","v":0},{"$f":"'23'!$Z22","v":"za"},{"$f":"'23'!$Z23","v":"zo"},{"$f":"'23'!$Z24","v":0},{"$f":"'23'!$Z25","v":0},{"$f":"'23'!$Z26","v":0},{"$f":"'23'!$Z27","v":0},{"$f":"'23'!$Z28","v":0},{"$f":"'23'!$Z29","v":"za"},{"$f":"'23'!$Z30","v":"zo"},{"$f":"'23'!$Z31","v":"fd"},{"$f":"'23'!$Z32","v":0},{"$f":"'23'!$Z33","v":0},{"$f":"'23'!$Z34","v":0},{"$f":"'23'!$Z35","v":0},{"$f":"'23'!$Z36","v":"za"},{"$f":"'23'!$Z37","v":"zo"},{"$f":"'23'!$Z38","v":0},{"$f":"'23'!$AA9","v":0},{"$f":"'23'!$AA10","v":"fd"},{"$f":"'23'!$AA11","v":0},{"$f":"'23'!$AA12","v":0},{"$f":"'23'!$AA13","v":"za"},{"$f":"'23'!$AA14","v":"zo"},{"$f":"'23'!$AA15","v":0},{"$f":"'23'!$AA16","v":0},{"$f":"'23'!$AA17","v":0},{"$f":"'23'!$AA18","v":0},{"$f":"'23'!$AA19","v":0},{"$f":"'23'!$AA20","v":"za"},{"$f":"'23'!$AA21","v":"zo"},{"$f":"'23'!$AA22","v":0},{"$f":"'23'!$AA23","v":0},{"$f":"'23'!$AA24","v":0},{"$f":"'23'!$AA25","v":0},{"$f":"'23'!$AA26","v":0},{"$f":"'23'!$AA27","v":"za"},{"$f":"'23'!$AA28","v":"zo"},{"$f":"'23'!$AA29","v":"fd"},{"$f":"'23'!$AA30","v":0},{"$f":"'23'!$AA31","v":0},{"$f":"'23'!$AA32","v":0},{"$f":"'23'!$AA33","v":0},{"$f":"'23'!$AA34","v":"za"},{"$f":"'23'!$AA35","v":"zo"},{"$f":"'23'!$AA36","v":0},{"$f":"'23'!$AA37","v":0},{"$f":"'23'!$AA38","v":0},{"$f":"'23'!$AA39","v":"fd"},{"$f":"'23'!$AB9","v":0},{"$f":"'23'!$AB10","v":"za"},{"$f":"'23'!$AB11","v":"zo"},{"$f":"'23'!$AB12","v":0},{"$f":"'23'!$AB13","v":0},{"$f":"'23'!$AB14","v":0},{"$f":"'23'!$AB15","v":0},{"$f":"'23'!$AB16","v":0},{"$f":"'23'!$AB17","v":"za"},{"$f":"'23'!$AB18","v":"zo"},{"$f":"'23'!$AB19","v":"fd"},{"$f":"'23'!$AB20","v":0},{"$f":"'23'!$AB21","v":0},{"$f":"'23'!$AB22","v":0},{"$f":"'23'!$AB23","v":0},{"$f":"'23'!$AB24","v":"za"},{"$f":"'23'!$AB25","v":"zo"},{"$f":"'23'!$AB26","v":0},{"$f":"'23'!$AB27","v":0},{"$f":"'23'!$AB28","v":0},{"$f":"'23'!$AB29","v":0},{"$f":"'23'!$AB30","v":0},{"$f":"'23'!$AB31","v":"za"},{"$f":"'23'!$AB32","v":"zo"},{"$f":"'23'!$AB33","v":0},{"$f":"'23'!$AB34","v":0},{"$f":"'23'!$AB35","v":0},{"$f":"'23'!$AB36","v":0},{"$f":"'23'!$AB37","v":0},{"$f":"'23'!$AB38","v":"za"},{"$f":"'23'!$AC9","v":"zo"},{"$f":"'23'!$AC10","v":0},{"$f":"'23'!$AC11","v":0},{"$f":"'23'!$AC12","v":0},{"$f":"'23'!$AC13","v":0},{"$f":"'23'!$AC14","v":0},{"$f":"'23'!$AC15","v":"za"},{"$f":"'23'!$AC16","v":"zo"},{"$f":"'23'!$AC17","v":0},{"$f":"'23'!$AC18","v":0},{"$f":"'23'!$AC19","v":0},{"$f":"'23'!$AC20","v":0},{"$f":"'23'!$AC21","v":0},{"$f":"'23'!$AC22","v":"za"},{"$f":"'23'!$AC23","v":"zo"},{"$f":"'23'!$AC24","v":0},{"$f":"'23'!$AC25","v":0},{"$f":"'23'!$AC26","v":0},{"$f":"'23'!$AC27","v":0},{"$f":"'23'!$AC28","v":0},{"$f":"'23'!$AC29","v":"za"},{"$f":"'23'!$AC30","v":"zo"},{"$f":"'23'!$AC31","v":0},{"$f":"'23'!$AC32","v":0},{"$f":"'23'!$AC33","v":0},{"$f":"'23'!$AC34","v":0},{"$f":"'23'!$AC35","v":0},{"$f":"'23'!$AC36","v":"za"},{"$f":"'23'!$AC37","v":"zo"},{"$f":"'23'!$AC38","v":0},{"$f":"'23'!$AC39","v":0},{"$f":"'23'!$AD9","v":0},{"$f":"'23'!$AD10","v":0},{"$f":"'23'!$AD11","v":0},{"$f":"'23'!$AD12","v":"za"},{"$f":"'23'!$AD13","v":"zo"},{"$f":"'23'!$AD14","v":0},{"$f":"'23'!$AD15","v":0},{"$f":"'23'!$AD16","v":0},{"$f":"'23'!$AD17","v":0},{"$f":"'23'!$AD18","v":0},{"$f":"'23'!$AD19","v":"za"},{"$f":"'23'!$AD20","v":"zo"},{"$f":"'23'!$AD21","v":0},{"$f":"'23'!$AD22","v":0},{"$f":"'23'!$AD23","v":0},{"$f":"'23'!$AD24","v":"fd"},{"$f":"'23'!$AD25","v":0},{"$f":"'23'!$AD26","v":"za"},{"$f":"'23'!$AD27","v":"zo"},{"$f":"'23'!$AD28","v":0},{"$f":"'23'!$AD29","v":0},{"$f":"'23'!$AD30","v":0},{"$f":"'23'!$AD31","v":0},{"$f":"'23'!$AD32","v":0},{"$f":"'23'!$AD33","v":"za"},{"$f":"'23'!$AD34","v":"zo"},{"$f":"'23'!$AD35","v":0},{"$f":"'23'!$AD36","v":0},{"$f":"'23'!$AD37","v":0},{"$f":"'23'!$AD38","v":0},{"$f":"'23'!$AD39","v":0},{"$f":"'23'!$AE9","v":"za"},{"$f":"'23'!$AE10","v":"zo"},{"$f":"'23'!$AE11","v":0},{"$f":"'23'!$AE12","v":0},{"$f":"'23'!$AE13","v":0},{"$f":"'23'!$AE14","v":0},{"$f":"'23'!$AE15","v":0},{"$f":"'23'!$AE16","v":"za"},{"$f":"'23'!$AE17","v":"zo"},{"$f":"'23'!$AE18","v":0},{"$f":"'23'!$AE19","v":0},{"$f":"'23'!$AE20","v":0},{"$f":"'23'!$AE21","v":0},{"$f":"'23'!$AE22","v":0},{"$f":"'23'!$AE23","v":"za"},{"$f":"'23'!$AE24","v":"zo"},{"$f":"'23'!$AE25","v":0},{"$f":"'23'!$AE26","v":0},{"$f":"'23'!$AE27","v":0},{"$f":"'23'!$AE28","v":0},{"$f":"'23'!$AE29","v":0},{"$f":"'23'!$AE30","v":"za"},{"$f":"'23'!$AE31","v":"zo"},{"$f":"'23'!$AE32","v":0},{"$f":"'23'!$AE33","v":0},{"$f":"'23'!$AE34","v":0},{"$f":"'23'!$AE35","v":0},{"$f":"'23'!$AE36","v":0},{"$f":"'23'!$AE37","v":"za"},{"$f":"'23'!$AE38","v":"zo"},{"$f":"'23'!$AF9","v":0},{"$f":"'23'!$AF10","v":0},{"$f":"'23'!$AF11","v":0},{"$f":"'23'!$AF12","v":0},{"$f":"'23'!$AF13","v":0},{"$f":"'23'!$AF14","v":"za"},{"$f":"'23'!$AF15","v":"zo"},{"$f":"'23'!$AF16","v":0},{"$f":"'23'!$AF17","v":0},{"$f":"'23'!$AF18","v":0},{"$f":"'23'!$AF19","v":0},{"$f":"'23'!$AF20","v":0},{"$f":"'23'!$AF21","v":"za"},{"$f":"'23'!$AF22","v":"zo"},{"$f":"'23'!$AF23","v":0},{"$f":"'23'!$AF24","v":0},{"$f":"'23'!$AF25","v":0},{"$f":"'23'!$AF26","v":0},{"$f":"'23'!$AF27","v":0},{"$f":"'23'!$AF28","v":"za"},{"$f":"'23'!$AF29","v":"zo"},{"$f":"'23'!$AF30","v":0},{"$f":"'23'!$AF31","v":0},{"$f":"'23'!$AF32","v":0},{"$f":"'23'!$AF33","v":0},{"$f":"'23'!$AF34","v":0},{"$f":"'23'!$AF35","v":"za"},{"$f":"'23'!$AF36","v":"zo"},{"$f":"'23'!$AF37","v":0},{"$f":"'23'!$AF38","v":0},{"$f":"'23'!$AF39","v":0},{"$f":"'23'!$AG9","v":0},{"$f":"'23'!$AG10","v":"fd"},{"$f":"'23'!$AG11","v":"za"},{"$f":"'23'!$AG12","v":"zo"},{"$f":"'23'!$AG13","v":0},{"$f":"'23'!$AG14","v":0},{"$f":"'23'!$AG15","v":0},{"$f":"'23'!$AG16","v":0},{"$f":"'23'!$AG17","v":0},{"$f":"'23'!$AG18","v":"za"},{"$f":"'23'!$AG19","v":"zo"},{"$f":"'23'!$AG20","v":"fd"},{"$f":"'23'!$AG21","v":0},{"$f":"'23'!$AG22","v":0},{"$f":"'23'!$AG23","v":0},{"$f":"'23'!$AG24","v":0},{"$f":"'23'!$AG25","v":"za"},{"$f":"'23'!$AG26","v":"zo"},{"$f":"'23'!$AG27","v":0},{"$f":"'23'!$AG28","v":0},{"$f":"'23'!$AG29","v":0},{"$f":"'23'!$AG30","v":0},{"$f":"'23'!$AG31","v":0},{"$f":"'23'!$AG32","v":"za"},{"$f":"'23'!$AG33","v":"zo"},{"$f":"'23'!$AG34","v":0},{"$f":"'23'!$AG35","v":0},{"$f":"'23'!$AG36","v":0},{"$f":"'23'!$AG37","v":0},{"$f":"'23'!$AG38","v":0},{"$f":"'23'!$AH9","v":"za"},{"$f":"'23'!$AH10","v":"zo"},{"$f":"'23'!$AH11","v":0},{"$f":"'23'!$AH12","v":0},{"$f":"'23'!$AH13","v":0},{"$f":"'23'!$AH14","v":0},{"$f":"'23'!$AH15","v":0},{"$f":"'23'!$AH16","v":"za"},{"$f":"'23'!$AH17","v":"zo"},{"$f":"'23'!$AH18","v":0},{"$f":"'23'!$AH19","v":0},{"$f":"'23'!$AH20","v":0},{"$f":"'23'!$AH21","v":0},{"$f":"'23'!$AH22","v":0},{"$f":"'23'!$AH23","v":"za"},{"$f":"'23'!$AH24","v":"zo"},{"$f":"'23'!$AH25","v":0},{"$f":"'23'!$AH26","v":0},{"$f":"'23'!$AH27","v":0},{"$f":"'23'!$AH28","v":0},{"$f":"'23'!$AH29","v":0},{"$f":"'23'!$AH30","v":"za"},{"$f":"'23'!$AH31","v":"zo"},{"$f":"'23'!$AH32","v":0},{"$f":"'23'!$AH33","v":0},{"$f":"'23'!$AH34","v":"fd"},{"$f":"'23'!$AH35","v":0},{"$f":"'23'!$AH36","v":0},{"$f":"'23'!$AH37","v":"za"},{"$f":"'23'!$AH38","v":"zo"},{"$f":"'23'!$AH39","v":0}]
[25,{"$f":"'25'!$B$1","v":"Vanesse Rudi"},"z","fd",0,0,0,"za","zo",0,0,0,0,0,"za","zo",0,0,0,0,0,"za","zo",0,0,0,0,0,"za","zo",0,0,0,0,0,"za","zo",0,0,0,0,0,"za","zo",0,0,0,0,0,"za","zo",0,0,0,0,0,"za","zo",0,0,0,{"$f":"'25'!$X37","v":0},{"$f":"'25'!$X38","v":0},{"$f":"'25'!$X39","v":0},{"$f":"'25'!$Y9","v":0},{"$f":"'25'!$Y10","v":0},{"$f":"'25'!$Y11","v":"za"},{"$f":"'25'!$Y12","v":"zo"},{"$f":"'25'!$Y13","v":0},{"$f":"'25'!$Y14","v":0},{"$f":"'25'!$Y15","v":0},{"$f":"'25'!$Y16","v":0},{"$f":"'25'!$Y17","v":0},{"$f":"'25'!$Y18","v":"za"},{"$f":"'25'!$Y19","v":"zo"},{"$f":"'25'!$Y20","v":0},{"$f":"'25'!$Y21","v":0},{"$f":"'25'!$Y22","v":0},{"$f":"'25'!$Y23","v":0},{"$f":"'25'!$Y24","v":0},{"$f":"'25'!$Y25","v":"za"},{"$f":"'25'!$Y26","v":"zo"},{"$f":"'25'!$Y27","v":0},{"$f":"'25'!$Y28","v":0},{"$f":"'25'!$Y29","v":0},{"$f":"'25'!$Y30","v":0},{"$f":"'25'!$Y31","v":0},{"$f":"'25'!$Y32","v":"za"},{"$f":"'25'!$Y33","v":"zo"},{"$f":"'25'!$Y34","v":0},{"$f":"'25'!$Y35","v":0},{"$f":"'25'!$Y36","v":0},{"$f":"'25'!$Y37","v":0},{"$f":"'25'!$Y38","v":0},{"$f":"'25'!$Y39","v":"za"},{"$f":"'25'!$Z9","v":"zo"},{"$f":"'25'!$Z10","v":0},{"$f":"'25'!$Z11","v":0},{"$f":"'25'!$Z12","v":0},{"$f":"'25'!$Z13","v":0},{"$f":"'25'!$Z14","v":0},{"$f":"'25'!$Z15","v":"za"},{"$f":"'25'!$Z16","v":"zo"},{"$f":"'25'!$Z17","v":0},{"$f":"'25'!$Z18","v":0},{"$f":"'25'!$Z19","v":0},{"$f":"'25'!$Z20","v":0},{"$f":"'25'!$Z21","v":0},{"$f":"'25'!$Z22","v":"za"},{"$f":"'25'!$Z23","v":"zo"},{"$f":"'25'!$Z24","v":0},{"$f":"'25'!$Z25","v":0},{"$f":"'25'!$Z26","v":0},{"$f":"'25'!$Z27","v":0},{"$f":"'25'!$Z28","v":0},{"$f":"'25'!$Z29","v":"za"},{"$f":"'25'!$Z30","v":"zo"},{"$f":"'25'!$Z31","v":"fd"},{"$f":"'25'!$Z32","v":0},{"$f":"'25'!$Z33","v":0},{"$f":"'25'!$Z34","v":0},{"$f":"'25'!$Z35","v":0},{"$f":"'25'!$Z36","v":"za"},{"$f":"'25'!$Z37","v":"zo"},{"$f":"'25'!$Z38","v":0},{"$f":"'25'!$AA9","v":0},{"$f":"'25'!$AA10","v":"fd"},{"$f":"'25'!$AA11","v":0},{"$f":"'25'!$AA12","v":0},{"$f":"'25'!$AA13","v":"za"},{"$f":"'25'!$AA14","v":"zo"},{"$f":"'25'!$AA15","v":0},{"$f":"'25'!$AA16","v":0},{"$f":"'25'!$AA17","v":0},{"$f":"'25'!$AA18","v":0},{"$f":"'25'!$AA19","v":0},{"$f":"'25'!$AA20","v":"za"},{"$f":"'25'!$AA21","v":"zo"},{"$f":"'25'!$AA22","v":0},{"$f":"'25'!$AA23","v":0},{"$f":"'25'!$AA24","v":0},{"$f":"'25'!$AA25","v":0},{"$f":"'25'!$AA26","v":0},{"$f":"'25'!$AA27","v":"za"},{"$f":"'25'!$AA28","v":"zo"},{"$f":"'25'!$AA29","v":"fd"},{"$f":"'25'!$AA30","v":0},{"$f":"'25'!$AA31","v":0},{"$f":"'25'!$AA32","v":0},{"$f":"'25'!$AA33","v":0},{"$f":"'25'!$AA34","v":"za"},{"$f":"'25'!$AA35","v":"zo"},{"$f":"'25'!$AA36","v":0},{"$f":"'25'!$AA37","v":0},{"$f":"'25'!$AA38","v":0},{"$f":"'25'!$AA39","v":"fd"},{"$f":"'25'!$AB9","v":0},{"$f":"'25'!$AB10","v":"za"},{"$f":"'25'!$AB11","v":"zo"},{"$f":"'25'!$AB12","v":0},{"$f":"'25'!$AB13","v":0},{"$f":"'25'!$AB14","v":0},{"$f":"'25'!$AB15","v":0},{"$f":"'25'!$AB16","v":0},{"$f":"'25'!$AB17","v":"za"},{"$f":"'25'!$AB18","v":"zo"},{"$f":"'25'!$AB19","v":"fd"},{"$f":"'25'!$AB20","v":0},{"$f":"'25'!$AB21","v":0},{"$f":"'25'!$AB22","v":0},{"$f":"'25'!$AB23","v":0},{"$f":"'25'!$AB24","v":"za"},{"$f":"'25'!$AB25","v":"zo"},{"$f":"'25'!$AB26","v":0},{"$f":"'25'!$AB27","v":0},{"$f":"'25'!$AB28","v":0},{"$f":"'25'!$AB29","v":0},{"$f":"'25'!$AB30","v":0},{"$f":"'25'!$AB31","v":"za"},{"$f":"'25'!$AB32","v":"zo"},{"$f":"'25'!$AB33","v":0},{"$f":"'25'!$AB34","v":0},{"$f":"'25'!$AB35","v":0},{"$f":"'25'!$AB36","v":0},{"$f":"'25'!$AB37","v":0},{"$f":"'25'!$AB38","v":"za"},{"$f":"'25'!$AC9","v":"zo"},{"$f":"'25'!$AC10","v":0},{"$f":"'25'!$AC11","v":0},{"$f":"'25'!$AC12","v":0},{"$f":"'25'!$AC13","v":0},{"$f":"'25'!$AC14","v":0},{"$f":"'25'!$AC15","v":"za"},{"$f":"'25'!$AC16","v":"zo"},{"$f":"'25'!$AC17","v":0},{"$f":"'25'!$AC18","v":0},{"$f":"'25'!$AC19","v":0},{"$f":"'25'!$AC20","v":0},{"$f":"'25'!$AC21","v":0},{"$f":"'25'!$AC22","v":"za"},{"$f":"'25'!$AC23","v":"zo"},{"$f":"'25'!$AC24","v":0},{"$f":"'25'!$AC25","v":0},{"$f":"'25'!$AC26","v":0},{"$f":"'25'!$AC27","v":0},{"$f":"'25'!$AC28","v":0},{"$f":"'25'!$AC29","v":"za"},{"$f":"'25'!$AC30","v":"zo"},{"$f":"'25'!$AC31","v":0},{"$f":"'25'!$AC32","v":0},{"$f":"'25'!$AC33","v":0},{"$f":"'25'!$AC34","v":0},{"$f":"'25'!$AC35","v":0},{"$f":"'25'!$AC36","v":"za"},{"$f":"'25'!$AC37","v":"zo"},{"$f":"'25'!$AC38","v":0},{"$f":"'25'!$AC39","v":0},{"$f":"'25'!$AD9","v":0},{"$f":"'25'!$AD10","v":0},{"$f":"'25'!$AD11","v":0},{"$f":"'25'!$AD12","v":"za"},{"$f":"'25'!$AD13","v":"zo"},{"$f":"'25'!$AD14","v":0},{"$f":"'25'!$AD15","v":0},{"$f":"'25'!$AD16","v":0},{"$f":"'25'!$AD17","v":0},{"$f":"'25'!$AD18","v":0},{"$f":"'25'!$AD19","v":"za"},{"$f":"'25'!$AD20","v":"zo"},{"$f":"'25'!$AD21","v":0},{"$f":"'25'!$AD22","v":0},{"$f":"'25'!$AD23","v":0},{"$f":"'25'!$AD24","v":"fd"},{"$f":"'25'!$AD25","v":0},{"$f":"'25'!$AD26","v":"za"},{"$f":"'25'!$AD27","v":"zo"},{"$f":"'25'!$AD28","v":0},{"$f":"'25'!$AD29","v":0},{"$f":"'25'!$AD30","v":0},{"$f":"'25'!$AD31","v":0},{"$f":"'25'!$AD32","v":0},{"$f":"'25'!$AD33","v":"za"},{"$f":"'25'!$AD34","v":"zo"},{"$f":"'25'!$AD35","v":0},{"$f":"'25'!$AD36","v":0},{"$f":"'25'!$AD37","v":0},{"$f":"'25'!$AD38","v":0},{"$f":"'25'!$AD39","v":0},{"$f":"'25'!$AE9","v":"za"},{"$f":"'25'!$AE10","v":"zo"},{"$f":"'25'!$AE11","v":0},{"$f":"'25'!$AE12","v":0},{"$f":"'25'!$AE13","v":0},{"$f":"'25'!$AE14","v":0},{"$f":"'25'!$AE15","v":0},{"$f":"'25'!$AE16","v":"za"},{"$f":"'25'!$AE17","v":"zo"},{"$f":"'25'!$AE18","v":0},{"$f":"'25'!$AE19","v":0},{"$f":"'25'!$AE20","v":0},{"$f":"'25'!$AE21","v":0},{"$f":"'25'!$AE22","v":0},{"$f":"'25'!$AE23","v":"za"},{"$f":"'25'!$AE24","v":"zo"},{"$f":"'25'!$AE25","v":0},{"$f":"'25'!$AE26","v":0},{"$f":"'25'!$AE27","v":0},{"$f":"'25'!$AE28","v":0},{"$f":"'25'!$AE29","v":0},{"$f":"'25'!$AE30","v":"za"},{"$f":"'25'!$AE31","v":"zo"},{"$f":"'25'!$AE32","v":0},{"$f":"'25'!$AE33","v":0},{"$f":"'25'!$AE34","v":0},{"$f":"'25'!$AE35","v":0},{"$f":"'25'!$AE36","v":0},{"$f":"'25'!$AE37","v":"za"},{"$f":"'25'!$AE38","v":"zo"},{"$f":"'25'!$AF9","v":0},{"$f":"'25'!$AF10","v":0},{"$f":"'25'!$AF11","v":0},{"$f":"'25'!$AF12","v":0},{"$f":"'25'!$AF13","v":0},{"$f":"'25'!$AF14","v":"za"},{"$f":"'25'!$AF15","v":"zo"},{"$f":"'25'!$AF16","v":0},{"$f":"'25'!$AF17","v":0},{"$f":"'25'!$AF18","v":0},{"$f":"'25'!$AF19","v":0},{"$f":"'25'!$AF20","v":0},{"$f":"'25'!$AF21","v":"za"},{"$f":"'25'!$AF22","v":"zo"},{"$f":"'25'!$AF23","v":0},{"$f":"'25'!$AF24","v":0},{"$f":"'25'!$AF25","v":0},{"$f":"'25'!$AF26","v":0},{"$f":"'25'!$AF27","v":0},{"$f":"'25'!$AF28","v":"za"},{"$f":"'25'!$AF29","v":"zo"},{"$f":"'25'!$AF30","v":0},{"$f":"'25'!$AF31","v":0},{"$f":"'25'!$AF32","v":0},{"$f":"'25'!$AF33","v":0},{"$f":"'25'!$AF34","v":0},{"$f":"'25'!$AF35","v":"za"},{"$f":"'25'!$AF36","v":"zo"},{"$f":"'25'!$AF37","v":0},{"$f":"'25'!$AF38","v":0},{"$f":"'25'!$AF39","v":0},{"$f":"'25'!$AG9","v":0},{"$f":"'25'!$AG10","v":"fd"},{"$f":"'25'!$AG11","v":"za"},{"$f":"'25'!$AG12","v":"zo"},{"$f":"'25'!$AG13","v":0},{"$f":"'25'!$AG14","v":0},{"$f":"'25'!$AG15","v":0},{"$f":"'25'!$AG16","v":0},{"$f":"'25'!$AG17","v":0},{"$f":"'25'!$AG18","v":"za"},{"$f":"'25'!$AG19","v":"zo"},{"$f":"'25'!$AG20","v":"fd"},{"$f":"'25'!$AG21","v":0},{"$f":"'25'!$AG22","v":0},{"$f":"'25'!$AG23","v":0},{"$f":"'25'!$AG24","v":0},{"$f":"'25'!$AG25","v":"za"},{"$f":"'25'!$AG26","v":"zo"},{"$f":"'25'!$AG27","v":0},{"$f":"'25'!$AG28","v":0},{"$f":"'25'!$AG29","v":0},{"$f":"'25'!$AG30","v":0},{"$f":"'25'!$AG31","v":0},{"$f":"'25'!$AG32","v":"za"},{"$f":"'25'!$AG33","v":"zo"},{"$f":"'25'!$AG34","v":0},{"$f":"'25'!$AG35","v":0},{"$f":"'25'!$AG36","v":0},{"$f":"'25'!$AG37","v":0},{"$f":"'25'!$AG38","v":0},{"$f":"'25'!$AH9","v":"za"},{"$f":"'25'!$AH10","v":"zo"},{"$f":"'25'!$AH11","v":0},{"$f":"'25'!$AH12","v":0},{"$f":"'25'!$AH13","v":0},{"$f":"'25'!$AH14","v":0},{"$f":"'25'!$AH15","v":0},{"$f":"'25'!$AH16","v":"za"},{"$f":"'25'!$AH17","v":"zo"},{"$f":"'25'!$AH18","v":0},{"$f":"'25'!$AH19","v":0},{"$f":"'25'!$AH20","v":0},{"$f":"'25'!$AH21","v":0},{"$f":"'25'!$AH22","v":0},{"$f":"'25'!$AH23","v":"za"},{"$f":"'25'!$AH24","v":"zo"},{"$f":"'25'!$AH25","v":0},{"$f":"'25'!$AH26","v":0},{"$f":"'25'!$AH27","v":0},{"$f":"'25'!$AH28","v":0},{"$f":"'25'!$AH29","v":0},{"$f":"'25'!$AH30","v":"za"},{"$f":"'25'!$AH31","v":"zo"},{"$f":"'25'!$AH32","v":0},{"$f":"'25'!$AH33","v":0},{"$f":"'25'!$AH34","v":"fd"},{"$f":"'25'!$AH35","v":0},{"$f":"'25'!$AH36","v":0},{"$f":"'25'!$AH37","v":"za"},{"$f":"'25'!$AH38","v":"zo"},{"$f":"'25'!$AH39","v":0}]
["42",{"$f":"'42'!$B$1","v":"Bauwens Irvin"},"OK","fd","z",0,0,"za","zo",0,0,0,0,0,"za","zo",0,0,0,0,0,"za","zo",0,0,0,0,0,"za","zo",0,0,0,0,0,"za","zo",0,0,0,0,0,"za","zo",0,0,0,0,0,"za","zo",0,0,0,0,0,"za","zo",0,0,0,{"$f":"'42'!$X37","v":0},{"$f":"'42'!$X38","v":0},{"$f":"'42'!$X39","v":0},{"$f":"'42'!$Y9","v":0},{"$f":"'42'!$Y10","v":0},{"$f":"'42'!$Y11","v":"za"},{"$f":"'42'!$Y12","v":"zo"},{"$f":"'42'!$Y13","v":0},{"$f":"'42'!$Y14","v":0},{"$f":"'42'!$Y15","v":0},{"$f":"'42'!$Y16","v":0},{"$f":"'42'!$Y17","v":0},{"$f":"'42'!$Y18","v":"za"},{"$f":"'42'!$Y19","v":"zo"},{"$f":"'42'!$Y20","v":0},{"$f":"'42'!$Y21","v":0},{"$f":"'42'!$Y22","v":0},{"$f":"'42'!$Y23","v":0},{"$f":"'42'!$Y24","v":0},{"$f":"'42'!$Y25","v":"za"},{"$f":"'42'!$Y26","v":"zo"},{"$f":"'42'!$Y27","v":0},{"$f":"'42'!$Y28","v":0},{"$f":"'42'!$Y29","v":0},{"$f":"'42'!$Y30","v":0},{"$f":"'42'!$Y31","v":0},{"$f":"'42'!$Y32","v":"za"},{"$f":"'42'!$Y33","v":"zo"},{"$f":"'42'!$Y34","v":0},{"$f":"'42'!$Y35","v":0},{"$f":"'42'!$Y36","v":0},{"$f":"'42'!$Y37","v":0},{"$f":"'42'!$Y38","v":0},{"$f":"'42'!$Y39","v":"za"},{"$f":"'42'!$Z9","v":"zo"},{"$f":"'42'!$Z10","v":0},{"$f":"'42'!$Z11","v":0},{"$f":"'42'!$Z12","v":0},{"$f":"'42'!$Z13","v":0},{"$f":"'42'!$Z14","v":0},{"$f":"'42'!$Z15","v":"za"},{"$f":"'42'!$Z16","v":"zo"},{"$f":"'42'!$Z17","v":0},{"$f":"'42'!$Z18","v":0},{"$f":"'42'!$Z19","v":0},{"$f":"'42'!$Z20","v":0},{"$f":"'42'!$Z21","v":0},{"$f":"'42'!$Z22","v":"za"},{"$f":"'42'!$Z23","v":"zo"},{"$f":"'42'!$Z24","v":0},{"$f":"'42'!$Z25","v":0},{"$f":"'42'!$Z26","v":0},{"$f":"'42'!$Z27","v":0},{"$f":"'42'!$Z28","v":0},{"$f":"'42'!$Z29","v":"za"},{"$f":"'42'!$Z30","v":"zo"},{"$f":"'42'!$Z31","v":"fd"},{"$f":"'42'!$Z32","v":0},{"$f":"'42'!$Z33","v":0},{"$f":"'42'!$Z34","v":0},{"$f":"'42'!$Z35","v":0},{"$f":"'42'!$Z36","v":"za"},{"$f":"'42'!$Z37","v":"zo"},{"$f":"'42'!$Z38","v":0},{"$f":"'42'!$AA9","v":0},{"$f":"'42'!$AA10","v":"fd"},{"$f":"'42'!$AA11","v":0},{"$f":"'42'!$AA12","v":0},{"$f":"'42'!$AA13","v":"za"},{"$f":"'42'!$AA14","v":"zo"},{"$f":"'42'!$AA15","v":0},{"$f":"'42'!$AA16","v":0},{"$f":"'42'!$AA17","v":0},{"$f":"'42'!$AA18","v":0},{"$f":"'42'!$AA19","v":0},{"$f":"'42'!$AA20","v":"za"},{"$f":"'42'!$AA21","v":"zo"},{"$f":"'42'!$AA22","v":0},{"$f":"'42'!$AA23","v":0},{"$f":"'42'!$AA24","v":0},{"$f":"'42'!$AA25","v":0},{"$f":"'42'!$AA26","v":0},{"$f":"'42'!$AA27","v":"za"},{"$f":"'42'!$AA28","v":"zo"},{"$f":"'42'!$AA29","v":"fd"},{"$f":"'42'!$AA30","v":0},{"$f":"'42'!$AA31","v":0},{"$f":"'42'!$AA32","v":0},{"$f":"'42'!$AA33","v":0},{"$f":"'42'!$AA34","v":"za"},{"$f":"'42'!$AA35","v":"zo"},{"$f":"'42'!$AA36","v":0},{"$f":"'42'!$AA37","v":0},{"$f":"'42'!$AA38","v":0},{"$f":"'42'!$AA39","v":"fd"},{"$f":"'42'!$AB9","v":0},{"$f":"'42'!$AB10","v":"za"},{"$f":"'42'!$AB11","v":"zo"},{"$f":"'42'!$AB12","v":0},{"$f":"'42'!$AB13","v":0},{"$f":"'42'!$AB14","v":0},{"$f":"'42'!$AB15","v":0},{"$f":"'42'!$AB16","v":0},{"$f":"'42'!$AB17","v":"za"},{"$f":"'42'!$AB18","v":"zo"},{"$f":"'42'!$AB19","v":"fd"},{"$f":"'42'!$AB20","v":0},{"$f":"'42'!$AB21","v":0},{"$f":"'42'!$AB22","v":0},{"$f":"'42'!$AB23","v":0},{"$f":"'42'!$AB24","v":"za"},{"$f":"'42'!$AB25","v":"zo"},{"$f":"'42'!$AB26","v":0},{"$f":"'42'!$AB27","v":0},{"$f":"'42'!$AB28","v":0},{"$f":"'42'!$AB29","v":0},{"$f":"'42'!$AB30","v":0},{"$f":"'42'!$AB31","v":"za"},{"$f":"'42'!$AB32","v":"zo"},{"$f":"'42'!$AB33","v":0},{"$f":"'42'!$AB34","v":0},{"$f":"'42'!$AB35","v":0},{"$f":"'42'!$AB36","v":0},{"$f":"'42'!$AB37","v":0},{"$f":"'42'!$AB38","v":"za"},{"$f":"'42'!$AC9","v":"zo"},{"$f":"'42'!$AC10","v":0},{"$f":"'42'!$AC11","v":0},{"$f":"'42'!$AC12","v":0},{"$f":"'42'!$AC13","v":0},{"$f":"'42'!$AC14","v":0},{"$f":"'42'!$AC15","v":"za"},{"$f":"'42'!$AC16","v":"zo"},{"$f":"'42'!$AC17","v":0},{"$f":"'42'!$AC18","v":0},{"$f":"'42'!$AC19","v":0},{"$f":"'42'!$AC20","v":0},{"$f":"'42'!$AC21","v":0},{"$f":"'42'!$AC22","v":"za"},{"$f":"'42'!$AC23","v":"zo"},{"$f":"'42'!$AC24","v":0},{"$f":"'42'!$AC25","v":0},{"$f":"'42'!$AC26","v":0},{"$f":"'42'!$AC27","v":0},{"$f":"'42'!$AC28","v":0},{"$f":"'42'!$AC29","v":"za"},{"$f":"'42'!$AC30","v":"zo"},{"$f":"'42'!$AC31","v":0},{"$f":"'42'!$AC32","v":0},{"$f":"'42'!$AC33","v":0},{"$f":"'42'!$AC34","v":0},{"$f":"'42'!$AC35","v":0},{"$f":"'42'!$AC36","v":"za"},{"$f":"'42'!$AC37","v":"zo"},{"$f":"'42'!$AC38","v":0},{"$f":"'42'!$AC39","v":0},{"$f":"'42'!$AD9","v":0},{"$f":"'42'!$AD10","v":0},{"$f":"'42'!$AD11","v":0},{"$f":"'42'!$AD12","v":"za"},{"$f":"'42'!$AD13","v":"zo"},{"$f":"'42'!$AD14","v":0},{"$f":"'42'!$AD15","v":0},{"$f":"'42'!$AD16","v":0},{"$f":"'42'!$AD17","v":0},{"$f":"'42'!$AD18","v":0},{"$f":"'42'!$AD19","v":"za"},{"$f":"'42'!$AD20","v":"zo"},{"$f":"'42'!$AD21","v":0},{"$f":"'42'!$AD22","v":0},{"$f":"'42'!$AD23","v":0},{"$f":"'42'!$AD24","v":"fd"},{"$f":"'42'!$AD25","v":0},{"$f":"'42'!$AD26","v":"za"},{"$f":"'42'!$AD27","v":"zo"},{"$f":"'42'!$AD28","v":0},{"$f":"'42'!$AD29","v":0},{"$f":"'42'!$AD30","v":0},{"$f":"'42'!$AD31","v":0},{"$f":"'42'!$AD32","v":0},{"$f":"'42'!$AD33","v":"za"},{"$f":"'42'!$AD34","v":"zo"},{"$f":"'42'!$AD35","v":0},{"$f":"'42'!$AD36","v":0},{"$f":"'42'!$AD37","v":0},{"$f":"'42'!$AD38","v":0},{"$f":"'42'!$AD39","v":0},{"$f":"'42'!$AE9","v":"za"},{"$f":"'42'!$AE10","v":"zo"},{"$f":"'42'!$AE11","v":0},{"$f":"'42'!$AE12","v":0},{"$f":"'42'!$AE13","v":0},{"$f":"'42'!$AE14","v":0},{"$f":"'42'!$AE15","v":0},{"$f":"'42'!$AE16","v":"za"},{"$f":"'42'!$AE17","v":"zo"},{"$f":"'42'!$AE18","v":0},{"$f":"'42'!$AE19","v":0},{"$f":"'42'!$AE20","v":0},{"$f":"'42'!$AE21","v":0},{"$f":"'42'!$AE22","v":0},{"$f":"'42'!$AE23","v":"za"},{"$f":"'42'!$AE24","v":"zo"},{"$f":"'42'!$AE25","v":0},{"$f":"'42'!$AE26","v":0},{"$f":"'42'!$AE27","v":0},{"$f":"'42'!$AE28","v":0},{"$f":"'42'!$AE29","v":0},{"$f":"'42'!$AE30","v":"za"},{"$f":"'42'!$AE31","v":"zo"},{"$f":"'42'!$AE32","v":0},{"$f":"'42'!$AE33","v":0},{"$f":"'42'!$AE34","v":0},{"$f":"'42'!$AE35","v":0},{"$f":"'42'!$AE36","v":0},{"$f":"'42'!$AE37","v":"za"},{"$f":"'42'!$AE38","v":"zo"},{"$f":"'42'!$AF9","v":0},{"$f":"'42'!$AF10","v":0},{"$f":"'42'!$AF11","v":0},{"$f":"'42'!$AF12","v":0},{"$f":"'42'!$AF13","v":0},{"$f":"'42'!$AF14","v":"za"},{"$f":"'42'!$AF15","v":"zo"},{"$f":"'42'!$AF16","v":0},{"$f":"'42'!$AF17","v":0},{"$f":"'42'!$AF18","v":0},{"$f":"'42'!$AF19","v":0},{"$f":"'42'!$AF20","v":0},{"$f":"'42'!$AF21","v":"za"},{"$f":"'42'!$AF22","v":"zo"},{"$f":"'42'!$AF23","v":0},{"$f":"'42'!$AF24","v":0},{"$f":"'42'!$AF25","v":0},{"$f":"'42'!$AF26","v":0},{"$f":"'42'!$AF27","v":0},{"$f":"'42'!$AF28","v":"za"},{"$f":"'42'!$AF29","v":"zo"},{"$f":"'42'!$AF30","v":0},{"$f":"'42'!$AF31","v":0},{"$f":"'42'!$AF32","v":0},{"$f":"'42'!$AF33","v":0},{"$f":"'42'!$AF34","v":0},{"$f":"'42'!$AF35","v":"za"},{"$f":"'42'!$AF36","v":"zo"},{"$f":"'42'!$AF37","v":0},{"$f":"'42'!$AF38","v":0},{"$f":"'42'!$AF39","v":0},{"$f":"'42'!$AG9","v":0},{"$f":"'42'!$AG10","v":"fd"},{"$f":"'42'!$AG11","v":"za"},{"$f":"'42'!$AG12","v":"zo"},{"$f":"'42'!$AG13","v":0},{"$f":"'42'!$AG14","v":0},{"$f":"'42'!$AG15","v":0},{"$f":"'42'!$AG16","v":0},{"$f":"'42'!$AG17","v":0},{"$f":"'42'!$AG18","v":"za"},{"$f":"'42'!$AG19","v":"zo"},{"$f":"'42'!$AG20","v":"fd"},{"$f":"'42'!$AG21","v":0},{"$f":"'42'!$AG22","v":0},{"$f":"'42'!$AG23","v":0},{"$f":"'42'!$AG24","v":0},{"$f":"'42'!$AG25","v":"za"},{"$f":"'42'!$AG26","v":"zo"},{"$f":"'42'!$AG27","v":0},{"$f":"'42'!$AG28","v":0},{"$f":"'42'!$AG29","v":0},{"$f":"'42'!$AG30","v":0},{"$f":"'42'!$AG31","v":0},{"$f":"'42'!$AG32","v":"za"},{"$f":"'42'!$AG33","v":"zo"},{"$f":"'42'!$AG34","v":0},{"$f":"'42'!$AG35","v":0},{"$f":"'42'!$AG36","v":0},{"$f":"'42'!$AG37","v":0},{"$f":"'42'!$AG38","v":0},{"$f":"'42'!$AH9","v":"za"},{"$f":"'42'!$AH10","v":"zo"},{"$f":"'42'!$AH11","v":0},{"$f":"'42'!$AH12","v":0},{"$f":"'42'!$AH13","v":0},{"$f":"'42'!$AH14","v":0},{"$f":"'42'!$AH15","v":0},{"$f":"'42'!$AH16","v":"za"},{"$f":"'42'!$AH17","v":"zo"},{"$f":"'42'!$AH18","v":0},{"$f":"'42'!$AH19","v":0},{"$f":"'42'!$AH20","v":0},{"$f":"'42'!$AH21","v":0},{"$f":"'42'!$AH22","v":0},{"$f":"'42'!$AH23","v":"za"},{"$f":"'42'!$AH24","v":"zo"},{"$f":"'42'!$AH25","v":0},{"$f":"'42'!$AH26","v":0},{"$f":"'42'!$AH27","v":0},{"$f":"'42'!$AH28","v":0},{"$f":"'42'!$AH29","v":0},{"$f":"'42'!$AH30","v":"za"},{"$f":"'42'!$AH31","v":"zo"},{"$f":"'42'!$AH32","v":0},{"$f":"'42'!$AH33","v":0},{"$f":"'42'!$AH34","v":"fd"},{"$f":"'42'!$AH35","v":0},{"$f":"'42'!$AH36","v":0},{"$f":"'42'!$AH37","v":"za"},{"$f":"'42'!$AH38","v":"zo"},{"$f":"'42'!$AH39","v":0}]
[43,{"$f":"'43'!$B$1","v":"Barrera Ernesto"},"OK","fd","vvj","vvj",0,"za","zo",0,0,0,0,0,"za","zo",0,0,0,0,0,"za","zo",0,0,0,0,0,"za","zo",0,0,0,0,0,"za","zo",0,0,0,0,0,"za","zo",0,0,0,0,0,"za","zo",0,0,0,0,0,"za","zo",0,0,0,{"$f":"'43'!$X37","v":0},{"$f":"'43'!$X38","v":0},{"$f":"'43'!$X39","v":0},{"$f":"'43'!$Y9","v":0},{"$f":"'43'!$Y10","v":0},{"$f":"'43'!$Y11","v":"za"},{"$f":"'43'!$Y12","v":"zo"},{"$f":"'43'!$Y13","v":0},{"$f":"'43'!$Y14","v":0},{"$f":"'43'!$Y15","v":0},{"$f":"'43'!$Y16","v":0},{"$f":"'43'!$Y17","v":0},{"$f":"'43'!$Y18","v":"za"},{"$f":"'43'!$Y19","v":"zo"},{"$f":"'43'!$Y20","v":0},{"$f":"'43'!$Y21","v":0},{"$f":"'43'!$Y22","v":0},{"$f":"'43'!$Y23","v":0},{"$f":"'43'!$Y24","v":0},{"$f":"'43'!$Y25","v":"za"},{"$f":"'43'!$Y26","v":"zo"},{"$f":"'43'!$Y27","v":0},{"$f":"'43'!$Y28","v":0},{"$f":"'43'!$Y29","v":0},{"$f":"'43'!$Y30","v":0},{"$f":"'43'!$Y31","v":0},{"$f":"'43'!$Y32","v":"za"},{"$f":"'43'!$Y33","v":"zo"},{"$f":"'43'!$Y34","v":0},{"$f":"'43'!$Y35","v":0},{"$f":"'43'!$Y36","v":0},{"$f":"'43'!$Y37","v":0},{"$f":"'43'!$Y38","v":0},{"$f":"'43'!$Y39","v":"za"},{"$f":"'43'!$Z9","v":"zo"},{"$f":"'43'!$Z10","v":0},{"$f":"'43'!$Z11","v":0},{"$f":"'43'!$Z12","v":0},{"$f":"'43'!$Z13","v":0},{"$f":"'43'!$Z14","v":0},{"$f":"'43'!$Z15","v":"za"},{"$f":"'43'!$Z16","v":"zo"},{"$f":"'43'!$Z17","v":0},{"$f":"'43'!$Z18","v":0},{"$f":"'43'!$Z19","v":0},{"$f":"'43'!$Z20","v":0},{"$f":"'43'!$Z21","v":0},{"$f":"'43'!$Z22","v":"za"},{"$f":"'43'!$Z23","v":"zo"},{"$f":"'43'!$Z24","v":0},{"$f":"'43'!$Z25","v":0},{"$f":"'43'!$Z26","v":0},{"$f":"'43'!$Z27","v":0},{"$f":"'43'!$Z28","v":0},{"$f":"'43'!$Z29","v":"za"},{"$f":"'43'!$Z30","v":"zo"},{"$f":"'43'!$Z31","v":"fd"},{"$f":"'43'!$Z32","v":0},{"$f":"'43'!$Z33","v":0},{"$f":"'43'!$Z34","v":0},{"$f":"'43'!$Z35","v":0},{"$f":"'43'!$Z36","v":"za"},{"$f":"'43'!$Z37","v":"zo"},{"$f":"'43'!$Z38","v":0},{"$f":"'43'!$AA9","v":0},{"$f":"'43'!$AA10","v":"fd"},{"$f":"'43'!$AA11","v":0},{"$f":"'43'!$AA12","v":0},{"$f":"'43'!$AA13","v":"za"},{"$f":"'43'!$AA14","v":"zo"},{"$f":"'43'!$AA15","v":0},{"$f":"'43'!$AA16","v":0},{"$f":"'43'!$AA17","v":0},{"$f":"'43'!$AA18","v":0},{"$f":"'43'!$AA19","v":0},{"$f":"'43'!$AA20","v":"za"},{"$f":"'43'!$AA21","v":"zo"},{"$f":"'43'!$AA22","v":0},{"$f":"'43'!$AA23","v":0},{"$f":"'43'!$AA24","v":0},{"$f":"'43'!$AA25","v":0},{"$f":"'43'!$AA26","v":0},{"$f":"'43'!$AA27","v":"za"},{"$f":"'43'!$AA28","v":"zo"},{"$f":"'43'!$AA29","v":"fd"},{"$f":"'43'!$AA30","v":0},{"$f":"'43'!$AA31","v":0},{"$f":"'43'!$AA32","v":0},{"$f":"'43'!$AA33","v":0},{"$f":"'43'!$AA34","v":"za"},{"$f":"'43'!$AA35","v":"zo"},{"$f":"'43'!$AA36","v":0},{"$f":"'43'!$AA37","v":0},{"$f":"'43'!$AA38","v":0},{"$f":"'43'!$AA39","v":"fd"},{"$f":"'43'!$AB9","v":0},{"$f":"'43'!$AB10","v":"za"},{"$f":"'43'!$AB11","v":"zo"},{"$f":"'43'!$AB12","v":0},{"$f":"'43'!$AB13","v":0},{"$f":"'43'!$AB14","v":0},{"$f":"'43'!$AB15","v":0},{"$f":"'43'!$AB16","v":0},{"$f":"'43'!$AB17","v":"za"},{"$f":"'43'!$AB18","v":"zo"},{"$f":"'43'!$AB19","v":"fd"},{"$f":"'43'!$AB20","v":0},{"$f":"'43'!$AB21","v":0},{"$f":"'43'!$AB22","v":0},{"$f":"'43'!$AB23","v":0},{"$f":"'43'!$AB24","v":"za"},{"$f":"'43'!$AB25","v":"zo"},{"$f":"'43'!$AB26","v":0},{"$f":"'43'!$AB27","v":0},{"$f":"'43'!$AB28","v":0},{"$f":"'43'!$AB29","v":0},{"$f":"'43'!$AB30","v":0},{"$f":"'43'!$AB31","v":"za"},{"$f":"'43'!$AB32","v":"zo"},{"$f":"'43'!$AB33","v":0},{"$f":"'43'!$AB34","v":0},{"$f":"'43'!$AB35","v":0},{"$f":"'43'!$AB36","v":0},{"$f":"'43'!$AB37","v":0},{"$f":"'43'!$AB38","v":"za"},{"$f":"'43'!$AC9","v":"zo"},{"$f":"'43'!$AC10","v":0},{"$f":"'43'!$AC11","v":0},{"$f":"'43'!$AC12","v":0},{"$f":"'43'!$AC13","v":0},{"$f":"'43'!$AC14","v":0},{"$f":"'43'!$AC15","v":"za"},{"$f":"'43'!$AC16","v":"zo"},{"$f":"'43'!$AC17","v":0},{"$f":"'43'!$AC18","v":0},{"$f":"'43'!$AC19","v":0},{"$f":"'43'!$AC20","v":0},{"$f":"'43'!$AC21","v":0},{"$f":"'43'!$AC22","v":"za"},{"$f":"'43'!$AC23","v":"zo"},{"$f":"'43'!$AC24","v":0},{"$f":"'43'!$AC25","v":0},{"$f":"'43'!$AC26","v":0},{"$f":"'43'!$AC27","v":0},{"$f":"'43'!$AC28","v":0},{"$f":"'43'!$AC29","v":"za"},{"$f":"'43'!$AC30","v":"zo"},{"$f":"'43'!$AC31","v":0},{"$f":"'43'!$AC32","v":0},{"$f":"'43'!$AC33","v":0},{"$f":"'43'!$AC34","v":0},{"$f":"'43'!$AC35","v":0},{"$f":"'43'!$AC36","v":"za"},{"$f":"'43'!$AC37","v":"zo"},{"$f":"'43'!$AC38","v":0},{"$f":"'43'!$AC39","v":0},{"$f":"'43'!$AD9","v":0},{"$f":"'43'!$AD10","v":0},{"$f":"'43'!$AD11","v":0},{"$f":"'43'!$AD12","v":"za"},{"$f":"'43'!$AD13","v":"zo"},{"$f":"'43'!$AD14","v":0},{"$f":"'43'!$AD15","v":0},{"$f":"'43'!$AD16","v":0},{"$f":"'43'!$AD17","v":0},{"$f":"'43'!$AD18","v":0},{"$f":"'43'!$AD19","v":"za"},{"$f":"'43'!$AD20","v":"zo"},{"$f":"'43'!$AD21","v":0},{"$f":"'43'!$AD22","v":0},{"$f":"'43'!$AD23","v":0},{"$f":"'43'!$AD24","v":"fd"},{"$f":"'43'!$AD25","v":0},{"$f":"'43'!$AD26","v":"za"},{"$f":"'43'!$AD27","v":"zo"},{"$f":"'43'!$AD28","v":0},{"$f":"'43'!$AD29","v":0},{"$f":"'43'!$AD30","v":0},{"$f":"'43'!$AD31","v":0},{"$f":"'43'!$AD32","v":0},{"$f":"'43'!$AD33","v":"za"},{"$f":"'43'!$AD34","v":"zo"},{"$f":"'43'!$AD35","v":0},{"$f":"'43'!$AD36","v":0},{"$f":"'43'!$AD37","v":0},{"$f":"'43'!$AD38","v":0},{"$f":"'43'!$AD39","v":0},{"$f":"'43'!$AE9","v":"za"},{"$f":"'43'!$AE10","v":"zo"},{"$f":"'43'!$AE11","v":0},{"$f":"'43'!$AE12","v":0},{"$f":"'43'!$AE13","v":0},{"$f":"'43'!$AE14","v":0},{"$f":"'43'!$AE15","v":0},{"$f":"'43'!$AE16","v":"za"},{"$f":"'43'!$AE17","v":"zo"},{"$f":"'43'!$AE18","v":0},{"$f":"'43'!$AE19","v":0},{"$f":"'43'!$AE20","v":0},{"$f":"'43'!$AE21","v":0},{"$f":"'43'!$AE22","v":0},{"$f":"'43'!$AE23","v":"za"},{"$f":"'43'!$AE24","v":"zo"},{"$f":"'43'!$AE25","v":0},{"$f":"'43'!$AE26","v":0},{"$f":"'43'!$AE27","v":0},{"$f":"'43'!$AE28","v":0},{"$f":"'43'!$AE29","v":0},{"$f":"'43'!$AE30","v":"za"},{"$f":"'43'!$AE31","v":"zo"},{"$f":"'43'!$AE32","v":0},{"$f":"'43'!$AE33","v":0},{"$f":"'43'!$AE34","v":0},{"$f":"'43'!$AE35","v":0},{"$f":"'43'!$AE36","v":0},{"$f":"'43'!$AE37","v":"za"},{"$f":"'43'!$AE38","v":"zo"},{"$f":"'43'!$AF9","v":0},{"$f":"'43'!$AF10","v":0},{"$f":"'43'!$AF11","v":0},{"$f":"'43'!$AF12","v":0},{"$f":"'43'!$AF13","v":0},{"$f":"'43'!$AF14","v":"za"},{"$f":"'43'!$AF15","v":"zo"},{"$f":"'43'!$AF16","v":0},{"$f":"'43'!$AF17","v":0},{"$f":"'43'!$AF18","v":0},{"$f":"'43'!$AF19","v":0},{"$f":"'43'!$AF20","v":0},{"$f":"'43'!$AF21","v":"za"},{"$f":"'43'!$AF22","v":"zo"},{"$f":"'43'!$AF23","v":0},{"$f":"'43'!$AF24","v":0},{"$f":"'43'!$AF25","v":0},{"$f":"'43'!$AF26","v":0},{"$f":"'43'!$AF27","v":0},{"$f":"'43'!$AF28","v":"za"},{"$f":"'43'!$AF29","v":"zo"},{"$f":"'43'!$AF30","v":0},{"$f":"'43'!$AF31","v":0},{"$f":"'43'!$AF32","v":0},{"$f":"'43'!$AF33","v":0},{"$f":"'43'!$AF34","v":0},{"$f":"'43'!$AF35","v":"za"},{"$f":"'43'!$AF36","v":"zo"},{"$f":"'43'!$AF37","v":0},{"$f":"'43'!$AF38","v":0},{"$f":"'43'!$AF39","v":0},{"$f":"'43'!$AG9","v":0},{"$f":"'43'!$AG10","v":"fd"},{"$f":"'43'!$AG11","v":"za"},{"$f":"'43'!$AG12","v":"zo"},{"$f":"'43'!$AG13","v":0},{"$f":"'43'!$AG14","v":0},{"$f":"'43'!$AG15","v":0},{"$f":"'43'!$AG16","v":0},{"$f":"'43'!$AG17","v":0},{"$f":"'43'!$AG18","v":"za"},{"$f":"'43'!$AG19","v":"zo"},{"$f":"'43'!$AG20","v":"fd"},{"$f":"'43'!$AG21","v":0},{"$f":"'43'!$AG22","v":0},{"$f":"'43'!$AG23","v":0},{"$f":"'43'!$AG24","v":0},{"$f":"'43'!$AG25","v":"za"},{"$f":"'43'!$AG26","v":"zo"},{"$f":"'43'!$AG27","v":0},{"$f":"'43'!$AG28","v":0},{"$f":"'43'!$AG29","v":0},{"$f":"'43'!$AG30","v":0},{"$f":"'43'!$AG31","v":0},{"$f":"'43'!$AG32","v":"za"},{"$f":"'43'!$AG33","v":"zo"},{"$f":"'43'!$AG34","v":0},{"$f":"'43'!$AG35","v":0},{"$f":"'43'!$AG36","v":0},{"$f":"'43'!$AG37","v":0},{"$f":"'43'!$AG38","v":0},{"$f":"'43'!$AH9","v":"za"},{"$f":"'43'!$AH10","v":"zo"},{"$f":"'43'!$AH11","v":0},{"$f":"'43'!$AH12","v":0},{"$f":"'43'!$AH13","v":0},{"$f":"'43'!$AH14","v":0},{"$f":"'43'!$AH15","v":0},{"$f":"'43'!$AH16","v":"za"},{"$f":"'43'!$AH17","v":"zo"},{"$f":"'43'!$AH18","v":0},{"$f":"'43'!$AH19","v":0},{"$f":"'43'!$AH20","v":0},{"$f":"'43'!$AH21","v":0},{"$f":"'43'!$AH22","v":0},{"$f":"'43'!$AH23","v":"za"},{"$f":"'43'!$AH24","v":"zo"},{"$f":"'43'!$AH25","v":0},{"$f":"'43'!$AH26","v":0},{"$f":"'43'!$AH27","v":0},{"$f":"'43'!$AH28","v":0},{"$f":"'43'!$AH29","v":0},{"$f":"'43'!$AH30","v":"za"},{"$f":"'43'!$AH31","v":"zo"},{"$f":"'43'!$AH32","v":0},{"$f":"'43'!$AH33","v":0},{"$f":"'43'!$AH34","v":"fd"},{"$f":"'43'!$AH35","v":0},{"$f":"'43'!$AH36","v":0},{"$f":"'43'!$AH37","v":"za"},{"$f":"'43'!$AH38","v":"zo"},{"$f":"'43'!$AH39","v":0}]
[54,{"$f":"'54'!$B$1","v":"Karaca Ramazan"},"GA","fd","GA","GA","GA","za","zo",0,0,0,0,0,"za","zo",0,0,0,0,0,"za","zo",0,0,0,0,0,"za","zo",0,0,0,0,0,"za","zo",0,0,0,0,0,"za","zo",0,0,0,0,0,"za","zo",0,0,0,0,0,"za","zo",0,0,0,{"$f":"'54'!$X37","v":0},{"$f":"'54'!$X38","v":0},{"$f":"'54'!$X39","v":0},{"$f":"'54'!$Y9","v":0},{"$f":"'54'!$Y10","v":0},{"$f":"'54'!$Y11","v":"za"},{"$f":"'54'!$Y12","v":"zo"},{"$f":"'54'!$Y13","v":0},{"$f":"'54'!$Y14","v":0},{"$f":"'54'!$Y15","v":0},{"$f":"'54'!$Y16","v":0},{"$f":"'54'!$Y17","v":0},{"$f":"'54'!$Y18","v":"za"},{"$f":"'54'!$Y19","v":"zo"},{"$f":"'54'!$Y20","v":0},{"$f":"'54'!$Y21","v":0},{"$f":"'54'!$Y22","v":0},{"$f":"'54'!$Y23","v":0},{"$f":"'54'!$Y24","v":0},{"$f":"'54'!$Y25","v":"za"},{"$f":"'54'!$Y26","v":"zo"},{"$f":"'54'!$Y27","v":0},{"$f":"'54'!$Y28","v":0},{"$f":"'54'!$Y29","v":0},{"$f":"'54'!$Y30","v":0},{"$f":"'54'!$Y31","v":0},{"$f":"'54'!$Y32","v":"za"},{"$f":"'54'!$Y33","v":"zo"},{"$f":"'54'!$Y34","v":0},{"$f":"'54'!$Y35","v":0},{"$f":"'54'!$Y36","v":0},{"$f":"'54'!$Y37","v":0},{"$f":"'54'!$Y38","v":0},{"$f":"'54'!$Y39","v":"za"},{"$f":"'54'!$Z9","v":"zo"},{"$f":"'54'!$Z10","v":0},{"$f":"'54'!$Z11","v":0},{"$f":"'54'!$Z12","v":0},{"$f":"'54'!$Z13","v":0},{"$f":"'54'!$Z14","v":0},{"$f":"'54'!$Z15","v":"za"},{"$f":"'54'!$Z16","v":"zo"},{"$f":"'54'!$Z17","v":0},{"$f":"'54'!$Z18","v":0},{"$f":"'54'!$Z19","v":0},{"$f":"'54'!$Z20","v":0},{"$f":"'54'!$Z21","v":0},{"$f":"'54'!$Z22","v":"za"},{"$f":"'54'!$Z23","v":"zo"},{"$f":"'54'!$Z24","v":0},{"$f":"'54'!$Z25","v":0},{"$f":"'54'!$Z26","v":0},{"$f":"'54'!$Z27","v":0},{"$f":"'54'!$Z28","v":0},{"$f":"'54'!$Z29","v":"za"},{"$f":"'54'!$Z30","v":"zo"},{"$f":"'54'!$Z31","v":"fd"},{"$f":"'54'!$Z32","v":0},{"$f":"'54'!$Z33","v":0},{"$f":"'54'!$Z34","v":0},{"$f":"'54'!$Z35","v":0},{"$f":"'54'!$Z36","v":"za"},{"$f":"'54'!$Z37","v":"zo"},{"$f":"'54'!$Z38","v":0},{"$f":"'54'!$AA9","v":0},{"$f":"'54'!$AA10","v":"fd"},{"$f":"'54'!$AA11","v":0},{"$f":"'54'!$AA12","v":0},{"$f":"'54'!$AA13","v":"za"},{"$f":"'54'!$AA14","v":"zo"},{"$f":"'54'!$AA15","v":0},{"$f":"'54'!$AA16","v":0},{"$f":"'54'!$AA17","v":0},{"$f":"'54'!$AA18","v":0},{"$f":"'54'!$AA19","v":0},{"$f":"'54'!$AA20","v":"za"},{"$f":"'54'!$AA21","v":"zo"},{"$f":"'54'!$AA22","v":0},{"$f":"'54'!$AA23","v":0},{"$f":"'54'!$AA24","v":0},{"$f":"'54'!$AA25","v":0},{"$f":"'54'!$AA26","v":0},{"$f":"'54'!$AA27","v":"za"},{"$f":"'54'!$AA28","v":"zo"},{"$f":"'54'!$AA29","v":"fd"},{"$f":"'54'!$AA30","v":0},{"$f":"'54'!$AA31","v":0},{"$f":"'54'!$AA32","v":0},{"$f":"'54'!$AA33","v":0},{"$f":"'54'!$AA34","v":"za"},{"$f":"'54'!$AA35","v":"zo"},{"$f":"'54'!$AA36","v":0},{"$f":"'54'!$AA37","v":0},{"$f":"'54'!$AA38","v":0},{"$f":"'54'!$AA39","v":"fd"},{"$f":"'54'!$AB9","v":0},{"$f":"'54'!$AB10","v":"za"},{"$f":"'54'!$AB11","v":"zo"},{"$f":"'54'!$AB12","v":0},{"$f":"'54'!$AB13","v":0},{"$f":"'54'!$AB14","v":0},{"$f":"'54'!$AB15","v":0},{"$f":"'54'!$AB16","v":0},{"$f":"'54'!$AB17","v":"za"},{"$f":"'54'!$AB18","v":"zo"},{"$f":"'54'!$AB19","v":"fd"},{"$f":"'54'!$AB20","v":0},{"$f":"'54'!$AB21","v":0},{"$f":"'54'!$AB22","v":0},{"$f":"'54'!$AB23","v":0},{"$f":"'54'!$AB24","v":"za"},{"$f":"'54'!$AB25","v":"zo"},{"$f":"'54'!$AB26","v":0},{"$f":"'54'!$AB27","v":0},{"$f":"'54'!$AB28","v":0},{"$f":"'54'!$AB29","v":0},{"$f":"'54'!$AB30","v":0},{"$f":"'54'!$AB31","v":"za"},{"$f":"'54'!$AB32","v":"zo"},{"$f":"'54'!$AB33","v":0},{"$f":"'54'!$AB34","v":0},{"$f":"'54'!$AB35","v":0},{"$f":"'54'!$AB36","v":0},{"$f":"'54'!$AB37","v":0},{"$f":"'54'!$AB38","v":"za"},{"$f":"'54'!$AC9","v":"zo"},{"$f":"'54'!$AC10","v":0},{"$f":"'54'!$AC11","v":0},{"$f":"'54'!$AC12","v":0},{"$f":"'54'!$AC13","v":0},{"$f":"'54'!$AC14","v":0},{"$f":"'54'!$AC15","v":"za"},{"$f":"'54'!$AC16","v":"zo"},{"$f":"'54'!$AC17","v":0},{"$f":"'54'!$AC18","v":0},{"$f":"'54'!$AC19","v":0},{"$f":"'54'!$AC20","v":0},{"$f":"'54'!$AC21","v":0},{"$f":"'54'!$AC22","v":"za"},{"$f":"'54'!$AC23","v":"zo"},{"$f":"'54'!$AC24","v":0},{"$f":"'54'!$AC25","v":0},{"$f":"'54'!$AC26","v":0},{"$f":"'54'!$AC27","v":0},{"$f":"'54'!$AC28","v":0},{"$f":"'54'!$AC29","v":"za"},{"$f":"'54'!$AC30","v":"zo"},{"$f":"'54'!$AC31","v":0},{"$f":"'54'!$AC32","v":0},{"$f":"'54'!$AC33","v":0},{"$f":"'54'!$AC34","v":0},{"$f":"'54'!$AC35","v":0},{"$f":"'54'!$AC36","v":"za"},{"$f":"'54'!$AC37","v":"zo"},{"$f":"'54'!$AC38","v":0},{"$f":"'54'!$AC39","v":0},{"$f":"'54'!$AD9","v":0},{"$f":"'54'!$AD10","v":0},{"$f":"'54'!$AD11","v":0},{"$f":"'54'!$AD12","v":"za"},{"$f":"'54'!$AD13","v":"zo"},{"$f":"'54'!$AD14","v":0},{"$f":"'54'!$AD15","v":0},{"$f":"'54'!$AD16","v":0},{"$f":"'54'!$AD17","v":0},{"$f":"'54'!$AD18","v":0},{"$f":"'54'!$AD19","v":"za"},{"$f":"'54'!$AD20","v":"zo"},{"$f":"'54'!$AD21","v":0},{"$f":"'54'!$AD22","v":0},{"$f":"'54'!$AD23","v":0},{"$f":"'54'!$AD24","v":"fd"},{"$f":"'54'!$AD25","v":0},{"$f":"'54'!$AD26","v":"za"},{"$f":"'54'!$AD27","v":"zo"},{"$f":"'54'!$AD28","v":0},{"$f":"'54'!$AD29","v":0},{"$f":"'54'!$AD30","v":0},{"$f":"'54'!$AD31","v":0},{"$f":"'54'!$AD32","v":0},{"$f":"'54'!$AD33","v":"za"},{"$f":"'54'!$AD34","v":"zo"},{"$f":"'54'!$AD35","v":0},{"$f":"'54'!$AD36","v":0},{"$f":"'54'!$AD37","v":0},{"$f":"'54'!$AD38","v":0},{"$f":"'54'!$AD39","v":0},{"$f":"'54'!$AE9","v":"za"},{"$f":"'54'!$AE10","v":"zo"},{"$f":"'54'!$AE11","v":0},{"$f":"'54'!$AE12","v":0},{"$f":"'54'!$AE13","v":0},{"$f":"'54'!$AE14","v":0},{"$f":"'54'!$AE15","v":0},{"$f":"'54'!$AE16","v":"za"},{"$f":"'54'!$AE17","v":"zo"},{"$f":"'54'!$AE18","v":0},{"$f":"'54'!$AE19","v":0},{"$f":"'54'!$AE20","v":0},{"$f":"'54'!$AE21","v":0},{"$f":"'54'!$AE22","v":0},{"$f":"'54'!$AE23","v":"za"},{"$f":"'54'!$AE24","v":"zo"},{"$f":"'54'!$AE25","v":0},{"$f":"'54'!$AE26","v":0},{"$f":"'54'!$AE27","v":0},{"$f":"'54'!$AE28","v":0},{"$f":"'54'!$AE29","v":0},{"$f":"'54'!$AE30","v":"za"},{"$f":"'54'!$AE31","v":"zo"},{"$f":"'54'!$AE32","v":0},{"$f":"'54'!$AE33","v":0},{"$f":"'54'!$AE34","v":0},{"$f":"'54'!$AE35","v":0},{"$f":"'54'!$AE36","v":0},{"$f":"'54'!$AE37","v":"za"},{"$f":"'54'!$AE38","v":"zo"},{"$f":"'54'!$AF9","v":0},{"$f":"'54'!$AF10","v":0},{"$f":"'54'!$AF11","v":0},{"$f":"'54'!$AF12","v":0},{"$f":"'54'!$AF13","v":0},{"$f":"'54'!$AF14","v":"za"},{"$f":"'54'!$AF15","v":"zo"},{"$f":"'54'!$AF16","v":0},{"$f":"'54'!$AF17","v":0},{"$f":"'54'!$AF18","v":0},{"$f":"'54'!$AF19","v":0},{"$f":"'54'!$AF20","v":0},{"$f":"'54'!$AF21","v":"za"},{"$f":"'54'!$AF22","v":"zo"},{"$f":"'54'!$AF23","v":0},{"$f":"'54'!$AF24","v":0},{"$f":"'54'!$AF25","v":0},{"$f":"'54'!$AF26","v":0},{"$f":"'54'!$AF27","v":0},{"$f":"'54'!$AF28","v":"za"},{"$f":"'54'!$AF29","v":"zo"},{"$f":"'54'!$AF30","v":0},{"$f":"'54'!$AF31","v":0},{"$f":"'54'!$AF32","v":0},{"$f":"'54'!$AF33","v":0},{"$f":"'54'!$AF34","v":0},{"$f":"'54'!$AF35","v":"za"},{"$f":"'54'!$AF36","v":"zo"},{"$f":"'54'!$AF37","v":0},{"$f":"'54'!$AF38","v":0},{"$f":"'54'!$AF39","v":0},{"$f":"'54'!$AG9","v":0},{"$f":"'54'!$AG10","v":"fd"},{"$f":"'54'!$AG11","v":"za"},{"$f":"'54'!$AG12","v":"zo"},{"$f":"'54'!$AG13","v":0},{"$f":"'54'!$AG14","v":0},{"$f":"'54'!$AG15","v":0},{"$f":"'54'!$AG16","v":0},{"$f":"'54'!$AG17","v":0},{"$f":"'54'!$AG18","v":"za"},{"$f":"'54'!$AG19","v":"zo"},{"$f":"'54'!$AG20","v":"fd"},{"$f":"'54'!$AG21","v":0},{"$f":"'54'!$AG22","v":0},{"$f":"'54'!$AG23","v":0},{"$f":"'54'!$AG24","v":0},{"$f":"'54'!$AG25","v":"za"},{"$f":"'54'!$AG26","v":"zo"},{"$f":"'54'!$AG27","v":0},{"$f":"'54'!$AG28","v":0},{"$f":"'54'!$AG29","v":0},{"$f":"'54'!$AG30","v":0},{"$f":"'54'!$AG31","v":0},{"$f":"'54'!$AG32","v":"za"},{"$f":"'54'!$AG33","v":"zo"},{"$f":"'54'!$AG34","v":0},{"$f":"'54'!$AG35","v":0},{"$f":"'54'!$AG36","v":0},{"$f":"'54'!$AG37","v":0},{"$f":"'54'!$AG38","v":0},{"$f":"'54'!$AH9","v":"za"},{"$f":"'54'!$AH10","v":"zo"},{"$f":"'54'!$AH11","v":0},{"$f":"'54'!$AH12","v":0},{"$f":"'54'!$AH13","v":0},{"$f":"'54'!$AH14","v":0},{"$f":"'54'!$AH15","v":0},{"$f":"'54'!$AH16","v":"za"},{"$f":"'54'!$AH17","v":"zo"},{"$f":"'54'!$AH18","v":0},{"$f":"'54'!$AH19","v":0},{"$f":"'54'!$AH20","v":0},{"$f":"'54'!$AH21","v":0},{"$f":"'54'!$AH22","v":0},{"$f":"'54'!$AH23","v":"za"},{"$f":"'54'!$AH24","v":"zo"},{"$f":"'54'!$AH25","v":0},{"$f":"'54'!$AH26","v":0},{"$f":"'54'!$AH27","v":0},{"$f":"'54'!$AH28","v":0},{"$f":"'54'!$AH29","v":0},{"$f":"'54'!$AH30","v":"za"},{"$f":"'54'!$AH31","v":"zo"},{"$f":"'54'!$AH32","v":0},{"$f":"'54'!$AH33","v":0},{"$f":"'54'!$AH34","v":"fd"},{"$f":"'54'!$AH35","v":0},{"$f":"'54'!$AH36","v":0},{"$f":"'54'!$AH37","v":"za"},{"$f":"'54'!$AH38","v":"zo"},{"$f":"'54'!$AH39","v":0}]
[56,{"$f":"'56'!$B$1","v":"El Moussati Hamza"},"GA","fd",0,0,0,"za","zo",0,0,0,0,0,"za","zo",0,0,{"$f":"INDIRECT($A12&\"!\"&(\"W\"&S$2))","v":0},0,0,"za","zo",0,0,0,0,0,"za","zo",0,0,0,0,0,"za","zo",0,0,0,0,0,"za","zo",0,0,0,0,0,"za","zo",0,0,0,0,0,"za","zo",0,0,0,{"$f":"'56'!$X37","v":0},{"$f":"'56'!$X38","v":0},{"$f":"'56'!$X39","v":0},{"$f":"'56'!$Y9","v":0},{"$f":"'56'!$Y10","v":0},{"$f":"'56'!$Y11","v":"za"},{"$f":"'56'!$Y12","v":"zo"},{"$f":"'56'!$Y13","v":0},{"$f":"'56'!$Y14","v":0},{"$f":"'56'!$Y15","v":0},{"$f":"'56'!$Y16","v":0},{"$f":"'56'!$Y17","v":0},{"$f":"'56'!$Y18","v":"za"},{"$f":"'56'!$Y19","v":"zo"},{"$f":"'56'!$Y20","v":0},{"$f":"'56'!$Y21","v":0},{"$f":"'56'!$Y22","v":0},{"$f":"'56'!$Y23","v":0},{"$f":"'56'!$Y24","v":0},{"$f":"'56'!$Y25","v":"za"},{"$f":"'56'!$Y26","v":"zo"},{"$f":"'56'!$Y27","v":0},{"$f":"'56'!$Y28","v":0},{"$f":"'56'!$Y29","v":0},{"$f":"'56'!$Y30","v":0},{"$f":"'56'!$Y31","v":0},{"$f":"'56'!$Y32","v":"za"},{"$f":"'56'!$Y33","v":"zo"},{"$f":"'56'!$Y34","v":0},{"$f":"'56'!$Y35","v":0},{"$f":"'56'!$Y36","v":0},{"$f":"'56'!$Y37","v":0},{"$f":"'56'!$Y38","v":0},{"$f":"'56'!$Y39","v":"za"},{"$f":"'56'!$Z9","v":"zo"},{"$f":"'56'!$Z10","v":0},{"$f":"'56'!$Z11","v":0},{"$f":"'56'!$Z12","v":0},{"$f":"'56'!$Z13","v":0},{"$f":"'56'!$Z14","v":0},{"$f":"'56'!$Z15","v":"za"},{"$f":"'56'!$Z16","v":"zo"},{"$f":"'56'!$Z17","v":0},{"$f":"'56'!$Z18","v":0},{"$f":"'56'!$Z19","v":0},{"$f":"'56'!$Z20","v":0},{"$f":"'56'!$Z21","v":0},{"$f":"'56'!$Z22","v":"za"},{"$f":"'56'!$Z23","v":"zo"},{"$f":"'56'!$Z24","v":0},{"$f":"'56'!$Z25","v":0},{"$f":"'56'!$Z26","v":0},{"$f":"'56'!$Z27","v":0},{"$f":"'56'!$Z28","v":0},{"$f":"'56'!$Z29","v":"za"},{"$f":"'56'!$Z30","v":"zo"},{"$f":"'56'!$Z31","v":"fd"},{"$f":"'56'!$Z32","v":0},{"$f":"'56'!$Z33","v":0},{"$f":"'56'!$Z34","v":0},{"$f":"'56'!$Z35","v":0},{"$f":"'56'!$Z36","v":"za"},{"$f":"'56'!$Z37","v":"zo"},{"$f":"'56'!$Z38","v":0},{"$f":"'56'!$AA9","v":0},{"$f":"'56'!$AA10","v":"fd"},{"$f":"'56'!$AA11","v":0},{"$f":"'56'!$AA12","v":0},{"$f":"'56'!$AA13","v":"za"},{"$f":"'56'!$AA14","v":"zo"},{"$f":"'56'!$AA15","v":0},{"$f":"'56'!$AA16","v":0},{"$f":"'56'!$AA17","v":0},{"$f":"'56'!$AA18","v":0},{"$f":"'56'!$AA19","v":0},{"$f":"'56'!$AA20","v":"za"},{"$f":"'56'!$AA21","v":"zo"},{"$f":"'56'!$AA22","v":0},{"$f":"'56'!$AA23","v":0},{"$f":"'56'!$AA24","v":0},{"$f":"'56'!$AA25","v":0},{"$f":"'56'!$AA26","v":0},{"$f":"'56'!$AA27","v":"za"},{"$f":"'56'!$AA28","v":"zo"},{"$f":"'56'!$AA29","v":"fd"},{"$f":"'56'!$AA30","v":0},{"$f":"'56'!$AA31","v":0},{"$f":"'56'!$AA32","v":0},{"$f":"'56'!$AA33","v":0},{"$f":"'56'!$AA34","v":"za"},{"$f":"'56'!$AA35","v":"zo"},{"$f":"'56'!$AA36","v":0},{"$f":"'56'!$AA37","v":0},{"$f":"'56'!$AA38","v":0},{"$f":"'56'!$AA39","v":"fd"},{"$f":"'56'!$AB9","v":0},{"$f":"'56'!$AB10","v":"za"},{"$f":"'56'!$AB11","v":"zo"},{"$f":"'56'!$AB12","v":0},{"$f":"'56'!$AB13","v":0},{"$f":"'56'!$AB14","v":0},{"$f":"'56'!$AB15","v":0},{"$f":"'56'!$AB16","v":0},{"$f":"'56'!$AB17","v":"za"},{"$f":"'56'!$AB18","v":"zo"},{"$f":"'56'!$AB19","v":"fd"},{"$f":"'56'!$AB20","v":0},{"$f":"'56'!$AB21","v":0},{"$f":"'56'!$AB22","v":0},{"$f":"'56'!$AB23","v":0},{"$f":"'56'!$AB24","v":"za"},{"$f":"'56'!$AB25","v":"zo"},{"$f":"'56'!$AB26","v":0},{"$f":"'56'!$AB27","v":0},{"$f":"'56'!$AB28","v":0},{"$f":"'56'!$AB29","v":0},{"$f":"'56'!$AB30","v":0},{"$f":"'56'!$AB31","v":"za"},{"$f":"'56'!$AB32","v":"zo"},{"$f":"'56'!$AB33","v":0},{"$f":"'56'!$AB34","v":0},{"$f":"'56'!$AB35","v":0},{"$f":"'56'!$AB36","v":0},{"$f":"'56'!$AB37","v":0},{"$f":"'56'!$AB38","v":"za"},{"$f":"'56'!$AC9","v":"zo"},{"$f":"'56'!$AC10","v":0},{"$f":"'56'!$AC11","v":0},{"$f":"'56'!$AC12","v":0},{"$f":"'56'!$AC13","v":0},{"$f":"'56'!$AC14","v":0},{"$f":"'56'!$AC15","v":"za"},{"$f":"'56'!$AC16","v":"zo"},{"$f":"'56'!$AC17","v":0},{"$f":"'56'!$AC18","v":0},{"$f":"'56'!$AC19","v":0},{"$f":"'56'!$AC20","v":0},{"$f":"'56'!$AC21","v":0},{"$f":"'56'!$AC22","v":"za"},{"$f":"'56'!$AC23","v":"zo"},{"$f":"'56'!$AC24","v":0},{"$f":"'56'!$AC25","v":0},{"$f":"'56'!$AC26","v":0},{"$f":"'56'!$AC27","v":0},{"$f":"'56'!$AC28","v":0},{"$f":"'56'!$AC29","v":"za"},{"$f":"'56'!$AC30","v":"zo"},{"$f":"'56'!$AC31","v":0},{"$f":"'56'!$AC32","v":0},{"$f":"'56'!$AC33","v":0},{"$f":"'56'!$AC34","v":0},{"$f":"'56'!$AC35","v":0},{"$f":"'56'!$AC36","v":"za"},{"$f":"'56'!$AC37","v":"zo"},{"$f":"'56'!$AC38","v":0},{"$f":"'56'!$AC39","v":0},{"$f":"'56'!$AD9","v":0},{"$f":"'56'!$AD10","v":0},{"$f":"'56'!$AD11","v":0},{"$f":"'56'!$AD12","v":"za"},{"$f":"'56'!$AD13","v":"zo"},{"$f":"'56'!$AD14","v":0},{"$f":"'56'!$AD15","v":0},{"$f":"'56'!$AD16","v":0},{"$f":"'56'!$AD17","v":0},{"$f":"'56'!$AD18","v":0},{"$f":"'56'!$AD19","v":"za"},{"$f":"'56'!$AD20","v":"zo"},{"$f":"'56'!$AD21","v":0},{"$f":"'56'!$AD22","v":0},{"$f":"'56'!$AD23","v":0},{"$f":"'56'!$AD24","v":"fd"},{"$f":"'56'!$AD25","v":0},{"$f":"'56'!$AD26","v":"za"},{"$f":"'56'!$AD27","v":"zo"},{"$f":"'56'!$AD28","v":0},{"$f":"'56'!$AD29","v":0},{"$f":"'56'!$AD30","v":0},{"$f":"'56'!$AD31","v":0},{"$f":"'56'!$AD32","v":0},{"$f":"'56'!$AD33","v":"za"},{"$f":"'56'!$AD34","v":"zo"},{"$f":"'56'!$AD35","v":0},{"$f":"'56'!$AD36","v":0},{"$f":"'56'!$AD37","v":0},{"$f":"'56'!$AD38","v":0},{"$f":"'56'!$AD39","v":0},{"$f":"'56'!$AE9","v":"za"},{"$f":"'56'!$AE10","v":"zo"},{"$f":"'56'!$AE11","v":0},{"$f":"'56'!$AE12","v":0},{"$f":"'56'!$AE13","v":0},{"$f":"'56'!$AE14","v":0},{"$f":"'56'!$AE15","v":0},{"$f":"'56'!$AE16","v":"za"},{"$f":"'56'!$AE17","v":"zo"},{"$f":"'56'!$AE18","v":0},{"$f":"'56'!$AE19","v":0},{"$f":"'56'!$AE20","v":0},{"$f":"'56'!$AE21","v":0},{"$f":"'56'!$AE22","v":0},{"$f":"'56'!$AE23","v":"za"},{"$f":"'56'!$AE24","v":"zo"},{"$f":"'56'!$AE25","v":0},{"$f":"'56'!$AE26","v":0},{"$f":"'56'!$AE27","v":0},{"$f":"'56'!$AE28","v":0},{"$f":"'56'!$AE29","v":0},{"$f":"'56'!$AE30","v":"za"},{"$f":"'56'!$AE31","v":"zo"},{"$f":"'56'!$AE32","v":0},{"$f":"'56'!$AE33","v":0},{"$f":"'56'!$AE34","v":0},{"$f":"'56'!$AE35","v":0},{"$f":"'56'!$AE36","v":0},{"$f":"'56'!$AE37","v":"za"},{"$f":"'56'!$AE38","v":"zo"},{"$f":"'56'!$AF9","v":0},{"$f":"'56'!$AF10","v":0},{"$f":"'56'!$AF11","v":0},{"$f":"'56'!$AF12","v":0},{"$f":"'56'!$AF13","v":0},{"$f":"'56'!$AF14","v":"za"},{"$f":"'56'!$AF15","v":"zo"},{"$f":"'56'!$AF16","v":0},{"$f":"'56'!$AF17","v":0},{"$f":"'56'!$AF18","v":0},{"$f":"'56'!$AF19","v":0},{"$f":"'56'!$AF20","v":0},{"$f":"'56'!$AF21","v":"za"},{"$f":"'56'!$AF22","v":"zo"},{"$f":"'56'!$AF23","v":0},{"$f":"'56'!$AF24","v":0},{"$f":"'56'!$AF25","v":0},{"$f":"'56'!$AF26","v":0},{"$f":"'56'!$AF27","v":0},{"$f":"'56'!$AF28","v":"za"},{"$f":"'56'!$AF29","v":"zo"},{"$f":"'56'!$AF30","v":0},{"$f":"'56'!$AF31","v":0},{"$f":"'56'!$AF32","v":0},{"$f":"'56'!$AF33","v":0},{"$f":"'56'!$AF34","v":0},{"$f":"'56'!$AF35","v":"za"},{"$f":"'56'!$AF36","v":"zo"},{"$f":"'56'!$AF37","v":0},{"$f":"'56'!$AF38","v":0},{"$f":"'56'!$AF39","v":0},{"$f":"'56'!$AG9","v":0},{"$f":"'56'!$AG10","v":"fd"},{"$f":"'56'!$AG11","v":"za"},{"$f":"'56'!$AG12","v":"zo"},{"$f":"'56'!$AG13","v":0},{"$f":"'56'!$AG14","v":0},{"$f":"'56'!$AG15","v":0},{"$f":"'56'!$AG16","v":0},{"$f":"'56'!$AG17","v":0},{"$f":"'56'!$AG18","v":"za"},{"$f":"'56'!$AG19","v":"zo"},{"$f":"'56'!$AG20","v":"fd"},{"$f":"'56'!$AG21","v":0},{"$f":"'56'!$AG22","v":0},{"$f":"'56'!$AG23","v":0},{"$f":"'56'!$AG24","v":0},{"$f":"'56'!$AG25","v":"za"},{"$f":"'56'!$AG26","v":"zo"},{"$f":"'56'!$AG27","v":0},{"$f":"'56'!$AG28","v":0},{"$f":"'56'!$AG29","v":0},{"$f":"'56'!$AG30","v":0},{"$f":"'56'!$AG31","v":0},{"$f":"'56'!$AG32","v":"za"},{"$f":"'56'!$AG33","v":"zo"},{"$f":"'56'!$AG34","v":0},{"$f":"'56'!$AG35","v":0},{"$f":"'56'!$AG36","v":0},{"$f":"'56'!$AG37","v":0},{"$f":"'56'!$AG38","v":0},{"$f":"'56'!$AH9","v":"za"},{"$f":"'56'!$AH10","v":"zo"},{"$f":"'56'!$AH11","v":0},{"$f":"'56'!$AH12","v":0},{"$f":"'56'!$AH13","v":0},{"$f":"'56'!$AH14","v":0},{"$f":"'56'!$AH15","v":0},{"$f":"'56'!$AH16","v":"za"},{"$f":"'56'!$AH17","v":"zo"},{"$f":"'56'!$AH18","v":0},{"$f":"'56'!$AH19","v":0},{"$f":"'56'!$AH20","v":0},{"$f":"'56'!$AH21","v":0},{"$f":"'56'!$AH22","v":0},{"$f":"'56'!$AH23","v":"za"},{"$f":"'56'!$AH24","v":"zo"},{"$f":"'56'!$AH25","v":0},{"$f":"'56'!$AH26","v":0},{"$f":"'56'!$AH27","v":0},{"$f":"'56'!$AH28","v":0},{"$f":"'56'!$AH29","v":0},{"$f":"'56'!$AH30","v":"za"},{"$f":"'56'!$AH31","v":"zo"},{"$f":"'56'!$AH32","v":0},{"$f":"'56'!$AH33","v":0},{"$f":"'56'!$AH34","v":"fd"},{"$f":"'56'!$AH35","v":0},{"$f":"'56'!$AH36","v":0},{"$f":"'56'!$AH37","v":"za"},{"$f":"'56'!$AH38","v":"zo"},{"$f":"'56'!$AH39","v":0}]
[70,{"$f":"'70'!$B$1","v":"Ilsen Marc"},0,"fd",0,0,0,"za","zo",0,0,0,0,0,"za","zo",0,0,0,0,0,"za","zo",0,0,0,0,0,"za","zo",0,0,0,0,0,"za","zo",0,0,0,0,0,"za","zo",0,0,{"$f":"INDIRECT($A13&\"!\"&(\"X\"&AU$2))","v":0},0,0,"za","zo",0,0,0,0,0,"za","zo",0,0,0,{"$f":"'70'!$X37","v":0},{"$f":"'70'!$X38","v":0},{"$f":"'70'!$X39","v":0},{"$f":"'70'!$Y9","v":0},{"$f":"'70'!$Y10","v":0},{"$f":"'70'!$Y11","v":"za"},{"$f":"'70'!$Y12","v":"zo"},{"$f":"'70'!$Y13","v":0},{"$f":"'70'!$Y14","v":0},{"$f":"'70'!$Y15","v":0},{"$f":"'70'!$Y16","v":0},{"$f":"'70'!$Y17","v":0},{"$f":"'70'!$Y18","v":"za"},{"$f":"'70'!$Y19","v":"zo"},{"$f":"'70'!$Y20","v":0},{"$f":"'70'!$Y21","v":0},{"$f":"'70'!$Y22","v":0},{"$f":"'70'!$Y23","v":0},{"$f":"'70'!$Y24","v":0},{"$f":"'70'!$Y25","v":"za"},{"$f":"'70'!$Y26","v":"zo"},{"$f":"'70'!$Y27","v":0},{"$f":"'70'!$Y28","v":0},{"$f":"'70'!$Y29","v":0},{"$f":"'70'!$Y30","v":0},{"$f":"'70'!$Y31","v":0},{"$f":"'70'!$Y32","v":"za"},{"$f":"'70'!$Y33","v":"zo"},{"$f":"'70'!$Y34","v":0},{"$f":"'70'!$Y35","v":0},{"$f":"'70'!$Y36","v":0},{"$f":"'70'!$Y37","v":0},{"$f":"'70'!$Y38","v":0},{"$f":"'70'!$Y39","v":"za"},{"$f":"'70'!$Z9","v":"zo"},{"$f":"'70'!$Z10","v":0},{"$f":"'70'!$Z11","v":0},{"$f":"'70'!$Z12","v":0},{"$f":"'70'!$Z13","v":0},{"$f":"'70'!$Z14","v":0},{"$f":"'70'!$Z15","v":"za"},{"$f":"'70'!$Z16","v":"zo"},{"$f":"'70'!$Z17","v":0},{"$f":"'70'!$Z18","v":0},{"$f":"'70'!$Z19","v":0},{"$f":"'70'!$Z20","v":0},{"$f":"'70'!$Z21","v":0},{"$f":"'70'!$Z22","v":"za"},{"$f":"'70'!$Z23","v":"zo"},{"$f":"'70'!$Z24","v":0},{"$f":"'70'!$Z25","v":0},{"$f":"'70'!$Z26","v":0},{"$f":"'70'!$Z27","v":0},{"$f":"'70'!$Z28","v":0},{"$f":"'70'!$Z29","v":"za"},{"$f":"'70'!$Z30","v":"zo"},{"$f":"'70'!$Z31","v":"fd"},{"$f":"'70'!$Z32","v":0},{"$f":"'70'!$Z33","v":0},{"$f":"'70'!$Z34","v":0},{"$f":"'70'!$Z35","v":0},{"$f":"'70'!$Z36","v":"za"},{"$f":"'70'!$Z37","v":"zo"},{"$f":"'70'!$Z38","v":0},{"$f":"'70'!$AA9","v":0},{"$f":"'70'!$AA10","v":"fd"},{"$f":"'70'!$AA11","v":0},{"$f":"'70'!$AA12","v":0},{"$f":"'70'!$AA13","v":"za"},{"$f":"'70'!$AA14","v":"zo"},{"$f":"'70'!$AA15","v":0},{"$f":"'70'!$AA16","v":0},{"$f":"'70'!$AA17","v":0},{"$f":"'70'!$AA18","v":0},{"$f":"'70'!$AA19","v":0},{"$f":"'70'!$AA20","v":"za"},{"$f":"'70'!$AA21","v":"zo"},{"$f":"'70'!$AA22","v":0},{"$f":"'70'!$AA23","v":0},{"$f":"'70'!$AA24","v":0},{"$f":"'70'!$AA25","v":0},{"$f":"'70'!$AA26","v":0},{"$f":"'70'!$AA27","v":"za"},{"$f":"'70'!$AA28","v":"zo"},{"$f":"'70'!$AA29","v":"fd"},{"$f":"'70'!$AA30","v":0},{"$f":"'70'!$AA31","v":0},{"$f":"'70'!$AA32","v":0},{"$f":"'70'!$AA33","v":0},{"$f":"'70'!$AA34","v":"za"},{"$f":"'70'!$AA35","v":"zo"},{"$f":"'70'!$AA36","v":0},{"$f":"'70'!$AA37","v":0},{"$f":"'70'!$AA38","v":0},{"$f":"'70'!$AA39","v":"fd"},{"$f":"'70'!$AB9","v":0},{"$f":"'70'!$AB10","v":"za"},{"$f":"'70'!$AB11","v":"zo"},{"$f":"'70'!$AB12","v":0},{"$f":"'70'!$AB13","v":0},{"$f":"'70'!$AB14","v":0},{"$f":"'70'!$AB15","v":0},{"$f":"'70'!$AB16","v":0},{"$f":"'70'!$AB17","v":"za"},{"$f":"'70'!$AB18","v":"zo"},{"$f":"'70'!$AB19","v":"fd"},{"$f":"'70'!$AB20","v":0},{"$f":"'70'!$AB21","v":0},{"$f":"'70'!$AB22","v":0},{"$f":"'70'!$AB23","v":0},{"$f":"'70'!$AB24","v":"za"},{"$f":"'70'!$AB25","v":"zo"},{"$f":"'70'!$AB26","v":0},{"$f":"'70'!$AB27","v":0},{"$f":"'70'!$AB28","v":0},{"$f":"'70'!$AB29","v":0},{"$f":"'70'!$AB30","v":0},{"$f":"'70'!$AB31","v":"za"},{"$f":"'70'!$AB32","v":"zo"},{"$f":"'70'!$AB33","v":0},{"$f":"'70'!$AB34","v":0},{"$f":"'70'!$AB35","v":0},{"$f":"'70'!$AB36","v":0},{"$f":"'70'!$AB37","v":0},{"$f":"'70'!$AB38","v":"za"},{"$f":"'70'!$AC9","v":"zo"},{"$f":"'70'!$AC10","v":0},{"$f":"'70'!$AC11","v":0},{"$f":"'70'!$AC12","v":0},{"$f":"'70'!$AC13","v":0},{"$f":"'70'!$AC14","v":0},{"$f":"'70'!$AC15","v":"za"},{"$f":"'70'!$AC16","v":"zo"},{"$f":"'70'!$AC17","v":0},{"$f":"'70'!$AC18","v":0},{"$f":"'70'!$AC19","v":0},{"$f":"'70'!$AC20","v":0},{"$f":"'70'!$AC21","v":0},{"$f":"'70'!$AC22","v":"za"},{"$f":"'70'!$AC23","v":"zo"},{"$f":"'70'!$AC24","v":0},{"$f":"'70'!$AC25","v":0},{"$f":"'70'!$AC26","v":0},{"$f":"'70'!$AC27","v":0},{"$f":"'70'!$AC28","v":0},{"$f":"'70'!$AC29","v":"za"},{"$f":"'70'!$AC30","v":"zo"},{"$f":"'70'!$AC31","v":0},{"$f":"'70'!$AC32","v":0},{"$f":"'70'!$AC33","v":0},{"$f":"'70'!$AC34","v":0},{"$f":"'70'!$AC35","v":0},{"$f":"'70'!$AC36","v":"za"},{"$f":"'70'!$AC37","v":"zo"},{"$f":"'70'!$AC38","v":0},{"$f":"'70'!$AC39","v":0},{"$f":"'70'!$AD9","v":0},{"$f":"'70'!$AD10","v":0},{"$f":"'70'!$AD11","v":0},{"$f":"'70'!$AD12","v":"za"},{"$f":"'70'!$AD13","v":"zo"},{"$f":"'70'!$AD14","v":0},{"$f":"'70'!$AD15","v":0},{"$f":"'70'!$AD16","v":0},{"$f":"'70'!$AD17","v":0},{"$f":"'70'!$AD18","v":0},{"$f":"'70'!$AD19","v":"za"},{"$f":"'70'!$AD20","v":"zo"},{"$f":"'70'!$AD21","v":0},{"$f":"'70'!$AD22","v":0},{"$f":"'70'!$AD23","v":0},{"$f":"'70'!$AD24","v":"fd"},{"$f":"'70'!$AD25","v":0},{"$f":"'70'!$AD26","v":"za"},{"$f":"'70'!$AD27","v":"zo"},{"$f":"'70'!$AD28","v":0},{"$f":"'70'!$AD29","v":0},{"$f":"'70'!$AD30","v":0},{"$f":"'70'!$AD31","v":0},{"$f":"'70'!$AD32","v":0},{"$f":"'70'!$AD33","v":"za"},{"$f":"'70'!$AD34","v":"zo"},{"$f":"'70'!$AD35","v":0},{"$f":"'70'!$AD36","v":0},{"$f":"'70'!$AD37","v":0},{"$f":"'70'!$AD38","v":0},{"$f":"'70'!$AD39","v":0},{"$f":"'70'!$AE9","v":"za"},{"$f":"'70'!$AE10","v":"zo"},{"$f":"'70'!$AE11","v":0},{"$f":"'70'!$AE12","v":0},{"$f":"'70'!$AE13","v":0},{"$f":"'70'!$AE14","v":0},{"$f":"'70'!$AE15","v":0},{"$f":"'70'!$AE16","v":"za"},{"$f":"'70'!$AE17","v":"zo"},{"$f":"'70'!$AE18","v":0},{"$f":"'70'!$AE19","v":0},{"$f":"'70'!$AE20","v":0},{"$f":"'70'!$AE21","v":0},{"$f":"'70'!$AE22","v":0},{"$f":"'70'!$AE23","v":"za"},{"$f":"'70'!$AE24","v":"zo"},{"$f":"'70'!$AE25","v":0},{"$f":"'70'!$AE26","v":0},{"$f":"'70'!$AE27","v":0},{"$f":"'70'!$AE28","v":0},{"$f":"'70'!$AE29","v":0},{"$f":"'70'!$AE30","v":"za"},{"$f":"'70'!$AE31","v":"zo"},{"$f":"'70'!$AE32","v":0},{"$f":"'70'!$AE33","v":0},{"$f":"'70'!$AE34","v":0},{"$f":"'70'!$AE35","v":0},{"$f":"'70'!$AE36","v":0},{"$f":"'70'!$AE37","v":"za"},{"$f":"'70'!$AE38","v":"zo"},{"$f":"'70'!$AF9","v":0},{"$f":"'70'!$AF10","v":0},{"$f":"'70'!$AF11","v":0},{"$f":"'70'!$AF12","v":0},{"$f":"'70'!$AF13","v":0},{"$f":"'70'!$AF14","v":"za"},{"$f":"'70'!$AF15","v":"zo"},{"$f":"'70'!$AF16","v":0},{"$f":"'70'!$AF17","v":0},{"$f":"'70'!$AF18","v":0},{"$f":"'70'!$AF19","v":0},{"$f":"'70'!$AF20","v":0},{"$f":"'70'!$AF21","v":"za"},{"$f":"'70'!$AF22","v":"zo"},{"$f":"'70'!$AF23","v":0},{"$f":"'70'!$AF24","v":0},{"$f":"'70'!$AF25","v":0},{"$f":"'70'!$AF26","v":0},{"$f":"'70'!$AF27","v":0},{"$f":"'70'!$AF28","v":"za"},{"$f":"'70'!$AF29","v":"zo"},{"$f":"'70'!$AF30","v":0},{"$f":"'70'!$AF31","v":0},{"$f":"'70'!$AF32","v":0},{"$f":"'70'!$AF33","v":0},{"$f":"'70'!$AF34","v":0},{"$f":"'70'!$AF35","v":"za"},{"$f":"'70'!$AF36","v":"zo"},{"$f":"'70'!$AF37","v":0},{"$f":"'70'!$AF38","v":0},{"$f":"'70'!$AF39","v":0},{"$f":"'70'!$AG9","v":0},{"$f":"'70'!$AG10","v":"fd"},{"$f":"'70'!$AG11","v":"za"},{"$f":"'70'!$AG12","v":"zo"},{"$f":"'70'!$AG13","v":0},{"$f":"'70'!$AG14","v":0},{"$f":"'70'!$AG15","v":0},{"$f":"'70'!$AG16","v":0},{"$f":"'70'!$AG17","v":0},{"$f":"'70'!$AG18","v":"za"},{"$f":"'70'!$AG19","v":"zo"},{"$f":"'70'!$AG20","v":"fd"},{"$f":"'70'!$AG21","v":0},{"$f":"'70'!$AG22","v":0},{"$f":"'70'!$AG23","v":0},{"$f":"'70'!$AG24","v":0},{"$f":"'70'!$AG25","v":"za"},{"$f":"'70'!$AG26","v":"zo"},{"$f":"'70'!$AG27","v":0},{"$f":"'70'!$AG28","v":0},{"$f":"'70'!$AG29","v":0},{"$f":"'70'!$AG30","v":0},{"$f":"'70'!$AG31","v":0},{"$f":"'70'!$AG32","v":"za"},{"$f":"'70'!$AG33","v":"zo"},{"$f":"'70'!$AG34","v":0},{"$f":"'70'!$AG35","v":0},{"$f":"'70'!$AG36","v":0},{"$f":"'70'!$AG37","v":0},{"$f":"'70'!$AG38","v":0},{"$f":"'70'!$AH9","v":"za"},{"$f":"'70'!$AH10","v":"zo"},{"$f":"'70'!$AH11","v":0},{"$f":"'70'!$AH12","v":0},{"$f":"'70'!$AH13","v":0},{"$f":"'70'!$AH14","v":0},{"$f":"'70'!$AH15","v":0},{"$f":"'70'!$AH16","v":"za"},{"$f":"'70'!$AH17","v":"zo"},{"$f":"'70'!$AH18","v":0},{"$f":"'70'!$AH19","v":0},{"$f":"'70'!$AH20","v":0},{"$f":"'70'!$AH21","v":0},{"$f":"'70'!$AH22","v":0},{"$f":"'70'!$AH23","v":"za"},{"$f":"'70'!$AH24","v":"zo"},{"$f":"'70'!$AH25","v":0},{"$f":"'70'!$AH26","v":0},{"$f":"'70'!$AH27","v":0},{"$f":"'70'!$AH28","v":0},{"$f":"'70'!$AH29","v":0},{"$f":"'70'!$AH30","v":"za"},{"$f":"'70'!$AH31","v":"zo"},{"$f":"'70'!$AH32","v":0},{"$f":"'70'!$AH33","v":0},{"$f":"'70'!$AH34","v":"fd"},{"$f":"'70'!$AH35","v":0},{"$f":"'70'!$AH36","v":0},{"$f":"'70'!$AH37","v":"za"},{"$f":"'70'!$AH38","v":"zo"},{"$f":"'70'!$AH39","v":0}]
["73",{"$f":"'73'!$B$1","v":"Ouhida Hassan"},0,"fd",0,0,0,"za","zo",0,0,0,0,0,"za","zo",0,0,0,0,0,"za","zo",0,0,0,0,0,"za","zo",0,0,0,0,0,"za","zo",0,0,0,0,0,"za","zo",0,0,0,0,0,"za","zo",0,0,0,0,0,"za","zo",0,0,0,{"$f":"'73'!$X37","v":0},{"$f":"'73'!$X38","v":0},{"$f":"'73'!$X39","v":0},{"$f":"'73'!$Y9","v":0},{"$f":"'73'!$Y10","v":0},{"$f":"'73'!$Y11","v":"za"},{"$f":"'73'!$Y12","v":"zo"},{"$f":"'73'!$Y13","v":0},{"$f":"'73'!$Y14","v":0},{"$f":"'73'!$Y15","v":0},{"$f":"'73'!$Y16","v":0},{"$f":"'73'!$Y17","v":0},{"$f":"'73'!$Y18","v":"za"},{"$f":"'73'!$Y19","v":"zo"},{"$f":"'73'!$Y20","v":0},{"$f":"'73'!$Y21","v":0},{"$f":"'73'!$Y22","v":0},{"$f":"'73'!$Y23","v":0},{"$f":"'73'!$Y24","v":0},{"$f":"'73'!$Y25","v":"za"},{"$f":"'73'!$Y26","v":"zo"},{"$f":"'73'!$Y27","v":0},{"$f":"'73'!$Y28","v":0},{"$f":"'73'!$Y29","v":0},{"$f":"'73'!$Y30","v":0},{"$f":"'73'!$Y31","v":0},{"$f":"'73'!$Y32","v":"za"},{"$f":"'73'!$Y33","v":"zo"},{"$f":"'73'!$Y34","v":0},{"$f":"'73'!$Y35","v":0},{"$f":"'73'!$Y36","v":0},{"$f":"'73'!$Y37","v":0},{"$f":"'73'!$Y38","v":0},{"$f":"'73'!$Y39","v":"za"},{"$f":"'73'!$Z9","v":"zo"},{"$f":"'73'!$Z10","v":0},{"$f":"'73'!$Z11","v":0},{"$f":"'73'!$Z12","v":0},{"$f":"'73'!$Z13","v":0},{"$f":"'73'!$Z14","v":0},{"$f":"'73'!$Z15","v":"za"},{"$f":"'73'!$Z16","v":"zo"},{"$f":"'73'!$Z17","v":0},{"$f":"'73'!$Z18","v":0},{"$f":"'73'!$Z19","v":0},{"$f":"'73'!$Z20","v":0},{"$f":"'73'!$Z21","v":0},{"$f":"'73'!$Z22","v":"za"},{"$f":"'73'!$Z23","v":"zo"},{"$f":"'73'!$Z24","v":0},{"$f":"'73'!$Z25","v":0},{"$f":"'73'!$Z26","v":0},{"$f":"'73'!$Z27","v":0},{"$f":"'73'!$Z28","v":0},{"$f":"'73'!$Z29","v":"za"},{"$f":"'73'!$Z30","v":"zo"},{"$f":"'73'!$Z31","v":"fd"},{"$f":"'73'!$Z32","v":0},{"$f":"'73'!$Z33","v":0},{"$f":"'73'!$Z34","v":0},{"$f":"'73'!$Z35","v":0},{"$f":"'73'!$Z36","v":"za"},{"$f":"'73'!$Z37","v":"zo"},{"$f":"'73'!$Z38","v":0},{"$f":"'73'!$AA9","v":0},{"$f":"'73'!$AA10","v":"fd"},{"$f":"'73'!$AA11","v":0},{"$f":"'73'!$AA12","v":0},{"$f":"'73'!$AA13","v":"za"},{"$f":"'73'!$AA14","v":"zo"},{"$f":"'73'!$AA15","v":0},{"$f":"'73'!$AA16","v":0},{"$f":"'73'!$AA17","v":0},{"$f":"'73'!$AA18","v":0},{"$f":"'73'!$AA19","v":0},{"$f":"'73'!$AA20","v":"za"},{"$f":"'73'!$AA21","v":"zo"},{"$f":"'73'!$AA22","v":0},{"$f":"'73'!$AA23","v":0},{"$f":"'73'!$AA24","v":0},{"$f":"'73'!$AA25","v":0},{"$f":"'73'!$AA26","v":0},{"$f":"'73'!$AA27","v":"za"},{"$f":"'73'!$AA28","v":"zo"},{"$f":"'73'!$AA29","v":"fd"},{"$f":"'73'!$AA30","v":0},{"$f":"'73'!$AA31","v":0},{"$f":"'73'!$AA32","v":0},{"$f":"'73'!$AA33","v":0},{"$f":"'73'!$AA34","v":"za"},{"$f":"'73'!$AA35","v":"zo"},{"$f":"'73'!$AA36","v":0},{"$f":"'73'!$AA37","v":0},{"$f":"'73'!$AA38","v":0},{"$f":"'73'!$AA39","v":"fd"},{"$f":"'73'!$AB9","v":0},{"$f":"'73'!$AB10","v":"za"},{"$f":"'73'!$AB11","v":"zo"},{"$f":"'73'!$AB12","v":0},{"$f":"'73'!$AB13","v":0},{"$f":"'73'!$AB14","v":0},{"$f":"'73'!$AB15","v":0},{"$f":"'73'!$AB16","v":0},{"$f":"'73'!$AB17","v":"za"},{"$f":"'73'!$AB18","v":"zo"},{"$f":"'73'!$AB19","v":"fd"},{"$f":"'73'!$AB20","v":0},{"$f":"'73'!$AB21","v":0},{"$f":"'73'!$AB22","v":0},{"$f":"'73'!$AB23","v":0},{"$f":"'73'!$AB24","v":"za"},{"$f":"'73'!$AB25","v":"zo"},{"$f":"'73'!$AB26","v":0},{"$f":"'73'!$AB27","v":0},{"$f":"'73'!$AB28","v":0},{"$f":"'73'!$AB29","v":0},{"$f":"'73'!$AB30","v":0},{"$f":"'73'!$AB31","v":"za"},{"$f":"'73'!$AB32","v":"zo"},{"$f":"'73'!$AB33","v":0},{"$f":"'73'!$AB34","v":0},{"$f":"'73'!$AB35","v":0},{"$f":"'73'!$AB36","v":0},{"$f":"'73'!$AB37","v":0},{"$f":"'73'!$AB38","v":"za"},{"$f":"'73'!$AC9","v":"zo"},{"$f":"'73'!$AC10","v":0},{"$f":"'73'!$AC11","v":0},{"$f":"'73'!$AC12","v":0},{"$f":"'73'!$AC13","v":0},{"$f":"'73'!$AC14","v":0},{"$f":"'73'!$AC15","v":"za"},{"$f":"'73'!$AC16","v":"zo"},{"$f":"'73'!$AC17","v":0},{"$f":"'73'!$AC18","v":0},{"$f":"'73'!$AC19","v":0},{"$f":"'73'!$AC20","v":0},{"$f":"'73'!$AC21","v":0},{"$f":"'73'!$AC22","v":"za"},{"$f":"'73'!$AC23","v":"zo"},{"$f":"'73'!$AC24","v":0},{"$f":"'73'!$AC25","v":0},{"$f":"'73'!$AC26","v":0},{"$f":"'73'!$AC27","v":0},{"$f":"'73'!$AC28","v":0},{"$f":"'73'!$AC29","v":"za"},{"$f":"'73'!$AC30","v":"zo"},{"$f":"'73'!$AC31","v":0},{"$f":"'73'!$AC32","v":0},{"$f":"'73'!$AC33","v":0},{"$f":"'73'!$AC34","v":0},{"$f":"'73'!$AC35","v":0},{"$f":"'73'!$AC36","v":"za"},{"$f":"'73'!$AC37","v":"zo"},{"$f":"'73'!$AC38","v":0},{"$f":"'73'!$AC39","v":0},{"$f":"'73'!$AD9","v":0},{"$f":"'73'!$AD10","v":0},{"$f":"'73'!$AD11","v":0},{"$f":"'73'!$AD12","v":"za"},{"$f":"'73'!$AD13","v":"zo"},{"$f":"'73'!$AD14","v":0},{"$f":"'73'!$AD15","v":0},{"$f":"'73'!$AD16","v":0},{"$f":"'73'!$AD17","v":0},{"$f":"'73'!$AD18","v":0},{"$f":"'73'!$AD19","v":"za"},{"$f":"'73'!$AD20","v":"zo"},{"$f":"'73'!$AD21","v":0},{"$f":"'73'!$AD22","v":0},{"$f":"'73'!$AD23","v":0},{"$f":"'73'!$AD24","v":"fd"},{"$f":"'73'!$AD25","v":0},{"$f":"'73'!$AD26","v":"za"},{"$f":"'73'!$AD27","v":"zo"},{"$f":"'73'!$AD28","v":0},{"$f":"'73'!$AD29","v":0},{"$f":"'73'!$AD30","v":0},{"$f":"'73'!$AD31","v":0},{"$f":"'73'!$AD32","v":0},{"$f":"'73'!$AD33","v":"za"},{"$f":"'73'!$AD34","v":"zo"},{"$f":"'73'!$AD35","v":0},{"$f":"'73'!$AD36","v":0},{"$f":"'73'!$AD37","v":0},{"$f":"'73'!$AD38","v":0},{"$f":"'73'!$AD39","v":0},{"$f":"'73'!$AE9","v":"za"},{"$f":"'73'!$AE10","v":"zo"},{"$f":"'73'!$AE11","v":0},{"$f":"'73'!$AE12","v":0},{"$f":"'73'!$AE13","v":0},{"$f":"'73'!$AE14","v":0},{"$f":"'73'!$AE15","v":0},{"$f":"'73'!$AE16","v":"za"},{"$f":"'73'!$AE17","v":"zo"},{"$f":"'73'!$AE18","v":0},{"$f":"'73'!$AE19","v":0},{"$f":"'73'!$AE20","v":0},{"$f":"'73'!$AE21","v":0},{"$f":"'73'!$AE22","v":0},{"$f":"'73'!$AE23","v":"za"},{"$f":"'73'!$AE24","v":"zo"},{"$f":"'73'!$AE25","v":0},{"$f":"'73'!$AE26","v":0},{"$f":"'73'!$AE27","v":0},{"$f":"'73'!$AE28","v":0},{"$f":"'73'!$AE29","v":0},{"$f":"'73'!$AE30","v":"za"},{"$f":"'73'!$AE31","v":"zo"},{"$f":"'73'!$AE32","v":0},{"$f":"'73'!$AE33","v":0},{"$f":"'73'!$AE34","v":0},{"$f":"'73'!$AE35","v":0},{"$f":"'73'!$AE36","v":0},{"$f":"'73'!$AE37","v":"za"},{"$f":"'73'!$AE38","v":"zo"},{"$f":"'73'!$AF9","v":0},{"$f":"'73'!$AF10","v":0},{"$f":"'73'!$AF11","v":0},{"$f":"'73'!$AF12","v":0},{"$f":"'73'!$AF13","v":0},{"$f":"'73'!$AF14","v":"za"},{"$f":"'73'!$AF15","v":"zo"},{"$f":"'73'!$AF16","v":0},{"$f":"'73'!$AF17","v":0},{"$f":"'73'!$AF18","v":0},{"$f":"'73'!$AF19","v":0},{"$f":"'73'!$AF20","v":0},{"$f":"'73'!$AF21","v":"za"},{"$f":"'73'!$AF22","v":"zo"},{"$f":"'73'!$AF23","v":0},{"$f":"'73'!$AF24","v":0},{"$f":"'73'!$AF25","v":0},{"$f":"'73'!$AF26","v":0},{"$f":"'73'!$AF27","v":0},{"$f":"'73'!$AF28","v":"za"},{"$f":"'73'!$AF29","v":"zo"},{"$f":"'73'!$AF30","v":0},{"$f":"'73'!$AF31","v":0},{"$f":"'73'!$AF32","v":0},{"$f":"'73'!$AF33","v":0},{"$f":"'73'!$AF34","v":0},{"$f":"'73'!$AF35","v":"za"},{"$f":"'73'!$AF36","v":"zo"},{"$f":"'73'!$AF37","v":0},{"$f":"'73'!$AF38","v":0},{"$f":"'73'!$AF39","v":0},{"$f":"'73'!$AG9","v":0},{"$f":"'73'!$AG10","v":"fd"},{"$f":"'73'!$AG11","v":"za"},{"$f":"'73'!$AG12","v":"zo"},{"$f":"'73'!$AG13","v":0},{"$f":"'73'!$AG14","v":0},{"$f":"'73'!$AG15","v":0},{"$f":"'73'!$AG16","v":0},{"$f":"'73'!$AG17","v":0},{"$f":"'73'!$AG18","v":"za"},{"$f":"'73'!$AG19","v":"zo"},{"$f":"'73'!$AG20","v":"fd"},{"$f":"'73'!$AG21","v":0},{"$f":"'73'!$AG22","v":0},{"$f":"'73'!$AG23","v":0},{"$f":"'73'!$AG24","v":0},{"$f":"'73'!$AG25","v":"za"},{"$f":"'73'!$AG26","v":"zo"},{"$f":"'73'!$AG27","v":0},{"$f":"'73'!$AG28","v":0},{"$f":"'73'!$AG29","v":0},{"$f":"'73'!$AG30","v":0},{"$f":"'73'!$AG31","v":0},{"$f":"'73'!$AG32","v":"za"},{"$f":"'73'!$AG33","v":"zo"},{"$f":"'73'!$AG34","v":0},{"$f":"'73'!$AG35","v":0},{"$f":"'73'!$AG36","v":0},{"$f":"'73'!$AG37","v":0},{"$f":"'73'!$AG38","v":0},{"$f":"'73'!$AH9","v":"za"},{"$f":"'73'!$AH10","v":"zo"},{"$f":"'73'!$AH11","v":0},{"$f":"'73'!$AH12","v":0},{"$f":"'73'!$AH13","v":0},{"$f":"'73'!$AH14","v":0},{"$f":"'73'!$AH15","v":0},{"$f":"'73'!$AH16","v":"za"},{"$f":"'73'!$AH17","v":"zo"},{"$f":"'73'!$AH18","v":0},{"$f":"'73'!$AH19","v":0},{"$f":"'73'!$AH20","v":0},{"$f":"'73'!$AH21","v":0},{"$f":"'73'!$AH22","v":0},{"$f":"'73'!$AH23","v":"za"},{"$f":"'73'!$AH24","v":"zo"},{"$f":"'73'!$AH25","v":0},{"$f":"'73'!$AH26","v":0},{"$f":"'73'!$AH27","v":0},{"$f":"'73'!$AH28","v":0},{"$f":"'73'!$AH29","v":0},{"$f":"'73'!$AH30","v":"za"},{"$f":"'73'!$AH31","v":"zo"},{"$f":"'73'!$AH32","v":0},{"$f":"'73'!$AH33","v":0},{"$f":"'73'!$AH34","v":"fd"},{"$f":"'73'!$AH35","v":0},{"$f":"'73'!$AH36","v":0},{"$f":"'73'!$AH37","v":"za"},{"$f":"'73'!$AH38","v":"zo"},{"$f":"'73'!$AH39","v":0}]
["82",{"$f":"'82'!$B$1","v":"Vedda Angelo Jean- Louis"},0,"fd","vvj",0,0,"za","zo",0,0,0,0,0,"za","zo",0,0,0,0,0,"za","zo",0,0,0,0,0,"za","zo",0,0,0,0,0,"za","zo",0,0,0,0,0,"za","zo",0,0,0,0,0,"za","zo",0,0,0,0,0,"za","zo",0,0,0,{"$f":"'82'!$X37","v":0},{"$f":"'82'!$X38","v":0},{"$f":"'82'!$X39","v":0},{"$f":"'82'!$Y9","v":0},{"$f":"'82'!$Y10","v":0},{"$f":"'82'!$Y11","v":"za"},{"$f":"'82'!$Y12","v":"zo"},{"$f":"'82'!$Y13","v":0},{"$f":"'82'!$Y14","v":0},{"$f":"'82'!$Y15","v":0},{"$f":"'82'!$Y16","v":0},{"$f":"'82'!$Y17","v":0},{"$f":"'82'!$Y18","v":"za"},{"$f":"'82'!$Y19","v":"zo"},{"$f":"'82'!$Y20","v":0},{"$f":"'82'!$Y21","v":0},{"$f":"'82'!$Y22","v":0},{"$f":"'82'!$Y23","v":0},{"$f":"'82'!$Y24","v":0},{"$f":"'82'!$Y25","v":"za"},{"$f":"'82'!$Y26","v":"zo"},{"$f":"'82'!$Y27","v":0},{"$f":"'82'!$Y28","v":0},{"$f":"'82'!$Y29","v":0},{"$f":"'82'!$Y30","v":0},{"$f":"'82'!$Y31","v":0},{"$f":"'82'!$Y32","v":"za"},{"$f":"'82'!$Y33","v":"zo"},{"$f":"'82'!$Y34","v":0},{"$f":"'82'!$Y35","v":0},{"$f":"'82'!$Y36","v":0},{"$f":"'82'!$Y37","v":0},{"$f":"'82'!$Y38","v":0},{"$f":"'82'!$Y39","v":"za"},{"$f":"'82'!$Z9","v":"zo"},{"$f":"'82'!$Z10","v":0},{"$f":"'82'!$Z11","v":0},{"$f":"'82'!$Z12","v":0},{"$f":"'82'!$Z13","v":0},{"$f":"'82'!$Z14","v":0},{"$f":"'82'!$Z15","v":"za"},{"$f":"'82'!$Z16","v":"zo"},{"$f":"'82'!$Z17","v":0},{"$f":"'82'!$Z18","v":0},{"$f":"'82'!$Z19","v":0},{"$f":"'82'!$Z20","v":0},{"$f":"'82'!$Z21","v":0},{"$f":"'82'!$Z22","v":"za"},{"$f":"'82'!$Z23","v":"zo"},{"$f":"'82'!$Z24","v":0},{"$f":"'82'!$Z25","v":0},{"$f":"'82'!$Z26","v":0},{"$f":"'82'!$Z27","v":0},{"$f":"'82'!$Z28","v":0},{"$f":"'82'!$Z29","v":"za"},{"$f":"'82'!$Z30","v":"zo"},{"$f":"'82'!$Z31","v":"fd"},{"$f":"'82'!$Z32","v":0},{"$f":"'82'!$Z33","v":0},{"$f":"'82'!$Z34","v":0},{"$f":"'82'!$Z35","v":0},{"$f":"'82'!$Z36","v":"za"},{"$f":"'82'!$Z37","v":"zo"},{"$f":"'82'!$Z38","v":0},{"$f":"'82'!$AA9","v":0},{"$f":"'82'!$AA10","v":"fd"},{"$f":"'82'!$AA11","v":0},{"$f":"'82'!$AA12","v":0},{"$f":"'82'!$AA13","v":"za"},{"$f":"'82'!$AA14","v":"zo"},{"$f":"'82'!$AA15","v":0},{"$f":"'82'!$AA16","v":0},{"$f":"'82'!$AA17","v":0},{"$f":"'82'!$AA18","v":0},{"$f":"'82'!$AA19","v":0},{"$f":"'82'!$AA20","v":"za"},{"$f":"'82'!$AA21","v":"zo"},{"$f":"'82'!$AA22","v":0},{"$f":"'82'!$AA23","v":0},{"$f":"'82'!$AA24","v":0},{"$f":"'82'!$AA25","v":0},{"$f":"'82'!$AA26","v":0},{"$f":"'82'!$AA27","v":"za"},{"$f":"'82'!$AA28","v":"zo"},{"$f":"'82'!$AA29","v":"fd"},{"$f":"'82'!$AA30","v":0},{"$f":"'82'!$AA31","v":0},{"$f":"'82'!$AA32","v":0},{"$f":"'82'!$AA33","v":0},{"$f":"'82'!$AA34","v":"za"},{"$f":"'82'!$AA35","v":"zo"},{"$f":"'82'!$AA36","v":0},{"$f":"'82'!$AA37","v":0},{"$f":"'82'!$AA38","v":0},{"$f":"'82'!$AA39","v":"fd"},{"$f":"'82'!$AB9","v":0},{"$f":"'82'!$AB10","v":"za"},{"$f":"'82'!$AB11","v":"zo"},{"$f":"'82'!$AB12","v":0},{"$f":"'82'!$AB13","v":0},{"$f":"'82'!$AB14","v":0},{"$f":"'82'!$AB15","v":0},{"$f":"'82'!$AB16","v":0},{"$f":"'82'!$AB17","v":"za"},{"$f":"'82'!$AB18","v":"zo"},{"$f":"'82'!$AB19","v":"fd"},{"$f":"'82'!$AB20","v":0},{"$f":"'82'!$AB21","v":0},{"$f":"'82'!$AB22","v":0},{"$f":"'82'!$AB23","v":0},{"$f":"'82'!$AB24","v":"za"},{"$f":"'82'!$AB25","v":"zo"},{"$f":"'82'!$AB26","v":0},{"$f":"'82'!$AB27","v":0},{"$f":"'82'!$AB28","v":0},{"$f":"'82'!$AB29","v":0},{"$f":"'82'!$AB30","v":0},{"$f":"'82'!$AB31","v":"za"},{"$f":"'82'!$AB32","v":"zo"},{"$f":"'82'!$AB33","v":0},{"$f":"'82'!$AB34","v":0},{"$f":"'82'!$AB35","v":0},{"$f":"'82'!$AB36","v":0},{"$f":"'82'!$AB37","v":0},{"$f":"'82'!$AB38","v":"za"},{"$f":"'82'!$AC9","v":"zo"},{"$f":"'82'!$AC10","v":0},{"$f":"'82'!$AC11","v":0},{"$f":"'82'!$AC12","v":0},{"$f":"'82'!$AC13","v":0},{"$f":"'82'!$AC14","v":0},{"$f":"'82'!$AC15","v":"za"},{"$f":"'82'!$AC16","v":"zo"},{"$f":"'82'!$AC17","v":0},{"$f":"'82'!$AC18","v":0},{"$f":"'82'!$AC19","v":0},{"$f":"'82'!$AC20","v":0},{"$f":"'82'!$AC21","v":0},{"$f":"'82'!$AC22","v":"za"},{"$f":"'82'!$AC23","v":"zo"},{"$f":"'82'!$AC24","v":0},{"$f":"'82'!$AC25","v":0},{"$f":"'82'!$AC26","v":0},{"$f":"'82'!$AC27","v":0},{"$f":"'82'!$AC28","v":0},{"$f":"'82'!$AC29","v":"za"},{"$f":"'82'!$AC30","v":"zo"},{"$f":"'82'!$AC31","v":0},{"$f":"'82'!$AC32","v":0},{"$f":"'82'!$AC33","v":0},{"$f":"'82'!$AC34","v":0},{"$f":"'82'!$AC35","v":0},{"$f":"'82'!$AC36","v":"za"},{"$f":"'82'!$AC37","v":"zo"},{"$f":"'82'!$AC38","v":0},{"$f":"'82'!$AC39","v":0},{"$f":"'82'!$AD9","v":0},{"$f":"'82'!$AD10","v":0},{"$f":"'82'!$AD11","v":0},{"$f":"'82'!$AD12","v":"za"},{"$f":"'82'!$AD13","v":"zo"},{"$f":"'82'!$AD14","v":0},{"$f":"'82'!$AD15","v":0},{"$f":"'82'!$AD16","v":0},{"$f":"'82'!$AD17","v":0},{"$f":"'82'!$AD18","v":0},{"$f":"'82'!$AD19","v":"za"},{"$f":"'82'!$AD20","v":"zo"},{"$f":"'82'!$AD21","v":0},{"$f":"'82'!$AD22","v":0},{"$f":"'82'!$AD23","v":0},{"$f":"'82'!$AD24","v":"fd"},{"$f":"'82'!$AD25","v":0},{"$f":"'82'!$AD26","v":"za"},{"$f":"'82'!$AD27","v":"zo"},{"$f":"'82'!$AD28","v":0},{"$f":"'82'!$AD29","v":0},{"$f":"'82'!$AD30","v":0},{"$f":"'82'!$AD31","v":0},{"$f":"'82'!$AD32","v":0},{"$f":"'82'!$AD33","v":"za"},{"$f":"'82'!$AD34","v":"zo"},{"$f":"'82'!$AD35","v":0},{"$f":"'82'!$AD36","v":0},{"$f":"'82'!$AD37","v":0},{"$f":"'82'!$AD38","v":0},{"$f":"'82'!$AD39","v":0},{"$f":"'82'!$AE9","v":"za"},{"$f":"'82'!$AE10","v":"zo"},{"$f":"'82'!$AE11","v":0},{"$f":"'82'!$AE12","v":0},{"$f":"'82'!$AE13","v":0},{"$f":"'82'!$AE14","v":0},{"$f":"'82'!$AE15","v":0},{"$f":"'82'!$AE16","v":"za"},{"$f":"'82'!$AE17","v":"zo"},{"$f":"'82'!$AE18","v":0},{"$f":"'82'!$AE19","v":0},{"$f":"'82'!$AE20","v":0},{"$f":"'82'!$AE21","v":0},{"$f":"'82'!$AE22","v":0},{"$f":"'82'!$AE23","v":"za"},{"$f":"'82'!$AE24","v":"zo"},{"$f":"'82'!$AE25","v":0},{"$f":"'82'!$AE26","v":0},{"$f":"'82'!$AE27","v":0},{"$f":"'82'!$AE28","v":0},{"$f":"'82'!$AE29","v":0},{"$f":"'82'!$AE30","v":"za"},{"$f":"'82'!$AE31","v":"zo"},{"$f":"'82'!$AE32","v":0},{"$f":"'82'!$AE33","v":0},{"$f":"'82'!$AE34","v":0},{"$f":"'82'!$AE35","v":0},{"$f":"'82'!$AE36","v":0},{"$f":"'82'!$AE37","v":"za"},{"$f":"'82'!$AE38","v":"zo"},{"$f":"'82'!$AF9","v":0},{"$f":"'82'!$AF10","v":0},{"$f":"'82'!$AF11","v":0},{"$f":"'82'!$AF12","v":0},{"$f":"'82'!$AF13","v":0},{"$f":"'82'!$AF14","v":"za"},{"$f":"'82'!$AF15","v":"zo"},{"$f":"'82'!$AF16","v":0},{"$f":"'82'!$AF17","v":0},{"$f":"'82'!$AF18","v":0},{"$f":"'82'!$AF19","v":0},{"$f":"'82'!$AF20","v":0},{"$f":"'82'!$AF21","v":"za"},{"$f":"'82'!$AF22","v":"zo"},{"$f":"'82'!$AF23","v":0},{"$f":"'82'!$AF24","v":0},{"$f":"'82'!$AF25","v":0},{"$f":"'82'!$AF26","v":0},{"$f":"'82'!$AF27","v":0},{"$f":"'82'!$AF28","v":"za"},{"$f":"'82'!$AF29","v":"zo"},{"$f":"'82'!$AF30","v":0},{"$f":"'82'!$AF31","v":0},{"$f":"'82'!$AF32","v":0},{"$f":"'82'!$AF33","v":0},{"$f":"'82'!$AF34","v":0},{"$f":"'82'!$AF35","v":"za"},{"$f":"'82'!$AF36","v":"zo"},{"$f":"'82'!$AF37","v":0},{"$f":"'82'!$AF38","v":0},{"$f":"'82'!$AF39","v":0},{"$f":"'82'!$AG9","v":0},{"$f":"'82'!$AG10","v":"fd"},{"$f":"'82'!$AG11","v":"za"},{"$f":"'82'!$AG12","v":"zo"},{"$f":"'82'!$AG13","v":0},{"$f":"'82'!$AG14","v":0},{"$f":"'82'!$AG15","v":0},{"$f":"'82'!$AG16","v":0},{"$f":"'82'!$AG17","v":0},{"$f":"'82'!$AG18","v":"za"},{"$f":"'82'!$AG19","v":"zo"},{"$f":"'82'!$AG20","v":"fd"},{"$f":"'82'!$AG21","v":0},{"$f":"'82'!$AG22","v":0},{"$f":"'82'!$AG23","v":0},{"$f":"'82'!$AG24","v":0},{"$f":"'82'!$AG25","v":"za"},{"$f":"'82'!$AG26","v":"zo"},{"$f":"'82'!$AG27","v":0},{"$f":"'82'!$AG28","v":0},{"$f":"'82'!$AG29","v":0},{"$f":"'82'!$AG30","v":0},{"$f":"'82'!$AG31","v":0},{"$f":"'82'!$AG32","v":"za"},{"$f":"'82'!$AG33","v":"zo"},{"$f":"'82'!$AG34","v":0},{"$f":"'82'!$AG35","v":0},{"$f":"'82'!$AG36","v":0},{"$f":"'82'!$AG37","v":0},{"$f":"'82'!$AG38","v":0},{"$f":"'82'!$AH9","v":"za"},{"$f":"'82'!$AH10","v":"zo"},{"$f":"'82'!$AH11","v":0},{"$f":"'82'!$AH12","v":0},{"$f":"'82'!$AH13","v":0},{"$f":"'82'!$AH14","v":0},{"$f":"'82'!$AH15","v":0},{"$f":"'82'!$AH16","v":"za"},{"$f":"'82'!$AH17","v":"zo"},{"$f":"'82'!$AH18","v":0},{"$f":"'82'!$AH19","v":0},{"$f":"'82'!$AH20","v":0},{"$f":"'82'!$AH21","v":0},{"$f":"'82'!$AH22","v":0},{"$f":"'82'!$AH23","v":"za"},{"$f":"'82'!$AH24","v":"zo"},{"$f":"'82'!$AH25","v":0},{"$f":"'82'!$AH26","v":0},{"$f":"'82'!$AH27","v":0},{"$f":"'82'!$AH28","v":0},{"$f":"'82'!$AH29","v":0},{"$f":"'82'!$AH30","v":"za"},{"$f":"'82'!$AH31","v":"zo"},{"$f":"'82'!$AH32","v":0},{"$f":"'82'!$AH33","v":0},{"$f":"'82'!$AH34","v":"fd"},{"$f":"'82'!$AH35","v":0},{"$f":"'82'!$AH36","v":0},{"$f":"'82'!$AH37","v":"za"},{"$f":"'82'!$AH38","v":"zo"},{"$f":"'82'!$AH39","v":0}]
["83",{"$f":"'83'!$B$1","v":"El Filali Chrif"},"RO","fd",0,0,0,"za","zo",0,0,0,0,0,"za","zo",0,0,0,0,0,"za","zo",0,0,0,0,0,"za","zo",0,0,0,0,0,"za","zo",0,0,0,0,0,"za","zo",0,0,0,0,0,"za","zo",0,0,0,0,0,"za","zo",0,0,0,{"$f":"'83'!$X37","v":0},{"$f":"'83'!$X38","v":0},{"$f":"'83'!$X39","v":0},{"$f":"'83'!$Y9","v":0},{"$f":"'83'!$Y10","v":0},{"$f":"'83'!$Y11","v":"za"},{"$f":"'83'!$Y12","v":"zo"},{"$f":"'83'!$Y13","v":0},{"$f":"'83'!$Y14","v":0},{"$f":"'83'!$Y15","v":0},{"$f":"'83'!$Y16","v":0},{"$f":"'83'!$Y17","v":0},{"$f":"'83'!$Y18","v":"za"},{"$f":"'83'!$Y19","v":"zo"},{"$f":"'83'!$Y20","v":0},{"$f":"'83'!$Y21","v":0},{"$f":"'83'!$Y22","v":0},{"$f":"'83'!$Y23","v":0},{"$f":"'83'!$Y24","v":0},{"$f":"'83'!$Y25","v":"za"},{"$f":"'83'!$Y26","v":"zo"},{"$f":"'83'!$Y27","v":0},{"$f":"'83'!$Y28","v":0},{"$f":"'83'!$Y29","v":0},{"$f":"'83'!$Y30","v":0},{"$f":"'83'!$Y31","v":0},{"$f":"'83'!$Y32","v":"za"},{"$f":"'83'!$Y33","v":"zo"},{"$f":"'83'!$Y34","v":0},{"$f":"'83'!$Y35","v":0},{"$f":"'83'!$Y36","v":0},{"$f":"'83'!$Y37","v":0},{"$f":"'83'!$Y38","v":0},{"$f":"'83'!$Y39","v":"za"},{"$f":"'83'!$Z9","v":"zo"},{"$f":"'83'!$Z10","v":0},{"$f":"'83'!$Z11","v":0},{"$f":"'83'!$Z12","v":0},{"$f":"'83'!$Z13","v":0},{"$f":"'83'!$Z14","v":0},{"$f":"'83'!$Z15","v":"za"},{"$f":"'83'!$Z16","v":"zo"},{"$f":"'83'!$Z17","v":0},{"$f":"'83'!$Z18","v":0},{"$f":"'83'!$Z19","v":0},{"$f":"'83'!$Z20","v":0},{"$f":"'83'!$Z21","v":0},{"$f":"'83'!$Z22","v":"za"},{"$f":"'83'!$Z23","v":"zo"},{"$f":"'83'!$Z24","v":0},{"$f":"'83'!$Z25","v":0},{"$f":"'83'!$Z26","v":0},{"$f":"'83'!$Z27","v":0},{"$f":"'83'!$Z28","v":0},{"$f":"'83'!$Z29","v":"za"},{"$f":"'83'!$Z30","v":"zo"},{"$f":"'83'!$Z31","v":"fd"},{"$f":"'83'!$Z32","v":0},{"$f":"'83'!$Z33","v":0},{"$f":"'83'!$Z34","v":0},{"$f":"'83'!$Z35","v":0},{"$f":"'83'!$Z36","v":"za"},{"$f":"'83'!$Z37","v":"zo"},{"$f":"'83'!$Z38","v":0},{"$f":"'83'!$AA9","v":0},{"$f":"'83'!$AA10","v":"fd"},{"$f":"'83'!$AA11","v":0},{"$f":"'83'!$AA12","v":0},{"$f":"'83'!$AA13","v":"za"},{"$f":"'83'!$AA14","v":"zo"},{"$f":"'83'!$AA15","v":0},{"$f":"'83'!$AA16","v":0},{"$f":"'83'!$AA17","v":0},{"$f":"'83'!$AA18","v":0},{"$f":"'83'!$AA19","v":0},{"$f":"'83'!$AA20","v":"za"},{"$f":"'83'!$AA21","v":"zo"},{"$f":"'83'!$AA22","v":0},{"$f":"'83'!$AA23","v":0},{"$f":"'83'!$AA24","v":0},{"$f":"'83'!$AA25","v":0},{"$f":"'83'!$AA26","v":0},{"$f":"'83'!$AA27","v":"za"},{"$f":"'83'!$AA28","v":"zo"},{"$f":"'83'!$AA29","v":"fd"},{"$f":"'83'!$AA30","v":0},{"$f":"'83'!$AA31","v":0},{"$f":"'83'!$AA32","v":0},{"$f":"'83'!$AA33","v":0},{"$f":"'83'!$AA34","v":"za"},{"$f":"'83'!$AA35","v":"zo"},{"$f":"'83'!$AA36","v":0},{"$f":"'83'!$AA37","v":0},{"$f":"'83'!$AA38","v":0},{"$f":"'83'!$AA39","v":"fd"},{"$f":"'83'!$AB9","v":0},{"$f":"'83'!$AB10","v":"za"},{"$f":"'83'!$AB11","v":"zo"},{"$f":"'83'!$AB12","v":0},{"$f":"'83'!$AB13","v":0},{"$f":"'83'!$AB14","v":0},{"$f":"'83'!$AB15","v":0},{"$f":"'83'!$AB16","v":0},{"$f":"'83'!$AB17","v":"za"},{"$f":"'83'!$AB18","v":"zo"},{"$f":"'83'!$AB19","v":"fd"},{"$f":"'83'!$AB20","v":0},{"$f":"'83'!$AB21","v":0},{"$f":"'83'!$AB22","v":0},{"$f":"'83'!$AB23","v":0},{"$f":"'83'!$AB24","v":"za"},{"$f":"'83'!$AB25","v":"zo"},{"$f":"'83'!$AB26","v":0},{"$f":"'83'!$AB27","v":0},{"$f":"'83'!$AB28","v":0},{"$f":"'83'!$AB29","v":0},{"$f":"'83'!$AB30","v":0},{"$f":"'83'!$AB31","v":"za"},{"$f":"'83'!$AB32","v":"zo"},{"$f":"'83'!$AB33","v":0},{"$f":"'83'!$AB34","v":0},{"$f":"'83'!$AB35","v":0},{"$f":"'83'!$AB36","v":0},{"$f":"'83'!$AB37","v":0},{"$f":"'83'!$AB38","v":"za"},{"$f":"'83'!$AC9","v":"zo"},{"$f":"'83'!$AC10","v":0},{"$f":"'83'!$AC11","v":0},{"$f":"'83'!$AC12","v":0},{"$f":"'83'!$AC13","v":0},{"$f":"'83'!$AC14","v":0},{"$f":"'83'!$AC15","v":"za"},{"$f":"'83'!$AC16","v":"zo"},{"$f":"'83'!$AC17","v":0},{"$f":"'83'!$AC18","v":0},{"$f":"'83'!$AC19","v":0},{"$f":"'83'!$AC20","v":0},{"$f":"'83'!$AC21","v":0},{"$f":"'83'!$AC22","v":"za"},{"$f":"'83'!$AC23","v":"zo"},{"$f":"'83'!$AC24","v":0},{"$f":"'83'!$AC25","v":0},{"$f":"'83'!$AC26","v":0},{"$f":"'83'!$AC27","v":0},{"$f":"'83'!$AC28","v":0},{"$f":"'83'!$AC29","v":"za"},{"$f":"'83'!$AC30","v":"zo"},{"$f":"'83'!$AC31","v":0},{"$f":"'83'!$AC32","v":0},{"$f":"'83'!$AC33","v":0},{"$f":"'83'!$AC34","v":0},{"$f":"'83'!$AC35","v":0},{"$f":"'83'!$AC36","v":"za"},{"$f":"'83'!$AC37","v":"zo"},{"$f":"'83'!$AC38","v":0},{"$f":"'83'!$AC39","v":0},{"$f":"'83'!$AD9","v":0},{"$f":"'83'!$AD10","v":0},{"$f":"'83'!$AD11","v":0},{"$f":"'83'!$AD12","v":"za"},{"$f":"'83'!$AD13","v":"zo"},{"$f":"'83'!$AD14","v":0},{"$f":"'83'!$AD15","v":0},{"$f":"'83'!$AD16","v":0},{"$f":"'83'!$AD17","v":0},{"$f":"'83'!$AD18","v":0},{"$f":"'83'!$AD19","v":"za"},{"$f":"'83'!$AD20","v":"zo"},{"$f":"'83'!$AD21","v":0},{"$f":"'83'!$AD22","v":0},{"$f":"'83'!$AD23","v":0},{"$f":"'83'!$AD24","v":"fd"},{"$f":"'83'!$AD25","v":0},{"$f":"'83'!$AD26","v":"za"},{"$f":"'83'!$AD27","v":"zo"},{"$f":"'83'!$AD28","v":0},{"$f":"'83'!$AD29","v":0},{"$f":"'83'!$AD30","v":0},{"$f":"'83'!$AD31","v":0},{"$f":"'83'!$AD32","v":0},{"$f":"'83'!$AD33","v":"za"},{"$f":"'83'!$AD34","v":"zo"},{"$f":"'83'!$AD35","v":0},{"$f":"'83'!$AD36","v":0},{"$f":"'83'!$AD37","v":0},{"$f":"'83'!$AD38","v":0},{"$f":"'83'!$AD39","v":0},{"$f":"'83'!$AE9","v":"za"},{"$f":"'83'!$AE10","v":"zo"},{"$f":"'83'!$AE11","v":0},{"$f":"'83'!$AE12","v":0},{"$f":"'83'!$AE13","v":0},{"$f":"'83'!$AE14","v":0},{"$f":"'83'!$AE15","v":0},{"$f":"'83'!$AE16","v":"za"},{"$f":"'83'!$AE17","v":"zo"},{"$f":"'83'!$AE18","v":0},{"$f":"'83'!$AE19","v":0},{"$f":"'83'!$AE20","v":0},{"$f":"'83'!$AE21","v":0},{"$f":"'83'!$AE22","v":0},{"$f":"'83'!$AE23","v":"za"},{"$f":"'83'!$AE24","v":"zo"},{"$f":"'83'!$AE25","v":0},{"$f":"'83'!$AE26","v":0},{"$f":"'83'!$AE27","v":0},{"$f":"'83'!$AE28","v":0},{"$f":"'83'!$AE29","v":0},{"$f":"'83'!$AE30","v":"za"},{"$f":"'83'!$AE31","v":"zo"},{"$f":"'83'!$AE32","v":0},{"$f":"'83'!$AE33","v":0},{"$f":"'83'!$AE34","v":0},{"$f":"'83'!$AE35","v":0},{"$f":"'83'!$AE36","v":0},{"$f":"'83'!$AE37","v":"za"},{"$f":"'83'!$AE38","v":"zo"},{"$f":"'83'!$AF9","v":0},{"$f":"'83'!$AF10","v":0},{"$f":"'83'!$AF11","v":0},{"$f":"'83'!$AF12","v":0},{"$f":"'83'!$AF13","v":0},{"$f":"'83'!$AF14","v":"za"},{"$f":"'83'!$AF15","v":"zo"},{"$f":"'83'!$AF16","v":0},{"$f":"'83'!$AF17","v":0},{"$f":"'83'!$AF18","v":0},{"$f":"'83'!$AF19","v":0},{"$f":"'83'!$AF20","v":0},{"$f":"'83'!$AF21","v":"za"},{"$f":"'83'!$AF22","v":"zo"},{"$f":"'83'!$AF23","v":0},{"$f":"'83'!$AF24","v":0},{"$f":"'83'!$AF25","v":0},{"$f":"'83'!$AF26","v":0},{"$f":"'83'!$AF27","v":0},{"$f":"'83'!$AF28","v":"za"},{"$f":"'83'!$AF29","v":"zo"},{"$f":"'83'!$AF30","v":0},{"$f":"'83'!$AF31","v":0},{"$f":"'83'!$AF32","v":0},{"$f":"'83'!$AF33","v":0},{"$f":"'83'!$AF34","v":0},{"$f":"'83'!$AF35","v":"za"},{"$f":"'83'!$AF36","v":"zo"},{"$f":"'83'!$AF37","v":0},{"$f":"'83'!$AF38","v":0},{"$f":"'83'!$AF39","v":0},{"$f":"'83'!$AG9","v":0},{"$f":"'83'!$AG10","v":"fd"},{"$f":"'83'!$AG11","v":"za"},{"$f":"'83'!$AG12","v":"zo"},{"$f":"'83'!$AG13","v":0},{"$f":"'83'!$AG14","v":0},{"$f":"'83'!$AG15","v":0},{"$f":"'83'!$AG16","v":0},{"$f":"'83'!$AG17","v":0},{"$f":"'83'!$AG18","v":"za"},{"$f":"'83'!$AG19","v":"zo"},{"$f":"'83'!$AG20","v":"fd"},{"$f":"'83'!$AG21","v":0},{"$f":"'83'!$AG22","v":0},{"$f":"'83'!$AG23","v":0},{"$f":"'83'!$AG24","v":0},{"$f":"'83'!$AG25","v":"za"},{"$f":"'83'!$AG26","v":"zo"},{"$f":"'83'!$AG27","v":0},{"$f":"'83'!$AG28","v":0},{"$f":"'83'!$AG29","v":0},{"$f":"'83'!$AG30","v":0},{"$f":"'83'!$AG31","v":0},{"$f":"'83'!$AG32","v":"za"},{"$f":"'83'!$AG33","v":"zo"},{"$f":"'83'!$AG34","v":0},{"$f":"'83'!$AG35","v":0},{"$f":"'83'!$AG36","v":0},{"$f":"'83'!$AG37","v":0},{"$f":"'83'!$AG38","v":0},{"$f":"'83'!$AH9","v":"za"},{"$f":"'83'!$AH10","v":"zo"},{"$f":"'83'!$AH11","v":0},{"$f":"'83'!$AH12","v":0},{"$f":"'83'!$AH13","v":0},{"$f":"'83'!$AH14","v":0},{"$f":"'83'!$AH15","v":0},{"$f":"'83'!$AH16","v":"za"},{"$f":"'83'!$AH17","v":"zo"},{"$f":"'83'!$AH18","v":0},{"$f":"'83'!$AH19","v":0},{"$f":"'83'!$AH20","v":0},{"$f":"'83'!$AH21","v":0},{"$f":"'83'!$AH22","v":0},{"$f":"'83'!$AH23","v":"za"},{"$f":"'83'!$AH24","v":"zo"},{"$f":"'83'!$AH25","v":0},{"$f":"'83'!$AH26","v":0},{"$f":"'83'!$AH27","v":0},{"$f":"'83'!$AH28","v":0},{"$f":"'83'!$AH29","v":0},{"$f":"'83'!$AH30","v":"za"},{"$f":"'83'!$AH31","v":"zo"},{"$f":"'83'!$AH32","v":0},{"$f":"'83'!$AH33","v":0},{"$f":"'83'!$AH34","v":"fd"},{"$f":"'83'!$AH35","v":0},{"$f":"'83'!$AH36","v":0},{"$f":"'83'!$AH37","v":"za"},{"$f":"'83'!$AH38","v":"zo"},{"$f":"'83'!$AH39","v":0}]
[85,{"$f":"'85'!$B$1","v":"Teibe Galid"},"OK","fd","ZOA","ZOA","ZOA","za","zo","z","z","z","z","z","za","zo","z","z","z","z","z","za","zo",0,0,0,0,0,"za","zo",0,0,0,0,0,"za","zo",0,0,0,0,0,"za","zo",0,0,0,0,0,"za","zo",0,0,0,0,0,"za","zo",0,0,0,{"$f":"'85'!$X37","v":0},{"$f":"'85'!$X38","v":0},{"$f":"'85'!$X39","v":0},{"$f":"'85'!$Y9","v":0},{"$f":"'85'!$Y10","v":0},{"$f":"'85'!$Y11","v":"za"},{"$f":"'85'!$Y12","v":"zo"},{"$f":"'85'!$Y13","v":0},{"$f":"'85'!$Y14","v":0},{"$f":"'85'!$Y15","v":0},{"$f":"'85'!$Y16","v":0},{"$f":"'85'!$Y17","v":0},{"$f":"'85'!$Y18","v":"za"},{"$f":"'85'!$Y19","v":"zo"},{"$f":"'85'!$Y20","v":0},{"$f":"'85'!$Y21","v":0},{"$f":"'85'!$Y22","v":0},{"$f":"'85'!$Y23","v":0},{"$f":"'85'!$Y24","v":0},{"$f":"'85'!$Y25","v":"za"},{"$f":"'85'!$Y26","v":"zo"},{"$f":"'85'!$Y27","v":0},{"$f":"'85'!$Y28","v":0},{"$f":"'85'!$Y29","v":0},{"$f":"'85'!$Y30","v":0},{"$f":"'85'!$Y31","v":0},{"$f":"'85'!$Y32","v":"za"},{"$f":"'85'!$Y33","v":"zo"},{"$f":"'85'!$Y34","v":0},{"$f":"'85'!$Y35","v":0},{"$f":"'85'!$Y36","v":0},{"$f":"'85'!$Y37","v":0},{"$f":"'85'!$Y38","v":0},{"$f":"'85'!$Y39","v":"za"},{"$f":"'85'!$Z9","v":"zo"},{"$f":"'85'!$Z10","v":0},{"$f":"'85'!$Z11","v":0},{"$f":"'85'!$Z12","v":0},{"$f":"'85'!$Z13","v":0},{"$f":"'85'!$Z14","v":0},{"$f":"'85'!$Z15","v":"za"},{"$f":"'85'!$Z16","v":"zo"},{"$f":"'85'!$Z17","v":0},{"$f":"'85'!$Z18","v":0},{"$f":"'85'!$Z19","v":0},{"$f":"'85'!$Z20","v":0},{"$f":"'85'!$Z21","v":0},{"$f":"'85'!$Z22","v":"za"},{"$f":"'85'!$Z23","v":"zo"},{"$f":"'85'!$Z24","v":0},{"$f":"'85'!$Z25","v":0},{"$f":"'85'!$Z26","v":0},{"$f":"'85'!$Z27","v":0},{"$f":"'85'!$Z28","v":0},{"$f":"'85'!$Z29","v":"za"},{"$f":"'85'!$Z30","v":"zo"},{"$f":"'85'!$Z31","v":"fd"},{"$f":"'85'!$Z32","v":0},{"$f":"'85'!$Z33","v":0},{"$f":"'85'!$Z34","v":0},{"$f":"'85'!$Z35","v":0},{"$f":"'85'!$Z36","v":"za"},{"$f":"'85'!$Z37","v":"zo"},{"$f":"'85'!$Z38","v":0},{"$f":"'85'!$AA9","v":0},{"$f":"'85'!$AA10","v":"fd"},{"$f":"'85'!$AA11","v":0},{"$f":"'85'!$AA12","v":0},{"$f":"'85'!$AA13","v":"za"},{"$f":"'85'!$AA14","v":"zo"},{"$f":"'85'!$AA15","v":0},{"$f":"'85'!$AA16","v":0},{"$f":"'85'!$AA17","v":0},{"$f":"'85'!$AA18","v":0},{"$f":"'85'!$AA19","v":0},{"$f":"'85'!$AA20","v":"za"},{"$f":"'85'!$AA21","v":"zo"},{"$f":"'85'!$AA22","v":0},{"$f":"'85'!$AA23","v":0},{"$f":"'85'!$AA24","v":0},{"$f":"'85'!$AA25","v":0},{"$f":"'85'!$AA26","v":0},{"$f":"'85'!$AA27","v":"za"},{"$f":"'85'!$AA28","v":"zo"},{"$f":"'85'!$AA29","v":"fd"},{"$f":"'85'!$AA30","v":0},{"$f":"'85'!$AA31","v":0},{"$f":"'85'!$AA32","v":0},{"$f":"'85'!$AA33","v":0},{"$f":"'85'!$AA34","v":"za"},{"$f":"'85'!$AA35","v":"zo"},{"$f":"'85'!$AA36","v":0},{"$f":"'85'!$AA37","v":0},{"$f":"'85'!$AA38","v":0},{"$f":"'85'!$AA39","v":"fd"},{"$f":"'85'!$AB9","v":0},{"$f":"'85'!$AB10","v":"za"},{"$f":"'85'!$AB11","v":"zo"},{"$f":"'85'!$AB12","v":0},{"$f":"'85'!$AB13","v":0},{"$f":"'85'!$AB14","v":0},{"$f":"'85'!$AB15","v":0},{"$f":"'85'!$AB16","v":0},{"$f":"'85'!$AB17","v":"za"},{"$f":"'85'!$AB18","v":"zo"},{"$f":"'85'!$AB19","v":"fd"},{"$f":"'85'!$AB20","v":0},{"$f":"'85'!$AB21","v":0},{"$f":"'85'!$AB22","v":0},{"$f":"'85'!$AB23","v":0},{"$f":"'85'!$AB24","v":"za"},{"$f":"'85'!$AB25","v":"zo"},{"$f":"'85'!$AB26","v":0},{"$f":"'85'!$AB27","v":0},{"$f":"'85'!$AB28","v":0},{"$f":"'85'!$AB29","v":0},{"$f":"'85'!$AB30","v":0},{"$f":"'85'!$AB31","v":"za"},{"$f":"'85'!$AB32","v":"zo"},{"$f":"'85'!$AB33","v":0},{"$f":"'85'!$AB34","v":0},{"$f":"'85'!$AB35","v":0},{"$f":"'85'!$AB36","v":0},{"$f":"'85'!$AB37","v":0},{"$f":"'85'!$AB38","v":"za"},{"$f":"'85'!$AC9","v":"zo"},{"$f":"'85'!$AC10","v":0},{"$f":"'85'!$AC11","v":0},{"$f":"'85'!$AC12","v":0},{"$f":"'85'!$AC13","v":0},{"$f":"'85'!$AC14","v":0},{"$f":"'85'!$AC15","v":"za"},{"$f":"'85'!$AC16","v":"zo"},{"$f":"'85'!$AC17","v":0},{"$f":"'85'!$AC18","v":0},{"$f":"'85'!$AC19","v":0},{"$f":"'85'!$AC20","v":0},{"$f":"'85'!$AC21","v":0},{"$f":"'85'!$AC22","v":"za"},{"$f":"'85'!$AC23","v":"zo"},{"$f":"'85'!$AC24","v":0},{"$f":"'85'!$AC25","v":0},{"$f":"'85'!$AC26","v":0},{"$f":"'85'!$AC27","v":0},{"$f":"'85'!$AC28","v":0},{"$f":"'85'!$AC29","v":"za"},{"$f":"'85'!$AC30","v":"zo"},{"$f":"'85'!$AC31","v":0},{"$f":"'85'!$AC32","v":0},{"$f":"'85'!$AC33","v":0},{"$f":"'85'!$AC34","v":0},{"$f":"'85'!$AC35","v":0},{"$f":"'85'!$AC36","v":"za"},{"$f":"'85'!$AC37","v":"zo"},{"$f":"'85'!$AC38","v":0},{"$f":"'85'!$AC39","v":0},{"$f":"'85'!$AD9","v":0},{"$f":"'85'!$AD10","v":0},{"$f":"'85'!$AD11","v":0},{"$f":"'85'!$AD12","v":"za"},{"$f":"'85'!$AD13","v":"zo"},{"$f":"'85'!$AD14","v":0},{"$f":"'85'!$AD15","v":0},{"$f":"'85'!$AD16","v":0},{"$f":"'85'!$AD17","v":0},{"$f":"'85'!$AD18","v":0},{"$f":"'85'!$AD19","v":"za"},{"$f":"'85'!$AD20","v":"zo"},{"$f":"'85'!$AD21","v":0},{"$f":"'85'!$AD22","v":0},{"$f":"'85'!$AD23","v":0},{"$f":"'85'!$AD24","v":"fd"},{"$f":"'85'!$AD25","v":0},{"$f":"'85'!$AD26","v":"za"},{"$f":"'85'!$AD27","v":"zo"},{"$f":"'85'!$AD28","v":0},{"$f":"'85'!$AD29","v":0},{"$f":"'85'!$AD30","v":0},{"$f":"'85'!$AD31","v":0},{"$f":"'85'!$AD32","v":0},{"$f":"'85'!$AD33","v":"za"},{"$f":"'85'!$AD34","v":"zo"},{"$f":"'85'!$AD35","v":0},{"$f":"'85'!$AD36","v":0},{"$f":"'85'!$AD37","v":0},{"$f":"'85'!$AD38","v":0},{"$f":"'85'!$AD39","v":0},{"$f":"'85'!$AE9","v":"za"},{"$f":"'85'!$AE10","v":"zo"},{"$f":"'85'!$AE11","v":0},{"$f":"'85'!$AE12","v":0},{"$f":"'85'!$AE13","v":0},{"$f":"'85'!$AE14","v":0},{"$f":"'85'!$AE15","v":0},{"$f":"'85'!$AE16","v":"za"},{"$f":"'85'!$AE17","v":"zo"},{"$f":"'85'!$AE18","v":0},{"$f":"'85'!$AE19","v":0},{"$f":"'85'!$AE20","v":0},{"$f":"'85'!$AE21","v":0},{"$f":"'85'!$AE22","v":0},{"$f":"'85'!$AE23","v":"za"},{"$f":"'85'!$AE24","v":"zo"},{"$f":"'85'!$AE25","v":0},{"$f":"'85'!$AE26","v":0},{"$f":"'85'!$AE27","v":0},{"$f":"'85'!$AE28","v":0},{"$f":"'85'!$AE29","v":0},{"$f":"'85'!$AE30","v":"za"},{"$f":"'85'!$AE31","v":"zo"},{"$f":"'85'!$AE32","v":0},{"$f":"'85'!$AE33","v":0},{"$f":"'85'!$AE34","v":0},{"$f":"'85'!$AE35","v":0},{"$f":"'85'!$AE36","v":0},{"$f":"'85'!$AE37","v":"za"},{"$f":"'85'!$AE38","v":"zo"},{"$f":"'85'!$AF9","v":0},{"$f":"'85'!$AF10","v":0},{"$f":"'85'!$AF11","v":0},{"$f":"'85'!$AF12","v":0},{"$f":"'85'!$AF13","v":0},{"$f":"'85'!$AF14","v":"za"},{"$f":"'85'!$AF15","v":"zo"},{"$f":"'85'!$AF16","v":0},{"$f":"'85'!$AF17","v":0},{"$f":"'85'!$AF18","v":0},{"$f":"'85'!$AF19","v":0},{"$f":"'85'!$AF20","v":0},{"$f":"'85'!$AF21","v":"za"},{"$f":"'85'!$AF22","v":"zo"},{"$f":"'85'!$AF23","v":0},{"$f":"'85'!$AF24","v":0},{"$f":"'85'!$AF25","v":0},{"$f":"'85'!$AF26","v":0},{"$f":"'85'!$AF27","v":0},{"$f":"'85'!$AF28","v":"za"},{"$f":"'85'!$AF29","v":"zo"},{"$f":"'85'!$AF30","v":0},{"$f":"'85'!$AF31","v":0},{"$f":"'85'!$AF32","v":0},{"$f":"'85'!$AF33","v":0},{"$f":"'85'!$AF34","v":0},{"$f":"'85'!$AF35","v":"za"},{"$f":"'85'!$AF36","v":"zo"},{"$f":"'85'!$AF37","v":0},{"$f":"'85'!$AF38","v":0},{"$f":"'85'!$AF39","v":0},{"$f":"'85'!$AG9","v":0},{"$f":"'85'!$AG10","v":"fd"},{"$f":"'85'!$AG11","v":"za"},{"$f":"'85'!$AG12","v":"zo"},{"$f":"'85'!$AG13","v":0},{"$f":"'85'!$AG14","v":0},{"$f":"'85'!$AG15","v":0},{"$f":"'85'!$AG16","v":0},{"$f":"'85'!$AG17","v":0},{"$f":"'85'!$AG18","v":"za"},{"$f":"'85'!$AG19","v":"zo"},{"$f":"'85'!$AG20","v":"fd"},{"$f":"'85'!$AG21","v":0},{"$f":"'85'!$AG22","v":0},{"$f":"'85'!$AG23","v":0},{"$f":"'85'!$AG24","v":0},{"$f":"'85'!$AG25","v":"za"},{"$f":"'85'!$AG26","v":"zo"},{"$f":"'85'!$AG27","v":0},{"$f":"'85'!$AG28","v":0},{"$f":"'85'!$AG29","v":0},{"$f":"'85'!$AG30","v":0},{"$f":"'85'!$AG31","v":0},{"$f":"'85'!$AG32","v":"za"},{"$f":"'85'!$AG33","v":"zo"},{"$f":"'85'!$AG34","v":0},{"$f":"'85'!$AG35","v":0},{"$f":"'85'!$AG36","v":0},{"$f":"'85'!$AG37","v":0},{"$f":"'85'!$AG38","v":0},{"$f":"'85'!$AH9","v":"za"},{"$f":"'85'!$AH10","v":"zo"},{"$f":"'85'!$AH11","v":0},{"$f":"'85'!$AH12","v":0},{"$f":"'85'!$AH13","v":0},{"$f":"'85'!$AH14","v":0},{"$f":"'85'!$AH15","v":0},{"$f":"'85'!$AH16","v":"za"},{"$f":"'85'!$AH17","v":"zo"},{"$f":"'85'!$AH18","v":0},{"$f":"'85'!$AH19","v":0},{"$f":"'85'!$AH20","v":0},{"$f":"'85'!$AH21","v":0},{"$f":"'85'!$AH22","v":0},{"$f":"'85'!$AH23","v":"za"},{"$f":"'85'!$AH24","v":"zo"},{"$f":"'85'!$AH25","v":0},{"$f":"'85'!$AH26","v":0},{"$f":"'85'!$AH27","v":0},{"$f":"'85'!$AH28","v":0},{"$f":"'85'!$AH29","v":0},{"$f":"'85'!$AH30","v":"za"},{"$f":"'85'!$AH31","v":"zo"},{"$f":"'85'!$AH32","v":0},{"$f":"'85'!$AH33","v":0},{"$f":"'85'!$AH34","v":"fd"},{"$f":"'85'!$AH35","v":0},{"$f":"'85'!$AH36","v":0},{"$f":"'85'!$AH37","v":"za"},{"$f":"'85'!$AH38","v":"zo"},{"$f":"'85'!$AH39","v":0}]
[94,{"$f":"'94'!$B$1","v":"Guerron Guerrero Pablo"},0,"fd",0,0,0,"za","zo",0,0,0,0,0,"za","zo",0,0,0,0,0,"za","zo",0,0,0,0,0,"za","zo",0,0,0,0,0,"za","zo",0,0,0,0,0,"za","zo",0,0,0,0,0,"za","zo",0,0,0,0,0,"za","zo",0,0,0,{"$f":"'94'!$X37","v":0},{"$f":"'94'!$X38","v":0},{"$f":"'94'!$X39","v":0},{"$f":"'94'!$Y9","v":0},{"$f":"'94'!$Y10","v":0},{"$f":"'94'!$Y11","v":"za"},{"$f":"'94'!$Y12","v":"zo"},{"$f":"'94'!$Y13","v":0},{"$f":"'94'!$Y14","v":0},{"$f":"'94'!$Y15","v":0},{"$f":"'94'!$Y16","v":0},{"$f":"'94'!$Y17","v":0},{"$f":"'94'!$Y18","v":"za"},{"$f":"'94'!$Y19","v":"zo"},{"$f":"'94'!$Y20","v":0},{"$f":"'94'!$Y21","v":0},{"$f":"'94'!$Y22","v":0},{"$f":"'94'!$Y23","v":0},{"$f":"'94'!$Y24","v":0},{"$f":"'94'!$Y25","v":"za"},{"$f":"'94'!$Y26","v":"zo"},{"$f":"'94'!$Y27","v":0},{"$f":"'94'!$Y28","v":0},{"$f":"'94'!$Y29","v":0},{"$f":"'94'!$Y30","v":0},{"$f":"'94'!$Y31","v":0},{"$f":"'94'!$Y32","v":"za"},{"$f":"'94'!$Y33","v":"zo"},{"$f":"'94'!$Y34","v":0},{"$f":"'94'!$Y35","v":0},{"$f":"'94'!$Y36","v":0},{"$f":"'94'!$Y37","v":0},{"$f":"'94'!$Y38","v":0},{"$f":"'94'!$Y39","v":"za"},{"$f":"'94'!$Z9","v":"zo"},{"$f":"'94'!$Z10","v":0},{"$f":"'94'!$Z11","v":0},{"$f":"'94'!$Z12","v":0},{"$f":"'94'!$Z13","v":0},{"$f":"'94'!$Z14","v":0},{"$f":"'94'!$Z15","v":"za"},{"$f":"'94'!$Z16","v":"zo"},{"$f":"'94'!$Z17","v":0},{"$f":"'94'!$Z18","v":0},{"$f":"'94'!$Z19","v":0},{"$f":"'94'!$Z20","v":0},{"$f":"'94'!$Z21","v":0},{"$f":"'94'!$Z22","v":"za"},{"$f":"'94'!$Z23","v":"zo"},{"$f":"'94'!$Z24","v":0},{"$f":"'94'!$Z25","v":0},{"$f":"'94'!$Z26","v":0},{"$f":"'94'!$Z27","v":0},{"$f":"'94'!$Z28","v":0},{"$f":"'94'!$Z29","v":"za"},{"$f":"'94'!$Z30","v":"zo"},{"$f":"'94'!$Z31","v":"fd"},{"$f":"'94'!$Z32","v":0},{"$f":"'94'!$Z33","v":0},{"$f":"'94'!$Z34","v":0},{"$f":"'94'!$Z35","v":0},{"$f":"'94'!$Z36","v":"za"},{"$f":"'94'!$Z37","v":"zo"},{"$f":"'94'!$Z38","v":0},{"$f":"'94'!$AA9","v":0},{"$f":"'94'!$AA10","v":"fd"},{"$f":"'94'!$AA11","v":0},{"$f":"'94'!$AA12","v":0},{"$f":"'94'!$AA13","v":"za"},{"$f":"'94'!$AA14","v":"zo"},{"$f":"'94'!$AA15","v":0},{"$f":"'94'!$AA16","v":0},{"$f":"'94'!$AA17","v":0},{"$f":"'94'!$AA18","v":0},{"$f":"'94'!$AA19","v":0},{"$f":"'94'!$AA20","v":"za"},{"$f":"'94'!$AA21","v":"zo"},{"$f":"'94'!$AA22","v":0},{"$f":"'94'!$AA23","v":0},{"$f":"'94'!$AA24","v":0},{"$f":"'94'!$AA25","v":0},{"$f":"'94'!$AA26","v":0},{"$f":"'94'!$AA27","v":"za"},{"$f":"'94'!$AA28","v":"zo"},{"$f":"'94'!$AA29","v":"fd"},{"$f":"'94'!$AA30","v":0},{"$f":"'94'!$AA31","v":0},{"$f":"'94'!$AA32","v":0},{"$f":"'94'!$AA33","v":0},{"$f":"'94'!$AA34","v":"za"},{"$f":"'94'!$AA35","v":"zo"},{"$f":"'94'!$AA36","v":0},{"$f":"'94'!$AA37","v":0},{"$f":"'94'!$AA38","v":0},{"$f":"'94'!$AA39","v":"fd"},{"$f":"'94'!$AB9","v":0},{"$f":"'94'!$AB10","v":"za"},{"$f":"'94'!$AB11","v":"zo"},{"$f":"'94'!$AB12","v":0},{"$f":"'94'!$AB13","v":0},{"$f":"'94'!$AB14","v":0},{"$f":"'94'!$AB15","v":0},{"$f":"'94'!$AB16","v":0},{"$f":"'94'!$AB17","v":"za"},{"$f":"'94'!$AB18","v":"zo"},{"$f":"'94'!$AB19","v":"fd"},{"$f":"'94'!$AB20","v":0},{"$f":"'94'!$AB21","v":0},{"$f":"'94'!$AB22","v":0},{"$f":"'94'!$AB23","v":0},{"$f":"'94'!$AB24","v":"za"},{"$f":"'94'!$AB25","v":"zo"},{"$f":"'94'!$AB26","v":0},{"$f":"'94'!$AB27","v":0},{"$f":"'94'!$AB28","v":0},{"$f":"'94'!$AB29","v":0},{"$f":"'94'!$AB30","v":0},{"$f":"'94'!$AB31","v":"za"},{"$f":"'94'!$AB32","v":"zo"},{"$f":"'94'!$AB33","v":0},{"$f":"'94'!$AB34","v":0},{"$f":"'94'!$AB35","v":0},{"$f":"'94'!$AB36","v":0},{"$f":"'94'!$AB37","v":0},{"$f":"'94'!$AB38","v":"za"},{"$f":"'94'!$AC9","v":"zo"},{"$f":"'94'!$AC10","v":0},{"$f":"'94'!$AC11","v":0},{"$f":"'94'!$AC12","v":0},{"$f":"'94'!$AC13","v":0},{"$f":"'94'!$AC14","v":0},{"$f":"'94'!$AC15","v":"za"},{"$f":"'94'!$AC16","v":"zo"},{"$f":"'94'!$AC17","v":0},{"$f":"'94'!$AC18","v":0},{"$f":"'94'!$AC19","v":0},{"$f":"'94'!$AC20","v":0},{"$f":"'94'!$AC21","v":0},{"$f":"'94'!$AC22","v":"za"},{"$f":"'94'!$AC23","v":"zo"},{"$f":"'94'!$AC24","v":0},{"$f":"'94'!$AC25","v":0},{"$f":"'94'!$AC26","v":0},{"$f":"'94'!$AC27","v":0},{"$f":"'94'!$AC28","v":0},{"$f":"'94'!$AC29","v":"za"},{"$f":"'94'!$AC30","v":"zo"},{"$f":"'94'!$AC31","v":0},{"$f":"'94'!$AC32","v":0},{"$f":"'94'!$AC33","v":0},{"$f":"'94'!$AC34","v":0},{"$f":"'94'!$AC35","v":0},{"$f":"'94'!$AC36","v":"za"},{"$f":"'94'!$AC37","v":"zo"},{"$f":"'94'!$AC38","v":0},{"$f":"'94'!$AC39","v":0},{"$f":"'94'!$AD9","v":0},{"$f":"'94'!$AD10","v":0},{"$f":"'94'!$AD11","v":0},{"$f":"'94'!$AD12","v":"za"},{"$f":"'94'!$AD13","v":"zo"},{"$f":"'94'!$AD14","v":0},{"$f":"'94'!$AD15","v":0},{"$f":"'94'!$AD16","v":0},{"$f":"'94'!$AD17","v":0},{"$f":"'94'!$AD18","v":0},{"$f":"'94'!$AD19","v":"za"},{"$f":"'94'!$AD20","v":"zo"},{"$f":"'94'!$AD21","v":0},{"$f":"'94'!$AD22","v":0},{"$f":"'94'!$AD23","v":0},{"$f":"'94'!$AD24","v":"fd"},{"$f":"'94'!$AD25","v":0},{"$f":"'94'!$AD26","v":"za"},{"$f":"'94'!$AD27","v":"zo"},{"$f":"'94'!$AD28","v":0},{"$f":"'94'!$AD29","v":0},{"$f":"'94'!$AD30","v":0},{"$f":"'94'!$AD31","v":0},{"$f":"'94'!$AD32","v":0},{"$f":"'94'!$AD33","v":"za"},{"$f":"'94'!$AD34","v":"zo"},{"$f":"'94'!$AD35","v":0},{"$f":"'94'!$AD36","v":0},{"$f":"'94'!$AD37","v":0},{"$f":"'94'!$AD38","v":0},{"$f":"'94'!$AD39","v":0},{"$f":"'94'!$AE9","v":"za"},{"$f":"'94'!$AE10","v":"zo"},{"$f":"'94'!$AE11","v":0},{"$f":"'94'!$AE12","v":0},{"$f":"'94'!$AE13","v":0},{"$f":"'94'!$AE14","v":0},{"$f":"'94'!$AE15","v":0},{"$f":"'94'!$AE16","v":"za"},{"$f":"'94'!$AE17","v":"zo"},{"$f":"'94'!$AE18","v":0},{"$f":"'94'!$AE19","v":0},{"$f":"'94'!$AE20","v":0},{"$f":"'94'!$AE21","v":0},{"$f":"'94'!$AE22","v":0},{"$f":"'94'!$AE23","v":"za"},{"$f":"'94'!$AE24","v":"zo"},{"$f":"'94'!$AE25","v":0},{"$f":"'94'!$AE26","v":0},{"$f":"'94'!$AE27","v":0},{"$f":"'94'!$AE28","v":0},{"$f":"'94'!$AE29","v":0},{"$f":"'94'!$AE30","v":"za"},{"$f":"'94'!$AE31","v":"zo"},{"$f":"'94'!$AE32","v":0},{"$f":"'94'!$AE33","v":0},{"$f":"'94'!$AE34","v":0},{"$f":"'94'!$AE35","v":0},{"$f":"'94'!$AE36","v":0},{"$f":"'94'!$AE37","v":"za"},{"$f":"'94'!$AE38","v":"zo"},{"$f":"'94'!$AF9","v":0},{"$f":"'94'!$AF10","v":0},{"$f":"'94'!$AF11","v":0},{"$f":"'94'!$AF12","v":0},{"$f":"'94'!$AF13","v":0},{"$f":"'94'!$AF14","v":"za"},{"$f":"'94'!$AF15","v":"zo"},{"$f":"'94'!$AF16","v":0},{"$f":"'94'!$AF17","v":0},{"$f":"'94'!$AF18","v":0},{"$f":"'94'!$AF19","v":0},{"$f":"'94'!$AF20","v":0},{"$f":"'94'!$AF21","v":"za"},{"$f":"'94'!$AF22","v":"zo"},{"$f":"'94'!$AF23","v":0},{"$f":"'94'!$AF24","v":0},{"$f":"'94'!$AF25","v":0},{"$f":"'94'!$AF26","v":0},{"$f":"'94'!$AF27","v":0},{"$f":"'94'!$AF28","v":"za"},{"$f":"'94'!$AF29","v":"zo"},{"$f":"'94'!$AF30","v":0},{"$f":"'94'!$AF31","v":0},{"$f":"'94'!$AF32","v":0},{"$f":"'94'!$AF33","v":0},{"$f":"'94'!$AF34","v":0},{"$f":"'94'!$AF35","v":"za"},{"$f":"'94'!$AF36","v":"zo"},{"$f":"'94'!$AF37","v":0},{"$f":"'94'!$AF38","v":0},{"$f":"'94'!$AF39","v":0},{"$f":"'94'!$AG9","v":0},{"$f":"'94'!$AG10","v":"fd"},{"$f":"'94'!$AG11","v":"za"},{"$f":"'94'!$AG12","v":"zo"},{"$f":"'94'!$AG13","v":0},{"$f":"'94'!$AG14","v":0},{"$f":"'94'!$AG15","v":0},{"$f":"'94'!$AG16","v":0},{"$f":"'94'!$AG17","v":0},{"$f":"'94'!$AG18","v":"za"},{"$f":"'94'!$AG19","v":"zo"},{"$f":"'94'!$AG20","v":"fd"},{"$f":"'94'!$AG21","v":0},{"$f":"'94'!$AG22","v":0},{"$f":"'94'!$AG23","v":0},{"$f":"'94'!$AG24","v":0},{"$f":"'94'!$AG25","v":"za"},{"$f":"'94'!$AG26","v":"zo"},{"$f":"'94'!$AG27","v":0},{"$f":"'94'!$AG28","v":0},{"$f":"'94'!$AG29","v":0},{"$f":"'94'!$AG30","v":0},{"$f":"'94'!$AG31","v":0},{"$f":"'94'!$AG32","v":"za"},{"$f":"'94'!$AG33","v":"zo"},{"$f":"'94'!$AG34","v":0},{"$f":"'94'!$AG35","v":0},{"$f":"'94'!$AG36","v":0},{"$f":"'94'!$AG37","v":0},{"$f":"'94'!$AG38","v":0},{"$f":"'94'!$AH9","v":"za"},{"$f":"'94'!$AH10","v":"zo"},{"$f":"'94'!$AH11","v":0},{"$f":"'94'!$AH12","v":0},{"$f":"'94'!$AH13","v":0},{"$f":"'94'!$AH14","v":0},{"$f":"'94'!$AH15","v":0},{"$f":"'94'!$AH16","v":"za"},{"$f":"'94'!$AH17","v":"zo"},{"$f":"'94'!$AH18","v":0},{"$f":"'94'!$AH19","v":0},{"$f":"'94'!$AH20","v":0},{"$f":"'94'!$AH21","v":0},{"$f":"'94'!$AH22","v":0},{"$f":"'94'!$AH23","v":"za"},{"$f":"'94'!$AH24","v":"zo"},{"$f":"'94'!$AH25","v":0},{"$f":"'94'!$AH26","v":0},{"$f":"'94'!$AH27","v":0},{"$f":"'94'!$AH28","v":0},{"$f":"'94'!$AH29","v":0},{"$f":"'94'!$AH30","v":"za"},{"$f":"'94'!$AH31","v":"zo"},{"$f":"'94'!$AH32","v":0},{"$f":"'94'!$AH33","v":0},{"$f":"'94'!$AH34","v":"fd"},{"$f":"'94'!$AH35","v":0},{"$f":"'94'!$AH36","v":0},{"$f":"'94'!$AH37","v":"za"},{"$f":"'94'!$AH38","v":"zo"},{"$f":"'94'!$AH39","v":0}]
[97,{"$f":"'97'!$B$1","v":"Thys Wesley"},"OK","fd","vvj","vvj","vvj","za","zo",0,0,0,0,0,"za","zo",0,0,0,0,0,"za","zo",0,0,0,0,0,"za","zo",0,0,0,0,0,"za","zo",0,0,0,0,0,"za","zo",0,0,0,0,0,"za","zo",0,0,0,0,0,"za","zo",0,0,0,{"$f":"'97'!$X37","v":0},{"$f":"'97'!$X38","v":0},{"$f":"'97'!$X39","v":0},{"$f":"'97'!$Y9","v":0},{"$f":"'97'!$Y10","v":"v"},{"$f":"'97'!$Y11","v":"za"},{"$f":"'97'!$Y12","v":"zo"},{"$f":"'97'!$Y13","v":"v"},{"$f":"'97'!$Y14","v":"v"},{"$f":"'97'!$Y15","v":"v"},{"$f":"'97'!$Y16","v":"v"},{"$f":"'97'!$Y17","v":"v"},{"$f":"'97'!$Y18","v":"za"},{"$f":"'97'!$Y19","v":"zo"},{"$f":"'97'!$Y20","v":0},{"$f":"'97'!$Y21","v":0},{"$f":"'97'!$Y22","v":0},{"$f":"'97'!$Y23","v":0},{"$f":"'97'!$Y24","v":0},{"$f":"'97'!$Y25","v":"za"},{"$f":"'97'!$Y26","v":"zo"},{"$f":"'97'!$Y27","v":0},{"$f":"'97'!$Y28","v":0},{"$f":"'97'!$Y29","v":0},{"$f":"'97'!$Y30","v":0},{"$f":"'97'!$Y31","v":0},{"$f":"'97'!$Y32","v":"za"},{"$f":"'97'!$Y33","v":"zo"},{"$f":"'97'!$Y34","v":0},{"$f":"'97'!$Y35","v":0},{"$f":"'97'!$Y36","v":0},{"$f":"'97'!$Y37","v":0},{"$f":"'97'!$Y38","v":0},{"$f":"'97'!$Y39","v":"za"},{"$f":"'97'!$Z9","v":"zo"},{"$f":"'97'!$Z10","v":0},{"$f":"'97'!$Z11","v":0},{"$f":"'97'!$Z12","v":0},{"$f":"'97'!$Z13","v":0},{"$f":"'97'!$Z14","v":0},{"$f":"'97'!$Z15","v":"za"},{"$f":"'97'!$Z16","v":"zo"},{"$f":"'97'!$Z17","v":0},{"$f":"'97'!$Z18","v":0},{"$f":"'97'!$Z19","v":0},{"$f":"'97'!$Z20","v":0},{"$f":"'97'!$Z21","v":0},{"$f":"'97'!$Z22","v":"za"},{"$f":"'97'!$Z23","v":"zo"},{"$f":"'97'!$Z24","v":0},{"$f":"'97'!$Z25","v":0},{"$f":"'97'!$Z26","v":0},{"$f":"'97'!$Z27","v":0},{"$f":"'97'!$Z28","v":0},{"$f":"'97'!$Z29","v":"za"},{"$f":"'97'!$Z30","v":"zo"},{"$f":"'97'!$Z31","v":"fd"},{"$f":"'97'!$Z32","v":0},{"$f":"'97'!$Z33","v":0},{"$f":"'97'!$Z34","v":0},{"$f":"'97'!$Z35","v":0},{"$f":"'97'!$Z36","v":"za"},{"$f":"'97'!$Z37","v":"zo"},{"$f":"'97'!$Z38","v":0},{"$f":"'97'!$AA9","v":0},{"$f":"'97'!$AA10","v":"fd"},{"$f":"'97'!$AA11","v":0},{"$f":"'97'!$AA12","v":0},{"$f":"'97'!$AA13","v":"za"},{"$f":"'97'!$AA14","v":"zo"},{"$f":"'97'!$AA15","v":0},{"$f":"'97'!$AA16","v":0},{"$f":"'97'!$AA17","v":0},{"$f":"'97'!$AA18","v":0},{"$f":"'97'!$AA19","v":0},{"$f":"'97'!$AA20","v":"za"},{"$f":"'97'!$AA21","v":"zo"},{"$f":"'97'!$AA22","v":0},{"$f":"'97'!$AA23","v":0},{"$f":"'97'!$AA24","v":0},{"$f":"'97'!$AA25","v":0},{"$f":"'97'!$AA26","v":0},{"$f":"'97'!$AA27","v":"za"},{"$f":"'97'!$AA28","v":"zo"},{"$f":"'97'!$AA29","v":"fd"},{"$f":"'97'!$AA30","v":0},{"$f":"'97'!$AA31","v":0},{"$f":"'97'!$AA32","v":0},{"$f":"'97'!$AA33","v":0},{"$f":"'97'!$AA34","v":"za"},{"$f":"'97'!$AA35","v":"zo"},{"$f":"'97'!$AA36","v":0},{"$f":"'97'!$AA37","v":0},{"$f":"'97'!$AA38","v":0},{"$f":"'97'!$AA39","v":"fd"},{"$f":"'97'!$AB9","v":0},{"$f":"'97'!$AB10","v":"za"},{"$f":"'97'!$AB11","v":"zo"},{"$f":"'97'!$AB12","v":0},{"$f":"'97'!$AB13","v":0},{"$f":"'97'!$AB14","v":0},{"$f":"'97'!$AB15","v":0},{"$f":"'97'!$AB16","v":0},{"$f":"'97'!$AB17","v":"za"},{"$f":"'97'!$AB18","v":"zo"},{"$f":"'97'!$AB19","v":"fd"},{"$f":"'97'!$AB20","v":0},{"$f":"'97'!$AB21","v":0},{"$f":"'97'!$AB22","v":0},{"$f":"'97'!$AB23","v":0},{"$f":"'97'!$AB24","v":"za"},{"$f":"'97'!$AB25","v":"zo"},{"$f":"'97'!$AB26","v":0},{"$f":"'97'!$AB27","v":0},{"$f":"'97'!$AB28","v":0},{"$f":"'97'!$AB29","v":0},{"$f":"'97'!$AB30","v":0},{"$f":"'97'!$AB31","v":"za"},{"$f":"'97'!$AB32","v":"zo"},{"$f":"'97'!$AB33","v":0},{"$f":"'97'!$AB34","v":0},{"$f":"'97'!$AB35","v":0},{"$f":"'97'!$AB36","v":0},{"$f":"'97'!$AB37","v":0},{"$f":"'97'!$AB38","v":"za"},{"$f":"'97'!$AC9","v":"zo"},{"$f":"'97'!$AC10","v":0},{"$f":"'97'!$AC11","v":0},{"$f":"'97'!$AC12","v":0},{"$f":"'97'!$AC13","v":0},{"$f":"'97'!$AC14","v":0},{"$f":"'97'!$AC15","v":"za"},{"$f":"'97'!$AC16","v":"zo"},{"$f":"'97'!$AC17","v":0},{"$f":"'97'!$AC18","v":0},{"$f":"'97'!$AC19","v":0},{"$f":"'97'!$AC20","v":0},{"$f":"'97'!$AC21","v":0},{"$f":"'97'!$AC22","v":"za"},{"$f":"'97'!$AC23","v":"zo"},{"$f":"'97'!$AC24","v":0},{"$f":"'97'!$AC25","v":0},{"$f":"'97'!$AC26","v":0},{"$f":"'97'!$AC27","v":0},{"$f":"'97'!$AC28","v":0},{"$f":"'97'!$AC29","v":"za"},{"$f":"'97'!$AC30","v":"zo"},{"$f":"'97'!$AC31","v":0},{"$f":"'97'!$AC32","v":0},{"$f":"'97'!$AC33","v":0},{"$f":"'97'!$AC34","v":0},{"$f":"'97'!$AC35","v":0},{"$f":"'97'!$AC36","v":"za"},{"$f":"'97'!$AC37","v":"zo"},{"$f":"'97'!$AC38","v":0},{"$f":"'97'!$AC39","v":0},{"$f":"'97'!$AD9","v":0},{"$f":"'97'!$AD10","v":0},{"$f":"'97'!$AD11","v":0},{"$f":"'97'!$AD12","v":"za"},{"$f":"'97'!$AD13","v":"zo"},{"$f":"'97'!$AD14","v":0},{"$f":"'97'!$AD15","v":0},{"$f":"'97'!$AD16","v":0},{"$f":"'97'!$AD17","v":0},{"$f":"'97'!$AD18","v":0},{"$f":"'97'!$AD19","v":"za"},{"$f":"'97'!$AD20","v":"zo"},{"$f":"'97'!$AD21","v":0},{"$f":"'97'!$AD22","v":0},{"$f":"'97'!$AD23","v":0},{"$f":"'97'!$AD24","v":"fd"},{"$f":"'97'!$AD25","v":0},{"$f":"'97'!$AD26","v":"za"},{"$f":"'97'!$AD27","v":"zo"},{"$f":"'97'!$AD28","v":0},{"$f":"'97'!$AD29","v":0},{"$f":"'97'!$AD30","v":0},{"$f":"'97'!$AD31","v":0},{"$f":"'97'!$AD32","v":0},{"$f":"'97'!$AD33","v":"za"},{"$f":"'97'!$AD34","v":"zo"},{"$f":"'97'!$AD35","v":0},{"$f":"'97'!$AD36","v":0},{"$f":"'97'!$AD37","v":0},{"$f":"'97'!$AD38","v":0},{"$f":"'97'!$AD39","v":0},{"$f":"'97'!$AE9","v":"za"},{"$f":"'97'!$AE10","v":"zo"},{"$f":"'97'!$AE11","v":0},{"$f":"'97'!$AE12","v":0},{"$f":"'97'!$AE13","v":0},{"$f":"'97'!$AE14","v":0},{"$f":"'97'!$AE15","v":0},{"$f":"'97'!$AE16","v":"za"},{"$f":"'97'!$AE17","v":"zo"},{"$f":"'97'!$AE18","v":0},{"$f":"'97'!$AE19","v":0},{"$f":"'97'!$AE20","v":0},{"$f":"'97'!$AE21","v":0},{"$f":"'97'!$AE22","v":0},{"$f":"'97'!$AE23","v":"za"},{"$f":"'97'!$AE24","v":"zo"},{"$f":"'97'!$AE25","v":0},{"$f":"'97'!$AE26","v":0},{"$f":"'97'!$AE27","v":0},{"$f":"'97'!$AE28","v":0},{"$f":"'97'!$AE29","v":0},{"$f":"'97'!$AE30","v":"za"},{"$f":"'97'!$AE31","v":"zo"},{"$f":"'97'!$AE32","v":0},{"$f":"'97'!$AE33","v":0},{"$f":"'97'!$AE34","v":0},{"$f":"'97'!$AE35","v":0},{"$f":"'97'!$AE36","v":0},{"$f":"'97'!$AE37","v":"za"},{"$f":"'97'!$AE38","v":"zo"},{"$f":"'97'!$AF9","v":0},{"$f":"'97'!$AF10","v":0},{"$f":"'97'!$AF11","v":0},{"$f":"'97'!$AF12","v":0},{"$f":"'97'!$AF13","v":0},{"$f":"'97'!$AF14","v":"za"},{"$f":"'97'!$AF15","v":"zo"},{"$f":"'97'!$AF16","v":0},{"$f":"'97'!$AF17","v":0},{"$f":"'97'!$AF18","v":0},{"$f":"'97'!$AF19","v":0},{"$f":"'97'!$AF20","v":0},{"$f":"'97'!$AF21","v":"za"},{"$f":"'97'!$AF22","v":"zo"},{"$f":"'97'!$AF23","v":0},{"$f":"'97'!$AF24","v":0},{"$f":"'97'!$AF25","v":0},{"$f":"'97'!$AF26","v":0},{"$f":"'97'!$AF27","v":0},{"$f":"'97'!$AF28","v":"za"},{"$f":"'97'!$AF29","v":"zo"},{"$f":"'97'!$AF30","v":0},{"$f":"'97'!$AF31","v":0},{"$f":"'97'!$AF32","v":0},{"$f":"'97'!$AF33","v":0},{"$f":"'97'!$AF34","v":0},{"$f":"'97'!$AF35","v":"za"},{"$f":"'97'!$AF36","v":"zo"},{"$f":"'97'!$AF37","v":0},{"$f":"'97'!$AF38","v":0},{"$f":"'97'!$AF39","v":0},{"$f":"'97'!$AG9","v":0},{"$f":"'97'!$AG10","v":"fd"},{"$f":"'97'!$AG11","v":"za"},{"$f":"'97'!$AG12","v":"zo"},{"$f":"'97'!$AG13","v":0},{"$f":"'97'!$AG14","v":0},{"$f":"'97'!$AG15","v":0},{"$f":"'97'!$AG16","v":0},{"$f":"'97'!$AG17","v":0},{"$f":"'97'!$AG18","v":"za"},{"$f":"'97'!$AG19","v":"zo"},{"$f":"'97'!$AG20","v":"fd"},{"$f":"'97'!$AG21","v":0},{"$f":"'97'!$AG22","v":0},{"$f":"'97'!$AG23","v":0},{"$f":"'97'!$AG24","v":0},{"$f":"'97'!$AG25","v":"za"},{"$f":"'97'!$AG26","v":"zo"},{"$f":"'97'!$AG27","v":0},{"$f":"'97'!$AG28","v":0},{"$f":"'97'!$AG29","v":0},{"$f":"'97'!$AG30","v":0},{"$f":"'97'!$AG31","v":0},{"$f":"'97'!$AG32","v":"za"},{"$f":"'97'!$AG33","v":"zo"},{"$f":"'97'!$AG34","v":0},{"$f":"'97'!$AG35","v":0},{"$f":"'97'!$AG36","v":0},{"$f":"'97'!$AG37","v":0},{"$f":"'97'!$AG38","v":0},{"$f":"'97'!$AH9","v":"za"},{"$f":"'97'!$AH10","v":"zo"},{"$f":"'97'!$AH11","v":0},{"$f":"'97'!$AH12","v":0},{"$f":"'97'!$AH13","v":0},{"$f":"'97'!$AH14","v":0},{"$f":"'97'!$AH15","v":0},{"$f":"'97'!$AH16","v":"za"},{"$f":"'97'!$AH17","v":"zo"},{"$f":"'97'!$AH18","v":0},{"$f":"'97'!$AH19","v":0},{"$f":"'97'!$AH20","v":0},{"$f":"'97'!$AH21","v":0},{"$f":"'97'!$AH22","v":0},{"$f":"'97'!$AH23","v":"za"},{"$f":"'97'!$AH24","v":"zo"},{"$f":"'97'!$AH25","v":0},{"$f":"'97'!$AH26","v":0},{"$f":"'97'!$AH27","v":0},{"$f":"'97'!$AH28","v":0},{"$f":"'97'!$AH29","v":0},{"$f":"'97'!$AH30","v":"za"},{"$f":"'97'!$AH31","v":"zo"},{"$f":"'97'!$AH32","v":0},{"$f":"'97'!$AH33","v":0},{"$f":"'97'!$AH34","v":"fd"},{"$f":"'97'!$AH35","v":0},{"$f":"'97'!$AH36","v":0},{"$f":"'97'!$AH37","v":"za"},{"$f":"'97'!$AH38","v":"zo"},{"$f":"'97'!$AH39","v":0}]
[99,{"$f":"'99'!$B$1","v":"Reakani Azad"},"GA","fd","GA","GA","GA","za","zo",0,0,0,0,0,"za","zo",0,0,0,0,0,"za","zo",0,0,0,0,0,"za","zo",0,0,0,0,0,"za","zo",0,0,0,0,0,"za","zo",0,0,0,0,0,"za","zo",0,0,0,0,0,"za","zo",0,0,0,{"$f":"'99'!$X37","v":0},{"$f":"'99'!$X38","v":0},{"$f":"'99'!$X39","v":0},{"$f":"'99'!$Y9","v":0},{"$f":"'99'!$Y10","v":0},{"$f":"'99'!$Y11","v":"za"},{"$f":"'99'!$Y12","v":"zo"},{"$f":"'99'!$Y13","v":0},{"$f":"'99'!$Y14","v":0},{"$f":"'99'!$Y15","v":0},{"$f":"'99'!$Y16","v":0},{"$f":"'99'!$Y17","v":0},{"$f":"'99'!$Y18","v":"za"},{"$f":"'99'!$Y19","v":"zo"},{"$f":"'99'!$Y20","v":0},{"$f":"'99'!$Y21","v":0},{"$f":"'99'!$Y22","v":0},{"$f":"'99'!$Y23","v":0},{"$f":"'99'!$Y24","v":0},{"$f":"'99'!$Y25","v":"za"},{"$f":"'99'!$Y26","v":"zo"},{"$f":"'99'!$Y27","v":0},{"$f":"'99'!$Y28","v":0},{"$f":"'99'!$Y29","v":0},{"$f":"'99'!$Y30","v":0},{"$f":"'99'!$Y31","v":0},{"$f":"'99'!$Y32","v":"za"},{"$f":"'99'!$Y33","v":"zo"},{"$f":"'99'!$Y34","v":0},{"$f":"'99'!$Y35","v":0},{"$f":"'99'!$Y36","v":0},{"$f":"'99'!$Y37","v":0},{"$f":"'99'!$Y38","v":0},{"$f":"'99'!$Y39","v":"za"},{"$f":"'99'!$Z9","v":"zo"},{"$f":"'99'!$Z10","v":0},{"$f":"'99'!$Z11","v":0},{"$f":"'99'!$Z12","v":0},{"$f":"'99'!$Z13","v":0},{"$f":"'99'!$Z14","v":0},{"$f":"'99'!$Z15","v":"za"},{"$f":"'99'!$Z16","v":"zo"},{"$f":"'99'!$Z17","v":0},{"$f":"'99'!$Z18","v":0},{"$f":"'99'!$Z19","v":0},{"$f":"'99'!$Z20","v":0},{"$f":"'99'!$Z21","v":0},{"$f":"'99'!$Z22","v":"za"},{"$f":"'99'!$Z23","v":"zo"},{"$f":"'99'!$Z24","v":0},{"$f":"'99'!$Z25","v":0},{"$f":"'99'!$Z26","v":0},{"$f":"'99'!$Z27","v":0},{"$f":"'99'!$Z28","v":0},{"$f":"'99'!$Z29","v":"za"},{"$f":"'99'!$Z30","v":"zo"},{"$f":"'99'!$Z31","v":"fd"},{"$f":"'99'!$Z32","v":0},{"$f":"'99'!$Z33","v":0},{"$f":"'99'!$Z34","v":0},{"$f":"'99'!$Z35","v":0},{"$f":"'99'!$Z36","v":"za"},{"$f":"'99'!$Z37","v":"zo"},{"$f":"'99'!$Z38","v":0},{"$f":"'99'!$AA9","v":0},{"$f":"'99'!$AA10","v":"fd"},{"$f":"'99'!$AA11","v":0},{"$f":"'99'!$AA12","v":0},{"$f":"'99'!$AA13","v":"za"},{"$f":"'99'!$AA14","v":"zo"},{"$f":"'99'!$AA15","v":0},{"$f":"'99'!$AA16","v":0},{"$f":"'99'!$AA17","v":0},{"$f":"'99'!$AA18","v":0},{"$f":"'99'!$AA19","v":0},{"$f":"'99'!$AA20","v":"za"},{"$f":"'99'!$AA21","v":"zo"},{"$f":"'99'!$AA22","v":0},{"$f":"'99'!$AA23","v":0},{"$f":"'99'!$AA24","v":0},{"$f":"'99'!$AA25","v":0},{"$f":"'99'!$AA26","v":0},{"$f":"'99'!$AA27","v":"za"},{"$f":"'99'!$AA28","v":"zo"},{"$f":"'99'!$AA29","v":"fd"},{"$f":"'99'!$AA30","v":0},{"$f":"'99'!$AA31","v":0},{"$f":"'99'!$AA32","v":0},{"$f":"'99'!$AA33","v":0},{"$f":"'99'!$AA34","v":"za"},{"$f":"'99'!$AA35","v":"zo"},{"$f":"'99'!$AA36","v":0},{"$f":"'99'!$AA37","v":0},{"$f":"'99'!$AA38","v":0},{"$f":"'99'!$AA39","v":"fd"},{"$f":"'99'!$AB9","v":0},{"$f":"'99'!$AB10","v":"za"},{"$f":"'99'!$AB11","v":"zo"},{"$f":"'99'!$AB12","v":0},{"$f":"'99'!$AB13","v":0},{"$f":"'99'!$AB14","v":0},{"$f":"'99'!$AB15","v":0},{"$f":"'99'!$AB16","v":0},{"$f":"'99'!$AB17","v":"za"},{"$f":"'99'!$AB18","v":"zo"},{"$f":"'99'!$AB19","v":"fd"},{"$f":"'99'!$AB20","v":0},{"$f":"'99'!$AB21","v":0},{"$f":"'99'!$AB22","v":0},{"$f":"'99'!$AB23","v":0},{"$f":"'99'!$AB24","v":"za"},{"$f":"'99'!$AB25","v":"zo"},{"$f":"'99'!$AB26","v":0},{"$f":"'99'!$AB27","v":0},{"$f":"'99'!$AB28","v":0},{"$f":"'99'!$AB29","v":0},{"$f":"'99'!$AB30","v":0},{"$f":"'99'!$AB31","v":"za"},{"$f":"'99'!$AB32","v":"zo"},{"$f":"'99'!$AB33","v":0},{"$f":"'99'!$AB34","v":0},{"$f":"'99'!$AB35","v":0},{"$f":"'99'!$AB36","v":0},{"$f":"'99'!$AB37","v":0},{"$f":"'99'!$AB38","v":"za"},{"$f":"'99'!$AC9","v":"zo"},{"$f":"'99'!$AC10","v":0},{"$f":"'99'!$AC11","v":0},{"$f":"'99'!$AC12","v":0},{"$f":"'99'!$AC13","v":0},{"$f":"'99'!$AC14","v":0},{"$f":"'99'!$AC15","v":"za"},{"$f":"'99'!$AC16","v":"zo"},{"$f":"'99'!$AC17","v":0},{"$f":"'99'!$AC18","v":0},{"$f":"'99'!$AC19","v":0},{"$f":"'99'!$AC20","v":0},{"$f":"'99'!$AC21","v":0},{"$f":"'99'!$AC22","v":"za"},{"$f":"'99'!$AC23","v":"zo"},{"$f":"'99'!$AC24","v":0},{"$f":"'99'!$AC25","v":0},{"$f":"'99'!$AC26","v":0},{"$f":"'99'!$AC27","v":0},{"$f":"'99'!$AC28","v":0},{"$f":"'99'!$AC29","v":"za"},{"$f":"'99'!$AC30","v":"zo"},{"$f":"'99'!$AC31","v":0},{"$f":"'99'!$AC32","v":0},{"$f":"'99'!$AC33","v":0},{"$f":"'99'!$AC34","v":0},{"$f":"'99'!$AC35","v":0},{"$f":"'99'!$AC36","v":"za"},{"$f":"'99'!$AC37","v":"zo"},{"$f":"'99'!$AC38","v":0},{"$f":"'99'!$AC39","v":0},{"$f":"'99'!$AD9","v":0},{"$f":"'99'!$AD10","v":0},{"$f":"'99'!$AD11","v":0},{"$f":"'99'!$AD12","v":"za"},{"$f":"'99'!$AD13","v":"zo"},{"$f":"'99'!$AD14","v":0},{"$f":"'99'!$AD15","v":0},{"$f":"'99'!$AD16","v":0},{"$f":"'99'!$AD17","v":0},{"$f":"'99'!$AD18","v":0},{"$f":"'99'!$AD19","v":"za"},{"$f":"'99'!$AD20","v":"zo"},{"$f":"'99'!$AD21","v":0},{"$f":"'99'!$AD22","v":0},{"$f":"'99'!$AD23","v":0},{"$f":"'99'!$AD24","v":"fd"},{"$f":"'99'!$AD25","v":0},{"$f":"'99'!$AD26","v":"za"},{"$f":"'99'!$AD27","v":"zo"},{"$f":"'99'!$AD28","v":0},{"$f":"'99'!$AD29","v":0},{"$f":"'99'!$AD30","v":0},{"$f":"'99'!$AD31","v":0},{"$f":"'99'!$AD32","v":0},{"$f":"'99'!$AD33","v":"za"},{"$f":"'99'!$AD34","v":"zo"},{"$f":"'99'!$AD35","v":0},{"$f":"'99'!$AD36","v":0},{"$f":"'99'!$AD37","v":0},{"$f":"'99'!$AD38","v":0},{"$f":"'99'!$AD39","v":0},{"$f":"'99'!$AE9","v":"za"},{"$f":"'99'!$AE10","v":"zo"},{"$f":"'99'!$AE11","v":0},{"$f":"'99'!$AE12","v":0},{"$f":"'99'!$AE13","v":0},{"$f":"'99'!$AE14","v":0},{"$f":"'99'!$AE15","v":0},{"$f":"'99'!$AE16","v":"za"},{"$f":"'99'!$AE17","v":"zo"},{"$f":"'99'!$AE18","v":0},{"$f":"'99'!$AE19","v":0},{"$f":"'99'!$AE20","v":0},{"$f":"'99'!$AE21","v":0},{"$f":"'99'!$AE22","v":0},{"$f":"'99'!$AE23","v":"za"},{"$f":"'99'!$AE24","v":"zo"},{"$f":"'99'!$AE25","v":0},{"$f":"'99'!$AE26","v":0},{"$f":"'99'!$AE27","v":0},{"$f":"'99'!$AE28","v":0},{"$f":"'99'!$AE29","v":0},{"$f":"'99'!$AE30","v":"za"},{"$f":"'99'!$AE31","v":"zo"},{"$f":"'99'!$AE32","v":0},{"$f":"'99'!$AE33","v":0},{"$f":"'99'!$AE34","v":0},{"$f":"'99'!$AE35","v":0},{"$f":"'99'!$AE36","v":0},{"$f":"'99'!$AE37","v":"za"},{"$f":"'99'!$AE38","v":"zo"},{"$f":"'99'!$AF9","v":0},{"$f":"'99'!$AF10","v":0},{"$f":"'99'!$AF11","v":0},{"$f":"'99'!$AF12","v":0},{"$f":"'99'!$AF13","v":0},{"$f":"'99'!$AF14","v":"za"},{"$f":"'99'!$AF15","v":"zo"},{"$f":"'99'!$AF16","v":0},{"$f":"'99'!$AF17","v":0},{"$f":"'99'!$AF18","v":0},{"$f":"'99'!$AF19","v":0},{"$f":"'99'!$AF20","v":0},{"$f":"'99'!$AF21","v":"za"},{"$f":"'99'!$AF22","v":"zo"},{"$f":"'99'!$AF23","v":0},{"$f":"'99'!$AF24","v":0},{"$f":"'99'!$AF25","v":0},{"$f":"'99'!$AF26","v":0},{"$f":"'99'!$AF27","v":0},{"$f":"'99'!$AF28","v":"za"},{"$f":"'99'!$AF29","v":"zo"},{"$f":"'99'!$AF30","v":0},{"$f":"'99'!$AF31","v":0},{"$f":"'99'!$AF32","v":0},{"$f":"'99'!$AF33","v":0},{"$f":"'99'!$AF34","v":0},{"$f":"'99'!$AF35","v":"za"},{"$f":"'99'!$AF36","v":"zo"},{"$f":"'99'!$AF37","v":0},{"$f":"'99'!$AF38","v":0},{"$f":"'99'!$AF39","v":0},{"$f":"'99'!$AG9","v":0},{"$f":"'99'!$AG10","v":"fd"},{"$f":"'99'!$AG11","v":"za"},{"$f":"'99'!$AG12","v":"zo"},{"$f":"'99'!$AG13","v":0},{"$f":"'99'!$AG14","v":0},{"$f":"'99'!$AG15","v":0},{"$f":"'99'!$AG16","v":0},{"$f":"'99'!$AG17","v":0},{"$f":"'99'!$AG18","v":"za"},{"$f":"'99'!$AG19","v":"zo"},{"$f":"'99'!$AG20","v":"fd"},{"$f":"'99'!$AG21","v":0},{"$f":"'99'!$AG22","v":0},{"$f":"'99'!$AG23","v":0},{"$f":"'99'!$AG24","v":0},{"$f":"'99'!$AG25","v":"za"},{"$f":"'99'!$AG26","v":"zo"},{"$f":"'99'!$AG27","v":0},{"$f":"'99'!$AG28","v":0},{"$f":"'99'!$AG29","v":0},{"$f":"'99'!$AG30","v":0},{"$f":"'99'!$AG31","v":0},{"$f":"'99'!$AG32","v":"za"},{"$f":"'99'!$AG33","v":"zo"},{"$f":"'99'!$AG34","v":0},{"$f":"'99'!$AG35","v":0},{"$f":"'99'!$AG36","v":0},{"$f":"'99'!$AG37","v":0},{"$f":"'99'!$AG38","v":0},{"$f":"'99'!$AH9","v":"za"},{"$f":"'99'!$AH10","v":"zo"},{"$f":"'99'!$AH11","v":0},{"$f":"'99'!$AH12","v":0},{"$f":"'99'!$AH13","v":0},{"$f":"'99'!$AH14","v":0},{"$f":"'99'!$AH15","v":0},{"$f":"'99'!$AH16","v":"za"},{"$f":"'99'!$AH17","v":"zo"},{"$f":"'99'!$AH18","v":0},{"$f":"'99'!$AH19","v":0},{"$f":"'99'!$AH20","v":0},{"$f":"'99'!$AH21","v":0},{"$f":"'99'!$AH22","v":0},{"$f":"'99'!$AH23","v":"za"},{"$f":"'99'!$AH24","v":"zo"},{"$f":"'99'!$AH25","v":0},{"$f":"'99'!$AH26","v":0},{"$f":"'99'!$AH27","v":0},{"$f":"'99'!$AH28","v":0},{"$f":"'99'!$AH29","v":0},{"$f":"'99'!$AH30","v":"za"},{"$f":"'99'!$AH31","v":"zo"},{"$f":"'99'!$AH32","v":0},{"$f":"'99'!$AH33","v":0},{"$f":"'99'!$AH34","v":"fd"},{"$f":"'99'!$AH35","v":0},{"$f":"'99'!$AH36","v":0},{"$f":"'99'!$AH37","v":"za"},{"$f":"'99'!$AH38","v":"zo"},{"$f":"'99'!$AH39","v":0}]
[100,{"$f":"'100'!$B$1","v":"Fazlijevic Sebastijan"},"VH","fd",0,0,0,"za","zo",0,0,0,0,0,"za","zo",0,0,0,0,0,"za","zo",0,0,0,0,0,"za","zo",0,0,0,0,0,"za","zo",0,0,0,0,0,"za","zo",0,0,0,0,0,"za","zo",0,0,0,0,0,"za","zo",0,0,0,{"$f":"'100'!$X37","v":0},{"$f":"'100'!$X38","v":0},{"$f":"'100'!$X39","v":0},{"$f":"'100'!$Y9","v":0},{"$f":"'100'!$Y10","v":0},{"$f":"'100'!$Y11","v":"za"},{"$f":"'100'!$Y12","v":"zo"},{"$f":"'100'!$Y13","v":0},{"$f":"'100'!$Y14","v":0},{"$f":"'100'!$Y15","v":0},{"$f":"'100'!$Y16","v":0},{"$f":"'100'!$Y17","v":0},{"$f":"'100'!$Y18","v":"za"},{"$f":"'100'!$Y19","v":"zo"},{"$f":"'100'!$Y20","v":0},{"$f":"'100'!$Y21","v":0},{"$f":"'100'!$Y22","v":0},{"$f":"'100'!$Y23","v":0},{"$f":"'100'!$Y24","v":0},{"$f":"'100'!$Y25","v":"za"},{"$f":"'100'!$Y26","v":"zo"},{"$f":"'100'!$Y27","v":0},{"$f":"'100'!$Y28","v":0},{"$f":"'100'!$Y29","v":0},{"$f":"'100'!$Y30","v":0},{"$f":"'100'!$Y31","v":0},{"$f":"'100'!$Y32","v":"za"},{"$f":"'100'!$Y33","v":"zo"},{"$f":"'100'!$Y34","v":0},{"$f":"'100'!$Y35","v":0},{"$f":"'100'!$Y36","v":0},{"$f":"'100'!$Y37","v":0},{"$f":"'100'!$Y38","v":0},{"$f":"'100'!$Y39","v":"za"},{"$f":"'100'!$Z9","v":"zo"},{"$f":"'100'!$Z10","v":0},{"$f":"'100'!$Z11","v":0},{"$f":"'100'!$Z12","v":0},{"$f":"'100'!$Z13","v":0},{"$f":"'100'!$Z14","v":0},{"$f":"'100'!$Z15","v":"za"},{"$f":"'100'!$Z16","v":"zo"},{"$f":"'100'!$Z17","v":0},{"$f":"'100'!$Z18","v":0},{"$f":"'100'!$Z19","v":0},{"$f":"'100'!$Z20","v":0},{"$f":"'100'!$Z21","v":0},{"$f":"'100'!$Z22","v":"za"},{"$f":"'100'!$Z23","v":"zo"},{"$f":"'100'!$Z24","v":0},{"$f":"'100'!$Z25","v":0},{"$f":"'100'!$Z26","v":0},{"$f":"'100'!$Z27","v":0},{"$f":"'100'!$Z28","v":0},{"$f":"'100'!$Z29","v":"za"},{"$f":"'100'!$Z30","v":"zo"},{"$f":"'100'!$Z31","v":"fd"},{"$f":"'100'!$Z32","v":0},{"$f":"'100'!$Z33","v":0},{"$f":"'100'!$Z34","v":0},{"$f":"'100'!$Z35","v":0},{"$f":"'100'!$Z36","v":"za"},{"$f":"'100'!$Z37","v":"zo"},{"$f":"'100'!$Z38","v":0},{"$f":"'100'!$AA9","v":0},{"$f":"'100'!$AA10","v":"fd"},{"$f":"'100'!$AA11","v":0},{"$f":"'100'!$AA12","v":0},{"$f":"'100'!$AA13","v":"za"},{"$f":"'100'!$AA14","v":"zo"},{"$f":"'100'!$AA15","v":0},{"$f":"'100'!$AA16","v":0},{"$f":"'100'!$AA17","v":0},{"$f":"'100'!$AA18","v":0},{"$f":"'100'!$AA19","v":0},{"$f":"'100'!$AA20","v":"za"},{"$f":"'100'!$AA21","v":"zo"},{"$f":"'100'!$AA22","v":0},{"$f":"'100'!$AA23","v":0},{"$f":"'100'!$AA24","v":0},{"$f":"'100'!$AA25","v":0},{"$f":"'100'!$AA26","v":0},{"$f":"'100'!$AA27","v":"za"},{"$f":"'100'!$AA28","v":"zo"},{"$f":"'100'!$AA29","v":"fd"},{"$f":"'100'!$AA30","v":0},{"$f":"'100'!$AA31","v":0},{"$f":"'100'!$AA32","v":0},{"$f":"'100'!$AA33","v":0},{"$f":"'100'!$AA34","v":"za"},{"$f":"'100'!$AA35","v":"zo"},{"$f":"'100'!$AA36","v":0},{"$f":"'100'!$AA37","v":0},{"$f":"'100'!$AA38","v":0},{"$f":"'100'!$AA39","v":"fd"},{"$f":"'100'!$AB9","v":0},{"$f":"'100'!$AB10","v":"za"},{"$f":"'100'!$AB11","v":"zo"},{"$f":"'100'!$AB12","v":0},{"$f":"'100'!$AB13","v":0},{"$f":"'100'!$AB14","v":0},{"$f":"'100'!$AB15","v":0},{"$f":"'100'!$AB16","v":0},{"$f":"'100'!$AB17","v":"za"},{"$f":"'100'!$AB18","v":"zo"},{"$f":"'100'!$AB19","v":"fd"},{"$f":"'100'!$AB20","v":0},{"$f":"'100'!$AB21","v":0},{"$f":"'100'!$AB22","v":0},{"$f":"'100'!$AB23","v":0},{"$f":"'100'!$AB24","v":"za"},{"$f":"'100'!$AB25","v":"zo"},{"$f":"'100'!$AB26","v":0},{"$f":"'100'!$AB27","v":0},{"$f":"'100'!$AB28","v":0},{"$f":"'100'!$AB29","v":0},{"$f":"'100'!$AB30","v":0},{"$f":"'100'!$AB31","v":"za"},{"$f":"'100'!$AB32","v":"zo"},{"$f":"'100'!$AB33","v":0},{"$f":"'100'!$AB34","v":0},{"$f":"'100'!$AB35","v":0},{"$f":"'100'!$AB36","v":0},{"$f":"'100'!$AB37","v":0},{"$f":"'100'!$AB38","v":"za"},{"$f":"'100'!$AC9","v":"zo"},{"$f":"'100'!$AC10","v":0},{"$f":"'100'!$AC11","v":0},{"$f":"'100'!$AC12","v":0},{"$f":"'100'!$AC13","v":0},{"$f":"'100'!$AC14","v":0},{"$f":"'100'!$AC15","v":"za"},{"$f":"'100'!$AC16","v":"zo"},{"$f":"'100'!$AC17","v":0},{"$f":"'100'!$AC18","v":0},{"$f":"'100'!$AC19","v":0},{"$f":"'100'!$AC20","v":0},{"$f":"'100'!$AC21","v":0},{"$f":"'100'!$AC22","v":"za"},{"$f":"'100'!$AC23","v":"zo"},{"$f":"'100'!$AC24","v":0},{"$f":"'100'!$AC25","v":0},{"$f":"'100'!$AC26","v":0},{"$f":"'100'!$AC27","v":0},{"$f":"'100'!$AC28","v":0},{"$f":"'100'!$AC29","v":"za"},{"$f":"'100'!$AC30","v":"zo"},{"$f":"'100'!$AC31","v":0},{"$f":"'100'!$AC32","v":0},{"$f":"'100'!$AC33","v":0},{"$f":"'100'!$AC34","v":0},{"$f":"'100'!$AC35","v":0},{"$f":"'100'!$AC36","v":"za"},{"$f":"'100'!$AC37","v":"zo"},{"$f":"'100'!$AC38","v":0},{"$f":"'100'!$AC39","v":0},{"$f":"'100'!$AD9","v":0},{"$f":"'100'!$AD10","v":0},{"$f":"'100'!$AD11","v":0},{"$f":"'100'!$AD12","v":"za"},{"$f":"'100'!$AD13","v":"zo"},{"$f":"'100'!$AD14","v":0},{"$f":"'100'!$AD15","v":0},{"$f":"'100'!$AD16","v":0},{"$f":"'100'!$AD17","v":0},{"$f":"'100'!$AD18","v":0},{"$f":"'100'!$AD19","v":"za"},{"$f":"'100'!$AD20","v":"zo"},{"$f":"'100'!$AD21","v":0},{"$f":"'100'!$AD22","v":0},{"$f":"'100'!$AD23","v":0},{"$f":"'100'!$AD24","v":"fd"},{"$f":"'100'!$AD25","v":0},{"$f":"'100'!$AD26","v":"za"},{"$f":"'100'!$AD27","v":"zo"},{"$f":"'100'!$AD28","v":0},{"$f":"'100'!$AD29","v":0},{"$f":"'100'!$AD30","v":0},{"$f":"'100'!$AD31","v":0},{"$f":"'100'!$AD32","v":0},{"$f":"'100'!$AD33","v":"za"},{"$f":"'100'!$AD34","v":"zo"},{"$f":"'100'!$AD35","v":0},{"$f":"'100'!$AD36","v":0},{"$f":"'100'!$AD37","v":0},{"$f":"'100'!$AD38","v":0},{"$f":"'100'!$AD39","v":0},{"$f":"'100'!$AE9","v":"za"},{"$f":"'100'!$AE10","v":"zo"},{"$f":"'100'!$AE11","v":0},{"$f":"'100'!$AE12","v":0},{"$f":"'100'!$AE13","v":0},{"$f":"'100'!$AE14","v":0},{"$f":"'100'!$AE15","v":0},{"$f":"'100'!$AE16","v":"za"},{"$f":"'100'!$AE17","v":"zo"},{"$f":"'100'!$AE18","v":0},{"$f":"'100'!$AE19","v":0},{"$f":"'100'!$AE20","v":0},{"$f":"'100'!$AE21","v":0},{"$f":"'100'!$AE22","v":0},{"$f":"'100'!$AE23","v":"za"},{"$f":"'100'!$AE24","v":"zo"},{"$f":"'100'!$AE25","v":0},{"$f":"'100'!$AE26","v":0},{"$f":"'100'!$AE27","v":0},{"$f":"'100'!$AE28","v":0},{"$f":"'100'!$AE29","v":0},{"$f":"'100'!$AE30","v":"za"},{"$f":"'100'!$AE31","v":"zo"},{"$f":"'100'!$AE32","v":0},{"$f":"'100'!$AE33","v":0},{"$f":"'100'!$AE34","v":0},{"$f":"'100'!$AE35","v":0},{"$f":"'100'!$AE36","v":0},{"$f":"'100'!$AE37","v":"za"},{"$f":"'100'!$AE38","v":"zo"},{"$f":"'100'!$AF9","v":0},{"$f":"'100'!$AF10","v":0},{"$f":"'100'!$AF11","v":0},{"$f":"'100'!$AF12","v":0},{"$f":"'100'!$AF13","v":0},{"$f":"'100'!$AF14","v":"za"},{"$f":"'100'!$AF15","v":"zo"},{"$f":"'100'!$AF16","v":0},{"$f":"'100'!$AF17","v":0},{"$f":"'100'!$AF18","v":0},{"$f":"'100'!$AF19","v":0},{"$f":"'100'!$AF20","v":0},{"$f":"'100'!$AF21","v":"za"},{"$f":"'100'!$AF22","v":"zo"},{"$f":"'100'!$AF23","v":0},{"$f":"'100'!$AF24","v":0},{"$f":"'100'!$AF25","v":0},{"$f":"'100'!$AF26","v":0},{"$f":"'100'!$AF27","v":0},{"$f":"'100'!$AF28","v":"za"},{"$f":"'100'!$AF29","v":"zo"},{"$f":"'100'!$AF30","v":0},{"$f":"'100'!$AF31","v":0},{"$f":"'100'!$AF32","v":0},{"$f":"'100'!$AF33","v":0},{"$f":"'100'!$AF34","v":0},{"$f":"'100'!$AF35","v":"za"},{"$f":"'100'!$AF36","v":"zo"},{"$f":"'100'!$AF37","v":0},{"$f":"'100'!$AF38","v":0},{"$f":"'100'!$AF39","v":0},{"$f":"'100'!$AG9","v":0},{"$f":"'100'!$AG10","v":"fd"},{"$f":"'100'!$AG11","v":"za"},{"$f":"'100'!$AG12","v":"zo"},{"$f":"'100'!$AG13","v":0},{"$f":"'100'!$AG14","v":0},{"$f":"'100'!$AG15","v":0},{"$f":"'100'!$AG16","v":0},{"$f":"'100'!$AG17","v":0},{"$f":"'100'!$AG18","v":"za"},{"$f":"'100'!$AG19","v":"zo"},{"$f":"'100'!$AG20","v":"fd"},{"$f":"'100'!$AG21","v":0},{"$f":"'100'!$AG22","v":0},{"$f":"'100'!$AG23","v":0},{"$f":"'100'!$AG24","v":0},{"$f":"'100'!$AG25","v":"za"},{"$f":"'100'!$AG26","v":"zo"},{"$f":"'100'!$AG27","v":0},{"$f":"'100'!$AG28","v":0},{"$f":"'100'!$AG29","v":0},{"$f":"'100'!$AG30","v":0},{"$f":"'100'!$AG31","v":0},{"$f":"'100'!$AG32","v":"za"},{"$f":"'100'!$AG33","v":"zo"},{"$f":"'100'!$AG34","v":0},{"$f":"'100'!$AG35","v":0},{"$f":"'100'!$AG36","v":0},{"$f":"'100'!$AG37","v":0},{"$f":"'100'!$AG38","v":0},{"$f":"'100'!$AH9","v":"za"},{"$f":"'100'!$AH10","v":"zo"},{"$f":"'100'!$AH11","v":0},{"$f":"'100'!$AH12","v":0},{"$f":"'100'!$AH13","v":0},{"$f":"'100'!$AH14","v":0},{"$f":"'100'!$AH15","v":0},{"$f":"'100'!$AH16","v":"za"},{"$f":"'100'!$AH17","v":"zo"},{"$f":"'100'!$AH18","v":0},{"$f":"'100'!$AH19","v":0},{"$f":"'100'!$AH20","v":0},{"$f":"'100'!$AH21","v":0},{"$f":"'100'!$AH22","v":0},{"$f":"'100'!$AH23","v":"za"},{"$f":"'100'!$AH24","v":"zo"},{"$f":"'100'!$AH25","v":0},{"$f":"'100'!$AH26","v":0},{"$f":"'100'!$AH27","v":0},{"$f":"'100'!$AH28","v":0},{"$f":"'100'!$AH29","v":0},{"$f":"'100'!$AH30","v":"za"},{"$f":"'100'!$AH31","v":"zo"},{"$f":"'100'!$AH32","v":0},{"$f":"'100'!$AH33","v":0},{"$f":"'100'!$AH34","v":"fd"},{"$f":"'100'!$AH35","v":0},{"$f":"'100'!$AH36","v":0},{"$f":"'100'!$AH37","v":"za"},{"$f":"'100'!$AH38","v":"zo"},{"$f":"'100'!$AH39","v":0}]
[119,{"$f":"'119'!$B$1","v":"Clippeleyr Alain"},"OK","fd",0,0,0,"za","zo",0,0,0,0,0,"za","zo",0,0,0,0,0,"za","zo",0,0,0,0,0,"za","zo",0,0,0,0,0,"za","zo",0,0,0,0,0,"za","zo",0,0,0,0,0,"za","zo",0,0,0,0,0,"za","zo",0,0,0,{"$f":"'119'!$X37","v":0},{"$f":"'119'!$X38","v":0},{"$f":"'119'!$X39","v":0},{"$f":"'119'!$Y9","v":0},{"$f":"'119'!$Y10","v":0},{"$f":"'119'!$Y11","v":"za"},{"$f":"'119'!$Y12","v":"zo"},{"$f":"'119'!$Y13","v":0},{"$f":"'119'!$Y14","v":0},{"$f":"'119'!$Y15","v":0},{"$f":"'119'!$Y16","v":0},{"$f":"'119'!$Y17","v":0},{"$f":"'119'!$Y18","v":"za"},{"$f":"'119'!$Y19","v":"zo"},{"$f":"'119'!$Y20","v":0},{"$f":"'119'!$Y21","v":0},{"$f":"'119'!$Y22","v":0},{"$f":"'119'!$Y23","v":0},{"$f":"'119'!$Y24","v":0},{"$f":"'119'!$Y25","v":"za"},{"$f":"'119'!$Y26","v":"zo"},{"$f":"'119'!$Y27","v":0},{"$f":"'119'!$Y28","v":0},{"$f":"'119'!$Y29","v":0},{"$f":"'119'!$Y30","v":0},{"$f":"'119'!$Y31","v":0},{"$f":"'119'!$Y32","v":"za"},{"$f":"'119'!$Y33","v":"zo"},{"$f":"'119'!$Y34","v":0},{"$f":"'119'!$Y35","v":0},{"$f":"'119'!$Y36","v":0},{"$f":"'119'!$Y37","v":0},{"$f":"'119'!$Y38","v":0},{"$f":"'119'!$Y39","v":"za"},{"$f":"'119'!$Z9","v":"zo"},{"$f":"'119'!$Z10","v":0},{"$f":"'119'!$Z11","v":0},{"$f":"'119'!$Z12","v":0},{"$f":"'119'!$Z13","v":0},{"$f":"'119'!$Z14","v":0},{"$f":"'119'!$Z15","v":"za"},{"$f":"'119'!$Z16","v":"zo"},{"$f":"'119'!$Z17","v":0},{"$f":"'119'!$Z18","v":0},{"$f":"'119'!$Z19","v":0},{"$f":"'119'!$Z20","v":0},{"$f":"'119'!$Z21","v":0},{"$f":"'119'!$Z22","v":"za"},{"$f":"'119'!$Z23","v":"zo"},{"$f":"'119'!$Z24","v":0},{"$f":"'119'!$Z25","v":0},{"$f":"'119'!$Z26","v":0},{"$f":"'119'!$Z27","v":0},{"$f":"'119'!$Z28","v":0},{"$f":"'119'!$Z29","v":"za"},{"$f":"'119'!$Z30","v":"zo"},{"$f":"'119'!$Z31","v":"fd"},{"$f":"'119'!$Z32","v":0},{"$f":"'119'!$Z33","v":0},{"$f":"'119'!$Z34","v":0},{"$f":"'119'!$Z35","v":0},{"$f":"'119'!$Z36","v":"za"},{"$f":"'119'!$Z37","v":"zo"},{"$f":"'119'!$Z38","v":0},{"$f":"'119'!$AA9","v":0},{"$f":"'119'!$AA10","v":"fd"},{"$f":"'119'!$AA11","v":0},{"$f":"'119'!$AA12","v":0},{"$f":"'119'!$AA13","v":"za"},{"$f":"'119'!$AA14","v":"zo"},{"$f":"'119'!$AA15","v":0},{"$f":"'119'!$AA16","v":0},{"$f":"'119'!$AA17","v":0},{"$f":"'119'!$AA18","v":0},{"$f":"'119'!$AA19","v":0},{"$f":"'119'!$AA20","v":"za"},{"$f":"'119'!$AA21","v":"zo"},{"$f":"'119'!$AA22","v":0},{"$f":"'119'!$AA23","v":0},{"$f":"'119'!$AA24","v":0},{"$f":"'119'!$AA25","v":0},{"$f":"'119'!$AA26","v":0},{"$f":"'119'!$AA27","v":"za"},{"$f":"'119'!$AA28","v":"zo"},{"$f":"'119'!$AA29","v":"fd"},{"$f":"'119'!$AA30","v":0},{"$f":"'119'!$AA31","v":0},{"$f":"'119'!$AA32","v":0},{"$f":"'119'!$AA33","v":0},{"$f":"'119'!$AA34","v":"za"},{"$f":"'119'!$AA35","v":"zo"},{"$f":"'119'!$AA36","v":0},{"$f":"'119'!$AA37","v":0},{"$f":"'119'!$AA38","v":0},{"$f":"'119'!$AA39","v":"fd"},{"$f":"'119'!$AB9","v":0},{"$f":"'119'!$AB10","v":"za"},{"$f":"'119'!$AB11","v":"zo"},{"$f":"'119'!$AB12","v":0},{"$f":"'119'!$AB13","v":0},{"$f":"'119'!$AB14","v":0},{"$f":"'119'!$AB15","v":0},{"$f":"'119'!$AB16","v":0},{"$f":"'119'!$AB17","v":"za"},{"$f":"'119'!$AB18","v":"zo"},{"$f":"'119'!$AB19","v":"fd"},{"$f":"'119'!$AB20","v":0},{"$f":"'119'!$AB21","v":0},{"$f":"'119'!$AB22","v":0},{"$f":"'119'!$AB23","v":0},{"$f":"'119'!$AB24","v":"za"},{"$f":"'119'!$AB25","v":"zo"},{"$f":"'119'!$AB26","v":0},{"$f":"'119'!$AB27","v":0},{"$f":"'119'!$AB28","v":0},{"$f":"'119'!$AB29","v":0},{"$f":"'119'!$AB30","v":0},{"$f":"'119'!$AB31","v":"za"},{"$f":"'119'!$AB32","v":"zo"},{"$f":"'119'!$AB33","v":0},{"$f":"'119'!$AB34","v":0},{"$f":"'119'!$AB35","v":0},{"$f":"'119'!$AB36","v":0},{"$f":"'119'!$AB37","v":0},{"$f":"'119'!$AB38","v":"za"},{"$f":"'119'!$AC9","v":"zo"},{"$f":"'119'!$AC10","v":0},{"$f":"'119'!$AC11","v":0},{"$f":"'119'!$AC12","v":0},{"$f":"'119'!$AC13","v":0},{"$f":"'119'!$AC14","v":0},{"$f":"'119'!$AC15","v":"za"},{"$f":"'119'!$AC16","v":"zo"},{"$f":"'119'!$AC17","v":0},{"$f":"'119'!$AC18","v":0},{"$f":"'119'!$AC19","v":0},{"$f":"'119'!$AC20","v":0},{"$f":"'119'!$AC21","v":0},{"$f":"'119'!$AC22","v":"za"},{"$f":"'119'!$AC23","v":"zo"},{"$f":"'119'!$AC24","v":0},{"$f":"'119'!$AC25","v":0},{"$f":"'119'!$AC26","v":0},{"$f":"'119'!$AC27","v":0},{"$f":"'119'!$AC28","v":0},{"$f":"'119'!$AC29","v":"za"},{"$f":"'119'!$AC30","v":"zo"},{"$f":"'119'!$AC31","v":0},{"$f":"'119'!$AC32","v":0},{"$f":"'119'!$AC33","v":0},{"$f":"'119'!$AC34","v":0},{"$f":"'119'!$AC35","v":0},{"$f":"'119'!$AC36","v":"za"},{"$f":"'119'!$AC37","v":"zo"},{"$f":"'119'!$AC38","v":0},{"$f":"'119'!$AC39","v":0},{"$f":"'119'!$AD9","v":0},{"$f":"'119'!$AD10","v":0},{"$f":"'119'!$AD11","v":0},{"$f":"'119'!$AD12","v":"za"},{"$f":"'119'!$AD13","v":"zo"},{"$f":"'119'!$AD14","v":0},{"$f":"'119'!$AD15","v":0},{"$f":"'119'!$AD16","v":0},{"$f":"'119'!$AD17","v":0},{"$f":"'119'!$AD18","v":0},{"$f":"'119'!$AD19","v":"za"},{"$f":"'119'!$AD20","v":"zo"},{"$f":"'119'!$AD21","v":0},{"$f":"'119'!$AD22","v":0},{"$f":"'119'!$AD23","v":0},{"$f":"'119'!$AD24","v":"fd"},{"$f":"'119'!$AD25","v":0},{"$f":"'119'!$AD26","v":"za"},{"$f":"'119'!$AD27","v":"zo"},{"$f":"'119'!$AD28","v":0},{"$f":"'119'!$AD29","v":0},{"$f":"'119'!$AD30","v":0},{"$f":"'119'!$AD31","v":0},{"$f":"'119'!$AD32","v":0},{"$f":"'119'!$AD33","v":"za"},{"$f":"'119'!$AD34","v":"zo"},{"$f":"'119'!$AD35","v":0},{"$f":"'119'!$AD36","v":0},{"$f":"'119'!$AD37","v":0},{"$f":"'119'!$AD38","v":0},{"$f":"'119'!$AD39","v":0},{"$f":"'119'!$AE9","v":"za"},{"$f":"'119'!$AE10","v":"zo"},{"$f":"'119'!$AE11","v":0},{"$f":"'119'!$AE12","v":0},{"$f":"'119'!$AE13","v":0},{"$f":"'119'!$AE14","v":0},{"$f":"'119'!$AE15","v":0},{"$f":"'119'!$AE16","v":"za"},{"$f":"'119'!$AE17","v":"zo"},{"$f":"'119'!$AE18","v":0},{"$f":"'119'!$AE19","v":0},{"$f":"'119'!$AE20","v":0},{"$f":"'119'!$AE21","v":0},{"$f":"'119'!$AE22","v":0},{"$f":"'119'!$AE23","v":"za"},{"$f":"'119'!$AE24","v":"zo"},{"$f":"'119'!$AE25","v":0},{"$f":"'119'!$AE26","v":0},{"$f":"'119'!$AE27","v":0},{"$f":"'119'!$AE28","v":0},{"$f":"'119'!$AE29","v":0},{"$f":"'119'!$AE30","v":"za"},{"$f":"'119'!$AE31","v":"zo"},{"$f":"'119'!$AE32","v":0},{"$f":"'119'!$AE33","v":0},{"$f":"'119'!$AE34","v":0},{"$f":"'119'!$AE35","v":0},{"$f":"'119'!$AE36","v":0},{"$f":"'119'!$AE37","v":"za"},{"$f":"'119'!$AE38","v":"zo"},{"$f":"'119'!$AF9","v":0},{"$f":"'119'!$AF10","v":0},{"$f":"'119'!$AF11","v":0},{"$f":"'119'!$AF12","v":0},{"$f":"'119'!$AF13","v":0},{"$f":"'119'!$AF14","v":"za"},{"$f":"'119'!$AF15","v":"zo"},{"$f":"'119'!$AF16","v":0},{"$f":"'119'!$AF17","v":0},{"$f":"'119'!$AF18","v":0},{"$f":"'119'!$AF19","v":0},{"$f":"'119'!$AF20","v":0},{"$f":"'119'!$AF21","v":"za"},{"$f":"'119'!$AF22","v":"zo"},{"$f":"'119'!$AF23","v":0},{"$f":"'119'!$AF24","v":0},{"$f":"'119'!$AF25","v":0},{"$f":"'119'!$AF26","v":0},{"$f":"'119'!$AF27","v":0},{"$f":"'119'!$AF28","v":"za"},{"$f":"'119'!$AF29","v":"zo"},{"$f":"'119'!$AF30","v":0},{"$f":"'119'!$AF31","v":0},{"$f":"'119'!$AF32","v":0},{"$f":"'119'!$AF33","v":0},{"$f":"'119'!$AF34","v":0},{"$f":"'119'!$AF35","v":"za"},{"$f":"'119'!$AF36","v":"zo"},{"$f":"'119'!$AF37","v":0},{"$f":"'119'!$AF38","v":0},{"$f":"'119'!$AF39","v":0},{"$f":"'119'!$AG9","v":0},{"$f":"'119'!$AG10","v":"fd"},{"$f":"'119'!$AG11","v":"za"},{"$f":"'119'!$AG12","v":"zo"},{"$f":"'119'!$AG13","v":0},{"$f":"'119'!$AG14","v":0},{"$f":"'119'!$AG15","v":0},{"$f":"'119'!$AG16","v":0},{"$f":"'119'!$AG17","v":0},{"$f":"'119'!$AG18","v":"za"},{"$f":"'119'!$AG19","v":"zo"},{"$f":"'119'!$AG20","v":"fd"},{"$f":"'119'!$AG21","v":0},{"$f":"'119'!$AG22","v":0},{"$f":"'119'!$AG23","v":0},{"$f":"'119'!$AG24","v":0},{"$f":"'119'!$AG25","v":"za"},{"$f":"'119'!$AG26","v":"zo"},{"$f":"'119'!$AG27","v":0},{"$f":"'119'!$AG28","v":0},{"$f":"'119'!$AG29","v":0},{"$f":"'119'!$AG30","v":0},{"$f":"'119'!$AG31","v":0},{"$f":"'119'!$AG32","v":"za"},{"$f":"'119'!$AG33","v":"zo"},{"$f":"'119'!$AG34","v":0},{"$f":"'119'!$AG35","v":0},{"$f":"'119'!$AG36","v":0},{"$f":"'119'!$AG37","v":0},{"$f":"'119'!$AG38","v":0},{"$f":"'119'!$AH9","v":"za"},{"$f":"'119'!$AH10","v":"zo"},{"$f":"'119'!$AH11","v":0},{"$f":"'119'!$AH12","v":0},{"$f":"'119'!$AH13","v":0},{"$f":"'119'!$AH14","v":0},{"$f":"'119'!$AH15","v":0},{"$f":"'119'!$AH16","v":"za"},{"$f":"'119'!$AH17","v":"zo"},{"$f":"'119'!$AH18","v":0},{"$f":"'119'!$AH19","v":0},{"$f":"'119'!$AH20","v":0},{"$f":"'119'!$AH21","v":0},{"$f":"'119'!$AH22","v":0},{"$f":"'119'!$AH23","v":"za"},{"$f":"'119'!$AH24","v":"zo"},{"$f":"'119'!$AH25","v":0},{"$f":"'119'!$AH26","v":0},{"$f":"'119'!$AH27","v":0},{"$f":"'119'!$AH28","v":0},{"$f":"'119'!$AH29","v":0},{"$f":"'119'!$AH30","v":"za"},{"$f":"'119'!$AH31","v":"zo"},{"$f":"'119'!$AH32","v":0},{"$f":"'119'!$AH33","v":0},{"$f":"'119'!$AH34","v":"fd"},{"$f":"'119'!$AH35","v":0},{"$f":"'119'!$AH36","v":0},{"$f":"'119'!$AH37","v":"za"},{"$f":"'119'!$AH38","v":"zo"},{"$f":"'119'!$AH39","v":0}]
[124,{"$f":"'124'!$B$1","v":"Lips Alain"},0,"fd",0,0,0,"za","zo",0,0,0,0,0,"za","zo",0,0,0,0,0,"za","zo",0,0,0,0,0,"za","zo",0,0,0,0,0,"za","zo",0,0,0,0,0,"za","zo",0,0,0,0,0,"za","zo",0,0,0,0,0,"za","zo",0,0,0,{"$f":"'124'!$X37","v":0},{"$f":"'124'!$X38","v":0},{"$f":"'124'!$X39","v":0},{"$f":"'124'!$Y9","v":0},{"$f":"'124'!$Y10","v":0},{"$f":"'124'!$Y11","v":"za"},{"$f":"'124'!$Y12","v":"zo"},{"$f":"'124'!$Y13","v":0},{"$f":"'124'!$Y14","v":0},{"$f":"'124'!$Y15","v":0},{"$f":"'124'!$Y16","v":0},{"$f":"'124'!$Y17","v":0},{"$f":"'124'!$Y18","v":"za"},{"$f":"'124'!$Y19","v":"zo"},{"$f":"'124'!$Y20","v":0},{"$f":"'124'!$Y21","v":0},{"$f":"'124'!$Y22","v":0},{"$f":"'124'!$Y23","v":0},{"$f":"'124'!$Y24","v":0},{"$f":"'124'!$Y25","v":"za"},{"$f":"'124'!$Y26","v":"zo"},{"$f":"'124'!$Y27","v":0},{"$f":"'124'!$Y28","v":0},{"$f":"'124'!$Y29","v":0},{"$f":"'124'!$Y30","v":0},{"$f":"'124'!$Y31","v":0},{"$f":"'124'!$Y32","v":"za"},{"$f":"'124'!$Y33","v":"zo"},{"$f":"'124'!$Y34","v":0},{"$f":"'124'!$Y35","v":0},{"$f":"'124'!$Y36","v":0},{"$f":"'124'!$Y37","v":0},{"$f":"'124'!$Y38","v":0},{"$f":"'124'!$Y39","v":"za"},{"$f":"'124'!$Z9","v":"zo"},{"$f":"'124'!$Z10","v":0},{"$f":"'124'!$Z11","v":0},{"$f":"'124'!$Z12","v":0},{"$f":"'124'!$Z13","v":0},{"$f":"'124'!$Z14","v":0},{"$f":"'124'!$Z15","v":"za"},{"$f":"'124'!$Z16","v":"zo"},{"$f":"'124'!$Z17","v":0},{"$f":"'124'!$Z18","v":0},{"$f":"'124'!$Z19","v":0},{"$f":"'124'!$Z20","v":0},{"$f":"'124'!$Z21","v":0},{"$f":"'124'!$Z22","v":"za"},{"$f":"'124'!$Z23","v":"zo"},{"$f":"'124'!$Z24","v":0},{"$f":"'124'!$Z25","v":0},{"$f":"'124'!$Z26","v":0},{"$f":"'124'!$Z27","v":0},{"$f":"'124'!$Z28","v":0},{"$f":"'124'!$Z29","v":"za"},{"$f":"'124'!$Z30","v":"zo"},{"$f":"'124'!$Z31","v":"fd"},{"$f":"'124'!$Z32","v":0},{"$f":"'124'!$Z33","v":0},{"$f":"'124'!$Z34","v":0},{"$f":"'124'!$Z35","v":0},{"$f":"'124'!$Z36","v":"za"},{"$f":"'124'!$Z37","v":"zo"},{"$f":"'124'!$Z38","v":0},{"$f":"'124'!$AA9","v":0},{"$f":"'124'!$AA10","v":"fd"},{"$f":"'124'!$AA11","v":0},{"$f":"'124'!$AA12","v":0},{"$f":"'124'!$AA13","v":"za"},{"$f":"'124'!$AA14","v":"zo"},{"$f":"'124'!$AA15","v":0},{"$f":"'124'!$AA16","v":0},{"$f":"'124'!$AA17","v":0},{"$f":"'124'!$AA18","v":0},{"$f":"'124'!$AA19","v":0},{"$f":"'124'!$AA20","v":"za"},{"$f":"'124'!$AA21","v":"zo"},{"$f":"'124'!$AA22","v":0},{"$f":"'124'!$AA23","v":0},{"$f":"'124'!$AA24","v":0},{"$f":"'124'!$AA25","v":0},{"$f":"'124'!$AA26","v":0},{"$f":"'124'!$AA27","v":"za"},{"$f":"'124'!$AA28","v":"zo"},{"$f":"'124'!$AA29","v":"fd"},{"$f":"'124'!$AA30","v":0},{"$f":"'124'!$AA31","v":0},{"$f":"'124'!$AA32","v":0},{"$f":"'124'!$AA33","v":0},{"$f":"'124'!$AA34","v":"za"},{"$f":"'124'!$AA35","v":"zo"},{"$f":"'124'!$AA36","v":0},{"$f":"'124'!$AA37","v":0},{"$f":"'124'!$AA38","v":0},{"$f":"'124'!$AA39","v":"fd"},{"$f":"'124'!$AB9","v":0},{"$f":"'124'!$AB10","v":"za"},{"$f":"'124'!$AB11","v":"zo"},{"$f":"'124'!$AB12","v":0},{"$f":"'124'!$AB13","v":0},{"$f":"'124'!$AB14","v":0},{"$f":"'124'!$AB15","v":0},{"$f":"'124'!$AB16","v":0},{"$f":"'124'!$AB17","v":"za"},{"$f":"'124'!$AB18","v":"zo"},{"$f":"'124'!$AB19","v":"fd"},{"$f":"'124'!$AB20","v":0},{"$f":"'124'!$AB21","v":0},{"$f":"'124'!$AB22","v":0},{"$f":"'124'!$AB23","v":0},{"$f":"'124'!$AB24","v":"za"},{"$f":"'124'!$AB25","v":"zo"},{"$f":"'124'!$AB26","v":0},{"$f":"'124'!$AB27","v":0},{"$f":"'124'!$AB28","v":0},{"$f":"'124'!$AB29","v":0},{"$f":"'124'!$AB30","v":0},{"$f":"'124'!$AB31","v":"za"},{"$f":"'124'!$AB32","v":"zo"},{"$f":"'124'!$AB33","v":0},{"$f":"'124'!$AB34","v":0},{"$f":"'124'!$AB35","v":0},{"$f":"'124'!$AB36","v":0},{"$f":"'124'!$AB37","v":0},{"$f":"'124'!$AB38","v":"za"},{"$f":"'124'!$AC9","v":"zo"},{"$f":"'124'!$AC10","v":0},{"$f":"'124'!$AC11","v":0},{"$f":"'124'!$AC12","v":0},{"$f":"'124'!$AC13","v":0},{"$f":"'124'!$AC14","v":0},{"$f":"'124'!$AC15","v":"za"},{"$f":"'124'!$AC16","v":"zo"},{"$f":"'124'!$AC17","v":0},{"$f":"'124'!$AC18","v":0},{"$f":"'124'!$AC19","v":0},{"$f":"'124'!$AC20","v":0},{"$f":"'124'!$AC21","v":0},{"$f":"'124'!$AC22","v":"za"},{"$f":"'124'!$AC23","v":"zo"},{"$f":"'124'!$AC24","v":0},{"$f":"'124'!$AC25","v":0},{"$f":"'124'!$AC26","v":0},{"$f":"'124'!$AC27","v":0},{"$f":"'124'!$AC28","v":0},{"$f":"'124'!$AC29","v":"za"},{"$f":"'124'!$AC30","v":"zo"},{"$f":"'124'!$AC31","v":0},{"$f":"'124'!$AC32","v":0},{"$f":"'124'!$AC33","v":0},{"$f":"'124'!$AC34","v":0},{"$f":"'124'!$AC35","v":0},{"$f":"'124'!$AC36","v":"za"},{"$f":"'124'!$AC37","v":"zo"},{"$f":"'124'!$AC38","v":0},{"$f":"'124'!$AC39","v":0},{"$f":"'124'!$AD9","v":0},{"$f":"'124'!$AD10","v":0},{"$f":"'124'!$AD11","v":0},{"$f":"'124'!$AD12","v":"za"},{"$f":"'124'!$AD13","v":"zo"},{"$f":"'124'!$AD14","v":0},{"$f":"'124'!$AD15","v":0},{"$f":"'124'!$AD16","v":0},{"$f":"'124'!$AD17","v":0},{"$f":"'124'!$AD18","v":0},{"$f":"'124'!$AD19","v":"za"},{"$f":"'124'!$AD20","v":"zo"},{"$f":"'124'!$AD21","v":0},{"$f":"'124'!$AD22","v":0},{"$f":"'124'!$AD23","v":0},{"$f":"'124'!$AD24","v":"fd"},{"$f":"'124'!$AD25","v":0},{"$f":"'124'!$AD26","v":"za"},{"$f":"'124'!$AD27","v":"zo"},{"$f":"'124'!$AD28","v":0},{"$f":"'124'!$AD29","v":0},{"$f":"'124'!$AD30","v":0},{"$f":"'124'!$AD31","v":0},{"$f":"'124'!$AD32","v":0},{"$f":"'124'!$AD33","v":"za"},{"$f":"'124'!$AD34","v":"zo"},{"$f":"'124'!$AD35","v":0},{"$f":"'124'!$AD36","v":0},{"$f":"'124'!$AD37","v":0},{"$f":"'124'!$AD38","v":0},{"$f":"'124'!$AD39","v":0},{"$f":"'124'!$AE9","v":"za"},{"$f":"'124'!$AE10","v":"zo"},{"$f":"'124'!$AE11","v":0},{"$f":"'124'!$AE12","v":0},{"$f":"'124'!$AE13","v":0},{"$f":"'124'!$AE14","v":0},{"$f":"'124'!$AE15","v":0},{"$f":"'124'!$AE16","v":"za"},{"$f":"'124'!$AE17","v":"zo"},{"$f":"'124'!$AE18","v":0},{"$f":"'124'!$AE19","v":0},{"$f":"'124'!$AE20","v":0},{"$f":"'124'!$AE21","v":0},{"$f":"'124'!$AE22","v":0},{"$f":"'124'!$AE23","v":"za"},{"$f":"'124'!$AE24","v":"zo"},{"$f":"'124'!$AE25","v":0},{"$f":"'124'!$AE26","v":0},{"$f":"'124'!$AE27","v":0},{"$f":"'124'!$AE28","v":0},{"$f":"'124'!$AE29","v":0},{"$f":"'124'!$AE30","v":"za"},{"$f":"'124'!$AE31","v":"zo"},{"$f":"'124'!$AE32","v":0},{"$f":"'124'!$AE33","v":0},{"$f":"'124'!$AE34","v":0},{"$f":"'124'!$AE35","v":0},{"$f":"'124'!$AE36","v":0},{"$f":"'124'!$AE37","v":"za"},{"$f":"'124'!$AE38","v":"zo"},{"$f":"'124'!$AF9","v":0},{"$f":"'124'!$AF10","v":0},{"$f":"'124'!$AF11","v":0},{"$f":"'124'!$AF12","v":0},{"$f":"'124'!$AF13","v":0},{"$f":"'124'!$AF14","v":"za"},{"$f":"'124'!$AF15","v":"zo"},{"$f":"'124'!$AF16","v":0},{"$f":"'124'!$AF17","v":0},{"$f":"'124'!$AF18","v":0},{"$f":"'124'!$AF19","v":0},{"$f":"'124'!$AF20","v":0},{"$f":"'124'!$AF21","v":"za"},{"$f":"'124'!$AF22","v":"zo"},{"$f":"'124'!$AF23","v":0},{"$f":"'124'!$AF24","v":0},{"$f":"'124'!$AF25","v":0},{"$f":"'124'!$AF26","v":0},{"$f":"'124'!$AF27","v":0},{"$f":"'124'!$AF28","v":"za"},{"$f":"'124'!$AF29","v":"zo"},{"$f":"'124'!$AF30","v":0},{"$f":"'124'!$AF31","v":0},{"$f":"'124'!$AF32","v":0},{"$f":"'124'!$AF33","v":0},{"$f":"'124'!$AF34","v":0},{"$f":"'124'!$AF35","v":"za"},{"$f":"'124'!$AF36","v":"zo"},{"$f":"'124'!$AF37","v":0},{"$f":"'124'!$AF38","v":0},{"$f":"'124'!$AF39","v":0},{"$f":"'124'!$AG9","v":0},{"$f":"'124'!$AG10","v":"fd"},{"$f":"'124'!$AG11","v":"za"},{"$f":"'124'!$AG12","v":"zo"},{"$f":"'124'!$AG13","v":0},{"$f":"'124'!$AG14","v":0},{"$f":"'124'!$AG15","v":0},{"$f":"'124'!$AG16","v":0},{"$f":"'124'!$AG17","v":0},{"$f":"'124'!$AG18","v":"za"},{"$f":"'124'!$AG19","v":"zo"},{"$f":"'124'!$AG20","v":"fd"},{"$f":"'124'!$AG21","v":0},{"$f":"'124'!$AG22","v":0},{"$f":"'124'!$AG23","v":0},{"$f":"'124'!$AG24","v":0},{"$f":"'124'!$AG25","v":"za"},{"$f":"'124'!$AG26","v":"zo"},{"$f":"'124'!$AG27","v":0},{"$f":"'124'!$AG28","v":0},{"$f":"'124'!$AG29","v":0},{"$f":"'124'!$AG30","v":0},{"$f":"'124'!$AG31","v":0},{"$f":"'124'!$AG32","v":"za"},{"$f":"'124'!$AG33","v":"zo"},{"$f":"'124'!$AG34","v":0},{"$f":"'124'!$AG35","v":0},{"$f":"'124'!$AG36","v":0},{"$f":"'124'!$AG37","v":0},{"$f":"'124'!$AG38","v":0},{"$f":"'124'!$AH9","v":"za"},{"$f":"'124'!$AH10","v":"zo"},{"$f":"'124'!$AH11","v":0},{"$f":"'124'!$AH12","v":0},{"$f":"'124'!$AH13","v":0},{"$f":"'124'!$AH14","v":0},{"$f":"'124'!$AH15","v":0},{"$f":"'124'!$AH16","v":"za"},{"$f":"'124'!$AH17","v":"zo"},{"$f":"'124'!$AH18","v":0},{"$f":"'124'!$AH19","v":0},{"$f":"'124'!$AH20","v":0},{"$f":"'124'!$AH21","v":0},{"$f":"'124'!$AH22","v":0},{"$f":"'124'!$AH23","v":"za"},{"$f":"'124'!$AH24","v":"zo"},{"$f":"'124'!$AH25","v":0},{"$f":"'124'!$AH26","v":0},{"$f":"'124'!$AH27","v":0},{"$f":"'124'!$AH28","v":0},{"$f":"'124'!$AH29","v":0},{"$f":"'124'!$AH30","v":"za"},{"$f":"'124'!$AH31","v":"zo"},{"$f":"'124'!$AH32","v":0},{"$f":"'124'!$AH33","v":0},{"$f":"'124'!$AH34","v":"fd"},{"$f":"'124'!$AH35","v":0},{"$f":"'124'!$AH36","v":0},{"$f":"'124'!$AH37","v":"za"},{"$f":"'124'!$AH38","v":"zo"},{"$f":"'124'!$AH39","v":0}]
[135,{"$f":"'135'!$B$1","v":"De Groof Bruno"},"OK","fd","v","v","v","za","zo",0,0,0,0,0,"za","zo",0,0,0,0,0,"za","zo",0,0,0,0,0,"za","zo",0,0,0,0,0,"za","zo",0,0,0,0,0,"za","zo",0,0,0,0,0,"za","zo",0,0,0,0,0,"za","zo",0,0,0,{"$f":"'135'!$X37","v":0},{"$f":"'135'!$X38","v":0},{"$f":"'135'!$X39","v":0},{"$f":"'135'!$Y9","v":0},{"$f":"'135'!$Y10","v":0},{"$f":"'135'!$Y11","v":"za"},{"$f":"'135'!$Y12","v":"zo"},{"$f":"'135'!$Y13","v":0},{"$f":"'135'!$Y14","v":0},{"$f":"'135'!$Y15","v":0},{"$f":"'135'!$Y16","v":0},{"$f":"'135'!$Y17","v":0},{"$f":"'135'!$Y18","v":"za"},{"$f":"'135'!$Y19","v":"zo"},{"$f":"'135'!$Y20","v":0},{"$f":"'135'!$Y21","v":0},{"$f":"'135'!$Y22","v":0},{"$f":"'135'!$Y23","v":0},{"$f":"'135'!$Y24","v":0},{"$f":"'135'!$Y25","v":"za"},{"$f":"'135'!$Y26","v":"zo"},{"$f":"'135'!$Y27","v":0},{"$f":"'135'!$Y28","v":0},{"$f":"'135'!$Y29","v":0},{"$f":"'135'!$Y30","v":0},{"$f":"'135'!$Y31","v":0},{"$f":"'135'!$Y32","v":"za"},{"$f":"'135'!$Y33","v":"zo"},{"$f":"'135'!$Y34","v":0},{"$f":"'135'!$Y35","v":0},{"$f":"'135'!$Y36","v":0},{"$f":"'135'!$Y37","v":0},{"$f":"'135'!$Y38","v":0},{"$f":"'135'!$Y39","v":"za"},{"$f":"'135'!$Z9","v":"zo"},{"$f":"'135'!$Z10","v":0},{"$f":"'135'!$Z11","v":0},{"$f":"'135'!$Z12","v":0},{"$f":"'135'!$Z13","v":0},{"$f":"'135'!$Z14","v":0},{"$f":"'135'!$Z15","v":"za"},{"$f":"'135'!$Z16","v":"zo"},{"$f":"'135'!$Z17","v":0},{"$f":"'135'!$Z18","v":0},{"$f":"'135'!$Z19","v":0},{"$f":"'135'!$Z20","v":0},{"$f":"'135'!$Z21","v":0},{"$f":"'135'!$Z22","v":"za"},{"$f":"'135'!$Z23","v":"zo"},{"$f":"'135'!$Z24","v":0},{"$f":"'135'!$Z25","v":0},{"$f":"'135'!$Z26","v":0},{"$f":"'135'!$Z27","v":0},{"$f":"'135'!$Z28","v":0},{"$f":"'135'!$Z29","v":"za"},{"$f":"'135'!$Z30","v":"zo"},{"$f":"'135'!$Z31","v":"fd"},{"$f":"'135'!$Z32","v":0},{"$f":"'135'!$Z33","v":0},{"$f":"'135'!$Z34","v":0},{"$f":"'135'!$Z35","v":0},{"$f":"'135'!$Z36","v":"za"},{"$f":"'135'!$Z37","v":"zo"},{"$f":"'135'!$Z38","v":0},{"$f":"'135'!$AA9","v":0},{"$f":"'135'!$AA10","v":"fd"},{"$f":"'135'!$AA11","v":0},{"$f":"'135'!$AA12","v":0},{"$f":"'135'!$AA13","v":"za"},{"$f":"'135'!$AA14","v":"zo"},{"$f":"'135'!$AA15","v":0},{"$f":"'135'!$AA16","v":0},{"$f":"'135'!$AA17","v":0},{"$f":"'135'!$AA18","v":0},{"$f":"'135'!$AA19","v":0},{"$f":"'135'!$AA20","v":"za"},{"$f":"'135'!$AA21","v":"zo"},{"$f":"'135'!$AA22","v":0},{"$f":"'135'!$AA23","v":0},{"$f":"'135'!$AA24","v":0},{"$f":"'135'!$AA25","v":0},{"$f":"'135'!$AA26","v":0},{"$f":"'135'!$AA27","v":"za"},{"$f":"'135'!$AA28","v":"zo"},{"$f":"'135'!$AA29","v":"fd"},{"$f":"'135'!$AA30","v":0},{"$f":"'135'!$AA31","v":0},{"$f":"'135'!$AA32","v":0},{"$f":"'135'!$AA33","v":0},{"$f":"'135'!$AA34","v":"za"},{"$f":"'135'!$AA35","v":"zo"},{"$f":"'135'!$AA36","v":0},{"$f":"'135'!$AA37","v":0},{"$f":"'135'!$AA38","v":0},{"$f":"'135'!$AA39","v":"fd"},{"$f":"'135'!$AB9","v":0},{"$f":"'135'!$AB10","v":"za"},{"$f":"'135'!$AB11","v":"zo"},{"$f":"'135'!$AB12","v":0},{"$f":"'135'!$AB13","v":0},{"$f":"'135'!$AB14","v":0},{"$f":"'135'!$AB15","v":0},{"$f":"'135'!$AB16","v":0},{"$f":"'135'!$AB17","v":"za"},{"$f":"'135'!$AB18","v":"zo"},{"$f":"'135'!$AB19","v":"fd"},{"$f":"'135'!$AB20","v":0},{"$f":"'135'!$AB21","v":0},{"$f":"'135'!$AB22","v":0},{"$f":"'135'!$AB23","v":0},{"$f":"'135'!$AB24","v":"za"},{"$f":"'135'!$AB25","v":"zo"},{"$f":"'135'!$AB26","v":0},{"$f":"'135'!$AB27","v":0},{"$f":"'135'!$AB28","v":0},{"$f":"'135'!$AB29","v":0},{"$f":"'135'!$AB30","v":0},{"$f":"'135'!$AB31","v":"za"},{"$f":"'135'!$AB32","v":"zo"},{"$f":"'135'!$AB33","v":0},{"$f":"'135'!$AB34","v":0},{"$f":"'135'!$AB35","v":0},{"$f":"'135'!$AB36","v":0},{"$f":"'135'!$AB37","v":0},{"$f":"'135'!$AB38","v":"za"},{"$f":"'135'!$AC9","v":"zo"},{"$f":"'135'!$AC10","v":0},{"$f":"'135'!$AC11","v":0},{"$f":"'135'!$AC12","v":0},{"$f":"'135'!$AC13","v":0},{"$f":"'135'!$AC14","v":0},{"$f":"'135'!$AC15","v":"za"},{"$f":"'135'!$AC16","v":"zo"},{"$f":"'135'!$AC17","v":0},{"$f":"'135'!$AC18","v":0},{"$f":"'135'!$AC19","v":0},{"$f":"'135'!$AC20","v":0},{"$f":"'135'!$AC21","v":0},{"$f":"'135'!$AC22","v":"za"},{"$f":"'135'!$AC23","v":"zo"},{"$f":"'135'!$AC24","v":0},{"$f":"'135'!$AC25","v":0},{"$f":"'135'!$AC26","v":0},{"$f":"'135'!$AC27","v":0},{"$f":"'135'!$AC28","v":0},{"$f":"'135'!$AC29","v":"za"},{"$f":"'135'!$AC30","v":"zo"},{"$f":"'135'!$AC31","v":0},{"$f":"'135'!$AC32","v":0},{"$f":"'135'!$AC33","v":0},{"$f":"'135'!$AC34","v":0},{"$f":"'135'!$AC35","v":0},{"$f":"'135'!$AC36","v":"za"},{"$f":"'135'!$AC37","v":"zo"},{"$f":"'135'!$AC38","v":0},{"$f":"'135'!$AC39","v":0},{"$f":"'135'!$AD9","v":0},{"$f":"'135'!$AD10","v":0},{"$f":"'135'!$AD11","v":0},{"$f":"'135'!$AD12","v":"za"},{"$f":"'135'!$AD13","v":"zo"},{"$f":"'135'!$AD14","v":0},{"$f":"'135'!$AD15","v":0},{"$f":"'135'!$AD16","v":0},{"$f":"'135'!$AD17","v":0},{"$f":"'135'!$AD18","v":0},{"$f":"'135'!$AD19","v":"za"},{"$f":"'135'!$AD20","v":"zo"},{"$f":"'135'!$AD21","v":0},{"$f":"'135'!$AD22","v":0},{"$f":"'135'!$AD23","v":0},{"$f":"'135'!$AD24","v":"fd"},{"$f":"'135'!$AD25","v":0},{"$f":"'135'!$AD26","v":"za"},{"$f":"'135'!$AD27","v":"zo"},{"$f":"'135'!$AD28","v":0},{"$f":"'135'!$AD29","v":0},{"$f":"'135'!$AD30","v":0},{"$f":"'135'!$AD31","v":0},{"$f":"'135'!$AD32","v":0},{"$f":"'135'!$AD33","v":"za"},{"$f":"'135'!$AD34","v":"zo"},{"$f":"'135'!$AD35","v":0},{"$f":"'135'!$AD36","v":0},{"$f":"'135'!$AD37","v":0},{"$f":"'135'!$AD38","v":0},{"$f":"'135'!$AD39","v":0},{"$f":"'135'!$AE9","v":"za"},{"$f":"'135'!$AE10","v":"zo"},{"$f":"'135'!$AE11","v":0},{"$f":"'135'!$AE12","v":0},{"$f":"'135'!$AE13","v":0},{"$f":"'135'!$AE14","v":0},{"$f":"'135'!$AE15","v":0},{"$f":"'135'!$AE16","v":"za"},{"$f":"'135'!$AE17","v":"zo"},{"$f":"'135'!$AE18","v":0},{"$f":"'135'!$AE19","v":0},{"$f":"'135'!$AE20","v":0},{"$f":"'135'!$AE21","v":0},{"$f":"'135'!$AE22","v":0},{"$f":"'135'!$AE23","v":"za"},{"$f":"'135'!$AE24","v":"zo"},{"$f":"'135'!$AE25","v":0},{"$f":"'135'!$AE26","v":0},{"$f":"'135'!$AE27","v":0},{"$f":"'135'!$AE28","v":0},{"$f":"'135'!$AE29","v":0},{"$f":"'135'!$AE30","v":"za"},{"$f":"'135'!$AE31","v":"zo"},{"$f":"'135'!$AE32","v":0},{"$f":"'135'!$AE33","v":0},{"$f":"'135'!$AE34","v":0},{"$f":"'135'!$AE35","v":0},{"$f":"'135'!$AE36","v":0},{"$f":"'135'!$AE37","v":"za"},{"$f":"'135'!$AE38","v":"zo"},{"$f":"'135'!$AF9","v":0},{"$f":"'135'!$AF10","v":0},{"$f":"'135'!$AF11","v":0},{"$f":"'135'!$AF12","v":0},{"$f":"'135'!$AF13","v":0},{"$f":"'135'!$AF14","v":"za"},{"$f":"'135'!$AF15","v":"zo"},{"$f":"'135'!$AF16","v":0},{"$f":"'135'!$AF17","v":0},{"$f":"'135'!$AF18","v":0},{"$f":"'135'!$AF19","v":0},{"$f":"'135'!$AF20","v":0},{"$f":"'135'!$AF21","v":"za"},{"$f":"'135'!$AF22","v":"zo"},{"$f":"'135'!$AF23","v":0},{"$f":"'135'!$AF24","v":0},{"$f":"'135'!$AF25","v":0},{"$f":"'135'!$AF26","v":0},{"$f":"'135'!$AF27","v":0},{"$f":"'135'!$AF28","v":"za"},{"$f":"'135'!$AF29","v":"zo"},{"$f":"'135'!$AF30","v":0},{"$f":"'135'!$AF31","v":0},{"$f":"'135'!$AF32","v":0},{"$f":"'135'!$AF33","v":0},{"$f":"'135'!$AF34","v":0},{"$f":"'135'!$AF35","v":"za"},{"$f":"'135'!$AF36","v":"zo"},{"$f":"'135'!$AF37","v":0},{"$f":"'135'!$AF38","v":0},{"$f":"'135'!$AF39","v":0},{"$f":"'135'!$AG9","v":0},{"$f":"'135'!$AG10","v":"fd"},{"$f":"'135'!$AG11","v":"za"},{"$f":"'135'!$AG12","v":"zo"},{"$f":"'135'!$AG13","v":0},{"$f":"'135'!$AG14","v":0},{"$f":"'135'!$AG15","v":0},{"$f":"'135'!$AG16","v":0},{"$f":"'135'!$AG17","v":0},{"$f":"'135'!$AG18","v":"za"},{"$f":"'135'!$AG19","v":"zo"},{"$f":"'135'!$AG20","v":"fd"},{"$f":"'135'!$AG21","v":0},{"$f":"'135'!$AG22","v":0},{"$f":"'135'!$AG23","v":0},{"$f":"'135'!$AG24","v":0},{"$f":"'135'!$AG25","v":"za"},{"$f":"'135'!$AG26","v":"zo"},{"$f":"'135'!$AG27","v":0},{"$f":"'135'!$AG28","v":0},{"$f":"'135'!$AG29","v":0},{"$f":"'135'!$AG30","v":0},{"$f":"'135'!$AG31","v":0},{"$f":"'135'!$AG32","v":"za"},{"$f":"'135'!$AG33","v":"zo"},{"$f":"'135'!$AG34","v":0},{"$f":"'135'!$AG35","v":0},{"$f":"'135'!$AG36","v":0},{"$f":"'135'!$AG37","v":0},{"$f":"'135'!$AG38","v":0},{"$f":"'135'!$AH9","v":"za"},{"$f":"'135'!$AH10","v":"zo"},{"$f":"'135'!$AH11","v":0},{"$f":"'135'!$AH12","v":0},{"$f":"'135'!$AH13","v":0},{"$f":"'135'!$AH14","v":0},{"$f":"'135'!$AH15","v":0},{"$f":"'135'!$AH16","v":"za"},{"$f":"'135'!$AH17","v":"zo"},{"$f":"'135'!$AH18","v":0},{"$f":"'135'!$AH19","v":0},{"$f":"'135'!$AH20","v":0},{"$f":"'135'!$AH21","v":0},{"$f":"'135'!$AH22","v":0},{"$f":"'135'!$AH23","v":"za"},{"$f":"'135'!$AH24","v":"zo"},{"$f":"'135'!$AH25","v":0},{"$f":"'135'!$AH26","v":0},{"$f":"'135'!$AH27","v":0},{"$f":"'135'!$AH28","v":0},{"$f":"'135'!$AH29","v":0},{"$f":"'135'!$AH30","v":"za"},{"$f":"'135'!$AH31","v":"zo"},{"$f":"'135'!$AH32","v":0},{"$f":"'135'!$AH33","v":0},{"$f":"'135'!$AH34","v":"fd"},{"$f":"'135'!$AH35","v":0},{"$f":"'135'!$AH36","v":0},{"$f":"'135'!$AH37","v":"za"},{"$f":"'135'!$AH38","v":"zo"},{"$f":"'135'!$AH39","v":0}]
[141,{"$f":"'141'!$B$1","v":"Patrick Asselberghs"},"GA","fd",0,0,0,"za","zo",0,0,0,0,0,"za","zo",0,0,0,0,0,"za","zo",0,0,0,0,0,"za","zo",0,0,0,0,0,"za","zo",0,0,0,0,0,"za","zo",0,0,0,0,0,"za","zo",0,0,0,0,0,"za","zo",0,0,0,{"$f":"'141'!$X37","v":0},{"$f":"'141'!$X38","v":0},{"$f":"'141'!$X39","v":0},{"$f":"'141'!$Y9","v":0},{"$f":"'141'!$Y10","v":0},{"$f":"'141'!$Y11","v":"za"},{"$f":"'141'!$Y12","v":"zo"},{"$f":"'141'!$Y13","v":0},{"$f":"'141'!$Y14","v":0},{"$f":"'141'!$Y15","v":0},{"$f":"'141'!$Y16","v":0},{"$f":"'141'!$Y17","v":0},{"$f":"'141'!$Y18","v":"za"},{"$f":"'141'!$Y19","v":"zo"},{"$f":"'141'!$Y20","v":0},{"$f":"'141'!$Y21","v":0},{"$f":"'141'!$Y22","v":0},{"$f":"'141'!$Y23","v":0},{"$f":"'141'!$Y24","v":0},{"$f":"'141'!$Y25","v":"za"},{"$f":"'141'!$Y26","v":"zo"},{"$f":"'141'!$Y27","v":0},{"$f":"'141'!$Y28","v":0},{"$f":"'141'!$Y29","v":0},{"$f":"'141'!$Y30","v":0},{"$f":"'141'!$Y31","v":0},{"$f":"'141'!$Y32","v":"za"},{"$f":"'141'!$Y33","v":"zo"},{"$f":"'141'!$Y34","v":0},{"$f":"'141'!$Y35","v":0},{"$f":"'141'!$Y36","v":0},{"$f":"'141'!$Y37","v":0},{"$f":"'141'!$Y38","v":0},{"$f":"'141'!$Y39","v":"za"},{"$f":"'141'!$Z9","v":"zo"},{"$f":"'141'!$Z10","v":0},{"$f":"'141'!$Z11","v":0},{"$f":"'141'!$Z12","v":0},{"$f":"'141'!$Z13","v":0},{"$f":"'141'!$Z14","v":0},{"$f":"'141'!$Z15","v":"za"},{"$f":"'141'!$Z16","v":"zo"},{"$f":"'141'!$Z17","v":0},{"$f":"'141'!$Z18","v":0},{"$f":"'141'!$Z19","v":0},{"$f":"'141'!$Z20","v":0},{"$f":"'141'!$Z21","v":0},{"$f":"'141'!$Z22","v":"za"},{"$f":"'141'!$Z23","v":"zo"},{"$f":"'141'!$Z24","v":0},{"$f":"'141'!$Z25","v":0},{"$f":"'141'!$Z26","v":0},{"$f":"'141'!$Z27","v":0},{"$f":"'141'!$Z28","v":0},{"$f":"'141'!$Z29","v":"za"},{"$f":"'141'!$Z30","v":"zo"},{"$f":"'141'!$Z31","v":"fd"},{"$f":"'141'!$Z32","v":0},{"$f":"'141'!$Z33","v":0},{"$f":"'141'!$Z34","v":0},{"$f":"'141'!$Z35","v":0},{"$f":"'141'!$Z36","v":"za"},{"$f":"'141'!$Z37","v":"zo"},{"$f":"'141'!$Z38","v":0},{"$f":"'141'!$AA9","v":0},{"$f":"'141'!$AA10","v":"fd"},{"$f":"'141'!$AA11","v":0},{"$f":"'141'!$AA12","v":0},{"$f":"'141'!$AA13","v":"za"},{"$f":"'141'!$AA14","v":"zo"},{"$f":"'141'!$AA15","v":0},{"$f":"'141'!$AA16","v":0},{"$f":"'141'!$AA17","v":0},{"$f":"'141'!$AA18","v":0},{"$f":"'141'!$AA19","v":0},{"$f":"'141'!$AA20","v":"za"},{"$f":"'141'!$AA21","v":"zo"},{"$f":"'141'!$AA22","v":0},{"$f":"'141'!$AA23","v":0},{"$f":"'141'!$AA24","v":0},{"$f":"'141'!$AA25","v":0},{"$f":"'141'!$AA26","v":0},{"$f":"'141'!$AA27","v":"za"},{"$f":"'141'!$AA28","v":"zo"},{"$f":"'141'!$AA29","v":"fd"},{"$f":"'141'!$AA30","v":0},{"$f":"'141'!$AA31","v":0},{"$f":"'141'!$AA32","v":0},{"$f":"'141'!$AA33","v":0},{"$f":"'141'!$AA34","v":"za"},{"$f":"'141'!$AA35","v":"zo"},{"$f":"'141'!$AA36","v":0},{"$f":"'141'!$AA37","v":0},{"$f":"'141'!$AA38","v":0},{"$f":"'141'!$AA39","v":"fd"},{"$f":"'141'!$AB9","v":0},{"$f":"'141'!$AB10","v":"za"},{"$f":"'141'!$AB11","v":"zo"},{"$f":"'141'!$AB12","v":0},{"$f":"'141'!$AB13","v":0},{"$f":"'141'!$AB14","v":0},{"$f":"'141'!$AB15","v":0},{"$f":"'141'!$AB16","v":0},{"$f":"'141'!$AB17","v":"za"},{"$f":"'141'!$AB18","v":"zo"},{"$f":"'141'!$AB19","v":"fd"},{"$f":"'141'!$AB20","v":0},{"$f":"'141'!$AB21","v":0},{"$f":"'141'!$AB22","v":0},{"$f":"'141'!$AB23","v":0},{"$f":"'141'!$AB24","v":"za"},{"$f":"'141'!$AB25","v":"zo"},{"$f":"'141'!$AB26","v":0},{"$f":"'141'!$AB27","v":0},{"$f":"'141'!$AB28","v":0},{"$f":"'141'!$AB29","v":0},{"$f":"'141'!$AB30","v":0},{"$f":"'141'!$AB31","v":"za"},{"$f":"'141'!$AB32","v":"zo"},{"$f":"'141'!$AB33","v":0},{"$f":"'141'!$AB34","v":0},{"$f":"'141'!$AB35","v":0},{"$f":"'141'!$AB36","v":0},{"$f":"'141'!$AB37","v":0},{"$f":"'141'!$AB38","v":"za"},{"$f":"'141'!$AC9","v":"zo"},{"$f":"'141'!$AC10","v":0},{"$f":"'141'!$AC11","v":0},{"$f":"'141'!$AC12","v":0},{"$f":"'141'!$AC13","v":0},{"$f":"'141'!$AC14","v":0},{"$f":"'141'!$AC15","v":"za"},{"$f":"'141'!$AC16","v":"zo"},{"$f":"'141'!$AC17","v":0},{"$f":"'141'!$AC18","v":0},{"$f":"'141'!$AC19","v":0},{"$f":"'141'!$AC20","v":0},{"$f":"'141'!$AC21","v":0},{"$f":"'141'!$AC22","v":"za"},{"$f":"'141'!$AC23","v":"zo"},{"$f":"'141'!$AC24","v":0},{"$f":"'141'!$AC25","v":0},{"$f":"'141'!$AC26","v":0},{"$f":"'141'!$AC27","v":0},{"$f":"'141'!$AC28","v":0},{"$f":"'141'!$AC29","v":"za"},{"$f":"'141'!$AC30","v":"zo"},{"$f":"'141'!$AC31","v":0},{"$f":"'141'!$AC32","v":0},{"$f":"'141'!$AC33","v":0},{"$f":"'141'!$AC34","v":0},{"$f":"'141'!$AC35","v":0},{"$f":"'141'!$AC36","v":"za"},{"$f":"'141'!$AC37","v":"zo"},{"$f":"'141'!$AC38","v":0},{"$f":"'141'!$AC39","v":0},{"$f":"'141'!$AD9","v":0},{"$f":"'141'!$AD10","v":0},{"$f":"'141'!$AD11","v":0},{"$f":"'141'!$AD12","v":"za"},{"$f":"'141'!$AD13","v":"zo"},{"$f":"'141'!$AD14","v":0},{"$f":"'141'!$AD15","v":0},{"$f":"'141'!$AD16","v":0},{"$f":"'141'!$AD17","v":0},{"$f":"'141'!$AD18","v":0},{"$f":"'141'!$AD19","v":"za"},{"$f":"'141'!$AD20","v":"zo"},{"$f":"'141'!$AD21","v":0},{"$f":"'141'!$AD22","v":0},{"$f":"'141'!$AD23","v":0},{"$f":"'141'!$AD24","v":"fd"},{"$f":"'141'!$AD25","v":0},{"$f":"'141'!$AD26","v":"za"},{"$f":"'141'!$AD27","v":"zo"},{"$f":"'141'!$AD28","v":0},{"$f":"'141'!$AD29","v":0},{"$f":"'141'!$AD30","v":0},{"$f":"'141'!$AD31","v":0},{"$f":"'141'!$AD32","v":0},{"$f":"'141'!$AD33","v":"za"},{"$f":"'141'!$AD34","v":"zo"},{"$f":"'141'!$AD35","v":0},{"$f":"'141'!$AD36","v":0},{"$f":"'141'!$AD37","v":0},{"$f":"'141'!$AD38","v":0},{"$f":"'141'!$AD39","v":0},{"$f":"'141'!$AE9","v":"za"},{"$f":"'141'!$AE10","v":"zo"},{"$f":"'141'!$AE11","v":0},{"$f":"'141'!$AE12","v":0},{"$f":"'141'!$AE13","v":0},{"$f":"'141'!$AE14","v":0},{"$f":"'141'!$AE15","v":0},{"$f":"'141'!$AE16","v":"za"},{"$f":"'141'!$AE17","v":"zo"},{"$f":"'141'!$AE18","v":0},{"$f":"'141'!$AE19","v":0},{"$f":"'141'!$AE20","v":0},{"$f":"'141'!$AE21","v":0},{"$f":"'141'!$AE22","v":0},{"$f":"'141'!$AE23","v":"za"},{"$f":"'141'!$AE24","v":"zo"},{"$f":"'141'!$AE25","v":0},{"$f":"'141'!$AE26","v":0},{"$f":"'141'!$AE27","v":0},{"$f":"'141'!$AE28","v":0},{"$f":"'141'!$AE29","v":0},{"$f":"'141'!$AE30","v":"za"},{"$f":"'141'!$AE31","v":"zo"},{"$f":"'141'!$AE32","v":0},{"$f":"'141'!$AE33","v":0},{"$f":"'141'!$AE34","v":0},{"$f":"'141'!$AE35","v":0},{"$f":"'141'!$AE36","v":0},{"$f":"'141'!$AE37","v":"za"},{"$f":"'141'!$AE38","v":"zo"},{"$f":"'141'!$AF9","v":0},{"$f":"'141'!$AF10","v":0},{"$f":"'141'!$AF11","v":0},{"$f":"'141'!$AF12","v":0},{"$f":"'141'!$AF13","v":0},{"$f":"'141'!$AF14","v":"za"},{"$f":"'141'!$AF15","v":"zo"},{"$f":"'141'!$AF16","v":0},{"$f":"'141'!$AF17","v":0},{"$f":"'141'!$AF18","v":0},{"$f":"'141'!$AF19","v":0},{"$f":"'141'!$AF20","v":0},{"$f":"'141'!$AF21","v":"za"},{"$f":"'141'!$AF22","v":"zo"},{"$f":"'141'!$AF23","v":0},{"$f":"'141'!$AF24","v":0},{"$f":"'141'!$AF25","v":0},{"$f":"'141'!$AF26","v":0},{"$f":"'141'!$AF27","v":0},{"$f":"'141'!$AF28","v":"za"},{"$f":"'141'!$AF29","v":"zo"},{"$f":"'141'!$AF30","v":0},{"$f":"'141'!$AF31","v":0},{"$f":"'141'!$AF32","v":0},{"$f":"'141'!$AF33","v":0},{"$f":"'141'!$AF34","v":0},{"$f":"'141'!$AF35","v":"za"},{"$f":"'141'!$AF36","v":"zo"},{"$f":"'141'!$AF37","v":0},{"$f":"'141'!$AF38","v":0},{"$f":"'141'!$AF39","v":0},{"$f":"'141'!$AG9","v":0},{"$f":"'141'!$AG10","v":"fd"},{"$f":"'141'!$AG11","v":"za"},{"$f":"'141'!$AG12","v":"zo"},{"$f":"'141'!$AG13","v":0},{"$f":"'141'!$AG14","v":0},{"$f":"'141'!$AG15","v":0},{"$f":"'141'!$AG16","v":0},{"$f":"'141'!$AG17","v":0},{"$f":"'141'!$AG18","v":"za"},{"$f":"'141'!$AG19","v":"zo"},{"$f":"'141'!$AG20","v":"fd"},{"$f":"'141'!$AG21","v":0},{"$f":"'141'!$AG22","v":0},{"$f":"'141'!$AG23","v":0},{"$f":"'141'!$AG24","v":0},{"$f":"'141'!$AG25","v":"za"},{"$f":"'141'!$AG26","v":"zo"},{"$f":"'141'!$AG27","v":0},{"$f":"'141'!$AG28","v":0},{"$f":"'141'!$AG29","v":0},{"$f":"'141'!$AG30","v":0},{"$f":"'141'!$AG31","v":0},{"$f":"'141'!$AG32","v":"za"},{"$f":"'141'!$AG33","v":"zo"},{"$f":"'141'!$AG34","v":0},{"$f":"'141'!$AG35","v":0},{"$f":"'141'!$AG36","v":0},{"$f":"'141'!$AG37","v":0},{"$f":"'141'!$AG38","v":0},{"$f":"'141'!$AH9","v":"za"},{"$f":"'141'!$AH10","v":"zo"},{"$f":"'141'!$AH11","v":0},{"$f":"'141'!$AH12","v":0},{"$f":"'141'!$AH13","v":0},{"$f":"'141'!$AH14","v":0},{"$f":"'141'!$AH15","v":0},{"$f":"'141'!$AH16","v":"za"},{"$f":"'141'!$AH17","v":"zo"},{"$f":"'141'!$AH18","v":0},{"$f":"'141'!$AH19","v":0},{"$f":"'141'!$AH20","v":0},{"$f":"'141'!$AH21","v":0},{"$f":"'141'!$AH22","v":0},{"$f":"'141'!$AH23","v":"za"},{"$f":"'141'!$AH24","v":"zo"},{"$f":"'141'!$AH25","v":0},{"$f":"'141'!$AH26","v":0},{"$f":"'141'!$AH27","v":0},{"$f":"'141'!$AH28","v":0},{"$f":"'141'!$AH29","v":0},{"$f":"'141'!$AH30","v":"za"},{"$f":"'141'!$AH31","v":"zo"},{"$f":"'141'!$AH32","v":0},{"$f":"'141'!$AH33","v":0},{"$f":"'141'!$AH34","v":"fd"},{"$f":"'141'!$AH35","v":0},{"$f":"'141'!$AH36","v":0},{"$f":"'141'!$AH37","v":"za"},{"$f":"'141'!$AH38","v":"zo"},{"$f":"'141'!$AH39","v":0}]
[142,{"$f":"'142'!$B$1","v":"Eddy Vandormael"},0,"fd",0,0,0,"za","zo",0,0,0,0,0,"za","zo",0,0,0,0,0,"za","zo",0,0,0,0,0,"za","zo",0,0,0,0,0,"za","zo",0,0,0,0,0,"za","zo",0,0,0,0,0,"za","zo",0,0,0,0,0,"za","zo",0,0,0,{"$f":"'142'!$X37","v":0},{"$f":"'142'!$X38","v":0},{"$f":"'142'!$X39","v":0},{"$f":"'142'!$Y9","v":0},{"$f":"'142'!$Y10","v":0},{"$f":"'142'!$Y11","v":"za"},{"$f":"'142'!$Y12","v":"zo"},{"$f":"'142'!$Y13","v":0},{"$f":"'142'!$Y14","v":0},{"$f":"'142'!$Y15","v":0},{"$f":"'142'!$Y16","v":0},{"$f":"'142'!$Y17","v":0},{"$f":"'142'!$Y18","v":"za"},{"$f":"'142'!$Y19","v":"zo"},{"$f":"'142'!$Y20","v":0},{"$f":"'142'!$Y21","v":0},{"$f":"'142'!$Y22","v":0},{"$f":"'142'!$Y23","v":0},{"$f":"'142'!$Y24","v":0},{"$f":"'142'!$Y25","v":"za"},{"$f":"'142'!$Y26","v":"zo"},{"$f":"'142'!$Y27","v":0},{"$f":"'142'!$Y28","v":0},{"$f":"'142'!$Y29","v":0},{"$f":"'142'!$Y30","v":0},{"$f":"'142'!$Y31","v":0},{"$f":"'142'!$Y32","v":"za"},{"$f":"'142'!$Y33","v":"zo"},{"$f":"'142'!$Y34","v":0},{"$f":"'142'!$Y35","v":0},{"$f":"'142'!$Y36","v":0},{"$f":"'142'!$Y37","v":0},{"$f":"'142'!$Y38","v":0},{"$f":"'142'!$Y39","v":"za"},{"$f":"'142'!$Z9","v":"zo"},{"$f":"'142'!$Z10","v":0},{"$f":"'142'!$Z11","v":0},{"$f":"'142'!$Z12","v":0},{"$f":"'142'!$Z13","v":0},{"$f":"'142'!$Z14","v":0},{"$f":"'142'!$Z15","v":"za"},{"$f":"'142'!$Z16","v":"zo"},{"$f":"'142'!$Z17","v":0},{"$f":"'142'!$Z18","v":0},{"$f":"'142'!$Z19","v":0},{"$f":"'142'!$Z20","v":0},{"$f":"'142'!$Z21","v":0},{"$f":"'142'!$Z22","v":"za"},{"$f":"'142'!$Z23","v":"zo"},{"$f":"'142'!$Z24","v":0},{"$f":"'142'!$Z25","v":0},{"$f":"'142'!$Z26","v":0},{"$f":"'142'!$Z27","v":0},{"$f":"'142'!$Z28","v":0},{"$f":"'142'!$Z29","v":"za"},{"$f":"'142'!$Z30","v":"zo"},{"$f":"'142'!$Z31","v":"fd"},{"$f":"'142'!$Z32","v":0},{"$f":"'142'!$Z33","v":0},{"$f":"'142'!$Z34","v":0},{"$f":"'142'!$Z35","v":0},{"$f":"'142'!$Z36","v":"za"},{"$f":"'142'!$Z37","v":"zo"},{"$f":"'142'!$Z38","v":0},{"$f":"'142'!$AA9","v":0},{"$f":"'142'!$AA10","v":"fd"},{"$f":"'142'!$AA11","v":0},{"$f":"'142'!$AA12","v":0},{"$f":"'142'!$AA13","v":"za"},{"$f":"'142'!$AA14","v":"zo"},{"$f":"'142'!$AA15","v":0},{"$f":"'142'!$AA16","v":0},{"$f":"'142'!$AA17","v":0},{"$f":"'142'!$AA18","v":0},{"$f":"'142'!$AA19","v":0},{"$f":"'142'!$AA20","v":"za"},{"$f":"'142'!$AA21","v":"zo"},{"$f":"'142'!$AA22","v":0},{"$f":"'142'!$AA23","v":0},{"$f":"'142'!$AA24","v":0},{"$f":"'142'!$AA25","v":0},{"$f":"'142'!$AA26","v":0},{"$f":"'142'!$AA27","v":"za"},{"$f":"'142'!$AA28","v":"zo"},{"$f":"'142'!$AA29","v":"fd"},{"$f":"'142'!$AA30","v":0},{"$f":"'142'!$AA31","v":0},{"$f":"'142'!$AA32","v":0},{"$f":"'142'!$AA33","v":0},{"$f":"'142'!$AA34","v":"za"},{"$f":"'142'!$AA35","v":"zo"},{"$f":"'142'!$AA36","v":0},{"$f":"'142'!$AA37","v":0},{"$f":"'142'!$AA38","v":0},{"$f":"'142'!$AA39","v":"fd"},{"$f":"'142'!$AB9","v":0},{"$f":"'142'!$AB10","v":"za"},{"$f":"'142'!$AB11","v":"zo"},{"$f":"'142'!$AB12","v":0},{"$f":"'142'!$AB13","v":0},{"$f":"'142'!$AB14","v":0},{"$f":"'142'!$AB15","v":0},{"$f":"'142'!$AB16","v":0},{"$f":"'142'!$AB17","v":"za"},{"$f":"'142'!$AB18","v":"zo"},{"$f":"'142'!$AB19","v":"fd"},{"$f":"'142'!$AB20","v":0},{"$f":"'142'!$AB21","v":0},{"$f":"'142'!$AB22","v":0},{"$f":"'142'!$AB23","v":0},{"$f":"'142'!$AB24","v":"za"},{"$f":"'142'!$AB25","v":"zo"},{"$f":"'142'!$AB26","v":0},{"$f":"'142'!$AB27","v":0},{"$f":"'142'!$AB28","v":0},{"$f":"'142'!$AB29","v":0},{"$f":"'142'!$AB30","v":0},{"$f":"'142'!$AB31","v":"za"},{"$f":"'142'!$AB32","v":"zo"},{"$f":"'142'!$AB33","v":0},{"$f":"'142'!$AB34","v":0},{"$f":"'142'!$AB35","v":0},{"$f":"'142'!$AB36","v":0},{"$f":"'142'!$AB37","v":0},{"$f":"'142'!$AB38","v":"za"},{"$f":"'142'!$AC9","v":"zo"},{"$f":"'142'!$AC10","v":0},{"$f":"'142'!$AC11","v":0},{"$f":"'142'!$AC12","v":0},{"$f":"'142'!$AC13","v":0},{"$f":"'142'!$AC14","v":0},{"$f":"'142'!$AC15","v":"za"},{"$f":"'142'!$AC16","v":"zo"},{"$f":"'142'!$AC17","v":0},{"$f":"'142'!$AC18","v":0},{"$f":"'142'!$AC19","v":0},{"$f":"'142'!$AC20","v":0},{"$f":"'142'!$AC21","v":0},{"$f":"'142'!$AC22","v":"za"},{"$f":"'142'!$AC23","v":"zo"},{"$f":"'142'!$AC24","v":0},{"$f":"'142'!$AC25","v":0},{"$f":"'142'!$AC26","v":0},{"$f":"'142'!$AC27","v":0},{"$f":"'142'!$AC28","v":0},{"$f":"'142'!$AC29","v":"za"},{"$f":"'142'!$AC30","v":"zo"},{"$f":"'142'!$AC31","v":0},{"$f":"'142'!$AC32","v":0},{"$f":"'142'!$AC33","v":0},{"$f":"'142'!$AC34","v":0},{"$f":"'142'!$AC35","v":0},{"$f":"'142'!$AC36","v":"za"},{"$f":"'142'!$AC37","v":"zo"},{"$f":"'142'!$AC38","v":0},{"$f":"'142'!$AC39","v":0},{"$f":"'142'!$AD9","v":0},{"$f":"'142'!$AD10","v":0},{"$f":"'142'!$AD11","v":0},{"$f":"'142'!$AD12","v":"za"},{"$f":"'142'!$AD13","v":"zo"},{"$f":"'142'!$AD14","v":0},{"$f":"'142'!$AD15","v":0},{"$f":"'142'!$AD16","v":0},{"$f":"'142'!$AD17","v":0},{"$f":"'142'!$AD18","v":0},{"$f":"'142'!$AD19","v":"za"},{"$f":"'142'!$AD20","v":"zo"},{"$f":"'142'!$AD21","v":0},{"$f":"'142'!$AD22","v":0},{"$f":"'142'!$AD23","v":0},{"$f":"'142'!$AD24","v":"fd"},{"$f":"'142'!$AD25","v":0},{"$f":"'142'!$AD26","v":"za"},{"$f":"'142'!$AD27","v":"zo"},{"$f":"'142'!$AD28","v":0},{"$f":"'142'!$AD29","v":0},{"$f":"'142'!$AD30","v":0},{"$f":"'142'!$AD31","v":0},{"$f":"'142'!$AD32","v":0},{"$f":"'142'!$AD33","v":"za"},{"$f":"'142'!$AD34","v":"zo"},{"$f":"'142'!$AD35","v":0},{"$f":"'142'!$AD36","v":0},{"$f":"'142'!$AD37","v":0},{"$f":"'142'!$AD38","v":0},{"$f":"'142'!$AD39","v":0},{"$f":"'142'!$AE9","v":"za"},{"$f":"'142'!$AE10","v":"zo"},{"$f":"'142'!$AE11","v":0},{"$f":"'142'!$AE12","v":0},{"$f":"'142'!$AE13","v":0},{"$f":"'142'!$AE14","v":0},{"$f":"'142'!$AE15","v":0},{"$f":"'142'!$AE16","v":"za"},{"$f":"'142'!$AE17","v":"zo"},{"$f":"'142'!$AE18","v":0},{"$f":"'142'!$AE19","v":0},{"$f":"'142'!$AE20","v":0},{"$f":"'142'!$AE21","v":0},{"$f":"'142'!$AE22","v":0},{"$f":"'142'!$AE23","v":"za"},{"$f":"'142'!$AE24","v":"zo"},{"$f":"'142'!$AE25","v":0},{"$f":"'142'!$AE26","v":0},{"$f":"'142'!$AE27","v":0},{"$f":"'142'!$AE28","v":0},{"$f":"'142'!$AE29","v":0},{"$f":"'142'!$AE30","v":"za"},{"$f":"'142'!$AE31","v":"zo"},{"$f":"'142'!$AE32","v":0},{"$f":"'142'!$AE33","v":0},{"$f":"'142'!$AE34","v":0},{"$f":"'142'!$AE35","v":0},{"$f":"'142'!$AE36","v":0},{"$f":"'142'!$AE37","v":"za"},{"$f":"'142'!$AE38","v":"zo"},{"$f":"'142'!$AF9","v":0},{"$f":"'142'!$AF10","v":0},{"$f":"'142'!$AF11","v":0},{"$f":"'142'!$AF12","v":0},{"$f":"'142'!$AF13","v":0},{"$f":"'142'!$AF14","v":"za"},{"$f":"'142'!$AF15","v":"zo"},{"$f":"'142'!$AF16","v":0},{"$f":"'142'!$AF17","v":0},{"$f":"'142'!$AF18","v":0},{"$f":"'142'!$AF19","v":0},{"$f":"'142'!$AF20","v":0},{"$f":"'142'!$AF21","v":"za"},{"$f":"'142'!$AF22","v":"zo"},{"$f":"'142'!$AF23","v":0},{"$f":"'142'!$AF24","v":0},{"$f":"'142'!$AF25","v":0},{"$f":"'142'!$AF26","v":0},{"$f":"'142'!$AF27","v":0},{"$f":"'142'!$AF28","v":"za"},{"$f":"'142'!$AF29","v":"zo"},{"$f":"'142'!$AF30","v":0},{"$f":"'142'!$AF31","v":0},{"$f":"'142'!$AF32","v":0},{"$f":"'142'!$AF33","v":0},{"$f":"'142'!$AF34","v":0},{"$f":"'142'!$AF35","v":"za"},{"$f":"'142'!$AF36","v":"zo"},{"$f":"'142'!$AF37","v":0},{"$f":"'142'!$AF38","v":0},{"$f":"'142'!$AF39","v":0},{"$f":"'142'!$AG9","v":0},{"$f":"'142'!$AG10","v":"fd"},{"$f":"'142'!$AG11","v":"za"},{"$f":"'142'!$AG12","v":"zo"},{"$f":"'142'!$AG13","v":0},{"$f":"'142'!$AG14","v":0},{"$f":"'142'!$AG15","v":0},{"$f":"'142'!$AG16","v":0},{"$f":"'142'!$AG17","v":0},{"$f":"'142'!$AG18","v":"za"},{"$f":"'142'!$AG19","v":"zo"},{"$f":"'142'!$AG20","v":"fd"},{"$f":"'142'!$AG21","v":0},{"$f":"'142'!$AG22","v":0},{"$f":"'142'!$AG23","v":0},{"$f":"'142'!$AG24","v":0},{"$f":"'142'!$AG25","v":"za"},{"$f":"'142'!$AG26","v":"zo"},{"$f":"'142'!$AG27","v":0},{"$f":"'142'!$AG28","v":0},{"$f":"'142'!$AG29","v":0},{"$f":"'142'!$AG30","v":0},{"$f":"'142'!$AG31","v":0},{"$f":"'142'!$AG32","v":"za"},{"$f":"'142'!$AG33","v":"zo"},{"$f":"'142'!$AG34","v":0},{"$f":"'142'!$AG35","v":0},{"$f":"'142'!$AG36","v":0},{"$f":"'142'!$AG37","v":0},{"$f":"'142'!$AG38","v":0},{"$f":"'142'!$AH9","v":"za"},{"$f":"'142'!$AH10","v":"zo"},{"$f":"'142'!$AH11","v":0},{"$f":"'142'!$AH12","v":0},{"$f":"'142'!$AH13","v":0},{"$f":"'142'!$AH14","v":0},{"$f":"'142'!$AH15","v":0},{"$f":"'142'!$AH16","v":"za"},{"$f":"'142'!$AH17","v":"zo"},{"$f":"'142'!$AH18","v":0},{"$f":"'142'!$AH19","v":0},{"$f":"'142'!$AH20","v":0},{"$f":"'142'!$AH21","v":0},{"$f":"'142'!$AH22","v":0},{"$f":"'142'!$AH23","v":"za"},{"$f":"'142'!$AH24","v":"zo"},{"$f":"'142'!$AH25","v":0},{"$f":"'142'!$AH26","v":0},{"$f":"'142'!$AH27","v":0},{"$f":"'142'!$AH28","v":0},{"$f":"'142'!$AH29","v":0},{"$f":"'142'!$AH30","v":"za"},{"$f":"'142'!$AH31","v":"zo"},{"$f":"'142'!$AH32","v":0},{"$f":"'142'!$AH33","v":0},{"$f":"'142'!$AH34","v":"fd"},{"$f":"'142'!$AH35","v":0},{"$f":"'142'!$AH36","v":0},{"$f":"'142'!$AH37","v":"za"},{"$f":"'142'!$AH38","v":"zo"},{"$f":"'142'!$AH39","v":0}]

{"sheet":"Overuren","index":2,"n_rows":26,"n_cols":55,"rows_kept":26,"cut":false,"hidden":false,"merged":[[0,3,0,5],[0,6,0,8],[0,9,0,11]]}
[null,null,{"$f":"TODAY()","v":"2019-01-22"},"35-38",null,null,"< 35",null,null,"> 38"]
[null,null,null,15,{"$f":"D2+7","v":22},{"$f":"E2+7","v":29},36,43,50,57,64,71,78,85,92,99,106,113,120,127,134,141,148,155,162,169,176,183,190,197,204,211,218,225,232,239,246,253,260,267,274,281,288,295,302,309,316,323,330,337,344,351,358,365,372]
["Nr.","Recup","NAAM",1,2,3,4,5,6,7,8,9,10,11,12,13,14,15,16,17,18,19,20,21,22,23,24,25,26,27,28,29,30,31,32,33,34,35,36,37,38,39,40,41,42,43,44,45,46,47,48,49,50,51,52]
[9,{"$f":"INDIRECT(A4&\"!\"&\"$T$6\")","v":4.8000000000000007},{"$f":"'9'!B1","v":"Vanesse Aurélien"},{"$f":"INDIRECT($A4&\"!\"&(\"N\"&D$2))","v":15.2},{"$f":"INDIRECT($A4&\"!\"&(\"N\"&E2))","v":15.2},0,0,0,38,0,0,0,0,0,0,0,0,0,0,7.6,7.6,0,0,7.6,7.6,0,7.6,0,0,0,0,0,0,0,0,7.6,0,0,0,0,0,0,0,0,0,0,7.6,0,7.6,0,0,0,0,0,7.6]
[17,{"$f":"INDIRECT(A5&\"!\"&\"$T$6\")","v":14.91},{"$f":"'17'!$B$1","v":"Maanders Chris"},{"$f":"INDIRECT($A5&\"!\"&(\"N\"&D$2))","v":38},{"$f":"INDIRECT($A5&\"!\"&(\"N\"&E$2))","v":38},38,38,38,38,38,38,38,38,38,38,0,0,0,0,7.6,7.6,0,0,7.6,7.6,0,7.6,0,0,0,0,0,0,0,0,7.6,0,0,0,0,0,0,0,0,0,0,7.6,0,7.6,0,0,0,0,0,7.6]
[18,{"$f":"INDIRECT(A6&\"!\"&\"$T$6\")","v":6.6000000000000014},{"$f":"'18'!$B$1","v":"De Bruycker Joris"},{"$f":"INDIRECT($A6&\"!\"&(\"N\"&D$2))","v":38},0,0,0,7.6,0,0,0,0,0,0,0,0,0,0,0,7.6,7.6,0,0,7.6,7.6,0,7.6,0,0,0,0,0,0,0,0,7.6,0,0,0,0,0,0,0,0,0,0,7.6,0,7.6,0,0,0,0,0,7.6]
[23,{"$f":"INDIRECT(A7&\"!\"&\"$T$6\")","v":-8.85},{"$f":"'23'!$B$1","v":"De Launois Raymond"},15.2,0,7.6,7.6,0,0,0,0,0,0,0,0,0,0,0,0,7.6,7.6,0,0,7.6,7.6,0,7.6,0,0,0,0,0,0,0,0,7.6,0,0,0,0,0,0,0,0,0,0,7.6,0,7.6,0,0,0,0,0,7.6]
[25,{"$f":"INDIRECT(A8&\"!\"&\"$T$6\")","v":2.650000000000003},{"$f":"'25'!$B$1","v":"Vanesse Rudi"},39.950000000000003,0,0,0,0,0,0,0,0,0,0,0,0,0,0,0,7.6,7.6,0,0,7.6,7.6,0,7.6,0,0,0,0,0,0,0,0,7.6,0,0,0,0,0,0,0,0,0,0,7.6,0,7.6,0,0,0,0,0,7.6]
["42",{"$f":"INDIRECT(A9&\"!\"&\"$T$6\")","v":11.499999999999996},{"$f":"'42'!$B$1","v":"Bauwens Irvin"},38.549999999999997,0,0,0,0,0,0,0,0,0,0,0,0,0,0,0,7.6,7.6,0,0,7.6,7.6,0,7.6,0,0,0,0,0,0,0,0,7.6,0,0,0,0,0,0,0,0,0,0,7.6,0,7.6,0,0,0,0,0,7.6]
[43,22.65,{"$f":"'43'!$B$1","v":"Barrera Ernesto"},40.65,0,0,0,0,0,0,0,0,0,0,0,0,0,0,0,{"$f":"INDIRECT($A10&\"!\"&(\"N\"&T$2))","v":7.6},7.6,0,0,7.6,7.6,0,7.6,0,0,0,0,0,0,0,0,{"$f":"INDIRECT($A10&\"!\"&(\"N\"&AJ$2))","v":7.6},0,0,0,0,0,0,0,0,0,0,7.6,0,7.6,0,0,{"$f":"INDIRECT($A10&\"!\"&(\"N\"&AZ$2))","v":0},0,0,7.6]
[54,6,{"$f":"'54'!$B$1","v":"Karaca Ramazan"},40,0,0,0,0,0,0,0,0,0,0,0,0,0,0,0,7.6,7.6,0,0,7.6,7.6,0,7.6,0,0,0,0,0,0,0,0,7.6,0,0,0,0,0,0,0,0,0,0,7.6,0,7.6,0,0,0,0,0,7.6]
[56,1.9,{"$f":"'56'!$B$1","v":"El Moussati Hamza"},15.2,0,0,0,0,0,0,0,0,0,0,0,0,0,0,0,7.6,7.6,0,0,7.6,7.6,0,7.6,0,0,0,0,0,0,0,0,7.6,0,0,0,0,0,0,0,0,0,0,7.6,0,7.6,0,0,0,0,0,7.6]
[70,0.5,{"$f":"'70'!$B$1","v":"Ilsen Marc"},7.6,0,0,0,0,0,0,0,0,0,0,0,0,0,0,0,7.6,7.6,0,0,7.6,7.6,0,7.6,0,0,0,0,0,0,0,0,7.6,0,0,0,0,0,0,0,0,0,0,7.6,0,7.6,0,0,0,0,0,7.6]
["73",7.1,{"$f":"'73'!$B$1","v":"Ouhida Hassan"},7.6,0,0,0,0,0,0,0,0,0,0,0,0,0,0,0,7.6,7.6,0,0,7.6,7.6,0,7.6,0,0,0,0,0,0,0,0,7.6,0,0,0,0,0,0,0,0,0,0,7.6,0,7.6,0,0,0,0,0,7.6]
["82",0,{"$f":"'82'!$B$1","v":"Vedda Angelo Jean- Louis"},35.199999999999996,0,0,0,0,0,0,0,0,0,0,0,0,0,0,0,7.6,7.6,0,0,7.6,7.6,0,7.6,0,0,0,0,0,0,0,0,7.6,0,0,0,0,0,0,0,0,0,0,7.6,0,7.6,0,0,0,0,0,7.6]
["83",-7.6,{"$f":"'83'!$B$1","v":"El Filali Chrif"},33.35,0,0,0,0,0,0,0,0,0,0,0,0,0,0,0,7.6,7.6,0,0,7.6,7.6,0,7.6,0,0,0,0,0,0,0,0,7.6,0,0,0,0,0,0,0,0,0,0,7.6,0,7.6,0,0,0,0,0,7.6]
[85,0,{"$f":"'85'!$B$1","v":"Teibe Galid"},40,40,40,0,0,0,0,0,0,0,0,0,0,0,0,0,7.6,7.6,0,0,7.6,7.6,0,7.6,0,0,0,0,0,0,0,0,7.6,0,0,0,0,0,0,0,0,0,0,7.6,0,7.6,0,0,0,0,0,7.6]
[94,8.6000000000000014,{"$f":"'94'!$B$1","v":"Guerron Guerrero Pablo"}]
[97,0.5,{"$f":"'97'!$B$1","v":"Thys Wesley"}]
[99,9,{"$f":"'99'!$B$1","v":"Reakani Azad"}]
[100,0,{"$f":"'100'!$B$1","v":"Fazlijevic Sebastijan"}]
[119,0,{"$f":"'119'!$B$1","v":"Clippeleyr Alain"}]
[124,0,{"$f":"'124'!$B$1","v":"Lips Alain"}]
[135,0.5,{"$f":"'135'!$B$1","v":"De Groof Bruno"}]
[141,1.4500000000000028,{"$f":"'141'!$B$1","v":"Patrick Asselberghs"}]
[142,0,{"$f":"'142'!$B$1","v":"Eddy Vandormael"}]

{"sheet":"Transponeren","index":3,"n_rows":368,"n_cols":15,"rows_kept":368,"cut":false,"hidden":false,"merged":[]}
[{"$error":"#REF!"},{"$f":"#REF!","v":{"$error":"#REF!"}},{"$f":"#REF!","v":{"$error":"#REF!"}},{"$f":"#REF!","v":{"$error":"#REF!"}},{"$f":"#REF!","v":{"$error":"#REF!"}},{"$f":"#REF!","v":{"$error":"#REF!"}},{"$f":"#REF!","v":{"$error":"#REF!"}},{"$f":"#REF!","v":{"$error":"#REF!"}},{"$f":"#REF!","v":{"$error":"#REF!"}},{"$f":"#REF!","v":{"$error":"#REF!"}},{"$f":"#REF!","v":{"$error":"#REF!"}},{"$f":"#REF!","v":{"$error":"#REF!"}},null,null,{"$f":"'142'!$W9","v":0}]
[{"$f":"#REF!","v":{"$error":"#REF!"}},{"$f":"#REF!","v":{"$error":"#REF!"}},{"$f":"#REF!","v":{"$error":"#REF!"}},{"$f":"#REF!","v":{"$error":"#REF!"}},{"$f":"#REF!","v":{"$error":"#REF!"}},{"$f":"#REF!","v":{"$error":"#REF!"}},{"$f":"#REF!","v":{"$error":"#REF!"}},{"$f":"#REF!","v":{"$error":"#REF!"}},{"$f":"#REF!","v":{"$error":"#REF!"}},{"$f":"#REF!","v":{"$error":"#REF!"}},{"$f":"#REF!","v":{"$error":"#REF!"}},{"$f":"#REF!","v":{"$error":"#REF!"}},null,null,{"$f":"'142'!$W10","v":"fd"}]
[{"$f":"#REF!","v":{"$error":"#REF!"}},{"$f":"#REF!","v":{"$error":"#REF!"}},{"$f":"#REF!","v":{"$error":"#REF!"}},{"$f":"#REF!","v":{"$error":"#REF!"}},{"$f":"#REF!","v":{"$error":"#REF!"}},{"$f":"#REF!","v":{"$error":"#REF!"}},{"$f":"#REF!","v":{"$error":"#REF!"}},{"$f":"#REF!","v":{"$error":"#REF!"}},{"$f":"#REF!","v":{"$error":"#REF!"}},{"$f":"#REF!","v":{"$error":"#REF!"}},{"$f":"#REF!","v":{"$error":"#REF!"}},{"$f":"#REF!","v":{"$error":"#REF!"}},null,null,{"$f":"'142'!$W11","v":0}]
[{"$f":"#REF!","v":{"$error":"#REF!"}},{"$f":"#REF!","v":{"$error":"#REF!"}},{"$f":"#REF!","v":{"$error":"#REF!"}},{"$f":"#REF!","v":{"$error":"#REF!"}},{"$f":"#REF!","v":{"$error":"#REF!"}},{"$f":"#REF!","v":{"$error":"#REF!"}},{"$f":"#REF!","v":{"$error":"#REF!"}},{"$f":"#REF!","v":{"$error":"#REF!"}},{"$f":"#REF!","v":{"$error":"#REF!"}},{"$f":"#REF!","v":{"$error":"#REF!"}},{"$f":"#REF!","v":{"$error":"#REF!"}},{"$f":"#REF!","v":{"$error":"#REF!"}},null,null,{"$f":"'142'!$W12","v":0}]
[{"$f":"#REF!","v":{"$error":"#REF!"}},{"$f":"#REF!","v":{"$error":"#REF!"}},{"$f":"#REF!","v":{"$error":"#REF!"}},{"$f":"#REF!","v":{"$error":"#REF!"}},{"$f":"#REF!","v":{"$error":"#REF!"}},{"$f":"#REF!","v":{"$error":"#REF!"}},{"$f":"#REF!","v":{"$error":"#REF!"}},{"$f":"#REF!","v":{"$error":"#REF!"}},{"$f":"#REF!","v":{"$error":"#REF!"}},{"$f":"#REF!","v":{"$error":"#REF!"}},{"$f":"#REF!","v":{"$error":"#REF!"}},{"$f":"#REF!","v":{"$error":"#REF!"}},null,null,{"$f":"'142'!$W13","v":0}]
[{"$f":"#REF!","v":{"$error":"#REF!"}},{"$f":"#REF!","v":{"$error":"#REF!"}},{"$f":"#REF!","v":{"$error":"#REF!"}},{"$f":"#REF!","v":{"$error":"#REF!"}},{"$f":"#REF!","v":{"$error":"#REF!"}},{"$f":"#REF!","v":{"$error":"#REF!"}},{"$f":"#REF!","v":{"$error":"#REF!"}},{"$f":"#REF!","v":{"$error":"#REF!"}},{"$f":"#REF!","v":{"$error":"#REF!"}},{"$f":"#REF!","v":{"$error":"#REF!"}},{"$f":"#REF!","v":{"$error":"#REF!"}},{"$f":"#REF!","v":{"$error":"#REF!"}},null,null,{"$f":"'142'!$W14","v":"za"}]
[{"$f":"#REF!","v":{"$error":"#REF!"}},{"$f":"#REF!","v":{"$error":"#REF!"}},{"$f":"#REF!","v":{"$error":"#REF!"}},{"$f":"#REF!","v":{"$error":"#REF!"}},{"$f":"#REF!","v":{"$error":"#REF!"}},{"$f":"#REF!","v":{"$error":"#REF!"}},{"$f":"#REF!","v":{"$error":"#REF!"}},{"$f":"#REF!","v":{"$error":"#REF!"}},{"$f":"#REF!","v":{"$error":"#REF!"}},{"$f":"#REF!","v":{"$error":"#REF!"}},{"$f":"#REF!","v":{"$error":"#REF!"}},{"$f":"#REF!","v":{"$error":"#REF!"}},null,null,{"$f":"'142'!$W15","v":"zo"}]
[{"$f":"#REF!","v":{"$error":"#REF!"}},{"$f":"#REF!","v":{"$error":"#REF!"}},{"$f":"#REF!","v":{"$error":"#REF!"}},{"$f":"#REF!","v":{"$error":"#REF!"}},{"$f":"#REF!","v":{"$error":"#REF!"}},{"$f":"#REF!","v":{"$error":"#REF!"}},{"$f":"#REF!","v":{"$error":"#REF!"}},{"$f":"#REF!","v":{"$error":"#REF!"}},{"$f":"#REF!","v":{"$error":"#REF!"}},{"$f":"#REF!","v":{"$error":"#REF!"}},{"$f":"#REF!","v":{"$error":"#REF!"}},{"$f":"#REF!","v":{"$error":"#REF!"}},null,null,{"$f":"'142'!$W16","v":0}]
[{"$f":"#REF!","v":{"$error":"#REF!"}},{"$f":"#REF!","v":{"$error":"#REF!"}},{"$f":"#REF!","v":{"$error":"#REF!"}},{"$f":"#REF!","v":{"$error":"#REF!"}},{"$f":"#REF!","v":{"$error":"#REF!"}},{"$f":"#REF!","v":{"$error":"#REF!"}},{"$f":"#REF!","v":{"$error":"#REF!"}},{"$f":"#REF!","v":{"$error":"#REF!"}},{"$f":"#REF!","v":{"$error":"#REF!"}},{"$f":"#REF!","v":{"$error":"#REF!"}},{"$f":"#REF!","v":{"$error":"#REF!"}},{"$f":"#REF!","v":{"$error":"#REF!"}},null,null,{"$f":"'142'!$W17","v":0}]
[{"$f":"#REF!","v":{"$error":"#REF!"}},{"$f":"#REF!","v":{"$error":"#REF!"}},{"$f":"#REF!","v":{"$error":"#REF!"}},{"$f":"#REF!","v":{"$error":"#REF!"}},{"$f":"#REF!","v":{"$error":"#REF!"}},{"$f":"#REF!","v":{"$error":"#REF!"}},{"$f":"#REF!","v":{"$error":"#REF!"}},{"$f":"#REF!","v":{"$error":"#REF!"}},{"$f":"#REF!","v":{"$error":"#REF!"}},{"$f":"#REF!","v":{"$error":"#REF!"}},{"$f":"#REF!","v":{"$error":"#REF!"}},{"$f":"#REF!","v":{"$error":"#REF!"}},null,null,{"$f":"'142'!$W18","v":0}]
[{"$f":"#REF!","v":{"$error":"#REF!"}},{"$f":"#REF!","v":{"$error":"#REF!"}},{"$f":"#REF!","v":{"$error":"#REF!"}},{"$f":"#REF!","v":{"$error":"#REF!"}},{"$f":"#REF!","v":{"$error":"#REF!"}},{"$f":"#REF!","v":{"$error":"#REF!"}},{"$f":"#REF!","v":{"$error":"#REF!"}},{"$f":"#REF!","v":{"$error":"#REF!"}},{"$f":"#REF!","v":{"$error":"#REF!"}},{"$f":"#REF!","v":{"$error":"#REF!"}},{"$f":"#REF!","v":{"$error":"#REF!"}},{"$f":"#REF!","v":{"$error":"#REF!"}},null,null,{"$f":"'142'!$W19","v":0}]
[{"$f":"#REF!","v":{"$error":"#REF!"}},{"$f":"#REF!","v":{"$error":"#REF!"}},{"$f":"#REF!","v":{"$error":"#REF!"}},{"$f":"#REF!","v":{"$error":"#REF!"}},{"$f":"#REF!","v":{"$error":"#REF!"}},{"$f":"#REF!","v":{"$error":"#REF!"}},{"$f":"#REF!","v":{"$error":"#REF!"}},{"$f":"#REF!","v":{"$error":"#REF!"}},{"$f":"#REF!","v":{"$error":"#REF!"}},{"$f":"#REF!","v":{"$error":"#REF!"}},{"$f":"#REF!","v":{"$error":"#REF!"}},{"$f":"#REF!","v":{"$error":"#REF!"}},null,null,{"$f":"'142'!$W20","v":0}]
[{"$f":"#REF!","v":{"$error":"#REF!"}},{"$f":"#REF!","v":{"$error":"#REF!"}},{"$f":"#REF!","v":{"$error":"#REF!"}},{"$f":"#REF!","v":{"$error":"#REF!"}},{"$f":"#REF!","v":{"$error":"#REF!"}},{"$f":"#REF!","v":{"$error":"#REF!"}},{"$f":"#REF!","v":{"$error":"#REF!"}},{"$f":"#REF!","v":{"$error":"#REF!"}},{"$f":"#REF!","v":{"$error":"#REF!"}},{"$f":"#REF!","v":{"$error":"#REF!"}},{"$f":"#REF!","v":{"$error":"#REF!"}},{"$f":"#REF!","v":{"$error":"#REF!"}},null,null,{"$f":"'142'!$W21","v":"za"}]
[{"$f":"#REF!","v":{"$error":"#REF!"}},{"$f":"#REF!","v":{"$error":"#REF!"}},{"$f":"#REF!","v":{"$error":"#REF!"}},{"$f":"#REF!","v":{"$error":"#REF!"}},{"$f":"#REF!","v":{"$error":"#REF!"}},{"$f":"#REF!","v":{"$error":"#REF!"}},{"$f":"#REF!","v":{"$error":"#REF!"}},{"$f":"#REF!","v":{"$error":"#REF!"}},{"$f":"#REF!","v":{"$error":"#REF!"}},{"$f":"#REF!","v":{"$error":"#REF!"}},{"$f":"#REF!","v":{"$error":"#REF!"}},{"$f":"#REF!","v":{"$error":"#REF!"}},null,null,{"$f":"'142'!$W22","v":"zo"}]
[{"$f":"#REF!","v":{"$error":"#REF!"}},{"$f":"#REF!","v":{"$error":"#REF!"}},{"$f":"#REF!","v":{"$error":"#REF!"}},{"$f":"#REF!","v":{"$error":"#REF!"}},{"$f":"#REF!","v":{"$error":"#REF!"}},{"$f":"#REF!","v":{"$error":"#REF!"}},{"$f":"#REF!","v":{"$error":"#REF!"}},{"$f":"#REF!","v":{"$error":"#REF!"}},{"$f":"#REF!","v":{"$error":"#REF!"}},{"$f":"#REF!","v":{"$error":"#REF!"}},{"$f":"#REF!","v":{"$error":"#REF!"}},{"$f":"#REF!","v":{"$error":"#REF!"}},null,null,{"$f":"'142'!$W23","v":0}]
[{"$f":"#REF!","v":{"$error":"#REF!"}},{"$f":"#REF!","v":{"$error":"#REF!"}},{"$f":"#REF!","v":{"$error":"#REF!"}},{"$f":"#REF!","v":{"$error":"#REF!"}},{"$f":"#REF!","v":{"$error":"#REF!"}},{"$f":"#REF!","v":{"$error":"#REF!"}},{"$f":"#REF!","v":{"$error":"#REF!"}},{"$f":"#REF!","v":{"$error":"#REF!"}},{"$f":"#REF!","v":{"$error":"#REF!"}},{"$f":"#REF!","v":{"$error":"#REF!"}},{"$f":"#REF!","v":{"$error":"#REF!"}},{"$f":"#REF!","v":{"$error":"#REF!"}},null,null,{"$f":"'142'!$W24","v":0}]
[{"$f":"#REF!","v":{"$error":"#REF!"}},{"$f":"#REF!","v":{"$error":"#REF!"}},{"$f":"#REF!","v":{"$error":"#REF!"}},{"$f":"#REF!","v":{"$error":"#REF!"}},{"$f":"#REF!","v":{"$error":"#REF!"}},{"$f":"#REF!","v":{"$error":"#REF!"}},{"$f":"#REF!","v":{"$error":"#REF!"}},{"$f":"#REF!","v":{"$error":"#REF!"}},{"$f":"#REF!","v":{"$error":"#REF!"}},{"$f":"#REF!","v":{"$error":"#REF!"}},{"$f":"#REF!","v":{"$error":"#REF!"}},{"$f":"#REF!","v":{"$error":"#REF!"}},null,null,{"$f":"'142'!$W25","v":0}]
[{"$f":"#REF!","v":{"$error":"#REF!"}},{"$f":"#REF!","v":{"$error":"#REF!"}},{"$f":"#REF!","v":{"$error":"#REF!"}},{"$f":"#REF!","v":{"$error":"#REF!"}},{"$f":"#REF!","v":{"$error":"#REF!"}},{"$f":"#REF!","v":{"$error":"#REF!"}},{"$f":"#REF!","v":{"$error":"#REF!"}},{"$f":"#REF!","v":{"$error":"#REF!"}},{"$f":"#REF!","v":{"$error":"#REF!"}},{"$f":"#REF!","v":{"$error":"#REF!"}},{"$f":"#REF!","v":{"$error":"#REF!"}},{"$f":"#REF!","v":{"$error":"#REF!"}},null,null,{"$f":"'142'!$W26","v":0}]
[{"$f":"#REF!","v":{"$error":"#REF!"}},{"$f":"#REF!","v":{"$error":"#REF!"}},{"$f":"#REF!","v":{"$error":"#REF!"}},{"$f":"#REF!","v":{"$error":"#REF!"}},{"$f":"#REF!","v":{"$error":"#REF!"}},{"$f":"#REF!","v":{"$error":"#REF!"}},{"$f":"#REF!","v":{"$error":"#REF!"}},{"$f":"#REF!","v":{"$error":"#REF!"}},{"$f":"#REF!","v":{"$error":"#REF!"}},{"$f":"#REF!","v":{"$error":"#REF!"}},{"$f":"#REF!","v":{"$error":"#REF!"}},{"$f":"#REF!","v":{"$error":"#REF!"}},null,null,{"$f":"'142'!$W27","v":0}]
[{"$f":"#REF!","v":{"$error":"#REF!"}},{"$f":"#REF!","v":{"$error":"#REF!"}},{"$f":"#REF!","v":{"$error":"#REF!"}},{"$f":"#REF!","v":{"$error":"#REF!"}},{"$f":"#REF!","v":{"$error":"#REF!"}},{"$f":"#REF!","v":{"$error":"#REF!"}},{"$f":"#REF!","v":{"$error":"#REF!"}},{"$f":"#REF!","v":{"$error":"#REF!"}},{"$f":"#REF!","v":{"$error":"#REF!"}},{"$f":"#REF!","v":{"$error":"#REF!"}},{"$f":"#REF!","v":{"$error":"#REF!"}},{"$f":"#REF!","v":{"$error":"#REF!"}},null,null,{"$f":"'142'!$W28","v":"za"}]
[{"$f":"#REF!","v":{"$error":"#REF!"}},{"$f":"#REF!","v":{"$error":"#REF!"}},{"$f":"#REF!","v":{"$error":"#REF!"}},{"$f":"#REF!","v":{"$error":"#REF!"}},{"$f":"#REF!","v":{"$error":"#REF!"}},{"$f":"#REF!","v":{"$error":"#REF!"}},{"$f":"#REF!","v":{"$error":"#REF!"}},{"$f":"#REF!","v":{"$error":"#REF!"}},{"$f":"#REF!","v":{"$error":"#REF!"}},{"$f":"#REF!","v":{"$error":"#REF!"}},{"$f":"#REF!","v":{"$error":"#REF!"}},{"$f":"#REF!","v":{"$error":"#REF!"}},null,null,{"$f":"'142'!$W29","v":"zo"}]
[{"$f":"#REF!","v":{"$error":"#REF!"}},{"$f":"#REF!","v":{"$error":"#REF!"}},{"$f":"#REF!","v":{"$error":"#REF!"}},{"$f":"#REF!","v":{"$error":"#REF!"}},{"$f":"#REF!","v":{"$error":"#REF!"}},{"$f":"#REF!","v":{"$error":"#REF!"}},{"$f":"#REF!","v":{"$error":"#REF!"}},{"$f":"#REF!","v":{"$error":"#REF!"}},{"$f":"#REF!","v":{"$error":"#REF!"}},{"$f":"#REF!","v":{"$error":"#REF!"}},{"$f":"#REF!","v":{"$error":"#REF!"}},{"$f":"#REF!","v":{"$error":"#REF!"}},null,null,{"$f":"'142'!$W30","v":0}]
[{"$f":"#REF!","v":{"$error":"#REF!"}},{"$f":"#REF!","v":{"$error":"#REF!"}},{"$f":"#REF!","v":{"$error":"#REF!"}},{"$f":"#REF!","v":{"$error":"#REF!"}},{"$f":"#REF!","v":{"$error":"#REF!"}},{"$f":"#REF!","v":{"$error":"#REF!"}},{"$f":"#REF!","v":{"$error":"#REF!"}},{"$f":"#REF!","v":{"$error":"#REF!"}},{"$f":"#REF!","v":{"$error":"#REF!"}},{"$f":"#REF!","v":{"$error":"#REF!"}},{"$f":"#REF!","v":{"$error":"#REF!"}},{"$f":"#REF!","v":{"$error":"#REF!"}},null,null,{"$f":"'142'!$W31","v":0}]
[{"$f":"#REF!","v":{"$error":"#REF!"}},{"$f":"#REF!","v":{"$error":"#REF!"}},{"$f":"#REF!","v":{"$error":"#REF!"}},{"$f":"#REF!","v":{"$error":"#REF!"}},{"$f":"#REF!","v":{"$error":"#REF!"}},{"$f":"#REF!","v":{"$error":"#REF!"}},{"$f":"#REF!","v":{"$error":"#REF!"}},{"$f":"#REF!","v":{"$error":"#REF!"}},{"$f":"#REF!","v":{"$error":"#REF!"}},{"$f":"#REF!","v":{"$error":"#REF!"}},{"$f":"#REF!","v":{"$error":"#REF!"}},{"$f":"#REF!","v":{"$error":"#REF!"}},null,null,{"$f":"'142'!$W32","v":0}]
[{"$f":"#REF!","v":{"$error":"#REF!"}},{"$f":"#REF!","v":{"$error":"#REF!"}},{"$f":"#REF!","v":{"$error":"#REF!"}},{"$f":"#REF!","v":{"$error":"#REF!"}},{"$f":"#REF!","v":{"$error":"#REF!"}},{"$f":"#REF!","v":{"$error":"#REF!"}},{"$f":"#REF!","v":{"$error":"#REF!"}},{"$f":"#REF!","v":{"$error":"#REF!"}},{"$f":"#REF!","v":{"$error":"#REF!"}},{"$f":"#REF!","v":{"$error":"#REF!"}},{"$f":"#REF!","v":{"$error":"#REF!"}},{"$f":"#REF!","v":{"$error":"#REF!"}},null,null,{"$f":"'142'!$W33","v":0}]
[{"$f":"#REF!","v":{"$error":"#REF!"}},{"$f":"#REF!","v":{"$error":"#REF!"}},{"$f":"#REF!","v":{"$error":"#REF!"}},{"$f":"#REF!","v":{"$error":"#REF!"}},{"$f":"#REF!","v":{"$error":"#REF!"}},{"$f":"#REF!","v":{"$error":"#REF!"}},{"$f":"#REF!","v":{"$error":"#REF!"}},{"$f":"#REF!","v":{"$error":"#REF!"}},{"$f":"#REF!","v":{"$error":"#REF!"}},{"$f":"#REF!","v":{"$error":"#REF!"}},{"$f":"#REF!","v":{"$error":"#REF!"}},{"$f":"#REF!","v":{"$error":"#REF!"}},null,null,{"$f":"'142'!$W34","v":0}]
[{"$f":"#REF!","v":{"$error":"#REF!"}},{"$f":"#REF!","v":{"$error":"#REF!"}},{"$f":"#REF!","v":{"$error":"#REF!"}},{"$f":"#REF!","v":{"$error":"#REF!"}},{"$f":"#REF!","v":{"$error":"#REF!"}},{"$f":"#REF!","v":{"$error":"#REF!"}},{"$f":"#REF!","v":{"$error":"#REF!"}},{"$f":"#REF!","v":{"$error":"#REF!"}},{"$f":"#REF!","v":{"$error":"#REF!"}},{"$f":"#REF!","v":{"$error":"#REF!"}},{"$f":"#REF!","v":{"$error":"#REF!"}},{"$f":"#REF!","v":{"$error":"#REF!"}},null,null,{"$f":"'142'!$W35","v":"za"}]
[{"$f":"#REF!","v":{"$error":"#REF!"}},{"$f":"#REF!","v":{"$error":"#REF!"}},{"$f":"#REF!","v":{"$error":"#REF!"}},{"$f":"#REF!","v":{"$error":"#REF!"}},{"$f":"#REF!","v":{"$error":"#REF!"}},{"$f":"#REF!","v":{"$error":"#REF!"}},{"$f":"#REF!","v":{"$error":"#REF!"}},{"$f":"#REF!","v":{"$error":"#REF!"}},{"$f":"#REF!","v":{"$error":"#REF!"}},{"$f":"#REF!","v":{"$error":"#REF!"}},{"$f":"#REF!","v":{"$error":"#REF!"}},{"$f":"#REF!","v":{"$error":"#REF!"}},null,null,{"$f":"'142'!$W36","v":"zo"}]
[{"$f":"#REF!","v":{"$error":"#REF!"}},{"$f":"#REF!","v":{"$error":"#REF!"}},{"$f":"#REF!","v":{"$error":"#REF!"}},{"$f":"#REF!","v":{"$error":"#REF!"}},{"$f":"#REF!","v":{"$error":"#REF!"}},{"$f":"#REF!","v":{"$error":"#REF!"}},{"$f":"#REF!","v":{"$error":"#REF!"}},{"$f":"#REF!","v":{"$error":"#REF!"}},{"$f":"#REF!","v":{"$error":"#REF!"}},{"$f":"#REF!","v":{"$error":"#REF!"}},{"$f":"#REF!","v":{"$error":"#REF!"}},{"$f":"#REF!","v":{"$error":"#REF!"}},null,null,{"$f":"'142'!$W37","v":0}]
[{"$f":"#REF!","v":{"$error":"#REF!"}},{"$f":"#REF!","v":{"$error":"#REF!"}},{"$f":"#REF!","v":{"$error":"#REF!"}},{"$f":"#REF!","v":{"$error":"#REF!"}},{"$f":"#REF!","v":{"$error":"#REF!"}},{"$f":"#REF!","v":{"$error":"#REF!"}},{"$f":"#REF!","v":{"$error":"#REF!"}},{"$f":"#REF!","v":{"$error":"#REF!"}},{"$f":"#REF!","v":{"$error":"#REF!"}},{"$f":"#REF!","v":{"$error":"#REF!"}},{"$f":"#REF!","v":{"$error":"#REF!"}},{"$f":"#REF!","v":{"$error":"#REF!"}},null,null,{"$f":"'142'!$W38","v":0}]
[{"$f":"#REF!","v":{"$error":"#REF!"}},{"$f":"#REF!","v":{"$error":"#REF!"}},{"$f":"#REF!","v":{"$error":"#REF!"}},{"$f":"#REF!","v":{"$error":"#REF!"}},{"$f":"#REF!","v":{"$error":"#REF!"}},{"$f":"#REF!","v":{"$error":"#REF!"}},{"$f":"#REF!","v":{"$error":"#REF!"}},{"$f":"#REF!","v":{"$error":"#REF!"}},{"$f":"#REF!","v":{"$error":"#REF!"}},{"$f":"#REF!","v":{"$error":"#REF!"}},{"$f":"#REF!","v":{"$error":"#REF!"}},{"$f":"#REF!","v":{"$error":"#REF!"}},null,null,{"$f":"'142'!$W39","v":0}]
[{"$f":"#REF!","v":{"$error":"#REF!"}},{"$f":"#REF!","v":{"$error":"#REF!"}},{"$f":"#REF!","v":{"$error":"#REF!"}},{"$f":"#REF!","v":{"$error":"#REF!"}},{"$f":"#REF!","v":{"$error":"#REF!"}},{"$f":"#REF!","v":{"$error":"#REF!"}},{"$f":"#REF!","v":{"$error":"#REF!"}},{"$f":"#REF!","v":{"$error":"#REF!"}},{"$f":"#REF!","v":{"$error":"#REF!"}},{"$f":"#REF!","v":{"$error":"#REF!"}},{"$f":"#REF!","v":{"$error":"#REF!"}},{"$f":"#REF!","v":{"$error":"#REF!"}},null,null,{"$f":"'142'!$X9","v":0}]
[{"$f":"#REF!","v":{"$error":"#REF!"}},{"$f":"#REF!","v":{"$error":"#REF!"}},{"$f":"#REF!","v":{"$error":"#REF!"}},{"$f":"#REF!","v":{"$error":"#REF!"}},{"$f":"#REF!","v":{"$error":"#REF!"}},{"$f":"#REF!","v":{"$error":"#REF!"}},{"$f":"#REF!","v":{"$error":"#REF!"}},{"$f":"#REF!","v":{"$error":"#REF!"}},{"$f":"#REF!","v":{"$error":"#REF!"}},{"$f":"#REF!","v":{"$error":"#REF!"}},{"$f":"#REF!","v":{"$error":"#REF!"}},{"$f":"#REF!","v":{"$error":"#REF!"}},null,null,{"$f":"'142'!$X10","v":0}]
[{"$f":"#REF!","v":{"$error":"#REF!"}},{"$f":"#REF!","v":{"$error":"#REF!"}},{"$f":"#REF!","v":{"$error":"#REF!"}},{"$f":"#REF!","v":{"$error":"#REF!"}},{"$f":"#REF!","v":{"$error":"#REF!"}},{"$f":"#REF!","v":{"$error":"#REF!"}},{"$f":"#REF!","v":{"$error":"#REF!"}},{"$f":"#REF!","v":{"$error":"#REF!"}},{"$f":"#REF!","v":{"$error":"#REF!"}},{"$f":"#REF!","v":{"$error":"#REF!"}},{"$f":"#REF!","v":{"$error":"#REF!"}},{"$f":"#REF!","v":{"$error":"#REF!"}},null,null,{"$f":"'142'!$X11","v":"za"}]
[{"$f":"#REF!","v":{"$error":"#REF!"}},{"$f":"#REF!","v":{"$error":"#REF!"}},{"$f":"#REF!","v":{"$error":"#REF!"}},{"$f":"#REF!","v":{"$error":"#REF!"}},{"$f":"#REF!","v":{"$error":"#REF!"}},{"$f":"#REF!","v":{"$error":"#REF!"}},{"$f":"#REF!","v":{"$error":"#REF!"}},{"$f":"#REF!","v":{"$error":"#REF!"}},{"$f":"#REF!","v":{"$error":"#REF!"}},{"$f":"#REF!","v":{"$error":"#REF!"}},{"$f":"#REF!","v":{"$error":"#REF!"}},{"$f":"#REF!","v":{"$error":"#REF!"}},null,null,{"$f":"'142'!$X12","v":"zo"}]
[{"$f":"#REF!","v":{"$error":"#REF!"}},{"$f":"#REF!","v":{"$error":"#REF!"}},{"$f":"#REF!","v":{"$error":"#REF!"}},{"$f":"#REF!","v":{"$error":"#REF!"}},{"$f":"#REF!","v":{"$error":"#REF!"}},{"$f":"#REF!","v":{"$error":"#REF!"}},{"$f":"#REF!","v":{"$error":"#REF!"}},{"$f":"#REF!","v":{"$error":"#REF!"}},{"$f":"#REF!","v":{"$error":"#REF!"}},{"$f":"#REF!","v":{"$error":"#REF!"}},{"$f":"#REF!","v":{"$error":"#REF!"}},{"$f":"#REF!","v":{"$error":"#REF!"}},null,null,{"$f":"'142'!$X13","v":0}]
[{"$f":"#REF!","v":{"$error":"#REF!"}},{"$f":"#REF!","v":{"$error":"#REF!"}},{"$f":"#REF!","v":{"$error":"#REF!"}},{"$f":"#REF!","v":{"$error":"#REF!"}},{"$f":"#REF!","v":{"$error":"#REF!"}},{"$f":"#REF!","v":{"$error":"#REF!"}},{"$f":"#REF!","v":{"$error":"#REF!"}},{"$f":"#REF!","v":{"$error":"#REF!"}},{"$f":"#REF!","v":{"$error":"#REF!"}},{"$f":"#REF!","v":{"$error":"#REF!"}},{"$f":"#REF!","v":{"$error":"#REF!"}},{"$f":"#REF!","v":{"$error":"#REF!"}},null,null,{"$f":"'142'!$X$14","v":0}]
[{"$f":"#REF!","v":{"$error":"#REF!"}},{"$f":"#REF!","v":{"$error":"#REF!"}},{"$f":"#REF!","v":{"$error":"#REF!"}},{"$f":"#REF!","v":{"$error":"#REF!"}},{"$f":"#REF!","v":{"$error":"#REF!"}},{"$f":"#REF!","v":{"$error":"#REF!"}},{"$f":"#REF!","v":{"$error":"#REF!"}},{"$f":"#REF!","v":{"$error":"#REF!"}},{"$f":"#REF!","v":{"$error":"#REF!"}},{"$f":"#REF!","v":{"$error":"#REF!"}},{"$f":"#REF!","v":{"$error":"#REF!"}},{"$f":"#REF!","v":{"$error":"#REF!"}},null,null,{"$f":"'142'!$X$15","v":0}]
[{"$f":"#REF!","v":{"$error":"#REF!"}},{"$f":"#REF!","v":{"$error":"#REF!"}},{"$f":"#REF!","v":{"$error":"#REF!"}},{"$f":"#REF!","v":{"$error":"#REF!"}},{"$f":"#REF!","v":{"$error":"#REF!"}},{"$f":"#REF!","v":{"$error":"#REF!"}},{"$f":"#REF!","v":{"$error":"#REF!"}},{"$f":"#REF!","v":{"$error":"#REF!"}},{"$f":"#REF!","v":{"$error":"#REF!"}},{"$f":"#REF!","v":{"$error":"#REF!"}},{"$f":"#REF!","v":{"$error":"#REF!"}},{"$f":"#REF!","v":{"$error":"#REF!"}},null,null,{"$f":"'142'!$X$16","v":0}]
[{"$f":"#REF!","v":{"$error":"#REF!"}},{"$f":"#REF!","v":{"$error":"#REF!"}},{"$f":"#REF!","v":{"$error":"#REF!"}},{"$f":"#REF!","v":{"$error":"#REF!"}},{"$f":"#REF!","v":{"$error":"#REF!"}},{"$f":"#REF!","v":{"$error":"#REF!"}},{"$f":"#REF!","v":{"$error":"#REF!"}},{"$f":"#REF!","v":{"$error":"#REF!"}},{"$f":"#REF!","v":{"$error":"#REF!"}},{"$f":"#REF!","v":{"$error":"#REF!"}},{"$f":"#REF!","v":{"$error":"#REF!"}},{"$f":"#REF!","v":{"$error":"#REF!"}},null,null,{"$f":"'142'!$X17","v":0}]
[{"$f":"#REF!","v":{"$error":"#REF!"}},{"$f":"#REF!","v":{"$error":"#REF!"}},{"$f":"#REF!","v":{"$error":"#REF!"}},{"$f":"#REF!","v":{"$error":"#REF!"}},{"$f":"#REF!","v":{"$error":"#REF!"}},{"$f":"#REF!","v":{"$error":"#REF!"}},{"$f":"#REF!","v":{"$error":"#REF!"}},{"$f":"#REF!","v":{"$error":"#REF!"}},{"$f":"#REF!","v":{"$error":"#REF!"}},{"$f":"#REF!","v":{"$error":"#REF!"}},{"$f":"#REF!","v":{"$error":"#REF!"}},{"$f":"#REF!","v":{"$error":"#REF!"}},null,null,{"$f":"'142'!$X18","v":"za"}]
[{"$f":"#REF!","v":{"$error":"#REF!"}},{"$f":"#REF!","v":{"$error":"#REF!"}},{"$f":"#REF!","v":{"$error":"#REF!"}},{"$f":"#REF!","v":{"$error":"#REF!"}},{"$f":"#REF!","v":{"$error":"#REF!"}},{"$f":"#REF!","v":{"$error":"#REF!"}},{"$f":"#REF!","v":{"$error":"#REF!"}},{"$f":"#REF!","v":{"$error":"#REF!"}},{"$f":"#REF!","v":{"$error":"#REF!"}},{"$f":"#REF!","v":{"$error":"#REF!"}},{"$f":"#REF!","v":{"$error":"#REF!"}},{"$f":"#REF!","v":{"$error":"#REF!"}},null,null,{"$f":"'142'!$X19","v":"zo"}]
[{"$f":"#REF!","v":{"$error":"#REF!"}},{"$f":"#REF!","v":{"$error":"#REF!"}},{"$f":"#REF!","v":{"$error":"#REF!"}},{"$f":"#REF!","v":{"$error":"#REF!"}},{"$f":"#REF!","v":{"$error":"#REF!"}},{"$f":"#REF!","v":{"$error":"#REF!"}},{"$f":"#REF!","v":{"$error":"#REF!"}},{"$f":"#REF!","v":{"$error":"#REF!"}},{"$f":"#REF!","v":{"$error":"#REF!"}},{"$f":"#REF!","v":{"$error":"#REF!"}},{"$f":"#REF!","v":{"$error":"#REF!"}},{"$f":"#REF!","v":{"$error":"#REF!"}},null,null,{"$f":"'142'!$X20","v":0}]
[{"$f":"#REF!","v":{"$error":"#REF!"}},{"$f":"#REF!","v":{"$error":"#REF!"}},{"$f":"#REF!","v":{"$error":"#REF!"}},{"$f":"#REF!","v":{"$error":"#REF!"}},{"$f":"#REF!","v":{"$error":"#REF!"}},{"$f":"#REF!","v":{"$error":"#REF!"}},{"$f":"#REF!","v":{"$error":"#REF!"}},{"$f":"#REF!","v":{"$error":"#REF!"}},{"$f":"#REF!","v":{"$error":"#REF!"}},{"$f":"#REF!","v":{"$error":"#REF!"}},{"$f":"#REF!","v":{"$error":"#REF!"}},{"$f":"#REF!","v":{"$error":"#REF!"}},null,null,{"$f":"'142'!$X21","v":0}]
[{"$f":"#REF!","v":{"$error":"#REF!"}},{"$f":"#REF!","v":{"$error":"#REF!"}},{"$f":"#REF!","v":{"$error":"#REF!"}},{"$f":"#REF!","v":{"$error":"#REF!"}},{"$f":"#REF!","v":{"$error":"#REF!"}},{"$f":"#REF!","v":{"$error":"#REF!"}},{"$f":"#REF!","v":{"$error":"#REF!"}},{"$f":"#REF!","v":{"$error":"#REF!"}},{"$f":"#REF!","v":{"$error":"#REF!"}},{"$f":"#REF!","v":{"$error":"#REF!"}},{"$f":"#REF!","v":{"$error":"#REF!"}},{"$f":"#REF!","v":{"$error":"#REF!"}},null,null,{"$f":"'142'!$X22","v":0}]
[{"$f":"#REF!","v":{"$error":"#REF!"}},{"$f":"#REF!","v":{"$error":"#REF!"}},{"$f":"#REF!","v":{"$error":"#REF!"}},{"$f":"#REF!","v":{"$error":"#REF!"}},{"$f":"#REF!","v":{"$error":"#REF!"}},{"$f":"#REF!","v":{"$error":"#REF!"}},{"$f":"#REF!","v":{"$error":"#REF!"}},{"$f":"#REF!","v":{"$error":"#REF!"}},{"$f":"#REF!","v":{"$error":"#REF!"}},{"$f":"#REF!","v":{"$error":"#REF!"}},{"$f":"#REF!","v":{"$error":"#REF!"}},{"$f":"#REF!","v":{"$error":"#REF!"}},null,null,{"$f":"'142'!$X23","v":0}]
[{"$f":"#REF!","v":{"$error":"#REF!"}},{"$f":"#REF!","v":{"$error":"#REF!"}},{"$f":"#REF!","v":{"$error":"#REF!"}},{"$f":"#REF!","v":{"$error":"#REF!"}},{"$f":"#REF!","v":{"$error":"#REF!"}},{"$f":"#REF!","v":{"$error":"#REF!"}},{"$f":"#REF!","v":{"$error":"#REF!"}},{"$f":"#REF!","v":{"$error":"#REF!"}},{"$f":"#REF!","v":{"$error":"#REF!"}},{"$f":"#REF!","v":{"$error":"#REF!"}},{"$f":"#REF!","v":{"$error":"#REF!"}},{"$f":"#REF!","v":{"$error":"#REF!"}},null,null,{"$f":"'142'!$X24","v":0}]
[{"$f":"#REF!","v":{"$error":"#REF!"}},{"$f":"#REF!","v":{"$error":"#REF!"}},{"$f":"#REF!","v":{"$error":"#REF!"}},{"$f":"#REF!","v":{"$error":"#REF!"}},{"$f":"#REF!","v":{"$error":"#REF!"}},{"$f":"#REF!","v":{"$error":"#REF!"}},{"$f":"#REF!","v":{"$error":"#REF!"}},{"$f":"#REF!","v":{"$error":"#REF!"}},{"$f":"#REF!","v":{"$error":"#REF!"}},{"$f":"#REF!","v":{"$error":"#REF!"}},{"$f":"#REF!","v":{"$error":"#REF!"}},{"$f":"#REF!","v":{"$error":"#REF!"}},null,null,{"$f":"'142'!$X25","v":"za"}]
[{"$f":"#REF!","v":{"$error":"#REF!"}},{"$f":"#REF!","v":{"$error":"#REF!"}},{"$f":"#REF!","v":{"$error":"#REF!"}},{"$f":"#REF!","v":{"$error":"#REF!"}},{"$f":"#REF!","v":{"$error":"#REF!"}},{"$f":"#REF!","v":{"$error":"#REF!"}},{"$f":"#REF!","v":{"$error":"#REF!"}},{"$f":"#REF!","v":{"$error":"#REF!"}},{"$f":"#REF!","v":{"$error":"#REF!"}},{"$f":"#REF!","v":{"$error":"#REF!"}},{"$f":"#REF!","v":{"$error":"#REF!"}},{"$f":"#REF!","v":{"$error":"#REF!"}},null,null,{"$f":"'142'!$X26","v":"zo"}]
[{"$f":"#REF!","v":{"$error":"#REF!"}},{"$f":"#REF!","v":{"$error":"#REF!"}},{"$f":"#REF!","v":{"$error":"#REF!"}},{"$f":"#REF!","v":{"$error":"#REF!"}},{"$f":"#REF!","v":{"$error":"#REF!"}},{"$f":"#REF!","v":{"$error":"#REF!"}},{"$f":"#REF!","v":{"$error":"#REF!"}},{"$f":"#REF!","v":{"$error":"#REF!"}},{"$f":"#REF!","v":{"$error":"#REF!"}},{"$f":"#REF!","v":{"$error":"#REF!"}},{"$f":"#REF!","v":{"$error":"#REF!"}},{"$f":"#REF!","v":{"$error":"#REF!"}},null,null,{"$f":"'142'!$X27","v":0}]
[{"$f":"#REF!","v":{"$error":"#REF!"}},{"$f":"#REF!","v":{"$error":"#REF!"}},{"$f":"#REF!","v":{"$error":"#REF!"}},{"$f":"#REF!","v":{"$error":"#REF!"}},{"$f":"#REF!","v":{"$error":"#REF!"}},{"$f":"#REF!","v":{"$error":"#REF!"}},{"$f":"#REF!","v":{"$error":"#REF!"}},{"$f":"#REF!","v":{"$error":"#REF!"}},{"$f":"#REF!","v":{"$error":"#REF!"}},{"$f":"#REF!","v":{"$error":"#REF!"}},{"$f":"#REF!","v":{"$error":"#REF!"}},{"$f":"#REF!","v":{"$error":"#REF!"}},null,null,{"$f":"'142'!$X28","v":0}]
[{"$f":"#REF!","v":{"$error":"#REF!"}},{"$f":"#REF!","v":{"$error":"#REF!"}},{"$f":"#REF!","v":{"$error":"#REF!"}},{"$f":"#REF!","v":{"$error":"#REF!"}},{"$f":"#REF!","v":{"$error":"#REF!"}},{"$f":"#REF!","v":{"$error":"#REF!"}},{"$f":"#REF!","v":{"$error":"#REF!"}},{"$f":"#REF!","v":{"$error":"#REF!"}},{"$f":"#REF!","v":{"$error":"#REF!"}},{"$f":"#REF!","v":{"$error":"#REF!"}},{"$f":"#REF!","v":{"$error":"#REF!"}},{"$f":"#REF!","v":{"$error":"#REF!"}},null,null,{"$f":"'142'!$X29","v":0}]
[null,null,null,null,null,null,null,null,null,null,null,null,null,null,{"$f":"'142'!$X30","v":0}]
[null,null,null,null,null,null,null,null,null,null,null,null,null,null,{"$f":"'142'!$X31","v":0}]
[null,null,null,null,null,null,null,null,null,null,null,null,null,null,{"$f":"'142'!$X32","v":"za"}]
[null,null,null,null,null,null,null,null,null,null,null,null,null,null,{"$f":"'142'!$X33","v":"zo"}]
[null,null,null,null,null,null,null,null,null,null,null,null,null,null,{"$f":"'142'!$X34","v":0}]
[null,null,null,null,null,null,null,null,null,null,null,null,null,null,{"$f":"'142'!$X35","v":0}]
[null,null,null,null,null,null,null,null,null,null,null,null,null,null,{"$f":"'142'!$X36","v":0}]
[null,null,null,null,null,null,null,null,null,null,null,null,null,null,{"$f":"'142'!$X37","v":0}]
[null,null,null,null,null,null,null,null,null,null,null,null,null,null,{"$f":"'142'!$X38","v":0}]
[null,null,null,null,null,null,null,null,null,null,null,null,null,null,{"$f":"'142'!$X39","v":0}]
[null,null,null,null,null,null,null,null,null,null,null,null,null,null,{"$f":"'142'!$Y9","v":0}]
[null,null,null,null,null,null,null,null,null,null,null,null,null,null,{"$f":"'142'!$Y10","v":0}]
[null,null,null,null,null,null,null,null,null,null,null,null,null,null,{"$f":"'142'!$Y11","v":"za"}]
[null,null,null,null,null,null,null,null,null,null,null,null,null,null,{"$f":"'142'!$Y12","v":"zo"}]
[null,null,null,null,null,null,null,null,null,null,null,null,null,null,{"$f":"'142'!$Y13","v":0}]
[null,null,null,null,null,null,null,null,null,null,null,null,null,null,{"$f":"'142'!$Y14","v":0}]
[null,null,null,null,null,null,null,null,null,null,null,null,null,null,{"$f":"'142'!$Y15","v":0}]
[null,null,null,null,null,null,null,null,null,null,null,null,null,null,{"$f":"'142'!$Y16","v":0}]
[null,null,null,null,null,null,null,null,null,null,null,null,null,null,{"$f":"'142'!$Y17","v":0}]
[null,null,null,null,null,null,null,null,null,null,null,null,null,null,{"$f":"'142'!$Y18","v":"za"}]
[null,null,null,null,null,null,null,null,null,null,null,null,null,null,{"$f":"'142'!$Y19","v":"zo"}]
[null,null,null,null,null,null,null,null,null,null,null,null,null,null,{"$f":"'142'!$Y20","v":0}]
[null,null,null,null,null,null,null,null,null,null,null,null,null,null,{"$f":"'142'!$Y21","v":0}]
[null,null,null,null,null,null,null,null,null,null,null,null,null,null,{"$f":"'142'!$Y22","v":0}]
[null,null,null,null,null,null,null,null,null,null,null,null,null,null,{"$f":"'142'!$Y23","v":0}]
[null,null,null,null,null,null,null,null,null,null,null,null,null,null,{"$f":"'142'!$Y24","v":0}]
[null,null,null,null,null,null,null,null,null,null,null,null,null,null,{"$f":"'142'!$Y25","v":"za"}]
[null,null,null,null,null,null,null,null,null,null,null,null,null,null,{"$f":"'142'!$Y26","v":"zo"}]
[null,null,null,null,null,null,null,null,null,null,null,null,null,null,{"$f":"'142'!$Y27","v":0}]
[null,null,null,null,null,null,null,null,null,null,null,null,null,null,{"$f":"'142'!$Y28","v":0}]
[null,null,null,null,null,null,null,null,null,null,null,null,null,null,{"$f":"'142'!$Y29","v":0}]
[null,null,null,null,null,null,null,null,null,null,null,null,null,null,{"$f":"'142'!$Y30","v":0}]
[null,null,null,null,null,null,null,null,null,null,null,null,null,null,{"$f":"'142'!$Y31","v":0}]
[null,null,null,null,null,null,null,null,null,null,null,null,null,null,{"$f":"'142'!$Y32","v":"za"}]
[null,null,null,null,null,null,null,null,null,null,null,null,null,null,{"$f":"'142'!$Y33","v":"zo"}]
[null,null,null,null,null,null,null,null,null,null,null,null,null,null,{"$f":"'142'!$Y34","v":0}]
[null,null,null,null,null,null,null,null,null,null,null,null,null,null,{"$f":"'142'!$Y35","v":0}]
[null,null,null,null,null,null,null,null,null,null,null,null,null,null,{"$f":"'142'!$Y36","v":0}]
[null,null,null,null,null,null,null,null,null,null,null,null,null,null,{"$f":"'142'!$Y37","v":0}]
[null,null,null,null,null,null,null,null,null,null,null,null,null,null,{"$f":"'142'!$Y38","v":0}]
[null,null,null,null,null,null,null,null,null,null,null,null,null,null,{"$f":"'142'!$Y39","v":"za"}]
[null,null,null,null,null,null,null,null,null,null,null,null,null,null,{"$f":"'142'!$Z9","v":"zo"}]
[null,null,null,null,null,null,null,null,null,null,null,null,null,null,{"$f":"'142'!$Z10","v":0}]
[null,null,null,null,null,null,null,null,null,null,null,null,null,null,{"$f":"'142'!$Z11","v":0}]
[null,null,null,null,null,null,null,null,null,null,null,null,null,null,{"$f":"'142'!$Z12","v":0}]
[null,null,null,null,null,null,null,null,null,null,null,null,null,null,{"$f":"'142'!$Z13","v":0}]
[null,null,null,null,null,null,null,null,null,null,null,null,null,null,{"$f":"'142'!$Z14","v":0}]
[null,null,null,null,null,null,null,null,null,null,null,null,null,null,{"$f":"'142'!$Z15","v":"za"}]
[null,null,null,null,null,null,null,null,null,null,null,null,null,null,{"$f":"'142'!$Z16","v":"zo"}]
[null,null,null,null,null,null,null,null,null,null,null,null,null,null,{"$f":"'142'!$Z17","v":0}]
[null,null,null,null,null,null,null,null,null,null,null,null,null,null,{"$f":"'142'!$Z18","v":0}]
[null,null,null,null,null,null,null,null,null,null,null,null,null,null,{"$f":"'142'!$Z19","v":0}]
[null,null,null,null,null,null,null,null,null,null,null,null,null,null,{"$f":"'142'!$Z20","v":0}]
[null,null,null,null,null,null,null,null,null,null,null,null,null,null,{"$f":"'142'!$Z21","v":0}]
[null,null,null,null,null,null,null,null,null,null,null,null,null,null,{"$f":"'142'!$Z22","v":"za"}]
[null,null,null,null,null,null,null,null,null,null,null,null,null,null,{"$f":"'142'!$Z23","v":"zo"}]
[null,null,null,null,null,null,null,null,null,null,null,null,null,null,{"$f":"'142'!$Z24","v":0}]
[null,null,null,null,null,null,null,null,null,null,null,null,null,null,{"$f":"'142'!$Z25","v":0}]
[null,null,null,null,null,null,null,null,null,null,null,null,null,null,{"$f":"'142'!$Z26","v":0}]
[null,null,null,null,null,null,null,null,null,null,null,null,null,null,{"$f":"'142'!$Z27","v":0}]
[null,null,null,null,null,null,null,null,null,null,null,null,null,null,{"$f":"'142'!$Z28","v":0}]
[null,null,null,null,null,null,null,null,null,null,null,null,null,null,{"$f":"'142'!$Z29","v":"za"}]
[null,null,null,null,null,null,null,null,null,null,null,null,null,null,{"$f":"'142'!$Z30","v":"zo"}]
[null,null,null,null,null,null,null,null,null,null,null,null,null,null,{"$f":"'142'!$Z31","v":"fd"}]
[null,null,null,null,null,null,null,null,null,null,null,null,null,null,{"$f":"'142'!$Z32","v":0}]
[null,null,null,null,null,null,null,null,null,null,null,null,null,null,{"$f":"'142'!$Z33","v":0}]
[null,null,null,null,null,null,null,null,null,null,null,null,null,null,{"$f":"'142'!$Z34","v":0}]
[null,null,null,null,null,null,null,null,null,null,null,null,null,null,{"$f":"'142'!$Z35","v":0}]
[null,null,null,null,null,null,null,null,null,null,null,null,null,null,{"$f":"'142'!$Z36","v":"za"}]
[null,null,null,null,null,null,null,null,null,null,null,null,null,null,{"$f":"'142'!$Z37","v":"zo"}]
[null,null,null,null,null,null,null,null,null,null,null,null,null,null,{"$f":"'142'!$Z38","v":0}]
[null,null,null,null,null,null,null,null,null,null,null,null,null,null,{"$f":"'142'!$AA9","v":0}]
[null,null,null,null,null,null,null,null,null,null,null,null,null,null,{"$f":"'142'!$AA10","v":"fd"}]
[null,null,null,null,null,null,null,null,null,null,null,null,null,null,{"$f":"'142'!$AA11","v":0}]
[null,null,null,null,null,null,null,null,null,null,null,null,null,null,{"$f":"'142'!$AA12","v":0}]
[null,null,null,null,null,null,null,null,null,null,null,null,null,null,{"$f":"'142'!$AA13","v":"za"}]
[null,null,null,null,null,null,null,null,null,null,null,null,null,null,{"$f":"'142'!$AA14","v":"zo"}]
[null,null,null,null,null,null,null,null,null,null,null,null,null,null,{"$f":"'142'!$AA15","v":0}]
[null,null,null,null,null,null,null,null,null,null,null,null,null,null,{"$f":"'142'!$AA16","v":0}]
[null,null,null,null,null,null,null,null,null,null,null,null,null,null,{"$f":"'142'!$AA17","v":0}]
[null,null,null,null,null,null,null,null,null,null,null,null,null,null,{"$f":"'142'!$AA18","v":0}]
[null,null,null,null,null,null,null,null,null,null,null,null,null,null,{"$f":"'142'!$AA19","v":0}]
[null,null,null,null,null,null,null,null,null,null,null,null,null,null,{"$f":"'142'!$AA20","v":"za"}]
[null,null,null,null,null,null,null,null,null,null,null,null,null,null,{"$f":"'142'!$AA21","v":"zo"}]
[null,null,null,null,null,null,null,null,null,null,null,null,null,null,{"$f":"'142'!$AA22","v":0}]
[null,null,null,null,null,null,null,null,null,null,null,null,null,null,{"$f":"'142'!$AA23","v":0}]
[null,null,null,null,null,null,null,null,null,null,null,null,null,null,{"$f":"'142'!$AA24","v":0}]
[null,null,null,null,null,null,null,null,null,null,null,null,null,null,{"$f":"'142'!$AA25","v":0}]
[null,null,null,null,null,null,null,null,null,null,null,null,null,null,{"$f":"'142'!$AA26","v":0}]
[null,null,null,null,null,null,null,null,null,null,null,null,null,null,{"$f":"'142'!$AA27","v":"za"}]
[null,null,null,null,null,null,null,null,null,null,null,null,null,null,{"$f":"'142'!$AA28","v":"zo"}]
[null,null,null,null,null,null,null,null,null,null,null,null,null,null,{"$f":"'142'!$AA29","v":"fd"}]
[null,null,null,null,null,null,null,null,null,null,null,null,null,null,{"$f":"'142'!$AA30","v":0}]
[null,null,null,null,null,null,null,null,null,null,null,null,null,null,{"$f":"'142'!$AA31","v":0}]
[null,null,null,null,null,null,null,null,null,null,null,null,null,null,{"$f":"'142'!$AA32","v":0}]
[null,null,null,null,null,null,null,null,null,null,null,null,null,null,{"$f":"'142'!$AA33","v":0}]
[null,null,null,null,null,null,null,null,null,null,null,null,null,null,{"$f":"'142'!$AA34","v":"za"}]
[null,null,null,null,null,null,null,null,null,null,null,null,null,null,{"$f":"'142'!$AA35","v":"zo"}]
[null,null,null,null,null,null,null,null,null,null,null,null,null,null,{"$f":"'142'!$AA36","v":0}]
[null,null,null,null,null,null,null,null,null,null,null,null,null,null,{"$f":"'142'!$AA37","v":0}]
[null,null,null,null,null,null,null,null,null,null,null,null,null,null,{"$f":"'142'!$AA38","v":0}]
[null,null,null,null,null,null,null,null,null,null,null,null,null,null,{"$f":"'142'!$AA39","v":"fd"}]
[null,null,null,null,null,null,null,null,null,null,null,null,null,null,{"$f":"'142'!$AB9","v":0}]
[null,null,null,null,null,null,null,null,null,null,null,null,null,null,{"$f":"'142'!$AB10","v":"za"}]
[null,null,null,null,null,null,null,null,null,null,null,null,null,null,{"$f":"'142'!$AB11","v":"zo"}]
[null,null,null,null,null,null,null,null,null,null,null,null,null,null,{"$f":"'142'!$AB12","v":0}]
[null,null,null,null,null,null,null,null,null,null,null,null,null,null,{"$f":"'142'!$AB13","v":0}]
[null,null,null,null,null,null,null,null,null,null,null,null,null,null,{"$f":"'142'!$AB14","v":0}]
[null,null,null,null,null,null,null,null,null,null,null,null,null,null,{"$f":"'142'!$AB15","v":0}]
[null,null,null,null,null,null,null,null,null,null,null,null,null,null,{"$f":"'142'!$AB16","v":0}]
[null,null,null,null,null,null,null,null,null,null,null,null,null,null,{"$f":"'142'!$AB17","v":"za"}]
[null,null,null,null,null,null,null,null,null,null,null,null,null,null,{"$f":"'142'!$AB18","v":"zo"}]
[null,null,null,null,null,null,null,null,null,null,null,null,null,null,{"$f":"'142'!$AB19","v":"fd"}]
[null,null,null,null,null,null,null,null,null,null,null,null,null,null,{"$f":"'142'!$AB20","v":0}]
[null,null,null,null,null,null,null,null,null,null,null,null,null,null,{"$f":"'142'!$AB21","v":0}]
[null,null,null,null,null,null,null,null,null,null,null,null,null,null,{"$f":"'142'!$AB22","v":0}]
[null,null,null,null,null,null,null,null,null,null,null,null,null,null,{"$f":"'142'!$AB23","v":0}]
[null,null,null,null,null,null,null,null,null,null,null,null,null,null,{"$f":"'142'!$AB24","v":"za"}]
[null,null,null,null,null,null,null,null,null,null,null,null,null,null,{"$f":"'142'!$AB25","v":"zo"}]
[null,null,null,null,null,null,null,null,null,null,null,null,null,null,{"$f":"'142'!$AB26","v":0}]
[null,null,null,null,null,null,null,null,null,null,null,null,null,null,{"$f":"'142'!$AB27","v":0}]
[null,null,null,null,null,null,null,null,null,null,null,null,null,null,{"$f":"'142'!$AB28","v":0}]
[null,null,null,null,null,null,null,null,null,null,null,null,null,null,{"$f":"'142'!$AB29","v":0}]
[null,null,null,null,null,null,null,null,null,null,null,null,null,null,{"$f":"'142'!$AB30","v":0}]
[null,null,null,null,null,null,null,null,null,null,null,null,null,null,{"$f":"'142'!$AB31","v":"za"}]
[null,null,null,null,null,null,null,null,null,null,null,null,null,null,{"$f":"'142'!$AB32","v":"zo"}]
[null,null,null,null,null,null,null,null,null,null,null,null,null,null,{"$f":"'142'!$AB33","v":0}]
[null,null,null,null,null,null,null,null,null,null,null,null,null,null,{"$f":"'142'!$AB34","v":0}]
[null,null,null,null,null,null,null,null,null,null,null,null,null,null,{"$f":"'142'!$AB35","v":0}]
[null,null,null,null,null,null,null,null,null,null,null,null,null,null,{"$f":"'142'!$AB36","v":0}]
[null,null,null,null,null,null,null,null,null,null,null,null,null,null,{"$f":"'142'!$AB37","v":0}]
[null,null,null,null,null,null,null,null,null,null,null,null,null,null,{"$f":"'142'!$AB38","v":"za"}]
[null,null,null,null,null,null,null,null,null,null,null,null,null,null,{"$f":"'142'!$AC9","v":"zo"}]
[null,null,null,null,null,null,null,null,null,null,null,null,null,null,{"$f":"'142'!$AC10","v":0}]
[null,null,null,null,null,null,null,null,null,null,null,null,null,null,{"$f":"'142'!$AC11","v":0}]
[null,null,null,null,null,null,null,null,null,null,null,null,null,null,{"$f":"'142'!$AC12","v":0}]
[null,null,null,null,null,null,null,null,null,null,null,null,null,null,{"$f":"'142'!$AC13","v":0}]
[null,null,null,null,null,null,null,null,null,null,null,null,null,null,{"$f":"'142'!$AC14","v":0}]
[null,null,null,null,null,null,null,null,null,null,null,null,null,null,{"$f":"'142'!$AC15","v":"za"}]
[null,null,null,null,null,null,null,null,null,null,null,null,null,null,{"$f":"'142'!$AC16","v":"zo"}]
[null,null,null,null,null,null,null,null,null,null,null,null,null,null,{"$f":"'142'!$AC17","v":0}]
[null,null,null,null,null,null,null,null,null,null,null,null,null,null,{"$f":"'142'!$AC18","v":0}]
[null,null,null,null,null,null,null,null,null,null,null,null,null,null,{"$f":"'142'!$AC19","v":0}]
[null,null,null,null,null,null,null,null,null,null,null,null,null,null,{"$f":"'142'!$AC20","v":0}]
[null,null,null,null,null,null,null,null,null,null,null,null,null,null,{"$f":"'142'!$AC21","v":0}]
[null,null,null,null,null,null,null,null,null,null,null,null,null,null,{"$f":"'142'!$AC22","v":"za"}]
[null,null,null,null,null,null,null,null,null,null,null,null,null,null,{"$f":"'142'!$AC23","v":"zo"}]
[null,null,null,null,null,null,null,null,null,null,null,null,null,null,{"$f":"'142'!$AC24","v":0}]
[null,null,null,null,null,null,null,null,null,null,null,null,null,null,{"$f":"'142'!$AC25","v":0}]
[null,null,null,null,null,null,null,null,null,null,null,null,null,null,{"$f":"'142'!$AC26","v":0}]
[null,null,null,null,null,null,null,null,null,null,null,null,null,null,{"$f":"'142'!$AC27","v":0}]
[null,null,null,null,null,null,null,null,null,null,null,null,null,null,{"$f":"'142'!$AC28","v":0}]
[null,null,null,null,null,null,null,null,null,null,null,null,null,null,{"$f":"'142'!$AC29","v":"za"}]
[null,null,null,null,null,null,null,null,null,null,null,null,null,null,{"$f":"'142'!$AC30","v":"zo"}]
[null,null,null,null,null,null,null,null,null,null,null,null,null,null,{"$f":"'142'!$AC31","v":0}]
[null,null,null,null,null,null,null,null,null,null,null,null,null,null,{"$f":"'142'!$AC32","v":0}]
[null,null,null,null,null,null,null,null,null,null,null,null,null,null,{"$f":"'142'!$AC33","v":0}]
[null,null,null,null,null,null,null,null,null,null,null,null,null,null,{"$f":"'142'!$AC34","v":0}]
[null,null,null,null,null,null,null,null,null,null,null,null,null,null,{"$f":"'142'!$AC35","v":0}]
[null,null,null,null,null,null,null,null,null,null,null,null,null,null,{"$f":"'142'!$AC36","v":"za"}]
[null,null,null,null,null,null,null,null,null,null,null,null,null,null,{"$f":"'142'!$AC37","v":"zo"}]
[null,null,null,null,null,null,null,null,null,null,null,null,null,null,{"$f":"'142'!$AC38","v":0}]
[null,null,null,null,null,null,null,null,null,null,null,null,null,null,{"$f":"'142'!$AC39","v":0}]
[null,null,null,null,null,null,null,null,null,null,null,null,null,null,{"$f":"'142'!$AD9","v":0}]
[null,null,null,null,null,null,null,null,null,null,null,null,null,null,{"$f":"'142'!$AD10","v":0}]
[null,null,null,null,null,null,null,null,null,null,null,null,null,null,{"$f":"'142'!$AD11","v":0}]
[null,null,null,null,null,null,null,null,null,null,null,null,null,null,{"$f":"'142'!$AD12","v":"za"}]
[null,null,null,null,null,null,null,null,null,null,null,null,null,null,{"$f":"'142'!$AD13","v":"zo"}]
[null,null,null,null,null,null,null,null,null,null,null,null,null,null,{"$f":"'142'!$AD14","v":0}]
[null,null,null,null,null,null,null,null,null,null,null,null,null,null,{"$f":"'142'!$AD15","v":0}]
[null,null,null,null,null,null,null,null,null,null,null,null,null,null,{"$f":"'142'!$AD16","v":0}]
[null,null,null,null,null,null,null,null,null,null,null,null,null,null,{"$f":"'142'!$AD17","v":0}]
[null,null,null,null,null,null,null,null,null,null,null,null,null,null,{"$f":"'142'!$AD18","v":0}]
[null,null,null,null,null,null,null,null,null,null,null,null,null,null,{"$f":"'142'!$AD19","v":"za"}]
[null,null,null,null,null,null,null,null,null,null,null,null,null,null,{"$f":"'142'!$AD20","v":"zo"}]
[null,null,null,null,null,null,null,null,null,null,null,null,null,null,{"$f":"'142'!$AD21","v":0}]
[null,null,null,null,null,null,null,null,null,null,null,null,null,null,{"$f":"'142'!$AD22","v":0}]
[null,null,null,null,null,null,null,null,null,null,null,null,null,null,{"$f":"'142'!$AD23","v":0}]
[null,null,null,null,null,null,null,null,null,null,null,null,null,null,{"$f":"'142'!$AD24","v":"fd"}]
[null,null,null,null,null,null,null,null,null,null,null,null,null,null,{"$f":"'142'!$AD25","v":0}]
[null,null,null,null,null,null,null,null,null,null,null,null,null,null,{"$f":"'142'!$AD26","v":"za"}]
[null,null,null,null,null,null,null,null,null,null,null,null,null,null,{"$f":"'142'!$AD27","v":"zo"}]
[null,null,null,null,null,null,null,null,null,null,null,null,null,null,{"$f":"'142'!$AD28","v":0}]
[null,null,null,null,null,null,null,null,null,null,null,null,null,null,{"$f":"'142'!$AD29","v":0}]
[null,null,null,null,null,null,null,null,null,null,null,null,null,null,{"$f":"'142'!$AD30","v":0}]
[null,null,null,null,null,null,null,null,null,null,null,null,null,null,{"$f":"'142'!$AD31","v":0}]
[null,null,null,null,null,null,null,null,null,null,null,null,null,null,{"$f":"'142'!$AD32","v":0}]
[null,null,null,null,null,null,null,null,null,null,null,null,null,null,{"$f":"'142'!$AD33","v":"za"}]
[null,null,null,null,null,null,null,null,null,null,null,null,null,null,{"$f":"'142'!$AD34","v":"zo"}]
[null,null,null,null,null,null,null,null,null,null,null,null,null,null,{"$f":"'142'!$AD35","v":0}]
[null,null,null,null,null,null,null,null,null,null,null,null,null,null,{"$f":"'142'!$AD36","v":0}]
[null,null,null,null,null,null,null,null,null,null,null,null,null,null,{"$f":"'142'!$AD37","v":0}]
[null,null,null,null,null,null,null,null,null,null,null,null,null,null,{"$f":"'142'!$AD38","v":0}]
[null,null,null,null,null,null,null,null,null,null,null,null,null,null,{"$f":"'142'!$AD39","v":0}]
[null,null,null,null,null,null,null,null,null,null,null,null,null,null,{"$f":"'142'!$AE9","v":"za"}]
[null,null,null,null,null,null,null,null,null,null,null,null,null,null,{"$f":"'142'!$AE10","v":"zo"}]
[null,null,null,null,null,null,null,null,null,null,null,null,null,null,{"$f":"'142'!$AE11","v":0}]
[null,null,null,null,null,null,null,null,null,null,null,null,null,null,{"$f":"'142'!$AE12","v":0}]
[null,null,null,null,null,null,null,null,null,null,null,null,null,null,{"$f":"'142'!$AE13","v":0}]
[null,null,null,null,null,null,null,null,null,null,null,null,null,null,{"$f":"'142'!$AE14","v":0}]
[null,null,null,null,null,null,null,null,null,null,null,null,null,null,{"$f":"'142'!$AE15","v":0}]
[null,null,null,null,null,null,null,null,null,null,null,null,null,null,{"$f":"'142'!$AE16","v":"za"}]
[null,null,null,null,null,null,null,null,null,null,null,null,null,null,{"$f":"'142'!$AE17","v":"zo"}]
[null,null,null,null,null,null,null,null,null,null,null,null,null,null,{"$f":"'142'!$AE18","v":0}]
[null,null,null,null,null,null,null,null,null,null,null,null,null,null,{"$f":"'142'!$AE19","v":0}]
[null,null,null,null,null,null,null,null,null,null,null,null,null,null,{"$f":"'142'!$AE20","v":0}]
[null,null,null,null,null,null,null,null,null,null,null,null,null,null,{"$f":"'142'!$AE21","v":0}]
[null,null,null,null,null,null,null,null,null,null,null,null,null,null,{"$f":"'142'!$AE22","v":0}]
[null,null,null,null,null,null,null,null,null,null,null,null,null,null,{"$f":"'142'!$AE23","v":"za"}]
[null,null,null,null,null,null,null,null,null,null,null,null,null,null,{"$f":"'142'!$AE24","v":"zo"}]
[null,null,null,null,null,null,null,null,null,null,null,null,null,null,{"$f":"'142'!$AE25","v":0}]
[null,null,null,null,null,null,null,null,null,null,null,null,null,null,{"$f":"'142'!$AE26","v":0}]
[null,null,null,null,null,null,null,null,null,null,null,null,null,null,{"$f":"'142'!$AE27","v":0}]
[null,null,null,null,null,null,null,null,null,null,null,null,null,null,{"$f":"'142'!$AE28","v":0}]
[null,null,null,null,null,null,null,null,null,null,null,null,null,null,{"$f":"'142'!$AE29","v":0}]
[null,null,null,null,null,null,null,null,null,null,null,null,null,null,{"$f":"'142'!$AE30","v":"za"}]
[null,null,null,null,null,null,null,null,null,null,null,null,null,null,{"$f":"'142'!$AE31","v":"zo"}]
[null,null,null,null,null,null,null,null,null,null,null,null,null,null,{"$f":"'142'!$AE32","v":0}]
[null,null,null,null,null,null,null,null,null,null,null,null,null,null,{"$f":"'142'!$AE33","v":0}]
[null,null,null,null,null,null,null,null,null,null,null,null,null,null,{"$f":"'142'!$AE34","v":0}]
[null,null,null,null,null,null,null,null,null,null,null,null,null,null,{"$f":"'142'!$AE35","v":0}]
[null,null,null,null,null,null,null,null,null,null,null,null,null,null,{"$f":"'142'!$AE36","v":0}]
[null,null,null,null,null,null,null,null,null,null,null,null,null,null,{"$f":"'142'!$AE37","v":"za"}]
[null,null,null,null,null,null,null,null,null,null,null,null,null,null,{"$f":"'142'!$AE38","v":"zo"}]
[null,null,null,null,null,null,null,null,null,null,null,null,null,null,{"$f":"'142'!$AF9","v":0}]
[null,null,null,null,null,null,null,null,null,null,null,null,null,null,{"$f":"'142'!$AF10","v":0}]
[null,null,null,null,null,null,null,null,null,null,null,null,null,null,{"$f":"'142'!$AF11","v":0}]
[null,null,null,null,null,null,null,null,null,null,null,null,null,null,{"$f":"'142'!$AF12","v":0}]
[null,null,null,null,null,null,null,null,null,null,null,null,null,null,{"$f":"'142'!$AF13","v":0}]
[null,null,null,null,null,null,null,null,null,null,null,null,null,null,{"$f":"'142'!$AF14","v":"za"}]
[null,null,null,null,null,null,null,null,null,null,null,null,null,null,{"$f":"'142'!$AF15","v":"zo"}]
[null,null,null,null,null,null,null,null,null,null,null,null,null,null,{"$f":"'142'!$AF16","v":0}]
[null,null,null,null,null,null,null,null,null,null,null,null,null,null,{"$f":"'142'!$AF17","v":0}]
[null,null,null,null,null,null,null,null,null,null,null,null,null,null,{"$f":"'142'!$AF18","v":0}]
[null,null,null,null,null,null,null,null,null,null,null,null,null,null,{"$f":"'142'!$AF19","v":0}]
[null,null,null,null,null,null,null,null,null,null,null,null,null,null,{"$f":"'142'!$AF20","v":0}]
[null,null,null,null,null,null,null,null,null,null,null,null,null,null,{"$f":"'142'!$AF21","v":"za"}]
[null,null,null,null,null,null,null,null,null,null,null,null,null,null,{"$f":"'142'!$AF22","v":"zo"}]
[null,null,null,null,null,null,null,null,null,null,null,null,null,null,{"$f":"'142'!$AF23","v":0}]
[null,null,null,null,null,null,null,null,null,null,null,null,null,null,{"$f":"'142'!$AF24","v":0}]
[null,null,null,null,null,null,null,null,null,null,null,null,null,null,{"$f":"'142'!$AF25","v":0}]
[null,null,null,null,null,null,null,null,null,null,null,null,null,null,{"$f":"'142'!$AF26","v":0}]
[null,null,null,null,null,null,null,null,null,null,null,null,null,null,{"$f":"'142'!$AF27","v":0}]
[null,null,null,null,null,null,null,null,null,null,null,null,null,null,{"$f":"'142'!$AF28","v":"za"}]
[null,null,null,null,null,null,null,null,null,null,null,null,null,null,{"$f":"'142'!$AF29","v":"zo"}]
[null,null,null,null,null,null,null,null,null,null,null,null,null,null,{"$f":"'142'!$AF30","v":0}]
[null,null,null,null,null,null,null,null,null,null,null,null,null,null,{"$f":"'142'!$AF31","v":0}]
[null,null,null,null,null,null,null,null,null,null,null,null,null,null,{"$f":"'142'!$AF32","v":0}]
[null,null,null,null,null,null,null,null,null,null,null,null,null,null,{"$f":"'142'!$AF33","v":0}]
[null,null,null,null,null,null,null,null,null,null,null,null,null,null,{"$f":"'142'!$AF34","v":0}]
[null,null,null,null,null,null,null,null,null,null,null,null,null,null,{"$f":"'142'!$AF35","v":"za"}]
[null,null,null,null,null,null,null,null,null,null,null,null,null,null,{"$f":"'142'!$AF36","v":"zo"}]
[null,null,null,null,null,null,null,null,null,null,null,null,null,null,{"$f":"'142'!$AF37","v":0}]
[null,null,null,null,null,null,null,null,null,null,null,null,null,null,{"$f":"'142'!$AF38","v":0}]
[null,null,null,null,null,null,null,null,null,null,null,null,null,null,{"$f":"'142'!$AF39","v":0}]
[null,null,null,null,null,null,null,null,null,null,null,null,null,null,{"$f":"'142'!$AG9","v":0}]
[null,null,null,null,null,null,null,null,null,null,null,null,null,null,{"$f":"'142'!$AG10","v":"fd"}]
[null,null,null,null,null,null,null,null,null,null,null,null,null,null,{"$f":"'142'!$AG11","v":"za"}]
[null,null,null,null,null,null,null,null,null,null,null,null,null,null,{"$f":"'142'!$AG12","v":"zo"}]
[null,null,null,null,null,null,null,null,null,null,null,null,null,null,{"$f":"'142'!$AG13","v":0}]
[null,null,null,null,null,null,null,null,null,null,null,null,null,null,{"$f":"'142'!$AG14","v":0}]
[null,null,null,null,null,null,null,null,null,null,null,null,null,null,{"$f":"'142'!$AG15","v":0}]
[null,null,null,null,null,null,null,null,null,null,null,null,null,null,{"$f":"'142'!$AG16","v":0}]
[null,null,null,null,null,null,null,null,null,null,null,null,null,null,{"$f":"'142'!$AG17","v":0}]
[null,null,null,null,null,null,null,null,null,null,null,null,null,null,{"$f":"'142'!$AG18","v":"za"}]
[null,null,null,null,null,null,null,null,null,null,null,null,null,null,{"$f":"'142'!$AG19","v":"zo"}]
[null,null,null,null,null,null,null,null,null,null,null,null,null,null,{"$f":"'142'!$AG20","v":"fd"}]
[null,null,null,null,null,null,null,null,null,null,null,null,null,null,{"$f":"'142'!$AG21","v":0}]
[null,null,null,null,null,null,null,null,null,null,null,null,null,null,{"$f":"'142'!$AG22","v":0}]
[null,null,null,null,null,null,null,null,null,null,null,null,null,null,{"$f":"'142'!$AG23","v":0}]
[null,null,null,null,null,null,null,null,null,null,null,null,null,null,{"$f":"'142'!$AG24","v":0}]
[null,null,null,null,null,null,null,null,null,null,null,null,null,null,{"$f":"'142'!$AG25","v":"za"}]
[null,null,null,null,null,null,null,null,null,null,null,null,null,null,{"$f":"'142'!$AG26","v":"zo"}]
[null,null,null,null,null,null,null,null,null,null,null,null,null,null,{"$f":"'142'!$AG27","v":0}]
[null,null,null,null,null,null,null,null,null,null,null,null,null,null,{"$f":"'142'!$AG28","v":0}]
[null,null,null,null,null,null,null,null,null,null,null,null,null,null,{"$f":"'142'!$AG29","v":0}]
[null,null,null,null,null,null,null,null,null,null,null,null,null,null,{"$f":"'142'!$AG30","v":0}]
[null,null,null,null,null,null,null,null,null,null,null,null,null,null,{"$f":"'142'!$AG31","v":0}]
[null,null,null,null,null,null,null,null,null,null,null,null,null,null,{"$f":"'142'!$AG32","v":"za"}]
[null,null,null,null,null,null,null,null,null,null,null,null,null,null,{"$f":"'142'!$AG33","v":"zo"}]
[null,null,null,null,null,null,null,null,null,null,null,null,null,null,{"$f":"'142'!$AG34","v":0}]
[null,null,null,null,null,null,null,null,null,null,null,null,null,null,{"$f":"'142'!$AG35","v":0}]
[null,null,null,null,null,null,null,null,null,null,null,null,null,null,{"$f":"'142'!$AG36","v":0}]
[null,null,null,null,null,null,null,null,null,null,null,null,null,null,{"$f":"'142'!$AG37","v":0}]
[null,null,null,null,null,null,null,null,null,null,null,null,null,null,{"$f":"'142'!$AG38","v":0}]
[null,null,null,null,null,null,null,null,null,null,null,null,null,null,{"$f":"'142'!$AH9","v":"za"}]
[null,null,null,null,null,null,null,null,null,null,null,null,null,null,{"$f":"'142'!$AH10","v":"zo"}]
[null,null,null,null,null,null,null,null,null,null,null,null,null,null,{"$f":"'142'!$AH11","v":0}]
[null,null,null,null,null,null,null,null,null,null,null,null,null,null,{"$f":"'142'!$AH12","v":0}]
[null,null,null,null,null,null,null,null,null,null,null,null,null,null,{"$f":"'142'!$AH13","v":0}]
[null,null,null,null,null,null,null,null,null,null,null,null,null,null,{"$f":"'142'!$AH14","v":0}]
[null,null,null,null,null,null,null,null,null,null,null,null,null,null,{"$f":"'142'!$AH15","v":0}]
[null,null,null,null,null,null,null,null,null,null,null,null,null,null,{"$f":"'142'!$AH16","v":"za"}]
[null,null,null,null,null,null,null,null,null,null,null,null,null,null,{"$f":"'142'!$AH17","v":"zo"}]
[null,null,null,null,null,null,null,null,null,null,null,null,null,null,{"$f":"'142'!$AH18","v":0}]
[null,null,null,null,null,null,null,null,null,null,null,null,null,null,{"$f":"'142'!$AH19","v":0}]
[null,null,null,null,null,null,null,null,null,null,null,null,null,null,{"$f":"'142'!$AH20","v":0}]
[null,null,null,null,null,null,null,null,null,null,null,null,null,null,{"$f":"'142'!$AH21","v":0}]
[null,null,null,null,null,null,null,null,null,null,null,null,null,null,{"$f":"'142'!$AH22","v":0}]
[null,null,null,null,null,null,null,null,null,null,null,null,null,null,{"$f":"'142'!$AH23","v":"za"}]
[null,null,null,null,null,null,null,null,null,null,null,null,null,null,{"$f":"'142'!$AH24","v":"zo"}]
[null,null,null,null,null,null,null,null,null,null,null,null,null,null,{"$f":"'142'!$AH25","v":0}]
[null,null,null,null,null,null,null,null,null,null,null,null,null,null,{"$f":"'142'!$AH26","v":0}]
[null,null,null,null,null,null,null,null,null,null,null,null,null,null,{"$f":"'142'!$AH27","v":0}]
[null,null,null,null,null,null,null,null,null,null,null,null,null,null,{"$f":"'142'!$AH28","v":0}]
[null,null,null,null,null,null,null,null,null,null,null,null,null,null,{"$f":"'142'!$AH29","v":0}]
[null,null,null,null,null,null,null,null,null,null,null,null,null,null,{"$f":"'142'!$AH30","v":"za"}]
[null,null,null,null,null,null,null,null,null,null,null,null,null,null,{"$f":"'142'!$AH31","v":"zo"}]
[null,null,null,null,null,null,null,null,null,null,null,null,null,null,{"$f":"'142'!$AH32","v":0}]
[null,null,null,null,null,null,null,null,null,null,null,null,null,null,{"$f":"'142'!$AH33","v":0}]
[null,null,null,null,null,null,null,null,null,null,null,null,null,null,{"$f":"'142'!$AH34","v":"fd"}]
[null,null,null,null,null,null,null,null,null,null,null,null,null,null,{"$f":"'142'!$AH35","v":0}]
[null,null,null,null,null,null,null,null,null,null,null,null,null,null,{"$f":"'142'!$AH36","v":0}]
[null,null,null,null,null,null,null,null,null,null,null,null,null,null,{"$f":"'142'!$AH37","v":"za"}]
[null,null,null,null,null,null,null,null,null,null,null,null,null,null,{"$f":"'142'!$AH38","v":"zo"}]
[null,null,null,null,null,null,null,null,null,null,null,null,null,null,{"$f":"'142'!$AH39","v":0}]

{"sheet":"9","index":4,"n_rows":379,"n_cols":35,"rows_kept":379,"cut":false,"hidden":false,"merged":[[6,21,6,24],[6,25,6,28],[6,29,6,32],[6,33,6,34],[0,1,1,12],[4,21,4,23],[4,25,4,28],[4,29,4,32],[4,33,4,34],[5,21,5,23],[5,25,5,28],[5,29,5,32],[5,33,5,34],[2,21,2,23],[2,25,2,28],[2,29,2,32],[2,33,2,34],[3,21,3,23],[3,25,3,28],[3,29,3,32],[3,33,3,34],[0,21,0,24],[0,25,0,28],[0,29,0,32],[0,33,0,34],[1,21,1,23],[1,25,1,28],[1,29,1,32],[1,33,1,34]]}
["9","Vanesse Aurélien",null,null,null,null,null,null,null,null,null,null,null,null,null,null,null,null,null,null,null,"Soort",null,null,null,"Recht op",null,null,null,"Opgenomen",null,null,null,"Saldo"]
[null,null,null,null,null,null,null,null,null,null,null,null,null,null,null,null,null,null,null,null,null,"ADV-dagen",null,null,"adv",null,null,null,null,{"$f":"(COUNTIF(W$9:AH$39,\"ADV\")+(COUNTIF(W$9:AH$39,\"0,5ADV\"))/2)","v":0},null,null,null,{"$f":"Z2-AD2","v":0}]
[null,null,null,null,null,null,null,null,null,null,null,null,null,null,null,null,null,null,null,null,null,"Vakantie 2019",null,null,"v",null,null,null,null,{"$f":"(COUNTIF(W$9:AH$39,\"V\")+(COUNTIF(W$9:AH$39,\"0,5V\"))/2)","v":4},null,null,null,{"$f":"Z3-AD3","v":-4}]
["Opgelet avondwerk ! Van 00:00u tot 00:00u / + 0,00u premie 50%",null,null,null,null,null,null,null,null,null,null,null,null,"Feestdag in weekend 2019",null,null,null,null,"Recup 2018",20,null,"Feestdag 2019",null,null,"f",1,null,null,null,{"$f":"(COUNTIF(W$9:AH$39,\"F\")+(COUNTIF(W$9:AH$39,\"0,5F\"))/2)","v":0},null,null,null,1]
[null,null,null,null,null,null,null,null,null,null,null,null,null,"- nationale feestdag 21/7",null,null,null,null,null,null,null,"Vakantie rest 2018",null,null,"vvj",1,null,null,null,{"$f":"(COUNTIF(W$9:AH$39,\"vvj\")+(COUNTIF(W$9:AH$39,\"0,5vvj\"))/2)","v":1},null,null,null,0]
[null,null,null,null,null,null,null,null,null,null,null,null,null,null,null,null,null,null,"Recup",{"$f":"SUM(S9:S379)-SUM(R9:R379)+T5+T4","v":4.8000000000000007},null,"Anciënniteitsdagen",null,null,"a ",null,null,null,null,{"$f":"(COUNTIF(W$9:AH$39,\"A\")+(COUNTIF(W$9:AH$39,\"0,5A\"))/2)","v":0},null,null,null,0]
[null,null,null,null,null,null,null,null,null,null,null,null,null,null,null,null,null,null,null,null,null,"TOTAAL",null,null,null,{"$f":"SUM(Z2:AC6)","v":2},null,null,null,{"$f":"SUM(AD2:AG6)","v":5},null,null,null,{"$f":"SUM(AH2:AI6)","v":-3}]
["W","Dag","Datum","Van ","Tot",null,"Pauze","Prestaties","Recup","Andere","Type","Dag","OV DAG","Week","Prestaties","OV WEEK","OV DAG","Rec. -","Rec. +","OV 50%","M",null,"Jan","Feb","Maa","Apr","Mei","Jun","Jul","Aug","Sept","Okt","Nov","Dec"]
[{"$f":"WEEKNUM(C9,21)","v":1},{"$f":"C9","v":"2018-12-31"},"2018-12-31",null,null,{"$f":"(E9-D9)*24","v":0},{"$f":"IF(F9>=6,0.5,0)","v":0},{"$f":"F9-G9","v":0},null,7.6,"OK",{"$f":"SUM(H9:J9)","v":7.6},{"$f":"IF(L9>9,L9-9,\"\")","v":""},"Goedgekeurde Verlof 2018 reeds verwerkt OK!",null,null,null,null,null,null,0,1,{"$f":"K9","v":"OK"},{"$f":"K40","v":0},{"$f":"K68","v":0},{"$f":"K99","v":"zo"},{"$f":"K129","v":0},{"$f":"K160","v":0},{"$f":"K190","v":"zo"},{"$f":"K221","v":0},{"$f":"K252","v":"za"},{"$f":"K282","v":0},{"$f":"K313","v":0},{"$f":"K343","v":"za"},1]
[{"$f":"WEEKNUM(C10,21)","v":1},{"$f":"C10","v":"2019-01-01"},"2019-01-01",null,null,{"$f":"(E10-D10)*24","v":0},{"$f":"IF(F10>=6,0.5,0)","v":0},{"$f":"F10-G10","v":0},null,7.6,"fd",{"$f":"SUM(H10:J10)","v":7.6},"",null,null,null,null,null,null,null,0,2,{"$f":"K10","v":"fd"},{"$f":"K41","v":0},{"$f":"K69","v":0},{"$f":"K100","v":0},{"$f":"K130","v":"fd"},{"$f":"K161","v":"za"},{"$f":"K191","v":0},{"$f":"K222","v":0},{"$f":"K253","v":"zo"},{"$f":"K283","v":0},{"$f":"K314","v":"fd"},{"$f":"K344","v":"zo"},2]
[1,"2019-01-02","2019-01-02",null,null,0,0,0,null,null,null,0,"",null,null,null,null,null,null,null,null,3,0,"za","za",0,0,"zo",0,0,0,0,"za",0,3]
[1,"2019-01-03","2019-01-03",null,null,0,0,0,null,null,null,0,"",null,null,null,null,null,null,null,null,4,0,"zo","zo",0,0,0,0,"za",0,0,"zo",0,4]
[1,"2019-01-04","2019-01-04",null,null,0,0,0,null,null,null,0,"",null,null,null,null,null,null,null,null,5,0,"vvj",0,0,"za",0,0,"zo",0,0,0,{"$f":"K347","v":0},5]
[1,"2019-01-05","2019-01-05",null,null,0,null,0,null,null,"za",0,"","Week",null,"OV WEEK","OV DAG","Recup -","Recup +","OV 50%",null,6,"za","v",0,0,"zo",0,0,0,0,"za",0,0,6]
[1,"2019-01-06","2019-01-06",null,null,0,null,0,null,null,"zo",0,"",{"$f":"SUM(L9:L15)","v":15.2},{"$f":"SUM(H9:H15)","v":0},{"$f":"IF(N15>38,N15-38,0)","v":0},{"$f":"SUM(M9:M15)","v":0},{"$f":"SUM(I9:I15)","v":0},{"$f":"IF(N15>38,N15-38,0)","v":0},{"$f":"IF(P15>Q15,P15,Q15)","v":0},null,7,"zo","v",0,"za",0,0,"za",0,0,"zo",0,0,7]
[2,"2019-01-07","2019-01-07",null,null,0,0,0,null,null,null,0,"",null,null,null,null,null,null,null,null,8,0,"v",0,"zo",0,0,"zo",0,"za",0,0,"za",8]
[2,"2019-01-08","2019-01-08",null,null,0,0,0,null,null,null,0,"",null,null,null,null,null,null,null,null,9,0,"v",0,0,0,"za",0,0,"zo",0,0,"zo",9]
[2,"2019-01-09","2019-01-09",null,null,0,0,0,null,null,null,0,"",null,null,null,null,null,null,null,null,10,0,"za","za",0,0,"zo",0,0,0,0,"za",0,10]
[2,"2019-01-10","2019-01-10",null,null,0,0,0,7.6,null,"ro",7.6,"","ET 07/01: RO goedgekeurd CB",null,null,null,null,null,null,null,11,"ro","zo","zo",0,0,"fd",0,"za",0,0,"zo",0,11]
[2,"2019-01-11","2019-01-11",null,null,0,0,0,7.6,null,"ro",7.6,"",null,null,null,null,null,null,null,null,12,"ro",0,0,0,"za",0,0,"zo",0,0,"fd",0,12]
[2,"2019-01-12","2019-01-12",null,null,0,null,0,null,null,"za",0,"","Week",null,"OV WEEK","OV DAG","Recup -","Recup +","OV 50%",null,13,"za",0,0,0,"zo",0,0,0,0,"za",0,0,13]
[2,"2019-01-13","2019-01-13",null,null,0,null,0,null,null,"zo",0,"",{"$f":"SUM(L16:L22)","v":15.2},{"$f":"SUM(H16:H22)","v":0},{"$f":"IF(N22>38,N22-38,0)","v":0},{"$f":"SUM(M16:M22)","v":0},{"$f":"SUM(I16:I22)","v":15.2},{"$f":"IF(N22>38,N22-38,0)","v":0},{"$f":"IF(P22>Q22,P22,Q22)","v":0},null,14,"zo",0,0,"za",0,0,"za",0,0,"zo",0,0,14]
[3,"2019-01-14","2019-01-14",null,null,0,0,0,null,null,null,0,"",null,null,null,null,null,null,null,null,15,0,0,0,"zo",0,0,"zo",0,"za",0,0,"za",15]
[3,"2019-01-15","2019-01-15",null,null,0,0,0,null,null,null,0,"",null,null,null,null,null,null,null,null,16,0,0,0,0,0,"za",0,"fd","zo",0,0,"zo",16]
[3,"2019-01-16","2019-01-16",null,null,0,0,0,null,null,null,0,"",null,null,null,null,null,null,null,null,17,0,"za","za",0,0,"zo",0,0,0,0,"za",0,17]
[3,"2019-01-17","2019-01-17",null,null,0,0,0,null,null,null,0,"",null,null,null,null,null,null,null,null,18,0,"zo","zo",0,0,0,0,"za",0,0,"zo",0,18]
[3,"2019-01-18","2019-01-18",null,null,0,0,0,null,null,null,0,"",null,null,null,null,null,null,null,null,19,0,0,0,0,"za",0,0,"zo",0,0,0,0,19]
[3,"2019-01-19","2019-01-19",null,null,0,null,0,null,null,"za",0,"","Week",null,"OV WEEK","OV DAG","Recup -","Recup +","OV 50%",null,20,"za",0,0,0,"zo",0,0,0,0,"za",0,{"$f":"K362","v":0},20]
[3,"2019-01-20","2019-01-20",null,null,0,null,0,null,null,"zo",0,"",{"$f":"SUM(L23:L29)","v":0},{"$f":"SUM(H23:H29)","v":0},{"$f":"IF(N29>38,N29-38,0)","v":0},{"$f":"SUM(M23:M29)","v":0},{"$f":"SUM(I23:I29)","v":0},{"$f":"IF(N29>38,N29-38,0)","v":0},{"$f":"IF(P29>Q29,P29,Q29)","v":0},null,21,"zo",0,0,"za","fd",0,"za",0,0,"zo",0,0,21]
[4,"2019-01-21","2019-01-21",null,null,0,0,0,null,null,null,0,"",null,null,null,null,null,null,null,null,22,0,0,0,"zo",0,0,"zo",0,"za",0,0,"za",22]
[4,"2019-01-22","2019-01-22",null,null,0,0,0,null,null,null,0,"",null,null,null,null,null,null,null,null,23,0,0,0,"fd",0,"za",0,0,"zo",0,0,"zo",23]
[4,"2019-01-23","2019-01-23",null,null,0,0,0,null,null,null,0,"",null,null,null,null,null,null,null,null,24,0,"za","za",0,0,"zo",0,0,0,0,"za",0,24]
[4,"2019-01-24","2019-01-24",null,null,0,0,0,null,null,null,0,"",null,null,null,null,null,null,null,null,25,0,"zo","zo",0,0,0,0,"za",0,0,"zo",0,25]
[4,"2019-01-25","2019-01-25",null,null,0,0,0,null,null,null,0,"",null,null,null,null,null,null,null,null,26,0,0,0,0,"za",0,0,"zo",0,0,0,"fd",26]
[4,"2019-01-26","2019-01-26",null,null,0,null,0,null,null,"za",0,"","Week",null,"OV WEEK","OV DAG","Recup -","Recup +","OV 50%",null,27,"za",0,0,0,"zo",0,0,0,0,"za",0,0,27]
[4,"2019-01-27","2019-01-27",null,null,0,null,0,null,null,"zo",0,"",{"$f":"SUM(L30:L36)","v":0},{"$f":"SUM(H30:H36)","v":0},{"$f":"IF(N36>38,N36-38,0)","v":0},{"$f":"SUM(M30:M36)","v":0},{"$f":"SUM(I30:I36)","v":0},{"$f":"IF(N36>38,N36-38,0)","v":0},{"$f":"IF(P36>Q36,P36,Q36)","v":0},null,28,"zo",0,0,"za",0,0,"za",0,0,"zo",0,0,28]
[5,"2019-01-28","2019-01-28",null,null,0,0,0,null,null,null,0,"",null,null,null,null,null,null,null,null,29,0,null,0,"zo",0,0,"zo",0,"za",0,0,"za",29]
[5,"2019-01-29","2019-01-29",null,null,0,0,0,null,null,null,0,"",null,null,null,null,null,null,null,null,30,0,null,0,0,0,"za",0,0,"zo",0,0,"zo",30]
[5,"2019-01-30","2019-01-30",null,null,0,0,0,null,null,null,0,"",null,null,null,null,null,null,null,null,31,0,null,"za",null,"fd",null,0,0,null,0,null,0,31]
[5,"2019-01-31","2019-01-31",null,null,0,0,0,null,null,null,0,"",null,null,null,null,null,null,null,null,"WD",23,20,21,22,23,20,23,22,21,23,21,22,{"$f":"SUM(W40:AH40)","v":261}]
[5,"2019-02-01","2019-02-01",null,null,0,0,0,null,null,null,0,""]
[5,"2019-02-02","2019-02-02",null,null,0,null,0,null,null,"za",0,"","Week",null,"OV WEEK","OV DAG","Recup -","Recup +","OV 50%"]
[5,"2019-02-03","2019-02-03",null,null,0,null,0,null,null,"zo",0,"",{"$f":"SUM(L37:L43)","v":0},{"$f":"SUM(H37:H43)","v":0},{"$f":"IF(N43>38,N43-38,0)","v":0},{"$f":"SUM(M37:M43)","v":0},{"$f":"SUM(I37:I43)","v":0},{"$f":"IF(N43>38,N43-38,0)","v":0},{"$f":"IF(P43>Q43,P43,Q43)","v":0}]
[6,"2019-02-04","2019-02-04",null,null,0,0,0,null,7.6,"vvj",7.6,"","ET 27/11: Verlof goedgekeurd CB en AD / check vvj 2018"]
[6,"2019-02-05","2019-02-05",null,null,0,0,0,null,7.6,"v",7.6,""]
[6,"2019-02-06","2019-02-06",null,null,0,0,0,null,7.6,"v",7.6,""]
[6,"2019-02-07","2019-02-07",null,null,0,0,0,null,7.6,"v",7.6,""]
[6,"2019-02-08","2019-02-08",null,null,0,0,0,null,7.6,"v",7.6,""]
[6,"2019-02-09","2019-02-09",null,null,0,null,0,null,null,"za",0,"","Week",null,"OV WEEK","OV DAG","Recup -","Recup +","OV 50%"]
[6,"2019-02-10","2019-02-10",null,null,0,null,0,null,null,"zo",0,"",{"$f":"SUM(L44:L50)","v":38},{"$f":"SUM(H44:H50)","v":0},{"$f":"IF(N50>38,N50-38,0)","v":0},{"$f":"SUM(M44:M50)","v":0},{"$f":"SUM(I44:I50)","v":0},{"$f":"IF(N50>38,N50-38,0)","v":0},{"$f":"IF(P50>Q50,P50,Q50)","v":0}]
[7,"2019-02-11","2019-02-11",null,null,0,0,0,null,null,null,0,""]
[7,"2019-02-12","2019-02-12",null,null,0,0,0,null,null,null,0,""]
[7,"2019-02-13","2019-02-13",null,null,0,0,0,null,null,null,0,""]
[7,"2019-02-14","2019-02-14",null,null,0,0,0,null,null,null,0,""]
[7,"2019-02-15","2019-02-15",null,null,0,0,0,null,null,null,0,""]
[7,"2019-02-16","2019-02-16",null,null,0,null,0,null,null,"za",0,"","Week",null,"OV WEEK","OV DAG","Recup -","Recup +","OV 50%"]
[7,"2019-02-17","2019-02-17",null,null,0,null,0,null,null,"zo",0,"",{"$f":"SUM(L51:L57)","v":0},{"$f":"SUM(H51:H57)","v":0},{"$f":"IF(N57>38,N57-38,0)","v":0},{"$f":"SUM(M51:M57)","v":0},{"$f":"SUM(I51:I57)","v":0},{"$f":"IF(N57>38,N57-38,0)","v":0},{"$f":"IF(P57>Q57,P57,Q57)","v":0}]
[8,"2019-02-18","2019-02-18",null,null,0,0,0,null,null,null,0,""]
[8,"2019-02-19","2019-02-19",null,null,0,0,0,null,null,null,0,""]
[8,"2019-02-20","2019-02-20",null,null,0,0,0,null,null,null,0,""]
[8,"2019-02-21","2019-02-21",null,null,0,0,0,null,null,null,0,""]
[8,"2019-02-22","2019-02-22",null,null,0,0,0,null,null,null,0,""]
[8,"2019-02-23","2019-02-23",null,null,0,null,0,null,null,"za",0,"","Week",null,"OV WEEK","OV DAG","Recup -","Recup +","OV 50%"]
[8,"2019-02-24","2019-02-24",null,null,0,null,0,null,null,"zo",0,"",{"$f":"SUM(L58:L64)","v":0},{"$f":"SUM(H58:H64)","v":0},{"$f":"IF(N64>38,N64-38,0)","v":0},{"$f":"SUM(M58:M64)","v":0},{"$f":"SUM(I58:I64)","v":0},{"$f":"IF(N64>38,N64-38,0)","v":0},{"$f":"IF(P64>Q64,P64,Q64)","v":0}]
[9,"2019-02-25","2019-02-25",null,null,0,0,0,null,null,null,0,""]
[9,"2019-02-26","2019-02-26",null,null,0,0,0,null,null,null,0,""]
[9,"2019-02-27","2019-02-27",null,null,0,0,0,null,null,null,0,""]
[9,"2019-02-28","2019-02-28",null,null,0,0,0,null,null,null,0,""]
[9,"2019-03-01","2019-03-01",null,null,0,0,0,null,null,null,0,""]
[9,"2019-03-02","2019-03-02",null,null,0,null,0,null,null,"za",0,"","Week",null,"OV WEEK","OV DAG","Recup -","Recup +","OV 50%"]
[9,"2019-03-03","2019-03-03",null,null,0,null,0,null,null,"zo",0,"",{"$f":"SUM(L65:L71)","v":0},{"$f":"SUM(H65:H71)","v":0},{"$f":"IF(N71>38,N71-38,0)","v":0},{"$f":"SUM(M65:M71)","v":0},{"$f":"SUM(I65:I71)","v":0},{"$f":"IF(N71>38,N71-38,0)","v":0},{"$f":"IF(P71>Q71,P71,Q71)","v":0}]
[10,"2019-03-04","2019-03-04",null,null,0,0,0,null,null,null,0,""]
[10,"2019-03-05","2019-03-05",null,null,0,0,0,null,null,null,0,{"$f":"IF(L73>9,L73-9,\"\")","v":""}]
[{"$f":"WEEKNUM(C74,21)","v":10},{"$f":"C74","v":"2019-03-06"},"2019-03-06",null,null,{"$f":"(E74-D74)*24","v":0},{"$f":"IF(F74>=6,0.5,0)","v":0},{"$f":"F74-G74","v":0},null,null,null,{"$f":"SUM(H74:J74)","v":0},""]
[10,"2019-03-07","2019-03-07",null,null,0,0,0,null,null,null,0,""]
[10,"2019-03-08","2019-03-08",null,null,0,0,0,null,null,null,0,""]
[10,"2019-03-09","2019-03-09",null,null,0,null,0,null,null,"za",0,"","Week",null,"OV WEEK","OV DAG","Recup -","Recup +","OV 50%"]
[10,"2019-03-10","2019-03-10",null,null,0,null,0,null,null,"zo",0,"",{"$f":"SUM(L72:L78)","v":0},{"$f":"SUM(H72:H78)","v":0},{"$f":"IF(N78>38,N78-38,0)","v":0},{"$f":"SUM(M72:M78)","v":0},{"$f":"SUM(I72:I78)","v":0},{"$f":"IF(N78>38,N78-38,0)","v":0},{"$f":"IF(P78>Q78,P78,Q78)","v":0}]
[11,"2019-03-11","2019-03-11",null,null,0,0,0,null,null,null,0,""]
[11,"2019-03-12","2019-03-12",null,null,0,0,0,null,null,null,0,""]
[11,"2019-03-13","2019-03-13",null,null,0,0,0,null,null,null,0,""]
[11,"2019-03-14","2019-03-14",null,null,0,0,0,null,null,null,0,""]
[11,"2019-03-15","2019-03-15",null,null,0,0,0,null,null,null,0,""]
[11,"2019-03-16","2019-03-16",null,null,0,null,0,null,null,"za",0,"","Week",null,"OV WEEK","OV DAG","Recup -","Recup +","OV 50%"]
[11,"2019-03-17","2019-03-17",null,null,0,null,0,null,null,"zo",0,"",{"$f":"SUM(L79:L85)","v":0},{"$f":"SUM(H79:H85)","v":0},{"$f":"IF(N85>38,N85-38,0)","v":0},{"$f":"SUM(M79:M85)","v":0},{"$f":"SUM(I79:I85)","v":0},{"$f":"IF(N85>38,N85-38,0)","v":0},{"$f":"IF(P85>Q85,P85,Q85)","v":0}]
[12,"2019-03-18","2019-03-18",null,null,0,0,0,null,null,null,0,""]
[12,"2019-03-19","2019-03-19",null,null,0,0,0,null,null,null,0,""]
[12,"2019-03-20","2019-03-20",null,null,0,0,0,null,null,null,0,""]
[12,"2019-03-21","2019-03-21",null,null,0,0,0,null,null,null,0,""]
[12,"2019-03-22","2019-03-22",null,null,0,0,0,null,null,null,0,""]
[12,"2019-03-23","2019-03-23",null,null,0,null,0,null,null,"za",0,"","Week",null,"OV WEEK","OV DAG","Recup -","Recup +","OV 50%"]
[12,"2019-03-24","2019-03-24",null,null,0,null,0,null,null,"zo",0,"",{"$f":"SUM(L86:L92)","v":0},{"$f":"SUM(H86:H92)","v":0},{"$f":"IF(N92>38,N92-38,0)","v":0},{"$f":"SUM(M86:M92)","v":0},{"$f":"SUM(I86:I92)","v":0},{"$f":"IF(N92>38,N92-38,0)","v":0},{"$f":"IF(P92>Q92,P92,Q92)","v":0}]
[13,"2019-03-25","2019-03-25",null,null,0,0,0,null,null,null,0,""]
[13,"2019-03-26","2019-03-26",null,null,0,0,0,null,null,null,0,""]
[13,"2019-03-27","2019-03-27",null,null,0,0,0,null,null,null,0,""]
[13,"2019-03-28","2019-03-28",null,null,0,0,0,null,null,null,0,""]
[13,"2019-03-29","2019-03-29",null,null,0,0,0,null,null,null,0,""]
[13,"2019-03-30","2019-03-30",null,null,0,null,0,null,null,"za",0,"","Week",null,"OV WEEK","OV DAG","Recup -","Recup +","OV 50%"]
[13,"2019-03-31","2019-03-31",null,null,0,null,0,null,null,"zo",0,"",{"$f":"SUM(L93:L99)","v":0},{"$f":"SUM(H93:H99)","v":0},{"$f":"IF(N99>38,N99-38,0)","v":0},{"$f":"SUM(M93:M99)","v":0},{"$f":"SUM(I93:I99)","v":0},{"$f":"IF(N99>38,N99-38,0)","v":0},{"$f":"IF(P99>Q99,P99,Q99)","v":0}]
[14,"2019-04-01","2019-04-01",null,null,0,0,0,null,null,null,0,""]
[14,"2019-04-02","2019-04-02",null,null,0,0,0,null,null,null,0,""]
[14,"2019-04-03","2019-04-03",null,null,0,0,0,null,null,null,0,""]
[14,"2019-04-04","2019-04-04",null,null,0,0,0,null,null,null,0,""]
[14,"2019-04-05","2019-04-05",null,null,0,0,0,null,null,null,0,""]
[14,"2019-04-06","2019-04-06",null,null,0,null,0,null,null,"za",0,"","Week",null,"OV WEEK","OV DAG","Recup -","Recup +","OV 50%"]
[14,"2019-04-07","2019-04-07",null,null,0,null,0,null,null,"zo",0,"",{"$f":"SUM(L100:L106)","v":0},{"$f":"SUM(H100:H106)","v":0},{"$f":"IF(N106>38,N106-38,0)","v":0},{"$f":"SUM(M100:M106)","v":0},{"$f":"SUM(I100:I106)","v":0},{"$f":"IF(N106>38,N106-38,0)","v":0},{"$f":"IF(P106>Q106,P106,Q106)","v":0}]
[15,"2019-04-08","2019-04-08",null,null,0,0,0,null,null,null,0,""]
[15,"2019-04-09","2019-04-09",null,null,0,0,0,null,null,null,0,""]
[15,"2019-04-10","2019-04-10",null,null,0,0,0,null,null,null,0,""]
[15,"2019-04-11","2019-04-11",null,null,0,0,0,null,null,null,0,""]
[15,"2019-04-12","2019-04-12",null,null,0,0,0,null,null,null,0,""]
[15,"2019-04-13","2019-04-13",null,null,0,null,0,null,null,"za",0,"","Week",null,"OV WEEK","OV DAG","Recup -","Recup +","OV 50%"]
[15,"2019-04-14","2019-04-14",null,null,0,null,0,null,null,"zo",0,"",{"$f":"SUM(L107:L113)","v":0},{"$f":"SUM(H107:H113)","v":0},{"$f":"IF(N113>38,N113-38,0)","v":0},{"$f":"SUM(M107:M113)","v":0},{"$f":"SUM(I107:I113)","v":0},{"$f":"IF(N113>38,N113-38,0)","v":0},{"$f":"IF(P113>Q113,P113,Q113)","v":0}]
[16,"2019-04-15","2019-04-15",null,null,0,0,0,null,null,null,0,""]
[16,"2019-04-16","2019-04-16",null,null,0,0,0,null,null,null,0,""]
[16,"2019-04-17","2019-04-17",null,null,0,0,0,null,null,null,0,""]
[16,"2019-04-18","2019-04-18",null,null,0,0,0,null,null,null,0,""]
[16,"2019-04-19","2019-04-19",null,null,0,0,0,null,null,null,0,""]
[16,"2019-04-20","2019-04-20",null,null,0,null,0,null,null,"za",0,"","Week",null,"OV WEEK","OV DAG","Recup -","Recup +","OV 50%"]
[16,"2019-04-21","2019-04-21",null,null,0,null,0,null,null,"zo",0,"",{"$f":"SUM(L114:L120)","v":0},{"$f":"SUM(H114:H120)","v":0},{"$f":"IF(N120>38,N120-38,0)","v":0},{"$f":"SUM(M114:M120)","v":0},{"$f":"SUM(I114:I120)","v":0},{"$f":"IF(N120>38,N120-38,0)","v":0},{"$f":"IF(P120>Q120,P120,Q120)","v":0}]
[17,"2019-04-22","2019-04-22",null,null,0,0,0,null,7.6,"fd",7.6,""]
[17,"2019-04-23","2019-04-23",null,null,0,0,0,null,null,null,0,""]
[17,"2019-04-24","2019-04-24",null,null,0,0,0,null,null,null,0,""]
[17,"2019-04-25","2019-04-25",null,null,0,0,0,null,null,null,0,""]
[17,"2019-04-26","2019-04-26",null,null,0,0,0,null,null,null,0,""]
[17,"2019-04-27","2019-04-27",null,null,0,null,0,null,null,"za",0,"","Week",null,"OV WEEK","OV DAG","Recup -","Recup +","OV 50%"]
[17,"2019-04-28","2019-04-28",null,null,0,null,0,null,null,"zo",0,"",{"$f":"SUM(L121:L127)","v":7.6},{"$f":"SUM(H121:H127)","v":0},{"$f":"IF(N127>38,N127-38,0)","v":0},{"$f":"SUM(M121:M127)","v":0},{"$f":"SUM(I121:I127)","v":0},{"$f":"IF(N127>38,N127-38,0)","v":0},{"$f":"IF(P127>Q127,P127,Q127)","v":0}]
[18,"2019-04-29","2019-04-29",null,null,0,0,0,null,null,null,0,""]
[18,"2019-04-30","2019-04-30",null,null,0,0,0,null,null,null,0,""]
[18,"2019-05-01","2019-05-01",null,null,0,0,0,null,7.6,"fd",7.6,""]
[18,"2019-05-02","2019-05-02",null,null,0,0,0,null,null,null,0,""]
[18,"2019-05-03","2019-05-03",null,null,0,0,0,null,null,null,0,""]
[18,"2019-05-04","2019-05-04",null,null,0,null,0,null,null,"za",0,"","Week",null,"OV WEEK","OV DAG","Recup -","Recup +","OV 50%"]
[18,"2019-05-05","2019-05-05",null,null,0,null,0,null,null,"zo",0,"",{"$f":"SUM(L128:L134)","v":7.6},{"$f":"SUM(H128:H134)","v":0},{"$f":"IF(N134>38,N134-38,0)","v":0},{"$f":"SUM(M128:M134)","v":0},{"$f":"SUM(I128:I134)","v":0},{"$f":"IF(N134>38,N134-38,0)","v":0},{"$f":"IF(P134>Q134,P134,Q134)","v":0}]
[19,"2019-05-06","2019-05-06",null,null,0,0,0,null,null,null,0,""]
[19,"2019-05-07","2019-05-07",null,null,0,0,0,null,null,null,0,""]
[19,"2019-05-08","2019-05-08",null,null,0,0,0,null,null,null,0,{"$f":"IF(L137>9,L137-9,\"\")","v":""}]
[{"$f":"WEEKNUM(C138,21)","v":19},{"$f":"C138","v":"2019-05-09"},"2019-05-09",null,null,{"$f":"(E138-D138)*24","v":0},{"$f":"IF(F138>=6,0.5,0)","v":0},{"$f":"F138-G138","v":0},null,null,null,{"$f":"SUM(H138:J138)","v":0},""]
[19,"2019-05-10","2019-05-10",null,null,0,0,0,null,null,null,0,""]
[19,"2019-05-11","2019-05-11",null,null,0,null,0,null,null,"za",0,"","Week",null,"OV WEEK","OV DAG","Recup -","Recup +","OV 50%"]
[19,"2019-05-12","2019-05-12",null,null,0,null,0,null,null,"zo",0,"",{"$f":"SUM(L135:L141)","v":0},{"$f":"SUM(H135:H141)","v":0},{"$f":"IF(N141>38,N141-38,0)","v":0},{"$f":"SUM(M135:M141)","v":0},{"$f":"SUM(I135:I141)","v":0},{"$f":"IF(N141>38,N141-38,0)","v":0},{"$f":"IF(P141>Q141,P141,Q141)","v":0}]
[20,"2019-05-13","2019-05-13",null,null,0,0,0,null,null,null,0,""]
[20,"2019-05-14","2019-05-14",null,null,0,0,0,null,null,null,0,""]
[20,"2019-05-15","2019-05-15",null,null,0,0,0,null,null,null,0,""]
[20,"2019-05-16","2019-05-16",null,null,0,0,0,null,null,null,0,""]
[20,"2019-05-17","2019-05-17",null,null,0,0,0,null,null,null,0,""]
[20,"2019-05-18","2019-05-18",null,null,0,null,0,null,null,"za",0,"","Week",null,"OV WEEK","OV DAG","Recup -","Recup +","OV 50%"]
[20,"2019-05-19","2019-05-19",null,null,0,null,0,null,null,"zo",0,"",{"$f":"SUM(L142:L148)","v":0},{"$f":"SUM(H142:H148)","v":0},{"$f":"IF(N148>38,N148-38,0)","v":0},{"$f":"SUM(M142:M148)","v":0},{"$f":"SUM(I142:I148)","v":0},{"$f":"IF(N148>38,N148-38,0)","v":0},{"$f":"IF(P148>Q148,P148,Q148)","v":0}]
[21,"2019-05-20","2019-05-20",null,null,0,0,0,null,7.6,"fd",7.6,""]
[21,"2019-05-21","2019-05-21",null,null,0,0,0,null,null,null,0,""]
[21,"2019-05-22","2019-05-22",null,null,0,0,0,null,null,null,0,""]
[21,"2019-05-23","2019-05-23",null,null,0,0,0,null,null,null,0,""]
[21,"2019-05-24","2019-05-24",null,null,0,0,0,null,null,null,0,""]
[21,"2019-05-25","2019-05-25",null,null,0,null,0,null,null,"za",0,"","Week",null,"OV WEEK","OV DAG","Recup -","Recup +","OV 50%"]
[21,"2019-05-26","2019-05-26",null,null,0,null,0,null,null,"zo",0,"",{"$f":"SUM(L149:L155)","v":7.6},{"$f":"SUM(H149:H155)","v":0},{"$f":"IF(N155>38,N155-38,0)","v":0},{"$f":"SUM(M149:M155)","v":0},{"$f":"SUM(I149:I155)","v":0},{"$f":"IF(N155>38,N155-38,0)","v":0},{"$f":"IF(P155>Q155,P155,Q155)","v":0}]
[22,"2019-05-27","2019-05-27",null,null,0,0,0,null,null,null,0,""]
[22,"2019-05-28","2019-05-28",null,null,0,0,0,null,null,null,0,""]
[22,"2019-05-29","2019-05-29",null,null,0,0,0,null,null,null,0,""]
[22,"2019-05-30","2019-05-30",null,null,0,0,0,null,7.6,"fd",7.6,""]
[22,"2019-05-31","2019-05-31",null,null,0,0,0,null,null,null,0,""]
[22,"2019-06-01","2019-06-01",null,null,0,null,0,null,null,"za",0,"","Week",null,"OV WEEK","OV DAG","Recup -","Recup +","OV 50%"]
[22,"2019-06-02","2019-06-02",null,null,0,null,0,null,null,"zo",0,"",{"$f":"SUM(L156:L162)","v":7.6},{"$f":"SUM(H156:H162)","v":0},{"$f":"IF(N162>38,N162-38,0)","v":0},{"$f":"SUM(M156:M162)","v":0},{"$f":"SUM(I156:I162)","v":0},{"$f":"IF(N162>38,N162-38,0)","v":0},{"$f":"IF(P162>Q162,P162,Q162)","v":0}]
[23,"2019-06-03","2019-06-03",null,null,0,0,0,null,null,null,0,""]
[23,"2019-06-04","2019-06-04",null,null,0,0,0,null,null,null,0,""]
[23,"2019-06-05","2019-06-05",null,null,0,0,0,null,null,null,0,""]
[23,"2019-06-06","2019-06-06",null,null,0,0,0,null,null,null,0,""]
[23,"2019-06-07","2019-06-07",null,null,0,0,0,null,null,null,0,""]
[23,"2019-06-08","2019-06-08",null,null,0,null,0,null,null,"za",0,"","Week",null,"OV WEEK","OV DAG","Recup -","Recup +","OV 50%"]
[23,"2019-06-09","2019-06-09",null,null,0,null,0,null,null,"zo",0,"",{"$f":"SUM(L163:L169)","v":0},{"$f":"SUM(H163:H169)","v":0},{"$f":"IF(N169>38,N169-38,0)","v":0},{"$f":"SUM(M163:M169)","v":0},{"$f":"SUM(I163:I169)","v":0},{"$f":"IF(N169>38,N169-38,0)","v":0},{"$f":"IF(P169>Q169,P169,Q169)","v":0}]
[24,"2019-06-10","2019-06-10",null,null,0,0,0,null,7.6,"fd",7.6,""]
[24,"2019-06-11","2019-06-11",null,null,0,0,0,null,null,null,0,""]
[24,"2019-06-12","2019-06-12",null,null,0,0,0,null,null,null,0,""]
[24,"2019-06-13","2019-06-13",null,null,0,0,0,null,null,null,0,""]
[24,"2019-06-14","2019-06-14",null,null,0,0,0,null,null,null,0,""]
[24,"2019-06-15","2019-06-15",null,null,0,null,0,null,null,"za",0,"","Week",null,"OV WEEK","OV DAG","Recup -","Recup +","OV 50%"]
[24,"2019-06-16","2019-06-16",null,null,0,null,0,null,null,"zo",0,"",{"$f":"SUM(L170:L176)","v":7.6},{"$f":"SUM(H170:H176)","v":0},{"$f":"IF(N176>38,N176-38,0)","v":0},{"$f":"SUM(M170:M176)","v":0},{"$f":"SUM(I170:I176)","v":0},{"$f":"IF(N176>38,N176-38,0)","v":0},{"$f":"IF(P176>Q176,P176,Q176)","v":0}]
[25,"2019-06-17","2019-06-17",null,null,0,0,0,null,null,null,0,""]
[25,"2019-06-18","2019-06-18",null,null,0,0,0,null,null,null,0,""]
[25,"2019-06-19","2019-06-19",null,null,0,0,0,null,null,null,0,""]
[25,"2019-06-20","2019-06-20",null,null,0,0,0,null,null,null,0,""]
[25,"2019-06-21","2019-06-21",null,null,0,0,0,null,null,null,0,""]
[25,"2019-06-22","2019-06-22",null,null,0,null,0,null,null,"za",0,"","Week",null,"OV WEEK","OV DAG","Recup -","Recup +","OV 50%"]
[25,"2019-06-23","2019-06-23",null,null,0,null,0,null,null,"zo",0,"",{"$f":"SUM(L177:L183)","v":0},{"$f":"SUM(H177:H183)","v":0},{"$f":"IF(N183>38,N183-38,0)","v":0},{"$f":"SUM(M177:M183)","v":0},{"$f":"SUM(I177:I183)","v":0},{"$f":"IF(N183>38,N183-38,0)","v":0},{"$f":"IF(P183>Q183,P183,Q183)","v":0}]
[26,"2019-06-24","2019-06-24",null,null,0,0,0,null,null,null,0,""]
[26,"2019-06-25","2019-06-25",null,null,0,0,0,null,null,null,0,""]
[26,"2019-06-26","2019-06-26",null,null,0,0,0,null,null,null,0,""]
[26,"2019-06-27","2019-06-27",null,null,0,0,0,null,null,null,0,""]
[26,"2019-06-28","2019-06-28",null,null,0,0,0,null,null,null,0,""]
[26,"2019-06-29","2019-06-29",null,null,0,null,0,null,null,"za",0,"","Week",null,"OV WEEK","OV DAG","Recup -","Recup +","OV 50%"]
[26,"2019-06-30","2019-06-30",null,null,0,null,0,null,null,"zo",0,"",{"$f":"SUM(L184:L190)","v":0},{"$f":"SUM(H184:H190)","v":0},{"$f":"IF(N190>38,N190-38,0)","v":0},{"$f":"SUM(M184:M190)","v":0},{"$f":"SUM(I184:I190)","v":0},{"$f":"IF(N190>38,N190-38,0)","v":0},{"$f":"IF(P190>Q190,P190,Q190)","v":0}]
[27,"2019-07-01","2019-07-01",null,null,0,0,0,null,null,null,0,""]
[27,"2019-07-02","2019-07-02",null,null,0,0,0,null,null,null,0,""]
[27,"2019-07-03","2019-07-03",null,null,0,0,0,null,null,null,0,""]
[27,"2019-07-04","2019-07-04",null,null,0,0,0,null,null,null,0,""]
[27,"2019-07-05","2019-07-05",null,null,0,0,0,null,null,null,0,""]
[27,"2019-07-06","2019-07-06",null,null,0,null,0,null,null,"za",0,"","Week",null,"OV WEEK","OV DAG","Recup -","Recup +","OV 50%"]
[27,"2019-07-07","2019-07-07",null,null,0,null,0,null,null,"zo",0,"",{"$f":"SUM(L191:L197)","v":0},{"$f":"SUM(H191:H197)","v":0},{"$f":"IF(N197>38,N197-38,0)","v":0},{"$f":"SUM(M191:M197)","v":0},{"$f":"SUM(I191:I197)","v":0},{"$f":"IF(N197>38,N197-38,0)","v":0},{"$f":"IF(P197>Q197,P197,Q197)","v":0}]
[28,"2019-07-08","2019-07-08",null,null,0,0,0,null,null,null,0,""]
[28,"2019-07-09","2019-07-09",null,null,0,0,0,null,null,null,0,""]
[28,"2019-07-10","2019-07-10",null,null,0,0,0,null,null,null,0,""]
[28,"2019-07-11","2019-07-11",null,null,0,0,0,null,null,null,0,{"$f":"IF(L201>9,L201-9,\"\")","v":""}]
[{"$f":"WEEKNUM(C202,21)","v":28},{"$f":"C202","v":"2019-07-12"},"2019-07-12",null,null,{"$f":"(E202-D202)*24","v":0},{"$f":"IF(F202>=6,0.5,0)","v":0},{"$f":"F202-G202","v":0},null,null,null,{"$f":"SUM(H202:J202)","v":0},""]
[28,"2019-07-13","2019-07-13",null,null,0,null,0,null,null,"za",0,"","Week",null,"OV WEEK","OV DAG","Recup -","Recup +","OV 50%"]
[28,"2019-07-14","2019-07-14",null,null,0,null,0,null,null,"zo",0,"",{"$f":"SUM(L198:L204)","v":0},{"$f":"SUM(H198:H204)","v":0},{"$f":"IF(N204>38,N204-38,0)","v":0},{"$f":"SUM(M198:M204)","v":0},{"$f":"SUM(I198:I204)","v":0},{"$f":"IF(N204>38,N204-38,0)","v":0},{"$f":"IF(P204>Q204,P204,Q204)","v":0}]
[29,"2019-07-15","2019-07-15",null,null,0,0,0,null,null,null,0,""]
[29,"2019-07-16","2019-07-16",null,null,0,0,0,null,null,null,0,""]
[29,"2019-07-17","2019-07-17",null,null,0,0,0,null,null,null,0,""]
[29,"2019-07-18","2019-07-18",null,null,0,0,0,null,null,null,0,""]
[29,"2019-07-19","2019-07-19",null,null,0,0,0,null,null,null,0,""]
[29,"2019-07-20","2019-07-20",null,null,0,null,0,null,null,"za",0,"","Week",null,"OV WEEK","OV DAG","Recup -","Recup +","OV 50%"]
[29,"2019-07-21","2019-07-21",null,null,0,null,0,null,null,"zo",0,"",{"$f":"SUM(L205:L211)","v":0},{"$f":"SUM(H205:H211)","v":0},{"$f":"IF(N211>38,N211-38,0)","v":0},{"$f":"SUM(M205:M211)","v":0},{"$f":"SUM(I205:I211)","v":0},{"$f":"IF(N211>38,N211-38,0)","v":0},{"$f":"IF(P211>Q211,P211,Q211)","v":0}]
[30,"2019-07-22","2019-07-22",null,null,0,0,0,null,null,null,0,""]
[30,"2019-07-23","2019-07-23",null,null,0,0,0,null,null,null,0,""]
[30,"2019-07-24","2019-07-24",null,null,0,0,0,null,null,null,0,""]
[30,"2019-07-25","2019-07-25",null,null,0,0,0,null,null,null,0,""]
[30,"2019-07-26","2019-07-26",null,null,0,0,0,null,null,null,0,""]
[30,"2019-07-27","2019-07-27",null,null,0,null,0,null,null,"za",0,"","Week",null,"OV WEEK","OV DAG","Recup -","Recup +","OV 50%"]
[30,"2019-07-28","2019-07-28",null,null,0,null,0,null,null,"zo",0,"",{"$f":"SUM(L212:L218)","v":0},{"$f":"SUM(H212:H218)","v":0},{"$f":"IF(N218>38,N218-38,0)","v":0},{"$f":"SUM(M212:M218)","v":0},{"$f":"SUM(I212:I218)","v":0},{"$f":"IF(N218>38,N218-38,0)","v":0},{"$f":"IF(P218>Q218,P218,Q218)","v":0}]
[31,"2019-07-29","2019-07-29",null,null,0,0,0,null,null,null,0,""]
[31,"2019-07-30","2019-07-30",null,null,0,0,0,null,null,null,0,""]
[31,"2019-07-31","2019-07-31",null,null,0,0,0,null,null,null,0,""]
[31,"2019-08-01","2019-08-01",null,null,0,0,0,null,null,null,0,""]
[31,"2019-08-02","2019-08-02",null,null,0,0,0,null,null,null,0,""]
[31,"2019-08-03","2019-08-03",null,null,0,null,0,null,null,"za",0,"","Week",null,"OV WEEK","OV DAG","Recup -","Recup +","OV 50%"]
[31,"2019-08-04","2019-08-04",null,null,0,null,0,null,null,"zo",0,"",{"$f":"SUM(L219:L225)","v":0},{"$f":"SUM(H219:H225)","v":0},{"$f":"IF(N225>38,N225-38,0)","v":0},{"$f":"SUM(M219:M225)","v":0},{"$f":"SUM(I219:I225)","v":0},{"$f":"IF(N225>38,N225-38,0)","v":0},{"$f":"IF(P225>Q225,P225,Q225)","v":0}]
[32,"2019-08-05","2019-08-05",null,null,0,0,0,null,null,null,0,""]
[32,"2019-08-06","2019-08-06",null,null,0,0,0,null,null,null,0,""]
[32,"2019-08-07","2019-08-07",null,null,0,0,0,null,null,null,0,""]
[32,"2019-08-08","2019-08-08",null,null,0,0,0,null,null,null,0,""]
[32,"2019-08-09","2019-08-09",null,null,0,0,0,null,null,null,0,""]
[32,"2019-08-10","2019-08-10",null,null,0,null,0,null,null,"za",0,"","Week",null,"OV WEEK","OV DAG","Recup -","Recup +","OV 50%"]
[32,"2019-08-11","2019-08-11",null,null,0,null,0,null,null,"zo",0,"",{"$f":"SUM(L226:L232)","v":0},{"$f":"SUM(H226:H232)","v":0},{"$f":"IF(N232>38,N232-38,0)","v":0},{"$f":"SUM(M226:M232)","v":0},{"$f":"SUM(I226:I232)","v":0},{"$f":"IF(N232>38,N232-38,0)","v":0},{"$f":"IF(P232>Q232,P232,Q232)","v":0}]
[33,"2019-08-12","2019-08-12",null,null,0,0,0,null,null,null,0,""]
[33,"2019-08-13","2019-08-13",null,null,0,0,0,null,null,null,0,""]
[33,"2019-08-14","2019-08-14",null,null,0,0,0,null,null,null,0,""]
[33,"2019-08-15","2019-08-15",null,null,0,0,0,null,7.6,"fd",7.6,""]
[33,"2019-08-16","2019-08-16",null,null,0,0,0,null,null,null,0,""]
[33,"2019-08-17","2019-08-17",null,null,0,null,0,null,null,"za",0,"","Week",null,"OV WEEK","OV DAG","Recup -","Recup +","OV 50%"]
[33,"2019-08-18","2019-08-18",null,null,0,null,0,null,null,"zo",0,"",{"$f":"SUM(L233:L239)","v":7.6},{"$f":"SUM(H233:H239)","v":0},{"$f":"IF(N239>38,N239-38,0)","v":0},{"$f":"SUM(M233:M239)","v":0},{"$f":"SUM(I233:I239)","v":0},{"$f":"IF(N239>38,N239-38,0)","v":0},{"$f":"IF(P239>Q239,P239,Q239)","v":0}]
[34,"2019-08-19","2019-08-19",null,null,0,0,0,null,null,null,0,""]
[34,"2019-08-20","2019-08-20",null,null,0,{"$f":"IF(F241>=6,0.5,0)","v":0},0,null,null,null,0,""]
[34,"2019-08-21","2019-08-21",null,null,0,0,0,null,null,null,0,""]
[34,"2019-08-22","2019-08-22",null,null,0,0,0,null,null,null,0,""]
[34,"2019-08-23","2019-08-23",null,null,0,0,0,null,null,null,0,""]
[34,"2019-08-24","2019-08-24",null,null,0,null,0,null,null,"za",0,"","Week",null,"OV WEEK","OV DAG","Recup -","Recup +","OV 50%"]
[34,"2019-08-25","2019-08-25",null,null,0,null,0,null,null,"zo",0,"",{"$f":"SUM(L240:L246)","v":0},{"$f":"SUM(H240:H246)","v":0},{"$f":"IF(N246>38,N246-38,0)","v":0},{"$f":"SUM(M240:M246)","v":0},{"$f":"SUM(I240:I246)","v":0},{"$f":"IF(N246>38,N246-38,0)","v":0},{"$f":"IF(P246>Q246,P246,Q246)","v":0}]
[35,"2019-08-26","2019-08-26",null,null,0,0,0,null,null,null,0,""]
[35,"2019-08-27","2019-08-27",null,null,0,0,0,null,null,null,0,""]
[35,"2019-08-28","2019-08-28",null,null,0,0,0,null,null,null,0,""]
[35,"2019-08-29","2019-08-29",null,null,0,0,0,null,null,null,0,""]
[35,"2019-08-30","2019-08-30",null,null,0,0,0,null,null,null,0,""]
[35,"2019-08-31","2019-08-31",null,null,0,null,0,null,null,"za",0,"","Week",null,"OV WEEK","OV DAG","Recup -","Recup +","OV 50%"]
[35,"2019-09-01","2019-09-01",null,null,0,null,0,null,null,"zo",0,"",{"$f":"SUM(L247:L253)","v":0},{"$f":"SUM(H247:H253)","v":0},{"$f":"IF(N253>38,N253-38,0)","v":0},{"$f":"SUM(M247:M253)","v":0},{"$f":"SUM(I247:I253)","v":0},{"$f":"IF(N253>38,N253-38,0)","v":0},{"$f":"IF(P253>Q253,P253,Q253)","v":0}]
[36,"2019-09-02","2019-09-02",null,null,0,0,0,null,null,null,0,""]
[36,"2019-09-03","2019-09-03",null,null,0,0,0,null,null,null,0,""]
[36,"2019-09-04","2019-09-04",null,null,0,0,0,null,null,null,0,""]
[36,"2019-09-05","2019-09-05",null,null,0,0,0,null,null,null,0,""]
[36,"2019-09-06","2019-09-06",null,null,0,0,0,null,null,null,0,""]
[36,"2019-09-07","2019-09-07",null,null,0,null,0,null,null,"za",0,"","Week",null,"OV WEEK","OV DAG","Recup -","Recup +","OV 50%"]
[36,"2019-09-08","2019-09-08",null,null,0,null,0,null,null,"zo",0,"",{"$f":"SUM(L254:L260)","v":0},{"$f":"SUM(H254:H260)","v":0},{"$f":"IF(N260>38,N260-38,0)","v":0},{"$f":"SUM(M254:M260)","v":0},{"$f":"SUM(I254:I260)","v":0},{"$f":"IF(N260>38,N260-38,0)","v":0},{"$f":"IF(P260>Q260,P260,Q260)","v":0}]
[37,"2019-09-09","2019-09-09",null,null,0,0,0,null,null,null,0,""]
[37,"2019-09-10","2019-09-10",null,null,0,0,0,null,null,null,0,""]
[37,"2019-09-11","2019-09-11",null,null,0,0,0,null,null,null,0,""]
[37,"2019-09-12","2019-09-12",null,null,0,0,0,null,null,null,0,""]
[37,"2019-09-13","2019-09-13",null,null,0,0,0,null,null,null,0,{"$f":"IF(L265>9,L265-9,\"\")","v":""}]
[{"$f":"WEEKNUM(C266,21)","v":37},{"$f":"C266","v":"2019-09-14"},"2019-09-14",null,null,{"$f":"(E266-D266)*24","v":0},null,{"$f":"F266-G266","v":0},null,null,"za",{"$f":"SUM(H266:J266)","v":0},"","Week",null,"OV WEEK","OV DAG","Recup -","Recup +","OV 50%"]
[37,"2019-09-15","2019-09-15",null,null,0,null,0,null,null,"zo",0,"",{"$f":"SUM(L261:L267)","v":0},{"$f":"SUM(H261:H267)","v":0},{"$f":"IF(N267>38,N267-38,0)","v":0},{"$f":"SUM(M261:M267)","v":0},{"$f":"SUM(I261:I267)","v":0},{"$f":"IF(N267>38,N267-38,0)","v":0},{"$f":"IF(P267>Q267,P267,Q267)","v":0}]
[38,"2019-09-16","2019-09-16",null,null,0,{"$f":"IF(F268>=6,0.5,0)","v":0},0,null,null,null,0,""]
[38,"2019-09-17","2019-09-17",null,null,0,0,0,null,null,null,0,""]
[38,"2019-09-18","2019-09-18",null,null,0,0,0,null,null,null,0,""]
[38,"2019-09-19","2019-09-19",null,null,0,0,0,null,null,null,0,""]
[38,"2019-09-20","2019-09-20",null,null,0,0,0,null,null,null,0,""]
[38,"2019-09-21","2019-09-21",null,null,0,null,0,null,null,"za",0,"","Week",null,"OV WEEK","OV DAG","Recup -","Recup +","OV 50%"]
[38,"2019-09-22","2019-09-22",null,null,0,null,0,null,null,"zo",0,"",{"$f":"SUM(L268:L274)","v":0},{"$f":"SUM(H268:H274)","v":0},{"$f":"IF(N274>38,N274-38,0)","v":0},{"$f":"SUM(M268:M274)","v":0},{"$f":"SUM(I268:I274)","v":0},{"$f":"IF(N274>38,N274-38,0)","v":0},{"$f":"IF(P274>Q274,P274,Q274)","v":0}]
[39,"2019-09-23","2019-09-23",null,null,0,0,0,null,null,null,0,""]
[39,"2019-09-24","2019-09-24",null,null,0,0,0,null,null,null,0,""]
[39,"2019-09-25","2019-09-25",null,null,0,0,0,null,null,null,0,""]
[39,"2019-09-26","2019-09-26",null,null,0,0,0,null,null,null,0,""]
[39,"2019-09-27","2019-09-27",null,null,0,0,0,null,null,null,0,""]
[39,"2019-09-28","2019-09-28",null,null,0,null,0,null,null,"za",0,"","Week",null,"OV WEEK","OV DAG","Recup -","Recup +","OV 50%"]
[39,"2019-09-29","2019-09-29",null,null,0,null,0,null,null,"zo",0,"",{"$f":"SUM(L275:L281)","v":0},{"$f":"SUM(H275:H281)","v":0},{"$f":"IF(N281>38,N281-38,0)","v":0},{"$f":"SUM(M275:M281)","v":0},{"$f":"SUM(I275:I281)","v":0},{"$f":"IF(N281>38,N281-38,0)","v":0},{"$f":"IF(P281>Q281,P281,Q281)","v":0}]
[40,"2019-09-30","2019-09-30",null,null,0,0,0,null,null,null,0,""]
[40,"2019-10-01","2019-10-01",null,null,0,0,0,null,null,null,0,""]
[40,"2019-10-02","2019-10-02",null,null,0,0,0,null,null,null,0,""]
[40,"2019-10-03","2019-10-03",null,null,0,0,0,null,null,null,0,""]
[40,"2019-10-04","2019-10-04",null,null,0,0,0,null,null,null,0,""]
[40,"2019-10-05","2019-10-05",null,null,0,null,0,null,null,"za",0,"","Week",null,"OV WEEK","OV DAG","Recup -","Recup +","OV 50%"]
[40,"2019-10-06","2019-10-06",null,null,0,null,0,null,null,"zo",0,"",{"$f":"SUM(L282:L288)","v":0},{"$f":"SUM(H282:H288)","v":0},{"$f":"IF(N288>38,N288-38,0)","v":0},{"$f":"SUM(M282:M288)","v":0},{"$f":"SUM(I282:I288)","v":0},{"$f":"IF(N288>38,N288-38,0)","v":0},{"$f":"IF(P288>Q288,P288,Q288)","v":0}]
[41,"2019-10-07","2019-10-07",null,null,0,0,0,null,null,null,0,""]
[41,"2019-10-08","2019-10-08",null,null,0,0,0,null,null,null,0,""]
[41,"2019-10-09","2019-10-09",null,null,0,0,0,null,null,null,0,""]
[41,"2019-10-10","2019-10-10",null,null,0,0,0,null,null,null,0,""]
[41,"2019-10-11","2019-10-11",null,null,0,0,0,null,null,null,0,""]
[41,"2019-10-12","2019-10-12",null,null,0,null,0,null,null,"za",0,"","Week",null,"OV WEEK","OV DAG","Recup -","Recup +","OV 50%"]
[41,"2019-10-13","2019-10-13",null,null,0,null,0,null,null,"zo",0,"",{"$f":"SUM(L289:L295)","v":0},{"$f":"SUM(H289:H295)","v":0},{"$f":"IF(N295>38,N295-38,0)","v":0},{"$f":"SUM(M289:M295)","v":0},{"$f":"SUM(I289:I295)","v":0},{"$f":"IF(N295>38,N295-38,0)","v":0},{"$f":"IF(P295>Q295,P295,Q295)","v":0}]
[42,"2019-10-14","2019-10-14",null,null,0,0,0,null,null,null,0,""]
[42,"2019-10-15","2019-10-15",null,null,0,0,0,null,null,null,0,""]
[42,"2019-10-16","2019-10-16",null,null,0,0,0,null,null,null,0,""]
[42,"2019-10-17","2019-10-17",null,null,0,0,0,null,null,null,0,""]
[42,"2019-10-18","2019-10-18",null,null,0,0,0,null,null,null,0,""]
[42,"2019-10-19","2019-10-19",null,null,0,null,0,null,null,"za",0,"","Week",null,"OV WEEK","OV DAG","Recup -","Recup +","OV 50%"]
[42,"2019-10-20","2019-10-20",null,null,0,null,0,null,null,"zo",0,"",{"$f":"SUM(L296:L302)","v":0},{"$f":"SUM(H296:H302)","v":0},{"$f":"IF(N302>38,N302-38,0)","v":0},{"$f":"SUM(M296:M302)","v":0},{"$f":"SUM(I296:I302)","v":0},{"$f":"IF(N302>38,N302-38,0)","v":0},{"$f":"IF(P302>Q302,P302,Q302)","v":0}]
[43,"2019-10-21","2019-10-21",null,null,0,0,0,null,null,null,0,""]
[43,"2019-10-22","2019-10-22",null,null,0,0,0,null,null,null,0,""]
[43,"2019-10-23","2019-10-23",null,null,0,0,0,null,null,null,0,""]
[43,"2019-10-24","2019-10-24",null,null,0,0,0,null,null,null,0,""]
[43,"2019-10-25","2019-10-25",null,null,0,0,0,null,null,null,0,""]
[43,"2019-10-26","2019-10-26",null,null,0,null,0,null,null,"za",0,"","Week",null,"OV WEEK","OV DAG","Recup -","Recup +","OV 50%"]
[43,"2019-10-27","2019-10-27",null,null,0,null,0,null,null,"zo",0,"",{"$f":"SUM(L303:L309)","v":0},{"$f":"SUM(H303:H309)","v":0},{"$f":"IF(N309>38,N309-38,0)","v":0},{"$f":"SUM(M303:M309)","v":0},{"$f":"SUM(I303:I309)","v":0},{"$f":"IF(N309>38,N309-38,0)","v":0},{"$f":"IF(P309>Q309,P309,Q309)","v":0}]
[44,"2019-10-28","2019-10-28",null,null,0,0,0,null,null,null,0,""]
[44,"2019-10-29","2019-10-29",null,null,0,0,0,null,null,null,0,""]
[44,"2019-10-30","2019-10-30",null,null,0,0,0,null,null,null,0,""]
[44,"2019-10-31","2019-10-31",null,null,0,0,0,null,null,null,0,""]
[44,"2019-11-01","2019-11-01",null,null,0,0,0,null,7.6,"fd",7.6,""]
[44,"2019-11-02","2019-11-02",null,null,0,null,0,null,null,"za",0,"","Week",null,"OV WEEK","OV DAG","Recup -","Recup +","OV 50%"]
[44,"2019-11-03","2019-11-03",null,null,0,null,0,null,null,"zo",0,"",{"$f":"SUM(L310:L316)","v":7.6},{"$f":"SUM(H310:H316)","v":0},{"$f":"IF(N316>38,N316-38,0)","v":0},{"$f":"SUM(M310:M316)","v":0},{"$f":"SUM(I310:I316)","v":0},{"$f":"IF(N316>38,N316-38,0)","v":0},{"$f":"IF(P316>Q316,P316,Q316)","v":0}]
[45,"2019-11-04","2019-11-04",null,null,0,0,0,null,null,null,0,""]
[45,"2019-11-05","2019-11-05",null,null,0,0,0,null,null,null,0,""]
[45,"2019-11-06","2019-11-06",null,null,0,0,0,null,null,null,0,""]
[45,"2019-11-07","2019-11-07",null,null,0,0,0,null,null,null,0,""]
[45,"2019-11-08","2019-11-08",null,null,0,0,0,null,null,null,0,""]
[45,"2019-11-09","2019-11-09",null,null,0,null,0,null,null,"za",0,"","Week",null,"OV WEEK","OV DAG","Recup -","Recup +","OV 50%"]
[45,"2019-11-10","2019-11-10",null,null,0,null,0,null,null,"zo",0,"",{"$f":"SUM(L317:L323)","v":0},{"$f":"SUM(H317:H323)","v":0},{"$f":"IF(N323>38,N323-38,0)","v":0},{"$f":"SUM(M317:M323)","v":0},{"$f":"SUM(I317:I323)","v":0},{"$f":"IF(N323>38,N323-38,0)","v":0},{"$f":"IF(P323>Q323,P323,Q323)","v":0}]
[46,"2019-11-11","2019-11-11",null,null,0,0,0,null,7.6,"fd",7.6,""]
[46,"2019-11-12","2019-11-12",null,null,0,0,0,null,null,null,0,""]
[46,"2019-11-13","2019-11-13",null,null,0,0,0,null,null,null,0,""]
[46,"2019-11-14","2019-11-14",null,null,0,0,0,null,null,null,0,""]
[46,"2019-11-15","2019-11-15",null,null,0,0,0,null,null,null,0,""]
[46,"2019-11-16","2019-11-16",null,null,0,null,0,null,null,"za",0,{"$f":"IF(L329>9,L329-9,\"\")","v":""},"Week",null,"OV WEEK","OV DAG","Recup -","Recup +","OV 50%"]
[{"$f":"WEEKNUM(C330,21)","v":46},{"$f":"C330","v":"2019-11-17"},"2019-11-17",null,null,{"$f":"(E330-D330)*24","v":0},null,{"$f":"F330-G330","v":0},null,null,"zo",{"$f":"SUM(H330:J330)","v":0},"",{"$f":"SUM(L324:L330)","v":7.6},{"$f":"SUM(H324:H330)","v":0},{"$f":"IF(N330>38,N330-38,0)","v":0},{"$f":"SUM(M324:M330)","v":0},{"$f":"SUM(I324:I330)","v":0},{"$f":"IF(N330>38,N330-38,0)","v":0},{"$f":"IF(P330>Q330,P330,Q330)","v":0}]
[47,"2019-11-18","2019-11-18",null,null,0,{"$f":"IF(F331>=6,0.5,0)","v":0},0,null,null,null,0,""]
[47,"2019-11-19","2019-11-19",null,null,0,0,0,null,null,null,0,""]
[47,"2019-11-20","2019-11-20",null,null,0,0,0,null,null,null,0,""]
[47,"2019-11-21","2019-11-21",null,null,0,0,0,null,null,null,0,""]
[47,"2019-11-22","2019-11-22",null,null,0,0,0,null,null,null,0,""]
[47,"2019-11-23","2019-11-23",null,null,0,null,0,null,null,"za",0,"","Week",null,"OV WEEK","OV DAG","Recup -","Recup +","OV 50%"]
[47,"2019-11-24","2019-11-24",null,null,0,null,0,null,null,"zo",0,"",{"$f":"SUM(L331:L337)","v":0},{"$f":"SUM(H331:H337)","v":0},{"$f":"IF(N337>38,N337-38,0)","v":0},{"$f":"SUM(M331:M337)","v":0},{"$f":"SUM(I331:I337)","v":0},{"$f":"IF(N337>38,N337-38,0)","v":0},{"$f":"IF(P337>Q337,P337,Q337)","v":0}]
[48,"2019-11-25","2019-11-25",null,null,0,0,0,null,null,null,0,""]
[48,"2019-11-26","2019-11-26",null,null,0,0,0,null,null,null,0,""]
[48,"2019-11-27","2019-11-27",null,null,0,0,0,null,null,null,0,""]
[48,"2019-11-28","2019-11-28",null,null,0,0,0,null,null,null,0,""]
[48,"2019-11-29","2019-11-29",null,null,0,0,0,null,null,null,0,""]
[48,"2019-11-30","2019-11-30",null,null,0,null,0,null,null,"za",0,"","Week",null,"OV WEEK","OV DAG","Recup -","Recup +","OV 50%"]
[48,"2019-12-01","2019-12-01",null,null,0,null,0,null,null,"zo",0,"",{"$f":"SUM(L338:L344)","v":0},{"$f":"SUM(H338:H344)","v":0},{"$f":"IF(N344>38,N344-38,0)","v":0},{"$f":"SUM(M338:M344)","v":0},{"$f":"SUM(I338:I344)","v":0},{"$f":"IF(N344>38,N344-38,0)","v":0},{"$f":"IF(P344>Q344,P344,Q344)","v":0}]
[49,"2019-12-02","2019-12-02",null,null,0,0,0,null,null,null,0,""]
[49,"2019-12-03","2019-12-03",null,null,0,0,0,null,null,null,0,""]
[49,"2019-12-04","2019-12-04",null,null,0,0,0,null,null,null,0,""]
[49,"2019-12-05","2019-12-05",null,null,0,0,0,null,null,null,0,""]
[49,"2019-12-06","2019-12-06",null,null,0,0,0,null,null,null,0,""]
[49,"2019-12-07","2019-12-07",null,null,0,null,0,null,null,"za",0,"","Week",null,"OV WEEK","OV DAG","Recup -","Recup +","OV 50%"]
[49,"2019-12-08","2019-12-08",null,null,0,null,0,null,null,"zo",0,"",{"$f":"SUM(L345:L351)","v":0},{"$f":"SUM(H345:H351)","v":0},{"$f":"IF(N351>38,N351-38,0)","v":0},{"$f":"SUM(M345:M351)","v":0},{"$f":"SUM(I345:I351)","v":0},{"$f":"IF(N351>38,N351-38,0)","v":0},{"$f":"IF(P351>Q351,P351,Q351)","v":0}]
[50,"2019-12-09","2019-12-09",null,null,0,0,0,null,null,null,0,""]
[50,"2019-12-10","2019-12-10",null,null,0,0,0,null,null,null,0,""]
[50,"2019-12-11","2019-12-11",null,null,0,0,0,null,null,null,0,""]
[50,"2019-12-12","2019-12-12",null,null,0,0,0,null,null,null,0,""]
[50,"2019-12-13","2019-12-13",null,null,0,0,0,null,null,null,0,""]
[50,"2019-12-14","2019-12-14",null,null,0,null,0,null,null,"za",0,"","Week",null,"OV WEEK","OV DAG","Recup -","Recup +","OV 50%"]
[50,"2019-12-15","2019-12-15",null,null,0,null,0,null,null,"zo",0,"",{"$f":"SUM(L352:L358)","v":0},{"$f":"SUM(H352:H358)","v":0},{"$f":"IF(N358>38,N358-38,0)","v":0},{"$f":"SUM(M352:M358)","v":0},{"$f":"SUM(I352:I358)","v":0},{"$f":"IF(N358>38,N358-38,0)","v":0},{"$f":"IF(P358>Q358,P358,Q358)","v":0}]
[51,"2019-12-16","2019-12-16",null,null,0,0,0,null,null,null,0,""]
[51,"2019-12-17","2019-12-17",null,null,0,0,0,null,null,null,0,""]
[51,"2019-12-18","2019-12-18",null,null,0,0,0,null,null,null,0,""]
[51,"2019-12-19","2019-12-19",null,null,0,0,0,null,null,null,0,""]
[51,"2019-12-20","2019-12-20",null,null,0,0,0,null,null,null,0,""]
[51,"2019-12-21","2019-12-21",null,null,0,null,0,null,null,"za",0,"","Week",null,"OV WEEK","OV DAG","Recup -","Recup +","OV 50%"]
[51,"2019-12-22","2019-12-22",null,null,0,null,0,null,null,"zo",0,"",{"$f":"SUM(L359:L365)","v":0},{"$f":"SUM(H359:H365)","v":0},{"$f":"IF(N365>38,N365-38,0)","v":0},{"$f":"SUM(M359:M365)","v":0},{"$f":"SUM(I359:I365)","v":0},{"$f":"IF(N365>38,N365-38,0)","v":0},{"$f":"IF(P365>Q365,P365,Q365)","v":0}]
[52,"2019-12-23","2019-12-23",null,null,0,0,0,null,null,null,0,""]
[52,"2019-12-24","2019-12-24",null,null,0,0,0,null,null,null,0,""]
[52,"2019-12-25","2019-12-25",null,null,0,0,0,null,7.6,"fd",7.6,""]
[52,"2019-12-26","2019-12-26",null,null,0,0,0,null,null,null,0,""]
[52,"2019-12-27","2019-12-27",null,null,0,0,0,null,null,null,0,""]
[52,"2019-12-28","2019-12-28",null,null,0,null,0,null,null,"za",0,"","Week",null,"OV WEEK","OV DAG","Recup -","Recup +","OV 50%"]
[52,"2019-12-29","2019-12-29",null,null,0,null,0,null,null,"zo",0,"",{"$f":"SUM(L366:L372)","v":7.6},{"$f":"SUM(H366:H372)","v":0},{"$f":"IF(N372>38,N372-38,0)","v":0},{"$f":"SUM(M366:M372)","v":0},{"$f":"SUM(I366:I372)","v":0},{"$f":"IF(N372>38,N372-38,0)","v":0},{"$f":"IF(P372>Q372,P372,Q372)","v":0}]
[1,"2019-12-30","2019-12-30",null,null,0,0,0,null,null,null,0,""]
[1,"2019-12-31","2019-12-31",null,null,0,0,0,null,null,null,0,""]
[1,"2020-01-01","2020-01-01",null,null,0,0,0,null,7.6,"fd",7.6,""]
[1,"2020-01-02","2020-01-02",null,null,0,0,0,null,null,null,0,""]
[1,"2020-01-03","2020-01-03",null,null,0,0,0,null,null,null,0,""]
[1,"2020-01-04","2020-01-04",null,null,0,null,0,null,null,"za",0,"","Week",null,"OV WEEK","OV DAG","Recup -","Recup +","OV 50%"]
[1,"2020-01-05","2020-01-05",null,null,0,null,0,null,null,"zo",0,"",{"$f":"SUM(L373:L379)","v":7.6},{"$f":"SUM(H373:H379)","v":0},{"$f":"IF(N379>38,N379-38,0)","v":0},{"$f":"SUM(M373:M379)","v":0},{"$f":"SUM(I373:I379)","v":0},{"$f":"IF(N379>38,N379-38,0)","v":0},{"$f":"IF(P379>Q379,P379,Q379)","v":0}]

{"sheet":"17","index":5,"n_rows":379,"n_cols":35,"rows_kept":379,"cut":false,"hidden":false,"merged":[[6,21,6,24],[6,25,6,28],[6,29,6,32],[6,33,6,34],[0,1,1,12],[4,21,4,23],[4,25,4,28],[4,29,4,32],[4,33,4,34],[5,21,5,23],[5,25,5,28],[5,29,5,32],[5,33,5,34],[2,21,2,23],[2,25,2,28],[2,29,2,32],[2,33,2,34],[3,21,3,23],[3,25,3,28],[3,29,3,32],[3,33,3,34],[0,21,0,24],[0,25,0,28],[0,29,0,32],[0,33,0,34],[1,21,1,23],[1,25,1,28],[1,29,1,32],[1,33,1,34]]}
["NR","Maanders Chris",null,null,null,null,null,null,null,null,null,null,null,null,null,null,null,null,null,null,null,"Soort",null,null,null,"Recht op",null,null,null,"Opgenomen",null,null,null,"Saldo"]
[null,null,null,null,null,null,null,null,null,null,null,null,null,null,null,null,null,null,null,null,null,"ADV-dagen",null,null,"adv",null,null,null,null,{"$f":"(COUNTIF(W$9:AH$39,\"ADV\")+(COUNTIF(W$9:AH$39,\"0,5ADV\"))/2)","v":0},null,null,null,{"$f":"Z2-AD2","v":0}]
[null,null,null,null,null,null,null,null,null,null,null,null,null,null,null,null,null,null,null,null,null,"Vakantie 2019",null,null,"v",null,null,null,null,{"$f":"(COUNTIF(W$9:AH$39,\"V\")+(COUNTIF(W$9:AH$39,\"0,5V\"))/2)","v":0},null,null,null,{"$f":"Z3-AD3","v":0}]
["Opgelet avondwerk ! Van 00:00u tot 00:00u / + 0,00u premie 50%",null,null,null,null,null,null,null,null,null,null,null,null,"Feestdag in weekend 2019",null,null,null,null,"Recup 2018",14.91,null,"Feestdag 2019",null,null,"f",1,null,null,null,{"$f":"(COUNTIF(W$9:AH$39,\"F\")+(COUNTIF(W$9:AH$39,\"0,5F\"))/2)","v":0},null,null,null,1]
[null,null,null,null,null,null,null,null,null,null,null,null,null,"- nationale feestdag 21/7",null,null,null,null,null,null,null,"Vakantie rest 2018",null,null,"vvj",4,null,null,null,{"$f":"(COUNTIF(W$9:AH$39,\"vvj\")+(COUNTIF(W$9:AH$39,\"0,5vvj\"))/2)","v":0},null,null,null,4]
[null,null,null,null,null,null,null,null,null,null,null,null,null,null,null,null,null,null,"Recup",{"$f":"SUM(S9:S379)-SUM(R9:R379)+T5+T4","v":14.91},null,"Anciënniteitsdagen",null,null,"a ",null,null,null,null,{"$f":"(COUNTIF(W$9:AH$39,\"A\")+(COUNTIF(W$9:AH$39,\"0,5A\"))/2)","v":0},null,null,null,0]
[null,null,null,null,null,null,null,null,null,null,null,null,null,null,null,null,null,null,null,null,null,"TOTAAL",null,null,null,{"$f":"SUM(Z2:AC6)","v":5},null,null,null,{"$f":"SUM(AD2:AG6)","v":0},null,null,null,{"$f":"SUM(AH2:AI6)","v":5}]
["W","Dag","Datum","Van ","Tot",null,"Pauze","Prestaties","Recup","Andere","Type","Dag","OV DAG","Week","Prestaties","OV WEEK","OV DAG","Rec. -","Rec. +","OV 50%","M",null,"Jan","Feb","Maa","Apr","Mei","Jun","Jul","Aug","Sept","Okt","Nov","Dec"]
[{"$f":"WEEKNUM(C9,21)","v":1},{"$f":"C9","v":"2018-12-31"},"2018-12-31",null,null,{"$f":"(E9-D9)*24","v":0},{"$f":"IF(F9>=6,0.5,0)","v":0},{"$f":"F9-G9","v":0},null,7.6,"z",{"$f":"SUM(H9:J9)","v":7.6},{"$f":"IF(L9>9,L9-9,\"\")","v":""},"Bericht Mathias G: Chris in het ziekenhuis na Epileptische aanval..",null,null,null,null,null,null,null,1,{"$f":"K9","v":"z"},{"$f":"K40","v":"z"},{"$f":"K68","v":"z"},{"$f":"K99","v":"zo"},{"$f":"K129","v":0},{"$f":"K160","v":0},{"$f":"K190","v":"zo"},{"$f":"K221","v":0},{"$f":"K252","v":"za"},{"$f":"K282","v":0},{"$f":"K313","v":0},{"$f":"K343","v":"za"},1]
[{"$f":"WEEKNUM(C10,21)","v":1},{"$f":"C10","v":"2019-01-01"},"2019-01-01",null,null,{"$f":"(E10-D10)*24","v":0},{"$f":"IF(F10>=6,0.5,0)","v":0},{"$f":"F10-G10","v":0},null,7.6,"fd",{"$f":"SUM(H10:J10)","v":7.6},"","3 maanden niet met camionette rijden..",null,null,null,null,null,null,null,2,{"$f":"K10","v":"fd"},{"$f":"K41","v":"z"},{"$f":"K69","v":"z"},{"$f":"K100","v":0},{"$f":"K130","v":"fd"},{"$f":"K161","v":"za"},{"$f":"K191","v":0},{"$f":"K222","v":0},{"$f":"K253","v":"zo"},{"$f":"K283","v":0},{"$f":"K314","v":"fd"},{"$f":"K344","v":"zo"},2]
[1,"2019-01-02","2019-01-02",null,null,0,0,0,null,7.6,"z",7.6,"","Ziektebriefje 31/12 - 04/01 OK",null,null,null,null,null,null,null,3,"z","za","za",0,0,"zo",0,0,0,0,"za",0,3]
[1,"2019-01-03","2019-01-03",null,null,0,0,0,null,7.6,"z",7.6,"","Attest ongeschikt voor rijden ontvangen ( 3maanden) ontvangen OK",null,null,null,null,null,null,null,4,"z","zo","zo",0,0,0,0,"za",0,0,"zo",0,4]
[1,"2019-01-04","2019-01-04",null,null,0,0,0,null,7.6,"z",7.6,"",null,null,null,null,null,null,null,null,5,"z","z","z",0,"za",0,0,"zo",0,0,0,{"$f":"K347","v":0},5]
[1,"2019-01-05","2019-01-05",null,null,0,null,0,null,null,"za",0,"","Week",null,"OV WEEK","OV DAG","Recup -","Recup +","OV 50%",null,6,"za","z","z",0,"zo",0,0,0,0,"za",0,0,6]
[1,"2019-01-06","2019-01-06",null,null,0,null,0,null,null,"zo",0,"",{"$f":"SUM(L9:L15)","v":38},{"$f":"SUM(H9:H15)","v":0},{"$f":"IF(N15>38,N15-38,0)","v":0},{"$f":"SUM(M9:M15)","v":0},{"$f":"SUM(I9:I15)","v":0},{"$f":"IF(N15>38,N15-38,0)","v":0},{"$f":"IF(P15>Q15,P15,Q15)","v":0},null,7,"zo","z","z","za",0,0,"za",0,0,"zo",0,0,7]
[2,"2019-01-07","2019-01-07",null,null,0,0,0,null,7.6,"z",7.6,"",null,null,null,null,null,null,null,null,8,"z","z","z","zo",0,0,"zo",0,"za",0,0,"za",8]
[2,"2019-01-08","2019-01-08",null,null,0,0,0,null,7.6,"z",7.6,"","Nieuw Ziektebriefje 31/12 - 22/03 ??? OK",null,null,null,null,null,null,null,9,"z","z","z",0,0,"za",0,0,"zo",0,0,"zo",9]
[2,"2019-01-09","2019-01-09",null,null,0,0,0,null,7.6,"z",7.6,"",null,null,null,null,null,null,null,null,10,"z","za","za",0,0,"zo",0,0,0,0,"za",0,10]
[2,"2019-01-10","2019-01-10",null,null,0,0,0,null,7.6,"z",7.6,"",null,null,null,null,null,null,null,null,11,"z","zo","zo",0,0,"fd",0,"za",0,0,"zo",0,11]
[2,"2019-01-11","2019-01-11",null,null,0,0,0,null,7.6,"z",7.6,"",null,null,null,null,null,null,null,null,12,"z","z","z",0,"za",0,0,"zo",0,0,"fd",0,12]
[2,"2019-01-12","2019-01-12",null,null,0,null,0,null,null,"za",0,"","Week",null,"OV WEEK","OV DAG","Recup -","Recup +","OV 50%",null,13,"za","z","z",0,"zo",0,0,0,0,"za",0,0,13]
[2,"2019-01-13","2019-01-13",null,null,0,null,0,null,null,"zo",0,"",{"$f":"SUM(L16:L22)","v":38},{"$f":"SUM(H16:H22)","v":0},{"$f":"IF(N22>38,N22-38,0)","v":0},{"$f":"SUM(M16:M22)","v":0},{"$f":"SUM(I16:I22)","v":0},{"$f":"IF(N22>38,N22-38,0)","v":0},{"$f":"IF(P22>Q22,P22,Q22)","v":0},null,14,"zo","z","z","za",0,0,"za",0,0,"zo",0,0,14]
[3,"2019-01-14","2019-01-14",null,null,0,0,0,null,7.6,"z",7.6,"",null,null,null,null,null,null,null,null,15,"z","z","z","zo",0,0,"zo",0,"za",0,0,"za",15]
[3,"2019-01-15","2019-01-15",null,null,0,0,0,null,7.6,"z",7.6,"",null,null,null,null,null,null,null,null,16,"z","z","z",0,0,"za",0,"fd","zo",0,0,"zo",16]
[3,"2019-01-16","2019-01-16",null,null,0,0,0,null,7.6,"z",7.6,"",null,null,null,null,null,null,null,null,17,"z","za","za",0,0,"zo",0,0,0,0,"za",0,17]
[3,"2019-01-17","2019-01-17",null,null,0,0,0,null,7.6,"z",7.6,"",null,null,null,null,null,null,null,null,18,"z","zo","zo",0,0,0,0,"za",0,0,"zo",0,18]
[3,"2019-01-18","2019-01-18",null,null,0,0,0,null,7.6,"z",7.6,"",null,null,null,null,null,null,null,null,19,"z","z","z",0,"za",0,0,"zo",0,0,0,0,19]
[3,"2019-01-19","2019-01-19",null,null,0,null,0,null,null,"za",0,"","Week",null,"OV WEEK","OV DAG","Recup -","Recup +","OV 50%",null,20,"za","z","z",0,"zo",0,0,0,0,"za",0,{"$f":"K362","v":0},20]
[3,"2019-01-20","2019-01-20",null,null,0,null,0,null,null,"zo",0,"",{"$f":"SUM(L23:L29)","v":38},{"$f":"SUM(H23:H29)","v":0},{"$f":"IF(N29>38,N29-38,0)","v":0},{"$f":"SUM(M23:M29)","v":0},{"$f":"SUM(I23:I29)","v":0},{"$f":"IF(N29>38,N29-38,0)","v":0},{"$f":"IF(P29>Q29,P29,Q29)","v":0},null,21,"zo","z","z","za","fd",0,"za",0,0,"zo",0,0,21]
[4,"2019-01-21","2019-01-21",null,null,0,0,0,null,7.6,"z",7.6,"",null,null,null,null,null,null,null,null,22,"z","z","z","zo",0,0,"zo",0,"za",0,0,"za",22]
[4,"2019-01-22","2019-01-22",null,null,0,0,0,null,7.6,"z",7.6,"",null,null,null,null,null,null,null,null,23,"z","z","z","fd",0,"za",0,0,"zo",0,0,"zo",23]
[4,"2019-01-23","2019-01-23",null,null,0,0,0,null,7.6,"z",7.6,"",null,17,null,null,null,null,null,null,24,"z","za","za",0,0,"zo",0,0,0,0,"za",0,24]
[4,"2019-01-24","2019-01-24",null,null,0,0,0,null,7.6,"z",7.6,"",null,null,null,null,null,null,null,null,25,"z","zo","zo",0,0,0,0,"za",0,0,"zo",0,25]
[4,"2019-01-25","2019-01-25",null,null,0,0,0,null,7.6,"z",7.6,"",null,null,null,null,null,null,null,null,26,"z","z",0,0,"za",0,0,"zo",0,0,0,"fd",26]
[4,"2019-01-26","2019-01-26",null,null,0,null,0,null,null,"za",0,"","Week",null,"OV WEEK","OV DAG","Recup -","Recup +","OV 50%",null,27,"za","z",0,0,"zo",0,0,0,0,"za",0,0,27]
[4,"2019-01-27","2019-01-27",null,null,0,null,0,null,null,"zo",0,"",{"$f":"SUM(L30:L36)","v":38},{"$f":"SUM(H30:H36)","v":0},{"$f":"IF(N36>38,N36-38,0)","v":0},{"$f":"SUM(M30:M36)","v":0},{"$f":"SUM(I30:I36)","v":0},{"$f":"IF(N36>38,N36-38,0)","v":0},{"$f":"IF(P36>Q36,P36,Q36)","v":0},null,28,"zo","z",0,"za",0,0,"za",0,0,"zo",0,0,28]
[5,"2019-01-28","2019-01-28",null,null,0,0,0,null,7.6,"z",7.6,"",null,null,null,null,null,null,null,null,29,"z",null,0,"zo",0,0,"zo",0,"za",0,0,"za",29]
[5,"2019-01-29","2019-01-29",null,null,0,0,0,null,7.6,"z",7.6,"",null,null,null,null,null,null,null,null,30,"z",null,0,0,0,"za",0,0,"zo",0,0,"zo",30]
[5,"2019-01-30","2019-01-30",null,null,0,0,0,null,7.6,"z",7.6,"",null,null,null,null,null,null,null,null,31,"z",null,"za",null,"fd",null,0,0,null,0,null,0,31]
[5,"2019-01-31","2019-01-31",null,null,0,0,0,null,7.6,"z",7.6,"",null,null,null,null,null,null,null,null,"WD",23,20,21,22,23,20,23,22,21,23,21,22,{"$f":"SUM(W40:AH40)","v":261}]
[5,"2019-02-01","2019-02-01",null,null,0,0,0,null,7.6,"z",7.6,""]
[5,"2019-02-02","2019-02-02",null,null,0,null,0,null,null,"za",0,"","Week",null,"OV WEEK","OV DAG","Recup -","Recup +","OV 50%"]
[5,"2019-02-03","2019-02-03",null,null,0,null,0,null,null,"zo",0,"",{"$f":"SUM(L37:L43)","v":38},{"$f":"SUM(H37:H43)","v":0},{"$f":"IF(N43>38,N43-38,0)","v":0},{"$f":"SUM(M37:M43)","v":0},{"$f":"SUM(I37:I43)","v":0},{"$f":"IF(N43>38,N43-38,0)","v":0},{"$f":"IF(P43>Q43,P43,Q43)","v":0}]
[6,"2019-02-04","2019-02-04",null,null,0,0,0,null,7.6,"z",7.6,""]
[6,"2019-02-05","2019-02-05",null,null,0,0,0,null,7.6,"z",7.6,""]
[6,"2019-02-06","2019-02-06",null,null,0,0,0,null,7.6,"z",7.6,""]
[6,"2019-02-07","2019-02-07",null,null,0,0,0,null,7.6,"z",7.6,""]
[6,"2019-02-08","2019-02-08",null,null,0,0,0,null,7.6,"z",7.6,""]
[6,"2019-02-09","2019-02-09",null,null,0,null,0,null,null,"za",0,"","Week",null,"OV WEEK","OV DAG","Recup -","Recup +","OV 50%"]
[6,"2019-02-10","2019-02-10",null,null,0,null,0,null,null,"zo",0,"",{"$f":"SUM(L44:L50)","v":38},{"$f":"SUM(H44:H50)","v":0},{"$f":"IF(N50>38,N50-38,0)","v":0},{"$f":"SUM(M44:M50)","v":0},{"$f":"SUM(I44:I50)","v":0},{"$f":"IF(N50>38,N50-38,0)","v":0},{"$f":"IF(P50>Q50,P50,Q50)","v":0}]
[7,"2019-02-11","2019-02-11",null,null,0,0,0,null,7.6,"z",7.6,""]
[7,"2019-02-12","2019-02-12",null,null,0,0,0,null,7.6,"z",7.6,""]
[7,"2019-02-13","2019-02-13",null,null,0,0,0,null,7.6,"z",7.6,""]
[7,"2019-02-14","2019-02-14",null,null,0,0,0,null,7.6,"z",7.6,""]
[7,"2019-02-15","2019-02-15",null,null,0,0,0,null,7.6,"z",7.6,""]
[7,"2019-02-16","2019-02-16",null,null,0,null,0,null,null,"za",0,"","Week",null,"OV WEEK","OV DAG","Recup -","Recup +","OV 50%"]
[7,"2019-02-17","2019-02-17",null,null,0,null,0,null,null,"zo",0,"",{"$f":"SUM(L51:L57)","v":38},{"$f":"SUM(H51:H57)","v":0},{"$f":"IF(N57>38,N57-38,0)","v":0},{"$f":"SUM(M51:M57)","v":0},{"$f":"SUM(I51:I57)","v":0},{"$f":"IF(N57>38,N57-38,0)","v":0},{"$f":"IF(P57>Q57,P57,Q57)","v":0}]
[8,"2019-02-18","2019-02-18",null,null,0,0,0,null,7.6,"z",7.6,""]
[8,"2019-02-19","2019-02-19",null,null,0,0,0,null,7.6,"z",7.6,""]
[8,"2019-02-20","2019-02-20",null,null,0,0,0,null,7.6,"z",7.6,""]
[8,"2019-02-21","2019-02-21",null,null,0,0,0,null,7.6,"z",7.6,""]
[8,"2019-02-22","2019-02-22",null,null,0,0,0,null,7.6,"z",7.6,""]
[8,"2019-02-23","2019-02-23",null,null,0,null,0,null,null,"za",0,"","Week",null,"OV WEEK","OV DAG","Recup -","Recup +","OV 50%"]
[8,"2019-02-24","2019-02-24",null,null,0,null,0,null,null,"zo",0,"",{"$f":"SUM(L58:L64)","v":38},{"$f":"SUM(H58:H64)","v":0},{"$f":"IF(N64>38,N64-38,0)","v":0},{"$f":"SUM(M58:M64)","v":0},{"$f":"SUM(I58:I64)","v":0},{"$f":"IF(N64>38,N64-38,0)","v":0},{"$f":"IF(P64>Q64,P64,Q64)","v":0}]
[9,"2019-02-25","2019-02-25",null,null,0,0,0,null,7.6,"z",7.6,""]
[9,"2019-02-26","2019-02-26",null,null,0,0,0,null,7.6,"z",7.6,""]
[9,"2019-02-27","2019-02-27",null,null,0,0,0,null,7.6,"z",7.6,""]
[9,"2019-02-28","2019-02-28",null,null,0,0,0,null,7.6,"z",7.6,""]
[9,"2019-03-01","2019-03-01",null,null,0,0,0,null,7.6,"z",7.6,""]
[9,"2019-03-02","2019-03-02",null,null,0,null,0,null,null,"za",0,"","Week",null,"OV WEEK","OV DAG","Recup -","Recup +","OV 50%"]
[9,"2019-03-03","2019-03-03",null,null,0,null,0,null,null,"zo",0,"",{"$f":"SUM(L65:L71)","v":38},{"$f":"SUM(H65:H71)","v":0},{"$f":"IF(N71>38,N71-38,0)","v":0},{"$f":"SUM(M65:M71)","v":0},{"$f":"SUM(I65:I71)","v":0},{"$f":"IF(N71>38,N71-38,0)","v":0},{"$f":"IF(P71>Q71,P71,Q71)","v":0}]
[10,"2019-03-04","2019-03-04",null,null,0,0,0,null,7.6,"z",7.6,""]
[10,"2019-03-05","2019-03-05",null,null,0,0,0,null,7.6,"z",7.6,{"$f":"IF(L73>9,L73-9,\"\")","v":""}]
[{"$f":"WEEKNUM(C74,21)","v":10},{"$f":"C74","v":"2019-03-06"},"2019-03-06",null,null,{"$f":"(E74-D74)*24","v":0},{"$f":"IF(F74>=6,0.5,0)","v":0},{"$f":"F74-G74","v":0},null,7.6,"z",{"$f":"SUM(H74:J74)","v":7.6},""]
[10,"2019-03-07","2019-03-07",null,null,0,0,0,null,7.6,"z",7.6,""]
[10,"2019-03-08","2019-03-08",null,null,0,0,0,null,7.6,"z",7.6,""]
[10,"2019-03-09","2019-03-09",null,null,0,null,0,null,null,"za",0,"","Week",null,"OV WEEK","OV DAG","Recup -","Recup +","OV 50%"]
[10,"2019-03-10","2019-03-10",null,null,0,null,0,null,null,"zo",0,"",{"$f":"SUM(L72:L78)","v":38},{"$f":"SUM(H72:H78)","v":0},{"$f":"IF(N78>38,N78-38,0)","v":0},{"$f":"SUM(M72:M78)","v":0},{"$f":"SUM(I72:I78)","v":0},{"$f":"IF(N78>38,N78-38,0)","v":0},{"$f":"IF(P78>Q78,P78,Q78)","v":0}]
[11,"2019-03-11","2019-03-11",null,null,0,0,0,null,7.6,"z",7.6,""]
[11,"2019-03-12","2019-03-12",null,null,0,0,0,null,7.6,"z",7.6,""]
[11,"2019-03-13","2019-03-13",null,null,0,0,0,null,7.6,"z",7.6,""]
[11,"2019-03-14","2019-03-14",null,null,0,0,0,null,7.6,"z",7.6,""]
[11,"2019-03-15","2019-03-15",null,null,0,0,0,null,7.6,"z",7.6,""]
[11,"2019-03-16","2019-03-16",null,null,0,null,0,null,null,"za",0,"","Week",null,"OV WEEK","OV DAG","Recup -","Recup +","OV 50%"]
[11,"2019-03-17","2019-03-17",null,null,0,null,0,null,null,"zo",0,"",{"$f":"SUM(L79:L85)","v":38},{"$f":"SUM(H79:H85)","v":0},{"$f":"IF(N85>38,N85-38,0)","v":0},{"$f":"SUM(M79:M85)","v":0},{"$f":"SUM(I79:I85)","v":0},{"$f":"IF(N85>38,N85-38,0)","v":0},{"$f":"IF(P85>Q85,P85,Q85)","v":0}]
[12,"2019-03-18","2019-03-18",null,null,0,0,0,null,7.6,"z",7.6,""]
[12,"2019-03-19","2019-03-19",null,null,0,0,0,null,7.6,"z",7.6,""]
[12,"2019-03-20","2019-03-20",null,null,0,0,0,null,7.6,"z",7.6,""]
[12,"2019-03-21","2019-03-21",null,null,0,0,0,null,7.6,"z",7.6,""]
[12,"2019-03-22","2019-03-22",null,null,0,0,0,null,7.6,"z",7.6,""]
[12,"2019-03-23","2019-03-23",null,null,0,null,0,null,null,"za",0,"","Week",null,"OV WEEK","OV DAG","Recup -","Recup +","OV 50%"]
[12,"2019-03-24","2019-03-24",null,null,0,null,0,null,null,"zo",0,"",{"$f":"SUM(L86:L92)","v":38},{"$f":"SUM(H86:H92)","v":0},{"$f":"IF(N92>38,N92-38,0)","v":0},{"$f":"SUM(M86:M92)","v":0},{"$f":"SUM(I86:I92)","v":0},{"$f":"IF(N92>38,N92-38,0)","v":0},{"$f":"IF(P92>Q92,P92,Q92)","v":0}]
[13,"2019-03-25","2019-03-25",null,null,0,0,0,null,null,null,0,""]
[13,"2019-03-26","2019-03-26",null,null,0,0,0,null,null,null,0,""]
[13,"2019-03-27","2019-03-27",null,null,0,0,0,null,null,null,0,""]
[13,"2019-03-28","2019-03-28",null,null,0,0,0,null,null,null,0,""]
[13,"2019-03-29","2019-03-29",null,null,0,0,0,null,null,null,0,""]
[13,"2019-03-30","2019-03-30",null,null,0,null,0,null,null,"za",0,"","Week",null,"OV WEEK","OV DAG","Recup -","Recup +","OV 50%"]
[13,"2019-03-31","2019-03-31",null,null,0,null,0,null,null,"zo",0,"",{"$f":"SUM(L93:L99)","v":0},{"$f":"SUM(H93:H99)","v":0},{"$f":"IF(N99>38,N99-38,0)","v":0},{"$f":"SUM(M93:M99)","v":0},{"$f":"SUM(I93:I99)","v":0},{"$f":"IF(N99>38,N99-38,0)","v":0},{"$f":"IF(P99>Q99,P99,Q99)","v":0}]
[14,"2019-04-01","2019-04-01",null,null,0,0,0,null,null,null,0,""]
[14,"2019-04-02","2019-04-02",null,null,0,0,0,null,null,null,0,""]
[14,"2019-04-03","2019-04-03",null,null,0,0,0,null,null,null,0,""]
[14,"2019-04-04","2019-04-04",null,null,0,0,0,null,null,null,0,""]
[14,"2019-04-05","2019-04-05",null,null,0,0,0,null,null,null,0,""]
[14,"2019-04-06","2019-04-06",null,null,0,null,0,null,null,"za",0,"","Week",null,"OV WEEK","OV DAG","Recup -","Recup +","OV 50%"]
[14,"2019-04-07","2019-04-07",null,null,0,null,0,null,null,"zo",0,"",{"$f":"SUM(L100:L106)","v":0},{"$f":"SUM(H100:H106)","v":0},{"$f":"IF(N106>38,N106-38,0)","v":0},{"$f":"SUM(M100:M106)","v":0},{"$f":"SUM(I100:I106)","v":0},{"$f":"IF(N106>38,N106-38,0)","v":0},{"$f":"IF(P106>Q106,P106,Q106)","v":0}]
[15,"2019-04-08","2019-04-08",null,null,0,0,0,null,null,null,0,""]
[15,"2019-04-09","2019-04-09",null,null,0,0,0,null,null,null,0,""]
[15,"2019-04-10","2019-04-10",null,null,0,0,0,null,null,null,0,""]
[15,"2019-04-11","2019-04-11",null,null,0,0,0,null,null,null,0,""]
[15,"2019-04-12","2019-04-12",null,null,0,0,0,null,null,null,0,""]
[15,"2019-04-13","2019-04-13",null,null,0,null,0,null,null,"za",0,"","Week",null,"OV WEEK","OV DAG","Recup -","Recup +","OV 50%"]
[15,"2019-04-14","2019-04-14",null,null,0,null,0,null,null,"zo",0,"",{"$f":"SUM(L107:L113)","v":0},{"$f":"SUM(H107:H113)","v":0},{"$f":"IF(N113>38,N113-38,0)","v":0},{"$f":"SUM(M107:M113)","v":0},{"$f":"SUM(I107:I113)","v":0},{"$f":"IF(N113>38,N113-38,0)","v":0},{"$f":"IF(P113>Q113,P113,Q113)","v":0}]
[16,"2019-04-15","2019-04-15",null,null,0,0,0,null,null,null,0,""]
[16,"2019-04-16","2019-04-16",null,null,0,0,0,null,null,null,0,""]
[16,"2019-04-17","2019-04-17",null,null,0,0,0,null,null,null,0,""]
[16,"2019-04-18","2019-04-18",null,null,0,0,0,null,null,null,0,""]
[16,"2019-04-19","2019-04-19",null,null,0,0,0,null,null,null,0,""]
[16,"2019-04-20","2019-04-20",null,null,0,null,0,null,null,"za",0,"","Week",null,"OV WEEK","OV DAG","Recup -","Recup +","OV 50%"]
[16,"2019-04-21","2019-04-21",null,null,0,null,0,null,null,"zo",0,"",{"$f":"SUM(L114:L120)","v":0},{"$f":"SUM(H114:H120)","v":0},{"$f":"IF(N120>38,N120-38,0)","v":0},{"$f":"SUM(M114:M120)","v":0},{"$f":"SUM(I114:I120)","v":0},{"$f":"IF(N120>38,N120-38,0)","v":0},{"$f":"IF(P120>Q120,P120,Q120)","v":0}]
[17,"2019-04-22","2019-04-22",null,null,0,0,0,null,7.6,"fd",7.6,""]
[17,"2019-04-23","2019-04-23",null,null,0,0,0,null,null,null,0,""]
[17,"2019-04-24","2019-04-24",null,null,0,0,0,null,null,null,0,""]
[17,"2019-04-25","2019-04-25",null,null,0,0,0,null,null,null,0,""]
[17,"2019-04-26","2019-04-26",null,null,0,0,0,null,null,null,0,""]
[17,"2019-04-27","2019-04-27",null,null,0,null,0,null,null,"za",0,"","Week",null,"OV WEEK","OV DAG","Recup -","Recup +","OV 50%"]
[17,"2019-04-28","2019-04-28",null,null,0,null,0,null,null,"zo",0,"",{"$f":"SUM(L121:L127)","v":7.6},{"$f":"SUM(H121:H127)","v":0},{"$f":"IF(N127>38,N127-38,0)","v":0},{"$f":"SUM(M121:M127)","v":0},{"$f":"SUM(I121:I127)","v":0},{"$f":"IF(N127>38,N127-38,0)","v":0},{"$f":"IF(P127>Q127,P127,Q127)","v":0}]
[18,"2019-04-29","2019-04-29",null,null,0,0,0,null,null,null,0,""]
[18,"2019-04-30","2019-04-30",null,null,0,0,0,null,null,null,0,""]
[18,"2019-05-01","2019-05-01",null,null,0,0,0,null,7.6,"fd",7.6,""]
[18,"2019-05-02","2019-05-02",null,null,0,0,0,null,null,null,0,""]
[18,"2019-05-03","2019-05-03",null,null,0,0,0,null,null,null,0,""]
[18,"2019-05-04","2019-05-04",null,null,0,null,0,null,null,"za",0,"","Week",null,"OV WEEK","OV DAG","Recup -","Recup +","OV 50%"]
[18,"2019-05-05","2019-05-05",null,null,0,null,0,null,null,"zo",0,"",{"$f":"SUM(L128:L134)","v":7.6},{"$f":"SUM(H128:H134)","v":0},{"$f":"IF(N134>38,N134-38,0)","v":0},{"$f":"SUM(M128:M134)","v":0},{"$f":"SUM(I128:I134)","v":0},{"$f":"IF(N134>38,N134-38,0)","v":0},{"$f":"IF(P134>Q134,P134,Q134)","v":0}]
[19,"2019-05-06","2019-05-06",null,null,0,0,0,null,null,null,0,""]
[19,"2019-05-07","2019-05-07",null,null,0,0,0,null,null,null,0,""]
[19,"2019-05-08","2019-05-08",null,null,0,0,0,null,null,null,0,{"$f":"IF(L137>9,L137-9,\"\")","v":""}]
[{"$f":"WEEKNUM(C138,21)","v":19},{"$f":"C138","v":"2019-05-09"},"2019-05-09",null,null,{"$f":"(E138-D138)*24","v":0},{"$f":"IF(F138>=6,0.5,0)","v":0},{"$f":"F138-G138","v":0},null,null,null,{"$f":"SUM(H138:J138)","v":0},""]
[19,"2019-05-10","2019-05-10",null,null,0,0,0,null,null,null,0,""]
[19,"2019-05-11","2019-05-11",null,null,0,null,0,null,null,"za",0,"","Week",null,"OV WEEK","OV DAG","Recup -","Recup +","OV 50%"]
[19,"2019-05-12","2019-05-12",null,null,0,null,0,null,null,"zo",0,"",{"$f":"SUM(L135:L141)","v":0},{"$f":"SUM(H135:H141)","v":0},{"$f":"IF(N141>38,N141-38,0)","v":0},{"$f":"SUM(M135:M141)","v":0},{"$f":"SUM(I135:I141)","v":0},{"$f":"IF(N141>38,N141-38,0)","v":0},{"$f":"IF(P141>Q141,P141,Q141)","v":0}]
[20,"2019-05-13","2019-05-13",null,null,0,0,0,null,null,null,0,""]
[20,"2019-05-14","2019-05-14",null,null,0,0,0,null,null,null,0,""]
[20,"2019-05-15","2019-05-15",null,null,0,0,0,null,null,null,0,""]
[20,"2019-05-16","2019-05-16",null,null,0,0,0,null,null,null,0,""]
[20,"2019-05-17","2019-05-17",null,null,0,0,0,null,null,null,0,""]
[20,"2019-05-18","2019-05-18",null,null,0,null,0,null,null,"za",0,"","Week",null,"OV WEEK","OV DAG","Recup -","Recup +","OV 50%"]
[20,"2019-05-19","2019-05-19",null,null,0,null,0,null,null,"zo",0,"",{"$f":"SUM(L142:L148)","v":0},{"$f":"SUM(H142:H148)","v":0},{"$f":"IF(N148>38,N148-38,0)","v":0},{"$f":"SUM(M142:M148)","v":0},{"$f":"SUM(I142:I148)","v":0},{"$f":"IF(N148>38,N148-38,0)","v":0},{"$f":"IF(P148>Q148,P148,Q148)","v":0}]
[21,"2019-05-20","2019-05-20",null,null,0,0,0,null,7.6,"fd",7.6,""]
[21,"2019-05-21","2019-05-21",null,null,0,0,0,null,null,null,0,""]
[21,"2019-05-22","2019-05-22",null,null,0,0,0,null,null,null,0,""]
[21,"2019-05-23","2019-05-23",null,null,0,0,0,null,null,null,0,""]
[21,"2019-05-24","2019-05-24",null,null,0,0,0,null,null,null,0,""]
[21,"2019-05-25","2019-05-25",null,null,0,null,0,null,null,"za",0,"","Week",null,"OV WEEK","OV DAG","Recup -","Recup +","OV 50%"]
[21,"2019-05-26","2019-05-26",null,null,0,null,0,null,null,"zo",0,"",{"$f":"SUM(L149:L155)","v":7.6},{"$f":"SUM(H149:H155)","v":0},{"$f":"IF(N155>38,N155-38,0)","v":0},{"$f":"SUM(M149:M155)","v":0},{"$f":"SUM(I149:I155)","v":0},{"$f":"IF(N155>38,N155-38,0)","v":0},{"$f":"IF(P155>Q155,P155,Q155)","v":0}]
[22,"2019-05-27","2019-05-27",null,null,0,0,0,null,null,null,0,""]
[22,"2019-05-28","2019-05-28",null,null,0,0,0,null,null,null,0,""]
[22,"2019-05-29","2019-05-29",null,null,0,0,0,null,null,null,0,""]
[22,"2019-05-30","2019-05-30",null,null,0,0,0,null,7.6,"fd",7.6,""]
[22,"2019-05-31","2019-05-31",null,null,0,0,0,null,null,null,0,""]
[22,"2019-06-01","2019-06-01",null,null,0,null,0,null,null,"za",0,"","Week",null,"OV WEEK","OV DAG","Recup -","Recup +","OV 50%"]
[22,"2019-06-02","2019-06-02",null,null,0,null,0,null,null,"zo",0,"",{"$f":"SUM(L156:L162)","v":7.6},{"$f":"SUM(H156:H162)","v":0},{"$f":"IF(N162>38,N162-38,0)","v":0},{"$f":"SUM(M156:M162)","v":0},{"$f":"SUM(I156:I162)","v":0},{"$f":"IF(N162>38,N162-38,0)","v":0},{"$f":"IF(P162>Q162,P162,Q162)","v":0}]
[23,"2019-06-03","2019-06-03",null,null,0,0,0,null,null,null,0,""]
[23,"2019-06-04","2019-06-04",null,null,0,0,0,null,null,null,0,""]
[23,"2019-06-05","2019-06-05",null,null,0,0,0,null,null,null,0,""]
[23,"2019-06-06","2019-06-06",null,null,0,0,0,null,null,null,0,""]
[23,"2019-06-07","2019-06-07",null,null,0,0,0,null,null,null,0,""]
[23,"2019-06-08","2019-06-08",null,null,0,null,0,null,null,"za",0,"","Week",null,"OV WEEK","OV DAG","Recup -","Recup +","OV 50%"]
[23,"2019-06-09","2019-06-09",null,null,0,null,0,null,null,"zo",0,"",{"$f":"SUM(L163:L169)","v":0},{"$f":"SUM(H163:H169)","v":0},{"$f":"IF(N169>38,N169-38,0)","v":0},{"$f":"SUM(M163:M169)","v":0},{"$f":"SUM(I163:I169)","v":0},{"$f":"IF(N169>38,N169-38,0)","v":0},{"$f":"IF(P169>Q169,P169,Q169)","v":0}]
[24,"2019-06-10","2019-06-10",null,null,0,0,0,null,7.6,"fd",7.6,""]
[24,"2019-06-11","2019-06-11",null,null,0,0,0,null,null,null,0,""]
[24,"2019-06-12","2019-06-12",null,null,0,0,0,null,null,null,0,""]
[24,"2019-06-13","2019-06-13",null,null,0,0,0,null,null,null,0,""]
[24,"2019-06-14","2019-06-14",null,null,0,0,0,null,null,null,0,""]
[24,"2019-06-15","2019-06-15",null,null,0,null,0,null,null,"za",0,"","Week",null,"OV WEEK","OV DAG","Recup -","Recup +","OV 50%"]
[24,"2019-06-16","2019-06-16",null,null,0,null,0,null,null,"zo",0,"",{"$f":"SUM(L170:L176)","v":7.6},{"$f":"SUM(H170:H176)","v":0},{"$f":"IF(N176>38,N176-38,0)","v":0},{"$f":"SUM(M170:M176)","v":0},{"$f":"SUM(I170:I176)","v":0},{"$f":"IF(N176>38,N176-38,0)","v":0},{"$f":"IF(P176>Q176,P176,Q176)","v":0}]
[25,"2019-06-17","2019-06-17",null,null,0,0,0,null,null,null,0,""]
[25,"2019-06-18","2019-06-18",null,null,0,0,0,null,null,null,0,""]
[25,"2019-06-19","2019-06-19",null,null,0,0,0,null,null,null,0,""]
[25,"2019-06-20","2019-06-20",null,null,0,0,0,null,null,null,0,""]
[25,"2019-06-21","2019-06-21",null,null,0,0,0,null,null,null,0,""]
[25,"2019-06-22","2019-06-22",null,null,0,null,0,null,null,"za",0,"","Week",null,"OV WEEK","OV DAG","Recup -","Recup +","OV 50%"]
[25,"2019-06-23","2019-06-23",null,null,0,null,0,null,null,"zo",0,"",{"$f":"SUM(L177:L183)","v":0},{"$f":"SUM(H177:H183)","v":0},{"$f":"IF(N183>38,N183-38,0)","v":0},{"$f":"SUM(M177:M183)","v":0},{"$f":"SUM(I177:I183)","v":0},{"$f":"IF(N183>38,N183-38,0)","v":0},{"$f":"IF(P183>Q183,P183,Q183)","v":0}]
[26,"2019-06-24","2019-06-24",null,null,0,0,0,null,null,null,0,""]
[26,"2019-06-25","2019-06-25",null,null,0,0,0,null,null,null,0,""]
[26,"2019-06-26","2019-06-26",null,null,0,0,0,null,null,null,0,""]
[26,"2019-06-27","2019-06-27",null,null,0,0,0,null,null,null,0,""]
[26,"2019-06-28","2019-06-28",null,null,0,0,0,null,null,null,0,""]
[26,"2019-06-29","2019-06-29",null,null,0,null,0,null,null,"za",0,"","Week",null,"OV WEEK","OV DAG","Recup -","Recup +","OV 50%"]
[26,"2019-06-30","2019-06-30",null,null,0,null,0,null,null,"zo",0,"",{"$f":"SUM(L184:L190)","v":0},{"$f":"SUM(H184:H190)","v":0},{"$f":"IF(N190>38,N190-38,0)","v":0},{"$f":"SUM(M184:M190)","v":0},{"$f":"SUM(I184:I190)","v":0},{"$f":"IF(N190>38,N190-38,0)","v":0},{"$f":"IF(P190>Q190,P190,Q190)","v":0}]
[27,"2019-07-01","2019-07-01",null,null,0,0,0,null,null,null,0,""]
[27,"2019-07-02","2019-07-02",null,null,0,0,0,null,null,null,0,""]
[27,"2019-07-03","2019-07-03",null,null,0,0,0,null,null,null,0,""]
[27,"2019-07-04","2019-07-04",null,null,0,0,0,null,null,null,0,""]
[27,"2019-07-05","2019-07-05",null,null,0,0,0,null,null,null,0,""]
[27,"2019-07-06","2019-07-06",null,null,0,null,0,null,null,"za",0,"","Week",null,"OV WEEK","OV DAG","Recup -","Recup +","OV 50%"]
[27,"2019-07-07","2019-07-07",null,null,0,null,0,null,null,"zo",0,"",{"$f":"SUM(L191:L197)","v":0},{"$f":"SUM(H191:H197)","v":0},{"$f":"IF(N197>38,N197-38,0)","v":0},{"$f":"SUM(M191:M197)","v":0},{"$f":"SUM(I191:I197)","v":0},{"$f":"IF(N197>38,N197-38,0)","v":0},{"$f":"IF(P197>Q197,P197,Q197)","v":0}]
[28,"2019-07-08","2019-07-08",null,null,0,0,0,null,null,null,0,""]
[28,"2019-07-09","2019-07-09",null,null,0,0,0,null,null,null,0,""]
[28,"2019-07-10","2019-07-10",null,null,0,0,0,null,null,null,0,""]
[28,"2019-07-11","2019-07-11",null,null,0,0,0,null,null,null,0,{"$f":"IF(L201>9,L201-9,\"\")","v":""}]
[{"$f":"WEEKNUM(C202,21)","v":28},{"$f":"C202","v":"2019-07-12"},"2019-07-12",null,null,{"$f":"(E202-D202)*24","v":0},{"$f":"IF(F202>=6,0.5,0)","v":0},{"$f":"F202-G202","v":0},null,null,null,{"$f":"SUM(H202:J202)","v":0},""]
[28,"2019-07-13","2019-07-13",null,null,0,null,0,null,null,"za",0,"","Week",null,"OV WEEK","OV DAG","Recup -","Recup +","OV 50%"]
[28,"2019-07-14","2019-07-14",null,null,0,null,0,null,null,"zo",0,"",{"$f":"SUM(L198:L204)","v":0},{"$f":"SUM(H198:H204)","v":0},{"$f":"IF(N204>38,N204-38,0)","v":0},{"$f":"SUM(M198:M204)","v":0},{"$f":"SUM(I198:I204)","v":0},{"$f":"IF(N204>38,N204-38,0)","v":0},{"$f":"IF(P204>Q204,P204,Q204)","v":0}]
[29,"2019-07-15","2019-07-15",null,null,0,0,0,null,null,null,0,""]
[29,"2019-07-16","2019-07-16",null,null,0,0,0,null,null,null,0,""]
[29,"2019-07-17","2019-07-17",null,null,0,0,0,null,null,null,0,""]
[29,"2019-07-18","2019-07-18",null,null,0,0,0,null,null,null,0,""]
[29,"2019-07-19","2019-07-19",null,null,0,0,0,null,null,null,0,""]
[29,"2019-07-20","2019-07-20",null,null,0,null,0,null,null,"za",0,"","Week",null,"OV WEEK","OV DAG","Recup -","Recup +","OV 50%"]
[29,"2019-07-21","2019-07-21",null,null,0,null,0,null,null,"zo",0,"",{"$f":"SUM(L205:L211)","v":0},{"$f":"SUM(H205:H211)","v":0},{"$f":"IF(N211>38,N211-38,0)","v":0},{"$f":"SUM(M205:M211)","v":0},{"$f":"SUM(I205:I211)","v":0},{"$f":"IF(N211>38,N211-38,0)","v":0},{"$f":"IF(P211>Q211,P211,Q211)","v":0}]
[30,"2019-07-22","2019-07-22",null,null,0,0,0,null,null,null,0,""]
[30,"2019-07-23","2019-07-23",null,null,0,0,0,null,null,null,0,""]
[30,"2019-07-24","2019-07-24",null,null,0,0,0,null,null,null,0,""]
[30,"2019-07-25","2019-07-25",null,null,0,0,0,null,null,null,0,""]
[30,"2019-07-26","2019-07-26",null,null,0,0,0,null,null,null,0,""]
[30,"2019-07-27","2019-07-27",null,null,0,null,0,null,null,"za",0,"","Week",null,"OV WEEK","OV DAG","Recup -","Recup +","OV 50%"]
[30,"2019-07-28","2019-07-28",null,null,0,null,0,null,null,"zo",0,"",{"$f":"SUM(L212:L218)","v":0},{"$f":"SUM(H212:H218)","v":0},{"$f":"IF(N218>38,N218-38,0)","v":0},{"$f":"SUM(M212:M218)","v":0},{"$f":"SUM(I212:I218)","v":0},{"$f":"IF(N218>38,N218-38,0)","v":0},{"$f":"IF(P218>Q218,P218,Q218)","v":0}]
[31,"2019-07-29","2019-07-29",null,null,0,0,0,null,null,null,0,""]
[31,"2019-07-30","2019-07-30",null,null,0,0,0,null,null,null,0,""]
[31,"2019-07-31","2019-07-31",null,null,0,0,0,null,null,null,0,""]
[31,"2019-08-01","2019-08-01",null,null,0,0,0,null,null,null,0,""]
[31,"2019-08-02","2019-08-02",null,null,0,0,0,null,null,null,0,""]
[31,"2019-08-03","2019-08-03",null,null,0,null,0,null,null,"za",0,"","Week",null,"OV WEEK","OV DAG","Recup -","Recup +","OV 50%"]
[31,"2019-08-04","2019-08-04",null,null,0,null,0,null,null,"zo",0,"",{"$f":"SUM(L219:L225)","v":0},{"$f":"SUM(H219:H225)","v":0},{"$f":"IF(N225>38,N225-38,0)","v":0},{"$f":"SUM(M219:M225)","v":0},{"$f":"SUM(I219:I225)","v":0},{"$f":"IF(N225>38,N225-38,0)","v":0},{"$f":"IF(P225>Q225,P225,Q225)","v":0}]
[32,"2019-08-05","2019-08-05",null,null,0,0,0,null,null,null,0,""]
[32,"2019-08-06","2019-08-06",null,null,0,0,0,null,null,null,0,""]
[32,"2019-08-07","2019-08-07",null,null,0,0,0,null,null,null,0,""]
[32,"2019-08-08","2019-08-08",null,null,0,0,0,null,null,null,0,""]
[32,"2019-08-09","2019-08-09",null,null,0,0,0,null,null,null,0,""]
[32,"2019-08-10","2019-08-10",null,null,0,null,0,null,null,"za",0,"","Week",null,"OV WEEK","OV DAG","Recup -","Recup +","OV 50%"]
[32,"2019-08-11","2019-08-11",null,null,0,null,0,null,null,"zo",0,"",{"$f":"SUM(L226:L232)","v":0},{"$f":"SUM(H226:H232)","v":0},{"$f":"IF(N232>38,N232-38,0)","v":0},{"$f":"SUM(M226:M232)","v":0},{"$f":"SUM(I226:I232)","v":0},{"$f":"IF(N232>38,N232-38,0)","v":0},{"$f":"IF(P232>Q232,P232,Q232)","v":0}]
[33,"2019-08-12","2019-08-12",null,null,0,0,0,null,null,null,0,""]
[33,"2019-08-13","2019-08-13",null,null,0,0,0,null,null,null,0,""]
[33,"2019-08-14","2019-08-14",null,null,0,0,0,null,null,null,0,""]
[33,"2019-08-15","2019-08-15",null,null,0,0,0,null,7.6,"fd",7.6,""]
[33,"2019-08-16","2019-08-16",null,null,0,0,0,null,null,null,0,""]
[33,"2019-08-17","2019-08-17",null,null,0,null,0,null,null,"za",0,"","Week",null,"OV WEEK","OV DAG","Recup -","Recup +","OV 50%"]
[33,"2019-08-18","2019-08-18",null,null,0,null,0,null,null,"zo",0,"",{"$f":"SUM(L233:L239)","v":7.6},{"$f":"SUM(H233:H239)","v":0},{"$f":"IF(N239>38,N239-38,0)","v":0},{"$f":"SUM(M233:M239)","v":0},{"$f":"SUM(I233:I239)","v":0},{"$f":"IF(N239>38,N239-38,0)","v":0},{"$f":"IF(P239>Q239,P239,Q239)","v":0}]
[34,"2019-08-19","2019-08-19",null,null,0,0,0,null,null,null,0,""]
[34,"2019-08-20","2019-08-20",null,null,0,{"$f":"IF(F241>=6,0.5,0)","v":0},0,null,null,null,0,""]
[34,"2019-08-21","2019-08-21",null,null,0,0,0,null,null,null,0,""]
[34,"2019-08-22","2019-08-22",null,null,0,0,0,null,null,null,0,""]
[34,"2019-08-23","2019-08-23",null,null,0,0,0,null,null,null,0,""]
[34,"2019-08-24","2019-08-24",null,null,0,null,0,null,null,"za",0,"","Week",null,"OV WEEK","OV DAG","Recup -","Recup +","OV 50%"]
[34,"2019-08-25","2019-08-25",null,null,0,null,0,null,null,"zo",0,"",{"$f":"SUM(L240:L246)","v":0},{"$f":"SUM(H240:H246)","v":0},{"$f":"IF(N246>38,N246-38,0)","v":0},{"$f":"SUM(M240:M246)","v":0},{"$f":"SUM(I240:I246)","v":0},{"$f":"IF(N246>38,N246-38,0)","v":0},{"$f":"IF(P246>Q246,P246,Q246)","v":0}]
[35,"2019-08-26","2019-08-26",null,null,0,0,0,null,null,null,0,""]
[35,"2019-08-27","2019-08-27",null,null,0,0,0,null,null,null,0,""]
[35,"2019-08-28","2019-08-28",null,null,0,0,0,null,null,null,0,""]
[35,"2019-08-29","2019-08-29",null,null,0,0,0,null,null,null,0,""]
[35,"2019-08-30","2019-08-30",null,null,0,0,0,null,null,null,0,""]
[35,"2019-08-31","2019-08-31",null,null,0,null,0,null,null,"za",0,"","Week",null,"OV WEEK","OV DAG","Recup -","Recup +","OV 50%"]
[35,"2019-09-01","2019-09-01",null,null,0,null,0,null,null,"zo",0,"",{"$f":"SUM(L247:L253)","v":0},{"$f":"SUM(H247:H253)","v":0},{"$f":"IF(N253>38,N253-38,0)","v":0},{"$f":"SUM(M247:M253)","v":0},{"$f":"SUM(I247:I253)","v":0},{"$f":"IF(N253>38,N253-38,0)","v":0},{"$f":"IF(P253>Q253,P253,Q253)","v":0}]
[36,"2019-09-02","2019-09-02",null,null,0,0,0,null,null,null,0,""]
[36,"2019-09-03","2019-09-03",null,null,0,0,0,null,null,null,0,""]
[36,"2019-09-04","2019-09-04",null,null,0,0,0,null,null,null,0,""]
[36,"2019-09-05","2019-09-05",null,null,0,0,0,null,null,null,0,""]
[36,"2019-09-06","2019-09-06",null,null,0,0,0,null,null,null,0,""]
[36,"2019-09-07","2019-09-07",null,null,0,null,0,null,null,"za",0,"","Week",null,"OV WEEK","OV DAG","Recup -","Recup +","OV 50%"]
[36,"2019-09-08","2019-09-08",null,null,0,null,0,null,null,"zo",0,"",{"$f":"SUM(L254:L260)","v":0},{"$f":"SUM(H254:H260)","v":0},{"$f":"IF(N260>38,N260-38,0)","v":0},{"$f":"SUM(M254:M260)","v":0},{"$f":"SUM(I254:I260)","v":0},{"$f":"IF(N260>38,N260-38,0)","v":0},{"$f":"IF(P260>Q260,P260,Q260)","v":0}]
[37,"2019-09-09","2019-09-09",null,null,0,0,0,null,null,null,0,""]
[37,"2019-09-10","2019-09-10",null,null,0,0,0,null,null,null,0,""]
[37,"2019-09-11","2019-09-11",null,null,0,0,0,null,null,null,0,""]
[37,"2019-09-12","2019-09-12",null,null,0,0,0,null,null,null,0,""]
[37,"2019-09-13","2019-09-13",null,null,0,0,0,null,null,null,0,{"$f":"IF(L265>9,L265-9,\"\")","v":""}]
[{"$f":"WEEKNUM(C266,21)","v":37},{"$f":"C266","v":"2019-09-14"},"2019-09-14",null,null,{"$f":"(E266-D266)*24","v":0},null,{"$f":"F266-G266","v":0},null,null,"za",{"$f":"SUM(H266:J266)","v":0},"","Week",null,"OV WEEK","OV DAG","Recup -","Recup +","OV 50%"]
[37,"2019-09-15","2019-09-15",null,null,0,null,0,null,null,"zo",0,"",{"$f":"SUM(L261:L267)","v":0},{"$f":"SUM(H261:H267)","v":0},{"$f":"IF(N267>38,N267-38,0)","v":0},{"$f":"SUM(M261:M267)","v":0},{"$f":"SUM(I261:I267)","v":0},{"$f":"IF(N267>38,N267-38,0)","v":0},{"$f":"IF(P267>Q267,P267,Q267)","v":0}]
[38,"2019-09-16","2019-09-16",null,null,0,{"$f":"IF(F268>=6,0.5,0)","v":0},0,null,null,null,0,""]
[38,"2019-09-17","2019-09-17",null,null,0,0,0,null,null,null,0,""]
[38,"2019-09-18","2019-09-18",null,null,0,0,0,null,null,null,0,""]
[38,"2019-09-19","2019-09-19",null,null,0,0,0,null,null,null,0,""]
[38,"2019-09-20","2019-09-20",null,null,0,0,0,null,null,null,0,""]
[38,"2019-09-21","2019-09-21",null,null,0,null,0,null,null,"za",0,"","Week",null,"OV WEEK","OV DAG","Recup -","Recup +","OV 50%"]
[38,"2019-09-22","2019-09-22",null,null,0,null,0,null,null,"zo",0,"",{"$f":"SUM(L268:L274)","v":0},{"$f":"SUM(H268:H274)","v":0},{"$f":"IF(N274>38,N274-38,0)","v":0},{"$f":"SUM(M268:M274)","v":0},{"$f":"SUM(I268:I274)","v":0},{"$f":"IF(N274>38,N274-38,0)","v":0},{"$f":"IF(P274>Q274,P274,Q274)","v":0}]
[39,"2019-09-23","2019-09-23",null,null,0,0,0,null,null,null,0,""]
[39,"2019-09-24","2019-09-24",null,null,0,0,0,null,null,null,0,""]
[39,"2019-09-25","2019-09-25",null,null,0,0,0,null,null,null,0,""]
[39,"2019-09-26","2019-09-26",null,null,0,0,0,null,null,null,0,""]
[39,"2019-09-27","2019-09-27",null,null,0,0,0,null,null,null,0,""]
[39,"2019-09-28","2019-09-28",null,null,0,null,0,null,null,"za",0,"","Week",null,"OV WEEK","OV DAG","Recup -","Recup +","OV 50%"]
[39,"2019-09-29","2019-09-29",null,null,0,null,0,null,null,"zo",0,"",{"$f":"SUM(L275:L281)","v":0},{"$f":"SUM(H275:H281)","v":0},{"$f":"IF(N281>38,N281-38,0)","v":0},{"$f":"SUM(M275:M281)","v":0},{"$f":"SUM(I275:I281)","v":0},{"$f":"IF(N281>38,N281-38,0)","v":0},{"$f":"IF(P281>Q281,P281,Q281)","v":0}]
[40,"2019-09-30","2019-09-30",null,null,0,0,0,null,null,null,0,""]
[40,"2019-10-01","2019-10-01",null,null,0,0,0,null,null,null,0,""]
[40,"2019-10-02","2019-10-02",null,null,0,0,0,null,null,null,0,""]
[40,"2019-10-03","2019-10-03",null,null,0,0,0,null,null,null,0,""]
[40,"2019-10-04","2019-10-04",null,null,0,0,0,null,null,null,0,""]
[40,"2019-10-05","2019-10-05",null,null,0,null,0,null,null,"za",0,"","Week",null,"OV WEEK","OV DAG","Recup -","Recup +","OV 50%"]
[40,"2019-10-06","2019-10-06",null,null,0,null,0,null,null,"zo",0,"",{"$f":"SUM(L282:L288)","v":0},{"$f":"SUM(H282:H288)","v":0},{"$f":"IF(N288>38,N288-38,0)","v":0},{"$f":"SUM(M282:M288)","v":0},{"$f":"SUM(I282:I288)","v":0},{"$f":"IF(N288>38,N288-38,0)","v":0},{"$f":"IF(P288>Q288,P288,Q288)","v":0}]
[41,"2019-10-07","2019-10-07",null,null,0,0,0,null,null,null,0,""]
[41,"2019-10-08","2019-10-08",null,null,0,0,0,null,null,null,0,""]
[41,"2019-10-09","2019-10-09",null,null,0,0,0,null,null,null,0,""]
[41,"2019-10-10","2019-10-10",null,null,0,0,0,null,null,null,0,""]
[41,"2019-10-11","2019-10-11",null,null,0,0,0,null,null,null,0,""]
[41,"2019-10-12","2019-10-12",null,null,0,null,0,null,null,"za",0,"","Week",null,"OV WEEK","OV DAG","Recup -","Recup +","OV 50%"]
[41,"2019-10-13","2019-10-13",null,null,0,null,0,null,null,"zo",0,"",{"$f":"SUM(L289:L295)","v":0},{"$f":"SUM(H289:H295)","v":0},{"$f":"IF(N295>38,N295-38,0)","v":0},{"$f":"SUM(M289:M295)","v":0},{"$f":"SUM(I289:I295)","v":0},{"$f":"IF(N295>38,N295-38,0)","v":0},{"$f":"IF(P295>Q295,P295,Q295)","v":0}]
[42,"2019-10-14","2019-10-14",null,null,0,0,0,null,null,null,0,""]
[42,"2019-10-15","2019-10-15",null,null,0,0,0,null,null,null,0,""]
[42,"2019-10-16","2019-10-16",null,null,0,0,0,null,null,null,0,""]
[42,"2019-10-17","2019-10-17",null,null,0,0,0,null,null,null,0,""]
[42,"2019-10-18","2019-10-18",null,null,0,0,0,null,null,null,0,""]
[42,"2019-10-19","2019-10-19",null,null,0,null,0,null,null,"za",0,"","Week",null,"OV WEEK","OV DAG","Recup -","Recup +","OV 50%"]
[42,"2019-10-20","2019-10-20",null,null,0,null,0,null,null,"zo",0,"",{"$f":"SUM(L296:L302)","v":0},{"$f":"SUM(H296:H302)","v":0},{"$f":"IF(N302>38,N302-38,0)","v":0},{"$f":"SUM(M296:M302)","v":0},{"$f":"SUM(I296:I302)","v":0},{"$f":"IF(N302>38,N302-38,0)","v":0},{"$f":"IF(P302>Q302,P302,Q302)","v":0}]
[43,"2019-10-21","2019-10-21",null,null,0,0,0,null,null,null,0,""]
[43,"2019-10-22","2019-10-22",null,null,0,0,0,null,null,null,0,""]
[43,"2019-10-23","2019-10-23",null,null,0,0,0,null,null,null,0,""]
[43,"2019-10-24","2019-10-24",null,null,0,0,0,null,null,null,0,""]
[43,"2019-10-25","2019-10-25",null,null,0,0,0,null,null,null,0,""]
[43,"2019-10-26","2019-10-26",null,null,0,null,0,null,null,"za",0,"","Week",null,"OV WEEK","OV DAG","Recup -","Recup +","OV 50%"]
[43,"2019-10-27","2019-10-27",null,null,0,null,0,null,null,"zo",0,"",{"$f":"SUM(L303:L309)","v":0},{"$f":"SUM(H303:H309)","v":0},{"$f":"IF(N309>38,N309-38,0)","v":0},{"$f":"SUM(M303:M309)","v":0},{"$f":"SUM(I303:I309)","v":0},{"$f":"IF(N309>38,N309-38,0)","v":0},{"$f":"IF(P309>Q309,P309,Q309)","v":0}]
[44,"2019-10-28","2019-10-28",null,null,0,0,0,null,null,null,0,""]
[44,"2019-10-29","2019-10-29",null,null,0,0,0,null,null,null,0,""]
[44,"2019-10-30","2019-10-30",null,null,0,0,0,null,null,null,0,""]
[44,"2019-10-31","2019-10-31",null,null,0,0,0,null,null,null,0,""]
[44,"2019-11-01","2019-11-01",null,null,0,0,0,null,7.6,"fd",7.6,""]
[44,"2019-11-02","2019-11-02",null,null,0,null,0,null,null,"za",0,"","Week",null,"OV WEEK","OV DAG","Recup -","Recup +","OV 50%"]
[44,"2019-11-03","2019-11-03",null,null,0,null,0,null,null,"zo",0,"",{"$f":"SUM(L310:L316)","v":7.6},{"$f":"SUM(H310:H316)","v":0},{"$f":"IF(N316>38,N316-38,0)","v":0},{"$f":"SUM(M310:M316)","v":0},{"$f":"SUM(I310:I316)","v":0},{"$f":"IF(N316>38,N316-38,0)","v":0},{"$f":"IF(P316>Q316,P316,Q316)","v":0}]
[45,"2019-11-04","2019-11-04",null,null,0,0,0,null,null,null,0,""]
[45,"2019-11-05","2019-11-05",null,null,0,0,0,null,null,null,0,""]
[45,"2019-11-06","2019-11-06",null,null,0,0,0,null,null,null,0,""]
[45,"2019-11-07","2019-11-07",null,null,0,0,0,null,null,null,0,""]
[45,"2019-11-08","2019-11-08",null,null,0,0,0,null,null,null,0,""]
[45,"2019-11-09","2019-11-09",null,null,0,null,0,null,null,"za",0,"","Week",null,"OV WEEK","OV DAG","Recup -","Recup +","OV 50%"]
[45,"2019-11-10","2019-11-10",null,null,0,null,0,null,null,"zo",0,"",{"$f":"SUM(L317:L323)","v":0},{"$f":"SUM(H317:H323)","v":0},{"$f":"IF(N323>38,N323-38,0)","v":0},{"$f":"SUM(M317:M323)","v":0},{"$f":"SUM(I317:I323)","v":0},{"$f":"IF(N323>38,N323-38,0)","v":0},{"$f":"IF(P323>Q323,P323,Q323)","v":0}]
[46,"2019-11-11","2019-11-11",null,null,0,0,0,null,7.6,"fd",7.6,""]
[46,"2019-11-12","2019-11-12",null,null,0,0,0,null,null,null,0,""]
[46,"2019-11-13","2019-11-13",null,null,0,0,0,null,null,null,0,""]
[46,"2019-11-14","2019-11-14",null,null,0,0,0,null,null,null,0,""]
[46,"2019-11-15","2019-11-15",null,null,0,0,0,null,null,null,0,""]
[46,"2019-11-16","2019-11-16",null,null,0,null,0,null,null,"za",0,{"$f":"IF(L329>9,L329-9,\"\")","v":""},"Week",null,"OV WEEK","OV DAG","Recup -","Recup +","OV 50%"]
[{"$f":"WEEKNUM(C330,21)","v":46},{"$f":"C330","v":"2019-11-17"},"2019-11-17",null,null,{"$f":"(E330-D330)*24","v":0},null,{"$f":"F330-G330","v":0},null,null,"zo",{"$f":"SUM(H330:J330)","v":0},"",{"$f":"SUM(L324:L330)","v":7.6},{"$f":"SUM(H324:H330)","v":0},{"$f":"IF(N330>38,N330-38,0)","v":0},{"$f":"SUM(M324:M330)","v":0},{"$f":"SUM(I324:I330)","v":0},{"$f":"IF(N330>38,N330-38,0)","v":0},{"$f":"IF(P330>Q330,P330,Q330)","v":0}]
[47,"2019-11-18","2019-11-18",null,null,0,{"$f":"IF(F331>=6,0.5,0)","v":0},0,null,null,null,0,""]
[47,"2019-11-19","2019-11-19",null,null,0,0,0,null,null,null,0,""]
[47,"2019-11-20","2019-11-20",null,null,0,0,0,null,null,null,0,""]
[47,"2019-11-21","2019-11-21",null,null,0,0,0,null,null,null,0,""]
[47,"2019-11-22","2019-11-22",null,null,0,0,0,null,null,null,0,""]
[47,"2019-11-23","2019-11-23",null,null,0,null,0,null,null,"za",0,"","Week",null,"OV WEEK","OV DAG","Recup -","Recup +","OV 50%"]
[47,"2019-11-24","2019-11-24",null,null,0,null,0,null,null,"zo",0,"",{"$f":"SUM(L331:L337)","v":0},{"$f":"SUM(H331:H337)","v":0},{"$f":"IF(N337>38,N337-38,0)","v":0},{"$f":"SUM(M331:M337)","v":0},{"$f":"SUM(I331:I337)","v":0},{"$f":"IF(N337>38,N337-38,0)","v":0},{"$f":"IF(P337>Q337,P337,Q337)","v":0}]
[48,"2019-11-25","2019-11-25",null,null,0,0,0,null,null,null,0,""]
[48,"2019-11-26","2019-11-26",null,null,0,0,0,null,null,null,0,""]
[48,"2019-11-27","2019-11-27",null,null,0,0,0,null,null,null,0,""]
[48,"2019-11-28","2019-11-28",null,null,0,0,0,null,null,null,0,""]
[48,"2019-11-29","2019-11-29",null,null,0,0,0,null,null,null,0,""]
[48,"2019-11-30","2019-11-30",null,null,0,null,0,null,null,"za",0,"","Week",null,"OV WEEK","OV DAG","Recup -","Recup +","OV 50%"]
[48,"2019-12-01","2019-12-01",null,null,0,null,0,null,null,"zo",0,"",{"$f":"SUM(L338:L344)","v":0},{"$f":"SUM(H338:H344)","v":0},{"$f":"IF(N344>38,N344-38,0)","v":0},{"$f":"SUM(M338:M344)","v":0},{"$f":"SUM(I338:I344)","v":0},{"$f":"IF(N344>38,N344-38,0)","v":0},{"$f":"IF(P344>Q344,P344,Q344)","v":0}]
[49,"2019-12-02","2019-12-02",null,null,0,0,0,null,null,null,0,""]
[49,"2019-12-03","2019-12-03",null,null,0,0,0,null,null,null,0,""]
[49,"2019-12-04","2019-12-04",null,null,0,0,0,null,null,null,0,""]
[49,"2019-12-05","2019-12-05",null,null,0,0,0,null,null,null,0,""]
[49,"2019-12-06","2019-12-06",null,null,0,0,0,null,null,null,0,""]
[49,"2019-12-07","2019-12-07",null,null,0,null,0,null,null,"za",0,"","Week",null,"OV WEEK","OV DAG","Recup -","Recup +","OV 50%"]
[49,"2019-12-08","2019-12-08",null,null,0,null,0,null,null,"zo",0,"",{"$f":"SUM(L345:L351)","v":0},{"$f":"SUM(H345:H351)","v":0},{"$f":"IF(N351>38,N351-38,0)","v":0},{"$f":"SUM(M345:M351)","v":0},{"$f":"SUM(I345:I351)","v":0},{"$f":"IF(N351>38,N351-38,0)","v":0},{"$f":"IF(P351>Q351,P351,Q351)","v":0}]
[50,"2019-12-09","2019-12-09",null,null,0,0,0,null,null,null,0,""]
[50,"2019-12-10","2019-12-10",null,null,0,0,0,null,null,null,0,""]
[50,"2019-12-11","2019-12-11",null,null,0,0,0,null,null,null,0,""]
[50,"2019-12-12","2019-12-12",null,null,0,0,0,null,null,null,0,""]
[50,"2019-12-13","2019-12-13",null,null,0,0,0,null,null,null,0,""]
[50,"2019-12-14","2019-12-14",null,null,0,null,0,null,null,"za",0,"","Week",null,"OV WEEK","OV DAG","Recup -","Recup +","OV 50%"]
[50,"2019-12-15","2019-12-15",null,null,0,null,0,null,null,"zo",0,"",{"$f":"SUM(L352:L358)","v":0},{"$f":"SUM(H352:H358)","v":0},{"$f":"IF(N358>38,N358-38,0)","v":0},{"$f":"SUM(M352:M358)","v":0},{"$f":"SUM(I352:I358)","v":0},{"$f":"IF(N358>38,N358-38,0)","v":0},{"$f":"IF(P358>Q358,P358,Q358)","v":0}]
[51,"2019-12-16","2019-12-16",null,null,0,0,0,null,null,null,0,""]
[51,"2019-12-17","2019-12-17",null,null,0,0,0,null,null,null,0,""]
[51,"2019-12-18","2019-12-18",null,null,0,0,0,null,null,null,0,""]
[51,"2019-12-19","2019-12-19",null,null,0,0,0,null,null,null,0,""]
[51,"2019-12-20","2019-12-20",null,null,0,0,0,null,null,null,0,""]
[51,"2019-12-21","2019-12-21",null,null,0,null,0,null,null,"za",0,"","Week",null,"OV WEEK","OV DAG","Recup -","Recup +","OV 50%"]
[51,"2019-12-22","2019-12-22",null,null,0,null,0,null,null,"zo",0,"",{"$f":"SUM(L359:L365)","v":0},{"$f":"SUM(H359:H365)","v":0},{"$f":"IF(N365>38,N365-38,0)","v":0},{"$f":"SUM(M359:M365)","v":0},{"$f":"SUM(I359:I365)","v":0},{"$f":"IF(N365>38,N365-38,0)","v":0},{"$f":"IF(P365>Q365,P365,Q365)","v":0}]
[52,"2019-12-23","2019-12-23",null,null,0,0,0,null,null,null,0,""]
[52,"2019-12-24","2019-12-24",null,null,0,0,0,null,null,null,0,""]
[52,"2019-12-25","2019-12-25",null,null,0,0,0,null,7.6,"fd",7.6,""]
[52,"2019-12-26","2019-12-26",null,null,0,0,0,null,null,null,0,""]
[52,"2019-12-27","2019-12-27",null,null,0,0,0,null,null,null,0,""]
[52,"2019-12-28","2019-12-28",null,null,0,null,0,null,null,"za",0,"","Week",null,"OV WEEK","OV DAG","Recup -","Recup +","OV 50%"]
[52,"2019-12-29","2019-12-29",null,null,0,null,0,null,null,"zo",0,"",{"$f":"SUM(L366:L372)","v":7.6},{"$f":"SUM(H366:H372)","v":0},{"$f":"IF(N372>38,N372-38,0)","v":0},{"$f":"SUM(M366:M372)","v":0},{"$f":"SUM(I366:I372)","v":0},{"$f":"IF(N372>38,N372-38,0)","v":0},{"$f":"IF(P372>Q372,P372,Q372)","v":0}]
[1,"2019-12-30","2019-12-30",null,null,0,0,0,null,null,null,0,""]
[1,"2019-12-31","2019-12-31",null,null,0,0,0,null,null,null,0,""]
[1,"2020-01-01","2020-01-01",null,null,0,0,0,null,7.6,"fd",7.6,""]
[1,"2020-01-02","2020-01-02",null,null,0,0,0,null,null,null,0,""]
[1,"2020-01-03","2020-01-03",null,null,0,0,0,null,null,null,0,""]
[1,"2020-01-04","2020-01-04",null,null,0,null,0,null,null,"za",0,"","Week",null,"OV WEEK","OV DAG","Recup -","Recup +","OV 50%"]
[1,"2020-01-05","2020-01-05",null,null,0,null,0,null,null,"zo",0,"",{"$f":"SUM(L373:L379)","v":7.6},{"$f":"SUM(H373:H379)","v":0},{"$f":"IF(N379>38,N379-38,0)","v":0},{"$f":"SUM(M373:M379)","v":0},{"$f":"SUM(I373:I379)","v":0},{"$f":"IF(N379>38,N379-38,0)","v":0},{"$f":"IF(P379>Q379,P379,Q379)","v":0}]

{"sheet":"18","index":6,"n_rows":379,"n_cols":35,"rows_kept":379,"cut":false,"hidden":false,"merged":[[6,21,6,24],[6,25,6,28],[6,29,6,32],[6,33,6,34],[0,1,1,12],[4,21,4,23],[4,25,4,28],[4,29,4,32],[4,33,4,34],[5,21,5,23],[5,25,5,28],[5,29,5,32],[5,33,5,34],[2,21,2,23],[2,25,2,28],[2,29,2,32],[2,33,2,34],[3,21,3,23],[3,25,3,28],[3,29,3,32],[3,33,3,34],[0,21,0,24],[0,25,0,28],[0,29,0,32],[0,33,0,34],[1,21,1,23],[1,25,1,28],[1,29,1,32],[1,33,1,34]]}
["18","De Bruycker Joris",null,null,null,null,null,null,null,null,null,null,null,null,null,null,null,null,null,null,null,"Soort",null,null,null,"Recht op",null,null,null,"Opgenomen",null,null,null,"Saldo"]
[null,null,null,null,null,null,null,null,null,null,null,null,null,null,null,null,null,null,null,null,null,"ADV-dagen",null,null,"adv",null,null,null,null,{"$f":"(COUNTIF(W$9:AH$39,\"ADV\")+(COUNTIF(W$9:AH$39,\"0,5ADV\"))/2)","v":0},null,null,null,{"$f":"Z2-AD2","v":0}]
[null,null,null,null,null,null,null,null,null,null,null,null,null,null,null,null,null,null,null,null,null,"Vakantie 2019",null,null,"v",null,null,null,null,{"$f":"(COUNTIF(W$9:AH$39,\"V\")+(COUNTIF(W$9:AH$39,\"0,5V\"))/2)","v":0},null,null,null,{"$f":"Z3-AD3","v":0}]
["Opgelet avondwerk ! Van 00:00u tot 00:00u / + 0,00u premie 50%",null,null,null,null,null,null,null,null,null,null,null,null,"Feestdag in weekend 2019",null,null,null,null,"Recup 2018",20,null,"Feestdag 2019",null,null,"f",1,null,null,null,{"$f":"(COUNTIF(W$9:AH$39,\"F\")+(COUNTIF(W$9:AH$39,\"0,5F\"))/2)","v":0},null,null,null,1]
[null,null,null,null,null,null,null,null,null,null,null,null,null,"- nationale feestdag 21/7",null,null,null,null,null,null,null,"Vakantie rest 2018",null,null,"vvj",null,null,null,null,{"$f":"(COUNTIF(W$9:AH$39,\"vvj\")+(COUNTIF(W$9:AH$39,\"0,5vvj\"))/2)","v":0},null,null,null,0]
[null,null,null,null,null,null,null,null,null,null,null,null,null,null,null,null,null,null,"Recup",{"$f":"SUM(S9:S379)-SUM(R9:R379)+T5+T4","v":6.6000000000000014},null,"Anciënniteitsdagen",null,null,"a ",null,null,null,null,{"$f":"(COUNTIF(W$9:AH$39,\"A\")+(COUNTIF(W$9:AH$39,\"0,5A\"))/2)","v":0},null,null,null,0]
[null,null,null,null,null,null,null,null,null,null,null,null,null,null,null,null,null,null,null,null,null,"TOTAAL",null,null,null,{"$f":"SUM(Z2:AC6)","v":1},null,null,null,{"$f":"SUM(AD2:AG6)","v":0},null,null,null,{"$f":"SUM(AH2:AI6)","v":1}]
["W","Dag","Datum","Van ","Tot",null,"Pauze","Prestaties","Recup","Andere","Type","Dag","OV DAG","Week","Prestaties","OV WEEK","OV DAG","Rec. -","Rec. +","OV 50%","M",null,"Jan","Feb","Maa","Apr","Mei","Jun","Jul","Aug","Sept","Okt","Nov","Dec"]
[{"$f":"WEEKNUM(C9,21)","v":1},{"$f":"C9","v":"2018-12-31"},"2018-12-31",null,null,{"$f":"(E9-D9)*24","v":0},{"$f":"IF(F9>=6,0.5,0)","v":0},{"$f":"F9-G9","v":0},null,7.6,"OK",{"$f":"SUM(H9:J9)","v":7.6},{"$f":"IF(L9>9,L9-9,\"\")","v":""},"HB 31/12: Joris vergeten dat hij moest komen werken, RO genoteerd iov Christian",null,null,null,null,null,null,0,1,{"$f":"K9","v":"OK"},{"$f":"K40","v":0},{"$f":"K68","v":0},{"$f":"K99","v":"zo"},{"$f":"K129","v":0},{"$f":"K160","v":0},{"$f":"K190","v":"zo"},{"$f":"K221","v":0},{"$f":"K252","v":"za"},{"$f":"K282","v":0},{"$f":"K313","v":0},{"$f":"K343","v":"za"},1]
[{"$f":"WEEKNUM(C10,21)","v":1},{"$f":"C10","v":"2019-01-01"},"2019-01-01",null,null,{"$f":"(E10-D10)*24","v":0},{"$f":"IF(F10>=6,0.5,0)","v":0},{"$f":"F10-G10","v":0},null,7.6,"fd",{"$f":"SUM(H10:J10)","v":7.6},"","OK reeds verwerkt in 2018,",null,null,null,null,null,null,0,2,{"$f":"K10","v":"fd"},{"$f":"K41","v":0},{"$f":"K69","v":0},{"$f":"K100","v":0},{"$f":"K130","v":"fd"},{"$f":"K161","v":"za"},{"$f":"K191","v":0},{"$f":"K222","v":0},{"$f":"K253","v":"zo"},{"$f":"K283","v":0},{"$f":"K314","v":"fd"},{"$f":"K344","v":"zo"},2]
[1,"2019-01-02","2019-01-02","09:00:00","18:15:00",9.25,0.5,8.75,null,null,null,8.75,"",null,null,null,null,null,null,null,null,3,0,"za","za",0,0,"zo",0,0,0,0,"za",0,3]
[1,"2019-01-03","2019-01-03","09:45:00","18:30:00",8.75,0.5,8.25,null,null,null,8.25,"",null,null,null,null,null,null,null,null,4,0,"zo","zo",0,0,0,0,"za",0,0,"zo",0,4]
[1,"2019-01-04","2019-01-04",null,null,0,0,0,5.8,null,"ro",5.8,"","ET : Mail JV 03/01 - Joris neemt dagje recup.",null,null,null,null,null,null,null,5,"ro",0,0,0,"za",0,0,"zo",0,0,0,{"$f":"K347","v":0},5]
[1,"2019-01-05","2019-01-05",null,null,0,null,0,null,null,"za",0,"","Week",null,"OV WEEK","OV DAG","Recup -","Recup +","OV 50%",null,6,"za",0,0,0,"zo",0,0,0,0,"za",0,0,6]
[1,"2019-01-06","2019-01-06",null,null,0,null,0,null,null,"zo",0,"",{"$f":"SUM(L9:L15)","v":38},{"$f":"SUM(H9:H15)","v":17},{"$f":"IF(N15>38,N15-38,0)","v":0},{"$f":"SUM(M9:M15)","v":0},{"$f":"SUM(I9:I15)","v":5.8},{"$f":"IF(N15>38,N15-38,0)","v":0},{"$f":"IF(P15>Q15,P15,Q15)","v":0},null,7,"zo",0,0,"za",0,0,"za",0,0,"zo",0,0,7]
[2,"2019-01-07","2019-01-07",null,null,0,0,0,null,null,null,0,"",null,null,null,null,null,null,null,null,8,0,0,0,"zo",0,0,"zo",0,"za",0,0,"za",8]
[2,"2019-01-08","2019-01-08",null,null,0,0,0,null,null,null,0,"",null,null,null,null,null,null,null,null,9,0,0,0,0,0,"za",0,0,"zo",0,0,"zo",9]
[2,"2019-01-09","2019-01-09",null,null,0,0,0,null,null,null,0,"",null,null,null,null,null,null,null,null,10,0,"za","za",0,0,"zo",0,0,0,0,"za",0,10]
[2,"2019-01-10","2019-01-10",null,null,0,0,0,null,null,null,0,"",null,null,null,null,null,null,null,null,11,0,"zo","zo",0,0,"fd",0,"za",0,0,"zo",0,11]
[2,"2019-01-11","2019-01-11",null,null,0,0,0,null,null,null,0,"",null,null,null,null,null,null,null,null,12,0,0,0,0,"za",0,0,"zo",0,0,"fd",0,12]
[2,"2019-01-12","2019-01-12",null,null,0,null,0,null,null,"za",0,"","Week",null,"OV WEEK","OV DAG","Recup -","Recup +","OV 50%",null,13,"za",0,0,0,"zo",0,0,0,0,"za",0,0,13]
[2,"2019-01-13","2019-01-13",null,null,0,null,0,null,null,"zo",0,"",{"$f":"SUM(L16:L22)","v":0},{"$f":"SUM(H16:H22)","v":0},{"$f":"IF(N22>38,N22-38,0)","v":0},{"$f":"SUM(M16:M22)","v":0},{"$f":"SUM(I16:I22)","v":0},{"$f":"IF(N22>38,N22-38,0)","v":0},{"$f":"IF(P22>Q22,P22,Q22)","v":0},null,14,"zo",0,0,"za",0,0,"za",0,0,"zo",0,0,14]
[3,"2019-01-14","2019-01-14",null,null,0,0,0,null,null,null,0,"",null,null,null,null,null,null,null,null,15,0,0,0,"zo",0,0,"zo",0,"za",0,0,"za",15]
[3,"2019-01-15","2019-01-15",null,null,0,0,0,null,null,null,0,"",null,null,null,null,null,null,null,null,16,0,0,0,0,0,"za",0,"fd","zo",0,0,"zo",16]
[3,"2019-01-16","2019-01-16",null,null,0,0,0,null,null,null,0,"",null,null,null,null,null,null,null,null,17,0,"za","za",0,0,"zo",0,0,0,0,"za",0,17]
[3,"2019-01-17","2019-01-17",null,null,0,0,0,null,null,null,0,"",null,null,null,null,null,null,null,null,18,0,"zo","zo",0,0,0,0,"za",0,0,"zo",0,18]
[3,"2019-01-18","2019-01-18",null,null,0,0,0,null,null,null,0,"",null,null,null,null,null,null,null,null,19,0,0,0,0,"za",0,0,"zo",0,0,0,0,19]
[3,"2019-01-19","2019-01-19",null,null,0,null,0,null,null,"za",0,"","Week",null,"OV WEEK","OV DAG","Recup -","Recup +","OV 50%",null,20,"za",0,0,0,"zo",0,0,0,0,"za",0,{"$f":"K362","v":0},20]
[3,"2019-01-20","2019-01-20",null,null,0,null,0,null,null,"zo",0,"",{"$f":"SUM(L23:L29)","v":0},{"$f":"SUM(H23:H29)","v":0},{"$f":"IF(N29>38,N29-38,0)","v":0},{"$f":"SUM(M23:M29)","v":0},{"$f":"SUM(I23:I29)","v":0},{"$f":"IF(N29>38,N29-38,0)","v":0},{"$f":"IF(P29>Q29,P29,Q29)","v":0},null,21,"zo",0,0,"za","fd",0,"za",0,0,"zo",0,0,21]
[4,"2019-01-21","2019-01-21",null,null,0,0,0,null,null,null,0,"",null,null,null,null,null,null,null,null,22,0,0,0,"zo",0,0,"zo",0,"za",0,0,"za",22]
[4,"2019-01-22","2019-01-22",null,null,0,0,0,null,null,null,0,"",null,null,null,null,null,null,null,null,23,0,0,0,"fd",0,"za",0,0,"zo",0,0,"zo",23]
[4,"2019-01-23","2019-01-23",null,null,0,0,0,null,null,null,0,"",null,null,null,null,null,null,null,null,24,0,"za","za",0,0,"zo",0,0,0,0,"za",0,24]
[4,"2019-01-24","2019-01-24",null,null,0,0,0,null,null,null,0,"",null,null,null,null,null,null,null,null,25,0,"zo","zo",0,0,0,0,"za",0,0,"zo",0,25]
[4,"2019-01-25","2019-01-25",null,null,0,0,0,null,null,null,0,"",null,null,null,null,null,null,null,null,26,0,0,0,0,"za",0,0,"zo",0,0,0,"fd",26]
[4,"2019-01-26","2019-01-26",null,null,0,null,0,null,null,"za",0,"","Week",null,"OV WEEK","OV DAG","Recup -","Recup +","OV 50%",null,27,"za",0,0,0,"zo",0,0,0,0,"za",0,0,27]
[4,"2019-01-27","2019-01-27",null,null,0,null,0,null,null,"zo",0,"",{"$f":"SUM(L30:L36)","v":0},{"$f":"SUM(H30:H36)","v":0},{"$f":"IF(N36>38,N36-38,0)","v":0},{"$f":"SUM(M30:M36)","v":0},{"$f":"SUM(I30:I36)","v":0},{"$f":"IF(N36>38,N36-38,0)","v":0},{"$f":"IF(P36>Q36,P36,Q36)","v":0},null,28,"zo",0,0,"za",0,0,"za",0,0,"zo",0,0,28]
[5,"2019-01-28","2019-01-28",null,null,0,0,0,7.6,null,"ro",7.6,"","ET 10/01: Verlof goedgekeurd MG & CB",null,null,null,null,null,null,null,29,"ro",null,0,"zo",0,0,"zo",0,"za",0,0,"za",29]
[5,"2019-01-29","2019-01-29",null,null,0,0,0,null,null,null,0,"",null,null,null,null,null,null,null,null,30,0,null,0,0,0,"za",0,0,"zo",0,0,"zo",30]
[5,"2019-01-30","2019-01-30",null,null,0,0,0,null,null,null,0,"",null,null,null,null,null,null,null,null,31,0,null,"za",null,"fd",null,0,0,null,0,null,0,31]
[5,"2019-01-31","2019-01-31",null,null,0,0,0,null,null,null,0,"",null,null,null,null,null,null,null,null,"WD",23,20,21,22,23,20,23,22,21,23,21,22,{"$f":"SUM(W40:AH40)","v":261}]
[5,"2019-02-01","2019-02-01",null,null,0,0,0,null,null,null,0,""]
[5,"2019-02-02","2019-02-02",null,null,0,null,0,null,null,"za",0,"","Week",null,"OV WEEK","OV DAG","Recup -","Recup +","OV 50%"]
[5,"2019-02-03","2019-02-03",null,null,0,null,0,null,null,"zo",0,"",{"$f":"SUM(L37:L43)","v":7.6},{"$f":"SUM(H37:H43)","v":0},{"$f":"IF(N43>38,N43-38,0)","v":0},{"$f":"SUM(M37:M43)","v":0},{"$f":"SUM(I37:I43)","v":7.6},{"$f":"IF(N43>38,N43-38,0)","v":0},{"$f":"IF(P43>Q43,P43,Q43)","v":0}]
[6,"2019-02-04","2019-02-04",null,null,0,0,0,null,null,null,0,""]
[6,"2019-02-05","2019-02-05",null,null,0,0,0,null,null,null,0,""]
[6,"2019-02-06","2019-02-06",null,null,0,0,0,null,null,null,0,""]
[6,"2019-02-07","2019-02-07",null,null,0,0,0,null,null,null,0,""]
[6,"2019-02-08","2019-02-08",null,null,0,0,0,null,null,null,0,""]
[6,"2019-02-09","2019-02-09",null,null,0,null,0,null,null,"za",0,"","Week",null,"OV WEEK","OV DAG","Recup -","Recup +","OV 50%"]
[6,"2019-02-10","2019-02-10",null,null,0,null,0,null,null,"zo",0,"",{"$f":"SUM(L44:L50)","v":0},{"$f":"SUM(H44:H50)","v":0},{"$f":"IF(N50>38,N50-38,0)","v":0},{"$f":"SUM(M44:M50)","v":0},{"$f":"SUM(I44:I50)","v":0},{"$f":"IF(N50>38,N50-38,0)","v":0},{"$f":"IF(P50>Q50,P50,Q50)","v":0}]
[7,"2019-02-11","2019-02-11",null,null,0,0,0,null,null,null,0,""]
[7,"2019-02-12","2019-02-12",null,null,0,0,0,null,null,null,0,""]
[7,"2019-02-13","2019-02-13",null,null,0,0,0,null,null,null,0,""]
[7,"2019-02-14","2019-02-14",null,null,0,0,0,null,null,null,0,""]
[7,"2019-02-15","2019-02-15",null,null,0,0,0,null,null,null,0,""]
[7,"2019-02-16","2019-02-16",null,null,0,null,0,null,null,"za",0,"","Week",null,"OV WEEK","OV DAG","Recup -","Recup +","OV 50%"]
[7,"2019-02-17","2019-02-17",null,null,0,null,0,null,null,"zo",0,"",{"$f":"SUM(L51:L57)","v":0},{"$f":"SUM(H51:H57)","v":0},{"$f":"IF(N57>38,N57-38,0)","v":0},{"$f":"SUM(M51:M57)","v":0},{"$f":"SUM(I51:I57)","v":0},{"$f":"IF(N57>38,N57-38,0)","v":0},{"$f":"IF(P57>Q57,P57,Q57)","v":0}]
[8,"2019-02-18","2019-02-18",null,null,0,0,0,null,null,null,0,""]
[8,"2019-02-19","2019-02-19",null,null,0,0,0,null,null,null,0,""]
[8,"2019-02-20","2019-02-20",null,null,0,0,0,null,null,null,0,""]
[8,"2019-02-21","2019-02-21",null,null,0,0,0,null,null,null,0,""]
[8,"2019-02-22","2019-02-22",null,null,0,0,0,null,null,null,0,""]
[8,"2019-02-23","2019-02-23",null,null,0,null,0,null,null,"za",0,"","Week",null,"OV WEEK","OV DAG","Recup -","Recup +","OV 50%"]
[8,"2019-02-24","2019-02-24",null,null,0,null,0,null,null,"zo",0,"",{"$f":"SUM(L58:L64)","v":0},{"$f":"SUM(H58:H64)","v":0},{"$f":"IF(N64>38,N64-38,0)","v":0},{"$f":"SUM(M58:M64)","v":0},{"$f":"SUM(I58:I64)","v":0},{"$f":"IF(N64>38,N64-38,0)","v":0},{"$f":"IF(P64>Q64,P64,Q64)","v":0}]
[9,"2019-02-25","2019-02-25",null,null,0,0,0,null,null,null,0,""]
[9,"2019-02-26","2019-02-26",null,null,0,0,0,null,null,null,0,""]
[9,"2019-02-27","2019-02-27",null,null,0,0,0,null,null,null,0,""]
[9,"2019-02-28","2019-02-28",null,null,0,0,0,null,null,null,0,""]
[9,"2019-03-01","2019-03-01",null,null,0,0,0,null,null,null,0,""]
[9,"2019-03-02","2019-03-02",null,null,0,null,0,null,null,"za",0,"","Week",null,"OV WEEK","OV DAG","Recup -","Recup +","OV 50%"]
[9,"2019-03-03","2019-03-03",null,null,0,null,0,null,null,"zo",0,"",{"$f":"SUM(L65:L71)","v":0},{"$f":"SUM(H65:H71)","v":0},{"$f":"IF(N71>38,N71-38,0)","v":0},{"$f":"SUM(M65:M71)","v":0},{"$f":"SUM(I65:I71)","v":0},{"$f":"IF(N71>38,N71-38,0)","v":0},{"$f":"IF(P71>Q71,P71,Q71)","v":0}]
[10,"2019-03-04","2019-03-04",null,null,0,0,0,null,null,null,0,""]
[10,"2019-03-05","2019-03-05",null,null,0,0,0,null,null,null,0,{"$f":"IF(L73>9,L73-9,\"\")","v":""}]
[{"$f":"WEEKNUM(C74,21)","v":10},{"$f":"C74","v":"2019-03-06"},"2019-03-06",null,null,{"$f":"(E74-D74)*24","v":0},{"$f":"IF(F74>=6,0.5,0)","v":0},{"$f":"F74-G74","v":0},null,null,null,{"$f":"SUM(H74:J74)","v":0},""]
[10,"2019-03-07","2019-03-07",null,null,0,0,0,null,null,null,0,""]
[10,"2019-03-08","2019-03-08",null,null,0,0,0,null,null,null,0,""]
[10,"2019-03-09","2019-03-09",null,null,0,null,0,null,null,"za",0,"","Week",null,"OV WEEK","OV DAG","Recup -","Recup +","OV 50%"]
[10,"2019-03-10","2019-03-10",null,null,0,null,0,null,null,"zo",0,"",{"$f":"SUM(L72:L78)","v":0},{"$f":"SUM(H72:H78)","v":0},{"$f":"IF(N78>38,N78-38,0)","v":0},{"$f":"SUM(M72:M78)","v":0},{"$f":"SUM(I72:I78)","v":0},{"$f":"IF(N78>38,N78-38,0)","v":0},{"$f":"IF(P78>Q78,P78,Q78)","v":0}]
[11,"2019-03-11","2019-03-11",null,null,0,0,0,null,null,null,0,""]
[11,"2019-03-12","2019-03-12",null,null,0,0,0,null,null,null,0,""]
[11,"2019-03-13","2019-03-13",null,null,0,0,0,null,null,null,0,""]
[11,"2019-03-14","2019-03-14",null,null,0,0,0,null,null,null,0,""]
[11,"2019-03-15","2019-03-15",null,null,0,0,0,null,null,null,0,""]
[11,"2019-03-16","2019-03-16",null,null,0,null,0,null,null,"za",0,"","Week",null,"OV WEEK","OV DAG","Recup -","Recup +","OV 50%"]
[11,"2019-03-17","2019-03-17",null,null,0,null,0,null,null,"zo",0,"",{"$f":"SUM(L79:L85)","v":0},{"$f":"SUM(H79:H85)","v":0},{"$f":"IF(N85>38,N85-38,0)","v":0},{"$f":"SUM(M79:M85)","v":0},{"$f":"SUM(I79:I85)","v":0},{"$f":"IF(N85>38,N85-38,0)","v":0},{"$f":"IF(P85>Q85,P85,Q85)","v":0}]
[12,"2019-03-18","2019-03-18",null,null,0,0,0,null,null,null,0,""]
[12,"2019-03-19","2019-03-19",null,null,0,0,0,null,null,null,0,""]
[12,"2019-03-20","2019-03-20",null,null,0,0,0,null,null,null,0,""]
[12,"2019-03-21","2019-03-21",null,null,0,0,0,null,null,null,0,""]
[12,"2019-03-22","2019-03-22",null,null,0,0,0,null,null,null,0,""]
[12,"2019-03-23","2019-03-23",null,null,0,null,0,null,null,"za",0,"","Week",null,"OV WEEK","OV DAG","Recup -","Recup +","OV 50%"]
[12,"2019-03-24","2019-03-24",null,null,0,null,0,null,null,"zo",0,"",{"$f":"SUM(L86:L92)","v":0},{"$f":"SUM(H86:H92)","v":0},{"$f":"IF(N92>38,N92-38,0)","v":0},{"$f":"SUM(M86:M92)","v":0},{"$f":"SUM(I86:I92)","v":0},{"$f":"IF(N92>38,N92-38,0)","v":0},{"$f":"IF(P92>Q92,P92,Q92)","v":0}]
[13,"2019-03-25","2019-03-25",null,null,0,0,0,null,null,null,0,""]
[13,"2019-03-26","2019-03-26",null,null,0,0,0,null,null,null,0,""]
[13,"2019-03-27","2019-03-27",null,null,0,0,0,null,null,null,0,""]
[13,"2019-03-28","2019-03-28",null,null,0,0,0,null,null,null,0,""]
[13,"2019-03-29","2019-03-29",null,null,0,0,0,null,null,null,0,""]
[13,"2019-03-30","2019-03-30",null,null,0,null,0,null,null,"za",0,"","Week",null,"OV WEEK","OV DAG","Recup -","Recup +","OV 50%"]
[13,"2019-03-31","2019-03-31",null,null,0,null,0,null,null,"zo",0,"",{"$f":"SUM(L93:L99)","v":0},{"$f":"SUM(H93:H99)","v":0},{"$f":"IF(N99>38,N99-38,0)","v":0},{"$f":"SUM(M93:M99)","v":0},{"$f":"SUM(I93:I99)","v":0},{"$f":"IF(N99>38,N99-38,0)","v":0},{"$f":"IF(P99>Q99,P99,Q99)","v":0}]
[14,"2019-04-01","2019-04-01",null,null,0,0,0,null,null,null,0,""]
[14,"2019-04-02","2019-04-02",null,null,0,0,0,null,null,null,0,""]
[14,"2019-04-03","2019-04-03",null,null,0,0,0,null,null,null,0,""]
[14,"2019-04-04","2019-04-04",null,null,0,0,0,null,null,null,0,""]
[14,"2019-04-05","2019-04-05",null,null,0,0,0,null,null,null,0,""]
[14,"2019-04-06","2019-04-06",null,null,0,null,0,null,null,"za",0,"","Week",null,"OV WEEK","OV DAG","Recup -","Recup +","OV 50%"]
[14,"2019-04-07","2019-04-07",null,null,0,null,0,null,null,"zo",0,"",{"$f":"SUM(L100:L106)","v":0},{"$f":"SUM(H100:H106)","v":0},{"$f":"IF(N106>38,N106-38,0)","v":0},{"$f":"SUM(M100:M106)","v":0},{"$f":"SUM(I100:I106)","v":0},{"$f":"IF(N106>38,N106-38,0)","v":0},{"$f":"IF(P106>Q106,P106,Q106)","v":0}]
[15,"2019-04-08","2019-04-08",null,null,0,0,0,null,null,null,0,""]
[15,"2019-04-09","2019-04-09",null,null,0,0,0,null,null,null,0,""]
[15,"2019-04-10","2019-04-10",null,null,0,0,0,null,null,null,0,""]
[15,"2019-04-11","2019-04-11",null,null,0,0,0,null,null,null,0,""]
[15,"2019-04-12","2019-04-12",null,null,0,0,0,null,null,null,0,""]
[15,"2019-04-13","2019-04-13",null,null,0,null,0,null,null,"za",0,"","Week",null,"OV WEEK","OV DAG","Recup -","Recup +","OV 50%"]
[15,"2019-04-14","2019-04-14",null,null,0,null,0,null,null,"zo",0,"",{"$f":"SUM(L107:L113)","v":0},{"$f":"SUM(H107:H113)","v":0},{"$f":"IF(N113>38,N113-38,0)","v":0},{"$f":"SUM(M107:M113)","v":0},{"$f":"SUM(I107:I113)","v":0},{"$f":"IF(N113>38,N113-38,0)","v":0},{"$f":"IF(P113>Q113,P113,Q113)","v":0}]
[16,"2019-04-15","2019-04-15",null,null,0,0,0,null,null,null,0,""]
[16,"2019-04-16","2019-04-16",null,null,0,0,0,null,null,null,0,""]
[16,"2019-04-17","2019-04-17",null,null,0,0,0,null,null,null,0,""]
[16,"2019-04-18","2019-04-18",null,null,0,0,0,null,null,null,0,""]
[16,"2019-04-19","2019-04-19",null,null,0,0,0,null,null,null,0,""]
[16,"2019-04-20","2019-04-20",null,null,0,null,0,null,null,"za",0,"","Week",null,"OV WEEK","OV DAG","Recup -","Recup +","OV 50%"]
[16,"2019-04-21","2019-04-21",null,null,0,null,0,null,null,"zo",0,"",{"$f":"SUM(L114:L120)","v":0},{"$f":"SUM(H114:H120)","v":0},{"$f":"IF(N120>38,N120-38,0)","v":0},{"$f":"SUM(M114:M120)","v":0},{"$f":"SUM(I114:I120)","v":0},{"$f":"IF(N120>38,N120-38,0)","v":0},{"$f":"IF(P120>Q120,P120,Q120)","v":0}]
[17,"2019-04-22","2019-04-22",null,null,0,0,0,null,7.6,"fd",7.6,""]
[17,"2019-04-23","2019-04-23",null,null,0,0,0,null,null,null,0,""]
[17,"2019-04-24","2019-04-24",null,null,0,0,0,null,null,null,0,""]
[17,"2019-04-25","2019-04-25",null,null,0,0,0,null,null,null,0,""]
[17,"2019-04-26","2019-04-26",null,null,0,0,0,null,null,null,0,""]
[17,"2019-04-27","2019-04-27",null,null,0,null,0,null,null,"za",0,"","Week",null,"OV WEEK","OV DAG","Recup -","Recup +","OV 50%"]
[17,"2019-04-28","2019-04-28",null,null,0,null,0,null,null,"zo",0,"",{"$f":"SUM(L121:L127)","v":7.6},{"$f":"SUM(H121:H127)","v":0},{"$f":"IF(N127>38,N127-38,0)","v":0},{"$f":"SUM(M121:M127)","v":0},{"$f":"SUM(I121:I127)","v":0},{"$f":"IF(N127>38,N127-38,0)","v":0},{"$f":"IF(P127>Q127,P127,Q127)","v":0}]
[18,"2019-04-29","2019-04-29",null,null,0,0,0,null,null,null,0,""]
[18,"2019-04-30","2019-04-30",null,null,0,0,0,null,null,null,0,""]
[18,"2019-05-01","2019-05-01",null,null,0,0,0,null,7.6,"fd",7.6,""]
[18,"2019-05-02","2019-05-02",null,null,0,0,0,null,null,null,0,""]
[18,"2019-05-03","2019-05-03",null,null,0,0,0,null,null,null,0,""]
[18,"2019-05-04","2019-05-04",null,null,0,null,0,null,null,"za",0,"","Week",null,"OV WEEK","OV DAG","Recup -","Recup +","OV 50%"]
[18,"2019-05-05","2019-05-05",null,null,0,null,0,null,null,"zo",0,"",{"$f":"SUM(L128:L134)","v":7.6},{"$f":"SUM(H128:H134)","v":0},{"$f":"IF(N134>38,N134-38,0)","v":0},{"$f":"SUM(M128:M134)","v":0},{"$f":"SUM(I128:I134)","v":0},{"$f":"IF(N134>38,N134-38,0)","v":0},{"$f":"IF(P134>Q134,P134,Q134)","v":0}]
[19,"2019-05-06","2019-05-06",null,null,0,0,0,null,null,null,0,""]
[19,"2019-05-07","2019-05-07",null,null,0,0,0,null,null,null,0,""]
[19,"2019-05-08","2019-05-08",null,null,0,0,0,null,null,null,0,{"$f":"IF(L137>9,L137-9,\"\")","v":""}]
[{"$f":"WEEKNUM(C138,21)","v":19},{"$f":"C138","v":"2019-05-09"},"2019-05-09",null,null,{"$f":"(E138-D138)*24","v":0},{"$f":"IF(F138>=6,0.5,0)","v":0},{"$f":"F138-G138","v":0},null,null,null,{"$f":"SUM(H138:J138)","v":0},""]
[19,"2019-05-10","2019-05-10",null,null,0,0,0,null,null,null,0,""]
[19,"2019-05-11","2019-05-11",null,null,0,null,0,null,null,"za",0,"","Week",null,"OV WEEK","OV DAG","Recup -","Recup +","OV 50%"]
[19,"2019-05-12","2019-05-12",null,null,0,null,0,null,null,"zo",0,"",{"$f":"SUM(L135:L141)","v":0},{"$f":"SUM(H135:H141)","v":0},{"$f":"IF(N141>38,N141-38,0)","v":0},{"$f":"SUM(M135:M141)","v":0},{"$f":"SUM(I135:I141)","v":0},{"$f":"IF(N141>38,N141-38,0)","v":0},{"$f":"IF(P141>Q141,P141,Q141)","v":0}]
[20,"2019-05-13","2019-05-13",null,null,0,0,0,null,null,null,0,""]
[20,"2019-05-14","2019-05-14",null,null,0,0,0,null,null,null,0,""]
[20,"2019-05-15","2019-05-15",null,null,0,0,0,null,null,null,0,""]
[20,"2019-05-16","2019-05-16",null,null,0,0,0,null,null,null,0,""]
[20,"2019-05-17","2019-05-17",null,null,0,0,0,null,null,null,0,""]
[20,"2019-05-18","2019-05-18",null,null,0,null,0,null,null,"za",0,"","Week",null,"OV WEEK","OV DAG","Recup -","Recup +","OV 50%"]
[20,"2019-05-19","2019-05-19",null,null,0,null,0,null,null,"zo",0,"",{"$f":"SUM(L142:L148)","v":0},{"$f":"SUM(H142:H148)","v":0},{"$f":"IF(N148>38,N148-38,0)","v":0},{"$f":"SUM(M142:M148)","v":0},{"$f":"SUM(I142:I148)","v":0},{"$f":"IF(N148>38,N148-38,0)","v":0},{"$f":"IF(P148>Q148,P148,Q148)","v":0}]
[21,"2019-05-20","2019-05-20",null,null,0,0,0,null,7.6,"fd",7.6,""]
[21,"2019-05-21","2019-05-21",null,null,0,0,0,null,null,null,0,""]
[21,"2019-05-22","2019-05-22",null,null,0,0,0,null,null,null,0,""]
[21,"2019-05-23","2019-05-23",null,null,0,0,0,null,null,null,0,""]
[21,"2019-05-24","2019-05-24",null,null,0,0,0,null,null,null,0,""]
[21,"2019-05-25","2019-05-25",null,null,0,null,0,null,null,"za",0,"","Week",null,"OV WEEK","OV DAG","Recup -","Recup +","OV 50%"]
[21,"2019-05-26","2019-05-26",null,null,0,null,0,null,null,"zo",0,"",{"$f":"SUM(L149:L155)","v":7.6},{"$f":"SUM(H149:H155)","v":0},{"$f":"IF(N155>38,N155-38,0)","v":0},{"$f":"SUM(M149:M155)","v":0},{"$f":"SUM(I149:I155)","v":0},{"$f":"IF(N155>38,N155-38,0)","v":0},{"$f":"IF(P155>Q155,P155,Q155)","v":0}]
[22,"2019-05-27","2019-05-27",null,null,0,0,0,null,null,null,0,""]
[22,"2019-05-28","2019-05-28",null,null,0,0,0,null,null,null,0,""]
[22,"2019-05-29","2019-05-29",null,null,0,0,0,null,null,null,0,""]
[22,"2019-05-30","2019-05-30",null,null,0,0,0,null,7.6,"fd",7.6,""]
[22,"2019-05-31","2019-05-31",null,null,0,0,0,null,null,null,0,""]
[22,"2019-06-01","2019-06-01",null,null,0,null,0,null,null,"za",0,"","Week",null,"OV WEEK","OV DAG","Recup -","Recup +","OV 50%"]
[22,"2019-06-02","2019-06-02",null,null,0,null,0,null,null,"zo",0,"",{"$f":"SUM(L156:L162)","v":7.6},{"$f":"SUM(H156:H162)","v":0},{"$f":"IF(N162>38,N162-38,0)","v":0},{"$f":"SUM(M156:M162)","v":0},{"$f":"SUM(I156:I162)","v":0},{"$f":"IF(N162>38,N162-38,0)","v":0},{"$f":"IF(P162>Q162,P162,Q162)","v":0}]
[23,"2019-06-03","2019-06-03",null,null,0,0,0,null,null,null,0,""]
[23,"2019-06-04","2019-06-04",null,null,0,0,0,null,null,null,0,""]
[23,"2019-06-05","2019-06-05",null,null,0,0,0,null,null,null,0,""]
[23,"2019-06-06","2019-06-06",null,null,0,0,0,null,null,null,0,""]
[23,"2019-06-07","2019-06-07",null,null,0,0,0,null,null,null,0,""]
[23,"2019-06-08","2019-06-08",null,null,0,null,0,null,null,"za",0,"","Week",null,"OV WEEK","OV DAG","Recup -","Recup +","OV 50%"]
[23,"2019-06-09","2019-06-09",null,null,0,null,0,null,null,"zo",0,"",{"$f":"SUM(L163:L169)","v":0},{"$f":"SUM(H163:H169)","v":0},{"$f":"IF(N169>38,N169-38,0)","v":0},{"$f":"SUM(M163:M169)","v":0},{"$f":"SUM(I163:I169)","v":0},{"$f":"IF(N169>38,N169-38,0)","v":0},{"$f":"IF(P169>Q169,P169,Q169)","v":0}]
[24,"2019-06-10","2019-06-10",null,null,0,0,0,null,7.6,"fd",7.6,""]
[24,"2019-06-11","2019-06-11",null,null,0,0,0,null,null,null,0,""]
[24,"2019-06-12","2019-06-12",null,null,0,0,0,null,null,null,0,""]
[24,"2019-06-13","2019-06-13",null,null,0,0,0,null,null,null,0,""]
[24,"2019-06-14","2019-06-14",null,null,0,0,0,null,null,null,0,""]
[24,"2019-06-15","2019-06-15",null,null,0,null,0,null,null,"za",0,"","Week",null,"OV WEEK","OV DAG","Recup -","Recup +","OV 50%"]
[24,"2019-06-16","2019-06-16",null,null,0,null,0,null,null,"zo",0,"",{"$f":"SUM(L170:L176)","v":7.6},{"$f":"SUM(H170:H176)","v":0},{"$f":"IF(N176>38,N176-38,0)","v":0},{"$f":"SUM(M170:M176)","v":0},{"$f":"SUM(I170:I176)","v":0},{"$f":"IF(N176>38,N176-38,0)","v":0},{"$f":"IF(P176>Q176,P176,Q176)","v":0}]
[25,"2019-06-17","2019-06-17",null,null,0,0,0,null,null,null,0,""]
[25,"2019-06-18","2019-06-18",null,null,0,0,0,null,null,null,0,""]
[25,"2019-06-19","2019-06-19",null,null,0,0,0,null,null,null,0,""]
[25,"2019-06-20","2019-06-20",null,null,0,0,0,null,null,null,0,""]
[25,"2019-06-21","2019-06-21",null,null,0,0,0,null,null,null,0,""]
[25,"2019-06-22","2019-06-22",null,null,0,null,0,null,null,"za",0,"","Week",null,"OV WEEK","OV DAG","Recup -","Recup +","OV 50%"]
[25,"2019-06-23","2019-06-23",null,null,0,null,0,null,null,"zo",0,"",{"$f":"SUM(L177:L183)","v":0},{"$f":"SUM(H177:H183)","v":0},{"$f":"IF(N183>38,N183-38,0)","v":0},{"$f":"SUM(M177:M183)","v":0},{"$f":"SUM(I177:I183)","v":0},{"$f":"IF(N183>38,N183-38,0)","v":0},{"$f":"IF(P183>Q183,P183,Q183)","v":0}]
[26,"2019-06-24","2019-06-24",null,null,0,0,0,null,null,null,0,""]
[26,"2019-06-25","2019-06-25",null,null,0,0,0,null,null,null,0,""]
[26,"2019-06-26","2019-06-26",null,null,0,0,0,null,null,null,0,""]
[26,"2019-06-27","2019-06-27",null,null,0,0,0,null,null,null,0,""]
[26,"2019-06-28","2019-06-28",null,null,0,0,0,null,null,null,0,""]
[26,"2019-06-29","2019-06-29",null,null,0,null,0,null,null,"za",0,"","Week",null,"OV WEEK","OV DAG","Recup -","Recup +","OV 50%"]
[26,"2019-06-30","2019-06-30",null,null,0,null,0,null,null,"zo",0,"",{"$f":"SUM(L184:L190)","v":0},{"$f":"SUM(H184:H190)","v":0},{"$f":"IF(N190>38,N190-38,0)","v":0},{"$f":"SUM(M184:M190)","v":0},{"$f":"SUM(I184:I190)","v":0},{"$f":"IF(N190>38,N190-38,0)","v":0},{"$f":"IF(P190>Q190,P190,Q190)","v":0}]
[27,"2019-07-01","2019-07-01",null,null,0,0,0,null,null,null,0,""]
[27,"2019-07-02","2019-07-02",null,null,0,0,0,null,null,null,0,""]
[27,"2019-07-03","2019-07-03",null,null,0,0,0,null,null,null,0,""]
[27,"2019-07-04","2019-07-04",null,null,0,0,0,null,null,null,0,""]
[27,"2019-07-05","2019-07-05",null,null,0,0,0,null,null,null,0,""]
[27,"2019-07-06","2019-07-06",null,null,0,null,0,null,null,"za",0,"","Week",null,"OV WEEK","OV DAG","Recup -","Recup +","OV 50%"]
[27,"2019-07-07","2019-07-07",null,null,0,null,0,null,null,"zo",0,"",{"$f":"SUM(L191:L197)","v":0},{"$f":"SUM(H191:H197)","v":0},{"$f":"IF(N197>38,N197-38,0)","v":0},{"$f":"SUM(M191:M197)","v":0},{"$f":"SUM(I191:I197)","v":0},{"$f":"IF(N197>38,N197-38,0)","v":0},{"$f":"IF(P197>Q197,P197,Q197)","v":0}]
[28,"2019-07-08","2019-07-08",null,null,0,0,0,null,null,null,0,""]
[28,"2019-07-09","2019-07-09",null,null,0,0,0,null,null,null,0,""]
[28,"2019-07-10","2019-07-10",null,null,0,0,0,null,null,null,0,""]
[28,"2019-07-11","2019-07-11",null,null,0,0,0,null,null,null,0,{"$f":"IF(L201>9,L201-9,\"\")","v":""}]
[{"$f":"WEEKNUM(C202,21)","v":28},{"$f":"C202","v":"2019-07-12"},"2019-07-12",null,null,{"$f":"(E202-D202)*24","v":0},{"$f":"IF(F202>=6,0.5,0)","v":0},{"$f":"F202-G202","v":0},null,null,null,{"$f":"SUM(H202:J202)","v":0},""]
[28,"2019-07-13","2019-07-13",null,null,0,null,0,null,null,"za",0,"","Week",null,"OV WEEK","OV DAG","Recup -","Recup +","OV 50%"]
[28,"2019-07-14","2019-07-14",null,null,0,null,0,null,null,"zo",0,"",{"$f":"SUM(L198:L204)","v":0},{"$f":"SUM(H198:H204)","v":0},{"$f":"IF(N204>38,N204-38,0)","v":0},{"$f":"SUM(M198:M204)","v":0},{"$f":"SUM(I198:I204)","v":0},{"$f":"IF(N204>38,N204-38,0)","v":0},{"$f":"IF(P204>Q204,P204,Q204)","v":0}]
[29,"2019-07-15","2019-07-15",null,null,0,0,0,null,null,null,0,""]
[29,"2019-07-16","2019-07-16",null,null,0,0,0,null,null,null,0,""]
[29,"2019-07-17","2019-07-17",null,null,0,0,0,null,null,null,0,""]
[29,"2019-07-18","2019-07-18",null,null,0,0,0,null,null,null,0,""]
[29,"2019-07-19","2019-07-19",null,null,0,0,0,null,null,null,0,""]
[29,"2019-07-20","2019-07-20",null,null,0,null,0,null,null,"za",0,"","Week",null,"OV WEEK","OV DAG","Recup -","Recup +","OV 50%"]
[29,"2019-07-21","2019-07-21",null,null,0,null,0,null,null,"zo",0,"",{"$f":"SUM(L205:L211)","v":0},{"$f":"SUM(H205:H211)","v":0},{"$f":"IF(N211>38,N211-38,0)","v":0},{"$f":"SUM(M205:M211)","v":0},{"$f":"SUM(I205:I211)","v":0},{"$f":"IF(N211>38,N211-38,0)","v":0},{"$f":"IF(P211>Q211,P211,Q211)","v":0}]
[30,"2019-07-22","2019-07-22",null,null,0,0,0,null,null,null,0,""]
[30,"2019-07-23","2019-07-23",null,null,0,0,0,null,null,null,0,""]
[30,"2019-07-24","2019-07-24",null,null,0,0,0,null,null,null,0,""]
[30,"2019-07-25","2019-07-25",null,null,0,0,0,null,null,null,0,""]
[30,"2019-07-26","2019-07-26",null,null,0,0,0,null,null,null,0,""]
[30,"2019-07-27","2019-07-27",null,null,0,null,0,null,null,"za",0,"","Week",null,"OV WEEK","OV DAG","Recup -","Recup +","OV 50%"]
[30,"2019-07-28","2019-07-28",null,null,0,null,0,null,null,"zo",0,"",{"$f":"SUM(L212:L218)","v":0},{"$f":"SUM(H212:H218)","v":0},{"$f":"IF(N218>38,N218-38,0)","v":0},{"$f":"SUM(M212:M218)","v":0},{"$f":"SUM(I212:I218)","v":0},{"$f":"IF(N218>38,N218-38,0)","v":0},{"$f":"IF(P218>Q218,P218,Q218)","v":0}]
[31,"2019-07-29","2019-07-29",null,null,0,0,0,null,null,null,0,""]
[31,"2019-07-30","2019-07-30",null,null,0,0,0,null,null,null,0,""]
[31,"2019-07-31","2019-07-31",null,null,0,0,0,null,null,null,0,""]
[31,"2019-08-01","2019-08-01",null,null,0,0,0,null,null,null,0,""]
[31,"2019-08-02","2019-08-02",null,null,0,0,0,null,null,null,0,""]
[31,"2019-08-03","2019-08-03",null,null,0,null,0,null,null,"za",0,"","Week",null,"OV WEEK","OV DAG","Recup -","Recup +","OV 50%"]
[31,"2019-08-04","2019-08-04",null,null,0,null,0,null,null,"zo",0,"",{"$f":"SUM(L219:L225)","v":0},{"$f":"SUM(H219:H225)","v":0},{"$f":"IF(N225>38,N225-38,0)","v":0},{"$f":"SUM(M219:M225)","v":0},{"$f":"SUM(I219:I225)","v":0},{"$f":"IF(N225>38,N225-38,0)","v":0},{"$f":"IF(P225>Q225,P225,Q225)","v":0}]
[32,"2019-08-05","2019-08-05",null,null,0,0,0,null,null,null,0,""]
[32,"2019-08-06","2019-08-06",null,null,0,0,0,null,null,null,0,""]
[32,"2019-08-07","2019-08-07",null,null,0,0,0,null,null,null,0,""]
[32,"2019-08-08","2019-08-08",null,null,0,0,0,null,null,null,0,""]
[32,"2019-08-09","2019-08-09",null,null,0,0,0,null,null,null,0,""]
[32,"2019-08-10","2019-08-10",null,null,0,null,0,null,null,"za",0,"","Week",null,"OV WEEK","OV DAG","Recup -","Recup +","OV 50%"]
[32,"2019-08-11","2019-08-11",null,null,0,null,0,null,null,"zo",0,"",{"$f":"SUM(L226:L232)","v":0},{"$f":"SUM(H226:H232)","v":0},{"$f":"IF(N232>38,N232-38,0)","v":0},{"$f":"SUM(M226:M232)","v":0},{"$f":"SUM(I226:I232)","v":0},{"$f":"IF(N232>38,N232-38,0)","v":0},{"$f":"IF(P232>Q232,P232,Q232)","v":0}]
[33,"2019-08-12","2019-08-12",null,null,0,0,0,null,null,null,0,""]
[33,"2019-08-13","2019-08-13",null,null,0,0,0,null,null,null,0,""]
[33,"2019-08-14","2019-08-14",null,null,0,0,0,null,null,null,0,""]
[33,"2019-08-15","2019-08-15",null,null,0,0,0,null,7.6,"fd",7.6,""]
[33,"2019-08-16","2019-08-16",null,null,0,0,0,null,null,null,0,""]
[33,"2019-08-17","2019-08-17",null,null,0,null,0,null,null,"za",0,"","Week",null,"OV WEEK","OV DAG","Recup -","Recup +","OV 50%"]
[33,"2019-08-18","2019-08-18",null,null,0,null,0,null,null,"zo",0,"",{"$f":"SUM(L233:L239)","v":7.6},{"$f":"SUM(H233:H239)","v":0},{"$f":"IF(N239>38,N239-38,0)","v":0},{"$f":"SUM(M233:M239)","v":0},{"$f":"SUM(I233:I239)","v":0},{"$f":"IF(N239>38,N239-38,0)","v":0},{"$f":"IF(P239>Q239,P239,Q239)","v":0}]
[34,"2019-08-19","2019-08-19",null,null,0,0,0,null,null,null,0,""]
[34,"2019-08-20","2019-08-20",null,null,0,{"$f":"IF(F241>=6,0.5,0)","v":0},0,null,null,null,0,""]
[34,"2019-08-21","2019-08-21",null,null,0,0,0,null,null,null,0,""]
[34,"2019-08-22","2019-08-22",null,null,0,0,0,null,null,null,0,""]
[34,"2019-08-23","2019-08-23",null,null,0,0,0,null,null,null,0,""]
[34,"2019-08-24","2019-08-24",null,null,0,null,0,null,null,"za",0,"","Week",null,"OV WEEK","OV DAG","Recup -","Recup +","OV 50%"]
[34,"2019-08-25","2019-08-25",null,null,0,null,0,null,null,"zo",0,"",{"$f":"SUM(L240:L246)","v":0},{"$f":"SUM(H240:H246)","v":0},{"$f":"IF(N246>38,N246-38,0)","v":0},{"$f":"SUM(M240:M246)","v":0},{"$f":"SUM(I240:I246)","v":0},{"$f":"IF(N246>38,N246-38,0)","v":0},{"$f":"IF(P246>Q246,P246,Q246)","v":0}]
[35,"2019-08-26","2019-08-26",null,null,0,0,0,null,null,null,0,""]
[35,"2019-08-27","2019-08-27",null,null,0,0,0,null,null,null,0,""]
[35,"2019-08-28","2019-08-28",null,null,0,0,0,null,null,null,0,""]
[35,"2019-08-29","2019-08-29",null,null,0,0,0,null,null,null,0,""]
[35,"2019-08-30","2019-08-30",null,null,0,0,0,null,null,null,0,""]
[35,"2019-08-31","2019-08-31",null,null,0,null,0,null,null,"za",0,"","Week",null,"OV WEEK","OV DAG","Recup -","Recup +","OV 50%"]
[35,"2019-09-01","2019-09-01",null,null,0,null,0,null,null,"zo",0,"",{"$f":"SUM(L247:L253)","v":0},{"$f":"SUM(H247:H253)","v":0},{"$f":"IF(N253>38,N253-38,0)","v":0},{"$f":"SUM(M247:M253)","v":0},{"$f":"SUM(I247:I253)","v":0},{"$f":"IF(N253>38,N253-38,0)","v":0},{"$f":"IF(P253>Q253,P253,Q253)","v":0}]
[36,"2019-09-02","2019-09-02",null,null,0,0,0,null,null,null,0,""]
[36,"2019-09-03","2019-09-03",null,null,0,0,0,null,null,null,0,""]
[36,"2019-09-04","2019-09-04",null,null,0,0,0,null,null,null,0,""]
[36,"2019-09-05","2019-09-05",null,null,0,0,0,null,null,null,0,""]
[36,"2019-09-06","2019-09-06",null,null,0,0,0,null,null,null,0,""]
[36,"2019-09-07","2019-09-07",null,null,0,null,0,null,null,"za",0,"","Week",null,"OV WEEK","OV DAG","Recup -","Recup +","OV 50%"]
[36,"2019-09-08","2019-09-08",null,null,0,null,0,null,null,"zo",0,"",{"$f":"SUM(L254:L260)","v":0},{"$f":"SUM(H254:H260)","v":0},{"$f":"IF(N260>38,N260-38,0)","v":0},{"$f":"SUM(M254:M260)","v":0},{"$f":"SUM(I254:I260)","v":0},{"$f":"IF(N260>38,N260-38,0)","v":0},{"$f":"IF(P260>Q260,P260,Q260)","v":0}]
[37,"2019-09-09","2019-09-09",null,null,0,0,0,null,null,null,0,""]
[37,"2019-09-10","2019-09-10",null,null,0,0,0,null,null,null,0,""]
[37,"2019-09-11","2019-09-11",null,null,0,0,0,null,null,null,0,""]
[37,"2019-09-12","2019-09-12",null,null,0,0,0,null,null,null,0,""]
[37,"2019-09-13","2019-09-13",null,null,0,0,0,null,null,null,0,{"$f":"IF(L265>9,L265-9,\"\")","v":""}]
[{"$f":"WEEKNUM(C266,21)","v":37},{"$f":"C266","v":"2019-09-14"},"2019-09-14",null,null,{"$f":"(E266-D266)*24","v":0},null,{"$f":"F266-G266","v":0},null,null,"za",{"$f":"SUM(H266:J266)","v":0},"","Week",null,"OV WEEK","OV DAG","Recup -","Recup +","OV 50%"]
[37,"2019-09-15","2019-09-15",null,null,0,null,0,null,null,"zo",0,"",{"$f":"SUM(L261:L267)","v":0},{"$f":"SUM(H261:H267)","v":0},{"$f":"IF(N267>38,N267-38,0)","v":0},{"$f":"SUM(M261:M267)","v":0},{"$f":"SUM(I261:I267)","v":0},{"$f":"IF(N267>38,N267-38,0)","v":0},{"$f":"IF(P267>Q267,P267,Q267)","v":0}]
[38,"2019-09-16","2019-09-16",null,null,0,{"$f":"IF(F268>=6,0.5,0)","v":0},0,null,null,null,0,""]
[38,"2019-09-17","2019-09-17",null,null,0,0,0,null,null,null,0,""]
[38,"2019-09-18","2019-09-18",null,null,0,0,0,null,null,null,0,""]
[38,"2019-09-19","2019-09-19",null,null,0,0,0,null,null,null,0,""]
[38,"2019-09-20","2019-09-20",null,null,0,0,0,null,null,null,0,""]
[38,"2019-09-21","2019-09-21",null,null,0,null,0,null,null,"za",0,"","Week",null,"OV WEEK","OV DAG","Recup -","Recup +","OV 50%"]
[38,"2019-09-22","2019-09-22",null,null,0,null,0,null,null,"zo",0,"",{"$f":"SUM(L268:L274)","v":0},{"$f":"SUM(H268:H274)","v":0},{"$f":"IF(N274>38,N274-38,0)","v":0},{"$f":"SUM(M268:M274)","v":0},{"$f":"SUM(I268:I274)","v":0},{"$f":"IF(N274>38,N274-38,0)","v":0},{"$f":"IF(P274>Q274,P274,Q274)","v":0}]
[39,"2019-09-23","2019-09-23",null,null,0,0,0,null,null,null,0,""]
[39,"2019-09-24","2019-09-24",null,null,0,0,0,null,null,null,0,""]
[39,"2019-09-25","2019-09-25",null,null,0,0,0,null,null,null,0,""]
[39,"2019-09-26","2019-09-26",null,null,0,0,0,null,null,null,0,""]
[39,"2019-09-27","2019-09-27",null,null,0,0,0,null,null,null,0,""]
[39,"2019-09-28","2019-09-28",null,null,0,null,0,null,null,"za",0,"","Week",null,"OV WEEK","OV DAG","Recup -","Recup +","OV 50%"]
[39,"2019-09-29","2019-09-29",null,null,0,null,0,null,null,"zo",0,"",{"$f":"SUM(L275:L281)","v":0},{"$f":"SUM(H275:H281)","v":0},{"$f":"IF(N281>38,N281-38,0)","v":0},{"$f":"SUM(M275:M281)","v":0},{"$f":"SUM(I275:I281)","v":0},{"$f":"IF(N281>38,N281-38,0)","v":0},{"$f":"IF(P281>Q281,P281,Q281)","v":0}]
[40,"2019-09-30","2019-09-30",null,null,0,0,0,null,null,null,0,""]
[40,"2019-10-01","2019-10-01",null,null,0,0,0,null,null,null,0,""]
[40,"2019-10-02","2019-10-02",null,null,0,0,0,null,null,null,0,""]
[40,"2019-10-03","2019-10-03",null,null,0,0,0,null,null,null,0,""]
[40,"2019-10-04","2019-10-04",null,null,0,0,0,null,null,null,0,""]
[40,"2019-10-05","2019-10-05",null,null,0,null,0,null,null,"za",0,"","Week",null,"OV WEEK","OV DAG","Recup -","Recup +","OV 50%"]
[40,"2019-10-06","2019-10-06",null,null,0,null,0,null,null,"zo",0,"",{"$f":"SUM(L282:L288)","v":0},{"$f":"SUM(H282:H288)","v":0},{"$f":"IF(N288>38,N288-38,0)","v":0},{"$f":"SUM(M282:M288)","v":0},{"$f":"SUM(I282:I288)","v":0},{"$f":"IF(N288>38,N288-38,0)","v":0},{"$f":"IF(P288>Q288,P288,Q288)","v":0}]
[41,"2019-10-07","2019-10-07",null,null,0,0,0,null,null,null,0,""]
[41,"2019-10-08","2019-10-08",null,null,0,0,0,null,null,null,0,""]
[41,"2019-10-09","2019-10-09",null,null,0,0,0,null,null,null,0,""]
[41,"2019-10-10","2019-10-10",null,null,0,0,0,null,null,null,0,""]
[41,"2019-10-11","2019-10-11",null,null,0,0,0,null,null,null,0,""]
[41,"2019-10-12","2019-10-12",null,null,0,null,0,null,null,"za",0,"","Week",null,"OV WEEK","OV DAG","Recup -","Recup +","OV 50%"]
[41,"2019-10-13","2019-10-13",null,null,0,null,0,null,null,"zo",0,"",{"$f":"SUM(L289:L295)","v":0},{"$f":"SUM(H289:H295)","v":0},{"$f":"IF(N295>38,N295-38,0)","v":0},{"$f":"SUM(M289:M295)","v":0},{"$f":"SUM(I289:I295)","v":0},{"$f":"IF(N295>38,N295-38,0)","v":0},{"$f":"IF(P295>Q295,P295,Q295)","v":0}]
[42,"2019-10-14","2019-10-14",null,null,0,0,0,null,null,null,0,""]
[42,"2019-10-15","2019-10-15",null,null,0,0,0,null,null,null,0,""]
[42,"2019-10-16","2019-10-16",null,null,0,0,0,null,null,null,0,""]
[42,"2019-10-17","2019-10-17",null,null,0,0,0,null,null,null,0,""]
[42,"2019-10-18","2019-10-18",null,null,0,0,0,null,null,null,0,""]
[42,"2019-10-19","2019-10-19",null,null,0,null,0,null,null,"za",0,"","Week",null,"OV WEEK","OV DAG","Recup -","Recup +","OV 50%"]
[42,"2019-10-20","2019-10-20",null,null,0,null,0,null,null,"zo",0,"",{"$f":"SUM(L296:L302)","v":0},{"$f":"SUM(H296:H302)","v":0},{"$f":"IF(N302>38,N302-38,0)","v":0},{"$f":"SUM(M296:M302)","v":0},{"$f":"SUM(I296:I302)","v":0},{"$f":"IF(N302>38,N302-38,0)","v":0},{"$f":"IF(P302>Q302,P302,Q302)","v":0}]
[43,"2019-10-21","2019-10-21",null,null,0,0,0,null,null,null,0,""]
[43,"2019-10-22","2019-10-22",null,null,0,0,0,null,null,null,0,""]
[43,"2019-10-23","2019-10-23",null,null,0,0,0,null,null,null,0,""]
[43,"2019-10-24","2019-10-24",null,null,0,0,0,null,null,null,0,""]
[43,"2019-10-25","2019-10-25",null,null,0,0,0,null,null,null,0,""]
[43,"2019-10-26","2019-10-26",null,null,0,null,0,null,null,"za",0,"","Week",null,"OV WEEK","OV DAG","Recup -","Recup +","OV 50%"]
[43,"2019-10-27","2019-10-27",null,null,0,null,0,null,null,"zo",0,"",{"$f":"SUM(L303:L309)","v":0},{"$f":"SUM(H303:H309)","v":0},{"$f":"IF(N309>38,N309-38,0)","v":0},{"$f":"SUM(M303:M309)","v":0},{"$f":"SUM(I303:I309)","v":0},{"$f":"IF(N309>38,N309-38,0)","v":0},{"$f":"IF(P309>Q309,P309,Q309)","v":0}]
[44,"2019-10-28","2019-10-28",null,null,0,0,0,null,null,null,0,""]
[44,"2019-10-29","2019-10-29",null,null,0,0,0,null,null,null,0,""]
[44,"2019-10-30","2019-10-30",null,null,0,0,0,null,null,null,0,""]
[44,"2019-10-31","2019-10-31",null,null,0,0,0,null,null,null,0,""]
[44,"2019-11-01","2019-11-01",null,null,0,0,0,null,7.6,"fd",7.6,""]
[44,"2019-11-02","2019-11-02",null,null,0,null,0,null,null,"za",0,"","Week",null,"OV WEEK","OV DAG","Recup -","Recup +","OV 50%"]
[44,"2019-11-03","2019-11-03",null,null,0,null,0,null,null,"zo",0,"",{"$f":"SUM(L310:L316)","v":7.6},{"$f":"SUM(H310:H316)","v":0},{"$f":"IF(N316>38,N316-38,0)","v":0},{"$f":"SUM(M310:M316)","v":0},{"$f":"SUM(I310:I316)","v":0},{"$f":"IF(N316>38,N316-38,0)","v":0},{"$f":"IF(P316>Q316,P316,Q316)","v":0}]
[45,"2019-11-04","2019-11-04",null,null,0,0,0,null,null,null,0,""]
[45,"2019-11-05","2019-11-05",null,null,0,0,0,null,null,null,0,""]
[45,"2019-11-06","2019-11-06",null,null,0,0,0,null,null,null,0,""]
[45,"2019-11-07","2019-11-07",null,null,0,0,0,null,null,null,0,""]
[45,"2019-11-08","2019-11-08",null,null,0,0,0,null,null,null,0,""]
[45,"2019-11-09","2019-11-09",null,null,0,null,0,null,null,"za",0,"","Week",null,"OV WEEK","OV DAG","Recup -","Recup +","OV 50%"]
[45,"2019-11-10","2019-11-10",null,null,0,null,0,null,null,"zo",0,"",{"$f":"SUM(L317:L323)","v":0},{"$f":"SUM(H317:H323)","v":0},{"$f":"IF(N323>38,N323-38,0)","v":0},{"$f":"SUM(M317:M323)","v":0},{"$f":"SUM(I317:I323)","v":0},{"$f":"IF(N323>38,N323-38,0)","v":0},{"$f":"IF(P323>Q323,P323,Q323)","v":0}]
[46,"2019-11-11","2019-11-11",null,null,0,0,0,null,7.6,"fd",7.6,""]
[46,"2019-11-12","2019-11-12",null,null,0,0,0,null,null,null,0,""]
[46,"2019-11-13","2019-11-13",null,null,0,0,0,null,null,null,0,""]
[46,"2019-11-14","2019-11-14",null,null,0,0,0,null,null,null,0,""]
[46,"2019-11-15","2019-11-15",null,null,0,0,0,null,null,null,0,""]
[46,"2019-11-16","2019-11-16",null,null,0,null,0,null,null,"za",0,{"$f":"IF(L329>9,L329-9,\"\")","v":""},"Week",null,"OV WEEK","OV DAG","Recup -","Recup +","OV 50%"]
[{"$f":"WEEKNUM(C330,21)","v":46},{"$f":"C330","v":"2019-11-17"},"2019-11-17",null,null,{"$f":"(E330-D330)*24","v":0},null,{"$f":"F330-G330","v":0},null,null,"zo",{"$f":"SUM(H330:J330)","v":0},"",{"$f":"SUM(L324:L330)","v":7.6},{"$f":"SUM(H324:H330)","v":0},{"$f":"IF(N330>38,N330-38,0)","v":0},{"$f":"SUM(M324:M330)","v":0},{"$f":"SUM(I324:I330)","v":0},{"$f":"IF(N330>38,N330-38,0)","v":0},{"$f":"IF(P330>Q330,P330,Q330)","v":0}]
[47,"2019-11-18","2019-11-18",null,null,0,{"$f":"IF(F331>=6,0.5,0)","v":0},0,null,null,null,0,""]
[47,"2019-11-19","2019-11-19",null,null,0,0,0,null,null,null,0,""]
[47,"2019-11-20","2019-11-20",null,null,0,0,0,null,null,null,0,""]
[47,"2019-11-21","2019-11-21",null,null,0,0,0,null,null,null,0,""]
[47,"2019-11-22","2019-11-22",null,null,0,0,0,null,null,null,0,""]
[47,"2019-11-23","2019-11-23",null,null,0,null,0,null,null,"za",0,"","Week",null,"OV WEEK","OV DAG","Recup -","Recup +","OV 50%"]
[47,"2019-11-24","2019-11-24",null,null,0,null,0,null,null,"zo",0,"",{"$f":"SUM(L331:L337)","v":0},{"$f":"SUM(H331:H337)","v":0},{"$f":"IF(N337>38,N337-38,0)","v":0},{"$f":"SUM(M331:M337)","v":0},{"$f":"SUM(I331:I337)","v":0},{"$f":"IF(N337>38,N337-38,0)","v":0},{"$f":"IF(P337>Q337,P337,Q337)","v":0}]
[48,"2019-11-25","2019-11-25",null,null,0,0,0,null,null,null,0,""]
[48,"2019-11-26","2019-11-26",null,null,0,0,0,null,null,null,0,""]
[48,"2019-11-27","2019-11-27",null,null,0,0,0,null,null,null,0,""]
[48,"2019-11-28","2019-11-28",null,null,0,0,0,null,null,null,0,""]
[48,"2019-11-29","2019-11-29",null,null,0,0,0,null,null,null,0,""]
[48,"2019-11-30","2019-11-30",null,null,0,null,0,null,null,"za",0,"","Week",null,"OV WEEK","OV DAG","Recup -","Recup +","OV 50%"]
[48,"2019-12-01","2019-12-01",null,null,0,null,0,null,null,"zo",0,"",{"$f":"SUM(L338:L344)","v":0},{"$f":"SUM(H338:H344)","v":0},{"$f":"IF(N344>38,N344-38,0)","v":0},{"$f":"SUM(M338:M344)","v":0},{"$f":"SUM(I338:I344)","v":0},{"$f":"IF(N344>38,N344-38,0)","v":0},{"$f":"IF(P344>Q344,P344,Q344)","v":0}]
[49,"2019-12-02","2019-12-02",null,null,0,0,0,null,null,null,0,""]
[49,"2019-12-03","2019-12-03",null,null,0,0,0,null,null,null,0,""]
[49,"2019-12-04","2019-12-04",null,null,0,0,0,null,null,null,0,""]
[49,"2019-12-05","2019-12-05",null,null,0,0,0,null,null,null,0,""]
[49,"2019-12-06","2019-12-06",null,null,0,0,0,null,null,null,0,""]
[49,"2019-12-07","2019-12-07",null,null,0,null,0,null,null,"za",0,"","Week",null,"OV WEEK","OV DAG","Recup -","Recup +","OV 50%"]
[49,"2019-12-08","2019-12-08",null,null,0,null,0,null,null,"zo",0,"",{"$f":"SUM(L345:L351)","v":0},{"$f":"SUM(H345:H351)","v":0},{"$f":"IF(N351>38,N351-38,0)","v":0},{"$f":"SUM(M345:M351)","v":0},{"$f":"SUM(I345:I351)","v":0},{"$f":"IF(N351>38,N351-38,0)","v":0},{"$f":"IF(P351>Q351,P351,Q351)","v":0}]
[50,"2019-12-09","2019-12-09",null,null,0,0,0,null,null,null,0,""]
[50,"2019-12-10","2019-12-10",null,null,0,0,0,null,null,null,0,""]
[50,"2019-12-11","2019-12-11",null,null,0,0,0,null,null,null,0,""]
[50,"2019-12-12","2019-12-12",null,null,0,0,0,null,null,null,0,""]
[50,"2019-12-13","2019-12-13",null,null,0,0,0,null,null,null,0,""]
[50,"2019-12-14","2019-12-14",null,null,0,null,0,null,null,"za",0,"","Week",null,"OV WEEK","OV DAG","Recup -","Recup +","OV 50%"]
[50,"2019-12-15","2019-12-15",null,null,0,null,0,null,null,"zo",0,"",{"$f":"SUM(L352:L358)","v":0},{"$f":"SUM(H352:H358)","v":0},{"$f":"IF(N358>38,N358-38,0)","v":0},{"$f":"SUM(M352:M358)","v":0},{"$f":"SUM(I352:I358)","v":0},{"$f":"IF(N358>38,N358-38,0)","v":0},{"$f":"IF(P358>Q358,P358,Q358)","v":0}]
[51,"2019-12-16","2019-12-16",null,null,0,0,0,null,null,null,0,""]
[51,"2019-12-17","2019-12-17",null,null,0,0,0,null,null,null,0,""]
[51,"2019-12-18","2019-12-18",null,null,0,0,0,null,null,null,0,""]
[51,"2019-12-19","2019-12-19",null,null,0,0,0,null,null,null,0,""]
[51,"2019-12-20","2019-12-20",null,null,0,0,0,null,null,null,0,""]
[51,"2019-12-21","2019-12-21",null,null,0,null,0,null,null,"za",0,"","Week",null,"OV WEEK","OV DAG","Recup -","Recup +","OV 50%"]
[51,"2019-12-22","2019-12-22",null,null,0,null,0,null,null,"zo",0,"",{"$f":"SUM(L359:L365)","v":0},{"$f":"SUM(H359:H365)","v":0},{"$f":"IF(N365>38,N365-38,0)","v":0},{"$f":"SUM(M359:M365)","v":0},{"$f":"SUM(I359:I365)","v":0},{"$f":"IF(N365>38,N365-38,0)","v":0},{"$f":"IF(P365>Q365,P365,Q365)","v":0}]
[52,"2019-12-23","2019-12-23",null,null,0,0,0,null,null,null,0,""]
[52,"2019-12-24","2019-12-24",null,null,0,0,0,null,null,null,0,""]
[52,"2019-12-25","2019-12-25",null,null,0,0,0,null,7.6,"fd",7.6,""]
[52,"2019-12-26","2019-12-26",null,null,0,0,0,null,null,null,0,""]
[52,"2019-12-27","2019-12-27",null,null,0,0,0,null,null,null,0,""]
[52,"2019-12-28","2019-12-28",null,null,0,null,0,null,null,"za",0,"","Week",null,"OV WEEK","OV DAG","Recup -","Recup +","OV 50%"]
[52,"2019-12-29","2019-12-29",null,null,0,null,0,null,null,"zo",0,"",{"$f":"SUM(L366:L372)","v":7.6},{"$f":"SUM(H366:H372)","v":0},{"$f":"IF(N372>38,N372-38,0)","v":0},{"$f":"SUM(M366:M372)","v":0},{"$f":"SUM(I366:I372)","v":0},{"$f":"IF(N372>38,N372-38,0)","v":0},{"$f":"IF(P372>Q372,P372,Q372)","v":0}]
[1,"2019-12-30","2019-12-30",null,null,0,0,0,null,null,null,0,""]
[1,"2019-12-31","2019-12-31",null,null,0,0,0,null,null,null,0,""]
[1,"2020-01-01","2020-01-01",null,null,0,0,0,null,7.6,"fd",7.6,""]
[1,"2020-01-02","2020-01-02",null,null,0,0,0,null,null,null,0,""]
[1,"2020-01-03","2020-01-03",null,null,0,0,0,null,null,null,0,""]
[1,"2020-01-04","2020-01-04",null,null,0,null,0,null,null,"za",0,"","Week",null,"OV WEEK","OV DAG","Recup -","Recup +","OV 50%"]
[1,"2020-01-05","2020-01-05",null,null,0,null,0,null,null,"zo",0,"",{"$f":"SUM(L373:L379)","v":7.6},{"$f":"SUM(H373:H379)","v":0},{"$f":"IF(N379>38,N379-38,0)","v":0},{"$f":"SUM(M373:M379)","v":0},{"$f":"SUM(I373:I379)","v":0},{"$f":"IF(N379>38,N379-38,0)","v":0},{"$f":"IF(P379>Q379,P379,Q379)","v":0}]

{"sheet":"23","index":7,"n_rows":379,"n_cols":35,"rows_kept":379,"cut":false,"hidden":false,"merged":[[6,21,6,24],[6,25,6,28],[6,29,6,32],[6,33,6,34],[0,1,1,12],[4,21,4,23],[4,25,4,28],[4,29,4,32],[4,33,4,34],[5,21,5,23],[5,25,5,28],[5,29,5,32],[5,33,5,34],[2,21,2,23],[2,25,2,28],[2,29,2,32],[2,33,2,34],[3,21,3,23],[3,25,3,28],[3,29,3,32],[3,33,3,34],[0,21,0,24],[0,25,0,28],[0,29,0,32],[0,33,0,34],[1,21,1,23],[1,25,1,28],[1,29,1,32],[1,33,1,34]]}
["23","De Launois Raymond",null,null,null,null,null,null,null,null,null,null,null,null,null,null,null,null,null,null,null,"Soort",null,null,null,"Recht op",null,null,null,"Opgenomen",null,null,null,"Saldo"]
[null,null,null,null,null,null,null,null,null,null,null,null,null,null,null,null,null,null,null,null,null,"ADV-dagen",null,null,"adv",null,null,null,null,{"$f":"(COUNTIF(W$9:AH$39,\"ADV\")+(COUNTIF(W$9:AH$39,\"0,5ADV\"))/2)","v":0},null,null,null,{"$f":"Z2-AD2","v":0}]
[null,null,null,null,null,null,null,null,null,null,null,null,null,null,null,null,null,null,null,null,null,"Vakantie 2019",null,null,"v",null,null,null,null,{"$f":"(COUNTIF(W$9:AH$39,\"V\")+(COUNTIF(W$9:AH$39,\"0,5V\"))/2)","v":0},null,null,null,{"$f":"Z3-AD3","v":0}]
["Opgelet avondwerk ! Van 00:00u tot 00:00u / + 0,00u premie 50%",null,null,null,null,null,null,null,null,null,null,null,null,"Feestdag in weekend 2019",null,null,null,null,"Recup 2018",6.35,null,"Feestdag 2019",null,null,"f",1,null,null,null,{"$f":"(COUNTIF(W$9:AH$39,\"F\")+(COUNTIF(W$9:AH$39,\"0,5F\"))/2)","v":0},null,null,null,1]
[null,null,null,null,null,null,null,null,null,null,null,null,null,"- nationale feestdag 21/7",null,null,null,null,null,null,null,"Vakantie rest 2018",null,null,"vvj",null,null,null,null,{"$f":"(COUNTIF(W$9:AH$39,\"vvj\")+(COUNTIF(W$9:AH$39,\"0,5vvj\"))/2)","v":0},null,null,null,0]
[null,null,null,null,null,null,null,null,null,null,null,null,null,null,null,null,null,null,"Recup",{"$f":"SUM(S9:S379)-SUM(R9:R379)+T5+T4","v":-8.85},null,"Anciënniteitsdagen",null,null,"a ",null,null,null,null,{"$f":"(COUNTIF(W$9:AH$39,\"A\")+(COUNTIF(W$9:AH$39,\"0,5A\"))/2)","v":0},null,null,null,0]
[null,null,null,null,null,null,null,null,null,null,null,null,null,null,null,null,null,null,null,null,null,"TOTAAL",null,null,null,{"$f":"SUM(Z2:AC6)","v":1},null,null,null,{"$f":"SUM(AD2:AG6)","v":0},null,null,null,{"$f":"SUM(AH2:AI6)","v":1}]
["W","Dag","Datum","Van ","Tot",null,"Pauze","Prestaties","Recup","Andere","Type","Dag","OV DAG","Week","Prestaties","OV WEEK","OV DAG","Rec. -","Rec. +","OV 50%","M",null,"Jan","Feb","Maa","Apr","Mei","Jun","Jul","Aug","Sept","Okt","Nov","Dec"]
[{"$f":"WEEKNUM(C9,21)","v":1},{"$f":"C9","v":"2018-12-31"},"2018-12-31",null,null,{"$f":"(E9-D9)*24","v":0},{"$f":"IF(F9>=6,0.5,0)","v":0},{"$f":"F9-G9","v":0},null,7.6,"OK",{"$f":"SUM(H9:J9)","v":7.6},{"$f":"IF(L9>9,L9-9,\"\")","v":""},"Goedgekeurde verlof 2018 reeds verwerkt OK!",null,null,null,null,null,null,0,1,{"$f":"K9","v":"OK"},{"$f":"K40","v":0},{"$f":"K68","v":0},{"$f":"K99","v":"zo"},{"$f":"K129","v":0},{"$f":"K160","v":0},{"$f":"K190","v":"zo"},{"$f":"K221","v":0},{"$f":"K252","v":"za"},{"$f":"K282","v":0},{"$f":"K313","v":0},{"$f":"K343","v":"za"},1]
[{"$f":"WEEKNUM(C10,21)","v":1},{"$f":"C10","v":"2019-01-01"},"2019-01-01",null,null,{"$f":"(E10-D10)*24","v":0},{"$f":"IF(F10>=6,0.5,0)","v":0},{"$f":"F10-G10","v":0},null,7.6,"fd",{"$f":"SUM(H10:J10)","v":7.6},"",null,null,null,null,null,null,null,0,2,{"$f":"K10","v":"fd"},{"$f":"K41","v":0},{"$f":"K69","v":0},{"$f":"K100","v":0},{"$f":"K130","v":"fd"},{"$f":"K161","v":"za"},{"$f":"K191","v":0},{"$f":"K222","v":0},{"$f":"K253","v":"zo"},{"$f":"K283","v":0},{"$f":"K314","v":"fd"},{"$f":"K344","v":"zo"},2]
[1,"2019-01-02","2019-01-02",null,null,0,0,0,null,null,null,0,"",null,null,null,null,null,null,null,null,3,0,"za","za",0,0,"zo",0,0,0,0,"za",0,3]
[1,"2019-01-03","2019-01-03",null,null,0,0,0,null,null,null,0,"",null,null,null,null,null,null,null,null,4,0,"zo","zo",0,0,0,0,"za",0,0,"zo",0,4]
[1,"2019-01-04","2019-01-04",null,null,0,0,0,null,null,null,0,"",null,null,null,null,null,null,null,null,5,0,0,0,0,"za",0,0,"zo",0,0,0,{"$f":"K347","v":0},5]
[1,"2019-01-05","2019-01-05",null,null,0,null,0,null,null,"za",0,"","Week",null,"OV WEEK","OV DAG","Recup -","Recup +","OV 50%",null,6,"za",0,0,0,"zo",0,0,0,0,"za",0,0,6]
[1,"2019-01-06","2019-01-06",null,null,0,null,0,null,null,"zo",0,"",{"$f":"SUM(L9:L15)","v":15.2},{"$f":"SUM(H9:H15)","v":0},{"$f":"IF(N15>38,N15-38,0)","v":0},{"$f":"SUM(M9:M15)","v":0},{"$f":"SUM(I9:I15)","v":0},{"$f":"IF(N15>38,N15-38,0)","v":0},{"$f":"IF(P15>Q15,P15,Q15)","v":0},null,7,"zo",0,0,"za",0,0,"za",0,0,"zo",0,0,7]
[2,"2019-01-07","2019-01-07",null,null,0,0,0,null,null,null,0,"",null,null,null,null,null,null,null,null,8,0,0,0,"zo",0,0,"zo",0,"za",0,0,"za",8]
[2,"2019-01-08","2019-01-08",null,null,0,0,0,null,null,null,0,"",null,null,null,null,null,null,null,null,9,0,0,0,0,0,"za",0,0,"zo",0,0,"zo",9]
[2,"2019-01-09","2019-01-09",null,null,0,0,0,null,null,null,0,"",null,null,null,null,null,null,null,null,10,0,"za","za",0,0,"zo",0,0,0,0,"za",0,10]
[2,"2019-01-10","2019-01-10",null,null,0,0,0,null,null,null,0,"",null,null,null,null,null,null,null,null,11,0,"zo","zo",0,0,"fd",0,"za",0,0,"zo",0,11]
[2,"2019-01-11","2019-01-11",null,null,0,0,0,null,null,null,0,"",null,null,null,null,null,null,null,null,12,0,0,0,0,"za",0,0,"zo",0,0,"fd",0,12]
[2,"2019-01-12","2019-01-12",null,null,0,null,0,null,null,"za",0,"","Week",null,"OV WEEK","OV DAG","Recup -","Recup +","OV 50%",null,13,"za",0,0,0,"zo",0,0,0,0,"za",0,0,13]
[2,"2019-01-13","2019-01-13",null,null,0,null,0,null,null,"zo",0,"",{"$f":"SUM(L16:L22)","v":0},{"$f":"SUM(H16:H22)","v":0},{"$f":"IF(N22>38,N22-38,0)","v":0},{"$f":"SUM(M16:M22)","v":0},{"$f":"SUM(I16:I22)","v":0},{"$f":"IF(N22>38,N22-38,0)","v":0},{"$f":"IF(P22>Q22,P22,Q22)","v":0},null,14,"zo",0,0,"za",0,0,"za",0,0,"zo",0,0,14]
[3,"2019-01-14","2019-01-14",null,null,0,0,0,null,null,null,0,"",null,null,null,null,null,null,null,null,15,0,0,0,"zo",0,0,"zo",0,"za",0,0,"za",15]
[3,"2019-01-15","2019-01-15",null,null,0,0,0,null,null,null,0,"",null,null,null,null,null,null,null,null,16,0,0,0,0,0,"za",0,"fd","zo",0,0,"zo",16]
[3,"2019-01-16","2019-01-16",null,null,0,0,0,null,null,null,0,"",null,null,null,null,null,null,null,null,17,0,"za","za",0,0,"zo",0,0,0,0,"za",0,17]
[3,"2019-01-17","2019-01-17",null,null,0,0,0,null,null,null,0,"",null,null,null,null,null,null,null,null,18,0,"zo","zo",0,0,0,0,"za",0,0,"zo",0,18]
[3,"2019-01-18","2019-01-18",null,null,0,0,0,7.6,null,"ro",7.6,"","ET 15/01: Verlof goedgekeurd Dispatch.",null,null,null,null,null,null,null,19,"ro",0,0,0,"za",0,0,"zo",0,0,0,0,19]
[3,"2019-01-19","2019-01-19",null,null,0,null,0,null,null,"za",0,"","Week",null,"OV WEEK","OV DAG","Recup -","Recup +","OV 50%",null,20,"za",0,0,0,"zo",0,0,0,0,"za",0,{"$f":"K362","v":0},20]
[3,"2019-01-20","2019-01-20",null,null,0,null,0,null,null,"zo",0,"",{"$f":"SUM(L23:L29)","v":7.6},{"$f":"SUM(H23:H29)","v":0},{"$f":"IF(N29>38,N29-38,0)","v":0},{"$f":"SUM(M23:M29)","v":0},{"$f":"SUM(I23:I29)","v":7.6},{"$f":"IF(N29>38,N29-38,0)","v":0},{"$f":"IF(P29>Q29,P29,Q29)","v":0},null,21,"zo",0,0,"za","fd",0,"za",0,0,"zo",0,0,21]
[4,"2019-01-21","2019-01-21",null,null,0,0,0,null,null,null,0,"",null,null,null,null,null,null,null,null,22,0,0,0,"zo",0,0,"zo",0,"za",0,0,"za",22]
[4,"2019-01-22","2019-01-22",null,null,0,0,0,null,null,null,0,"",null,null,null,null,null,null,null,null,23,0,0,0,"fd",0,"za",0,0,"zo",0,0,"zo",23]
[4,"2019-01-23","2019-01-23",null,null,0,0,0,null,null,null,0,"",null,null,null,null,null,null,null,null,24,0,"za","za",0,0,"zo",0,0,0,0,"za",0,24]
[4,"2019-01-24","2019-01-24",null,null,0,0,0,null,null,null,0,"",null,null,null,null,null,null,null,null,25,0,"zo","zo",0,0,0,0,"za",0,0,"zo",0,25]
[4,"2019-01-25","2019-01-25",null,null,0,0,0,7.6,null,"ro",7.6,"","ET 15/01: Verlof goedgekeurd Dispatch.",null,null,null,null,null,null,null,26,"ro",0,0,0,"za",0,0,"zo",0,0,0,"fd",26]
[4,"2019-01-26","2019-01-26",null,null,0,null,0,null,null,"za",0,"","Week",null,"OV WEEK","OV DAG","Recup -","Recup +","OV 50%",null,27,"za",0,0,0,"zo",0,0,0,0,"za",0,0,27]
[4,"2019-01-27","2019-01-27",null,null,0,null,0,null,null,"zo",0,"",{"$f":"SUM(L30:L36)","v":7.6},{"$f":"SUM(H30:H36)","v":0},{"$f":"IF(N36>38,N36-38,0)","v":0},{"$f":"SUM(M30:M36)","v":0},{"$f":"SUM(I30:I36)","v":7.6},{"$f":"IF(N36>38,N36-38,0)","v":0},{"$f":"IF(P36>Q36,P36,Q36)","v":0},null,28,"zo",0,0,"za",0,0,"za",0,0,"zo",0,0,28]
[5,"2019-01-28","2019-01-28",null,null,0,0,0,null,null,null,0,"",null,null,null,null,null,null,null,null,29,0,null,0,"zo",0,0,"zo",0,"za",0,0,"za",29]
[5,"2019-01-29","2019-01-29",null,null,0,0,0,null,null,null,0,"",null,null,null,null,null,null,null,null,30,0,null,0,0,0,"za",0,0,"zo",0,0,"zo",30]
[5,"2019-01-30","2019-01-30",null,null,0,0,0,null,null,null,0,"",null,null,null,null,null,null,null,null,31,0,null,"za",null,"fd",null,0,0,null,0,null,0,31]
[5,"2019-01-31","2019-01-31",null,null,0,0,0,null,null,null,0,"",null,null,null,null,null,null,null,null,"WD",23,20,21,22,23,20,23,22,21,23,21,22,{"$f":"SUM(W40:AH40)","v":261}]
[5,"2019-02-01","2019-02-01",null,null,0,0,0,null,null,null,0,""]
[5,"2019-02-02","2019-02-02",null,null,0,null,0,null,null,"za",0,"","Week",null,"OV WEEK","OV DAG","Recup -","Recup +","OV 50%"]
[5,"2019-02-03","2019-02-03",null,null,0,null,0,null,null,"zo",0,"",{"$f":"SUM(L37:L43)","v":0},{"$f":"SUM(H37:H43)","v":0},{"$f":"IF(N43>38,N43-38,0)","v":0},{"$f":"SUM(M37:M43)","v":0},{"$f":"SUM(I37:I43)","v":0},{"$f":"IF(N43>38,N43-38,0)","v":0},{"$f":"IF(P43>Q43,P43,Q43)","v":0}]
[6,"2019-02-04","2019-02-04",null,null,0,0,0,null,null,null,0,""]
[6,"2019-02-05","2019-02-05",null,null,0,0,0,null,null,null,0,""]
[6,"2019-02-06","2019-02-06",null,null,0,0,0,null,null,null,0,""]
[6,"2019-02-07","2019-02-07",null,null,0,0,0,null,null,null,0,""]
[6,"2019-02-08","2019-02-08",null,null,0,0,0,null,null,null,0,""]
[6,"2019-02-09","2019-02-09",null,null,0,null,0,null,null,"za",0,"","Week",null,"OV WEEK","OV DAG","Recup -","Recup +","OV 50%"]
[6,"2019-02-10","2019-02-10",null,null,0,null,0,null,null,"zo",0,"",{"$f":"SUM(L44:L50)","v":0},{"$f":"SUM(H44:H50)","v":0},{"$f":"IF(N50>38,N50-38,0)","v":0},{"$f":"SUM(M44:M50)","v":0},{"$f":"SUM(I44:I50)","v":0},{"$f":"IF(N50>38,N50-38,0)","v":0},{"$f":"IF(P50>Q50,P50,Q50)","v":0}]
[7,"2019-02-11","2019-02-11",null,null,0,0,0,null,null,null,0,""]
[7,"2019-02-12","2019-02-12",null,null,0,0,0,null,null,null,0,""]
[7,"2019-02-13","2019-02-13",null,null,0,0,0,null,null,null,0,""]
[7,"2019-02-14","2019-02-14",null,null,0,0,0,null,null,null,0,""]
[7,"2019-02-15","2019-02-15",null,null,0,0,0,null,null,null,0,""]
[7,"2019-02-16","2019-02-16",null,null,0,null,0,null,null,"za",0,"","Week",null,"OV WEEK","OV DAG","Recup -","Recup +","OV 50%"]
[7,"2019-02-17","2019-02-17",null,null,0,null,0,null,null,"zo",0,"",{"$f":"SUM(L51:L57)","v":0},{"$f":"SUM(H51:H57)","v":0},{"$f":"IF(N57>38,N57-38,0)","v":0},{"$f":"SUM(M51:M57)","v":0},{"$f":"SUM(I51:I57)","v":0},{"$f":"IF(N57>38,N57-38,0)","v":0},{"$f":"IF(P57>Q57,P57,Q57)","v":0}]
[8,"2019-02-18","2019-02-18",null,null,0,0,0,null,null,null,0,""]
[8,"2019-02-19","2019-02-19",null,null,0,0,0,null,null,null,0,""]
[8,"2019-02-20","2019-02-20",null,null,0,0,0,null,null,null,0,""]
[8,"2019-02-21","2019-02-21",null,null,0,0,0,null,null,null,0,""]
[8,"2019-02-22","2019-02-22",null,null,0,0,0,null,null,null,0,""]
[8,"2019-02-23","2019-02-23",null,null,0,null,0,null,null,"za",0,"","Week",null,"OV WEEK","OV DAG","Recup -","Recup +","OV 50%"]
[8,"2019-02-24","2019-02-24",null,null,0,null,0,null,null,"zo",0,"",{"$f":"SUM(L58:L64)","v":0},{"$f":"SUM(H58:H64)","v":0},{"$f":"IF(N64>38,N64-38,0)","v":0},{"$f":"SUM(M58:M64)","v":0},{"$f":"SUM(I58:I64)","v":0},{"$f":"IF(N64>38,N64-38,0)","v":0},{"$f":"IF(P64>Q64,P64,Q64)","v":0}]
[9,"2019-02-25","2019-02-25",null,null,0,0,0,null,null,null,0,""]
[9,"2019-02-26","2019-02-26",null,null,0,0,0,null,null,null,0,""]
[9,"2019-02-27","2019-02-27",null,null,0,0,0,null,null,null,0,""]
[9,"2019-02-28","2019-02-28",null,null,0,0,0,null,null,null,0,""]
[9,"2019-03-01","2019-03-01",null,null,0,0,0,null,null,null,0,""]
[9,"2019-03-02","2019-03-02",null,null,0,null,0,null,null,"za",0,"","Week",null,"OV WEEK","OV DAG","Recup -","Recup +","OV 50%"]
[9,"2019-03-03","2019-03-03",null,null,0,null,0,null,null,"zo",0,"",{"$f":"SUM(L65:L71)","v":0},{"$f":"SUM(H65:H71)","v":0},{"$f":"IF(N71>38,N71-38,0)","v":0},{"$f":"SUM(M65:M71)","v":0},{"$f":"SUM(I65:I71)","v":0},{"$f":"IF(N71>38,N71-38,0)","v":0},{"$f":"IF(P71>Q71,P71,Q71)","v":0}]
[10,"2019-03-04","2019-03-04",null,null,0,0,0,null,null,null,0,""]
[10,"2019-03-05","2019-03-05",null,null,0,0,0,null,null,null,0,{"$f":"IF(L73>9,L73-9,\"\")","v":""}]
[{"$f":"WEEKNUM(C74,21)","v":10},{"$f":"C74","v":"2019-03-06"},"2019-03-06",null,null,{"$f":"(E74-D74)*24","v":0},{"$f":"IF(F74>=6,0.5,0)","v":0},{"$f":"F74-G74","v":0},null,null,null,{"$f":"SUM(H74:J74)","v":0},""]
[10,"2019-03-07","2019-03-07",null,null,0,0,0,null,null,null,0,""]
[10,"2019-03-08","2019-03-08",null,null,0,0,0,null,null,null,0,""]
[10,"2019-03-09","2019-03-09",null,null,0,null,0,null,null,"za",0,"","Week",null,"OV WEEK","OV DAG","Recup -","Recup +","OV 50%"]
[10,"2019-03-10","2019-03-10",null,null,0,null,0,null,null,"zo",0,"",{"$f":"SUM(L72:L78)","v":0},{"$f":"SUM(H72:H78)","v":0},{"$f":"IF(N78>38,N78-38,0)","v":0},{"$f":"SUM(M72:M78)","v":0},{"$f":"SUM(I72:I78)","v":0},{"$f":"IF(N78>38,N78-38,0)","v":0},{"$f":"IF(P78>Q78,P78,Q78)","v":0}]
[11,"2019-03-11","2019-03-11",null,null,0,0,0,null,null,null,0,""]
[11,"2019-03-12","2019-03-12",null,null,0,0,0,null,null,null,0,""]
[11,"2019-03-13","2019-03-13",null,null,0,0,0,null,null,null,0,""]
[11,"2019-03-14","2019-03-14",null,null,0,0,0,null,null,null,0,""]
[11,"2019-03-15","2019-03-15",null,null,0,0,0,null,null,null,0,""]
[11,"2019-03-16","2019-03-16",null,null,0,null,0,null,null,"za",0,"","Week",null,"OV WEEK","OV DAG","Recup -","Recup +","OV 50%"]
[11,"2019-03-17","2019-03-17",null,null,0,null,0,null,null,"zo",0,"",{"$f":"SUM(L79:L85)","v":0},{"$f":"SUM(H79:H85)","v":0},{"$f":"IF(N85>38,N85-38,0)","v":0},{"$f":"SUM(M79:M85)","v":0},{"$f":"SUM(I79:I85)","v":0},{"$f":"IF(N85>38,N85-38,0)","v":0},{"$f":"IF(P85>Q85,P85,Q85)","v":0}]
[12,"2019-03-18","2019-03-18",null,null,0,0,0,null,null,null,0,""]
[12,"2019-03-19","2019-03-19",null,null,0,0,0,null,null,null,0,""]
[12,"2019-03-20","2019-03-20",null,null,0,0,0,null,null,null,0,""]
[12,"2019-03-21","2019-03-21",null,null,0,0,0,null,null,null,0,""]
[12,"2019-03-22","2019-03-22",null,null,0,0,0,null,null,null,0,""]
[12,"2019-03-23","2019-03-23",null,null,0,null,0,null,null,"za",0,"","Week",null,"OV WEEK","OV DAG","Recup -","Recup +","OV 50%"]
[12,"2019-03-24","2019-03-24",null,null,0,null,0,null,null,"zo",0,"",{"$f":"SUM(L86:L92)","v":0},{"$f":"SUM(H86:H92)","v":0},{"$f":"IF(N92>38,N92-38,0)","v":0},{"$f":"SUM(M86:M92)","v":0},{"$f":"SUM(I86:I92)","v":0},{"$f":"IF(N92>38,N92-38,0)","v":0},{"$f":"IF(P92>Q92,P92,Q92)","v":0}]
[13,"2019-03-25","2019-03-25",null,null,0,0,0,null,null,null,0,""]
[13,"2019-03-26","2019-03-26",null,null,0,0,0,null,null,null,0,""]
[13,"2019-03-27","2019-03-27",null,null,0,0,0,null,null,null,0,""]
[13,"2019-03-28","2019-03-28",null,null,0,0,0,null,null,null,0,""]
[13,"2019-03-29","2019-03-29",null,null,0,0,0,null,null,null,0,""]
[13,"2019-03-30","2019-03-30",null,null,0,null,0,null,null,"za",0,"","Week",null,"OV WEEK","OV DAG","Recup -","Recup +","OV 50%"]
[13,"2019-03-31","2019-03-31",null,null,0,null,0,null,null,"zo",0,"",{"$f":"SUM(L93:L99)","v":0},{"$f":"SUM(H93:H99)","v":0},{"$f":"IF(N99>38,N99-38,0)","v":0},{"$f":"SUM(M93:M99)","v":0},{"$f":"SUM(I93:I99)","v":0},{"$f":"IF(N99>38,N99-38,0)","v":0},{"$f":"IF(P99>Q99,P99,Q99)","v":0}]
[14,"2019-04-01","2019-04-01",null,null,0,0,0,null,null,null,0,""]
[14,"2019-04-02","2019-04-02",null,null,0,0,0,null,null,null,0,""]
[14,"2019-04-03","2019-04-03",null,null,0,0,0,null,null,null,0,""]
[14,"2019-04-04","2019-04-04",null,null,0,0,0,null,null,null,0,""]
[14,"2019-04-05","2019-04-05",null,null,0,0,0,null,null,null,0,"","Laatste arbeidsdag 05/04/2019 !"]
[14,"2019-04-06","2019-04-06",null,null,0,null,0,null,null,"za",0,"","Week",null,"OV WEEK","OV DAG","Recup -","Recup +","OV 50%"]
[14,"2019-04-07","2019-04-07",null,null,0,null,0,null,null,"zo",0,"",{"$f":"SUM(L100:L106)","v":0},{"$f":"SUM(H100:H106)","v":0},{"$f":"IF(N106>38,N106-38,0)","v":0},{"$f":"SUM(M100:M106)","v":0},{"$f":"SUM(I100:I106)","v":0},{"$f":"IF(N106>38,N106-38,0)","v":0},{"$f":"IF(P106>Q106,P106,Q106)","v":0}]
[15,"2019-04-08","2019-04-08",null,null,0,0,0,null,null,null,0,""]
[15,"2019-04-09","2019-04-09",null,null,0,0,0,null,null,null,0,""]
[15,"2019-04-10","2019-04-10",null,null,0,0,0,null,null,null,0,""]
[15,"2019-04-11","2019-04-11",null,null,0,0,0,null,null,null,0,""]
[15,"2019-04-12","2019-04-12",null,null,0,0,0,null,null,null,0,""]
[15,"2019-04-13","2019-04-13",null,null,0,null,0,null,null,"za",0,"","Week",null,"OV WEEK","OV DAG","Recup -","Recup +","OV 50%"]
[15,"2019-04-14","2019-04-14",null,null,0,null,0,null,null,"zo",0,"",{"$f":"SUM(L107:L113)","v":0},{"$f":"SUM(H107:H113)","v":0},{"$f":"IF(N113>38,N113-38,0)","v":0},{"$f":"SUM(M107:M113)","v":0},{"$f":"SUM(I107:I113)","v":0},{"$f":"IF(N113>38,N113-38,0)","v":0},{"$f":"IF(P113>Q113,P113,Q113)","v":0}]
[16,"2019-04-15","2019-04-15",null,null,0,0,0,null,null,null,0,""]
[16,"2019-04-16","2019-04-16",null,null,0,0,0,null,null,null,0,""]
[16,"2019-04-17","2019-04-17",null,null,0,0,0,null,null,null,0,""]
[16,"2019-04-18","2019-04-18",null,null,0,0,0,null,null,null,0,""]
[16,"2019-04-19","2019-04-19",null,null,0,0,0,null,null,null,0,""]
[16,"2019-04-20","2019-04-20",null,null,0,null,0,null,null,"za",0,"","Week",null,"OV WEEK","OV DAG","Recup -","Recup +","OV 50%"]
[16,"2019-04-21","2019-04-21",null,null,0,null,0,null,null,"zo",0,"",{"$f":"SUM(L114:L120)","v":0},{"$f":"SUM(H114:H120)","v":0},{"$f":"IF(N120>38,N120-38,0)","v":0},{"$f":"SUM(M114:M120)","v":0},{"$f":"SUM(I114:I120)","v":0},{"$f":"IF(N120>38,N120-38,0)","v":0},{"$f":"IF(P120>Q120,P120,Q120)","v":0}]
[17,"2019-04-22","2019-04-22",null,null,0,0,0,null,7.6,"fd",7.6,""]
[17,"2019-04-23","2019-04-23",null,null,0,0,0,null,null,null,0,""]
[17,"2019-04-24","2019-04-24",null,null,0,0,0,null,null,null,0,""]
[17,"2019-04-25","2019-04-25",null,null,0,0,0,null,null,null,0,""]
[17,"2019-04-26","2019-04-26",null,null,0,0,0,null,null,null,0,""]
[17,"2019-04-27","2019-04-27",null,null,0,null,0,null,null,"za",0,"","Week",null,"OV WEEK","OV DAG","Recup -","Recup +","OV 50%"]
[17,"2019-04-28","2019-04-28",null,null,0,null,0,null,null,"zo",0,"",{"$f":"SUM(L121:L127)","v":7.6},{"$f":"SUM(H121:H127)","v":0},{"$f":"IF(N127>38,N127-38,0)","v":0},{"$f":"SUM(M121:M127)","v":0},{"$f":"SUM(I121:I127)","v":0},{"$f":"IF(N127>38,N127-38,0)","v":0},{"$f":"IF(P127>Q127,P127,Q127)","v":0}]
[18,"2019-04-29","2019-04-29",null,null,0,0,0,null,null,null,0,""]
[18,"2019-04-30","2019-04-30",null,null,0,0,0,null,null,null,0,""]
[18,"2019-05-01","2019-05-01",null,null,0,0,0,null,7.6,"fd",7.6,""]
[18,"2019-05-02","2019-05-02",null,null,0,0,0,null,null,null,0,""]
[18,"2019-05-03","2019-05-03",null,null,0,0,0,null,null,null,0,""]
[18,"2019-05-04","2019-05-04",null,null,0,null,0,null,null,"za",0,"","Week",null,"OV WEEK","OV DAG","Recup -","Recup +","OV 50%"]
[18,"2019-05-05","2019-05-05",null,null,0,null,0,null,null,"zo",0,"",{"$f":"SUM(L128:L134)","v":7.6},{"$f":"SUM(H128:H134)","v":0},{"$f":"IF(N134>38,N134-38,0)","v":0},{"$f":"SUM(M128:M134)","v":0},{"$f":"SUM(I128:I134)","v":0},{"$f":"IF(N134>38,N134-38,0)","v":0},{"$f":"IF(P134>Q134,P134,Q134)","v":0}]
[19,"2019-05-06","2019-05-06",null,null,0,0,0,null,null,null,0,""]
[19,"2019-05-07","2019-05-07",null,null,0,0,0,null,null,null,0,""]
[19,"2019-05-08","2019-05-08",null,null,0,0,0,null,null,null,0,{"$f":"IF(L137>9,L137-9,\"\")","v":""}]
[{"$f":"WEEKNUM(C138,21)","v":19},{"$f":"C138","v":"2019-05-09"},"2019-05-09",null,null,{"$f":"(E138-D138)*24","v":0},{"$f":"IF(F138>=6,0.5,0)","v":0},{"$f":"F138-G138","v":0},null,null,null,{"$f":"SUM(H138:J138)","v":0},""]
[19,"2019-05-10","2019-05-10",null,null,0,0,0,null,null,null,0,""]
[19,"2019-05-11","2019-05-11",null,null,0,null,0,null,null,"za",0,"","Week",null,"OV WEEK","OV DAG","Recup -","Recup +","OV 50%"]
[19,"2019-05-12","2019-05-12",null,null,0,null,0,null,null,"zo",0,"",{"$f":"SUM(L135:L141)","v":0},{"$f":"SUM(H135:H141)","v":0},{"$f":"IF(N141>38,N141-38,0)","v":0},{"$f":"SUM(M135:M141)","v":0},{"$f":"SUM(I135:I141)","v":0},{"$f":"IF(N141>38,N141-38,0)","v":0},{"$f":"IF(P141>Q141,P141,Q141)","v":0}]
[20,"2019-05-13","2019-05-13",null,null,0,0,0,null,null,null,0,""]
[20,"2019-05-14","2019-05-14",null,null,0,0,0,null,null,null,0,""]
[20,"2019-05-15","2019-05-15",null,null,0,0,0,null,null,null,0,""]
[20,"2019-05-16","2019-05-16",null,null,0,0,0,null,null,null,0,""]
[20,"2019-05-17","2019-05-17",null,null,0,0,0,null,null,null,0,""]
[20,"2019-05-18","2019-05-18",null,null,0,null,0,null,null,"za",0,"","Week",null,"OV WEEK","OV DAG","Recup -","Recup +","OV 50%"]
[20,"2019-05-19","2019-05-19",null,null,0,null,0,null,null,"zo",0,"",{"$f":"SUM(L142:L148)","v":0},{"$f":"SUM(H142:H148)","v":0},{"$f":"IF(N148>38,N148-38,0)","v":0},{"$f":"SUM(M142:M148)","v":0},{"$f":"SUM(I142:I148)","v":0},{"$f":"IF(N148>38,N148-38,0)","v":0},{"$f":"IF(P148>Q148,P148,Q148)","v":0}]
[21,"2019-05-20","2019-05-20",null,null,0,0,0,null,7.6,"fd",7.6,""]
[21,"2019-05-21","2019-05-21",null,null,0,0,0,null,null,null,0,""]
[21,"2019-05-22","2019-05-22",null,null,0,0,0,null,null,null,0,""]
[21,"2019-05-23","2019-05-23",null,null,0,0,0,null,null,null,0,""]
[21,"2019-05-24","2019-05-24",null,null,0,0,0,null,null,null,0,""]
[21,"2019-05-25","2019-05-25",null,null,0,null,0,null,null,"za",0,"","Week",null,"OV WEEK","OV DAG","Recup -","Recup +","OV 50%"]
[21,"2019-05-26","2019-05-26",null,null,0,null,0,null,null,"zo",0,"",{"$f":"SUM(L149:L155)","v":7.6},{"$f":"SUM(H149:H155)","v":0},{"$f":"IF(N155>38,N155-38,0)","v":0},{"$f":"SUM(M149:M155)","v":0},{"$f":"SUM(I149:I155)","v":0},{"$f":"IF(N155>38,N155-38,0)","v":0},{"$f":"IF(P155>Q155,P155,Q155)","v":0}]
[22,"2019-05-27","2019-05-27",null,null,0,0,0,null,null,null,0,""]
[22,"2019-05-28","2019-05-28",null,null,0,0,0,null,null,null,0,""]
[22,"2019-05-29","2019-05-29",null,null,0,0,0,null,null,null,0,""]
[22,"2019-05-30","2019-05-30",null,null,0,0,0,null,7.6,"fd",7.6,""]
[22,"2019-05-31","2019-05-31",null,null,0,0,0,null,null,null,0,""]
[22,"2019-06-01","2019-06-01",null,null,0,null,0,null,null,"za",0,"","Week",null,"OV WEEK","OV DAG","Recup -","Recup +","OV 50%"]
[22,"2019-06-02","2019-06-02",null,null,0,null,0,null,null,"zo",0,"",{"$f":"SUM(L156:L162)","v":7.6},{"$f":"SUM(H156:H162)","v":0},{"$f":"IF(N162>38,N162-38,0)","v":0},{"$f":"SUM(M156:M162)","v":0},{"$f":"SUM(I156:I162)","v":0},{"$f":"IF(N162>38,N162-38,0)","v":0},{"$f":"IF(P162>Q162,P162,Q162)","v":0}]
[23,"2019-06-03","2019-06-03",null,null,0,0,0,null,null,null,0,""]
[23,"2019-06-04","2019-06-04",null,null,0,0,0,null,null,null,0,""]
[23,"2019-06-05","2019-06-05",null,null,0,0,0,null,null,null,0,""]
[23,"2019-06-06","2019-06-06",null,null,0,0,0,null,null,null,0,""]
[23,"2019-06-07","2019-06-07",null,null,0,0,0,null,null,null,0,""]
[23,"2019-06-08","2019-06-08",null,null,0,null,0,null,null,"za",0,"","Week",null,"OV WEEK","OV DAG","Recup -","Recup +","OV 50%"]
[23,"2019-06-09","2019-06-09",null,null,0,null,0,null,null,"zo",0,"",{"$f":"SUM(L163:L169)","v":0},{"$f":"SUM(H163:H169)","v":0},{"$f":"IF(N169>38,N169-38,0)","v":0},{"$f":"SUM(M163:M169)","v":0},{"$f":"SUM(I163:I169)","v":0},{"$f":"IF(N169>38,N169-38,0)","v":0},{"$f":"IF(P169>Q169,P169,Q169)","v":0}]
[24,"2019-06-10","2019-06-10",null,null,0,0,0,null,7.6,"fd",7.6,""]
[24,"2019-06-11","2019-06-11",null,null,0,0,0,null,null,null,0,""]
[24,"2019-06-12","2019-06-12",null,null,0,0,0,null,null,null,0,""]
[24,"2019-06-13","2019-06-13",null,null,0,0,0,null,null,null,0,""]
[24,"2019-06-14","2019-06-14",null,null,0,0,0,null,null,null,0,""]
[24,"2019-06-15","2019-06-15",null,null,0,null,0,null,null,"za",0,"","Week",null,"OV WEEK","OV DAG","Recup -","Recup +","OV 50%"]
[24,"2019-06-16","2019-06-16",null,null,0,null,0,null,null,"zo",0,"",{"$f":"SUM(L170:L176)","v":7.6},{"$f":"SUM(H170:H176)","v":0},{"$f":"IF(N176>38,N176-38,0)","v":0},{"$f":"SUM(M170:M176)","v":0},{"$f":"SUM(I170:I176)","v":0},{"$f":"IF(N176>38,N176-38,0)","v":0},{"$f":"IF(P176>Q176,P176,Q176)","v":0}]
[25,"2019-06-17","2019-06-17",null,null,0,0,0,null,null,null,0,""]
[25,"2019-06-18","2019-06-18",null,null,0,0,0,null,null,null,0,""]
[25,"2019-06-19","2019-06-19",null,null,0,0,0,null,null,null,0,""]
[25,"2019-06-20","2019-06-20",null,null,0,0,0,null,null,null,0,""]
[25,"2019-06-21","2019-06-21",null,null,0,0,0,null,null,null,0,""]
[25,"2019-06-22","2019-06-22",null,null,0,null,0,null,null,"za",0,"","Week",null,"OV WEEK","OV DAG","Recup -","Recup +","OV 50%"]
[25,"2019-06-23","2019-06-23",null,null,0,null,0,null,null,"zo",0,"",{"$f":"SUM(L177:L183)","v":0},{"$f":"SUM(H177:H183)","v":0},{"$f":"IF(N183>38,N183-38,0)","v":0},{"$f":"SUM(M177:M183)","v":0},{"$f":"SUM(I177:I183)","v":0},{"$f":"IF(N183>38,N183-38,0)","v":0},{"$f":"IF(P183>Q183,P183,Q183)","v":0}]
[26,"2019-06-24","2019-06-24",null,null,0,0,0,null,null,null,0,""]
[26,"2019-06-25","2019-06-25",null,null,0,0,0,null,null,null,0,""]
[26,"2019-06-26","2019-06-26",null,null,0,0,0,null,null,null,0,""]
[26,"2019-06-27","2019-06-27",null,null,0,0,0,null,null,null,0,""]
[26,"2019-06-28","2019-06-28",null,null,0,0,0,null,null,null,0,""]
[26,"2019-06-29","2019-06-29",null,null,0,null,0,null,null,"za",0,"","Week",null,"OV WEEK","OV DAG","Recup -","Recup +","OV 50%"]
[26,"2019-06-30","2019-06-30",null,null,0,null,0,null,null,"zo",0,"",{"$f":"SUM(L184:L190)","v":0},{"$f":"SUM(H184:H190)","v":0},{"$f":"IF(N190>38,N190-38,0)","v":0},{"$f":"SUM(M184:M190)","v":0},{"$f":"SUM(I184:I190)","v":0},{"$f":"IF(N190>38,N190-38,0)","v":0},{"$f":"IF(P190>Q190,P190,Q190)","v":0}]
[27,"2019-07-01","2019-07-01",null,null,0,0,0,null,null,null,0,""]
[27,"2019-07-02","2019-07-02",null,null,0,0,0,null,null,null,0,""]
[27,"2019-07-03","2019-07-03",null,null,0,0,0,null,null,null,0,""]
[27,"2019-07-04","2019-07-04",null,null,0,0,0,null,null,null,0,""]
[27,"2019-07-05","2019-07-05",null,null,0,0,0,null,null,null,0,""]
[27,"2019-07-06","2019-07-06",null,null,0,null,0,null,null,"za",0,"","Week",null,"OV WEEK","OV DAG","Recup -","Recup +","OV 50%"]
[27,"2019-07-07","2019-07-07",null,null,0,null,0,null,null,"zo",0,"",{"$f":"SUM(L191:L197)","v":0},{"$f":"SUM(H191:H197)","v":0},{"$f":"IF(N197>38,N197-38,0)","v":0},{"$f":"SUM(M191:M197)","v":0},{"$f":"SUM(I191:I197)","v":0},{"$f":"IF(N197>38,N197-38,0)","v":0},{"$f":"IF(P197>Q197,P197,Q197)","v":0}]
[28,"2019-07-08","2019-07-08",null,null,0,0,0,null,null,null,0,""]
[28,"2019-07-09","2019-07-09",null,null,0,0,0,null,null,null,0,""]
[28,"2019-07-10","2019-07-10",null,null,0,0,0,null,null,null,0,""]
[28,"2019-07-11","2019-07-11",null,null,0,0,0,null,null,null,0,{"$f":"IF(L201>9,L201-9,\"\")","v":""}]
[{"$f":"WEEKNUM(C202,21)","v":28},{"$f":"C202","v":"2019-07-12"},"2019-07-12",null,null,{"$f":"(E202-D202)*24","v":0},{"$f":"IF(F202>=6,0.5,0)","v":0},{"$f":"F202-G202","v":0},null,null,null,{"$f":"SUM(H202:J202)","v":0},""]
[28,"2019-07-13","2019-07-13",null,null,0,null,0,null,null,"za",0,"","Week",null,"OV WEEK","OV DAG","Recup -","Recup +","OV 50%"]
[28,"2019-07-14","2019-07-14",null,null,0,null,0,null,null,"zo",0,"",{"$f":"SUM(L198:L204)","v":0},{"$f":"SUM(H198:H204)","v":0},{"$f":"IF(N204>38,N204-38,0)","v":0},{"$f":"SUM(M198:M204)","v":0},{"$f":"SUM(I198:I204)","v":0},{"$f":"IF(N204>38,N204-38,0)","v":0},{"$f":"IF(P204>Q204,P204,Q204)","v":0}]
[29,"2019-07-15","2019-07-15",null,null,0,0,0,null,null,null,0,""]
[29,"2019-07-16","2019-07-16",null,null,0,0,0,null,null,null,0,""]
[29,"2019-07-17","2019-07-17",null,null,0,0,0,null,null,null,0,""]
[29,"2019-07-18","2019-07-18",null,null,0,0,0,null,null,null,0,""]
[29,"2019-07-19","2019-07-19",null,null,0,0,0,null,null,null,0,""]
[29,"2019-07-20","2019-07-20",null,null,0,null,0,null,null,"za",0,"","Week",null,"OV WEEK","OV DAG","Recup -","Recup +","OV 50%"]
[29,"2019-07-21","2019-07-21",null,null,0,null,0,null,null,"zo",0,"",{"$f":"SUM(L205:L211)","v":0},{"$f":"SUM(H205:H211)","v":0},{"$f":"IF(N211>38,N211-38,0)","v":0},{"$f":"SUM(M205:M211)","v":0},{"$f":"SUM(I205:I211)","v":0},{"$f":"IF(N211>38,N211-38,0)","v":0},{"$f":"IF(P211>Q211,P211,Q211)","v":0}]
[30,"2019-07-22","2019-07-22",null,null,0,0,0,null,null,null,0,""]
[30,"2019-07-23","2019-07-23",null,null,0,0,0,null,null,null,0,""]
[30,"2019-07-24","2019-07-24",null,null,0,0,0,null,null,null,0,""]
[30,"2019-07-25","2019-07-25",null,null,0,0,0,null,null,null,0,""]
[30,"2019-07-26","2019-07-26",null,null,0,0,0,null,null,null,0,""]
[30,"2019-07-27","2019-07-27",null,null,0,null,0,null,null,"za",0,"","Week",null,"OV WEEK","OV DAG","Recup -","Recup +","OV 50%"]
[30,"2019-07-28","2019-07-28",null,null,0,null,0,null,null,"zo",0,"",{"$f":"SUM(L212:L218)","v":0},{"$f":"SUM(H212:H218)","v":0},{"$f":"IF(N218>38,N218-38,0)","v":0},{"$f":"SUM(M212:M218)","v":0},{"$f":"SUM(I212:I218)","v":0},{"$f":"IF(N218>38,N218-38,0)","v":0},{"$f":"IF(P218>Q218,P218,Q218)","v":0}]
[31,"2019-07-29","2019-07-29",null,null,0,0,0,null,null,null,0,""]
[31,"2019-07-30","2019-07-30",null,null,0,0,0,null,null,null,0,""]
[31,"2019-07-31","2019-07-31",null,null,0,0,0,null,null,null,0,""]
[31,"2019-08-01","2019-08-01",null,null,0,0,0,null,null,null,0,""]
[31,"2019-08-02","2019-08-02",null,null,0,0,0,null,null,null,0,""]
[31,"2019-08-03","2019-08-03",null,null,0,null,0,null,null,"za",0,"","Week",null,"OV WEEK","OV DAG","Recup -","Recup +","OV 50%"]
[31,"2019-08-04","2019-08-04",null,null,0,null,0,null,null,"zo",0,"",{"$f":"SUM(L219:L225)","v":0},{"$f":"SUM(H219:H225)","v":0},{"$f":"IF(N225>38,N225-38,0)","v":0},{"$f":"SUM(M219:M225)","v":0},{"$f":"SUM(I219:I225)","v":0},{"$f":"IF(N225>38,N225-38,0)","v":0},{"$f":"IF(P225>Q225,P225,Q225)","v":0}]
[32,"2019-08-05","2019-08-05",null,null,0,0,0,null,null,null,0,""]
[32,"2019-08-06","2019-08-06",null,null,0,0,0,null,null,null,0,""]
[32,"2019-08-07","2019-08-07",null,null,0,0,0,null,null,null,0,""]
[32,"2019-08-08","2019-08-08",null,null,0,0,0,null,null,null,0,""]
[32,"2019-08-09","2019-08-09",null,null,0,0,0,null,null,null,0,""]
[32,"2019-08-10","2019-08-10",null,null,0,null,0,null,null,"za",0,"","Week",null,"OV WEEK","OV DAG","Recup -","Recup +","OV 50%"]
[32,"2019-08-11","2019-08-11",null,null,0,null,0,null,null,"zo",0,"",{"$f":"SUM(L226:L232)","v":0},{"$f":"SUM(H226:H232)","v":0},{"$f":"IF(N232>38,N232-38,0)","v":0},{"$f":"SUM(M226:M232)","v":0},{"$f":"SUM(I226:I232)","v":0},{"$f":"IF(N232>38,N232-38,0)","v":0},{"$f":"IF(P232>Q232,P232,Q232)","v":0}]
[33,"2019-08-12","2019-08-12",null,null,0,0,0,null,null,null,0,""]
[33,"2019-08-13","2019-08-13",null,null,0,0,0,null,null,null,0,""]
[33,"2019-08-14","2019-08-14",null,null,0,0,0,null,null,null,0,""]
[33,"2019-08-15","2019-08-15",null,null,0,0,0,null,7.6,"fd",7.6,""]
[33,"2019-08-16","2019-08-16",null,null,0,0,0,null,null,null,0,""]
[33,"2019-08-17","2019-08-17",null,null,0,null,0,null,null,"za",0,"","Week",null,"OV WEEK","OV DAG","Recup -","Recup +","OV 50%"]
[33,"2019-08-18","2019-08-18",null,null,0,null,0,null,null,"zo",0,"",{"$f":"SUM(L233:L239)","v":7.6},{"$f":"SUM(H233:H239)","v":0},{"$f":"IF(N239>38,N239-38,0)","v":0},{"$f":"SUM(M233:M239)","v":0},{"$f":"SUM(I233:I239)","v":0},{"$f":"IF(N239>38,N239-38,0)","v":0},{"$f":"IF(P239>Q239,P239,Q239)","v":0}]
[34,"2019-08-19","2019-08-19",null,null,0,0,0,null,null,null,0,""]
[34,"2019-08-20","2019-08-20",null,null,0,{"$f":"IF(F241>=6,0.5,0)","v":0},0,null,null,null,0,""]
[34,"2019-08-21","2019-08-21",null,null,0,0,0,null,null,null,0,""]
[34,"2019-08-22","2019-08-22",null,null,0,0,0,null,null,null,0,""]
[34,"2019-08-23","2019-08-23",null,null,0,0,0,null,null,null,0,""]
[34,"2019-08-24","2019-08-24",null,null,0,null,0,null,null,"za",0,"","Week",null,"OV WEEK","OV DAG","Recup -","Recup +","OV 50%"]
[34,"2019-08-25","2019-08-25",null,null,0,null,0,null,null,"zo",0,"",{"$f":"SUM(L240:L246)","v":0},{"$f":"SUM(H240:H246)","v":0},{"$f":"IF(N246>38,N246-38,0)","v":0},{"$f":"SUM(M240:M246)","v":0},{"$f":"SUM(I240:I246)","v":0},{"$f":"IF(N246>38,N246-38,0)","v":0},{"$f":"IF(P246>Q246,P246,Q246)","v":0}]
[35,"2019-08-26","2019-08-26",null,null,0,0,0,null,null,null,0,""]
[35,"2019-08-27","2019-08-27",null,null,0,0,0,null,null,null,0,""]
[35,"2019-08-28","2019-08-28",null,null,0,0,0,null,null,null,0,""]
[35,"2019-08-29","2019-08-29",null,null,0,0,0,null,null,null,0,""]
[35,"2019-08-30","2019-08-30",null,null,0,0,0,null,null,null,0,""]
[35,"2019-08-31","2019-08-31",null,null,0,null,0,null,null,"za",0,"","Week",null,"OV WEEK","OV DAG","Recup -","Recup +","OV 50%"]
[35,"2019-09-01","2019-09-01",null,null,0,null,0,null,null,"zo",0,"",{"$f":"SUM(L247:L253)","v":0},{"$f":"SUM(H247:H253)","v":0},{"$f":"IF(N253>38,N253-38,0)","v":0},{"$f":"SUM(M247:M253)","v":0},{"$f":"SUM(I247:I253)","v":0},{"$f":"IF(N253>38,N253-38,0)","v":0},{"$f":"IF(P253>Q253,P253,Q253)","v":0}]
[36,"2019-09-02","2019-09-02",null,null,0,0,0,null,null,null,0,""]
[36,"2019-09-03","2019-09-03",null,null,0,0,0,null,null,null,0,""]
[36,"2019-09-04","2019-09-04",null,null,0,0,0,null,null,null,0,""]
[36,"2019-09-05","2019-09-05",null,null,0,0,0,null,null,null,0,""]
[36,"2019-09-06","2019-09-06",null,null,0,0,0,null,null,null,0,""]
[36,"2019-09-07","2019-09-07",null,null,0,null,0,null,null,"za",0,"","Week",null,"OV WEEK","OV DAG","Recup -","Recup +","OV 50%"]
[36,"2019-09-08","2019-09-08",null,null,0,null,0,null,null,"zo",0,"",{"$f":"SUM(L254:L260)","v":0},{"$f":"SUM(H254:H260)","v":0},{"$f":"IF(N260>38,N260-38,0)","v":0},{"$f":"SUM(M254:M260)","v":0},{"$f":"SUM(I254:I260)","v":0},{"$f":"IF(N260>38,N260-38,0)","v":0},{"$f":"IF(P260>Q260,P260,Q260)","v":0}]
[37,"2019-09-09","2019-09-09",null,null,0,0,0,null,null,null,0,""]
[37,"2019-09-10","2019-09-10",null,null,0,0,0,null,null,null,0,""]
[37,"2019-09-11","2019-09-11",null,null,0,0,0,null,null,null,0,""]
[37,"2019-09-12","2019-09-12",null,null,0,0,0,null,null,null,0,""]
[37,"2019-09-13","2019-09-13",null,null,0,0,0,null,null,null,0,{"$f":"IF(L265>9,L265-9,\"\")","v":""}]
[{"$f":"WEEKNUM(C266,21)","v":37},{"$f":"C266","v":"2019-09-14"},"2019-09-14",null,null,{"$f":"(E266-D266)*24","v":0},null,{"$f":"F266-G266","v":0},null,null,"za",{"$f":"SUM(H266:J266)","v":0},"","Week",null,"OV WEEK","OV DAG","Recup -","Recup +","OV 50%"]
[37,"2019-09-15","2019-09-15",null,null,0,null,0,null,null,"zo",0,"",{"$f":"SUM(L261:L267)","v":0},{"$f":"SUM(H261:H267)","v":0},{"$f":"IF(N267>38,N267-38,0)","v":0},{"$f":"SUM(M261:M267)","v":0},{"$f":"SUM(I261:I267)","v":0},{"$f":"IF(N267>38,N267-38,0)","v":0},{"$f":"IF(P267>Q267,P267,Q267)","v":0}]
[38,"2019-09-16","2019-09-16",null,null,0,{"$f":"IF(F268>=6,0.5,0)","v":0},0,null,null,null,0,""]
[38,"2019-09-17","2019-09-17",null,null,0,0,0,null,null,null,0,""]
[38,"2019-09-18","2019-09-18",null,null,0,0,0,null,null,null,0,""]
[38,"2019-09-19","2019-09-19",null,null,0,0,0,null,null,null,0,""]
[38,"2019-09-20","2019-09-20",null,null,0,0,0,null,null,null,0,""]
[38,"2019-09-21","2019-09-21",null,null,0,null,0,null,null,"za",0,"","Week",null,"OV WEEK","OV DAG","Recup -","Recup +","OV 50%"]
[38,"2019-09-22","2019-09-22",null,null,0,null,0,null,null,"zo",0,"",{"$f":"SUM(L268:L274)","v":0},{"$f":"SUM(H268:H274)","v":0},{"$f":"IF(N274>38,N274-38,0)","v":0},{"$f":"SUM(M268:M274)","v":0},{"$f":"SUM(I268:I274)","v":0},{"$f":"IF(N274>38,N274-38,0)","v":0},{"$f":"IF(P274>Q274,P274,Q274)","v":0}]
[39,"2019-09-23","2019-09-23",null,null,0,0,0,null,null,null,0,""]
[39,"2019-09-24","2019-09-24",null,null,0,0,0,null,null,null,0,""]
[39,"2019-09-25","2019-09-25",null,null,0,0,0,null,null,null,0,""]
[39,"2019-09-26","2019-09-26",null,null,0,0,0,null,null,null,0,""]
[39,"2019-09-27","2019-09-27",null,null,0,0,0,null,null,null,0,""]
[39,"2019-09-28","2019-09-28",null,null,0,null,0,null,null,"za",0,"","Week",null,"OV WEEK","OV DAG","Recup -","Recup +","OV 50%"]
[39,"2019-09-29","2019-09-29",null,null,0,null,0,null,null,"zo",0,"",{"$f":"SUM(L275:L281)","v":0},{"$f":"SUM(H275:H281)","v":0},{"$f":"IF(N281>38,N281-38,0)","v":0},{"$f":"SUM(M275:M281)","v":0},{"$f":"SUM(I275:I281)","v":0},{"$f":"IF(N281>38,N281-38,0)","v":0},{"$f":"IF(P281>Q281,P281,Q281)","v":0}]
[40,"2019-09-30","2019-09-30",null,null,0,0,0,null,null,null,0,""]
[40,"2019-10-01","2019-10-01",null,null,0,0,0,null,null,null,0,""]
[40,"2019-10-02","2019-10-02",null,null,0,0,0,null,null,null,0,""]
[40,"2019-10-03","2019-10-03",null,null,0,0,0,null,null,null,0,""]
[40,"2019-10-04","2019-10-04",null,null,0,0,0,null,null,null,0,""]
[40,"2019-10-05","2019-10-05",null,null,0,null,0,null,null,"za",0,"","Week",null,"OV WEEK","OV DAG","Recup -","Recup +","OV 50%"]
[40,"2019-10-06","2019-10-06",null,null,0,null,0,null,null,"zo",0,"",{"$f":"SUM(L282:L288)","v":0},{"$f":"SUM(H282:H288)","v":0},{"$f":"IF(N288>38,N288-38,0)","v":0},{"$f":"SUM(M282:M288)","v":0},{"$f":"SUM(I282:I288)","v":0},{"$f":"IF(N288>38,N288-38,0)","v":0},{"$f":"IF(P288>Q288,P288,Q288)","v":0}]
[41,"2019-10-07","2019-10-07",null,null,0,0,0,null,null,null,0,""]
[41,"2019-10-08","2019-10-08",null,null,0,0,0,null,null,null,0,""]
[41,"2019-10-09","2019-10-09",null,null,0,0,0,null,null,null,0,""]
[41,"2019-10-10","2019-10-10",null,null,0,0,0,null,null,null,0,""]
[41,"2019-10-11","2019-10-11",null,null,0,0,0,null,null,null,0,""]
[41,"2019-10-12","2019-10-12",null,null,0,null,0,null,null,"za",0,"","Week",null,"OV WEEK","OV DAG","Recup -","Recup +","OV 50%"]
[41,"2019-10-13","2019-10-13",null,null,0,null,0,null,null,"zo",0,"",{"$f":"SUM(L289:L295)","v":0},{"$f":"SUM(H289:H295)","v":0},{"$f":"IF(N295>38,N295-38,0)","v":0},{"$f":"SUM(M289:M295)","v":0},{"$f":"SUM(I289:I295)","v":0},{"$f":"IF(N295>38,N295-38,0)","v":0},{"$f":"IF(P295>Q295,P295,Q295)","v":0}]
[42,"2019-10-14","2019-10-14",null,null,0,0,0,null,null,null,0,""]
[42,"2019-10-15","2019-10-15",null,null,0,0,0,null,null,null,0,""]
[42,"2019-10-16","2019-10-16",null,null,0,0,0,null,null,null,0,""]
[42,"2019-10-17","2019-10-17",null,null,0,0,0,null,null,null,0,""]
[42,"2019-10-18","2019-10-18",null,null,0,0,0,null,null,null,0,""]
[42,"2019-10-19","2019-10-19",null,null,0,null,0,null,null,"za",0,"","Week",null,"OV WEEK","OV DAG","Recup -","Recup +","OV 50%"]
[42,"2019-10-20","2019-10-20",null,null,0,null,0,null,null,"zo",0,"",{"$f":"SUM(L296:L302)","v":0},{"$f":"SUM(H296:H302)","v":0},{"$f":"IF(N302>38,N302-38,0)","v":0},{"$f":"SUM(M296:M302)","v":0},{"$f":"SUM(I296:I302)","v":0},{"$f":"IF(N302>38,N302-38,0)","v":0},{"$f":"IF(P302>Q302,P302,Q302)","v":0}]
[43,"2019-10-21","2019-10-21",null,null,0,0,0,null,null,null,0,""]
[43,"2019-10-22","2019-10-22",null,null,0,0,0,null,null,null,0,""]
[43,"2019-10-23","2019-10-23",null,null,0,0,0,null,null,null,0,""]
[43,"2019-10-24","2019-10-24",null,null,0,0,0,null,null,null,0,""]
[43,"2019-10-25","2019-10-25",null,null,0,0,0,null,null,null,0,""]
[43,"2019-10-26","2019-10-26",null,null,0,null,0,null,null,"za",0,"","Week",null,"OV WEEK","OV DAG","Recup -","Recup +","OV 50%"]
[43,"2019-10-27","2019-10-27",null,null,0,null,0,null,null,"zo",0,"",{"$f":"SUM(L303:L309)","v":0},{"$f":"SUM(H303:H309)","v":0},{"$f":"IF(N309>38,N309-38,0)","v":0},{"$f":"SUM(M303:M309)","v":0},{"$f":"SUM(I303:I309)","v":0},{"$f":"IF(N309>38,N309-38,0)","v":0},{"$f":"IF(P309>Q309,P309,Q309)","v":0}]
[44,"2019-10-28","2019-10-28",null,null,0,0,0,null,null,null,0,""]
[44,"2019-10-29","2019-10-29",null,null,0,0,0,null,null,null,0,""]
[44,"2019-10-30","2019-10-30",null,null,0,0,0,null,null,null,0,""]
[44,"2019-10-31","2019-10-31",null,null,0,0,0,null,null,null,0,""]
[44,"2019-11-01","2019-11-01",null,null,0,0,0,null,7.6,"fd",7.6,""]
[44,"2019-11-02","2019-11-02",null,null,0,null,0,null,null,"za",0,"","Week",null,"OV WEEK","OV DAG","Recup -","Recup +","OV 50%"]
[44,"2019-11-03","2019-11-03",null,null,0,null,0,null,null,"zo",0,"",{"$f":"SUM(L310:L316)","v":7.6},{"$f":"SUM(H310:H316)","v":0},{"$f":"IF(N316>38,N316-38,0)","v":0},{"$f":"SUM(M310:M316)","v":0},{"$f":"SUM(I310:I316)","v":0},{"$f":"IF(N316>38,N316-38,0)","v":0},{"$f":"IF(P316>Q316,P316,Q316)","v":0}]
[45,"2019-11-04","2019-11-04",null,null,0,0,0,null,null,null,0,""]
[45,"2019-11-05","2019-11-05",null,null,0,0,0,null,null,null,0,""]
[45,"2019-11-06","2019-11-06",null,null,0,0,0,null,null,null,0,""]
[45,"2019-11-07","2019-11-07",null,null,0,0,0,null,null,null,0,""]
[45,"2019-11-08","2019-11-08",null,null,0,0,0,null,null,null,0,""]
[45,"2019-11-09","2019-11-09",null,null,0,null,0,null,null,"za",0,"","Week",null,"OV WEEK","OV DAG","Recup -","Recup +","OV 50%"]
[45,"2019-11-10","2019-11-10",null,null,0,null,0,null,null,"zo",0,"",{"$f":"SUM(L317:L323)","v":0},{"$f":"SUM(H317:H323)","v":0},{"$f":"IF(N323>38,N323-38,0)","v":0},{"$f":"SUM(M317:M323)","v":0},{"$f":"SUM(I317:I323)","v":0},{"$f":"IF(N323>38,N323-38,0)","v":0},{"$f":"IF(P323>Q323,P323,Q323)","v":0}]
[46,"2019-11-11","2019-11-11",null,null,0,0,0,null,7.6,"fd",7.6,""]
[46,"2019-11-12","2019-11-12",null,null,0,0,0,null,null,null,0,""]
[46,"2019-11-13","2019-11-13",null,null,0,0,0,null,null,null,0,""]
[46,"2019-11-14","2019-11-14",null,null,0,0,0,null,null,null,0,""]
[46,"2019-11-15","2019-11-15",null,null,0,0,0,null,null,null,0,""]
[46,"2019-11-16","2019-11-16",null,null,0,null,0,null,null,"za",0,{"$f":"IF(L329>9,L329-9,\"\")","v":""},"Week",null,"OV WEEK","OV DAG","Recup -","Recup +","OV 50%"]
[{"$f":"WEEKNUM(C330,21)","v":46},{"$f":"C330","v":"2019-11-17"},"2019-11-17",null,null,{"$f":"(E330-D330)*24","v":0},null,{"$f":"F330-G330","v":0},null,null,"zo",{"$f":"SUM(H330:J330)","v":0},"",{"$f":"SUM(L324:L330)","v":7.6},{"$f":"SUM(H324:H330)","v":0},{"$f":"IF(N330>38,N330-38,0)","v":0},{"$f":"SUM(M324:M330)","v":0},{"$f":"SUM(I324:I330)","v":0},{"$f":"IF(N330>38,N330-38,0)","v":0},{"$f":"IF(P330>Q330,P330,Q330)","v":0}]
[47,"2019-11-18","2019-11-18",null,null,0,{"$f":"IF(F331>=6,0.5,0)","v":0},0,null,null,null,0,""]
[47,"2019-11-19","2019-11-19",null,null,0,0,0,null,null,null,0,""]
[47,"2019-11-20","2019-11-20",null,null,0,0,0,null,null,null,0,""]
[47,"2019-11-21","2019-11-21",null,null,0,0,0,null,null,null,0,""]
[47,"2019-11-22","2019-11-22",null,null,0,0,0,null,null,null,0,""]
[47,"2019-11-23","2019-11-23",null,null,0,null,0,null,null,"za",0,"","Week",null,"OV WEEK","OV DAG","Recup -","Recup +","OV 50%"]
[47,"2019-11-24","2019-11-24",null,null,0,null,0,null,null,"zo",0,"",{"$f":"SUM(L331:L337)","v":0},{"$f":"SUM(H331:H337)","v":0},{"$f":"IF(N337>38,N337-38,0)","v":0},{"$f":"SUM(M331:M337)","v":0},{"$f":"SUM(I331:I337)","v":0},{"$f":"IF(N337>38,N337-38,0)","v":0},{"$f":"IF(P337>Q337,P337,Q337)","v":0}]
[48,"2019-11-25","2019-11-25",null,null,0,0,0,null,null,null,0,""]
[48,"2019-11-26","2019-11-26",null,null,0,0,0,null,null,null,0,""]
[48,"2019-11-27","2019-11-27",null,null,0,0,0,null,null,null,0,""]
[48,"2019-11-28","2019-11-28",null,null,0,0,0,null,null,null,0,""]
[48,"2019-11-29","2019-11-29",null,null,0,0,0,null,null,null,0,""]
[48,"2019-11-30","2019-11-30",null,null,0,null,0,null,null,"za",0,"","Week",null,"OV WEEK","OV DAG","Recup -","Recup +","OV 50%"]
[48,"2019-12-01","2019-12-01",null,null,0,null,0,null,null,"zo",0,"",{"$f":"SUM(L338:L344)","v":0},{"$f":"SUM(H338:H344)","v":0},{"$f":"IF(N344>38,N344-38,0)","v":0},{"$f":"SUM(M338:M344)","v":0},{"$f":"SUM(I338:I344)","v":0},{"$f":"IF(N344>38,N344-38,0)","v":0},{"$f":"IF(P344>Q344,P344,Q344)","v":0}]
[49,"2019-12-02","2019-12-02",null,null,0,0,0,null,null,null,0,""]
[49,"2019-12-03","2019-12-03",null,null,0,0,0,null,null,null,0,""]
[49,"2019-12-04","2019-12-04",null,null,0,0,0,null,null,null,0,""]
[49,"2019-12-05","2019-12-05",null,null,0,0,0,null,null,null,0,""]
[49,"2019-12-06","2019-12-06",null,null,0,0,0,null,null,null,0,""]
[49,"2019-12-07","2019-12-07",null,null,0,null,0,null,null,"za",0,"","Week",null,"OV WEEK","OV DAG","Recup -","Recup +","OV 50%"]
[49,"2019-12-08","2019-12-08",null,null,0,null,0,null,null,"zo",0,"",{"$f":"SUM(L345:L351)","v":0},{"$f":"SUM(H345:H351)","v":0},{"$f":"IF(N351>38,N351-38,0)","v":0},{"$f":"SUM(M345:M351)","v":0},{"$f":"SUM(I345:I351)","v":0},{"$f":"IF(N351>38,N351-38,0)","v":0},{"$f":"IF(P351>Q351,P351,Q351)","v":0}]
[50,"2019-12-09","2019-12-09",null,null,0,0,0,null,null,null,0,""]
[50,"2019-12-10","2019-12-10",null,null,0,0,0,null,null,null,0,""]
[50,"2019-12-11","2019-12-11",null,null,0,0,0,null,null,null,0,""]
[50,"2019-12-12","2019-12-12",null,null,0,0,0,null,null,null,0,""]
[50,"2019-12-13","2019-12-13",null,null,0,0,0,null,null,null,0,""]
[50,"2019-12-14","2019-12-14",null,null,0,null,0,null,null,"za",0,"","Week",null,"OV WEEK","OV DAG","Recup -","Recup +","OV 50%"]
[50,"2019-12-15","2019-12-15",null,null,0,null,0,null,null,"zo",0,"",{"$f":"SUM(L352:L358)","v":0},{"$f":"SUM(H352:H358)","v":0},{"$f":"IF(N358>38,N358-38,0)","v":0},{"$f":"SUM(M352:M358)","v":0},{"$f":"SUM(I352:I358)","v":0},{"$f":"IF(N358>38,N358-38,0)","v":0},{"$f":"IF(P358>Q358,P358,Q358)","v":0}]
[51,"2019-12-16","2019-12-16",null,null,0,0,0,null,null,null,0,""]
[51,"2019-12-17","2019-12-17",null,null,0,0,0,null,null,null,0,""]
[51,"2019-12-18","2019-12-18",null,null,0,0,0,null,null,null,0,""]
[51,"2019-12-19","2019-12-19",null,null,0,0,0,null,null,null,0,""]
[51,"2019-12-20","2019-12-20",null,null,0,0,0,null,null,null,0,""]
[51,"2019-12-21","2019-12-21",null,null,0,null,0,null,null,"za",0,"","Week",null,"OV WEEK","OV DAG","Recup -","Recup +","OV 50%"]
[51,"2019-12-22","2019-12-22",null,null,0,null,0,null,null,"zo",0,"",{"$f":"SUM(L359:L365)","v":0},{"$f":"SUM(H359:H365)","v":0},{"$f":"IF(N365>38,N365-38,0)","v":0},{"$f":"SUM(M359:M365)","v":0},{"$f":"SUM(I359:I365)","v":0},{"$f":"IF(N365>38,N365-38,0)","v":0},{"$f":"IF(P365>Q365,P365,Q365)","v":0}]
[52,"2019-12-23","2019-12-23",null,null,0,0,0,null,null,null,0,""]
[52,"2019-12-24","2019-12-24",null,null,0,0,0,null,null,null,0,""]
[52,"2019-12-25","2019-12-25",null,null,0,0,0,null,7.6,"fd",7.6,""]
[52,"2019-12-26","2019-12-26",null,null,0,0,0,null,null,null,0,""]
[52,"2019-12-27","2019-12-27",null,null,0,0,0,null,null,null,0,""]
[52,"2019-12-28","2019-12-28",null,null,0,null,0,null,null,"za",0,"","Week",null,"OV WEEK","OV DAG","Recup -","Recup +","OV 50%"]
[52,"2019-12-29","2019-12-29",null,null,0,null,0,null,null,"zo",0,"",{"$f":"SUM(L366:L372)","v":7.6},{"$f":"SUM(H366:H372)","v":0},{"$f":"IF(N372>38,N372-38,0)","v":0},{"$f":"SUM(M366:M372)","v":0},{"$f":"SUM(I366:I372)","v":0},{"$f":"IF(N372>38,N372-38,0)","v":0},{"$f":"IF(P372>Q372,P372,Q372)","v":0}]
[1,"2019-12-30","2019-12-30",null,null,0,0,0,null,null,null,0,""]
[1,"2019-12-31","2019-12-31",null,null,0,0,0,null,null,null,0,""]
[1,"2020-01-01","2020-01-01",null,null,0,0,0,null,7.6,"fd",7.6,""]
[1,"2020-01-02","2020-01-02",null,null,0,0,0,null,null,null,0,""]
[1,"2020-01-03","2020-01-03",null,null,0,0,0,null,null,null,0,""]
[1,"2020-01-04","2020-01-04",null,null,0,null,0,null,null,"za",0,"","Week",null,"OV WEEK","OV DAG","Recup -","Recup +","OV 50%"]
[1,"2020-01-05","2020-01-05",null,null,0,null,0,null,null,"zo",0,"",{"$f":"SUM(L373:L379)","v":7.6},{"$f":"SUM(H373:H379)","v":0},{"$f":"IF(N379>38,N379-38,0)","v":0},{"$f":"SUM(M373:M379)","v":0},{"$f":"SUM(I373:I379)","v":0},{"$f":"IF(N379>38,N379-38,0)","v":0},{"$f":"IF(P379>Q379,P379,Q379)","v":0}]

{"sheet":"25","index":8,"n_rows":379,"n_cols":35,"rows_kept":379,"cut":false,"hidden":false,"merged":[[6,21,6,24],[6,25,6,28],[6,29,6,32],[6,33,6,34],[0,1,1,12],[4,21,4,23],[4,25,4,28],[4,29,4,32],[4,33,4,34],[5,21,5,23],[5,25,5,28],[5,29,5,32],[5,33,5,34],[2,21,2,23],[2,25,2,28],[2,29,2,32],[2,33,2,34],[3,21,3,23],[3,25,3,28],[3,29,3,32],[3,33,3,34],[0,21,0,24],[0,25,0,28],[0,29,0,32],[0,33,0,34],[1,21,1,23],[1,25,1,28],[1,29,1,32],[1,33,1,34]]}
["25","Vanesse Rudi",null,null,null,null,null,null,null,null,null,null,null,null,null,null,null,null,null,null,null,"Soort",null,null,null,"Recht op",null,null,null,"Opgenomen",null,null,null,"Saldo"]
[null,null,null,null,null,null,null,null,null,null,null,null,null,null,null,null,null,null,null,null,null,"ADV-dagen",null,null,"adv",null,null,null,null,{"$f":"(COUNTIF(W$9:AH$39,\"ADV\")+(COUNTIF(W$9:AH$39,\"0,5ADV\"))/2)","v":0},null,null,null,{"$f":"Z2-AD2","v":0}]
[null,null,null,null,null,null,null,null,null,null,null,null,null,null,null,null,null,null,null,null,null,"Vakantie 2019",null,null,"v",null,null,null,null,{"$f":"(COUNTIF(W$9:AH$39,\"V\")+(COUNTIF(W$9:AH$39,\"0,5V\"))/2)","v":0},null,null,null,{"$f":"Z3-AD3","v":0}]
["Opgelet avondwerk ! Van 00:00u tot 00:00u / + 0,00u premie 50%",null,null,null,null,null,null,null,null,null,null,null,null,"Feestdag in weekend 2019",null,null,null,null,"Recup 2018",0.7,null,"Feestdag 2019",null,null,"f",1,null,null,null,{"$f":"(COUNTIF(W$9:AH$39,\"F\")+(COUNTIF(W$9:AH$39,\"0,5F\"))/2)","v":0},null,null,null,1]
[null,null,null,null,null,null,null,null,null,null,null,null,null,"- nationale feestdag 21/7",null,null,null,null,null,null,null,"Vakantie rest 2018",null,null,"vvj",null,null,null,null,{"$f":"(COUNTIF(W$9:AH$39,\"vvj\")+(COUNTIF(W$9:AH$39,\"0,5vvj\"))/2)","v":0},null,null,null,0]
[null,null,null,null,null,null,null,null,null,null,null,null,null,null,null,null,null,null,"Recup",{"$f":"SUM(S9:S379)-SUM(R9:R379)+T5+T4","v":2.650000000000003},null,"Anciënniteitsdagen",null,null,"a ",null,null,null,null,{"$f":"(COUNTIF(W$9:AH$39,\"A\")+(COUNTIF(W$9:AH$39,\"0,5A\"))/2)","v":0},null,null,null,0]
[null,null,null,null,null,null,null,null,null,null,null,null,null,null,null,null,null,null,null,null,null,"TOTAAL",null,null,null,{"$f":"SUM(Z2:AC6)","v":1},null,null,null,{"$f":"SUM(AD2:AG6)","v":0},null,null,null,{"$f":"SUM(AH2:AI6)","v":1}]
["W","Dag","Datum","Van ","Tot",null,"Pauze","Prestaties","Recup","Andere","Type","Dag","OV DAG","Week","Prestaties","OV WEEK","OV DAG","Rec. -","Rec. +","OV 50%","M",null,"Jan","Feb","Maa","Apr","Mei","Jun","Jul","Aug","Sept","Okt","Nov","Dec"]
[{"$f":"WEEKNUM(C9,21)","v":1},{"$f":"C9","v":"2018-12-31"},"2018-12-31",null,null,{"$f":"(E9-D9)*24","v":0},{"$f":"IF(F9>=6,0.5,0)","v":0},{"$f":"F9-G9","v":0},null,7.6,"z",{"$f":"SUM(H9:J9)","v":7.6},{"$f":"IF(L9>9,L9-9,\"\")","v":""},"Ziekte 2018  reeds verwerkt OK!",null,null,null,null,null,null,0,1,{"$f":"K9","v":"z"},{"$f":"K40","v":0},{"$f":"K68","v":0},{"$f":"K99","v":"zo"},{"$f":"K129","v":0},{"$f":"K160","v":0},{"$f":"K190","v":"zo"},{"$f":"K221","v":0},{"$f":"K252","v":"za"},{"$f":"K282","v":0},{"$f":"K313","v":0},{"$f":"K343","v":"za"},1]
[{"$f":"WEEKNUM(C10,21)","v":1},{"$f":"C10","v":"2019-01-01"},"2019-01-01",null,null,{"$f":"(E10-D10)*24","v":0},{"$f":"IF(F10>=6,0.5,0)","v":0},{"$f":"F10-G10","v":0},null,7.6,"fd",{"$f":"SUM(H10:J10)","v":7.6},"",null,null,null,null,null,null,null,0,2,{"$f":"K10","v":"fd"},{"$f":"K41","v":0},{"$f":"K69","v":0},{"$f":"K100","v":0},{"$f":"K130","v":"fd"},{"$f":"K161","v":"za"},{"$f":"K191","v":0},{"$f":"K222","v":0},{"$f":"K253","v":"zo"},{"$f":"K283","v":0},{"$f":"K314","v":"fd"},{"$f":"K344","v":"zo"},2]
[1,"2019-01-02","2019-01-02","09:00:00","17:30:00",8.5,0.5,8,null,null,null,8,"","Terugkomst 02/01/2019 ",null,null,null,null,null,null,null,3,0,"za","za",0,0,"zo",0,0,0,0,"za",0,3]
[1,"2019-01-03","2019-01-03","08:45:00","16:45:00",8,0.5,7.5,null,null,null,7.5,"",null,null,null,null,null,null,null,null,4,0,"zo","zo",0,0,0,0,"za",0,0,"zo",0,4]
[1,"2019-01-04","2019-01-04","08:00:00","17:45:00",9.7500000000000018,0.5,9.2500000000000018,null,null,null,9.2500000000000018,0.25000000000000178,null,null,null,null,null,null,null,null,5,0,0,0,0,"za",0,0,"zo",0,0,0,{"$f":"K347","v":0},5]
[1,"2019-01-05","2019-01-05",null,null,0,null,0,null,null,"za",0,"","Week",null,"OV WEEK","OV DAG","Recup -","Recup +","OV 50%",null,6,"za",0,0,0,"zo",0,0,0,0,"za",0,0,6]
[1,"2019-01-06","2019-01-06",null,null,0,null,0,null,null,"zo",0,"",{"$f":"SUM(L9:L15)","v":39.950000000000003},{"$f":"SUM(H9:H15)","v":24.75},{"$f":"IF(N15>38,N15-38,0)","v":1.9500000000000028},{"$f":"SUM(M9:M15)","v":0.25000000000000178},{"$f":"SUM(I9:I15)","v":0},{"$f":"IF(N15>38,N15-38,0)","v":1.9500000000000028},{"$f":"IF(P15>Q15,P15,Q15)","v":1.9500000000000028},null,7,"zo",0,0,"za",0,0,"za",0,0,"zo",0,0,7]
[2,"2019-01-07","2019-01-07",null,null,0,0,0,null,null,null,0,"",null,null,null,null,null,null,null,null,8,0,0,0,"zo",0,0,"zo",0,"za",0,0,"za",8]
[2,"2019-01-08","2019-01-08",null,null,0,0,0,null,null,null,0,"",null,null,null,null,null,null,null,null,9,0,0,0,0,0,"za",0,0,"zo",0,0,"zo",9]
[2,"2019-01-09","2019-01-09",null,null,0,0,0,null,null,null,0,"",null,null,null,null,null,null,null,null,10,0,"za","za",0,0,"zo",0,0,0,0,"za",0,10]
[2,"2019-01-10","2019-01-10",null,null,0,0,0,null,null,null,0,"",null,null,null,null,null,null,null,null,11,0,"zo","zo",0,0,"fd",0,"za",0,0,"zo",0,11]
[2,"2019-01-11","2019-01-11",null,null,0,0,0,null,null,null,0,"",null,null,null,null,null,null,null,null,12,0,0,0,0,"za",0,0,"zo",0,0,"fd",0,12]
[2,"2019-01-12","2019-01-12",null,null,0,null,0,null,null,"za",0,"","Week",null,"OV WEEK","OV DAG","Recup -","Recup +","OV 50%",null,13,"za",0,0,0,"zo",0,0,0,0,"za",0,0,13]
[2,"2019-01-13","2019-01-13",null,null,0,null,0,null,null,"zo",0,"",{"$f":"SUM(L16:L22)","v":0},{"$f":"SUM(H16:H22)","v":0},{"$f":"IF(N22>38,N22-38,0)","v":0},{"$f":"SUM(M16:M22)","v":0},{"$f":"SUM(I16:I22)","v":0},{"$f":"IF(N22>38,N22-38,0)","v":0},{"$f":"IF(P22>Q22,P22,Q22)","v":0},null,14,"zo",0,0,"za",0,0,"za",0,0,"zo",0,0,14]
[3,"2019-01-14","2019-01-14",null,null,0,0,0,null,null,null,0,"",null,null,null,null,null,null,null,null,15,0,0,0,"zo",0,0,"zo",0,"za",0,0,"za",15]
[3,"2019-01-15","2019-01-15",null,null,0,0,0,null,null,null,0,"",null,null,null,null,null,null,null,null,16,0,0,0,0,0,"za",0,"fd","zo",0,0,"zo",16]
[3,"2019-01-16","2019-01-16",null,null,0,0,0,null,null,null,0,"",null,null,null,null,null,null,null,null,17,0,"za","za",0,0,"zo",0,0,0,0,"za",0,17]
[3,"2019-01-17","2019-01-17",null,null,0,0,0,null,null,null,0,"",null,null,null,null,null,null,null,null,18,0,"zo","zo",0,0,0,0,"za",0,0,"zo",0,18]
[3,"2019-01-18","2019-01-18",null,null,0,0,0,null,null,null,0,"",null,null,null,null,null,null,null,null,19,0,0,0,0,"za",0,0,"zo",0,0,0,0,19]
[3,"2019-01-19","2019-01-19",null,null,0,null,0,null,null,"za",0,"","Week",null,"OV WEEK","OV DAG","Recup -","Recup +","OV 50%",null,20,"za",0,0,0,"zo",0,0,0,0,"za",0,{"$f":"K362","v":0},20]
[3,"2019-01-20","2019-01-20",null,null,0,null,0,null,null,"zo",0,"",{"$f":"SUM(L23:L29)","v":0},{"$f":"SUM(H23:H29)","v":0},{"$f":"IF(N29>38,N29-38,0)","v":0},{"$f":"SUM(M23:M29)","v":0},{"$f":"SUM(I23:I29)","v":0},{"$f":"IF(N29>38,N29-38,0)","v":0},{"$f":"IF(P29>Q29,P29,Q29)","v":0},null,21,"zo",0,0,"za","fd",0,"za",0,0,"zo",0,0,21]
[4,"2019-01-21","2019-01-21",null,null,0,0,0,null,null,null,0,"",null,null,null,null,null,null,null,null,22,0,0,0,"zo",0,0,"zo",0,"za",0,0,"za",22]
[4,"2019-01-22","2019-01-22",null,null,0,0,0,null,null,null,0,"",null,null,null,null,null,null,null,null,23,0,0,0,"fd",0,"za",0,0,"zo",0,0,"zo",23]
[4,"2019-01-23","2019-01-23",null,null,0,0,0,null,null,null,0,"",null,null,null,null,null,null,null,null,24,0,"za","za",0,0,"zo",0,0,0,0,"za",0,24]
[4,"2019-01-24","2019-01-24",null,null,0,0,0,null,null,null,0,"",null,null,null,null,null,null,null,null,25,0,"zo","zo",0,0,0,0,"za",0,0,"zo",0,25]
[4,"2019-01-25","2019-01-25",null,null,0,0,0,null,null,null,0,"",null,null,null,null,null,null,null,null,26,0,0,0,0,"za",0,0,"zo",0,0,0,"fd",26]
[4,"2019-01-26","2019-01-26",null,null,0,null,0,null,null,"za",0,"","Week",null,"OV WEEK","OV DAG","Recup -","Recup +","OV 50%",null,27,"za",0,0,0,"zo",0,0,0,0,"za",0,0,27]
[4,"2019-01-27","2019-01-27",null,null,0,null,0,null,null,"zo",0,"",{"$f":"SUM(L30:L36)","v":0},{"$f":"SUM(H30:H36)","v":0},{"$f":"IF(N36>38,N36-38,0)","v":0},{"$f":"SUM(M30:M36)","v":0},{"$f":"SUM(I30:I36)","v":0},{"$f":"IF(N36>38,N36-38,0)","v":0},{"$f":"IF(P36>Q36,P36,Q36)","v":0},null,28,"zo",0,0,"za",0,0,"za",0,0,"zo",0,0,28]
[5,"2019-01-28","2019-01-28",null,null,0,0,0,null,null,null,0,"",null,null,null,null,null,null,null,null,29,0,null,0,"zo",0,0,"zo",0,"za",0,0,"za",29]
[5,"2019-01-29","2019-01-29",null,null,0,0,0,null,null,null,0,"",null,null,null,null,null,null,null,null,30,0,null,0,0,0,"za",0,0,"zo",0,0,"zo",30]
[5,"2019-01-30","2019-01-30",null,null,0,0,0,null,null,null,0,"",null,null,null,null,null,null,null,null,31,0,null,"za",null,"fd",null,0,0,null,0,null,0,31]
[5,"2019-01-31","2019-01-31",null,null,0,0,0,null,null,null,0,"",null,null,null,null,null,null,null,null,"WD",23,20,21,22,23,20,23,22,21,23,21,22,{"$f":"SUM(W40:AH40)","v":261}]
[5,"2019-02-01","2019-02-01",null,null,0,0,0,null,null,null,0,""]
[5,"2019-02-02","2019-02-02",null,null,0,null,0,null,null,"za",0,"","Week",null,"OV WEEK","OV DAG","Recup -","Recup +","OV 50%"]
[5,"2019-02-03","2019-02-03",null,null,0,null,0,null,null,"zo",0,"",{"$f":"SUM(L37:L43)","v":0},{"$f":"SUM(H37:H43)","v":0},{"$f":"IF(N43>38,N43-38,0)","v":0},{"$f":"SUM(M37:M43)","v":0},{"$f":"SUM(I37:I43)","v":0},{"$f":"IF(N43>38,N43-38,0)","v":0},{"$f":"IF(P43>Q43,P43,Q43)","v":0}]
[6,"2019-02-04","2019-02-04",null,null,0,0,0,null,null,null,0,""]
[6,"2019-02-05","2019-02-05",null,null,0,0,0,null,null,null,0,""]
[6,"2019-02-06","2019-02-06",null,null,0,0,0,null,null,null,0,""]
[6,"2019-02-07","2019-02-07",null,null,0,0,0,null,null,null,0,""]
[6,"2019-02-08","2019-02-08",null,null,0,0,0,null,null,null,0,""]
[6,"2019-02-09","2019-02-09",null,null,0,null,0,null,null,"za",0,"","Week",null,"OV WEEK","OV DAG","Recup -","Recup +","OV 50%"]
[6,"2019-02-10","2019-02-10",null,null,0,null,0,null,null,"zo",0,"",{"$f":"SUM(L44:L50)","v":0},{"$f":"SUM(H44:H50)","v":0},{"$f":"IF(N50>38,N50-38,0)","v":0},{"$f":"SUM(M44:M50)","v":0},{"$f":"SUM(I44:I50)","v":0},{"$f":"IF(N50>38,N50-38,0)","v":0},{"$f":"IF(P50>Q50,P50,Q50)","v":0}]
[7,"2019-02-11","2019-02-11",null,null,0,0,0,null,null,null,0,""]
[7,"2019-02-12","2019-02-12",null,null,0,0,0,null,null,null,0,""]
[7,"2019-02-13","2019-02-13",null,null,0,0,0,null,null,null,0,""]
[7,"2019-02-14","2019-02-14",null,null,0,0,0,null,null,null,0,""]
[7,"2019-02-15","2019-02-15",null,null,0,0,0,null,null,null,0,""]
[7,"2019-02-16","2019-02-16",null,null,0,null,0,null,null,"za",0,"","Week",null,"OV WEEK","OV DAG","Recup -","Recup +","OV 50%"]
[7,"2019-02-17","2019-02-17",null,null,0,null,0,null,null,"zo",0,"",{"$f":"SUM(L51:L57)","v":0},{"$f":"SUM(H51:H57)","v":0},{"$f":"IF(N57>38,N57-38,0)","v":0},{"$f":"SUM(M51:M57)","v":0},{"$f":"SUM(I51:I57)","v":0},{"$f":"IF(N57>38,N57-38,0)","v":0},{"$f":"IF(P57>Q57,P57,Q57)","v":0}]
[8,"2019-02-18","2019-02-18",null,null,0,0,0,null,null,null,0,""]
[8,"2019-02-19","2019-02-19",null,null,0,0,0,null,null,null,0,""]
[8,"2019-02-20","2019-02-20",null,null,0,0,0,null,null,null,0,""]
[8,"2019-02-21","2019-02-21",null,null,0,0,0,null,null,null,0,""]
[8,"2019-02-22","2019-02-22",null,null,0,0,0,null,null,null,0,""]
[8,"2019-02-23","2019-02-23",null,null,0,null,0,null,null,"za",0,"","Week",null,"OV WEEK","OV DAG","Recup -","Recup +","OV 50%"]
[8,"2019-02-24","2019-02-24",null,null,0,null,0,null,null,"zo",0,"",{"$f":"SUM(L58:L64)","v":0},{"$f":"SUM(H58:H64)","v":0},{"$f":"IF(N64>38,N64-38,0)","v":0},{"$f":"SUM(M58:M64)","v":0},{"$f":"SUM(I58:I64)","v":0},{"$f":"IF(N64>38,N64-38,0)","v":0},{"$f":"IF(P64>Q64,P64,Q64)","v":0}]
[9,"2019-02-25","2019-02-25",null,null,0,0,0,null,null,null,0,""]
[9,"2019-02-26","2019-02-26",null,null,0,0,0,null,null,null,0,""]
[9,"2019-02-27","2019-02-27",null,null,0,0,0,null,null,null,0,""]
[9,"2019-02-28","2019-02-28",null,null,0,0,0,null,null,null,0,""]
[9,"2019-03-01","2019-03-01",null,null,0,0,0,null,null,null,0,""]
[9,"2019-03-02","2019-03-02",null,null,0,null,0,null,null,"za",0,"","Week",null,"OV WEEK","OV DAG","Recup -","Recup +","OV 50%"]
[9,"2019-03-03","2019-03-03",null,null,0,null,0,null,null,"zo",0,"",{"$f":"SUM(L65:L71)","v":0},{"$f":"SUM(H65:H71)","v":0},{"$f":"IF(N71>38,N71-38,0)","v":0},{"$f":"SUM(M65:M71)","v":0},{"$f":"SUM(I65:I71)","v":0},{"$f":"IF(N71>38,N71-38,0)","v":0},{"$f":"IF(P71>Q71,P71,Q71)","v":0}]
[10,"2019-03-04","2019-03-04",null,null,0,0,0,null,null,null,0,""]
[10,"2019-03-05","2019-03-05",null,null,0,0,0,null,null,null,0,{"$f":"IF(L73>9,L73-9,\"\")","v":""}]
[{"$f":"WEEKNUM(C74,21)","v":10},{"$f":"C74","v":"2019-03-06"},"2019-03-06",null,null,{"$f":"(E74-D74)*24","v":0},{"$f":"IF(F74>=6,0.5,0)","v":0},{"$f":"F74-G74","v":0},null,null,null,{"$f":"SUM(H74:J74)","v":0},""]
[10,"2019-03-07","2019-03-07",null,null,0,0,0,null,null,null,0,""]
[10,"2019-03-08","2019-03-08",null,null,0,0,0,null,null,null,0,""]
[10,"2019-03-09","2019-03-09",null,null,0,null,0,null,null,"za",0,"","Week",null,"OV WEEK","OV DAG","Recup -","Recup +","OV 50%"]
[10,"2019-03-10","2019-03-10",null,null,0,null,0,null,null,"zo",0,"",{"$f":"SUM(L72:L78)","v":0},{"$f":"SUM(H72:H78)","v":0},{"$f":"IF(N78>38,N78-38,0)","v":0},{"$f":"SUM(M72:M78)","v":0},{"$f":"SUM(I72:I78)","v":0},{"$f":"IF(N78>38,N78-38,0)","v":0},{"$f":"IF(P78>Q78,P78,Q78)","v":0}]
[11,"2019-03-11","2019-03-11",null,null,0,0,0,null,null,null,0,""]
[11,"2019-03-12","2019-03-12",null,null,0,0,0,null,null,null,0,""]
[11,"2019-03-13","2019-03-13",null,null,0,0,0,null,null,null,0,""]
[11,"2019-03-14","2019-03-14",null,null,0,0,0,null,null,null,0,""]
[11,"2019-03-15","2019-03-15",null,null,0,0,0,null,null,null,0,""]
[11,"2019-03-16","2019-03-16",null,null,0,null,0,null,null,"za",0,"","Week",null,"OV WEEK","OV DAG","Recup -","Recup +","OV 50%"]
[11,"2019-03-17","2019-03-17",null,null,0,null,0,null,null,"zo",0,"",{"$f":"SUM(L79:L85)","v":0},{"$f":"SUM(H79:H85)","v":0},{"$f":"IF(N85>38,N85-38,0)","v":0},{"$f":"SUM(M79:M85)","v":0},{"$f":"SUM(I79:I85)","v":0},{"$f":"IF(N85>38,N85-38,0)","v":0},{"$f":"IF(P85>Q85,P85,Q85)","v":0}]
[12,"2019-03-18","2019-03-18",null,null,0,0,0,null,null,null,0,""]
[12,"2019-03-19","2019-03-19",null,null,0,0,0,null,null,null,0,""]
[12,"2019-03-20","2019-03-20",null,null,0,0,0,null,null,null,0,""]
[12,"2019-03-21","2019-03-21",null,null,0,0,0,null,null,null,0,""]
[12,"2019-03-22","2019-03-22",null,null,0,0,0,null,null,null,0,""]
[12,"2019-03-23","2019-03-23",null,null,0,null,0,null,null,"za",0,"","Week",null,"OV WEEK","OV DAG","Recup -","Recup +","OV 50%"]
[12,"2019-03-24","2019-03-24",null,null,0,null,0,null,null,"zo",0,"",{"$f":"SUM(L86:L92)","v":0},{"$f":"SUM(H86:H92)","v":0},{"$f":"IF(N92>38,N92-38,0)","v":0},{"$f":"SUM(M86:M92)","v":0},{"$f":"SUM(I86:I92)","v":0},{"$f":"IF(N92>38,N92-38,0)","v":0},{"$f":"IF(P92>Q92,P92,Q92)","v":0}]
[13,"2019-03-25","2019-03-25",null,null,0,0,0,null,null,null,0,""]
[13,"2019-03-26","2019-03-26",null,null,0,0,0,null,null,null,0,""]
[13,"2019-03-27","2019-03-27",null,null,0,0,0,null,null,null,0,""]
[13,"2019-03-28","2019-03-28",null,null,0,0,0,null,null,null,0,""]
[13,"2019-03-29","2019-03-29",null,null,0,0,0,null,null,null,0,""]
[13,"2019-03-30","2019-03-30",null,null,0,null,0,null,null,"za",0,"","Week",null,"OV WEEK","OV DAG","Recup -","Recup +","OV 50%"]
[13,"2019-03-31","2019-03-31",null,null,0,null,0,null,null,"zo",0,"",{"$f":"SUM(L93:L99)","v":0},{"$f":"SUM(H93:H99)","v":0},{"$f":"IF(N99>38,N99-38,0)","v":0},{"$f":"SUM(M93:M99)","v":0},{"$f":"SUM(I93:I99)","v":0},{"$f":"IF(N99>38,N99-38,0)","v":0},{"$f":"IF(P99>Q99,P99,Q99)","v":0}]
[14,"2019-04-01","2019-04-01",null,null,0,0,0,null,null,null,0,""]
[14,"2019-04-02","2019-04-02",null,null,0,0,0,null,null,null,0,""]
[14,"2019-04-03","2019-04-03",null,null,0,0,0,null,null,null,0,""]
[14,"2019-04-04","2019-04-04",null,null,0,0,0,null,null,null,0,""]
[14,"2019-04-05","2019-04-05",null,null,0,0,0,null,null,null,0,""]
[14,"2019-04-06","2019-04-06",null,null,0,null,0,null,null,"za",0,"","Week",null,"OV WEEK","OV DAG","Recup -","Recup +","OV 50%"]
[14,"2019-04-07","2019-04-07",null,null,0,null,0,null,null,"zo",0,"",{"$f":"SUM(L100:L106)","v":0},{"$f":"SUM(H100:H106)","v":0},{"$f":"IF(N106>38,N106-38,0)","v":0},{"$f":"SUM(M100:M106)","v":0},{"$f":"SUM(I100:I106)","v":0},{"$f":"IF(N106>38,N106-38,0)","v":0},{"$f":"IF(P106>Q106,P106,Q106)","v":0}]
[15,"2019-04-08","2019-04-08",null,null,0,0,0,null,null,null,0,""]
[15,"2019-04-09","2019-04-09",null,null,0,0,0,null,null,null,0,""]
[15,"2019-04-10","2019-04-10",null,null,0,0,0,null,null,null,0,""]
[15,"2019-04-11","2019-04-11",null,null,0,0,0,null,null,null,0,""]
[15,"2019-04-12","2019-04-12",null,null,0,0,0,null,null,null,0,""]
[15,"2019-04-13","2019-04-13",null,null,0,null,0,null,null,"za",0,"","Week",null,"OV WEEK","OV DAG","Recup -","Recup +","OV 50%"]
[15,"2019-04-14","2019-04-14",null,null,0,null,0,null,null,"zo",0,"",{"$f":"SUM(L107:L113)","v":0},{"$f":"SUM(H107:H113)","v":0},{"$f":"IF(N113>38,N113-38,0)","v":0},{"$f":"SUM(M107:M113)","v":0},{"$f":"SUM(I107:I113)","v":0},{"$f":"IF(N113>38,N113-38,0)","v":0},{"$f":"IF(P113>Q113,P113,Q113)","v":0}]
[16,"2019-04-15","2019-04-15",null,null,0,0,0,null,null,null,0,""]
[16,"2019-04-16","2019-04-16",null,null,0,0,0,null,null,null,0,""]
[16,"2019-04-17","2019-04-17",null,null,0,0,0,null,null,null,0,""]
[16,"2019-04-18","2019-04-18",null,null,0,0,0,null,null,null,0,""]
[16,"2019-04-19","2019-04-19",null,null,0,0,0,null,null,null,0,""]
[16,"2019-04-20","2019-04-20",null,null,0,null,0,null,null,"za",0,"","Week",null,"OV WEEK","OV DAG","Recup -","Recup +","OV 50%"]
[16,"2019-04-21","2019-04-21",null,null,0,null,0,null,null,"zo",0,"",{"$f":"SUM(L114:L120)","v":0},{"$f":"SUM(H114:H120)","v":0},{"$f":"IF(N120>38,N120-38,0)","v":0},{"$f":"SUM(M114:M120)","v":0},{"$f":"SUM(I114:I120)","v":0},{"$f":"IF(N120>38,N120-38,0)","v":0},{"$f":"IF(P120>Q120,P120,Q120)","v":0}]
[17,"2019-04-22","2019-04-22",null,null,0,0,0,null,7.6,"fd",7.6,""]
[17,"2019-04-23","2019-04-23",null,null,0,0,0,null,null,null,0,""]
[17,"2019-04-24","2019-04-24",null,null,0,0,0,null,null,null,0,""]
[17,"2019-04-25","2019-04-25",null,null,0,0,0,null,null,null,0,""]
[17,"2019-04-26","2019-04-26",null,null,0,0,0,null,null,null,0,""]
[17,"2019-04-27","2019-04-27",null,null,0,null,0,null,null,"za",0,"","Week",null,"OV WEEK","OV DAG","Recup -","Recup +","OV 50%"]
[17,"2019-04-28","2019-04-28",null,null,0,null,0,null,null,"zo",0,"",{"$f":"SUM(L121:L127)","v":7.6},{"$f":"SUM(H121:H127)","v":0},{"$f":"IF(N127>38,N127-38,0)","v":0},{"$f":"SUM(M121:M127)","v":0},{"$f":"SUM(I121:I127)","v":0},{"$f":"IF(N127>38,N127-38,0)","v":0},{"$f":"IF(P127>Q127,P127,Q127)","v":0}]
[18,"2019-04-29","2019-04-29",null,null,0,0,0,null,null,null,0,""]
[18,"2019-04-30","2019-04-30",null,null,0,0,0,null,null,null,0,""]
[18,"2019-05-01","2019-05-01",null,null,0,0,0,null,7.6,"fd",7.6,""]
[18,"2019-05-02","2019-05-02",null,null,0,0,0,null,null,null,0,""]
[18,"2019-05-03","2019-05-03",null,null,0,0,0,null,null,null,0,""]
[18,"2019-05-04","2019-05-04",null,null,0,null,0,null,null,"za",0,"","Week",null,"OV WEEK","OV DAG","Recup -","Recup +","OV 50%"]
[18,"2019-05-05","2019-05-05",null,null,0,null,0,null,null,"zo",0,"",{"$f":"SUM(L128:L134)","v":7.6},{"$f":"SUM(H128:H134)","v":0},{"$f":"IF(N134>38,N134-38,0)","v":0},{"$f":"SUM(M128:M134)","v":0},{"$f":"SUM(I128:I134)","v":0},{"$f":"IF(N134>38,N134-38,0)","v":0},{"$f":"IF(P134>Q134,P134,Q134)","v":0}]
[19,"2019-05-06","2019-05-06",null,null,0,0,0,null,null,null,0,""]
[19,"2019-05-07","2019-05-07",null,null,0,0,0,null,null,null,0,""]
[19,"2019-05-08","2019-05-08",null,null,0,0,0,null,null,null,0,{"$f":"IF(L137>9,L137-9,\"\")","v":""}]
[{"$f":"WEEKNUM(C138,21)","v":19},{"$f":"C138","v":"2019-05-09"},"2019-05-09",null,null,{"$f":"(E138-D138)*24","v":0},{"$f":"IF(F138>=6,0.5,0)","v":0},{"$f":"F138-G138","v":0},null,null,null,{"$f":"SUM(H138:J138)","v":0},""]
[19,"2019-05-10","2019-05-10",null,null,0,0,0,null,null,null,0,""]
[19,"2019-05-11","2019-05-11",null,null,0,null,0,null,null,"za",0,"","Week",null,"OV WEEK","OV DAG","Recup -","Recup +","OV 50%"]
[19,"2019-05-12","2019-05-12",null,null,0,null,0,null,null,"zo",0,"",{"$f":"SUM(L135:L141)","v":0},{"$f":"SUM(H135:H141)","v":0},{"$f":"IF(N141>38,N141-38,0)","v":0},{"$f":"SUM(M135:M141)","v":0},{"$f":"SUM(I135:I141)","v":0},{"$f":"IF(N141>38,N141-38,0)","v":0},{"$f":"IF(P141>Q141,P141,Q141)","v":0}]
[20,"2019-05-13","2019-05-13",null,null,0,0,0,null,null,null,0,""]
[20,"2019-05-14","2019-05-14",null,null,0,0,0,null,null,null,0,""]
[20,"2019-05-15","2019-05-15",null,null,0,0,0,null,null,null,0,""]
[20,"2019-05-16","2019-05-16",null,null,0,0,0,null,null,null,0,""]
[20,"2019-05-17","2019-05-17",null,null,0,0,0,null,null,null,0,""]
[20,"2019-05-18","2019-05-18",null,null,0,null,0,null,null,"za",0,"","Week",null,"OV WEEK","OV DAG","Recup -","Recup +","OV 50%"]
[20,"2019-05-19","2019-05-19",null,null,0,null,0,null,null,"zo",0,"",{"$f":"SUM(L142:L148)","v":0},{"$f":"SUM(H142:H148)","v":0},{"$f":"IF(N148>38,N148-38,0)","v":0},{"$f":"SUM(M142:M148)","v":0},{"$f":"SUM(I142:I148)","v":0},{"$f":"IF(N148>38,N148-38,0)","v":0},{"$f":"IF(P148>Q148,P148,Q148)","v":0}]
[21,"2019-05-20","2019-05-20",null,null,0,0,0,null,7.6,"fd",7.6,""]
[21,"2019-05-21","2019-05-21",null,null,0,0,0,null,null,null,0,""]
[21,"2019-05-22","2019-05-22",null,null,0,0,0,null,null,null,0,""]
[21,"2019-05-23","2019-05-23",null,null,0,0,0,null,null,null,0,""]
[21,"2019-05-24","2019-05-24",null,null,0,0,0,null,null,null,0,""]
[21,"2019-05-25","2019-05-25",null,null,0,null,0,null,null,"za",0,"","Week",null,"OV WEEK","OV DAG","Recup -","Recup +","OV 50%"]
[21,"2019-05-26","2019-05-26",null,null,0,null,0,null,null,"zo",0,"",{"$f":"SUM(L149:L155)","v":7.6},{"$f":"SUM(H149:H155)","v":0},{"$f":"IF(N155>38,N155-38,0)","v":0},{"$f":"SUM(M149:M155)","v":0},{"$f":"SUM(I149:I155)","v":0},{"$f":"IF(N155>38,N155-38,0)","v":0},{"$f":"IF(P155>Q155,P155,Q155)","v":0}]
[22,"2019-05-27","2019-05-27",null,null,0,0,0,null,null,null,0,""]
[22,"2019-05-28","2019-05-28",null,null,0,0,0,null,null,null,0,""]
[22,"2019-05-29","2019-05-29",null,null,0,0,0,null,null,null,0,""]
[22,"2019-05-30","2019-05-30",null,null,0,0,0,null,7.6,"fd",7.6,""]
[22,"2019-05-31","2019-05-31",null,null,0,0,0,null,null,null,0,""]
[22,"2019-06-01","2019-06-01",null,null,0,null,0,null,null,"za",0,"","Week",null,"OV WEEK","OV DAG","Recup -","Recup +","OV 50%"]
[22,"2019-06-02","2019-06-02",null,null,0,null,0,null,null,"zo",0,"",{"$f":"SUM(L156:L162)","v":7.6},{"$f":"SUM(H156:H162)","v":0},{"$f":"IF(N162>38,N162-38,0)","v":0},{"$f":"SUM(M156:M162)","v":0},{"$f":"SUM(I156:I162)","v":0},{"$f":"IF(N162>38,N162-38,0)","v":0},{"$f":"IF(P162>Q162,P162,Q162)","v":0}]
[23,"2019-06-03","2019-06-03",null,null,0,0,0,null,null,null,0,""]
[23,"2019-06-04","2019-06-04",null,null,0,0,0,null,null,null,0,""]
[23,"2019-06-05","2019-06-05",null,null,0,0,0,null,null,null,0,""]
[23,"2019-06-06","2019-06-06",null,null,0,0,0,null,null,null,0,""]
[23,"2019-06-07","2019-06-07",null,null,0,0,0,null,null,null,0,""]
[23,"2019-06-08","2019-06-08",null,null,0,null,0,null,null,"za",0,"","Week",null,"OV WEEK","OV DAG","Recup -","Recup +","OV 50%"]
[23,"2019-06-09","2019-06-09",null,null,0,null,0,null,null,"zo",0,"",{"$f":"SUM(L163:L169)","v":0},{"$f":"SUM(H163:H169)","v":0},{"$f":"IF(N169>38,N169-38,0)","v":0},{"$f":"SUM(M163:M169)","v":0},{"$f":"SUM(I163:I169)","v":0},{"$f":"IF(N169>38,N169-38,0)","v":0},{"$f":"IF(P169>Q169,P169,Q169)","v":0}]
[24,"2019-06-10","2019-06-10",null,null,0,0,0,null,7.6,"fd",7.6,""]
[24,"2019-06-11","2019-06-11",null,null,0,0,0,null,null,null,0,""]
[24,"2019-06-12","2019-06-12",null,null,0,0,0,null,null,null,0,""]
[24,"2019-06-13","2019-06-13",null,null,0,0,0,null,null,null,0,""]
[24,"2019-06-14","2019-06-14",null,null,0,0,0,null,null,null,0,""]
[24,"2019-06-15","2019-06-15",null,null,0,null,0,null,null,"za",0,"","Week",null,"OV WEEK","OV DAG","Recup -","Recup +","OV 50%"]
[24,"2019-06-16","2019-06-16",null,null,0,null,0,null,null,"zo",0,"",{"$f":"SUM(L170:L176)","v":7.6},{"$f":"SUM(H170:H176)","v":0},{"$f":"IF(N176>38,N176-38,0)","v":0},{"$f":"SUM(M170:M176)","v":0},{"$f":"SUM(I170:I176)","v":0},{"$f":"IF(N176>38,N176-38,0)","v":0},{"$f":"IF(P176>Q176,P176,Q176)","v":0}]
[25,"2019-06-17","2019-06-17",null,null,0,0,0,null,null,null,0,""]
[25,"2019-06-18","2019-06-18",null,null,0,0,0,null,null,null,0,""]
[25,"2019-06-19","2019-06-19",null,null,0,0,0,null,null,null,0,""]
[25,"2019-06-20","2019-06-20",null,null,0,0,0,null,null,null,0,""]
[25,"2019-06-21","2019-06-21",null,null,0,0,0,null,null,null,0,""]
[25,"2019-06-22","2019-06-22",null,null,0,null,0,null,null,"za",0,"","Week",null,"OV WEEK","OV DAG","Recup -","Recup +","OV 50%"]
[25,"2019-06-23","2019-06-23",null,null,0,null,0,null,null,"zo",0,"",{"$f":"SUM(L177:L183)","v":0},{"$f":"SUM(H177:H183)","v":0},{"$f":"IF(N183>38,N183-38,0)","v":0},{"$f":"SUM(M177:M183)","v":0},{"$f":"SUM(I177:I183)","v":0},{"$f":"IF(N183>38,N183-38,0)","v":0},{"$f":"IF(P183>Q183,P183,Q183)","v":0}]
[26,"2019-06-24","2019-06-24",null,null,0,0,0,null,null,null,0,""]
[26,"2019-06-25","2019-06-25",null,null,0,0,0,null,null,null,0,""]
[26,"2019-06-26","2019-06-26",null,null,0,0,0,null,null,null,0,""]
[26,"2019-06-27","2019-06-27",null,null,0,0,0,null,null,null,0,""]
[26,"2019-06-28","2019-06-28",null,null,0,0,0,null,null,null,0,""]
[26,"2019-06-29","2019-06-29",null,null,0,null,0,null,null,"za",0,"","Week",null,"OV WEEK","OV DAG","Recup -","Recup +","OV 50%"]
[26,"2019-06-30","2019-06-30",null,null,0,null,0,null,null,"zo",0,"",{"$f":"SUM(L184:L190)","v":0},{"$f":"SUM(H184:H190)","v":0},{"$f":"IF(N190>38,N190-38,0)","v":0},{"$f":"SUM(M184:M190)","v":0},{"$f":"SUM(I184:I190)","v":0},{"$f":"IF(N190>38,N190-38,0)","v":0},{"$f":"IF(P190>Q190,P190,Q190)","v":0}]
[27,"2019-07-01","2019-07-01",null,null,0,0,0,null,null,null,0,""]
[27,"2019-07-02","2019-07-02",null,null,0,0,0,null,null,null,0,""]
[27,"2019-07-03","2019-07-03",null,null,0,0,0,null,null,null,0,""]
[27,"2019-07-04","2019-07-04",null,null,0,0,0,null,null,null,0,""]
[27,"2019-07-05","2019-07-05",null,null,0,0,0,null,null,null,0,""]
[27,"2019-07-06","2019-07-06",null,null,0,null,0,null,null,"za",0,"","Week",null,"OV WEEK","OV DAG","Recup -","Recup +","OV 50%"]
[27,"2019-07-07","2019-07-07",null,null,0,null,0,null,null,"zo",0,"",{"$f":"SUM(L191:L197)","v":0},{"$f":"SUM(H191:H197)","v":0},{"$f":"IF(N197>38,N197-38,0)","v":0},{"$f":"SUM(M191:M197)","v":0},{"$f":"SUM(I191:I197)","v":0},{"$f":"IF(N197>38,N197-38,0)","v":0},{"$f":"IF(P197>Q197,P197,Q197)","v":0}]
[28,"2019-07-08","2019-07-08",null,null,0,0,0,null,null,null,0,""]
[28,"2019-07-09","2019-07-09",null,null,0,0,0,null,null,null,0,""]
[28,"2019-07-10","2019-07-10",null,null,0,0,0,null,null,null,0,""]
[28,"2019-07-11","2019-07-11",null,null,0,0,0,null,null,null,0,{"$f":"IF(L201>9,L201-9,\"\")","v":""}]
[{"$f":"WEEKNUM(C202,21)","v":28},{"$f":"C202","v":"2019-07-12"},"2019-07-12",null,null,{"$f":"(E202-D202)*24","v":0},{"$f":"IF(F202>=6,0.5,0)","v":0},{"$f":"F202-G202","v":0},null,null,null,{"$f":"SUM(H202:J202)","v":0},""]
[28,"2019-07-13","2019-07-13",null,null,0,null,0,null,null,"za",0,"","Week",null,"OV WEEK","OV DAG","Recup -","Recup +","OV 50%"]
[28,"2019-07-14","2019-07-14",null,null,0,null,0,null,null,"zo",0,"",{"$f":"SUM(L198:L204)","v":0},{"$f":"SUM(H198:H204)","v":0},{"$f":"IF(N204>38,N204-38,0)","v":0},{"$f":"SUM(M198:M204)","v":0},{"$f":"SUM(I198:I204)","v":0},{"$f":"IF(N204>38,N204-38,0)","v":0},{"$f":"IF(P204>Q204,P204,Q204)","v":0}]
[29,"2019-07-15","2019-07-15",null,null,0,0,0,null,null,null,0,""]
[29,"2019-07-16","2019-07-16",null,null,0,0,0,null,null,null,0,""]
[29,"2019-07-17","2019-07-17",null,null,0,0,0,null,null,null,0,""]
[29,"2019-07-18","2019-07-18",null,null,0,0,0,null,null,null,0,""]
[29,"2019-07-19","2019-07-19",null,null,0,0,0,null,null,null,0,""]
[29,"2019-07-20","2019-07-20",null,null,0,null,0,null,null,"za",0,"","Week",null,"OV WEEK","OV DAG","Recup -","Recup +","OV 50%"]
[29,"2019-07-21","2019-07-21",null,null,0,null,0,null,null,"zo",0,"",{"$f":"SUM(L205:L211)","v":0},{"$f":"SUM(H205:H211)","v":0},{"$f":"IF(N211>38,N211-38,0)","v":0},{"$f":"SUM(M205:M211)","v":0},{"$f":"SUM(I205:I211)","v":0},{"$f":"IF(N211>38,N211-38,0)","v":0},{"$f":"IF(P211>Q211,P211,Q211)","v":0}]
[30,"2019-07-22","2019-07-22",null,null,0,0,0,null,null,null,0,""]
[30,"2019-07-23","2019-07-23",null,null,0,0,0,null,null,null,0,""]
[30,"2019-07-24","2019-07-24",null,null,0,0,0,null,null,null,0,""]
[30,"2019-07-25","2019-07-25",null,null,0,0,0,null,null,null,0,""]
[30,"2019-07-26","2019-07-26",null,null,0,0,0,null,null,null,0,""]
[30,"2019-07-27","2019-07-27",null,null,0,null,0,null,null,"za",0,"","Week",null,"OV WEEK","OV DAG","Recup -","Recup +","OV 50%"]
[30,"2019-07-28","2019-07-28",null,null,0,null,0,null,null,"zo",0,"",{"$f":"SUM(L212:L218)","v":0},{"$f":"SUM(H212:H218)","v":0},{"$f":"IF(N218>38,N218-38,0)","v":0},{"$f":"SUM(M212:M218)","v":0},{"$f":"SUM(I212:I218)","v":0},{"$f":"IF(N218>38,N218-38,0)","v":0},{"$f":"IF(P218>Q218,P218,Q218)","v":0}]
[31,"2019-07-29","2019-07-29",null,null,0,0,0,null,null,null,0,""]
[31,"2019-07-30","2019-07-30",null,null,0,0,0,null,null,null,0,""]
[31,"2019-07-31","2019-07-31",null,null,0,0,0,null,null,null,0,""]
[31,"2019-08-01","2019-08-01",null,null,0,0,0,null,null,null,0,""]
[31,"2019-08-02","2019-08-02",null,null,0,0,0,null,null,null,0,""]
[31,"2019-08-03","2019-08-03",null,null,0,null,0,null,null,"za",0,"","Week",null,"OV WEEK","OV DAG","Recup -","Recup +","OV 50%"]
[31,"2019-08-04","2019-08-04",null,null,0,null,0,null,null,"zo",0,"",{"$f":"SUM(L219:L225)","v":0},{"$f":"SUM(H219:H225)","v":0},{"$f":"IF(N225>38,N225-38,0)","v":0},{"$f":"SUM(M219:M225)","v":0},{"$f":"SUM(I219:I225)","v":0},{"$f":"IF(N225>38,N225-38,0)","v":0},{"$f":"IF(P225>Q225,P225,Q225)","v":0}]
[32,"2019-08-05","2019-08-05",null,null,0,0,0,null,null,null,0,""]
[32,"2019-08-06","2019-08-06",null,null,0,0,0,null,null,null,0,""]
[32,"2019-08-07","2019-08-07",null,null,0,0,0,null,null,null,0,""]
[32,"2019-08-08","2019-08-08",null,null,0,0,0,null,null,null,0,""]
[32,"2019-08-09","2019-08-09",null,null,0,0,0,null,null,null,0,""]
[32,"2019-08-10","2019-08-10",null,null,0,null,0,null,null,"za",0,"","Week",null,"OV WEEK","OV DAG","Recup -","Recup +","OV 50%"]
[32,"2019-08-11","2019-08-11",null,null,0,null,0,null,null,"zo",0,"",{"$f":"SUM(L226:L232)","v":0},{"$f":"SUM(H226:H232)","v":0},{"$f":"IF(N232>38,N232-38,0)","v":0},{"$f":"SUM(M226:M232)","v":0},{"$f":"SUM(I226:I232)","v":0},{"$f":"IF(N232>38,N232-38,0)","v":0},{"$f":"IF(P232>Q232,P232,Q232)","v":0}]
[33,"2019-08-12","2019-08-12",null,null,0,0,0,null,null,null,0,""]
[33,"2019-08-13","2019-08-13",null,null,0,0,0,null,null,null,0,""]
[33,"2019-08-14","2019-08-14",null,null,0,0,0,null,null,null,0,""]
[33,"2019-08-15","2019-08-15",null,null,0,0,0,null,7.6,"fd",7.6,""]
[33,"2019-08-16","2019-08-16",null,null,0,0,0,null,null,null,0,""]
[33,"2019-08-17","2019-08-17",null,null,0,null,0,null,null,"za",0,"","Week",null,"OV WEEK","OV DAG","Recup -","Recup +","OV 50%"]
[33,"2019-08-18","2019-08-18",null,null,0,null,0,null,null,"zo",0,"",{"$f":"SUM(L233:L239)","v":7.6},{"$f":"SUM(H233:H239)","v":0},{"$f":"IF(N239>38,N239-38,0)","v":0},{"$f":"SUM(M233:M239)","v":0},{"$f":"SUM(I233:I239)","v":0},{"$f":"IF(N239>38,N239-38,0)","v":0},{"$f":"IF(P239>Q239,P239,Q239)","v":0}]
[34,"2019-08-19","2019-08-19",null,null,0,0,0,null,null,null,0,""]
[34,"2019-08-20","2019-08-20",null,null,0,{"$f":"IF(F241>=6,0.5,0)","v":0},0,null,null,null,0,""]
[34,"2019-08-21","2019-08-21",null,null,0,0,0,null,null,null,0,""]
[34,"2019-08-22","2019-08-22",null,null,0,0,0,null,null,null,0,""]
[34,"2019-08-23","2019-08-23",null,null,0,0,0,null,null,null,0,""]
[34,"2019-08-24","2019-08-24",null,null,0,null,0,null,null,"za",0,"","Week",null,"OV WEEK","OV DAG","Recup -","Recup +","OV 50%"]
[34,"2019-08-25","2019-08-25",null,null,0,null,0,null,null,"zo",0,"",{"$f":"SUM(L240:L246)","v":0},{"$f":"SUM(H240:H246)","v":0},{"$f":"IF(N246>38,N246-38,0)","v":0},{"$f":"SUM(M240:M246)","v":0},{"$f":"SUM(I240:I246)","v":0},{"$f":"IF(N246>38,N246-38,0)","v":0},{"$f":"IF(P246>Q246,P246,Q246)","v":0}]
[35,"2019-08-26","2019-08-26",null,null,0,0,0,null,null,null,0,""]
[35,"2019-08-27","2019-08-27",null,null,0,0,0,null,null,null,0,""]
[35,"2019-08-28","2019-08-28",null,null,0,0,0,null,null,null,0,""]
[35,"2019-08-29","2019-08-29",null,null,0,0,0,null,null,null,0,""]
[35,"2019-08-30","2019-08-30",null,null,0,0,0,null,null,null,0,""]
[35,"2019-08-31","2019-08-31",null,null,0,null,0,null,null,"za",0,"","Week",null,"OV WEEK","OV DAG","Recup -","Recup +","OV 50%"]
[35,"2019-09-01","2019-09-01",null,null,0,null,0,null,null,"zo",0,"",{"$f":"SUM(L247:L253)","v":0},{"$f":"SUM(H247:H253)","v":0},{"$f":"IF(N253>38,N253-38,0)","v":0},{"$f":"SUM(M247:M253)","v":0},{"$f":"SUM(I247:I253)","v":0},{"$f":"IF(N253>38,N253-38,0)","v":0},{"$f":"IF(P253>Q253,P253,Q253)","v":0}]
[36,"2019-09-02","2019-09-02",null,null,0,0,0,null,null,null,0,""]
[36,"2019-09-03","2019-09-03",null,null,0,0,0,null,null,null,0,""]
[36,"2019-09-04","2019-09-04",null,null,0,0,0,null,null,null,0,""]
[36,"2019-09-05","2019-09-05",null,null,0,0,0,null,null,null,0,""]
[36,"2019-09-06","2019-09-06",null,null,0,0,0,null,null,null,0,""]
[36,"2019-09-07","2019-09-07",null,null,0,null,0,null,null,"za",0,"","Week",null,"OV WEEK","OV DAG","Recup -","Recup +","OV 50%"]
[36,"2019-09-08","2019-09-08",null,null,0,null,0,null,null,"zo",0,"",{"$f":"SUM(L254:L260)","v":0},{"$f":"SUM(H254:H260)","v":0},{"$f":"IF(N260>38,N260-38,0)","v":0},{"$f":"SUM(M254:M260)","v":0},{"$f":"SUM(I254:I260)","v":0},{"$f":"IF(N260>38,N260-38,0)","v":0},{"$f":"IF(P260>Q260,P260,Q260)","v":0}]
[37,"2019-09-09","2019-09-09",null,null,0,0,0,null,null,null,0,""]
[37,"2019-09-10","2019-09-10",null,null,0,0,0,null,null,null,0,""]
[37,"2019-09-11","2019-09-11",null,null,0,0,0,null,null,null,0,""]
[37,"2019-09-12","2019-09-12",null,null,0,0,0,null,null,null,0,""]
[37,"2019-09-13","2019-09-13",null,null,0,0,0,null,null,null,0,{"$f":"IF(L265>9,L265-9,\"\")","v":""}]
[{"$f":"WEEKNUM(C266,21)","v":37},{"$f":"C266","v":"2019-09-14"},"2019-09-14",null,null,{"$f":"(E266-D266)*24","v":0},null,{"$f":"F266-G266","v":0},null,null,"za",{"$f":"SUM(H266:J266)","v":0},"","Week",null,"OV WEEK","OV DAG","Recup -","Recup +","OV 50%"]
[37,"2019-09-15","2019-09-15",null,null,0,null,0,null,null,"zo",0,"",{"$f":"SUM(L261:L267)","v":0},{"$f":"SUM(H261:H267)","v":0},{"$f":"IF(N267>38,N267-38,0)","v":0},{"$f":"SUM(M261:M267)","v":0},{"$f":"SUM(I261:I267)","v":0},{"$f":"IF(N267>38,N267-38,0)","v":0},{"$f":"IF(P267>Q267,P267,Q267)","v":0}]
[38,"2019-09-16","2019-09-16",null,null,0,{"$f":"IF(F268>=6,0.5,0)","v":0},0,null,null,null,0,""]
[38,"2019-09-17","2019-09-17",null,null,0,0,0,null,null,null,0,""]
[38,"2019-09-18","2019-09-18",null,null,0,0,0,null,null,null,0,""]
[38,"2019-09-19","2019-09-19",null,null,0,0,0,null,null,null,0,""]
[38,"2019-09-20","2019-09-20",null,null,0,0,0,null,null,null,0,""]
[38,"2019-09-21","2019-09-21",null,null,0,null,0,null,null,"za",0,"","Week",null,"OV WEEK","OV DAG","Recup -","Recup +","OV 50%"]
[38,"2019-09-22","2019-09-22",null,null,0,null,0,null,null,"zo",0,"",{"$f":"SUM(L268:L274)","v":0},{"$f":"SUM(H268:H274)","v":0},{"$f":"IF(N274>38,N274-38,0)","v":0},{"$f":"SUM(M268:M274)","v":0},{"$f":"SUM(I268:I274)","v":0},{"$f":"IF(N274>38,N274-38,0)","v":0},{"$f":"IF(P274>Q274,P274,Q274)","v":0}]
[39,"2019-09-23","2019-09-23",null,null,0,0,0,null,null,null,0,""]
[39,"2019-09-24","2019-09-24",null,null,0,0,0,null,null,null,0,""]
[39,"2019-09-25","2019-09-25",null,null,0,0,0,null,null,null,0,""]
[39,"2019-09-26","2019-09-26",null,null,0,0,0,null,null,null,0,""]
[39,"2019-09-27","2019-09-27",null,null,0,0,0,null,null,null,0,""]
[39,"2019-09-28","2019-09-28",null,null,0,null,0,null,null,"za",0,"","Week",null,"OV WEEK","OV DAG","Recup -","Recup +","OV 50%"]
[39,"2019-09-29","2019-09-29",null,null,0,null,0,null,null,"zo",0,"",{"$f":"SUM(L275:L281)","v":0},{"$f":"SUM(H275:H281)","v":0},{"$f":"IF(N281>38,N281-38,0)","v":0},{"$f":"SUM(M275:M281)","v":0},{"$f":"SUM(I275:I281)","v":0},{"$f":"IF(N281>38,N281-38,0)","v":0},{"$f":"IF(P281>Q281,P281,Q281)","v":0}]
[40,"2019-09-30","2019-09-30",null,null,0,0,0,null,null,null,0,""]
[40,"2019-10-01","2019-10-01",null,null,0,0,0,null,null,null,0,""]
[40,"2019-10-02","2019-10-02",null,null,0,0,0,null,null,null,0,""]
[40,"2019-10-03","2019-10-03",null,null,0,0,0,null,null,null,0,""]
[40,"2019-10-04","2019-10-04",null,null,0,0,0,null,null,null,0,""]
[40,"2019-10-05","2019-10-05",null,null,0,null,0,null,null,"za",0,"","Week",null,"OV WEEK","OV DAG","Recup -","Recup +","OV 50%"]
[40,"2019-10-06","2019-10-06",null,null,0,null,0,null,null,"zo",0,"",{"$f":"SUM(L282:L288)","v":0},{"$f":"SUM(H282:H288)","v":0},{"$f":"IF(N288>38,N288-38,0)","v":0},{"$f":"SUM(M282:M288)","v":0},{"$f":"SUM(I282:I288)","v":0},{"$f":"IF(N288>38,N288-38,0)","v":0},{"$f":"IF(P288>Q288,P288,Q288)","v":0}]
[41,"2019-10-07","2019-10-07",null,null,0,0,0,null,null,null,0,""]
[41,"2019-10-08","2019-10-08",null,null,0,0,0,null,null,null,0,""]
[41,"2019-10-09","2019-10-09",null,null,0,0,0,null,null,null,0,""]
[41,"2019-10-10","2019-10-10",null,null,0,0,0,null,null,null,0,""]
[41,"2019-10-11","2019-10-11",null,null,0,0,0,null,null,null,0,""]
[41,"2019-10-12","2019-10-12",null,null,0,null,0,null,null,"za",0,"","Week",null,"OV WEEK","OV DAG","Recup -","Recup +","OV 50%"]
[41,"2019-10-13","2019-10-13",null,null,0,null,0,null,null,"zo",0,"",{"$f":"SUM(L289:L295)","v":0},{"$f":"SUM(H289:H295)","v":0},{"$f":"IF(N295>38,N295-38,0)","v":0},{"$f":"SUM(M289:M295)","v":0},{"$f":"SUM(I289:I295)","v":0},{"$f":"IF(N295>38,N295-38,0)","v":0},{"$f":"IF(P295>Q295,P295,Q295)","v":0}]
[42,"2019-10-14","2019-10-14",null,null,0,0,0,null,null,null,0,""]
[42,"2019-10-15","2019-10-15",null,null,0,0,0,null,null,null,0,""]
[42,"2019-10-16","2019-10-16",null,null,0,0,0,null,null,null,0,""]
[42,"2019-10-17","2019-10-17",null,null,0,0,0,null,null,null,0,""]
[42,"2019-10-18","2019-10-18",null,null,0,0,0,null,null,null,0,""]
[42,"2019-10-19","2019-10-19",null,null,0,null,0,null,null,"za",0,"","Week",null,"OV WEEK","OV DAG","Recup -","Recup +","OV 50%"]
[42,"2019-10-20","2019-10-20",null,null,0,null,0,null,null,"zo",0,"",{"$f":"SUM(L296:L302)","v":0},{"$f":"SUM(H296:H302)","v":0},{"$f":"IF(N302>38,N302-38,0)","v":0},{"$f":"SUM(M296:M302)","v":0},{"$f":"SUM(I296:I302)","v":0},{"$f":"IF(N302>38,N302-38,0)","v":0},{"$f":"IF(P302>Q302,P302,Q302)","v":0}]
[43,"2019-10-21","2019-10-21",null,null,0,0,0,null,null,null,0,""]
[43,"2019-10-22","2019-10-22",null,null,0,0,0,null,null,null,0,""]
[43,"2019-10-23","2019-10-23",null,null,0,0,0,null,null,null,0,""]
[43,"2019-10-24","2019-10-24",null,null,0,0,0,null,null,null,0,""]
[43,"2019-10-25","2019-10-25",null,null,0,0,0,null,null,null,0,""]
[43,"2019-10-26","2019-10-26",null,null,0,null,0,null,null,"za",0,"","Week",null,"OV WEEK","OV DAG","Recup -","Recup +","OV 50%"]
[43,"2019-10-27","2019-10-27",null,null,0,null,0,null,null,"zo",0,"",{"$f":"SUM(L303:L309)","v":0},{"$f":"SUM(H303:H309)","v":0},{"$f":"IF(N309>38,N309-38,0)","v":0},{"$f":"SUM(M303:M309)","v":0},{"$f":"SUM(I303:I309)","v":0},{"$f":"IF(N309>38,N309-38,0)","v":0},{"$f":"IF(P309>Q309,P309,Q309)","v":0}]
[44,"2019-10-28","2019-10-28",null,null,0,0,0,null,null,null,0,""]
[44,"2019-10-29","2019-10-29",null,null,0,0,0,null,null,null,0,""]
[44,"2019-10-30","2019-10-30",null,null,0,0,0,null,null,null,0,""]
[44,"2019-10-31","2019-10-31",null,null,0,0,0,null,null,null,0,""]
[44,"2019-11-01","2019-11-01",null,null,0,0,0,null,7.6,"fd",7.6,""]
[44,"2019-11-02","2019-11-02",null,null,0,null,0,null,null,"za",0,"","Week",null,"OV WEEK","OV DAG","Recup -","Recup +","OV 50%"]
[44,"2019-11-03","2019-11-03",null,null,0,null,0,null,null,"zo",0,"",{"$f":"SUM(L310:L316)","v":7.6},{"$f":"SUM(H310:H316)","v":0},{"$f":"IF(N316>38,N316-38,0)","v":0},{"$f":"SUM(M310:M316)","v":0},{"$f":"SUM(I310:I316)","v":0},{"$f":"IF(N316>38,N316-38,0)","v":0},{"$f":"IF(P316>Q316,P316,Q316)","v":0}]
[45,"2019-11-04","2019-11-04",null,null,0,0,0,null,null,null,0,""]
[45,"2019-11-05","2019-11-05",null,null,0,0,0,null,null,null,0,""]
[45,"2019-11-06","2019-11-06",null,null,0,0,0,null,null,null,0,""]
[45,"2019-11-07","2019-11-07",null,null,0,0,0,null,null,null,0,""]
[45,"2019-11-08","2019-11-08",null,null,0,0,0,null,null,null,0,""]
[45,"2019-11-09","2019-11-09",null,null,0,null,0,null,null,"za",0,"","Week",null,"OV WEEK","OV DAG","Recup -","Recup +","OV 50%"]
[45,"2019-11-10","2019-11-10",null,null,0,null,0,null,null,"zo",0,"",{"$f":"SUM(L317:L323)","v":0},{"$f":"SUM(H317:H323)","v":0},{"$f":"IF(N323>38,N323-38,0)","v":0},{"$f":"SUM(M317:M323)","v":0},{"$f":"SUM(I317:I323)","v":0},{"$f":"IF(N323>38,N323-38,0)","v":0},{"$f":"IF(P323>Q323,P323,Q323)","v":0}]
[46,"2019-11-11","2019-11-11",null,null,0,0,0,null,7.6,"fd",7.6,""]
[46,"2019-11-12","2019-11-12",null,null,0,0,0,null,null,null,0,""]
[46,"2019-11-13","2019-11-13",null,null,0,0,0,null,null,null,0,""]
[46,"2019-11-14","2019-11-14",null,null,0,0,0,null,null,null,0,""]
[46,"2019-11-15","2019-11-15",null,null,0,0,0,null,null,null,0,""]
[46,"2019-11-16","2019-11-16",null,null,0,null,0,null,null,"za",0,{"$f":"IF(L329>9,L329-9,\"\")","v":""},"Week",null,"OV WEEK","OV DAG","Recup -","Recup +","OV 50%"]
[{"$f":"WEEKNUM(C330,21)","v":46},{"$f":"C330","v":"2019-11-17"},"2019-11-17",null,null,{"$f":"(E330-D330)*24","v":0},null,{"$f":"F330-G330","v":0},null,null,"zo",{"$f":"SUM(H330:J330)","v":0},"",{"$f":"SUM(L324:L330)","v":7.6},{"$f":"SUM(H324:H330)","v":0},{"$f":"IF(N330>38,N330-38,0)","v":0},{"$f":"SUM(M324:M330)","v":0},{"$f":"SUM(I324:I330)","v":0},{"$f":"IF(N330>38,N330-38,0)","v":0},{"$f":"IF(P330>Q330,P330,Q330)","v":0}]
[47,"2019-11-18","2019-11-18",null,null,0,{"$f":"IF(F331>=6,0.5,0)","v":0},0,null,null,null,0,""]
[47,"2019-11-19","2019-11-19",null,null,0,0,0,null,null,null,0,""]
[47,"2019-11-20","2019-11-20",null,null,0,0,0,null,null,null,0,""]
[47,"2019-11-21","2019-11-21",null,null,0,0,0,null,null,null,0,""]
[47,"2019-11-22","2019-11-22",null,null,0,0,0,null,null,null,0,""]
[47,"2019-11-23","2019-11-23",null,null,0,null,0,null,null,"za",0,"","Week",null,"OV WEEK","OV DAG","Recup -","Recup +","OV 50%"]
[47,"2019-11-24","2019-11-24",null,null,0,null,0,null,null,"zo",0,"",{"$f":"SUM(L331:L337)","v":0},{"$f":"SUM(H331:H337)","v":0},{"$f":"IF(N337>38,N337-38,0)","v":0},{"$f":"SUM(M331:M337)","v":0},{"$f":"SUM(I331:I337)","v":0},{"$f":"IF(N337>38,N337-38,0)","v":0},{"$f":"IF(P337>Q337,P337,Q337)","v":0}]
[48,"2019-11-25","2019-11-25",null,null,0,0,0,null,null,null,0,""]
[48,"2019-11-26","2019-11-26",null,null,0,0,0,null,null,null,0,""]
[48,"2019-11-27","2019-11-27",null,null,0,0,0,null,null,null,0,""]
[48,"2019-11-28","2019-11-28",null,null,0,0,0,null,null,null,0,""]
[48,"2019-11-29","2019-11-29",null,null,0,0,0,null,null,null,0,""]
[48,"2019-11-30","2019-11-30",null,null,0,null,0,null,null,"za",0,"","Week",null,"OV WEEK","OV DAG","Recup -","Recup +","OV 50%"]
[48,"2019-12-01","2019-12-01",null,null,0,null,0,null,null,"zo",0,"",{"$f":"SUM(L338:L344)","v":0},{"$f":"SUM(H338:H344)","v":0},{"$f":"IF(N344>38,N344-38,0)","v":0},{"$f":"SUM(M338:M344)","v":0},{"$f":"SUM(I338:I344)","v":0},{"$f":"IF(N344>38,N344-38,0)","v":0},{"$f":"IF(P344>Q344,P344,Q344)","v":0}]
[49,"2019-12-02","2019-12-02",null,null,0,0,0,null,null,null,0,""]
[49,"2019-12-03","2019-12-03",null,null,0,0,0,null,null,null,0,""]
[49,"2019-12-04","2019-12-04",null,null,0,0,0,null,null,null,0,""]
[49,"2019-12-05","2019-12-05",null,null,0,0,0,null,null,null,0,""]
[49,"2019-12-06","2019-12-06",null,null,0,0,0,null,null,null,0,""]
[49,"2019-12-07","2019-12-07",null,null,0,null,0,null,null,"za",0,"","Week",null,"OV WEEK","OV DAG","Recup -","Recup +","OV 50%"]
[49,"2019-12-08","2019-12-08",null,null,0,null,0,null,null,"zo",0,"",{"$f":"SUM(L345:L351)","v":0},{"$f":"SUM(H345:H351)","v":0},{"$f":"IF(N351>38,N351-38,0)","v":0},{"$f":"SUM(M345:M351)","v":0},{"$f":"SUM(I345:I351)","v":0},{"$f":"IF(N351>38,N351-38,0)","v":0},{"$f":"IF(P351>Q351,P351,Q351)","v":0}]
[50,"2019-12-09","2019-12-09",null,null,0,0,0,null,null,null,0,""]
[50,"2019-12-10","2019-12-10",null,null,0,0,0,null,null,null,0,""]
[50,"2019-12-11","2019-12-11",null,null,0,0,0,null,null,null,0,""]
[50,"2019-12-12","2019-12-12",null,null,0,0,0,null,null,null,0,""]
[50,"2019-12-13","2019-12-13",null,null,0,0,0,null,null,null,0,""]
[50,"2019-12-14","2019-12-14",null,null,0,null,0,null,null,"za",0,"","Week",null,"OV WEEK","OV DAG","Recup -","Recup +","OV 50%"]
[50,"2019-12-15","2019-12-15",null,null,0,null,0,null,null,"zo",0,"",{"$f":"SUM(L352:L358)","v":0},{"$f":"SUM(H352:H358)","v":0},{"$f":"IF(N358>38,N358-38,0)","v":0},{"$f":"SUM(M352:M358)","v":0},{"$f":"SUM(I352:I358)","v":0},{"$f":"IF(N358>38,N358-38,0)","v":0},{"$f":"IF(P358>Q358,P358,Q358)","v":0}]
[51,"2019-12-16","2019-12-16",null,null,0,0,0,null,null,null,0,""]
[51,"2019-12-17","2019-12-17",null,null,0,0,0,null,null,null,0,""]
[51,"2019-12-18","2019-12-18",null,null,0,0,0,null,null,null,0,""]
[51,"2019-12-19","2019-12-19",null,null,0,0,0,null,null,null,0,""]
[51,"2019-12-20","2019-12-20",null,null,0,0,0,null,null,null,0,""]
[51,"2019-12-21","2019-12-21",null,null,0,null,0,null,null,"za",0,"","Week",null,"OV WEEK","OV DAG","Recup -","Recup +","OV 50%"]
[51,"2019-12-22","2019-12-22",null,null,0,null,0,null,null,"zo",0,"",{"$f":"SUM(L359:L365)","v":0},{"$f":"SUM(H359:H365)","v":0},{"$f":"IF(N365>38,N365-38,0)","v":0},{"$f":"SUM(M359:M365)","v":0},{"$f":"SUM(I359:I365)","v":0},{"$f":"IF(N365>38,N365-38,0)","v":0},{"$f":"IF(P365>Q365,P365,Q365)","v":0}]
[52,"2019-12-23","2019-12-23",null,null,0,0,0,null,null,null,0,""]
[52,"2019-12-24","2019-12-24",null,null,0,0,0,null,null,null,0,""]
[52,"2019-12-25","2019-12-25",null,null,0,0,0,null,7.6,"fd",7.6,""]
[52,"2019-12-26","2019-12-26",null,null,0,0,0,null,null,null,0,""]
[52,"2019-12-27","2019-12-27",null,null,0,0,0,null,null,null,0,""]
[52,"2019-12-28","2019-12-28",null,null,0,null,0,null,null,"za",0,"","Week",null,"OV WEEK","OV DAG","Recup -","Recup +","OV 50%"]
[52,"2019-12-29","2019-12-29",null,null,0,null,0,null,null,"zo",0,"",{"$f":"SUM(L366:L372)","v":7.6},{"$f":"SUM(H366:H372)","v":0},{"$f":"IF(N372>38,N372-38,0)","v":0},{"$f":"SUM(M366:M372)","v":0},{"$f":"SUM(I366:I372)","v":0},{"$f":"IF(N372>38,N372-38,0)","v":0},{"$f":"IF(P372>Q372,P372,Q372)","v":0}]
[1,"2019-12-30","2019-12-30",null,null,0,0,0,null,null,null,0,""]
[1,"2019-12-31","2019-12-31",null,null,0,0,0,null,null,null,0,""]
[1,"2020-01-01","2020-01-01",null,null,0,0,0,null,7.6,"fd",7.6,""]
[1,"2020-01-02","2020-01-02",null,null,0,0,0,null,null,null,0,""]
[1,"2020-01-03","2020-01-03",null,null,0,0,0,null,null,null,0,""]
[1,"2020-01-04","2020-01-04",null,null,0,null,0,null,null,"za",0,"","Week",null,"OV WEEK","OV DAG","Recup -","Recup +","OV 50%"]
[1,"2020-01-05","2020-01-05",null,null,0,null,0,null,null,"zo",0,"",{"$f":"SUM(L373:L379)","v":7.6},{"$f":"SUM(H373:H379)","v":0},{"$f":"IF(N379>38,N379-38,0)","v":0},{"$f":"SUM(M373:M379)","v":0},{"$f":"SUM(I373:I379)","v":0},{"$f":"IF(N379>38,N379-38,0)","v":0},{"$f":"IF(P379>Q379,P379,Q379)","v":0}]

{"sheet":"42","index":9,"n_rows":379,"n_cols":35,"rows_kept":379,"cut":false,"hidden":false,"merged":[[6,21,6,24],[6,25,6,28],[6,29,6,32],[6,33,6,34],[0,1,1,12],[4,21,4,23],[4,25,4,28],[4,29,4,32],[4,33,4,34],[5,21,5,23],[5,25,5,28],[5,29,5,32],[5,33,5,34],[2,21,2,23],[2,25,2,28],[2,29,2,32],[2,33,2,34],[3,21,3,23],[3,25,3,28],[3,29,3,32],[3,33,3,34],[0,21,0,24],[0,25,0,28],[0,29,0,32],[0,33,0,34],[1,21,1,23],[1,25,1,28],[1,29,1,32],[1,33,1,34]]}
["42","Bauwens Irvin",null,null,null,null,null,null,null,null,null,null,null,null,null,null,null,null,null,null,null,"Soort",null,null,null,"Recht op",null,null,null,"Opgenomen",null,null,null,"Saldo"]
[null,null,null,null,null,null,null,null,null,null,null,null,null,null,null,null,null,null,null,null,null,"ADV-dagen",null,null,"adv",null,null,null,null,{"$f":"(COUNTIF(W$9:AH$39,\"ADV\")+(COUNTIF(W$9:AH$39,\"0,5ADV\"))/2)","v":0},null,null,null,{"$f":"Z2-AD2","v":0}]
[null,null,null,null,null,null,null,null,null,null,null,null,null,null,null,null,null,null,null,null,null,"Vakantie 2019",null,null,"v",null,null,null,null,{"$f":"(COUNTIF(W$9:AH$39,\"V\")+(COUNTIF(W$9:AH$39,\"0,5V\"))/2)","v":0},null,null,null,{"$f":"Z3-AD3","v":0}]
["Opgelet avondwerk ! Van 00:00u tot 00:00u / + 0,00u premie 50%",null,null,null,null,null,null,null,null,null,null,null,null,"Feestdag in weekend 2019",null,null,null,null,"Recup 2018",10.95,null,"Feestdag 2019",null,null,"f",1,null,null,null,{"$f":"(COUNTIF(W$9:AH$39,\"F\")+(COUNTIF(W$9:AH$39,\"0,5F\"))/2)","v":0},null,null,null,1]
[null,null,null,null,null,null,null,null,null,null,null,null,null,"- nationale feestdag 21/7",null,null,null,null,null,null,null,"Vakantie rest 2018",null,null,"vvj",null,null,null,null,{"$f":"(COUNTIF(W$9:AH$39,\"vvj\")+(COUNTIF(W$9:AH$39,\"0,5vvj\"))/2)","v":0},null,null,null,0]
[null,null,null,null,null,null,null,null,null,null,null,null,null,null,null,null,null,null,"Recup",{"$f":"SUM(S9:S379)-SUM(R9:R379)+T5+T4","v":11.499999999999996},null,"Anciënniteitsdagen",null,null,"a ",null,null,null,null,{"$f":"(COUNTIF(W$9:AH$39,\"A\")+(COUNTIF(W$9:AH$39,\"0,5A\"))/2)","v":0},null,null,null,0]
[null,null,null,null,null,null,null,null,null,null,null,null,null,null,null,null,null,null,null,null,null,"TOTAAL",null,null,null,{"$f":"SUM(Z2:AC6)","v":1},null,null,null,{"$f":"SUM(AD2:AG6)","v":0},null,null,null,{"$f":"SUM(AH2:AI6)","v":1}]
["W","Dag","Datum","Van ","Tot",null,"Pauze","Prestaties","Recup","Andere","Type","Dag","OV DAG","Week","Prestaties","OV WEEK","OV DAG","Rec. -","Rec. +","OV 50%","M",null,"Jan","Feb","Maa","Apr","Mei","Jun","Jul","Aug","Sept","Okt","Nov","Dec"]
[{"$f":"WEEKNUM(C9,21)","v":1},{"$f":"C9","v":"2018-12-31"},"2018-12-31",null,null,{"$f":"(E9-D9)*24","v":0},{"$f":"IF(F9>=6,0.5,0)","v":0},{"$f":"F9-G9","v":0},null,7.6,"OK",{"$f":"SUM(H9:J9)","v":7.6},{"$f":"IF(L9>9,L9-9,\"\")","v":""},"Goedgekeurd FVV van 2018 reeds verwerkt OK!",null,null,null,null,null,null,0,1,{"$f":"K9","v":"OK"},{"$f":"K40","v":0},{"$f":"K68","v":0},{"$f":"K99","v":"zo"},{"$f":"K129","v":0},{"$f":"K160","v":0},{"$f":"K190","v":"zo"},{"$f":"K221","v":0},{"$f":"K252","v":"za"},{"$f":"K282","v":0},{"$f":"K313","v":0},{"$f":"K343","v":"za"},1]
[{"$f":"WEEKNUM(C10,21)","v":1},{"$f":"C10","v":"2019-01-01"},"2019-01-01",null,null,{"$f":"(E10-D10)*24","v":0},{"$f":"IF(F10>=6,0.5,0)","v":0},{"$f":"F10-G10","v":0},null,7.6,"fd",{"$f":"SUM(H10:J10)","v":7.6},"",null,null,null,null,null,null,null,0,2,{"$f":"K10","v":"fd"},{"$f":"K41","v":0},{"$f":"K69","v":0},{"$f":"K100","v":0},{"$f":"K130","v":"fd"},{"$f":"K161","v":"za"},{"$f":"K191","v":0},{"$f":"K222","v":0},{"$f":"K253","v":"zo"},{"$f":"K283","v":0},{"$f":"K314","v":"fd"},{"$f":"K344","v":"zo"},2]
[1,"2019-01-02","2019-01-02",null,null,0,0,0,null,7.6,"z",7.6,"","Ziektebriefje 02/01 - 04/01 OK",null,null,null,null,null,null,null,3,"z","za","za",0,0,"zo",0,0,0,0,"za",0,3]
[1,"2019-01-03","2019-01-03","07:00:00","15:00:00",8,0.5,7.5,null,null,null,7.5,"","03/01/2018 terug aan het werk gegaan, wat met vooropzeg? Zie mails..",null,null,null,null,null,null,null,4,0,"zo","zo",0,0,0,0,"za",0,0,"zo",0,4]
[1,"2019-01-04","2019-01-04","06:45:00","15:30:00",8.75,0.5,8.25,null,null,null,8.25,"","Afstemmen met Dorien… !!!",null,null,null,null,null,null,null,5,0,0,0,0,"za",0,0,"zo",0,0,0,{"$f":"K347","v":0},5]
[1,"2019-01-05","2019-01-05",null,null,0,null,0,null,null,"za",0,"","Week",null,"OV WEEK","OV DAG","Recup -","Recup +","OV 50%",null,6,"za",0,0,0,"zo",0,0,0,0,"za",0,0,6]
[1,"2019-01-06","2019-01-06",null,null,0,null,0,null,null,"zo",0,"",{"$f":"SUM(L9:L15)","v":38.549999999999997},{"$f":"SUM(H9:H15)","v":15.75},{"$f":"IF(N15>38,N15-38,0)","v":0.54999999999999716},{"$f":"SUM(M9:M15)","v":0},{"$f":"SUM(I9:I15)","v":0},{"$f":"IF(N15>38,N15-38,0)","v":0.54999999999999716},{"$f":"IF(P15>Q15,P15,Q15)","v":0.54999999999999716},null,7,"zo",0,0,"za",0,0,"za",0,0,"zo",0,0,7]
[2,"2019-01-07","2019-01-07",null,null,0,0,0,null,null,null,0,"",null,null,null,null,null,null,null,null,8,0,0,0,"zo",0,0,"zo",0,"za",0,0,"za",8]
[2,"2019-01-08","2019-01-08",null,null,0,0,0,null,null,null,0,"",null,null,null,null,null,null,null,null,9,0,0,0,0,0,"za",0,0,"zo",0,0,"zo",9]
[2,"2019-01-09","2019-01-09",null,null,0,0,0,null,null,null,0,"",null,null,null,null,null,null,null,null,10,0,"za","za",0,0,"zo",0,0,0,0,"za",0,10]
[2,"2019-01-10","2019-01-10",null,null,0,0,0,null,null,null,0,"",null,null,null,null,null,null,null,null,11,0,"zo","zo",0,0,"fd",0,"za",0,0,"zo",0,11]
[2,"2019-01-11","2019-01-11",null,null,0,0,0,null,null,null,0,"",null,null,null,null,null,null,null,null,12,0,0,0,0,"za",0,0,"zo",0,0,"fd",0,12]
[2,"2019-01-12","2019-01-12",null,null,0,null,0,null,null,"za",0,"","Week",null,"OV WEEK","OV DAG","Recup -","Recup +","OV 50%",null,13,"za",0,0,0,"zo",0,0,0,0,"za",0,0,13]
[2,"2019-01-13","2019-01-13",null,null,0,null,0,null,null,"zo",0,"",{"$f":"SUM(L16:L22)","v":0},{"$f":"SUM(H16:H22)","v":0},{"$f":"IF(N22>38,N22-38,0)","v":0},{"$f":"SUM(M16:M22)","v":0},{"$f":"SUM(I16:I22)","v":0},{"$f":"IF(N22>38,N22-38,0)","v":0},{"$f":"IF(P22>Q22,P22,Q22)","v":0},null,14,"zo",0,0,"za",0,0,"za",0,0,"zo",0,0,14]
[3,"2019-01-14","2019-01-14",null,null,0,0,0,null,null,null,0,"",null,null,null,null,null,null,null,null,15,0,0,0,"zo",0,0,"zo",0,"za",0,0,"za",15]
[3,"2019-01-15","2019-01-15",null,null,0,0,0,null,null,null,0,"",null,null,null,null,null,null,null,null,16,0,0,0,0,0,"za",0,"fd","zo",0,0,"zo",16]
[3,"2019-01-16","2019-01-16",null,null,0,0,0,null,null,null,0,"",null,null,null,null,null,null,null,null,17,0,"za","za",0,0,"zo",0,0,0,0,"za",0,17]
[3,"2019-01-17","2019-01-17",null,null,0,0,0,null,null,null,0,"",null,null,null,null,null,null,null,null,18,0,"zo","zo",0,0,0,0,"za",0,0,"zo",0,18]
[3,"2019-01-18","2019-01-18",null,null,0,0,0,null,null,null,0,"",null,null,null,null,null,null,null,null,19,0,0,0,0,"za",0,0,"zo",0,0,0,0,19]
[3,"2019-01-19","2019-01-19",null,null,0,null,0,null,null,"za",0,"","Week",null,"OV WEEK","OV DAG","Recup -","Recup +","OV 50%",null,20,"za",0,0,0,"zo",0,0,0,0,"za",0,{"$f":"K362","v":0},20]
[3,"2019-01-20","2019-01-20",null,null,0,null,0,null,null,"zo",0,"",{"$f":"SUM(L23:L29)","v":0},{"$f":"SUM(H23:H29)","v":0},{"$f":"IF(N29>38,N29-38,0)","v":0},{"$f":"SUM(M23:M29)","v":0},{"$f":"SUM(I23:I29)","v":0},{"$f":"IF(N29>38,N29-38,0)","v":0},{"$f":"IF(P29>Q29,P29,Q29)","v":0},null,21,"zo",0,0,"za","fd",0,"za",0,0,"zo",0,0,21]
[4,"2019-01-21","2019-01-21",null,null,0,0,0,null,null,null,0,"",null,null,null,null,null,null,null,null,22,0,0,0,"zo",0,0,"zo",0,"za",0,0,"za",22]
[4,"2019-01-22","2019-01-22",null,null,0,0,0,null,null,null,0,"",null,null,null,null,null,null,null,null,23,0,0,0,"fd",0,"za",0,0,"zo",0,0,"zo",23]
[4,"2019-01-23","2019-01-23",null,null,0,0,0,null,null,null,0,"",null,null,null,null,null,null,null,null,24,0,"za","za",0,0,"zo",0,0,0,0,"za",0,24]
[4,"2019-01-24","2019-01-24",null,null,0,0,0,null,null,null,0,"",null,null,null,null,null,null,null,null,25,0,"zo","zo",0,0,0,0,"za",0,0,"zo",0,25]
[4,"2019-01-25","2019-01-25",null,null,0,0,0,null,null,null,0,"",null,null,null,null,null,null,null,null,26,0,0,0,0,"za",0,0,"zo",0,0,0,"fd",26]
[4,"2019-01-26","2019-01-26",null,null,0,null,0,null,null,"za",0,"","Week",null,"OV WEEK","OV DAG","Recup -","Recup +","OV 50%",null,27,"za",0,0,0,"zo",0,0,0,0,"za",0,0,27]
[4,"2019-01-27","2019-01-27",null,null,0,null,0,null,null,"zo",0,"",{"$f":"SUM(L30:L36)","v":0},{"$f":"SUM(H30:H36)","v":0},{"$f":"IF(N36>38,N36-38,0)","v":0},{"$f":"SUM(M30:M36)","v":0},{"$f":"SUM(I30:I36)","v":0},{"$f":"IF(N36>38,N36-38,0)","v":0},{"$f":"IF(P36>Q36,P36,Q36)","v":0},null,28,"zo",0,0,"za",0,0,"za",0,0,"zo",0,0,28]
[5,"2019-01-28","2019-01-28",null,null,0,0,0,null,null,null,0,"",null,null,null,null,null,null,null,null,29,0,null,0,"zo",0,0,"zo",0,"za",0,0,"za",29]
[5,"2019-01-29","2019-01-29",null,null,0,0,0,null,null,null,0,"",null,null,null,null,null,null,null,null,30,0,null,0,0,0,"za",0,0,"zo",0,0,"zo",30]
[5,"2019-01-30","2019-01-30",null,null,0,0,0,null,null,null,0,"",null,null,null,null,null,null,null,null,31,0,null,"za",null,"fd",null,0,0,null,0,null,0,31]
[5,"2019-01-31","2019-01-31",null,null,0,0,0,null,null,null,0,"",null,null,null,null,null,null,null,null,"WD",23,20,21,22,23,20,23,22,21,23,21,22,{"$f":"SUM(W40:AH40)","v":261}]
[5,"2019-02-01","2019-02-01",null,null,0,0,0,null,null,null,0,""]
[5,"2019-02-02","2019-02-02",null,null,0,null,0,null,null,"za",0,"","Week",null,"OV WEEK","OV DAG","Recup -","Recup +","OV 50%"]
[5,"2019-02-03","2019-02-03",null,null,0,null,0,null,null,"zo",0,"",{"$f":"SUM(L37:L43)","v":0},{"$f":"SUM(H37:H43)","v":0},{"$f":"IF(N43>38,N43-38,0)","v":0},{"$f":"SUM(M37:M43)","v":0},{"$f":"SUM(I37:I43)","v":0},{"$f":"IF(N43>38,N43-38,0)","v":0},{"$f":"IF(P43>Q43,P43,Q43)","v":0}]
[6,"2019-02-04","2019-02-04",null,null,0,0,0,null,null,null,0,""]
[6,"2019-02-05","2019-02-05",null,null,0,0,0,null,null,null,0,""]
[6,"2019-02-06","2019-02-06",null,null,0,0,0,null,null,null,0,""]
[6,"2019-02-07","2019-02-07",null,null,0,0,0,null,null,null,0,""]
[6,"2019-02-08","2019-02-08",null,null,0,0,0,null,null,null,0,""]
[6,"2019-02-09","2019-02-09",null,null,0,null,0,null,null,"za",0,"","Week",null,"OV WEEK","OV DAG","Recup -","Recup +","OV 50%"]
[6,"2019-02-10","2019-02-10",null,null,0,null,0,null,null,"zo",0,"",{"$f":"SUM(L44:L50)","v":0},{"$f":"SUM(H44:H50)","v":0},{"$f":"IF(N50>38,N50-38,0)","v":0},{"$f":"SUM(M44:M50)","v":0},{"$f":"SUM(I44:I50)","v":0},{"$f":"IF(N50>38,N50-38,0)","v":0},{"$f":"IF(P50>Q50,P50,Q50)","v":0}]
[7,"2019-02-11","2019-02-11",null,null,0,0,0,null,null,null,0,""]
[7,"2019-02-12","2019-02-12",null,null,0,0,0,null,null,null,0,""]
[7,"2019-02-13","2019-02-13",null,null,0,0,0,null,null,null,0,""]
[7,"2019-02-14","2019-02-14",null,null,0,0,0,null,null,null,0,""]
[7,"2019-02-15","2019-02-15",null,null,0,0,0,null,null,null,0,""]
[7,"2019-02-16","2019-02-16",null,null,0,null,0,null,null,"za",0,"","Week",null,"OV WEEK","OV DAG","Recup -","Recup +","OV 50%"]
[7,"2019-02-17","2019-02-17",null,null,0,null,0,null,null,"zo",0,"",{"$f":"SUM(L51:L57)","v":0},{"$f":"SUM(H51:H57)","v":0},{"$f":"IF(N57>38,N57-38,0)","v":0},{"$f":"SUM(M51:M57)","v":0},{"$f":"SUM(I51:I57)","v":0},{"$f":"IF(N57>38,N57-38,0)","v":0},{"$f":"IF(P57>Q57,P57,Q57)","v":0}]
[8,"2019-02-18","2019-02-18",null,null,0,0,0,null,null,null,0,""]
[8,"2019-02-19","2019-02-19",null,null,0,0,0,null,null,null,0,""]
[8,"2019-02-20","2019-02-20",null,null,0,0,0,null,null,null,0,""]
[8,"2019-02-21","2019-02-21",null,null,0,0,0,null,null,null,0,""]
[8,"2019-02-22","2019-02-22",null,null,0,0,0,null,null,null,0,""]
[8,"2019-02-23","2019-02-23",null,null,0,null,0,null,null,"za",0,"","Week",null,"OV WEEK","OV DAG","Recup -","Recup +","OV 50%"]
[8,"2019-02-24","2019-02-24",null,null,0,null,0,null,null,"zo",0,"",{"$f":"SUM(L58:L64)","v":0},{"$f":"SUM(H58:H64)","v":0},{"$f":"IF(N64>38,N64-38,0)","v":0},{"$f":"SUM(M58:M64)","v":0},{"$f":"SUM(I58:I64)","v":0},{"$f":"IF(N64>38,N64-38,0)","v":0},{"$f":"IF(P64>Q64,P64,Q64)","v":0}]
[9,"2019-02-25","2019-02-25",null,null,0,0,0,null,null,null,0,""]
[9,"2019-02-26","2019-02-26",null,null,0,0,0,null,null,null,0,""]
[9,"2019-02-27","2019-02-27",null,null,0,0,0,null,null,null,0,""]
[9,"2019-02-28","2019-02-28",null,null,0,0,0,null,null,null,0,""]
[9,"2019-03-01","2019-03-01",null,null,0,0,0,null,null,null,0,""]
[9,"2019-03-02","2019-03-02",null,null,0,null,0,null,null,"za",0,"","Week",null,"OV WEEK","OV DAG","Recup -","Recup +","OV 50%"]
[9,"2019-03-03","2019-03-03",null,null,0,null,0,null,null,"zo",0,"",{"$f":"SUM(L65:L71)","v":0},{"$f":"SUM(H65:H71)","v":0},{"$f":"IF(N71>38,N71-38,0)","v":0},{"$f":"SUM(M65:M71)","v":0},{"$f":"SUM(I65:I71)","v":0},{"$f":"IF(N71>38,N71-38,0)","v":0},{"$f":"IF(P71>Q71,P71,Q71)","v":0}]
[10,"2019-03-04","2019-03-04",null,null,0,0,0,null,null,null,0,""]
[10,"2019-03-05","2019-03-05",null,null,0,0,0,null,null,null,0,{"$f":"IF(L73>9,L73-9,\"\")","v":""}]
[{"$f":"WEEKNUM(C74,21)","v":10},{"$f":"C74","v":"2019-03-06"},"2019-03-06",null,null,{"$f":"(E74-D74)*24","v":0},{"$f":"IF(F74>=6,0.5,0)","v":0},{"$f":"F74-G74","v":0},null,null,null,{"$f":"SUM(H74:J74)","v":0},""]
[10,"2019-03-07","2019-03-07",null,null,0,0,0,null,null,null,0,""]
[10,"2019-03-08","2019-03-08",null,null,0,0,0,null,null,null,0,""]
[10,"2019-03-09","2019-03-09",null,null,0,null,0,null,null,"za",0,"","Week",null,"OV WEEK","OV DAG","Recup -","Recup +","OV 50%"]
[10,"2019-03-10","2019-03-10",null,null,0,null,0,null,null,"zo",0,"",{"$f":"SUM(L72:L78)","v":0},{"$f":"SUM(H72:H78)","v":0},{"$f":"IF(N78>38,N78-38,0)","v":0},{"$f":"SUM(M72:M78)","v":0},{"$f":"SUM(I72:I78)","v":0},{"$f":"IF(N78>38,N78-38,0)","v":0},{"$f":"IF(P78>Q78,P78,Q78)","v":0}]
[11,"2019-03-11","2019-03-11",null,null,0,0,0,null,null,null,0,""]
[11,"2019-03-12","2019-03-12",null,null,0,0,0,null,null,null,0,""]
[11,"2019-03-13","2019-03-13",null,null,0,0,0,null,null,null,0,""]
[11,"2019-03-14","2019-03-14",null,null,0,0,0,null,null,null,0,""]
[11,"2019-03-15","2019-03-15",null,null,0,0,0,null,null,null,0,""]
[11,"2019-03-16","2019-03-16",null,null,0,null,0,null,null,"za",0,"","Week",null,"OV WEEK","OV DAG","Recup -","Recup +","OV 50%"]
[11,"2019-03-17","2019-03-17",null,null,0,null,0,null,null,"zo",0,"",{"$f":"SUM(L79:L85)","v":0},{"$f":"SUM(H79:H85)","v":0},{"$f":"IF(N85>38,N85-38,0)","v":0},{"$f":"SUM(M79:M85)","v":0},{"$f":"SUM(I79:I85)","v":0},{"$f":"IF(N85>38,N85-38,0)","v":0},{"$f":"IF(P85>Q85,P85,Q85)","v":0}]
[12,"2019-03-18","2019-03-18",null,null,0,0,0,null,null,null,0,""]
[12,"2019-03-19","2019-03-19",null,null,0,0,0,null,null,null,0,""]
[12,"2019-03-20","2019-03-20",null,null,0,0,0,null,null,null,0,""]
[12,"2019-03-21","2019-03-21",null,null,0,0,0,null,null,null,0,""]
[12,"2019-03-22","2019-03-22",null,null,0,0,0,null,null,null,0,""]
[12,"2019-03-23","2019-03-23",null,null,0,null,0,null,null,"za",0,"","Week",null,"OV WEEK","OV DAG","Recup -","Recup +","OV 50%"]
[12,"2019-03-24","2019-03-24",null,null,0,null,0,null,null,"zo",0,"",{"$f":"SUM(L86:L92)","v":0},{"$f":"SUM(H86:H92)","v":0},{"$f":"IF(N92>38,N92-38,0)","v":0},{"$f":"SUM(M86:M92)","v":0},{"$f":"SUM(I86:I92)","v":0},{"$f":"IF(N92>38,N92-38,0)","v":0},{"$f":"IF(P92>Q92,P92,Q92)","v":0}]
[13,"2019-03-25","2019-03-25",null,null,0,0,0,null,null,null,0,""]
[13,"2019-03-26","2019-03-26",null,null,0,0,0,null,null,null,0,""]
[13,"2019-03-27","2019-03-27",null,null,0,0,0,null,null,null,0,""]
[13,"2019-03-28","2019-03-28",null,null,0,0,0,null,null,null,0,""]
[13,"2019-03-29","2019-03-29",null,null,0,0,0,null,null,null,0,""]
[13,"2019-03-30","2019-03-30",null,null,0,null,0,null,null,"za",0,"","Week",null,"OV WEEK","OV DAG","Recup -","Recup +","OV 50%"]
[13,"2019-03-31","2019-03-31",null,null,0,null,0,null,null,"zo",0,"",{"$f":"SUM(L93:L99)","v":0},{"$f":"SUM(H93:H99)","v":0},{"$f":"IF(N99>38,N99-38,0)","v":0},{"$f":"SUM(M93:M99)","v":0},{"$f":"SUM(I93:I99)","v":0},{"$f":"IF(N99>38,N99-38,0)","v":0},{"$f":"IF(P99>Q99,P99,Q99)","v":0}]
[14,"2019-04-01","2019-04-01",null,null,0,0,0,null,null,null,0,""]
[14,"2019-04-02","2019-04-02",null,null,0,0,0,null,null,null,0,""]
[14,"2019-04-03","2019-04-03",null,null,0,0,0,null,null,null,0,""]
[14,"2019-04-04","2019-04-04",null,null,0,0,0,null,null,null,0,""]
[14,"2019-04-05","2019-04-05",null,null,0,0,0,null,null,null,0,""]
[14,"2019-04-06","2019-04-06",null,null,0,null,0,null,null,"za",0,"","Week",null,"OV WEEK","OV DAG","Recup -","Recup +","OV 50%"]
[14,"2019-04-07","2019-04-07",null,null,0,null,0,null,null,"zo",0,"",{"$f":"SUM(L100:L106)","v":0},{"$f":"SUM(H100:H106)","v":0},{"$f":"IF(N106>38,N106-38,0)","v":0},{"$f":"SUM(M100:M106)","v":0},{"$f":"SUM(I100:I106)","v":0},{"$f":"IF(N106>38,N106-38,0)","v":0},{"$f":"IF(P106>Q106,P106,Q106)","v":0}]
[15,"2019-04-08","2019-04-08",null,null,0,0,0,null,null,null,0,""]
[15,"2019-04-09","2019-04-09",null,null,0,0,0,null,null,null,0,""]
[15,"2019-04-10","2019-04-10",null,null,0,0,0,null,null,null,0,""]
[15,"2019-04-11","2019-04-11",null,null,0,0,0,null,null,null,0,""]
[15,"2019-04-12","2019-04-12",null,null,0,0,0,null,null,null,0,""]
[15,"2019-04-13","2019-04-13",null,null,0,null,0,null,null,"za",0,"","Week",null,"OV WEEK","OV DAG","Recup -","Recup +","OV 50%"]
[15,"2019-04-14","2019-04-14",null,null,0,null,0,null,null,"zo",0,"",{"$f":"SUM(L107:L113)","v":0},{"$f":"SUM(H107:H113)","v":0},{"$f":"IF(N113>38,N113-38,0)","v":0},{"$f":"SUM(M107:M113)","v":0},{"$f":"SUM(I107:I113)","v":0},{"$f":"IF(N113>38,N113-38,0)","v":0},{"$f":"IF(P113>Q113,P113,Q113)","v":0}]
[16,"2019-04-15","2019-04-15",null,null,0,0,0,null,null,null,0,""]
[16,"2019-04-16","2019-04-16",null,null,0,0,0,null,null,null,0,""]
[16,"2019-04-17","2019-04-17",null,null,0,0,0,null,null,null,0,""]
[16,"2019-04-18","2019-04-18",null,null,0,0,0,null,null,null,0,""]
[16,"2019-04-19","2019-04-19",null,null,0,0,0,null,null,null,0,""]
[16,"2019-04-20","2019-04-20",null,null,0,null,0,null,null,"za",0,"","Week",null,"OV WEEK","OV DAG","Recup -","Recup +","OV 50%"]
[16,"2019-04-21","2019-04-21",null,null,0,null,0,null,null,"zo",0,"",{"$f":"SUM(L114:L120)","v":0},{"$f":"SUM(H114:H120)","v":0},{"$f":"IF(N120>38,N120-38,0)","v":0},{"$f":"SUM(M114:M120)","v":0},{"$f":"SUM(I114:I120)","v":0},{"$f":"IF(N120>38,N120-38,0)","v":0},{"$f":"IF(P120>Q120,P120,Q120)","v":0}]
[17,"2019-04-22","2019-04-22",null,null,0,0,0,null,7.6,"fd",7.6,""]
[17,"2019-04-23","2019-04-23",null,null,0,0,0,null,null,null,0,""]
[17,"2019-04-24","2019-04-24",null,null,0,0,0,null,null,null,0,""]
[17,"2019-04-25","2019-04-25",null,null,0,0,0,null,null,null,0,""]
[17,"2019-04-26","2019-04-26",null,null,0,0,0,null,null,null,0,""]
[17,"2019-04-27","2019-04-27",null,null,0,null,0,null,null,"za",0,"","Week",null,"OV WEEK","OV DAG","Recup -","Recup +","OV 50%"]
[17,"2019-04-28","2019-04-28",null,null,0,null,0,null,null,"zo",0,"",{"$f":"SUM(L121:L127)","v":7.6},{"$f":"SUM(H121:H127)","v":0},{"$f":"IF(N127>38,N127-38,0)","v":0},{"$f":"SUM(M121:M127)","v":0},{"$f":"SUM(I121:I127)","v":0},{"$f":"IF(N127>38,N127-38,0)","v":0},{"$f":"IF(P127>Q127,P127,Q127)","v":0}]
[18,"2019-04-29","2019-04-29",null,null,0,0,0,null,null,null,0,""]
[18,"2019-04-30","2019-04-30",null,null,0,0,0,null,null,null,0,""]
[18,"2019-05-01","2019-05-01",null,null,0,0,0,null,7.6,"fd",7.6,""]
[18,"2019-05-02","2019-05-02",null,null,0,0,0,null,null,null,0,""]
[18,"2019-05-03","2019-05-03",null,null,0,0,0,null,null,null,0,""]
[18,"2019-05-04","2019-05-04",null,null,0,null,0,null,null,"za",0,"","Week",null,"OV WEEK","OV DAG","Recup -","Recup +","OV 50%"]
[18,"2019-05-05","2019-05-05",null,null,0,null,0,null,null,"zo",0,"",{"$f":"SUM(L128:L134)","v":7.6},{"$f":"SUM(H128:H134)","v":0},{"$f":"IF(N134>38,N134-38,0)","v":0},{"$f":"SUM(M128:M134)","v":0},{"$f":"SUM(I128:I134)","v":0},{"$f":"IF(N134>38,N134-38,0)","v":0},{"$f":"IF(P134>Q134,P134,Q134)","v":0}]
[19,"2019-05-06","2019-05-06",null,null,0,0,0,null,null,null,0,""]
[19,"2019-05-07","2019-05-07",null,null,0,0,0,null,null,null,0,""]
[19,"2019-05-08","2019-05-08",null,null,0,0,0,null,null,null,0,{"$f":"IF(L137>9,L137-9,\"\")","v":""}]
[{"$f":"WEEKNUM(C138,21)","v":19},{"$f":"C138","v":"2019-05-09"},"2019-05-09",null,null,{"$f":"(E138-D138)*24","v":0},{"$f":"IF(F138>=6,0.5,0)","v":0},{"$f":"F138-G138","v":0},null,null,null,{"$f":"SUM(H138:J138)","v":0},""]
[19,"2019-05-10","2019-05-10",null,null,0,0,0,null,null,null,0,""]
[19,"2019-05-11","2019-05-11",null,null,0,null,0,null,null,"za",0,"","Week",null,"OV WEEK","OV DAG","Recup -","Recup +","OV 50%"]
[19,"2019-05-12","2019-05-12",null,null,0,null,0,null,null,"zo",0,"",{"$f":"SUM(L135:L141)","v":0},{"$f":"SUM(H135:H141)","v":0},{"$f":"IF(N141>38,N141-38,0)","v":0},{"$f":"SUM(M135:M141)","v":0},{"$f":"SUM(I135:I141)","v":0},{"$f":"IF(N141>38,N141-38,0)","v":0},{"$f":"IF(P141>Q141,P141,Q141)","v":0}]
[20,"2019-05-13","2019-05-13",null,null,0,0,0,null,null,null,0,""]
[20,"2019-05-14","2019-05-14",null,null,0,0,0,null,null,null,0,""]
[20,"2019-05-15","2019-05-15",null,null,0,0,0,null,null,null,0,""]
[20,"2019-05-16","2019-05-16",null,null,0,0,0,null,null,null,0,""]
[20,"2019-05-17","2019-05-17",null,null,0,0,0,null,null,null,0,""]
[20,"2019-05-18","2019-05-18",null,null,0,null,0,null,null,"za",0,"","Week",null,"OV WEEK","OV DAG","Recup -","Recup +","OV 50%"]
[20,"2019-05-19","2019-05-19",null,null,0,null,0,null,null,"zo",0,"",{"$f":"SUM(L142:L148)","v":0},{"$f":"SUM(H142:H148)","v":0},{"$f":"IF(N148>38,N148-38,0)","v":0},{"$f":"SUM(M142:M148)","v":0},{"$f":"SUM(I142:I148)","v":0},{"$f":"IF(N148>38,N148-38,0)","v":0},{"$f":"IF(P148>Q148,P148,Q148)","v":0}]
[21,"2019-05-20","2019-05-20",null,null,0,0,0,null,7.6,"fd",7.6,""]
[21,"2019-05-21","2019-05-21",null,null,0,0,0,null,null,null,0,""]
[21,"2019-05-22","2019-05-22",null,null,0,0,0,null,null,null,0,""]
[21,"2019-05-23","2019-05-23",null,null,0,0,0,null,null,null,0,""]
[21,"2019-05-24","2019-05-24",null,null,0,0,0,null,null,null,0,""]
[21,"2019-05-25","2019-05-25",null,null,0,null,0,null,null,"za",0,"","Week",null,"OV WEEK","OV DAG","Recup -","Recup +","OV 50%"]
[21,"2019-05-26","2019-05-26",null,null,0,null,0,null,null,"zo",0,"",{"$f":"SUM(L149:L155)","v":7.6},{"$f":"SUM(H149:H155)","v":0},{"$f":"IF(N155>38,N155-38,0)","v":0},{"$f":"SUM(M149:M155)","v":0},{"$f":"SUM(I149:I155)","v":0},{"$f":"IF(N155>38,N155-38,0)","v":0},{"$f":"IF(P155>Q155,P155,Q155)","v":0}]
[22,"2019-05-27","2019-05-27",null,null,0,0,0,null,null,null,0,""]
[22,"2019-05-28","2019-05-28",null,null,0,0,0,null,null,null,0,""]
[22,"2019-05-29","2019-05-29",null,null,0,0,0,null,null,null,0,""]
[22,"2019-05-30","2019-05-30",null,null,0,0,0,null,7.6,"fd",7.6,""]
[22,"2019-05-31","2019-05-31",null,null,0,0,0,null,null,null,0,""]
[22,"2019-06-01","2019-06-01",null,null,0,null,0,null,null,"za",0,"","Week",null,"OV WEEK","OV DAG","Recup -","Recup +","OV 50%"]
[22,"2019-06-02","2019-06-02",null,null,0,null,0,null,null,"zo",0,"",{"$f":"SUM(L156:L162)","v":7.6},{"$f":"SUM(H156:H162)","v":0},{"$f":"IF(N162>38,N162-38,0)","v":0},{"$f":"SUM(M156:M162)","v":0},{"$f":"SUM(I156:I162)","v":0},{"$f":"IF(N162>38,N162-38,0)","v":0},{"$f":"IF(P162>Q162,P162,Q162)","v":0}]
[23,"2019-06-03","2019-06-03",null,null,0,0,0,null,null,null,0,""]
[23,"2019-06-04","2019-06-04",null,null,0,0,0,null,null,null,0,""]
[23,"2019-06-05","2019-06-05",null,null,0,0,0,null,null,null,0,""]
[23,"2019-06-06","2019-06-06",null,null,0,0,0,null,null,null,0,""]
[23,"2019-06-07","2019-06-07",null,null,0,0,0,null,null,null,0,""]
[23,"2019-06-08","2019-06-08",null,null,0,null,0,null,null,"za",0,"","Week",null,"OV WEEK","OV DAG","Recup -","Recup +","OV 50%"]
[23,"2019-06-09","2019-06-09",null,null,0,null,0,null,null,"zo",0,"",{"$f":"SUM(L163:L169)","v":0},{"$f":"SUM(H163:H169)","v":0},{"$f":"IF(N169>38,N169-38,0)","v":0},{"$f":"SUM(M163:M169)","v":0},{"$f":"SUM(I163:I169)","v":0},{"$f":"IF(N169>38,N169-38,0)","v":0},{"$f":"IF(P169>Q169,P169,Q169)","v":0}]
[24,"2019-06-10","2019-06-10",null,null,0,0,0,null,7.6,"fd",7.6,""]
[24,"2019-06-11","2019-06-11",null,null,0,0,0,null,null,null,0,""]
[24,"2019-06-12","2019-06-12",null,null,0,0,0,null,null,null,0,""]
[24,"2019-06-13","2019-06-13",null,null,0,0,0,null,null,null,0,""]
[24,"2019-06-14","2019-06-14",null,null,0,0,0,null,null,null,0,""]
[24,"2019-06-15","2019-06-15",null,null,0,null,0,null,null,"za",0,"","Week",null,"OV WEEK","OV DAG","Recup -","Recup +","OV 50%"]
[24,"2019-06-16","2019-06-16",null,null,0,null,0,null,null,"zo",0,"",{"$f":"SUM(L170:L176)","v":7.6},{"$f":"SUM(H170:H176)","v":0},{"$f":"IF(N176>38,N176-38,0)","v":0},{"$f":"SUM(M170:M176)","v":0},{"$f":"SUM(I170:I176)","v":0},{"$f":"IF(N176>38,N176-38,0)","v":0},{"$f":"IF(P176>Q176,P176,Q176)","v":0}]
[25,"2019-06-17","2019-06-17",null,null,0,0,0,null,null,null,0,""]
[25,"2019-06-18","2019-06-18",null,null,0,0,0,null,null,null,0,""]
[25,"2019-06-19","2019-06-19",null,null,0,0,0,null,null,null,0,""]
[25,"2019-06-20","2019-06-20",null,null,0,0,0,null,null,null,0,""]
[25,"2019-06-21","2019-06-21",null,null,0,0,0,null,null,null,0,""]
[25,"2019-06-22","2019-06-22",null,null,0,null,0,null,null,"za",0,"","Week",null,"OV WEEK","OV DAG","Recup -","Recup +","OV 50%"]
[25,"2019-06-23","2019-06-23",null,null,0,null,0,null,null,"zo",0,"",{"$f":"SUM(L177:L183)","v":0},{"$f":"SUM(H177:H183)","v":0},{"$f":"IF(N183>38,N183-38,0)","v":0},{"$f":"SUM(M177:M183)","v":0},{"$f":"SUM(I177:I183)","v":0},{"$f":"IF(N183>38,N183-38,0)","v":0},{"$f":"IF(P183>Q183,P183,Q183)","v":0}]
[26,"2019-06-24","2019-06-24",null,null,0,0,0,null,null,null,0,""]
[26,"2019-06-25","2019-06-25",null,null,0,0,0,null,null,null,0,""]
[26,"2019-06-26","2019-06-26",null,null,0,0,0,null,null,null,0,""]
[26,"2019-06-27","2019-06-27",null,null,0,0,0,null,null,null,0,""]
[26,"2019-06-28","2019-06-28",null,null,0,0,0,null,null,null,0,""]
[26,"2019-06-29","2019-06-29",null,null,0,null,0,null,null,"za",0,"","Week",null,"OV WEEK","OV DAG","Recup -","Recup +","OV 50%"]
[26,"2019-06-30","2019-06-30",null,null,0,null,0,null,null,"zo",0,"",{"$f":"SUM(L184:L190)","v":0},{"$f":"SUM(H184:H190)","v":0},{"$f":"IF(N190>38,N190-38,0)","v":0},{"$f":"SUM(M184:M190)","v":0},{"$f":"SUM(I184:I190)","v":0},{"$f":"IF(N190>38,N190-38,0)","v":0},{"$f":"IF(P190>Q190,P190,Q190)","v":0}]
[27,"2019-07-01","2019-07-01",null,null,0,0,0,null,null,null,0,""]
[27,"2019-07-02","2019-07-02",null,null,0,0,0,null,null,null,0,""]
[27,"2019-07-03","2019-07-03",null,null,0,0,0,null,null,null,0,""]
[27,"2019-07-04","2019-07-04",null,null,0,0,0,null,null,null,0,""]
[27,"2019-07-05","2019-07-05",null,null,0,0,0,null,null,null,0,""]
[27,"2019-07-06","2019-07-06",null,null,0,null,0,null,null,"za",0,"","Week",null,"OV WEEK","OV DAG","Recup -","Recup +","OV 50%"]
[27,"2019-07-07","2019-07-07",null,null,0,null,0,null,null,"zo",0,"",{"$f":"SUM(L191:L197)","v":0},{"$f":"SUM(H191:H197)","v":0},{"$f":"IF(N197>38,N197-38,0)","v":0},{"$f":"SUM(M191:M197)","v":0},{"$f":"SUM(I191:I197)","v":0},{"$f":"IF(N197>38,N197-38,0)","v":0},{"$f":"IF(P197>Q197,P197,Q197)","v":0}]
[28,"2019-07-08","2019-07-08",null,null,0,0,0,null,null,null,0,""]
[28,"2019-07-09","2019-07-09",null,null,0,0,0,null,null,null,0,""]
[28,"2019-07-10","2019-07-10",null,null,0,0,0,null,null,null,0,""]
[28,"2019-07-11","2019-07-11",null,null,0,0,0,null,null,null,0,{"$f":"IF(L201>9,L201-9,\"\")","v":""}]
[{"$f":"WEEKNUM(C202,21)","v":28},{"$f":"C202","v":"2019-07-12"},"2019-07-12",null,null,{"$f":"(E202-D202)*24","v":0},{"$f":"IF(F202>=6,0.5,0)","v":0},{"$f":"F202-G202","v":0},null,null,null,{"$f":"SUM(H202:J202)","v":0},""]
[28,"2019-07-13","2019-07-13",null,null,0,null,0,null,null,"za",0,"","Week",null,"OV WEEK","OV DAG","Recup -","Recup +","OV 50%"]
[28,"2019-07-14","2019-07-14",null,null,0,null,0,null,null,"zo",0,"",{"$f":"SUM(L198:L204)","v":0},{"$f":"SUM(H198:H204)","v":0},{"$f":"IF(N204>38,N204-38,0)","v":0},{"$f":"SUM(M198:M204)","v":0},{"$f":"SUM(I198:I204)","v":0},{"$f":"IF(N204>38,N204-38,0)","v":0},{"$f":"IF(P204>Q204,P204,Q204)","v":0}]
[29,"2019-07-15","2019-07-15",null,null,0,0,0,null,null,null,0,""]
[29,"2019-07-16","2019-07-16",null,null,0,0,0,null,null,null,0,""]
[29,"2019-07-17","2019-07-17",null,null,0,0,0,null,null,null,0,""]
[29,"2019-07-18","2019-07-18",null,null,0,0,0,null,null,null,0,""]
[29,"2019-07-19","2019-07-19",null,null,0,0,0,null,null,null,0,""]
[29,"2019-07-20","2019-07-20",null,null,0,null,0,null,null,"za",0,"","Week",null,"OV WEEK","OV DAG","Recup -","Recup +","OV 50%"]
[29,"2019-07-21","2019-07-21",null,null,0,null,0,null,null,"zo",0,"",{"$f":"SUM(L205:L211)","v":0},{"$f":"SUM(H205:H211)","v":0},{"$f":"IF(N211>38,N211-38,0)","v":0},{"$f":"SUM(M205:M211)","v":0},{"$f":"SUM(I205:I211)","v":0},{"$f":"IF(N211>38,N211-38,0)","v":0},{"$f":"IF(P211>Q211,P211,Q211)","v":0}]
[30,"2019-07-22","2019-07-22",null,null,0,0,0,null,null,null,0,""]
[30,"2019-07-23","2019-07-23",null,null,0,0,0,null,null,null,0,""]
[30,"2019-07-24","2019-07-24",null,null,0,0,0,null,null,null,0,""]
[30,"2019-07-25","2019-07-25",null,null,0,0,0,null,null,null,0,""]
[30,"2019-07-26","2019-07-26",null,null,0,0,0,null,null,null,0,""]
[30,"2019-07-27","2019-07-27",null,null,0,null,0,null,null,"za",0,"","Week",null,"OV WEEK","OV DAG","Recup -","Recup +","OV 50%"]
[30,"2019-07-28","2019-07-28",null,null,0,null,0,null,null,"zo",0,"",{"$f":"SUM(L212:L218)","v":0},{"$f":"SUM(H212:H218)","v":0},{"$f":"IF(N218>38,N218-38,0)","v":0},{"$f":"SUM(M212:M218)","v":0},{"$f":"SUM(I212:I218)","v":0},{"$f":"IF(N218>38,N218-38,0)","v":0},{"$f":"IF(P218>Q218,P218,Q218)","v":0}]
[31,"2019-07-29","2019-07-29",null,null,0,0,0,null,null,null,0,""]
[31,"2019-07-30","2019-07-30",null,null,0,0,0,null,null,null,0,""]
[31,"2019-07-31","2019-07-31",null,null,0,0,0,null,null,null,0,""]
[31,"2019-08-01","2019-08-01",null,null,0,0,0,null,null,null,0,""]
[31,"2019-08-02","2019-08-02",null,null,0,0,0,null,null,null,0,""]
[31,"2019-08-03","2019-08-03",null,null,0,null,0,null,null,"za",0,"","Week",null,"OV WEEK","OV DAG","Recup -","Recup +","OV 50%"]
[31,"2019-08-04","2019-08-04",null,null,0,null,0,null,null,"zo",0,"",{"$f":"SUM(L219:L225)","v":0},{"$f":"SUM(H219:H225)","v":0},{"$f":"IF(N225>38,N225-38,0)","v":0},{"$f":"SUM(M219:M225)","v":0},{"$f":"SUM(I219:I225)","v":0},{"$f":"IF(N225>38,N225-38,0)","v":0},{"$f":"IF(P225>Q225,P225,Q225)","v":0}]
[32,"2019-08-05","2019-08-05",null,null,0,0,0,null,null,null,0,""]
[32,"2019-08-06","2019-08-06",null,null,0,0,0,null,null,null,0,""]
[32,"2019-08-07","2019-08-07",null,null,0,0,0,null,null,null,0,""]
[32,"2019-08-08","2019-08-08",null,null,0,0,0,null,null,null,0,""]
[32,"2019-08-09","2019-08-09",null,null,0,0,0,null,null,null,0,""]
[32,"2019-08-10","2019-08-10",null,null,0,null,0,null,null,"za",0,"","Week",null,"OV WEEK","OV DAG","Recup -","Recup +","OV 50%"]
[32,"2019-08-11","2019-08-11",null,null,0,null,0,null,null,"zo",0,"",{"$f":"SUM(L226:L232)","v":0},{"$f":"SUM(H226:H232)","v":0},{"$f":"IF(N232>38,N232-38,0)","v":0},{"$f":"SUM(M226:M232)","v":0},{"$f":"SUM(I226:I232)","v":0},{"$f":"IF(N232>38,N232-38,0)","v":0},{"$f":"IF(P232>Q232,P232,Q232)","v":0}]
[33,"2019-08-12","2019-08-12",null,null,0,0,0,null,null,null,0,""]
[33,"2019-08-13","2019-08-13",null,null,0,0,0,null,null,null,0,""]
[33,"2019-08-14","2019-08-14",null,null,0,0,0,null,null,null,0,""]
[33,"2019-08-15","2019-08-15",null,null,0,0,0,null,7.6,"fd",7.6,""]
[33,"2019-08-16","2019-08-16",null,null,0,0,0,null,null,null,0,""]
[33,"2019-08-17","2019-08-17",null,null,0,null,0,null,null,"za",0,"","Week",null,"OV WEEK","OV DAG","Recup -","Recup +","OV 50%"]
[33,"2019-08-18","2019-08-18",null,null,0,null,0,null,null,"zo",0,"",{"$f":"SUM(L233:L239)","v":7.6},{"$f":"SUM(H233:H239)","v":0},{"$f":"IF(N239>38,N239-38,0)","v":0},{"$f":"SUM(M233:M239)","v":0},{"$f":"SUM(I233:I239)","v":0},{"$f":"IF(N239>38,N239-38,0)","v":0},{"$f":"IF(P239>Q239,P239,Q239)","v":0}]
[34,"2019-08-19","2019-08-19",null,null,0,0,0,null,null,null,0,""]
[34,"2019-08-20","2019-08-20",null,null,0,{"$f":"IF(F241>=6,0.5,0)","v":0},0,null,null,null,0,""]
[34,"2019-08-21","2019-08-21",null,null,0,0,0,null,null,null,0,""]
[34,"2019-08-22","2019-08-22",null,null,0,0,0,null,null,null,0,""]
[34,"2019-08-23","2019-08-23",null,null,0,0,0,null,null,null,0,""]
[34,"2019-08-24","2019-08-24",null,null,0,null,0,null,null,"za",0,"","Week",null,"OV WEEK","OV DAG","Recup -","Recup +","OV 50%"]
[34,"2019-08-25","2019-08-25",null,null,0,null,0,null,null,"zo",0,"",{"$f":"SUM(L240:L246)","v":0},{"$f":"SUM(H240:H246)","v":0},{"$f":"IF(N246>38,N246-38,0)","v":0},{"$f":"SUM(M240:M246)","v":0},{"$f":"SUM(I240:I246)","v":0},{"$f":"IF(N246>38,N246-38,0)","v":0},{"$f":"IF(P246>Q246,P246,Q246)","v":0}]
[35,"2019-08-26","2019-08-26",null,null,0,0,0,null,null,null,0,""]
[35,"2019-08-27","2019-08-27",null,null,0,0,0,null,null,null,0,""]
[35,"2019-08-28","2019-08-28",null,null,0,0,0,null,null,null,0,""]
[35,"2019-08-29","2019-08-29",null,null,0,0,0,null,null,null,0,""]
[35,"2019-08-30","2019-08-30",null,null,0,0,0,null,null,null,0,""]
[35,"2019-08-31","2019-08-31",null,null,0,null,0,null,null,"za",0,"","Week",null,"OV WEEK","OV DAG","Recup -","Recup +","OV 50%"]
[35,"2019-09-01","2019-09-01",null,null,0,null,0,null,null,"zo",0,"",{"$f":"SUM(L247:L253)","v":0},{"$f":"SUM(H247:H253)","v":0},{"$f":"IF(N253>38,N253-38,0)","v":0},{"$f":"SUM(M247:M253)","v":0},{"$f":"SUM(I247:I253)","v":0},{"$f":"IF(N253>38,N253-38,0)","v":0},{"$f":"IF(P253>Q253,P253,Q253)","v":0}]
[36,"2019-09-02","2019-09-02",null,null,0,0,0,null,null,null,0,""]
[36,"2019-09-03","2019-09-03",null,null,0,0,0,null,null,null,0,""]
[36,"2019-09-04","2019-09-04",null,null,0,0,0,null,null,null,0,""]
[36,"2019-09-05","2019-09-05",null,null,0,0,0,null,null,null,0,""]
[36,"2019-09-06","2019-09-06",null,null,0,0,0,null,null,null,0,""]
[36,"2019-09-07","2019-09-07",null,null,0,null,0,null,null,"za",0,"","Week",null,"OV WEEK","OV DAG","Recup -","Recup +","OV 50%"]
[36,"2019-09-08","2019-09-08",null,null,0,null,0,null,null,"zo",0,"",{"$f":"SUM(L254:L260)","v":0},{"$f":"SUM(H254:H260)","v":0},{"$f":"IF(N260>38,N260-38,0)","v":0},{"$f":"SUM(M254:M260)","v":0},{"$f":"SUM(I254:I260)","v":0},{"$f":"IF(N260>38,N260-38,0)","v":0},{"$f":"IF(P260>Q260,P260,Q260)","v":0}]
[37,"2019-09-09","2019-09-09",null,null,0,0,0,null,null,null,0,""]
[37,"2019-09-10","2019-09-10",null,null,0,0,0,null,null,null,0,""]
[37,"2019-09-11","2019-09-11",null,null,0,0,0,null,null,null,0,""]
[37,"2019-09-12","2019-09-12",null,null,0,0,0,null,null,null,0,""]
[37,"2019-09-13","2019-09-13",null,null,0,0,0,null,null,null,0,{"$f":"IF(L265>9,L265-9,\"\")","v":""}]
[{"$f":"WEEKNUM(C266,21)","v":37},{"$f":"C266","v":"2019-09-14"},"2019-09-14",null,null,{"$f":"(E266-D266)*24","v":0},null,{"$f":"F266-G266","v":0},null,null,"za",{"$f":"SUM(H266:J266)","v":0},"","Week",null,"OV WEEK","OV DAG","Recup -","Recup +","OV 50%"]
[37,"2019-09-15","2019-09-15",null,null,0,null,0,null,null,"zo",0,"",{"$f":"SUM(L261:L267)","v":0},{"$f":"SUM(H261:H267)","v":0},{"$f":"IF(N267>38,N267-38,0)","v":0},{"$f":"SUM(M261:M267)","v":0},{"$f":"SUM(I261:I267)","v":0},{"$f":"IF(N267>38,N267-38,0)","v":0},{"$f":"IF(P267>Q267,P267,Q267)","v":0}]
[38,"2019-09-16","2019-09-16",null,null,0,{"$f":"IF(F268>=6,0.5,0)","v":0},0,null,null,null,0,""]
[38,"2019-09-17","2019-09-17",null,null,0,0,0,null,null,null,0,""]
[38,"2019-09-18","2019-09-18",null,null,0,0,0,null,null,null,0,""]
[38,"2019-09-19","2019-09-19",null,null,0,0,0,null,null,null,0,""]
[38,"2019-09-20","2019-09-20",null,null,0,0,0,null,null,null,0,""]
[38,"2019-09-21","2019-09-21",null,null,0,null,0,null,null,"za",0,"","Week",null,"OV WEEK","OV DAG","Recup -","Recup +","OV 50%"]
[38,"2019-09-22","2019-09-22",null,null,0,null,0,null,null,"zo",0,"",{"$f":"SUM(L268:L274)","v":0},{"$f":"SUM(H268:H274)","v":0},{"$f":"IF(N274>38,N274-38,0)","v":0},{"$f":"SUM(M268:M274)","v":0},{"$f":"SUM(I268:I274)","v":0},{"$f":"IF(N274>38,N274-38,0)","v":0},{"$f":"IF(P274>Q274,P274,Q274)","v":0}]
[39,"2019-09-23","2019-09-23",null,null,0,0,0,null,null,null,0,""]
[39,"2019-09-24","2019-09-24",null,null,0,0,0,null,null,null,0,""]
[39,"2019-09-25","2019-09-25",null,null,0,0,0,null,null,null,0,""]
[39,"2019-09-26","2019-09-26",null,null,0,0,0,null,null,null,0,""]
[39,"2019-09-27","2019-09-27",null,null,0,0,0,null,null,null,0,""]
[39,"2019-09-28","2019-09-28",null,null,0,null,0,null,null,"za",0,"","Week",null,"OV WEEK","OV DAG","Recup -","Recup +","OV 50%"]
[39,"2019-09-29","2019-09-29",null,null,0,null,0,null,null,"zo",0,"",{"$f":"SUM(L275:L281)","v":0},{"$f":"SUM(H275:H281)","v":0},{"$f":"IF(N281>38,N281-38,0)","v":0},{"$f":"SUM(M275:M281)","v":0},{"$f":"SUM(I275:I281)","v":0},{"$f":"IF(N281>38,N281-38,0)","v":0},{"$f":"IF(P281>Q281,P281,Q281)","v":0}]
[40,"2019-09-30","2019-09-30",null,null,0,0,0,null,null,null,0,""]
[40,"2019-10-01","2019-10-01",null,null,0,0,0,null,null,null,0,""]
[40,"2019-10-02","2019-10-02",null,null,0,0,0,null,null,null,0,""]
[40,"2019-10-03","2019-10-03",null,null,0,0,0,null,null,null,0,""]
[40,"2019-10-04","2019-10-04",null,null,0,0,0,null,null,null,0,""]
[40,"2019-10-05","2019-10-05",null,null,0,null,0,null,null,"za",0,"","Week",null,"OV WEEK","OV DAG","Recup -","Recup +","OV 50%"]
[40,"2019-10-06","2019-10-06",null,null,0,null,0,null,null,"zo",0,"",{"$f":"SUM(L282:L288)","v":0},{"$f":"SUM(H282:H288)","v":0},{"$f":"IF(N288>38,N288-38,0)","v":0},{"$f":"SUM(M282:M288)","v":0},{"$f":"SUM(I282:I288)","v":0},{"$f":"IF(N288>38,N288-38,0)","v":0},{"$f":"IF(P288>Q288,P288,Q288)","v":0}]
[41,"2019-10-07","2019-10-07",null,null,0,0,0,null,null,null,0,""]
[41,"2019-10-08","2019-10-08",null,null,0,0,0,null,null,null,0,""]
[41,"2019-10-09","2019-10-09",null,null,0,0,0,null,null,null,0,""]
[41,"2019-10-10","2019-10-10",null,null,0,0,0,null,null,null,0,""]
[41,"2019-10-11","2019-10-11",null,null,0,0,0,null,null,null,0,""]
[41,"2019-10-12","2019-10-12",null,null,0,null,0,null,null,"za",0,"","Week",null,"OV WEEK","OV DAG","Recup -","Recup +","OV 50%"]
[41,"2019-10-13","2019-10-13",null,null,0,null,0,null,null,"zo",0,"",{"$f":"SUM(L289:L295)","v":0},{"$f":"SUM(H289:H295)","v":0},{"$f":"IF(N295>38,N295-38,0)","v":0},{"$f":"SUM(M289:M295)","v":0},{"$f":"SUM(I289:I295)","v":0},{"$f":"IF(N295>38,N295-38,0)","v":0},{"$f":"IF(P295>Q295,P295,Q295)","v":0}]
[42,"2019-10-14","2019-10-14",null,null,0,0,0,null,null,null,0,""]
[42,"2019-10-15","2019-10-15",null,null,0,0,0,null,null,null,0,""]
[42,"2019-10-16","2019-10-16",null,null,0,0,0,null,null,null,0,""]
[42,"2019-10-17","2019-10-17",null,null,0,0,0,null,null,null,0,""]
[42,"2019-10-18","2019-10-18",null,null,0,0,0,null,null,null,0,""]
[42,"2019-10-19","2019-10-19",null,null,0,null,0,null,null,"za",0,"","Week",null,"OV WEEK","OV DAG","Recup -","Recup +","OV 50%"]
[42,"2019-10-20","2019-10-20",null,null,0,null,0,null,null,"zo",0,"",{"$f":"SUM(L296:L302)","v":0},{"$f":"SUM(H296:H302)","v":0},{"$f":"IF(N302>38,N302-38,0)","v":0},{"$f":"SUM(M296:M302)","v":0},{"$f":"SUM(I296:I302)","v":0},{"$f":"IF(N302>38,N302-38,0)","v":0},{"$f":"IF(P302>Q302,P302,Q302)","v":0}]
[43,"2019-10-21","2019-10-21",null,null,0,0,0,null,null,null,0,""]
[43,"2019-10-22","2019-10-22",null,null,0,0,0,null,null,null,0,""]
[43,"2019-10-23","2019-10-23",null,null,0,0,0,null,null,null,0,""]
[43,"2019-10-24","2019-10-24",null,null,0,0,0,null,null,null,0,""]
[43,"2019-10-25","2019-10-25",null,null,0,0,0,null,null,null,0,""]
[43,"2019-10-26","2019-10-26",null,null,0,null,0,null,null,"za",0,"","Week",null,"OV WEEK","OV DAG","Recup -","Recup +","OV 50%"]
[43,"2019-10-27","2019-10-27",null,null,0,null,0,null,null,"zo",0,"",{"$f":"SUM(L303:L309)","v":0},{"$f":"SUM(H303:H309)","v":0},{"$f":"IF(N309>38,N309-38,0)","v":0},{"$f":"SUM(M303:M309)","v":0},{"$f":"SUM(I303:I309)","v":0},{"$f":"IF(N309>38,N309-38,0)","v":0},{"$f":"IF(P309>Q309,P309,Q309)","v":0}]
[44,"2019-10-28","2019-10-28",null,null,0,0,0,null,null,null,0,""]
[44,"2019-10-29","2019-10-29",null,null,0,0,0,null,null,null,0,""]
[44,"2019-10-30","2019-10-30",null,null,0,0,0,null,null,null,0,""]
[44,"2019-10-31","2019-10-31",null,null,0,0,0,null,null,null,0,""]
[44,"2019-11-01","2019-11-01",null,null,0,0,0,null,7.6,"fd",7.6,""]
[44,"2019-11-02","2019-11-02",null,null,0,null,0,null,null,"za",0,"","Week",null,"OV WEEK","OV DAG","Recup -","Recup +","OV 50%"]
[44,"2019-11-03","2019-11-03",null,null,0,null,0,null,null,"zo",0,"",{"$f":"SUM(L310:L316)","v":7.6},{"$f":"SUM(H310:H316)","v":0},{"$f":"IF(N316>38,N316-38,0)","v":0},{"$f":"SUM(M310:M316)","v":0},{"$f":"SUM(I310:I316)","v":0},{"$f":"IF(N316>38,N316-38,0)","v":0},{"$f":"IF(P316>Q316,P316,Q316)","v":0}]
[45,"2019-11-04","2019-11-04",null,null,0,0,0,null,null,null,0,""]
[45,"2019-11-05","2019-11-05",null,null,0,0,0,null,null,null,0,""]
[45,"2019-11-06","2019-11-06",null,null,0,0,0,null,null,null,0,""]
[45,"2019-11-07","2019-11-07",null,null,0,0,0,null,null,null,0,""]
[45,"2019-11-08","2019-11-08",null,null,0,0,0,null,null,null,0,""]
[45,"2019-11-09","2019-11-09",null,null,0,null,0,null,null,"za",0,"","Week",null,"OV WEEK","OV DAG","Recup -","Recup +","OV 50%"]
[45,"2019-11-10","2019-11-10",null,null,0,null,0,null,null,"zo",0,"",{"$f":"SUM(L317:L323)","v":0},{"$f":"SUM(H317:H323)","v":0},{"$f":"IF(N323>38,N323-38,0)","v":0},{"$f":"SUM(M317:M323)","v":0},{"$f":"SUM(I317:I323)","v":0},{"$f":"IF(N323>38,N323-38,0)","v":0},{"$f":"IF(P323>Q323,P323,Q323)","v":0}]
[46,"2019-11-11","2019-11-11",null,null,0,0,0,null,7.6,"fd",7.6,""]
[46,"2019-11-12","2019-11-12",null,null,0,0,0,null,null,null,0,""]
[46,"2019-11-13","2019-11-13",null,null,0,0,0,null,null,null,0,""]
[46,"2019-11-14","2019-11-14",null,null,0,0,0,null,null,null,0,""]
[46,"2019-11-15","2019-11-15",null,null,0,0,0,null,null,null,0,""]
[46,"2019-11-16","2019-11-16",null,null,0,null,0,null,null,"za",0,{"$f":"IF(L329>9,L329-9,\"\")","v":""},"Week",null,"OV WEEK","OV DAG","Recup -","Recup +","OV 50%"]
[{"$f":"WEEKNUM(C330,21)","v":46},{"$f":"C330","v":"2019-11-17"},"2019-11-17",null,null,{"$f":"(E330-D330)*24","v":0},null,{"$f":"F330-G330","v":0},null,null,"zo",{"$f":"SUM(H330:J330)","v":0},"",{"$f":"SUM(L324:L330)","v":7.6},{"$f":"SUM(H324:H330)","v":0},{"$f":"IF(N330>38,N330-38,0)","v":0},{"$f":"SUM(M324:M330)","v":0},{"$f":"SUM(I324:I330)","v":0},{"$f":"IF(N330>38,N330-38,0)","v":0},{"$f":"IF(P330>Q330,P330,Q330)","v":0}]
[47,"2019-11-18","2019-11-18",null,null,0,{"$f":"IF(F331>=6,0.5,0)","v":0},0,null,null,null,0,""]
[47,"2019-11-19","2019-11-19",null,null,0,0,0,null,null,null,0,""]
[47,"2019-11-20","2019-11-20",null,null,0,0,0,null,null,null,0,""]
[47,"2019-11-21","2019-11-21",null,null,0,0,0,null,null,null,0,""]
[47,"2019-11-22","2019-11-22",null,null,0,0,0,null,null,null,0,""]
[47,"2019-11-23","2019-11-23",null,null,0,null,0,null,null,"za",0,"","Week",null,"OV WEEK","OV DAG","Recup -","Recup +","OV 50%"]
[47,"2019-11-24","2019-11-24",null,null,0,null,0,null,null,"zo",0,"",{"$f":"SUM(L331:L337)","v":0},{"$f":"SUM(H331:H337)","v":0},{"$f":"IF(N337>38,N337-38,0)","v":0},{"$f":"SUM(M331:M337)","v":0},{"$f":"SUM(I331:I337)","v":0},{"$f":"IF(N337>38,N337-38,0)","v":0},{"$f":"IF(P337>Q337,P337,Q337)","v":0}]
[48,"2019-11-25","2019-11-25",null,null,0,0,0,null,null,null,0,""]
[48,"2019-11-26","2019-11-26",null,null,0,0,0,null,null,null,0,""]
[48,"2019-11-27","2019-11-27",null,null,0,0,0,null,null,null,0,""]
[48,"2019-11-28","2019-11-28",null,null,0,0,0,null,null,null,0,""]
[48,"2019-11-29","2019-11-29",null,null,0,0,0,null,null,null,0,""]
[48,"2019-11-30","2019-11-30",null,null,0,null,0,null,null,"za",0,"","Week",null,"OV WEEK","OV DAG","Recup -","Recup +","OV 50%"]
[48,"2019-12-01","2019-12-01",null,null,0,null,0,null,null,"zo",0,"",{"$f":"SUM(L338:L344)","v":0},{"$f":"SUM(H338:H344)","v":0},{"$f":"IF(N344>38,N344-38,0)","v":0},{"$f":"SUM(M338:M344)","v":0},{"$f":"SUM(I338:I344)","v":0},{"$f":"IF(N344>38,N344-38,0)","v":0},{"$f":"IF(P344>Q344,P344,Q344)","v":0}]
[49,"2019-12-02","2019-12-02",null,null,0,0,0,null,null,null,0,""]
[49,"2019-12-03","2019-12-03",null,null,0,0,0,null,null,null,0,""]
[49,"2019-12-04","2019-12-04",null,null,0,0,0,null,null,null,0,""]
[49,"2019-12-05","2019-12-05",null,null,0,0,0,null,null,null,0,""]
[49,"2019-12-06","2019-12-06",null,null,0,0,0,null,null,null,0,""]
[49,"2019-12-07","2019-12-07",null,null,0,null,0,null,null,"za",0,"","Week",null,"OV WEEK","OV DAG","Recup -","Recup +","OV 50%"]
[49,"2019-12-08","2019-12-08",null,null,0,null,0,null,null,"zo",0,"",{"$f":"SUM(L345:L351)","v":0},{"$f":"SUM(H345:H351)","v":0},{"$f":"IF(N351>38,N351-38,0)","v":0},{"$f":"SUM(M345:M351)","v":0},{"$f":"SUM(I345:I351)","v":0},{"$f":"IF(N351>38,N351-38,0)","v":0},{"$f":"IF(P351>Q351,P351,Q351)","v":0}]
[50,"2019-12-09","2019-12-09",null,null,0,0,0,null,null,null,0,""]
[50,"2019-12-10","2019-12-10",null,null,0,0,0,null,null,null,0,""]
[50,"2019-12-11","2019-12-11",null,null,0,0,0,null,null,null,0,""]
[50,"2019-12-12","2019-12-12",null,null,0,0,0,null,null,null,0,""]
[50,"2019-12-13","2019-12-13",null,null,0,0,0,null,null,null,0,""]
[50,"2019-12-14","2019-12-14",null,null,0,null,0,null,null,"za",0,"","Week",null,"OV WEEK","OV DAG","Recup -","Recup +","OV 50%"]
[50,"2019-12-15","2019-12-15",null,null,0,null,0,null,null,"zo",0,"",{"$f":"SUM(L352:L358)","v":0},{"$f":"SUM(H352:H358)","v":0},{"$f":"IF(N358>38,N358-38,0)","v":0},{"$f":"SUM(M352:M358)","v":0},{"$f":"SUM(I352:I358)","v":0},{"$f":"IF(N358>38,N358-38,0)","v":0},{"$f":"IF(P358>Q358,P358,Q358)","v":0}]
[51,"2019-12-16","2019-12-16",null,null,0,0,0,null,null,null,0,""]
[51,"2019-12-17","2019-12-17",null,null,0,0,0,null,null,null,0,""]
[51,"2019-12-18","2019-12-18",null,null,0,0,0,null,null,null,0,""]
[51,"2019-12-19","2019-12-19",null,null,0,0,0,null,null,null,0,""]
[51,"2019-12-20","2019-12-20",null,null,0,0,0,null,null,null,0,""]
[51,"2019-12-21","2019-12-21",null,null,0,null,0,null,null,"za",0,"","Week",null,"OV WEEK","OV DAG","Recup -","Recup +","OV 50%"]
[51,"2019-12-22","2019-12-22",null,null,0,null,0,null,null,"zo",0,"",{"$f":"SUM(L359:L365)","v":0},{"$f":"SUM(H359:H365)","v":0},{"$f":"IF(N365>38,N365-38,0)","v":0},{"$f":"SUM(M359:M365)","v":0},{"$f":"SUM(I359:I365)","v":0},{"$f":"IF(N365>38,N365-38,0)","v":0},{"$f":"IF(P365>Q365,P365,Q365)","v":0}]
[52,"2019-12-23","2019-12-23",null,null,0,0,0,null,null,null,0,""]
[52,"2019-12-24","2019-12-24",null,null,0,0,0,null,null,null,0,""]
[52,"2019-12-25","2019-12-25",null,null,0,0,0,null,7.6,"fd",7.6,""]
[52,"2019-12-26","2019-12-26",null,null,0,0,0,null,null,null,0,""]
[52,"2019-12-27","2019-12-27",null,null,0,0,0,null,null,null,0,""]
[52,"2019-12-28","2019-12-28",null,null,0,null,0,null,null,"za",0,"","Week",null,"OV WEEK","OV DAG","Recup -","Recup +","OV 50%"]
[52,"2019-12-29","2019-12-29",null,null,0,null,0,null,null,"zo",0,"",{"$f":"SUM(L366:L372)","v":7.6},{"$f":"SUM(H366:H372)","v":0},{"$f":"IF(N372>38,N372-38,0)","v":0},{"$f":"SUM(M366:M372)","v":0},{"$f":"SUM(I366:I372)","v":0},{"$f":"IF(N372>38,N372-38,0)","v":0},{"$f":"IF(P372>Q372,P372,Q372)","v":0}]
[1,"2019-12-30","2019-12-30",null,null,0,0,0,null,null,null,0,""]
[1,"2019-12-31","2019-12-31",null,null,0,0,0,null,null,null,0,""]
[1,"2020-01-01","2020-01-01",null,null,0,0,0,null,7.6,"fd",7.6,""]
[1,"2020-01-02","2020-01-02",null,null,0,0,0,null,null,null,0,""]
[1,"2020-01-03","2020-01-03",null,null,0,0,0,null,null,null,0,""]
[1,"2020-01-04","2020-01-04",null,null,0,null,0,null,null,"za",0,"","Week",null,"OV WEEK","OV DAG","Recup -","Recup +","OV 50%"]
[1,"2020-01-05","2020-01-05",null,null,0,null,0,null,null,"zo",0,"",{"$f":"SUM(L373:L379)","v":7.6},{"$f":"SUM(H373:H379)","v":0},{"$f":"IF(N379>38,N379-38,0)","v":0},{"$f":"SUM(M373:M379)","v":0},{"$f":"SUM(I373:I379)","v":0},{"$f":"IF(N379>38,N379-38,0)","v":0},{"$f":"IF(P379>Q379,P379,Q379)","v":0}]

{"sheet":"54","index":10,"n_rows":379,"n_cols":35,"rows_kept":379,"cut":false,"hidden":false,"merged":[[6,21,6,24],[6,25,6,28],[6,29,6,32],[6,33,6,34],[0,1,1,12],[4,21,4,23],[4,25,4,28],[4,29,4,32],[4,33,4,34],[5,21,5,23],[5,25,5,28],[5,29,5,32],[5,33,5,34],[2,21,2,23],[2,25,2,28],[2,29,2,32],[2,33,2,34],[3,21,3,23],[3,25,3,28],[3,29,3,32],[3,33,3,34],[0,21,0,24],[0,25,0,28],[0,29,0,32],[0,33,0,34],[1,21,1,23],[1,25,1,28],[1,29,1,32],[1,33,1,34]]}
["54","Karaca Ramazan",null,null,null,null,null,null,null,null,null,null,null,null,null,null,null,null,null,null,null,"Soort",null,null,null,"Recht op",null,null,null,"Opgenomen",null,null,null,"Saldo"]
[null,null,null,null,null,null,null,null,null,null,null,null,null,null,null,null,null,null,null,null,null,"ADV-dagen",null,null,"adv",null,null,null,null,{"$f":"(COUNTIF(W$9:AH$39,\"ADV\")+(COUNTIF(W$9:AH$39,\"0,5ADV\"))/2)","v":0},null,null,null,{"$f":"Z2-AD2","v":0}]
[null,null,null,null,null,null,null,null,null,null,null,null,null,null,null,null,null,null,null,null,null,"Vakantie 2019",null,null,"v",null,null,null,null,{"$f":"(COUNTIF(W$9:AH$39,\"V\")+(COUNTIF(W$9:AH$39,\"0,5V\"))/2)","v":0},null,null,null,{"$f":"Z3-AD3","v":0}]
[null,null,"40-uren week",null,null,null,null,null,null,null,null,null,null,"Feestdag in weekend 2019",null,null,null,null,"Recup 2018",6,null,"Feestdag 2019",null,null,"f",1,null,null,null,{"$f":"(COUNTIF(W$9:AH$39,\"F\")+(COUNTIF(W$9:AH$39,\"0,5F\"))/2)","v":0},null,null,null,1]
[null,null,null,null,null,null,null,null,null,null,null,null,null,"- nationale feestdag 21/7",null,null,null,null,null,null,null,"Vakantie rest 2018",null,null,"vvj",null,null,null,null,{"$f":"(COUNTIF(W$9:AH$39,\"vvj\")+(COUNTIF(W$9:AH$39,\"0,5vvj\"))/2)","v":0},null,null,null,0]
[null,null,null,null,null,null,null,null,null,null,null,null,null,null,null,null,null,null,"Recup",{"$f":"SUM(S9:S379)-SUM(R9:R379)+T5+T4","v":6},null,"Anciënniteitsdagen",null,null,"a ",null,null,null,null,{"$f":"(COUNTIF(W$9:AH$39,\"A\")+(COUNTIF(W$9:AH$39,\"0,5A\"))/2)","v":0},null,null,null,0]
[null,null,null,null,null,null,null,null,null,null,null,null,null,null,null,null,null,null,null,null,null,"TOTAAL",null,null,null,{"$f":"SUM(Z2:AC6)","v":1},null,null,null,{"$f":"SUM(AD2:AG6)","v":0},null,null,null,{"$f":"SUM(AH2:AI6)","v":1}]
["W","Dag","Datum","Van ","Tot",null,"Pauze","Prestaties","Recup","Andere","Type","Dag","OV DAG","Week","Prestaties","OV WEEK","OV DAG","Rec. -","Rec. +","OV 50%","M",null,"Jan","Feb","Maa","Apr","Mei","Jun","Jul","Aug","Sept","Okt","Nov","Dec"]
[{"$f":"WEEKNUM(C9,21)","v":1},{"$f":"C9","v":"2018-12-31"},"2018-12-31",null,null,{"$f":"(E9-D9)*24","v":0},{"$f":"IF(F9>=6,0.5,0)","v":0},{"$f":"F9-G9","v":0},null,8,"GA",{"$f":"SUM(H9:J9)","v":8},{"$f":"IF(L9>9,L9-9,\"\")","v":""},"Verwerkt OK",null,null,null,null,null,null,0,1,{"$f":"K9","v":"GA"},{"$f":"K40","v":0},{"$f":"K68","v":0},{"$f":"K99","v":"zo"},{"$f":"K129","v":0},{"$f":"K160","v":0},{"$f":"K190","v":"zo"},{"$f":"K221","v":0},{"$f":"K252","v":"za"},{"$f":"K282","v":0},{"$f":"K313","v":0},{"$f":"K343","v":"za"},1]
[{"$f":"WEEKNUM(C10,21)","v":1},{"$f":"C10","v":"2019-01-01"},"2019-01-01",null,null,{"$f":"(E10-D10)*24","v":0},{"$f":"IF(F10>=6,0.5,0)","v":0},{"$f":"F10-G10","v":0},null,8,"fd",{"$f":"SUM(H10:J10)","v":8},"","Covestro 2 weken gesloten, verlof op dus GA!",null,null,null,null,null,null,0,2,{"$f":"K10","v":"fd"},{"$f":"K41","v":0},{"$f":"K69","v":0},{"$f":"K100","v":0},{"$f":"K130","v":"fd"},{"$f":"K161","v":"za"},{"$f":"K191","v":0},{"$f":"K222","v":0},{"$f":"K253","v":"zo"},{"$f":"K283","v":0},{"$f":"K314","v":"fd"},{"$f":"K344","v":"zo"},2]
[1,"2019-01-02","2019-01-02",null,null,0,0,0,null,8,"GA",8,"","of aanpassen met verlofrechten van 2019",null,null,null,null,null,null,null,3,"GA","za","za",0,0,"zo",0,0,0,0,"za",0,3]
[1,"2019-01-03","2019-01-03",null,null,0,0,0,null,8,"GA",8,"",null,null,null,null,null,null,null,null,4,"GA","zo","zo",0,0,0,0,"za",0,0,"zo",0,4]
[1,"2019-01-04","2019-01-04",null,null,0,0,0,null,8,"GA",8,"",null,null,null,null,null,null,null,null,5,"GA",0,0,0,"za",0,0,"zo",0,0,0,{"$f":"K347","v":0},5]
[1,"2019-01-05","2019-01-05",null,null,0,null,0,null,null,"za",0,"","Week",null,"OV WEEK","OV DAG","Recup -","Recup +","OV 50%",null,6,"za",0,0,0,"zo",0,0,0,0,"za",0,0,6]
[1,"2019-01-06","2019-01-06",null,null,0,null,0,null,null,"zo",0,"",{"$f":"SUM(L9:L15)","v":40},{"$f":"SUM(H9:H15)","v":0},{"$f":"IF(N15>40,N15-40,0)","v":0},{"$f":"SUM(M9:M15)","v":0},{"$f":"SUM(I9:I15)","v":0},{"$f":"IF(N15>40,N15-40,0)","v":0},{"$f":"IF(P15>Q15,P15,Q15)","v":0},null,7,"zo",0,0,"za",0,0,"za",0,0,"zo",0,0,7]
[2,"2019-01-07","2019-01-07",null,null,0,0,0,null,null,null,0,"",null,null,null,null,null,null,null,null,8,0,0,0,"zo",0,0,"zo",0,"za",0,0,"za",8]
[2,"2019-01-08","2019-01-08",null,null,0,0,0,null,null,null,0,"",null,null,null,null,null,null,null,null,9,0,0,0,0,0,"za",0,0,"zo",0,0,"zo",9]
[2,"2019-01-09","2019-01-09",null,null,0,0,0,null,null,null,0,"",null,null,null,null,null,null,null,null,10,0,"za","za",0,0,"zo",0,0,0,0,"za",0,10]
[2,"2019-01-10","2019-01-10",null,null,0,0,0,null,null,null,0,"",null,null,null,null,null,null,null,null,11,0,"zo","zo",0,0,"fd",0,"za",0,0,"zo",0,11]
[2,"2019-01-11","2019-01-11",null,null,0,0,0,null,null,null,0,"",null,null,null,null,null,null,null,null,12,0,0,0,0,"za",0,0,"zo",0,0,"fd",0,12]
[2,"2019-01-12","2019-01-12",null,null,0,null,0,null,null,"za",0,"","Week",null,"OV WEEK","OV DAG","Recup -","Recup +","OV 50%",null,13,"za",0,0,0,"zo",0,0,0,0,"za",0,0,13]
[2,"2019-01-13","2019-01-13",null,null,0,null,0,null,null,"zo",0,"",{"$f":"SUM(L16:L22)","v":0},{"$f":"SUM(H16:H22)","v":0},{"$f":"IF(N22>40,N22-40,0)","v":0},{"$f":"SUM(M16:M22)","v":0},{"$f":"SUM(I16:I22)","v":0},{"$f":"IF(N22>40,N22-40,0)","v":0},{"$f":"IF(P22>Q22,P22,Q22)","v":0},null,14,"zo",0,0,"za",0,0,"za",0,0,"zo",0,0,14]
[3,"2019-01-14","2019-01-14",null,null,0,0,0,null,null,null,0,"",null,null,null,null,null,null,null,null,15,0,0,0,"zo",0,0,"zo",0,"za",0,0,"za",15]
[3,"2019-01-15","2019-01-15",null,null,0,0,0,null,null,null,0,"",null,null,null,null,null,null,null,null,16,0,0,0,0,0,"za",0,"fd","zo",0,0,"zo",16]
[3,"2019-01-16","2019-01-16",null,null,0,0,0,null,null,null,0,"",null,null,null,null,null,null,null,null,17,0,"za","za",0,0,"zo",0,0,0,0,"za",0,17]
[3,"2019-01-17","2019-01-17",null,null,0,0,0,null,null,null,0,"",null,null,null,null,null,null,null,null,18,0,"zo","zo",0,0,0,0,"za",0,0,"zo",0,18]
[3,"2019-01-18","2019-01-18",null,null,0,0,0,null,null,null,0,"",null,null,null,null,null,null,null,null,19,0,0,0,0,"za",0,0,"zo",0,0,0,0,19]
[3,"2019-01-19","2019-01-19",null,null,0,null,0,null,null,"za",0,"","Week",null,"OV WEEK","OV DAG","Recup -","Recup +","OV 50%",null,20,"za",0,0,0,"zo",0,0,0,0,"za",0,{"$f":"K362","v":0},20]
[3,"2019-01-20","2019-01-20",null,null,0,null,0,null,null,"zo",0,"",{"$f":"SUM(L23:L29)","v":0},{"$f":"SUM(H23:H29)","v":0},{"$f":"IF(N29>40,N29-40,0)","v":0},{"$f":"SUM(M23:M29)","v":0},{"$f":"SUM(I23:I29)","v":0},{"$f":"IF(N29>40,N29-40,0)","v":0},{"$f":"IF(P29>Q29,P29,Q29)","v":0},null,21,"zo",0,0,"za","fd",0,"za",0,0,"zo",0,0,21]
[4,"2019-01-21","2019-01-21",null,null,0,0,0,null,null,null,0,"",null,null,null,null,null,null,null,null,22,0,0,0,"zo",0,0,"zo",0,"za",0,0,"za",22]
[4,"2019-01-22","2019-01-22",null,null,0,0,0,null,null,null,0,"",null,null,null,null,null,null,null,null,23,0,0,0,"fd",0,"za",0,0,"zo",0,0,"zo",23]
[4,"2019-01-23","2019-01-23",null,null,0,0,0,null,null,null,0,"",null,null,null,null,null,null,null,null,24,0,"za","za",0,0,"zo",0,0,0,0,"za",0,24]
[4,"2019-01-24","2019-01-24",null,null,0,0,0,null,null,null,0,"",null,null,null,null,null,null,null,null,25,0,"zo","zo",0,0,0,0,"za",0,0,"zo",0,25]
[4,"2019-01-25","2019-01-25",null,null,0,0,0,null,null,null,0,"",null,null,null,null,null,null,null,null,26,0,0,0,0,"za",0,0,"zo",0,0,0,"fd",26]
[4,"2019-01-26","2019-01-26",null,null,0,null,0,null,null,"za",0,"","Week",null,"OV WEEK","OV DAG","Recup -","Recup +","OV 50%",null,27,"za",0,0,0,"zo",0,0,0,0,"za",0,0,27]
[4,"2019-01-27","2019-01-27",null,null,0,null,0,null,null,"zo",0,"",{"$f":"SUM(L30:L36)","v":0},{"$f":"SUM(H30:H36)","v":0},{"$f":"IF(N36>40,N36-40,0)","v":0},{"$f":"SUM(M30:M36)","v":0},{"$f":"SUM(I30:I36)","v":0},{"$f":"IF(N36>40,N36-40,0)","v":0},{"$f":"IF(P36>Q36,P36,Q36)","v":0},null,28,"zo",0,0,"za",0,0,"za",0,0,"zo",0,0,28]
[5,"2019-01-28","2019-01-28",null,null,0,0,0,null,null,null,0,"",null,null,null,null,null,null,null,null,29,0,null,0,"zo",0,0,"zo",0,"za",0,0,"za",29]
[5,"2019-01-29","2019-01-29",null,null,0,0,0,null,null,null,0,"",null,null,null,null,null,null,null,null,30,0,null,0,0,0,"za",0,0,"zo",0,0,"zo",30]
[5,"2019-01-30","2019-01-30",null,null,0,0,0,null,null,null,0,"",null,null,null,null,null,null,null,null,31,0,null,"za",null,"fd",null,0,0,null,0,null,0,31]
[5,"2019-01-31","2019-01-31",null,null,0,0,0,null,null,null,0,"",null,null,null,null,null,null,null,null,"WD",23,20,21,22,23,20,23,22,21,23,21,22,{"$f":"SUM(W40:AH40)","v":261}]
[5,"2019-02-01","2019-02-01",null,null,0,0,0,null,null,null,0,""]
[5,"2019-02-02","2019-02-02",null,null,0,null,0,null,null,"za",0,"","Week",null,"OV WEEK","OV DAG","Recup -","Recup +","OV 50%"]
[5,"2019-02-03","2019-02-03",null,null,0,null,0,null,null,"zo",0,"",{"$f":"SUM(L37:L43)","v":0},{"$f":"SUM(H37:H43)","v":0},{"$f":"IF(N43>40,N43-40,0)","v":0},{"$f":"SUM(M37:M43)","v":0},{"$f":"SUM(I37:I43)","v":0},{"$f":"IF(N43>40,N43-40,0)","v":0},{"$f":"IF(P43>Q43,P43,Q43)","v":0}]
[6,"2019-02-04","2019-02-04",null,null,0,0,0,null,null,null,0,""]
[6,"2019-02-05","2019-02-05",null,null,0,0,0,null,null,null,0,""]
[6,"2019-02-06","2019-02-06",null,null,0,0,0,null,null,null,0,""]
[6,"2019-02-07","2019-02-07",null,null,0,0,0,null,null,null,0,""]
[6,"2019-02-08","2019-02-08",null,null,0,0,0,null,null,null,0,""]
[6,"2019-02-09","2019-02-09",null,null,0,null,0,null,null,"za",0,"","Week",null,"OV WEEK","OV DAG","Recup -","Recup +","OV 50%"]
[6,"2019-02-10","2019-02-10",null,null,0,null,0,null,null,"zo",0,"",{"$f":"SUM(L44:L50)","v":0},{"$f":"SUM(H44:H50)","v":0},{"$f":"IF(N50>40,N50-40,0)","v":0},{"$f":"SUM(M44:M50)","v":0},{"$f":"SUM(I44:I50)","v":0},{"$f":"IF(N50>40,N50-40,0)","v":0},{"$f":"IF(P50>Q50,P50,Q50)","v":0}]
[7,"2019-02-11","2019-02-11",null,null,0,0,0,null,null,null,0,""]
[7,"2019-02-12","2019-02-12",null,null,0,0,0,null,null,null,0,""]
[7,"2019-02-13","2019-02-13",null,null,0,0,0,null,null,null,0,""]
[7,"2019-02-14","2019-02-14",null,null,0,0,0,null,null,null,0,""]
[7,"2019-02-15","2019-02-15",null,null,0,0,0,null,null,null,0,""]
[7,"2019-02-16","2019-02-16",null,null,0,null,0,null,null,"za",0,"","Week",null,"OV WEEK","OV DAG","Recup -","Recup +","OV 50%"]
[7,"2019-02-17","2019-02-17",null,null,0,null,0,null,null,"zo",0,"",{"$f":"SUM(L51:L57)","v":0},{"$f":"SUM(H51:H57)","v":0},{"$f":"IF(N57>40,N57-40,0)","v":0},{"$f":"SUM(M51:M57)","v":0},{"$f":"SUM(I51:I57)","v":0},{"$f":"IF(N57>40,N57-40,0)","v":0},{"$f":"IF(P57>Q57,P57,Q57)","v":0}]
[8,"2019-02-18","2019-02-18",null,null,0,0,0,null,null,null,0,""]
[8,"2019-02-19","2019-02-19",null,null,0,0,0,null,null,null,0,""]
[8,"2019-02-20","2019-02-20",null,null,0,0,0,null,null,null,0,""]
[8,"2019-02-21","2019-02-21",null,null,0,0,0,null,null,null,0,""]
[8,"2019-02-22","2019-02-22",null,null,0,0,0,null,null,null,0,""]
[8,"2019-02-23","2019-02-23",null,null,0,null,0,null,null,"za",0,"","Week",null,"OV WEEK","OV DAG","Recup -","Recup +","OV 50%"]
[8,"2019-02-24","2019-02-24",null,null,0,null,0,null,null,"zo",0,"",{"$f":"SUM(L58:L64)","v":0},{"$f":"SUM(H58:H64)","v":0},{"$f":"IF(N64>40,N64-40,0)","v":0},{"$f":"SUM(M58:M64)","v":0},{"$f":"SUM(I58:I64)","v":0},{"$f":"IF(N64>40,N64-40,0)","v":0},{"$f":"IF(P64>Q64,P64,Q64)","v":0}]
[9,"2019-02-25","2019-02-25",null,null,0,0,0,null,null,null,0,""]
[9,"2019-02-26","2019-02-26",null,null,0,0,0,null,null,null,0,""]
[9,"2019-02-27","2019-02-27",null,null,0,0,0,null,null,null,0,""]
[9,"2019-02-28","2019-02-28",null,null,0,0,0,null,null,null,0,""]
[9,"2019-03-01","2019-03-01",null,null,0,0,0,null,null,null,0,""]
[9,"2019-03-02","2019-03-02",null,null,0,null,0,null,null,"za",0,"","Week",null,"OV WEEK","OV DAG","Recup -","Recup +","OV 50%"]
[9,"2019-03-03","2019-03-03",null,null,0,null,0,null,null,"zo",0,"",{"$f":"SUM(L65:L71)","v":0},{"$f":"SUM(H65:H71)","v":0},{"$f":"IF(N71>40,N71-40,0)","v":0},{"$f":"SUM(M65:M71)","v":0},{"$f":"SUM(I65:I71)","v":0},{"$f":"IF(N71>40,N71-40,0)","v":0},{"$f":"IF(P71>Q71,P71,Q71)","v":0}]
[10,"2019-03-04","2019-03-04",null,null,0,0,0,null,null,null,0,""]
[10,"2019-03-05","2019-03-05",null,null,0,0,0,null,null,null,0,{"$f":"IF(L73>9,L73-9,\"\")","v":""}]
[{"$f":"WEEKNUM(C74,21)","v":10},{"$f":"C74","v":"2019-03-06"},"2019-03-06",null,null,{"$f":"(E74-D74)*24","v":0},{"$f":"IF(F74>=6,0.5,0)","v":0},{"$f":"F74-G74","v":0},null,null,null,{"$f":"SUM(H74:J74)","v":0},""]
[10,"2019-03-07","2019-03-07",null,null,0,0,0,null,null,null,0,""]
[10,"2019-03-08","2019-03-08",null,null,0,0,0,null,null,null,0,""]
[10,"2019-03-09","2019-03-09",null,null,0,null,0,null,null,"za",0,"","Week",null,"OV WEEK","OV DAG","Recup -","Recup +","OV 50%"]
[10,"2019-03-10","2019-03-10",null,null,0,null,0,null,null,"zo",0,"",{"$f":"SUM(L72:L78)","v":0},{"$f":"SUM(H72:H78)","v":0},{"$f":"IF(N78>40,N78-40,0)","v":0},{"$f":"SUM(M72:M78)","v":0},{"$f":"SUM(I72:I78)","v":0},{"$f":"IF(N78>40,N78-40,0)","v":0},{"$f":"IF(P78>Q78,P78,Q78)","v":0}]
[11,"2019-03-11","2019-03-11",null,null,0,0,0,null,null,null,0,""]
[11,"2019-03-12","2019-03-12",null,null,0,0,0,null,null,null,0,""]
[11,"2019-03-13","2019-03-13",null,null,0,0,0,null,null,null,0,""]
[11,"2019-03-14","2019-03-14",null,null,0,0,0,null,null,null,0,""]
[11,"2019-03-15","2019-03-15",null,null,0,0,0,null,null,null,0,""]
[11,"2019-03-16","2019-03-16",null,null,0,null,0,null,null,"za",0,"","Week",null,"OV WEEK","OV DAG","Recup -","Recup +","OV 50%"]
[11,"2019-03-17","2019-03-17",null,null,0,null,0,null,null,"zo",0,"",{"$f":"SUM(L79:L85)","v":0},{"$f":"SUM(H79:H85)","v":0},{"$f":"IF(N85>40,N85-40,0)","v":0},{"$f":"SUM(M79:M85)","v":0},{"$f":"SUM(I79:I85)","v":0},{"$f":"IF(N85>40,N85-40,0)","v":0},{"$f":"IF(P85>Q85,P85,Q85)","v":0}]
[12,"2019-03-18","2019-03-18",null,null,0,0,0,null,null,null,0,""]
[12,"2019-03-19","2019-03-19",null,null,0,0,0,null,null,null,0,""]
[12,"2019-03-20","2019-03-20",null,null,0,0,0,null,null,null,0,""]
[12,"2019-03-21","2019-03-21",null,null,0,0,0,null,null,null,0,""]
[12,"2019-03-22","2019-03-22",null,null,0,0,0,null,null,null,0,""]
[12,"2019-03-23","2019-03-23",null,null,0,null,0,null,null,"za",0,"","Week",null,"OV WEEK","OV DAG","Recup -","Recup +","OV 50%"]
[12,"2019-03-24","2019-03-24",null,null,0,null,0,null,null,"zo",0,"",{"$f":"SUM(L86:L92)","v":0},{"$f":"SUM(H86:H92)","v":0},{"$f":"IF(N92>40,N92-40,0)","v":0},{"$f":"SUM(M86:M92)","v":0},{"$f":"SUM(I86:I92)","v":0},{"$f":"IF(N92>40,N92-40,0)","v":0},{"$f":"IF(P92>Q92,P92,Q92)","v":0}]
[13,"2019-03-25","2019-03-25",null,null,0,0,0,null,null,null,0,""]
[13,"2019-03-26","2019-03-26",null,null,0,0,0,null,null,null,0,""]
[13,"2019-03-27","2019-03-27",null,null,0,0,0,null,null,null,0,""]
[13,"2019-03-28","2019-03-28",null,null,0,0,0,null,null,null,0,""]
[13,"2019-03-29","2019-03-29",null,null,0,0,0,null,null,null,0,""]
[13,"2019-03-30","2019-03-30",null,null,0,null,0,null,null,"za",0,"","Week",null,"OV WEEK","OV DAG","Recup -","Recup +","OV 50%"]
[13,"2019-03-31","2019-03-31",null,null,0,null,0,null,null,"zo",0,"",{"$f":"SUM(L93:L99)","v":0},{"$f":"SUM(H93:H99)","v":0},{"$f":"IF(N99>40,N99-40,0)","v":0},{"$f":"SUM(M93:M99)","v":0},{"$f":"SUM(I93:I99)","v":0},{"$f":"IF(N99>40,N99-40,0)","v":0},{"$f":"IF(P99>Q99,P99,Q99)","v":0}]
[14,"2019-04-01","2019-04-01",null,null,0,0,0,null,null,null,0,""]
[14,"2019-04-02","2019-04-02",null,null,0,0,0,null,null,null,0,""]
[14,"2019-04-03","2019-04-03",null,null,0,0,0,null,null,null,0,""]
[14,"2019-04-04","2019-04-04",null,null,0,0,0,null,null,null,0,""]
[14,"2019-04-05","2019-04-05",null,null,0,0,0,null,null,null,0,""]
[14,"2019-04-06","2019-04-06",null,null,0,null,0,null,null,"za",0,"","Week",null,"OV WEEK","OV DAG","Recup -","Recup +","OV 50%"]
[14,"2019-04-07","2019-04-07",null,null,0,null,0,null,null,"zo",0,"",{"$f":"SUM(L100:L106)","v":0},{"$f":"SUM(H100:H106)","v":0},{"$f":"IF(N106>40,N106-40,0)","v":0},{"$f":"SUM(M100:M106)","v":0},{"$f":"SUM(I100:I106)","v":0},{"$f":"IF(N106>40,N106-40,0)","v":0},{"$f":"IF(P106>Q106,P106,Q106)","v":0}]
[15,"2019-04-08","2019-04-08",null,null,0,0,0,null,null,null,0,""]
[15,"2019-04-09","2019-04-09",null,null,0,0,0,null,null,null,0,""]
[15,"2019-04-10","2019-04-10",null,null,0,0,0,null,null,null,0,""]
[15,"2019-04-11","2019-04-11",null,null,0,0,0,null,null,null,0,""]
[15,"2019-04-12","2019-04-12",null,null,0,0,0,null,null,null,0,""]
[15,"2019-04-13","2019-04-13",null,null,0,null,0,null,null,"za",0,"","Week",null,"OV WEEK","OV DAG","Recup -","Recup +","OV 50%"]
[15,"2019-04-14","2019-04-14",null,null,0,null,0,null,null,"zo",0,"",{"$f":"SUM(L107:L113)","v":0},{"$f":"SUM(H107:H113)","v":0},{"$f":"IF(N113>40,N113-40,0)","v":0},{"$f":"SUM(M107:M113)","v":0},{"$f":"SUM(I107:I113)","v":0},{"$f":"IF(N113>40,N113-40,0)","v":0},{"$f":"IF(P113>Q113,P113,Q113)","v":0}]
[16,"2019-04-15","2019-04-15",null,null,0,0,0,null,null,null,0,""]
[16,"2019-04-16","2019-04-16",null,null,0,0,0,null,null,null,0,""]
[16,"2019-04-17","2019-04-17",null,null,0,0,0,null,null,null,0,""]
[16,"2019-04-18","2019-04-18",null,null,0,0,0,null,null,null,0,""]
[16,"2019-04-19","2019-04-19",null,null,0,0,0,null,null,null,0,""]
[16,"2019-04-20","2019-04-20",null,null,0,null,0,null,null,"za",0,"","Week",null,"OV WEEK","OV DAG","Recup -","Recup +","OV 50%"]
[16,"2019-04-21","2019-04-21",null,null,0,null,0,null,null,"zo",0,"",{"$f":"SUM(L114:L120)","v":0},{"$f":"SUM(H114:H120)","v":0},{"$f":"IF(N120>40,N120-40,0)","v":0},{"$f":"SUM(M114:M120)","v":0},{"$f":"SUM(I114:I120)","v":0},{"$f":"IF(N120>40,N120-40,0)","v":0},{"$f":"IF(P120>Q120,P120,Q120)","v":0}]
[17,"2019-04-22","2019-04-22",null,null,0,0,0,null,7.6,"fd",7.6,""]
[17,"2019-04-23","2019-04-23",null,null,0,0,0,null,null,null,0,""]
[17,"2019-04-24","2019-04-24",null,null,0,0,0,null,null,null,0,""]
[17,"2019-04-25","2019-04-25",null,null,0,0,0,null,null,null,0,""]
[17,"2019-04-26","2019-04-26",null,null,0,0,0,null,null,null,0,""]
[17,"2019-04-27","2019-04-27",null,null,0,null,0,null,null,"za",0,"","Week",null,"OV WEEK","OV DAG","Recup -","Recup +","OV 50%"]
[17,"2019-04-28","2019-04-28",null,null,0,null,0,null,null,"zo",0,"",{"$f":"SUM(L121:L127)","v":7.6},{"$f":"SUM(H121:H127)","v":0},{"$f":"IF(N127>40,N127-40,0)","v":0},{"$f":"SUM(M121:M127)","v":0},{"$f":"SUM(I121:I127)","v":0},{"$f":"IF(N127>40,N127-40,0)","v":0},{"$f":"IF(P127>Q127,P127,Q127)","v":0}]
[18,"2019-04-29","2019-04-29",null,null,0,0,0,null,null,null,0,""]
[18,"2019-04-30","2019-04-30",null,null,0,0,0,null,null,null,0,""]
[18,"2019-05-01","2019-05-01",null,null,0,0,0,null,7.6,"fd",7.6,""]
[18,"2019-05-02","2019-05-02",null,null,0,0,0,null,null,null,0,""]
[18,"2019-05-03","2019-05-03",null,null,0,0,0,null,null,null,0,""]
[18,"2019-05-04","2019-05-04",null,null,0,null,0,null,null,"za",0,"","Week",null,"OV WEEK","OV DAG","Recup -","Recup +","OV 50%"]
[18,"2019-05-05","2019-05-05",null,null,0,null,0,null,null,"zo",0,"",{"$f":"SUM(L128:L134)","v":7.6},{"$f":"SUM(H128:H134)","v":0},{"$f":"IF(N134>40,N134-40,0)","v":0},{"$f":"SUM(M128:M134)","v":0},{"$f":"SUM(I128:I134)","v":0},{"$f":"IF(N134>40,N134-40,0)","v":0},{"$f":"IF(P134>Q134,P134,Q134)","v":0}]
[19,"2019-05-06","2019-05-06",null,null,0,0,0,null,null,null,0,""]
[19,"2019-05-07","2019-05-07",null,null,0,0,0,null,null,null,0,""]
[19,"2019-05-08","2019-05-08",null,null,0,0,0,null,null,null,0,{"$f":"IF(L137>9,L137-9,\"\")","v":""}]
[{"$f":"WEEKNUM(C138,21)","v":19},{"$f":"C138","v":"2019-05-09"},"2019-05-09",null,null,{"$f":"(E138-D138)*24","v":0},{"$f":"IF(F138>=6,0.5,0)","v":0},{"$f":"F138-G138","v":0},null,null,null,{"$f":"SUM(H138:J138)","v":0},""]
[19,"2019-05-10","2019-05-10",null,null,0,0,0,null,null,null,0,""]
[19,"2019-05-11","2019-05-11",null,null,0,null,0,null,null,"za",0,"","Week",null,"OV WEEK","OV DAG","Recup -","Recup +","OV 50%"]
[19,"2019-05-12","2019-05-12",null,null,0,null,0,null,null,"zo",0,"",{"$f":"SUM(L135:L141)","v":0},{"$f":"SUM(H135:H141)","v":0},{"$f":"IF(N141>40,N141-40,0)","v":0},{"$f":"SUM(M135:M141)","v":0},{"$f":"SUM(I135:I141)","v":0},{"$f":"IF(N141>40,N141-40,0)","v":0},{"$f":"IF(P141>Q141,P141,Q141)","v":0}]
[20,"2019-05-13","2019-05-13",null,null,0,0,0,null,null,null,0,""]
[20,"2019-05-14","2019-05-14",null,null,0,0,0,null,null,null,0,""]
[20,"2019-05-15","2019-05-15",null,null,0,0,0,null,null,null,0,""]
[20,"2019-05-16","2019-05-16",null,null,0,0,0,null,null,null,0,""]
[20,"2019-05-17","2019-05-17",null,null,0,0,0,null,null,null,0,""]
[20,"2019-05-18","2019-05-18",null,null,0,null,0,null,null,"za",0,"","Week",null,"OV WEEK","OV DAG","Recup -","Recup +","OV 50%"]
[20,"2019-05-19","2019-05-19",null,null,0,null,0,null,null,"zo",0,"",{"$f":"SUM(L142:L148)","v":0},{"$f":"SUM(H142:H148)","v":0},{"$f":"IF(N148>40,N148-40,0)","v":0},{"$f":"SUM(M142:M148)","v":0},{"$f":"SUM(I142:I148)","v":0},{"$f":"IF(N148>40,N148-40,0)","v":0},{"$f":"IF(P148>Q148,P148,Q148)","v":0}]
[21,"2019-05-20","2019-05-20",null,null,0,0,0,null,7.6,"fd",7.6,""]
[21,"2019-05-21","2019-05-21",null,null,0,0,0,null,null,null,0,""]
[21,"2019-05-22","2019-05-22",null,null,0,0,0,null,null,null,0,""]
[21,"2019-05-23","2019-05-23",null,null,0,0,0,null,null,null,0,""]
[21,"2019-05-24","2019-05-24",null,null,0,0,0,null,null,null,0,""]
[21,"2019-05-25","2019-05-25",null,null,0,null,0,null,null,"za",0,"","Week",null,"OV WEEK","OV DAG","Recup -","Recup +","OV 50%"]
[21,"2019-05-26","2019-05-26",null,null,0,null,0,null,null,"zo",0,"",{"$f":"SUM(L149:L155)","v":7.6},{"$f":"SUM(H149:H155)","v":0},{"$f":"IF(N155>40,N155-40,0)","v":0},{"$f":"SUM(M149:M155)","v":0},{"$f":"SUM(I149:I155)","v":0},{"$f":"IF(N155>40,N155-40,0)","v":0},{"$f":"IF(P155>Q155,P155,Q155)","v":0}]
[22,"2019-05-27","2019-05-27",null,null,0,0,0,null,null,null,0,""]
[22,"2019-05-28","2019-05-28",null,null,0,0,0,null,null,null,0,""]
[22,"2019-05-29","2019-05-29",null,null,0,0,0,null,null,null,0,""]
[22,"2019-05-30","2019-05-30",null,null,0,0,0,null,7.6,"fd",7.6,""]
[22,"2019-05-31","2019-05-31",null,null,0,0,0,null,null,null,0,""]
[22,"2019-06-01","2019-06-01",null,null,0,null,0,null,null,"za",0,"","Week",null,"OV WEEK","OV DAG","Recup -","Recup +","OV 50%"]
[22,"2019-06-02","2019-06-02",null,null,0,null,0,null,null,"zo",0,"",{"$f":"SUM(L156:L162)","v":7.6},{"$f":"SUM(H156:H162)","v":0},{"$f":"IF(N162>40,N162-40,0)","v":0},{"$f":"SUM(M156:M162)","v":0},{"$f":"SUM(I156:I162)","v":0},{"$f":"IF(N162>40,N162-40,0)","v":0},{"$f":"IF(P162>Q162,P162,Q162)","v":0}]
[23,"2019-06-03","2019-06-03",null,null,0,0,0,null,null,null,0,""]
[23,"2019-06-04","2019-06-04",null,null,0,0,0,null,null,null,0,""]
[23,"2019-06-05","2019-06-05",null,null,0,0,0,null,null,null,0,""]
[23,"2019-06-06","2019-06-06",null,null,0,0,0,null,null,null,0,""]
[23,"2019-06-07","2019-06-07",null,null,0,0,0,null,null,null,0,""]
[23,"2019-06-08","2019-06-08",null,null,0,null,0,null,null,"za",0,"","Week",null,"OV WEEK","OV DAG","Recup -","Recup +","OV 50%"]
[23,"2019-06-09","2019-06-09",null,null,0,null,0,null,null,"zo",0,"",{"$f":"SUM(L163:L169)","v":0},{"$f":"SUM(H163:H169)","v":0},{"$f":"IF(N169>40,N169-40,0)","v":0},{"$f":"SUM(M163:M169)","v":0},{"$f":"SUM(I163:I169)","v":0},{"$f":"IF(N169>40,N169-40,0)","v":0},{"$f":"IF(P169>Q169,P169,Q169)","v":0}]
[24,"2019-06-10","2019-06-10",null,null,0,0,0,null,7.6,"fd",7.6,""]
[24,"2019-06-11","2019-06-11",null,null,0,0,0,null,null,null,0,""]
[24,"2019-06-12","2019-06-12",null,null,0,0,0,null,null,null,0,""]
[24,"2019-06-13","2019-06-13",null,null,0,0,0,null,null,null,0,""]
[24,"2019-06-14","2019-06-14",null,null,0,0,0,null,null,null,0,""]
[24,"2019-06-15","2019-06-15",null,null,0,null,0,null,null,"za",0,"","Week",null,"OV WEEK","OV DAG","Recup -","Recup +","OV 50%"]
[24,"2019-06-16","2019-06-16",null,null,0,null,0,null,null,"zo",0,"",{"$f":"SUM(L170:L176)","v":7.6},{"$f":"SUM(H170:H176)","v":0},{"$f":"IF(N176>40,N176-40,0)","v":0},{"$f":"SUM(M170:M176)","v":0},{"$f":"SUM(I170:I176)","v":0},{"$f":"IF(N176>40,N176-40,0)","v":0},{"$f":"IF(P176>Q176,P176,Q176)","v":0}]
[25,"2019-06-17","2019-06-17",null,null,0,0,0,null,null,null,0,""]
[25,"2019-06-18","2019-06-18",null,null,0,0,0,null,null,null,0,""]
[25,"2019-06-19","2019-06-19",null,null,0,0,0,null,null,null,0,""]
[25,"2019-06-20","2019-06-20",null,null,0,0,0,null,null,null,0,""]
[25,"2019-06-21","2019-06-21",null,null,0,0,0,null,null,null,0,""]
[25,"2019-06-22","2019-06-22",null,null,0,null,0,null,null,"za",0,"","Week",null,"OV WEEK","OV DAG","Recup -","Recup +","OV 50%"]
[25,"2019-06-23","2019-06-23",null,null,0,null,0,null,null,"zo",0,"",{"$f":"SUM(L177:L183)","v":0},{"$f":"SUM(H177:H183)","v":0},{"$f":"IF(N183>40,N183-40,0)","v":0},{"$f":"SUM(M177:M183)","v":0},{"$f":"SUM(I177:I183)","v":0},{"$f":"IF(N183>40,N183-40,0)","v":0},{"$f":"IF(P183>Q183,P183,Q183)","v":0}]
[26,"2019-06-24","2019-06-24",null,null,0,0,0,null,null,null,0,""]
[26,"2019-06-25","2019-06-25",null,null,0,0,0,null,null,null,0,""]
[26,"2019-06-26","2019-06-26",null,null,0,0,0,null,null,null,0,""]
[26,"2019-06-27","2019-06-27",null,null,0,0,0,null,null,null,0,""]
[26,"2019-06-28","2019-06-28",null,null,0,0,0,null,null,null,0,""]
[26,"2019-06-29","2019-06-29",null,null,0,null,0,null,null,"za",0,"","Week",null,"OV WEEK","OV DAG","Recup -","Recup +","OV 50%"]
[26,"2019-06-30","2019-06-30",null,null,0,null,0,null,null,"zo",0,"",{"$f":"SUM(L184:L190)","v":0},{"$f":"SUM(H184:H190)","v":0},{"$f":"IF(N190>40,N190-40,0)","v":0},{"$f":"SUM(M184:M190)","v":0},{"$f":"SUM(I184:I190)","v":0},{"$f":"IF(N190>40,N190-40,0)","v":0},{"$f":"IF(P190>Q190,P190,Q190)","v":0}]
[27,"2019-07-01","2019-07-01",null,null,0,0,0,null,null,null,0,""]
[27,"2019-07-02","2019-07-02",null,null,0,0,0,null,null,null,0,""]
[27,"2019-07-03","2019-07-03",null,null,0,0,0,null,null,null,0,""]
[27,"2019-07-04","2019-07-04",null,null,0,0,0,null,null,null,0,""]
[27,"2019-07-05","2019-07-05",null,null,0,0,0,null,null,null,0,""]
[27,"2019-07-06","2019-07-06",null,null,0,null,0,null,null,"za",0,"","Week",null,"OV WEEK","OV DAG","Recup -","Recup +","OV 50%"]
[27,"2019-07-07","2019-07-07",null,null,0,null,0,null,null,"zo",0,"",{"$f":"SUM(L191:L197)","v":0},{"$f":"SUM(H191:H197)","v":0},{"$f":"IF(N197>40,N197-40,0)","v":0},{"$f":"SUM(M191:M197)","v":0},{"$f":"SUM(I191:I197)","v":0},{"$f":"IF(N197>40,N197-40,0)","v":0},{"$f":"IF(P197>Q197,P197,Q197)","v":0}]
[28,"2019-07-08","2019-07-08",null,null,0,0,0,null,null,null,0,""]
[28,"2019-07-09","2019-07-09",null,null,0,0,0,null,null,null,0,""]
[28,"2019-07-10","2019-07-10",null,null,0,0,0,null,null,null,0,""]
[28,"2019-07-11","2019-07-11",null,null,0,0,0,null,null,null,0,{"$f":"IF(L201>9,L201-9,\"\")","v":""}]
[{"$f":"WEEKNUM(C202,21)","v":28},{"$f":"C202","v":"2019-07-12"},"2019-07-12",null,null,{"$f":"(E202-D202)*24","v":0},{"$f":"IF(F202>=6,0.5,0)","v":0},{"$f":"F202-G202","v":0},null,null,null,{"$f":"SUM(H202:J202)","v":0},""]
[28,"2019-07-13","2019-07-13",null,null,0,null,0,null,null,"za",0,"","Week",null,"OV WEEK","OV DAG","Recup -","Recup +","OV 50%"]
[28,"2019-07-14","2019-07-14",null,null,0,null,0,null,null,"zo",0,"",{"$f":"SUM(L198:L204)","v":0},{"$f":"SUM(H198:H204)","v":0},{"$f":"IF(N204>40,N204-40,0)","v":0},{"$f":"SUM(M198:M204)","v":0},{"$f":"SUM(I198:I204)","v":0},{"$f":"IF(N204>40,N204-40,0)","v":0},{"$f":"IF(P204>Q204,P204,Q204)","v":0}]
[29,"2019-07-15","2019-07-15",null,null,0,0,0,null,null,null,0,""]
[29,"2019-07-16","2019-07-16",null,null,0,0,0,null,null,null,0,""]
[29,"2019-07-17","2019-07-17",null,null,0,0,0,null,null,null,0,""]
[29,"2019-07-18","2019-07-18",null,null,0,0,0,null,null,null,0,""]
[29,"2019-07-19","2019-07-19",null,null,0,0,0,null,null,null,0,""]
[29,"2019-07-20","2019-07-20",null,null,0,null,0,null,null,"za",0,"","Week",null,"OV WEEK","OV DAG","Recup -","Recup +","OV 50%"]
[29,"2019-07-21","2019-07-21",null,null,0,null,0,null,null,"zo",0,"",{"$f":"SUM(L205:L211)","v":0},{"$f":"SUM(H205:H211)","v":0},{"$f":"IF(N211>40,N211-40,0)","v":0},{"$f":"SUM(M205:M211)","v":0},{"$f":"SUM(I205:I211)","v":0},{"$f":"IF(N211>40,N211-40,0)","v":0},{"$f":"IF(P211>Q211,P211,Q211)","v":0}]
[30,"2019-07-22","2019-07-22",null,null,0,0,0,null,null,null,0,""]
[30,"2019-07-23","2019-07-23",null,null,0,0,0,null,null,null,0,""]
[30,"2019-07-24","2019-07-24",null,null,0,0,0,null,null,null,0,""]
[30,"2019-07-25","2019-07-25",null,null,0,0,0,null,null,null,0,""]
[30,"2019-07-26","2019-07-26",null,null,0,0,0,null,null,null,0,""]
[30,"2019-07-27","2019-07-27",null,null,0,null,0,null,null,"za",0,"","Week",null,"OV WEEK","OV DAG","Recup -","Recup +","OV 50%"]
[30,"2019-07-28","2019-07-28",null,null,0,null,0,null,null,"zo",0,"",{"$f":"SUM(L212:L218)","v":0},{"$f":"SUM(H212:H218)","v":0},{"$f":"IF(N218>40,N218-40,0)","v":0},{"$f":"SUM(M212:M218)","v":0},{"$f":"SUM(I212:I218)","v":0},{"$f":"IF(N218>40,N218-40,0)","v":0},{"$f":"IF(P218>Q218,P218,Q218)","v":0}]
[31,"2019-07-29","2019-07-29",null,null,0,0,0,null,null,null,0,""]
[31,"2019-07-30","2019-07-30",null,null,0,0,0,null,null,null,0,""]
[31,"2019-07-31","2019-07-31",null,null,0,0,0,null,null,null,0,""]
[31,"2019-08-01","2019-08-01",null,null,0,0,0,null,null,null,0,""]
[31,"2019-08-02","2019-08-02",null,null,0,0,0,null,null,null,0,""]
[31,"2019-08-03","2019-08-03",null,null,0,null,0,null,null,"za",0,"","Week",null,"OV WEEK","OV DAG","Recup -","Recup +","OV 50%"]
[31,"2019-08-04","2019-08-04",null,null,0,null,0,null,null,"zo",0,"",{"$f":"SUM(L219:L225)","v":0},{"$f":"SUM(H219:H225)","v":0},{"$f":"IF(N225>40,N225-40,0)","v":0},{"$f":"SUM(M219:M225)","v":0},{"$f":"SUM(I219:I225)","v":0},{"$f":"IF(N225>40,N225-40,0)","v":0},{"$f":"IF(P225>Q225,P225,Q225)","v":0}]
[32,"2019-08-05","2019-08-05",null,null,0,0,0,null,null,null,0,""]
[32,"2019-08-06","2019-08-06",null,null,0,0,0,null,null,null,0,""]
[32,"2019-08-07","2019-08-07",null,null,0,0,0,null,null,null,0,""]
[32,"2019-08-08","2019-08-08",null,null,0,0,0,null,null,null,0,""]
[32,"2019-08-09","2019-08-09",null,null,0,0,0,null,null,null,0,""]
[32,"2019-08-10","2019-08-10",null,null,0,null,0,null,null,"za",0,"","Week",null,"OV WEEK","OV DAG","Recup -","Recup +","OV 50%"]
[32,"2019-08-11","2019-08-11",null,null,0,null,0,null,null,"zo",0,"",{"$f":"SUM(L226:L232)","v":0},{"$f":"SUM(H226:H232)","v":0},{"$f":"IF(N232>40,N232-40,0)","v":0},{"$f":"SUM(M226:M232)","v":0},{"$f":"SUM(I226:I232)","v":0},{"$f":"IF(N232>40,N232-40,0)","v":0},{"$f":"IF(P232>Q232,P232,Q232)","v":0}]
[33,"2019-08-12","2019-08-12",null,null,0,0,0,null,null,null,0,""]
[33,"2019-08-13","2019-08-13",null,null,0,0,0,null,null,null,0,""]
[33,"2019-08-14","2019-08-14",null,null,0,0,0,null,null,null,0,""]
[33,"2019-08-15","2019-08-15",null,null,0,0,0,null,7.6,"fd",7.6,""]
[33,"2019-08-16","2019-08-16",null,null,0,0,0,null,null,null,0,""]
[33,"2019-08-17","2019-08-17",null,null,0,null,0,null,null,"za",0,"","Week",null,"OV WEEK","OV DAG","Recup -","Recup +","OV 50%"]
[33,"2019-08-18","2019-08-18",null,null,0,null,0,null,null,"zo",0,"",{"$f":"SUM(L233:L239)","v":7.6},{"$f":"SUM(H233:H239)","v":0},{"$f":"IF(N239>40,N239-40,0)","v":0},{"$f":"SUM(M233:M239)","v":0},{"$f":"SUM(I233:I239)","v":0},{"$f":"IF(N239>40,N239-40,0)","v":0},{"$f":"IF(P239>Q239,P239,Q239)","v":0}]
[34,"2019-08-19","2019-08-19",null,null,0,0,0,null,null,null,0,""]
[34,"2019-08-20","2019-08-20",null,null,0,{"$f":"IF(F241>=6,0.5,0)","v":0},0,null,null,null,0,""]
[34,"2019-08-21","2019-08-21",null,null,0,0,0,null,null,null,0,""]
[34,"2019-08-22","2019-08-22",null,null,0,0,0,null,null,null,0,""]
[34,"2019-08-23","2019-08-23",null,null,0,0,0,null,null,null,0,""]
[34,"2019-08-24","2019-08-24",null,null,0,null,0,null,null,"za",0,"","Week",null,"OV WEEK","OV DAG","Recup -","Recup +","OV 50%"]
[34,"2019-08-25","2019-08-25",null,null,0,null,0,null,null,"zo",0,"",{"$f":"SUM(L240:L246)","v":0},{"$f":"SUM(H240:H246)","v":0},{"$f":"IF(N246>40,N246-40,0)","v":0},{"$f":"SUM(M240:M246)","v":0},{"$f":"SUM(I240:I246)","v":0},{"$f":"IF(N246>40,N246-40,0)","v":0},{"$f":"IF(P246>Q246,P246,Q246)","v":0}]
[35,"2019-08-26","2019-08-26",null,null,0,0,0,null,null,null,0,""]
[35,"2019-08-27","2019-08-27",null,null,0,0,0,null,null,null,0,""]
[35,"2019-08-28","2019-08-28",null,null,0,0,0,null,null,null,0,""]
[35,"2019-08-29","2019-08-29",null,null,0,0,0,null,null,null,0,""]
[35,"2019-08-30","2019-08-30",null,null,0,0,0,null,null,null,0,""]
[35,"2019-08-31","2019-08-31",null,null,0,null,0,null,null,"za",0,"","Week",null,"OV WEEK","OV DAG","Recup -","Recup +","OV 50%"]
[35,"2019-09-01","2019-09-01",null,null,0,null,0,null,null,"zo",0,"",{"$f":"SUM(L247:L253)","v":0},{"$f":"SUM(H247:H253)","v":0},{"$f":"IF(N253>40,N253-40,0)","v":0},{"$f":"SUM(M247:M253)","v":0},{"$f":"SUM(I247:I253)","v":0},{"$f":"IF(N253>40,N253-40,0)","v":0},{"$f":"IF(P253>Q253,P253,Q253)","v":0}]
[36,"2019-09-02","2019-09-02",null,null,0,0,0,null,null,null,0,""]
[36,"2019-09-03","2019-09-03",null,null,0,0,0,null,null,null,0,""]
[36,"2019-09-04","2019-09-04",null,null,0,0,0,null,null,null,0,""]
[36,"2019-09-05","2019-09-05",null,null,0,0,0,null,null,null,0,""]
[36,"2019-09-06","2019-09-06",null,null,0,0,0,null,null,null,0,""]
[36,"2019-09-07","2019-09-07",null,null,0,null,0,null,null,"za",0,"","Week",null,"OV WEEK","OV DAG","Recup -","Recup +","OV 50%"]
[36,"2019-09-08","2019-09-08",null,null,0,null,0,null,null,"zo",0,"",{"$f":"SUM(L254:L260)","v":0},{"$f":"SUM(H254:H260)","v":0},{"$f":"IF(N260>40,N260-40,0)","v":0},{"$f":"SUM(M254:M260)","v":0},{"$f":"SUM(I254:I260)","v":0},{"$f":"IF(N260>40,N260-40,0)","v":0},{"$f":"IF(P260>Q260,P260,Q260)","v":0}]
[37,"2019-09-09","2019-09-09",null,null,0,0,0,null,null,null,0,""]
[37,"2019-09-10","2019-09-10",null,null,0,0,0,null,null,null,0,""]
[37,"2019-09-11","2019-09-11",null,null,0,0,0,null,null,null,0,""]
[37,"2019-09-12","2019-09-12",null,null,0,0,0,null,null,null,0,""]
[37,"2019-09-13","2019-09-13",null,null,0,0,0,null,null,null,0,{"$f":"IF(L265>9,L265-9,\"\")","v":""}]
[{"$f":"WEEKNUM(C266,21)","v":37},{"$f":"C266","v":"2019-09-14"},"2019-09-14",null,null,{"$f":"(E266-D266)*24","v":0},null,{"$f":"F266-G266","v":0},null,null,"za",{"$f":"SUM(H266:J266)","v":0},"","Week",null,"OV WEEK","OV DAG","Recup -","Recup +","OV 50%"]
[37,"2019-09-15","2019-09-15",null,null,0,null,0,null,null,"zo",0,"",{"$f":"SUM(L261:L267)","v":0},{"$f":"SUM(H261:H267)","v":0},{"$f":"IF(N267>40,N267-40,0)","v":0},{"$f":"SUM(M261:M267)","v":0},{"$f":"SUM(I261:I267)","v":0},{"$f":"IF(N267>40,N267-40,0)","v":0},{"$f":"IF(P267>Q267,P267,Q267)","v":0}]
[38,"2019-09-16","2019-09-16",null,null,0,{"$f":"IF(F268>=6,0.5,0)","v":0},0,null,null,null,0,""]
[38,"2019-09-17","2019-09-17",null,null,0,0,0,null,null,null,0,""]
[38,"2019-09-18","2019-09-18",null,null,0,0,0,null,null,null,0,""]
[38,"2019-09-19","2019-09-19",null,null,0,0,0,null,null,null,0,""]
[38,"2019-09-20","2019-09-20",null,null,0,0,0,null,null,null,0,""]
[38,"2019-09-21","2019-09-21",null,null,0,null,0,null,null,"za",0,"","Week",null,"OV WEEK","OV DAG","Recup -","Recup +","OV 50%"]
[38,"2019-09-22","2019-09-22",null,null,0,null,0,null,null,"zo",0,"",{"$f":"SUM(L268:L274)","v":0},{"$f":"SUM(H268:H274)","v":0},{"$f":"IF(N274>40,N274-40,0)","v":0},{"$f":"SUM(M268:M274)","v":0},{"$f":"SUM(I268:I274)","v":0},{"$f":"IF(N274>40,N274-40,0)","v":0},{"$f":"IF(P274>Q274,P274,Q274)","v":0}]
[39,"2019-09-23","2019-09-23",null,null,0,0,0,null,null,null,0,""]
[39,"2019-09-24","2019-09-24",null,null,0,0,0,null,null,null,0,""]
[39,"2019-09-25","2019-09-25",null,null,0,0,0,null,null,null,0,""]
[39,"2019-09-26","2019-09-26",null,null,0,0,0,null,null,null,0,""]
[39,"2019-09-27","2019-09-27",null,null,0,0,0,null,null,null,0,""]
[39,"2019-09-28","2019-09-28",null,null,0,null,0,null,null,"za",0,"","Week",null,"OV WEEK","OV DAG","Recup -","Recup +","OV 50%"]
[39,"2019-09-29","2019-09-29",null,null,0,null,0,null,null,"zo",0,"",{"$f":"SUM(L275:L281)","v":0},{"$f":"SUM(H275:H281)","v":0},{"$f":"IF(N281>40,N281-40,0)","v":0},{"$f":"SUM(M275:M281)","v":0},{"$f":"SUM(I275:I281)","v":0},{"$f":"IF(N281>40,N281-40,0)","v":0},{"$f":"IF(P281>Q281,P281,Q281)","v":0}]
[40,"2019-09-30","2019-09-30",null,null,0,0,0,null,null,null,0,""]
[40,"2019-10-01","2019-10-01",null,null,0,0,0,null,null,null,0,""]
[40,"2019-10-02","2019-10-02",null,null,0,0,0,null,null,null,0,""]
[40,"2019-10-03","2019-10-03",null,null,0,0,0,null,null,null,0,""]
[40,"2019-10-04","2019-10-04",null,null,0,0,0,null,null,null,0,""]
[40,"2019-10-05","2019-10-05",null,null,0,null,0,null,null,"za",0,"","Week",null,"OV WEEK","OV DAG","Recup -","Recup +","OV 50%"]
[40,"2019-10-06","2019-10-06",null,null,0,null,0,null,null,"zo",0,"",{"$f":"SUM(L282:L288)","v":0},{"$f":"SUM(H282:H288)","v":0},{"$f":"IF(N288>40,N288-40,0)","v":0},{"$f":"SUM(M282:M288)","v":0},{"$f":"SUM(I282:I288)","v":0},{"$f":"IF(N288>40,N288-40,0)","v":0},{"$f":"IF(P288>Q288,P288,Q288)","v":0}]
[41,"2019-10-07","2019-10-07",null,null,0,0,0,null,null,null,0,""]
[41,"2019-10-08","2019-10-08",null,null,0,0,0,null,null,null,0,""]
[41,"2019-10-09","2019-10-09",null,null,0,0,0,null,null,null,0,""]
[41,"2019-10-10","2019-10-10",null,null,0,0,0,null,null,null,0,""]
[41,"2019-10-11","2019-10-11",null,null,0,0,0,null,null,null,0,""]
[41,"2019-10-12","2019-10-12",null,null,0,null,0,null,null,"za",0,"","Week",null,"OV WEEK","OV DAG","Recup -","Recup +","OV 50%"]
[41,"2019-10-13","2019-10-13",null,null,0,null,0,null,null,"zo",0,"",{"$f":"SUM(L289:L295)","v":0},{"$f":"SUM(H289:H295)","v":0},{"$f":"IF(N295>40,N295-40,0)","v":0},{"$f":"SUM(M289:M295)","v":0},{"$f":"SUM(I289:I295)","v":0},{"$f":"IF(N295>40,N295-40,0)","v":0},{"$f":"IF(P295>Q295,P295,Q295)","v":0}]
[42,"2019-10-14","2019-10-14",null,null,0,0,0,null,null,null,0,""]
[42,"2019-10-15","2019-10-15",null,null,0,0,0,null,null,null,0,""]
[42,"2019-10-16","2019-10-16",null,null,0,0,0,null,null,null,0,""]
[42,"2019-10-17","2019-10-17",null,null,0,0,0,null,null,null,0,""]
[42,"2019-10-18","2019-10-18",null,null,0,0,0,null,null,null,0,""]
[42,"2019-10-19","2019-10-19",null,null,0,null,0,null,null,"za",0,"","Week",null,"OV WEEK","OV DAG","Recup -","Recup +","OV 50%"]
[42,"2019-10-20","2019-10-20",null,null,0,null,0,null,null,"zo",0,"",{"$f":"SUM(L296:L302)","v":0},{"$f":"SUM(H296:H302)","v":0},{"$f":"IF(N302>40,N302-40,0)","v":0},{"$f":"SUM(M296:M302)","v":0},{"$f":"SUM(I296:I302)","v":0},{"$f":"IF(N302>40,N302-40,0)","v":0},{"$f":"IF(P302>Q302,P302,Q302)","v":0}]
[43,"2019-10-21","2019-10-21",null,null,0,0,0,null,null,null,0,""]
[43,"2019-10-22","2019-10-22",null,null,0,0,0,null,null,null,0,""]
[43,"2019-10-23","2019-10-23",null,null,0,0,0,null,null,null,0,""]
[43,"2019-10-24","2019-10-24",null,null,0,0,0,null,null,null,0,""]
[43,"2019-10-25","2019-10-25",null,null,0,0,0,null,null,null,0,""]
[43,"2019-10-26","2019-10-26",null,null,0,null,0,null,null,"za",0,"","Week",null,"OV WEEK","OV DAG","Recup -","Recup +","OV 50%"]
[43,"2019-10-27","2019-10-27",null,null,0,null,0,null,null,"zo",0,"",{"$f":"SUM(L303:L309)","v":0},{"$f":"SUM(H303:H309)","v":0},{"$f":"IF(N309>40,N309-40,0)","v":0},{"$f":"SUM(M303:M309)","v":0},{"$f":"SUM(I303:I309)","v":0},{"$f":"IF(N309>40,N309-40,0)","v":0},{"$f":"IF(P309>Q309,P309,Q309)","v":0}]
[44,"2019-10-28","2019-10-28",null,null,0,0,0,null,null,null,0,""]
[44,"2019-10-29","2019-10-29",null,null,0,0,0,null,null,null,0,""]
[44,"2019-10-30","2019-10-30",null,null,0,0,0,null,null,null,0,""]
[44,"2019-10-31","2019-10-31",null,null,0,0,0,null,null,null,0,""]
[44,"2019-11-01","2019-11-01",null,null,0,0,0,null,7.6,"fd",7.6,""]
[44,"2019-11-02","2019-11-02",null,null,0,null,0,null,null,"za",0,"","Week",null,"OV WEEK","OV DAG","Recup -","Recup +","OV 50%"]
[44,"2019-11-03","2019-11-03",null,null,0,null,0,null,null,"zo",0,"",{"$f":"SUM(L310:L316)","v":7.6},{"$f":"SUM(H310:H316)","v":0},{"$f":"IF(N316>40,N316-40,0)","v":0},{"$f":"SUM(M310:M316)","v":0},{"$f":"SUM(I310:I316)","v":0},{"$f":"IF(N316>40,N316-40,0)","v":0},{"$f":"IF(P316>Q316,P316,Q316)","v":0}]
[45,"2019-11-04","2019-11-04",null,null,0,0,0,null,null,null,0,""]
[45,"2019-11-05","2019-11-05",null,null,0,0,0,null,null,null,0,""]
[45,"2019-11-06","2019-11-06",null,null,0,0,0,null,null,null,0,""]
[45,"2019-11-07","2019-11-07",null,null,0,0,0,null,null,null,0,""]
[45,"2019-11-08","2019-11-08",null,null,0,0,0,null,null,null,0,""]
[45,"2019-11-09","2019-11-09",null,null,0,null,0,null,null,"za",0,"","Week",null,"OV WEEK","OV DAG","Recup -","Recup +","OV 50%"]
[45,"2019-11-10","2019-11-10",null,null,0,null,0,null,null,"zo",0,"",{"$f":"SUM(L317:L323)","v":0},{"$f":"SUM(H317:H323)","v":0},{"$f":"IF(N323>40,N323-40,0)","v":0},{"$f":"SUM(M317:M323)","v":0},{"$f":"SUM(I317:I323)","v":0},{"$f":"IF(N323>40,N323-40,0)","v":0},{"$f":"IF(P323>Q323,P323,Q323)","v":0}]
[46,"2019-11-11","2019-11-11",null,null,0,0,0,null,7.6,"fd",7.6,""]
[46,"2019-11-12","2019-11-12",null,null,0,0,0,null,null,null,0,""]
[46,"2019-11-13","2019-11-13",null,null,0,0,0,null,null,null,0,""]
[46,"2019-11-14","2019-11-14",null,null,0,0,0,null,null,null,0,""]
[46,"2019-11-15","2019-11-15",null,null,0,0,0,null,null,null,0,""]
[46,"2019-11-16","2019-11-16",null,null,0,null,0,null,null,"za",0,{"$f":"IF(L329>9,L329-9,\"\")","v":""},"Week",null,"OV WEEK","OV DAG","Recup -","Recup +","OV 50%"]
[{"$f":"WEEKNUM(C330,21)","v":46},{"$f":"C330","v":"2019-11-17"},"2019-11-17",null,null,{"$f":"(E330-D330)*24","v":0},null,{"$f":"F330-G330","v":0},null,null,"zo",{"$f":"SUM(H330:J330)","v":0},"",{"$f":"SUM(L324:L330)","v":7.6},{"$f":"SUM(H324:H330)","v":0},{"$f":"IF(N330>40,N330-40,0)","v":0},{"$f":"SUM(M324:M330)","v":0},{"$f":"SUM(I324:I330)","v":0},{"$f":"IF(N330>40,N330-40,0)","v":0},{"$f":"IF(P330>Q330,P330,Q330)","v":0}]
[47,"2019-11-18","2019-11-18",null,null,0,{"$f":"IF(F331>=6,0.5,0)","v":0},0,null,null,null,0,""]
[47,"2019-11-19","2019-11-19",null,null,0,0,0,null,null,null,0,""]
[47,"2019-11-20","2019-11-20",null,null,0,0,0,null,null,null,0,""]
[47,"2019-11-21","2019-11-21",null,null,0,0,0,null,null,null,0,""]
[47,"2019-11-22","2019-11-22",null,null,0,0,0,null,null,null,0,""]
[47,"2019-11-23","2019-11-23",null,null,0,null,0,null,null,"za",0,"","Week",null,"OV WEEK","OV DAG","Recup -","Recup +","OV 50%"]
[47,"2019-11-24","2019-11-24",null,null,0,null,0,null,null,"zo",0,"",{"$f":"SUM(L331:L337)","v":0},{"$f":"SUM(H331:H337)","v":0},{"$f":"IF(N337>40,N337-40,0)","v":0},{"$f":"SUM(M331:M337)","v":0},{"$f":"SUM(I331:I337)","v":0},{"$f":"IF(N337>40,N337-40,0)","v":0},{"$f":"IF(P337>Q337,P337,Q337)","v":0}]
[48,"2019-11-25","2019-11-25",null,null,0,0,0,null,null,null,0,""]
[48,"2019-11-26","2019-11-26",null,null,0,0,0,null,null,null,0,""]
[48,"2019-11-27","2019-11-27",null,null,0,0,0,null,null,null,0,""]
[48,"2019-11-28","2019-11-28",null,null,0,0,0,null,null,null,0,""]
[48,"2019-11-29","2019-11-29",null,null,0,0,0,null,null,null,0,""]
[48,"2019-11-30","2019-11-30",null,null,0,null,0,null,null,"za",0,"","Week",null,"OV WEEK","OV DAG","Recup -","Recup +","OV 50%"]
[48,"2019-12-01","2019-12-01",null,null,0,null,0,null,null,"zo",0,"",{"$f":"SUM(L338:L344)","v":0},{"$f":"SUM(H338:H344)","v":0},{"$f":"IF(N344>40,N344-40,0)","v":0},{"$f":"SUM(M338:M344)","v":0},{"$f":"SUM(I338:I344)","v":0},{"$f":"IF(N344>40,N344-40,0)","v":0},{"$f":"IF(P344>Q344,P344,Q344)","v":0}]
[49,"2019-12-02","2019-12-02",null,null,0,0,0,null,null,null,0,""]
[49,"2019-12-03","2019-12-03",null,null,0,0,0,null,null,null,0,""]
[49,"2019-12-04","2019-12-04",null,null,0,0,0,null,null,null,0,""]
[49,"2019-12-05","2019-12-05",null,null,0,0,0,null,null,null,0,""]
[49,"2019-12-06","2019-12-06",null,null,0,0,0,null,null,null,0,""]
[49,"2019-12-07","2019-12-07",null,null,0,null,0,null,null,"za",0,"","Week",null,"OV WEEK","OV DAG","Recup -","Recup +","OV 50%"]
[49,"2019-12-08","2019-12-08",null,null,0,null,0,null,null,"zo",0,"",{"$f":"SUM(L345:L351)","v":0},{"$f":"SUM(H345:H351)","v":0},{"$f":"IF(N351>40,N351-40,0)","v":0},{"$f":"SUM(M345:M351)","v":0},{"$f":"SUM(I345:I351)","v":0},{"$f":"IF(N351>40,N351-40,0)","v":0},{"$f":"IF(P351>Q351,P351,Q351)","v":0}]
[50,"2019-12-09","2019-12-09",null,null,0,0,0,null,null,null,0,""]
[50,"2019-12-10","2019-12-10",null,null,0,0,0,null,null,null,0,""]
[50,"2019-12-11","2019-12-11",null,null,0,0,0,null,null,null,0,""]
[50,"2019-12-12","2019-12-12",null,null,0,0,0,null,null,null,0,""]
[50,"2019-12-13","2019-12-13",null,null,0,0,0,null,null,null,0,""]
[50,"2019-12-14","2019-12-14",null,null,0,null,0,null,null,"za",0,"","Week",null,"OV WEEK","OV DAG","Recup -","Recup +","OV 50%"]
[50,"2019-12-15","2019-12-15",null,null,0,null,0,null,null,"zo",0,"",{"$f":"SUM(L352:L358)","v":0},{"$f":"SUM(H352:H358)","v":0},{"$f":"IF(N358>40,N358-40,0)","v":0},{"$f":"SUM(M352:M358)","v":0},{"$f":"SUM(I352:I358)","v":0},{"$f":"IF(N358>40,N358-40,0)","v":0},{"$f":"IF(P358>Q358,P358,Q358)","v":0}]
[51,"2019-12-16","2019-12-16",null,null,0,0,0,null,null,null,0,""]
[51,"2019-12-17","2019-12-17",null,null,0,0,0,null,null,null,0,""]
[51,"2019-12-18","2019-12-18",null,null,0,0,0,null,null,null,0,""]
[51,"2019-12-19","2019-12-19",null,null,0,0,0,null,null,null,0,""]
[51,"2019-12-20","2019-12-20",null,null,0,0,0,null,null,null,0,""]
[51,"2019-12-21","2019-12-21",null,null,0,null,0,null,null,"za",0,"","Week",null,"OV WEEK","OV DAG","Recup -","Recup +","OV 50%"]
[51,"2019-12-22","2019-12-22",null,null,0,null,0,null,null,"zo",0,"",{"$f":"SUM(L359:L365)","v":0},{"$f":"SUM(H359:H365)","v":0},{"$f":"IF(N365>40,N365-40,0)","v":0},{"$f":"SUM(M359:M365)","v":0},{"$f":"SUM(I359:I365)","v":0},{"$f":"IF(N365>40,N365-40,0)","v":0},{"$f":"IF(P365>Q365,P365,Q365)","v":0}]
[52,"2019-12-23","2019-12-23",null,null,0,0,0,null,null,null,0,""]
[52,"2019-12-24","2019-12-24",null,null,0,0,0,null,null,null,0,""]
[52,"2019-12-25","2019-12-25",null,null,0,0,0,null,7.6,"fd",7.6,""]
[52,"2019-12-26","2019-12-26",null,null,0,0,0,null,null,null,0,""]
[52,"2019-12-27","2019-12-27",null,null,0,0,0,null,null,null,0,""]
[52,"2019-12-28","2019-12-28",null,null,0,null,0,null,null,"za",0,"","Week",null,"OV WEEK","OV DAG","Recup -","Recup +","OV 50%"]
[52,"2019-12-29","2019-12-29",null,null,0,null,0,null,null,"zo",0,"",{"$f":"SUM(L366:L372)","v":7.6},{"$f":"SUM(H366:H372)","v":0},{"$f":"IF(N372>40,N372-40,0)","v":0},{"$f":"SUM(M366:M372)","v":0},{"$f":"SUM(I366:I372)","v":0},{"$f":"IF(N372>40,N372-40,0)","v":0},{"$f":"IF(P372>Q372,P372,Q372)","v":0}]
[1,"2019-12-30","2019-12-30",null,null,0,0,0,null,null,null,0,""]
[1,"2019-12-31","2019-12-31",null,null,0,0,0,null,null,null,0,""]
[1,"2020-01-01","2020-01-01",null,null,0,0,0,null,7.6,"fd",7.6,""]
[1,"2020-01-02","2020-01-02",null,null,0,0,0,null,null,null,0,""]
[1,"2020-01-03","2020-01-03",null,null,0,0,0,null,null,null,0,""]
[1,"2020-01-04","2020-01-04",null,null,0,null,0,null,null,"za",0,"","Week",null,"OV WEEK","OV DAG","Recup -","Recup +","OV 50%"]
[1,"2020-01-05","2020-01-05",null,null,0,null,0,null,null,"zo",0,"",{"$f":"SUM(L373:L379)","v":7.6},{"$f":"SUM(H373:H379)","v":0},{"$f":"IF(N379>40,N379-40,0)","v":0},{"$f":"SUM(M373:M379)","v":0},{"$f":"SUM(I373:I379)","v":0},{"$f":"IF(N379>40,N379-40,0)","v":0},{"$f":"IF(P379>Q379,P379,Q379)","v":0}]

{"sheet":"43","index":11,"n_rows":379,"n_cols":35,"rows_kept":379,"cut":false,"hidden":false,"merged":[[6,21,6,24],[6,25,6,28],[6,29,6,32],[6,33,6,34],[0,1,1,12],[4,21,4,23],[4,25,4,28],[4,29,4,32],[4,33,4,34],[5,21,5,23],[5,25,5,28],[5,29,5,32],[5,33,5,34],[2,21,2,23],[2,25,2,28],[2,29,2,32],[2,33,2,34],[3,21,3,23],[3,25,3,28],[3,29,3,32],[3,33,3,34],[0,21,0,24],[0,25,0,28],[0,29,0,32],[0,33,0,34],[1,21,1,23],[1,25,1,28],[1,29,1,32],[1,33,1,34]]}
["43","Barrera Ernesto",null,null,null,null,null,null,null,null,null,null,null,null,null,null,null,null,null,null,null,"Soort",null,null,null,"Recht op",null,null,null,"Opgenomen",null,null,null,"Saldo"]
[null,null,null,null,null,null,null,null,null,null,null,null,null,null,null,null,null,null,null,null,null,"ADV-dagen",null,null,"adv",null,null,null,null,{"$f":"(COUNTIF(W$9:AH$39,\"ADV\")+(COUNTIF(W$9:AH$39,\"0,5ADV\"))/2)","v":0},null,null,null,{"$f":"Z2-AD2","v":0}]
[null,null,null,null,null,null,null,null,null,null,null,null,null,null,null,null,null,null,null,null,null,"Vakantie 2019",null,null,"v",null,null,null,null,{"$f":"(COUNTIF(W$9:AH$39,\"V\")+(COUNTIF(W$9:AH$39,\"0,5V\"))/2)","v":0},null,null,null,{"$f":"Z3-AD3","v":0}]
["Opgelet avondwerk ! Van 00:00u tot 00:00u / + 0,00u premie 50%",null,null,null,null,null,null,null,null,null,null,null,null,"Feestdag in weekend 2019",null,null,null,null,"Recup 2018",20,null,"Feestdag 2019",null,null,"f",1,null,null,null,{"$f":"(COUNTIF(W$9:AH$39,\"F\")+(COUNTIF(W$9:AH$39,\"0,5F\"))/2)","v":0},null,null,null,1]
[null,null,null,null,null,null,null,null,null,null,null,null,null,"- nationale feestdag 21/7",null,null,null,null,null,null,null,"Vakantie rest 2018",null,null,"vvj",5,null,null,null,{"$f":"(COUNTIF(W$9:AH$39,\"vvj\")+(COUNTIF(W$9:AH$39,\"0,5vvj\"))/2)","v":2},null,null,null,3]
[null,null,null,null,null,null,null,null,null,null,null,null,null,null,null,null,null,null,"Recup",{"$f":"SUM(S9:S379)-SUM(R9:R379)+T5+T4","v":22.65},null,"Anciënniteitsdagen",null,null,"a ",null,null,null,null,{"$f":"(COUNTIF(W$9:AH$39,\"A\")+(COUNTIF(W$9:AH$39,\"0,5A\"))/2)","v":0},null,null,null,0]
[null,null,null,null,null,null,null,null,null,null,null,null,null,null,null,null,null,null,null,null,null,"TOTAAL",null,null,null,{"$f":"SUM(Z2:AC6)","v":6},null,null,null,{"$f":"SUM(AD2:AG6)","v":2},null,null,null,{"$f":"SUM(AH2:AI6)","v":4}]
["W","Dag","Datum","Van ","Tot",null,"Pauze","Prestaties","Recup","Andere","Type","Dag","OV DAG","Week","Prestaties","OV WEEK","OV DAG","Rec. -","Rec. +","OV 50%","M",null,"Jan","Feb","Maa","Apr","Mei","Jun","Jul","Aug","Sept","Okt","Nov","Dec"]
[{"$f":"WEEKNUM(C9,21)","v":1},{"$f":"C9","v":"2018-12-31"},"2018-12-31",null,null,{"$f":"(E9-D9)*24","v":0},{"$f":"IF(F9>=6,0.5,0)","v":0},{"$f":"F9-G9","v":0},null,7.6,"OK",{"$f":"SUM(H9:J9)","v":7.6},{"$f":"IF(L9>9,L9-9,\"\")","v":""},"Goedgekeurde verlof 2018 reeds verwerkt OK!",null,null,null,null,null,null,0,1,{"$f":"K9","v":"OK"},{"$f":"K40","v":0},{"$f":"K68","v":0},{"$f":"K99","v":"zo"},{"$f":"K129","v":0},{"$f":"K160","v":0},{"$f":"K190","v":"zo"},{"$f":"K221","v":0},{"$f":"K252","v":"za"},{"$f":"K282","v":0},{"$f":"K313","v":0},{"$f":"K343","v":"za"},1]
[{"$f":"WEEKNUM(C10,21)","v":1},{"$f":"C10","v":"2019-01-01"},"2019-01-01",null,null,{"$f":"(E10-D10)*24","v":0},{"$f":"IF(F10>=6,0.5,0)","v":0},{"$f":"F10-G10","v":0},null,7.6,"fd",{"$f":"SUM(H10:J10)","v":7.6},"",null,null,null,null,null,null,null,0,2,{"$f":"K10","v":"fd"},{"$f":"K41","v":0},{"$f":"K69","v":0},{"$f":"K100","v":0},{"$f":"K130","v":"fd"},{"$f":"K161","v":"za"},{"$f":"K191","v":0},{"$f":"K222","v":0},{"$f":"K253","v":"zo"},{"$f":"K283","v":0},{"$f":"K314","v":"fd"},{"$f":"K344","v":"zo"},2]
[1,"2019-01-02","2019-01-02",null,null,0,0,0,null,7.6,"vvj",7.6,"","ET 27/09: verlof goedgekeurd CB.",null,null,null,null,null,null,null,3,"vvj","za","za",0,0,"zo",0,0,0,0,"za",0,3]
[1,"2019-01-03","2019-01-03",null,null,0,0,0,null,7.6,"vvj",7.6,"",null,null,null,null,null,null,null,null,4,"vvj","zo","zo",0,0,0,0,"za",0,0,"zo",0,4]
[1,"2019-01-04","2019-01-04","08:15:00","19:00:00",10.75,0.5,10.25,null,null,null,10.25,1.25,null,null,null,null,null,null,null,null,5,0,0,0,0,"za",0,0,"zo",0,0,0,{"$f":"K347","v":0},5]
[1,"2019-01-05","2019-01-05",null,null,0,null,0,null,null,"za",0,"","Week",null,"OV WEEK","OV DAG","Recup -","Recup +","OV 50%",null,6,"za",0,0,0,"zo",0,0,0,0,"za",0,0,6]
[1,"2019-01-06","2019-01-06",null,null,0,null,0,null,null,"zo",0,"",{"$f":"SUM(L9:L15)","v":40.65},{"$f":"SUM(H9:H15)","v":10.25},{"$f":"IF(N15>38,N15-38,0)","v":2.6499999999999986},{"$f":"SUM(M9:M15)","v":1.25},{"$f":"SUM(I9:I15)","v":0},{"$f":"IF(N15>38,N15-38,0)","v":2.6499999999999986},{"$f":"IF(P15>Q15,P15,Q15)","v":2.6499999999999986},null,7,"zo",0,0,"za",0,0,"za",0,0,"zo",0,0,7]
[2,"2019-01-07","2019-01-07",null,null,0,0,0,null,null,null,0,"",null,null,null,null,null,null,null,null,8,0,0,0,"zo",0,0,"zo",0,"za",0,0,"za",8]
[2,"2019-01-08","2019-01-08",null,null,0,0,0,null,null,null,0,"",null,null,null,null,null,null,null,null,9,0,0,0,0,0,"za",0,0,"zo",0,0,"zo",9]
[2,"2019-01-09","2019-01-09",null,null,0,0,0,null,null,null,0,"",null,null,null,null,null,null,null,null,10,0,"za","za",0,0,"zo",0,0,0,0,"za",0,10]
[2,"2019-01-10","2019-01-10",null,null,0,0,0,null,null,null,0,"",null,null,null,null,null,null,null,null,11,0,"zo","zo",0,0,"fd",0,"za",0,0,"zo",0,11]
[2,"2019-01-11","2019-01-11",null,null,0,0,0,null,null,null,0,"",null,null,null,null,null,null,null,null,12,0,0,0,0,"za",0,0,"zo",0,0,"fd",0,12]
[2,"2019-01-12","2019-01-12",null,null,0,null,0,null,null,"za",0,"","Week",null,"OV WEEK","OV DAG","Recup -","Recup +","OV 50%",null,13,"za",0,0,0,"zo",0,0,0,0,"za",0,0,13]
[2,"2019-01-13","2019-01-13",null,null,0,null,0,null,null,"zo",0,"",{"$f":"SUM(L16:L22)","v":0},{"$f":"SUM(H16:H22)","v":0},{"$f":"IF(N22>38,N22-38,0)","v":0},{"$f":"SUM(M16:M22)","v":0},{"$f":"SUM(I16:I22)","v":0},{"$f":"IF(N22>38,N22-38,0)","v":0},{"$f":"IF(P22>Q22,P22,Q22)","v":0},null,14,"zo",0,0,"za",0,0,"za",0,0,"zo",0,0,14]
[3,"2019-01-14","2019-01-14",null,null,0,0,0,null,null,null,0,"",null,null,null,null,null,null,null,null,15,0,0,0,"zo",0,0,"zo",0,"za",0,0,"za",15]
[3,"2019-01-15","2019-01-15",null,null,0,0,0,null,null,null,0,"",null,null,null,null,null,null,null,null,16,0,0,0,0,0,"za",0,"fd","zo",0,0,"zo",16]
[3,"2019-01-16","2019-01-16",null,null,0,0,0,null,null,null,0,"",null,null,null,null,null,null,null,null,17,0,"za","za",0,0,"zo",0,0,0,0,"za",0,17]
[3,"2019-01-17","2019-01-17",null,null,0,0,0,null,null,null,0,"",null,null,null,null,null,null,null,null,18,0,"zo","zo",0,0,0,0,"za",0,0,"zo",0,18]
[3,"2019-01-18","2019-01-18",null,null,0,0,0,null,null,null,0,"",null,null,null,null,null,null,null,null,19,0,0,0,0,"za",0,0,"zo",0,0,0,0,19]
[3,"2019-01-19","2019-01-19",null,null,0,null,0,null,null,"za",0,"","Week",null,"OV WEEK","OV DAG","Recup -","Recup +","OV 50%",null,20,"za",0,0,0,"zo",0,0,0,0,"za",0,{"$f":"K362","v":0},20]
[3,"2019-01-20","2019-01-20",null,null,0,null,0,null,null,"zo",0,"",{"$f":"SUM(L23:L29)","v":0},{"$f":"SUM(H23:H29)","v":0},{"$f":"IF(N29>38,N29-38,0)","v":0},{"$f":"SUM(M23:M29)","v":0},{"$f":"SUM(I23:I29)","v":0},{"$f":"IF(N29>38,N29-38,0)","v":0},{"$f":"IF(P29>Q29,P29,Q29)","v":0},null,21,"zo",0,0,"za","fd",0,"za",0,0,"zo",0,0,21]
[4,"2019-01-21","2019-01-21",null,null,0,0,0,null,null,null,0,"",null,null,null,null,null,null,null,null,22,0,0,0,"zo",0,0,"zo",0,"za",0,0,"za",22]
[4,"2019-01-22","2019-01-22",null,null,0,0,0,null,null,null,0,"",null,null,null,null,null,null,null,null,23,0,0,0,"fd",0,"za",0,0,"zo",0,0,"zo",23]
[4,"2019-01-23","2019-01-23",null,null,0,0,0,null,null,null,0,"",null,null,null,null,null,null,null,null,24,0,"za","za",0,0,"zo",0,0,0,0,"za",0,24]
[4,"2019-01-24","2019-01-24",null,null,0,0,0,null,null,null,0,"",null,null,null,null,null,null,null,null,25,0,"zo","zo",0,0,0,0,"za",0,0,"zo",0,25]
[4,"2019-01-25","2019-01-25",null,null,0,0,0,null,null,null,0,"",null,null,null,null,null,null,null,null,26,0,0,0,0,"za",0,0,"zo",0,0,0,"fd",26]
[4,"2019-01-26","2019-01-26",null,null,0,null,0,null,null,"za",0,"","Week",null,"OV WEEK","OV DAG","Recup -","Recup +","OV 50%",null,27,"za",0,0,0,"zo",0,0,0,0,"za",0,0,27]
[4,"2019-01-27","2019-01-27",null,null,0,null,0,null,null,"zo",0,"",{"$f":"SUM(L30:L36)","v":0},{"$f":"SUM(H30:H36)","v":0},{"$f":"IF(N36>38,N36-38,0)","v":0},{"$f":"SUM(M30:M36)","v":0},{"$f":"SUM(I30:I36)","v":0},{"$f":"IF(N36>38,N36-38,0)","v":0},{"$f":"IF(P36>Q36,P36,Q36)","v":0},null,28,"zo",0,0,"za",0,0,"za",0,0,"zo",0,0,28]
[5,"2019-01-28","2019-01-28",null,null,0,0,0,null,null,null,0,"",null,null,null,null,null,null,null,null,29,0,null,0,"zo",0,0,"zo",0,"za",0,0,"za",29]
[5,"2019-01-29","2019-01-29",null,null,0,0,0,null,null,null,0,"",null,null,null,null,null,null,null,null,30,0,null,0,0,0,"za",0,0,"zo",0,0,"zo",30]
[5,"2019-01-30","2019-01-30",null,null,0,0,0,null,null,null,0,"",null,null,null,null,null,null,null,null,31,0,null,"za",null,"fd",null,0,0,null,0,null,0,31]
[5,"2019-01-31","2019-01-31",null,null,0,0,0,null,null,null,0,"",null,null,null,null,null,null,null,null,"WD",23,20,21,22,23,20,23,22,21,23,21,22,{"$f":"SUM(W40:AH40)","v":261}]
[5,"2019-02-01","2019-02-01",null,null,0,0,0,null,null,null,0,""]
[5,"2019-02-02","2019-02-02",null,null,0,null,0,null,null,"za",0,"","Week",null,"OV WEEK","OV DAG","Recup -","Recup +","OV 50%"]
[5,"2019-02-03","2019-02-03",null,null,0,null,0,null,null,"zo",0,"",{"$f":"SUM(L37:L43)","v":0},{"$f":"SUM(H37:H43)","v":0},{"$f":"IF(N43>38,N43-38,0)","v":0},{"$f":"SUM(M37:M43)","v":0},{"$f":"SUM(I37:I43)","v":0},{"$f":"IF(N43>38,N43-38,0)","v":0},{"$f":"IF(P43>Q43,P43,Q43)","v":0}]
[6,"2019-02-04","2019-02-04",null,null,0,0,0,null,null,null,0,""]
[6,"2019-02-05","2019-02-05",null,null,0,0,0,null,null,null,0,""]
[6,"2019-02-06","2019-02-06",null,null,0,0,0,null,null,null,0,""]
[6,"2019-02-07","2019-02-07",null,null,0,0,0,null,null,null,0,""]
[6,"2019-02-08","2019-02-08",null,null,0,0,0,null,null,null,0,""]
[6,"2019-02-09","2019-02-09",null,null,0,null,0,null,null,"za",0,"","Week",null,"OV WEEK","OV DAG","Recup -","Recup +","OV 50%"]
[6,"2019-02-10","2019-02-10",null,null,0,null,0,null,null,"zo",0,"",{"$f":"SUM(L44:L50)","v":0},{"$f":"SUM(H44:H50)","v":0},{"$f":"IF(N50>38,N50-38,0)","v":0},{"$f":"SUM(M44:M50)","v":0},{"$f":"SUM(I44:I50)","v":0},{"$f":"IF(N50>38,N50-38,0)","v":0},{"$f":"IF(P50>Q50,P50,Q50)","v":0}]
[7,"2019-02-11","2019-02-11",null,null,0,0,0,null,null,null,0,""]
[7,"2019-02-12","2019-02-12",null,null,0,0,0,null,null,null,0,""]
[7,"2019-02-13","2019-02-13",null,null,0,0,0,null,null,null,0,""]
[7,"2019-02-14","2019-02-14",null,null,0,0,0,null,null,null,0,""]
[7,"2019-02-15","2019-02-15",null,null,0,0,0,null,null,null,0,""]
[7,"2019-02-16","2019-02-16",null,null,0,null,0,null,null,"za",0,"","Week",null,"OV WEEK","OV DAG","Recup -","Recup +","OV 50%"]
[7,"2019-02-17","2019-02-17",null,null,0,null,0,null,null,"zo",0,"",{"$f":"SUM(L51:L57)","v":0},{"$f":"SUM(H51:H57)","v":0},{"$f":"IF(N57>38,N57-38,0)","v":0},{"$f":"SUM(M51:M57)","v":0},{"$f":"SUM(I51:I57)","v":0},{"$f":"IF(N57>38,N57-38,0)","v":0},{"$f":"IF(P57>Q57,P57,Q57)","v":0}]
[8,"2019-02-18","2019-02-18",null,null,0,0,0,null,null,null,0,""]
[8,"2019-02-19","2019-02-19",null,null,0,0,0,null,null,null,0,""]
[8,"2019-02-20","2019-02-20",null,null,0,0,0,null,null,null,0,""]
[8,"2019-02-21","2019-02-21",null,null,0,0,0,null,null,null,0,""]
[8,"2019-02-22","2019-02-22",null,null,0,0,0,null,null,null,0,""]
[8,"2019-02-23","2019-02-23",null,null,0,null,0,null,null,"za",0,"","Week",null,"OV WEEK","OV DAG","Recup -","Recup +","OV 50%"]
[8,"2019-02-24","2019-02-24",null,null,0,null,0,null,null,"zo",0,"",{"$f":"SUM(L58:L64)","v":0},{"$f":"SUM(H58:H64)","v":0},{"$f":"IF(N64>38,N64-38,0)","v":0},{"$f":"SUM(M58:M64)","v":0},{"$f":"SUM(I58:I64)","v":0},{"$f":"IF(N64>38,N64-38,0)","v":0},{"$f":"IF(P64>Q64,P64,Q64)","v":0}]
[9,"2019-02-25","2019-02-25",null,null,0,0,0,null,null,null,0,""]
[9,"2019-02-26","2019-02-26",null,null,0,0,0,null,null,null,0,""]
[9,"2019-02-27","2019-02-27",null,null,0,0,0,null,null,null,0,""]
[9,"2019-02-28","2019-02-28",null,null,0,0,0,null,null,null,0,""]
[9,"2019-03-01","2019-03-01",null,null,0,0,0,null,null,null,0,""]
[9,"2019-03-02","2019-03-02",null,null,0,null,0,null,null,"za",0,"","Week",null,"OV WEEK","OV DAG","Recup -","Recup +","OV 50%"]
[9,"2019-03-03","2019-03-03",null,null,0,null,0,null,null,"zo",0,"",{"$f":"SUM(L65:L71)","v":0},{"$f":"SUM(H65:H71)","v":0},{"$f":"IF(N71>38,N71-38,0)","v":0},{"$f":"SUM(M65:M71)","v":0},{"$f":"SUM(I65:I71)","v":0},{"$f":"IF(N71>38,N71-38,0)","v":0},{"$f":"IF(P71>Q71,P71,Q71)","v":0}]
[10,"2019-03-04","2019-03-04",null,null,0,0,0,null,null,null,0,""]
[10,"2019-03-05","2019-03-05",null,null,0,0,0,null,null,null,0,{"$f":"IF(L73>9,L73-9,\"\")","v":""}]
[{"$f":"WEEKNUM(C74,21)","v":10},{"$f":"C74","v":"2019-03-06"},"2019-03-06",null,null,{"$f":"(E74-D74)*24","v":0},{"$f":"IF(F74>=6,0.5,0)","v":0},{"$f":"F74-G74","v":0},null,null,null,{"$f":"SUM(H74:J74)","v":0},""]
[10,"2019-03-07","2019-03-07",null,null,0,0,0,null,null,null,0,""]
[10,"2019-03-08","2019-03-08",null,null,0,0,0,null,null,null,0,""]
[10,"2019-03-09","2019-03-09",null,null,0,null,0,null,null,"za",0,"","Week",null,"OV WEEK","OV DAG","Recup -","Recup +","OV 50%"]
[10,"2019-03-10","2019-03-10",null,null,0,null,0,null,null,"zo",0,"",{"$f":"SUM(L72:L78)","v":0},{"$f":"SUM(H72:H78)","v":0},{"$f":"IF(N78>38,N78-38,0)","v":0},{"$f":"SUM(M72:M78)","v":0},{"$f":"SUM(I72:I78)","v":0},{"$f":"IF(N78>38,N78-38,0)","v":0},{"$f":"IF(P78>Q78,P78,Q78)","v":0}]
[11,"2019-03-11","2019-03-11",null,null,0,0,0,null,null,null,0,""]
[11,"2019-03-12","2019-03-12",null,null,0,0,0,null,null,null,0,""]
[11,"2019-03-13","2019-03-13",null,null,0,0,0,null,null,null,0,""]
[11,"2019-03-14","2019-03-14",null,null,0,0,0,null,null,null,0,""]
[11,"2019-03-15","2019-03-15",null,null,0,0,0,null,null,null,0,""]
[11,"2019-03-16","2019-03-16",null,null,0,null,0,null,null,"za",0,"","Week",null,"OV WEEK","OV DAG","Recup -","Recup +","OV 50%"]
[11,"2019-03-17","2019-03-17",null,null,0,null,0,null,null,"zo",0,"",{"$f":"SUM(L79:L85)","v":0},{"$f":"SUM(H79:H85)","v":0},{"$f":"IF(N85>38,N85-38,0)","v":0},{"$f":"SUM(M79:M85)","v":0},{"$f":"SUM(I79:I85)","v":0},{"$f":"IF(N85>38,N85-38,0)","v":0},{"$f":"IF(P85>Q85,P85,Q85)","v":0}]
[12,"2019-03-18","2019-03-18",null,null,0,0,0,null,null,null,0,""]
[12,"2019-03-19","2019-03-19",null,null,0,0,0,null,null,null,0,""]
[12,"2019-03-20","2019-03-20",null,null,0,0,0,null,null,null,0,""]
[12,"2019-03-21","2019-03-21",null,null,0,0,0,null,null,null,0,""]
[12,"2019-03-22","2019-03-22",null,null,0,0,0,null,null,null,0,""]
[12,"2019-03-23","2019-03-23",null,null,0,null,0,null,null,"za",0,"","Week",null,"OV WEEK","OV DAG","Recup -","Recup +","OV 50%"]
[12,"2019-03-24","2019-03-24",null,null,0,null,0,null,null,"zo",0,"",{"$f":"SUM(L86:L92)","v":0},{"$f":"SUM(H86:H92)","v":0},{"$f":"IF(N92>38,N92-38,0)","v":0},{"$f":"SUM(M86:M92)","v":0},{"$f":"SUM(I86:I92)","v":0},{"$f":"IF(N92>38,N92-38,0)","v":0},{"$f":"IF(P92>Q92,P92,Q92)","v":0}]
[13,"2019-03-25","2019-03-25",null,null,0,0,0,null,null,null,0,""]
[13,"2019-03-26","2019-03-26",null,null,0,0,0,null,null,null,0,""]
[13,"2019-03-27","2019-03-27",null,null,0,0,0,null,null,null,0,""]
[13,"2019-03-28","2019-03-28",null,null,0,0,0,null,null,null,0,""]
[13,"2019-03-29","2019-03-29",null,null,0,0,0,null,null,null,0,""]
[13,"2019-03-30","2019-03-30",null,null,0,null,0,null,null,"za",0,"","Week",null,"OV WEEK","OV DAG","Recup -","Recup +","OV 50%"]
[13,"2019-03-31","2019-03-31",null,null,0,null,0,null,null,"zo",0,"",{"$f":"SUM(L93:L99)","v":0},{"$f":"SUM(H93:H99)","v":0},{"$f":"IF(N99>38,N99-38,0)","v":0},{"$f":"SUM(M93:M99)","v":0},{"$f":"SUM(I93:I99)","v":0},{"$f":"IF(N99>38,N99-38,0)","v":0},{"$f":"IF(P99>Q99,P99,Q99)","v":0}]
[14,"2019-04-01","2019-04-01",null,null,0,0,0,null,null,null,0,""]
[14,"2019-04-02","2019-04-02",null,null,0,0,0,null,null,null,0,""]
[14,"2019-04-03","2019-04-03",null,null,0,0,0,null,null,null,0,""]
[14,"2019-04-04","2019-04-04",null,null,0,0,0,null,null,null,0,""]
[14,"2019-04-05","2019-04-05",null,null,0,0,0,null,null,null,0,""]
[14,"2019-04-06","2019-04-06",null,null,0,null,0,null,null,"za",0,"","Week",null,"OV WEEK","OV DAG","Recup -","Recup +","OV 50%"]
[14,"2019-04-07","2019-04-07",null,null,0,null,0,null,null,"zo",0,"",{"$f":"SUM(L100:L106)","v":0},{"$f":"SUM(H100:H106)","v":0},{"$f":"IF(N106>38,N106-38,0)","v":0},{"$f":"SUM(M100:M106)","v":0},{"$f":"SUM(I100:I106)","v":0},{"$f":"IF(N106>38,N106-38,0)","v":0},{"$f":"IF(P106>Q106,P106,Q106)","v":0}]
[15,"2019-04-08","2019-04-08",null,null,0,0,0,null,null,null,0,""]
[15,"2019-04-09","2019-04-09",null,null,0,0,0,null,null,null,0,""]
[15,"2019-04-10","2019-04-10",null,null,0,0,0,null,null,null,0,""]
[15,"2019-04-11","2019-04-11",null,null,0,0,0,null,null,null,0,""]
[15,"2019-04-12","2019-04-12",null,null,0,0,0,null,null,null,0,""]
[15,"2019-04-13","2019-04-13",null,null,0,null,0,null,null,"za",0,"","Week",null,"OV WEEK","OV DAG","Recup -","Recup +","OV 50%"]
[15,"2019-04-14","2019-04-14",null,null,0,null,0,null,null,"zo",0,"",{"$f":"SUM(L107:L113)","v":0},{"$f":"SUM(H107:H113)","v":0},{"$f":"IF(N113>38,N113-38,0)","v":0},{"$f":"SUM(M107:M113)","v":0},{"$f":"SUM(I107:I113)","v":0},{"$f":"IF(N113>38,N113-38,0)","v":0},{"$f":"IF(P113>Q113,P113,Q113)","v":0}]
[16,"2019-04-15","2019-04-15",null,null,0,0,0,null,null,null,0,""]
[16,"2019-04-16","2019-04-16",null,null,0,0,0,null,null,null,0,""]
[16,"2019-04-17","2019-04-17",null,null,0,0,0,null,null,null,0,""]
[16,"2019-04-18","2019-04-18",null,null,0,0,0,null,null,null,0,""]
[16,"2019-04-19","2019-04-19",null,null,0,0,0,null,null,null,0,""]
[16,"2019-04-20","2019-04-20",null,null,0,null,0,null,null,"za",0,"","Week",null,"OV WEEK","OV DAG","Recup -","Recup +","OV 50%"]
[16,"2019-04-21","2019-04-21",null,null,0,null,0,null,null,"zo",0,"",{"$f":"SUM(L114:L120)","v":0},{"$f":"SUM(H114:H120)","v":0},{"$f":"IF(N120>38,N120-38,0)","v":0},{"$f":"SUM(M114:M120)","v":0},{"$f":"SUM(I114:I120)","v":0},{"$f":"IF(N120>38,N120-38,0)","v":0},{"$f":"IF(P120>Q120,P120,Q120)","v":0}]
[17,"2019-04-22","2019-04-22",null,null,0,0,0,null,7.6,"fd",7.6,""]
[17,"2019-04-23","2019-04-23",null,null,0,0,0,null,null,null,0,""]
[17,"2019-04-24","2019-04-24",null,null,0,0,0,null,null,null,0,""]
[17,"2019-04-25","2019-04-25",null,null,0,0,0,null,null,null,0,""]
[17,"2019-04-26","2019-04-26",null,null,0,0,0,null,null,null,0,""]
[17,"2019-04-27","2019-04-27",null,null,0,null,0,null,null,"za",0,"","Week",null,"OV WEEK","OV DAG","Recup -","Recup +","OV 50%"]
[17,"2019-04-28","2019-04-28",null,null,0,null,0,null,null,"zo",0,"",{"$f":"SUM(L121:L127)","v":7.6},{"$f":"SUM(H121:H127)","v":0},{"$f":"IF(N127>38,N127-38,0)","v":0},{"$f":"SUM(M121:M127)","v":0},{"$f":"SUM(I121:I127)","v":0},{"$f":"IF(N127>38,N127-38,0)","v":0},{"$f":"IF(P127>Q127,P127,Q127)","v":0}]
[18,"2019-04-29","2019-04-29",null,null,0,0,0,null,null,null,0,""]
[18,"2019-04-30","2019-04-30",null,null,0,0,0,null,null,null,0,""]
[18,"2019-05-01","2019-05-01",null,null,0,0,0,null,7.6,"fd",7.6,""]
[18,"2019-05-02","2019-05-02",null,null,0,0,0,null,null,null,0,""]
[18,"2019-05-03","2019-05-03",null,null,0,0,0,null,null,null,0,""]
[18,"2019-05-04","2019-05-04",null,null,0,null,0,null,null,"za",0,"","Week",null,"OV WEEK","OV DAG","Recup -","Recup +","OV 50%"]
[18,"2019-05-05","2019-05-05",null,null,0,null,0,null,null,"zo",0,"",{"$f":"SUM(L128:L134)","v":7.6},{"$f":"SUM(H128:H134)","v":0},{"$f":"IF(N134>38,N134-38,0)","v":0},{"$f":"SUM(M128:M134)","v":0},{"$f":"SUM(I128:I134)","v":0},{"$f":"IF(N134>38,N134-38,0)","v":0},{"$f":"IF(P134>Q134,P134,Q134)","v":0}]
[19,"2019-05-06","2019-05-06",null,null,0,0,0,null,null,null,0,""]
[19,"2019-05-07","2019-05-07",null,null,0,0,0,null,null,null,0,""]
[19,"2019-05-08","2019-05-08",null,null,0,0,0,null,null,null,0,{"$f":"IF(L137>9,L137-9,\"\")","v":""}]
[{"$f":"WEEKNUM(C138,21)","v":19},{"$f":"C138","v":"2019-05-09"},"2019-05-09",null,null,{"$f":"(E138-D138)*24","v":0},{"$f":"IF(F138>=6,0.5,0)","v":0},{"$f":"F138-G138","v":0},null,null,null,{"$f":"SUM(H138:J138)","v":0},""]
[19,"2019-05-10","2019-05-10",null,null,0,0,0,null,null,null,0,""]
[19,"2019-05-11","2019-05-11",null,null,0,null,0,null,null,"za",0,"","Week",null,"OV WEEK","OV DAG","Recup -","Recup +","OV 50%"]
[19,"2019-05-12","2019-05-12",null,null,0,null,0,null,null,"zo",0,"",{"$f":"SUM(L135:L141)","v":0},{"$f":"SUM(H135:H141)","v":0},{"$f":"IF(N141>38,N141-38,0)","v":0},{"$f":"SUM(M135:M141)","v":0},{"$f":"SUM(I135:I141)","v":0},{"$f":"IF(N141>38,N141-38,0)","v":0},{"$f":"IF(P141>Q141,P141,Q141)","v":0}]
[20,"2019-05-13","2019-05-13",null,null,0,0,0,null,null,null,0,""]
[20,"2019-05-14","2019-05-14",null,null,0,0,0,null,null,null,0,""]
[20,"2019-05-15","2019-05-15",null,null,0,0,0,null,null,null,0,""]
[20,"2019-05-16","2019-05-16",null,null,0,0,0,null,null,null,0,""]
[20,"2019-05-17","2019-05-17",null,null,0,0,0,null,null,null,0,""]
[20,"2019-05-18","2019-05-18",null,null,0,null,0,null,null,"za",0,"","Week",null,"OV WEEK","OV DAG","Recup -","Recup +","OV 50%"]
[20,"2019-05-19","2019-05-19",null,null,0,null,0,null,null,"zo",0,"",{"$f":"SUM(L142:L148)","v":0},{"$f":"SUM(H142:H148)","v":0},{"$f":"IF(N148>38,N148-38,0)","v":0},{"$f":"SUM(M142:M148)","v":0},{"$f":"SUM(I142:I148)","v":0},{"$f":"IF(N148>38,N148-38,0)","v":0},{"$f":"IF(P148>Q148,P148,Q148)","v":0}]
[21,"2019-05-20","2019-05-20",null,null,0,0,0,null,7.6,"fd",7.6,""]
[21,"2019-05-21","2019-05-21",null,null,0,0,0,null,null,null,0,""]
[21,"2019-05-22","2019-05-22",null,null,0,0,0,null,null,null,0,""]
[21,"2019-05-23","2019-05-23",null,null,0,0,0,null,null,null,0,""]
[21,"2019-05-24","2019-05-24",null,null,0,0,0,null,null,null,0,""]
[21,"2019-05-25","2019-05-25",null,null,0,null,0,null,null,"za",0,"","Week",null,"OV WEEK","OV DAG","Recup -","Recup +","OV 50%"]
[21,"2019-05-26","2019-05-26",null,null,0,null,0,null,null,"zo",0,"",{"$f":"SUM(L149:L155)","v":7.6},{"$f":"SUM(H149:H155)","v":0},{"$f":"IF(N155>38,N155-38,0)","v":0},{"$f":"SUM(M149:M155)","v":0},{"$f":"SUM(I149:I155)","v":0},{"$f":"IF(N155>38,N155-38,0)","v":0},{"$f":"IF(P155>Q155,P155,Q155)","v":0}]
[22,"2019-05-27","2019-05-27",null,null,0,0,0,null,null,null,0,""]
[22,"2019-05-28","2019-05-28",null,null,0,0,0,null,null,null,0,""]
[22,"2019-05-29","2019-05-29",null,null,0,0,0,null,null,null,0,""]
[22,"2019-05-30","2019-05-30",null,null,0,0,0,null,7.6,"fd",7.6,""]
[22,"2019-05-31","2019-05-31",null,null,0,0,0,null,null,null,0,""]
[22,"2019-06-01","2019-06-01",null,null,0,null,0,null,null,"za",0,"","Week",null,"OV WEEK","OV DAG","Recup -","Recup +","OV 50%"]
[22,"2019-06-02","2019-06-02",null,null,0,null,0,null,null,"zo",0,"",{"$f":"SUM(L156:L162)","v":7.6},{"$f":"SUM(H156:H162)","v":0},{"$f":"IF(N162>38,N162-38,0)","v":0},{"$f":"SUM(M156:M162)","v":0},{"$f":"SUM(I156:I162)","v":0},{"$f":"IF(N162>38,N162-38,0)","v":0},{"$f":"IF(P162>Q162,P162,Q162)","v":0}]
[23,"2019-06-03","2019-06-03",null,null,0,0,0,null,null,null,0,""]
[23,"2019-06-04","2019-06-04",null,null,0,0,0,null,null,null,0,""]
[23,"2019-06-05","2019-06-05",null,null,0,0,0,null,null,null,0,""]
[23,"2019-06-06","2019-06-06",null,null,0,0,0,null,null,null,0,""]
[23,"2019-06-07","2019-06-07",null,null,0,0,0,null,null,null,0,""]
[23,"2019-06-08","2019-06-08",null,null,0,null,0,null,null,"za",0,"","Week",null,"OV WEEK","OV DAG","Recup -","Recup +","OV 50%"]
[23,"2019-06-09","2019-06-09",null,null,0,null,0,null,null,"zo",0,"",{"$f":"SUM(L163:L169)","v":0},{"$f":"SUM(H163:H169)","v":0},{"$f":"IF(N169>38,N169-38,0)","v":0},{"$f":"SUM(M163:M169)","v":0},{"$f":"SUM(I163:I169)","v":0},{"$f":"IF(N169>38,N169-38,0)","v":0},{"$f":"IF(P169>Q169,P169,Q169)","v":0}]
[24,"2019-06-10","2019-06-10",null,null,0,0,0,null,7.6,"fd",7.6,""]
[24,"2019-06-11","2019-06-11",null,null,0,0,0,null,null,null,0,""]
[24,"2019-06-12","2019-06-12",null,null,0,0,0,null,null,null,0,""]
[24,"2019-06-13","2019-06-13",null,null,0,0,0,null,null,null,0,""]
[24,"2019-06-14","2019-06-14",null,null,0,0,0,null,null,null,0,""]
[24,"2019-06-15","2019-06-15",null,null,0,null,0,null,null,"za",0,"","Week",null,"OV WEEK","OV DAG","Recup -","Recup +","OV 50%"]
[24,"2019-06-16","2019-06-16",null,null,0,null,0,null,null,"zo",0,"",{"$f":"SUM(L170:L176)","v":7.6},{"$f":"SUM(H170:H176)","v":0},{"$f":"IF(N176>38,N176-38,0)","v":0},{"$f":"SUM(M170:M176)","v":0},{"$f":"SUM(I170:I176)","v":0},{"$f":"IF(N176>38,N176-38,0)","v":0},{"$f":"IF(P176>Q176,P176,Q176)","v":0}]
[25,"2019-06-17","2019-06-17",null,null,0,0,0,null,null,null,0,""]
[25,"2019-06-18","2019-06-18",null,null,0,0,0,null,null,null,0,""]
[25,"2019-06-19","2019-06-19",null,null,0,0,0,null,null,null,0,""]
[25,"2019-06-20","2019-06-20",null,null,0,0,0,null,null,null,0,""]
[25,"2019-06-21","2019-06-21",null,null,0,0,0,null,null,null,0,""]
[25,"2019-06-22","2019-06-22",null,null,0,null,0,null,null,"za",0,"","Week",null,"OV WEEK","OV DAG","Recup -","Recup +","OV 50%"]
[25,"2019-06-23","2019-06-23",null,null,0,null,0,null,null,"zo",0,"",{"$f":"SUM(L177:L183)","v":0},{"$f":"SUM(H177:H183)","v":0},{"$f":"IF(N183>38,N183-38,0)","v":0},{"$f":"SUM(M177:M183)","v":0},{"$f":"SUM(I177:I183)","v":0},{"$f":"IF(N183>38,N183-38,0)","v":0},{"$f":"IF(P183>Q183,P183,Q183)","v":0}]
[26,"2019-06-24","2019-06-24",null,null,0,0,0,null,null,null,0,""]
[26,"2019-06-25","2019-06-25",null,null,0,0,0,null,null,null,0,""]
[26,"2019-06-26","2019-06-26",null,null,0,0,0,null,null,null,0,""]
[26,"2019-06-27","2019-06-27",null,null,0,0,0,null,null,null,0,""]
[26,"2019-06-28","2019-06-28",null,null,0,0,0,null,null,null,0,""]
[26,"2019-06-29","2019-06-29",null,null,0,null,0,null,null,"za",0,"","Week",null,"OV WEEK","OV DAG","Recup -","Recup +","OV 50%"]
[26,"2019-06-30","2019-06-30",null,null,0,null,0,null,null,"zo",0,"",{"$f":"SUM(L184:L190)","v":0},{"$f":"SUM(H184:H190)","v":0},{"$f":"IF(N190>38,N190-38,0)","v":0},{"$f":"SUM(M184:M190)","v":0},{"$f":"SUM(I184:I190)","v":0},{"$f":"IF(N190>38,N190-38,0)","v":0},{"$f":"IF(P190>Q190,P190,Q190)","v":0}]
[27,"2019-07-01","2019-07-01",null,null,0,0,0,null,null,null,0,""]
[27,"2019-07-02","2019-07-02",null,null,0,0,0,null,null,null,0,""]
[27,"2019-07-03","2019-07-03",null,null,0,0,0,null,null,null,0,""]
[27,"2019-07-04","2019-07-04",null,null,0,0,0,null,null,null,0,""]
[27,"2019-07-05","2019-07-05",null,null,0,0,0,null,null,null,0,""]
[27,"2019-07-06","2019-07-06",null,null,0,null,0,null,null,"za",0,"","Week",null,"OV WEEK","OV DAG","Recup -","Recup +","OV 50%"]
[27,"2019-07-07","2019-07-07",null,null,0,null,0,null,null,"zo",0,"",{"$f":"SUM(L191:L197)","v":0},{"$f":"SUM(H191:H197)","v":0},{"$f":"IF(N197>38,N197-38,0)","v":0},{"$f":"SUM(M191:M197)","v":0},{"$f":"SUM(I191:I197)","v":0},{"$f":"IF(N197>38,N197-38,0)","v":0},{"$f":"IF(P197>Q197,P197,Q197)","v":0}]
[28,"2019-07-08","2019-07-08",null,null,0,0,0,null,null,null,0,""]
[28,"2019-07-09","2019-07-09",null,null,0,0,0,null,null,null,0,""]
[28,"2019-07-10","2019-07-10",null,null,0,0,0,null,null,null,0,""]
[28,"2019-07-11","2019-07-11",null,null,0,0,0,null,null,null,0,{"$f":"IF(L201>9,L201-9,\"\")","v":""}]
[{"$f":"WEEKNUM(C202,21)","v":28},{"$f":"C202","v":"2019-07-12"},"2019-07-12",null,null,{"$f":"(E202-D202)*24","v":0},{"$f":"IF(F202>=6,0.5,0)","v":0},{"$f":"F202-G202","v":0},null,null,null,{"$f":"SUM(H202:J202)","v":0},""]
[28,"2019-07-13","2019-07-13",null,null,0,null,0,null,null,"za",0,"","Week",null,"OV WEEK","OV DAG","Recup -","Recup +","OV 50%"]
[28,"2019-07-14","2019-07-14",null,null,0,null,0,null,null,"zo",0,"",{"$f":"SUM(L198:L204)","v":0},{"$f":"SUM(H198:H204)","v":0},{"$f":"IF(N204>38,N204-38,0)","v":0},{"$f":"SUM(M198:M204)","v":0},{"$f":"SUM(I198:I204)","v":0},{"$f":"IF(N204>38,N204-38,0)","v":0},{"$f":"IF(P204>Q204,P204,Q204)","v":0}]
[29,"2019-07-15","2019-07-15",null,null,0,0,0,null,null,null,0,""]
[29,"2019-07-16","2019-07-16",null,null,0,0,0,null,null,null,0,""]
[29,"2019-07-17","2019-07-17",null,null,0,0,0,null,null,null,0,""]
[29,"2019-07-18","2019-07-18",null,null,0,0,0,null,null,null,0,""]
[29,"2019-07-19","2019-07-19",null,null,0,0,0,null,null,null,0,""]
[29,"2019-07-20","2019-07-20",null,null,0,null,0,null,null,"za",0,"","Week",null,"OV WEEK","OV DAG","Recup -","Recup +","OV 50%"]
[29,"2019-07-21","2019-07-21",null,null,0,null,0,null,null,"zo",0,"",{"$f":"SUM(L205:L211)","v":0},{"$f":"SUM(H205:H211)","v":0},{"$f":"IF(N211>38,N211-38,0)","v":0},{"$f":"SUM(M205:M211)","v":0},{"$f":"SUM(I205:I211)","v":0},{"$f":"IF(N211>38,N211-38,0)","v":0},{"$f":"IF(P211>Q211,P211,Q211)","v":0}]
[30,"2019-07-22","2019-07-22",null,null,0,0,0,null,null,null,0,""]
[30,"2019-07-23","2019-07-23",null,null,0,0,0,null,null,null,0,""]
[30,"2019-07-24","2019-07-24",null,null,0,0,0,null,null,null,0,""]
[30,"2019-07-25","2019-07-25",null,null,0,0,0,null,null,null,0,""]
[30,"2019-07-26","2019-07-26",null,null,0,0,0,null,null,null,0,""]
[30,"2019-07-27","2019-07-27",null,null,0,null,0,null,null,"za",0,"","Week",null,"OV WEEK","OV DAG","Recup -","Recup +","OV 50%"]
[30,"2019-07-28","2019-07-28",null,null,0,null,0,null,null,"zo",0,"",{"$f":"SUM(L212:L218)","v":0},{"$f":"SUM(H212:H218)","v":0},{"$f":"IF(N218>38,N218-38,0)","v":0},{"$f":"SUM(M212:M218)","v":0},{"$f":"SUM(I212:I218)","v":0},{"$f":"IF(N218>38,N218-38,0)","v":0},{"$f":"IF(P218>Q218,P218,Q218)","v":0}]
[31,"2019-07-29","2019-07-29",null,null,0,0,0,null,null,null,0,""]
[31,"2019-07-30","2019-07-30",null,null,0,0,0,null,null,null,0,""]
[31,"2019-07-31","2019-07-31",null,null,0,0,0,null,null,null,0,""]
[31,"2019-08-01","2019-08-01",null,null,0,0,0,null,null,null,0,""]
[31,"2019-08-02","2019-08-02",null,null,0,0,0,null,null,null,0,""]
[31,"2019-08-03","2019-08-03",null,null,0,null,0,null,null,"za",0,"","Week",null,"OV WEEK","OV DAG","Recup -","Recup +","OV 50%"]
[31,"2019-08-04","2019-08-04",null,null,0,null,0,null,null,"zo",0,"",{"$f":"SUM(L219:L225)","v":0},{"$f":"SUM(H219:H225)","v":0},{"$f":"IF(N225>38,N225-38,0)","v":0},{"$f":"SUM(M219:M225)","v":0},{"$f":"SUM(I219:I225)","v":0},{"$f":"IF(N225>38,N225-38,0)","v":0},{"$f":"IF(P225>Q225,P225,Q225)","v":0}]
[32,"2019-08-05","2019-08-05",null,null,0,0,0,null,null,null,0,""]
[32,"2019-08-06","2019-08-06",null,null,0,0,0,null,null,null,0,""]
[32,"2019-08-07","2019-08-07",null,null,0,0,0,null,null,null,0,""]
[32,"2019-08-08","2019-08-08",null,null,0,0,0,null,null,null,0,""]
[32,"2019-08-09","2019-08-09",null,null,0,0,0,null,null,null,0,""]
[32,"2019-08-10","2019-08-10",null,null,0,null,0,null,null,"za",0,"","Week",null,"OV WEEK","OV DAG","Recup -","Recup +","OV 50%"]
[32,"2019-08-11","2019-08-11",null,null,0,null,0,null,null,"zo",0,"",{"$f":"SUM(L226:L232)","v":0},{"$f":"SUM(H226:H232)","v":0},{"$f":"IF(N232>38,N232-38,0)","v":0},{"$f":"SUM(M226:M232)","v":0},{"$f":"SUM(I226:I232)","v":0},{"$f":"IF(N232>38,N232-38,0)","v":0},{"$f":"IF(P232>Q232,P232,Q232)","v":0}]
[33,"2019-08-12","2019-08-12",null,null,0,0,0,null,null,null,0,""]
[33,"2019-08-13","2019-08-13",null,null,0,0,0,null,null,null,0,""]
[33,"2019-08-14","2019-08-14",null,null,0,0,0,null,null,null,0,""]
[33,"2019-08-15","2019-08-15",null,null,0,0,0,null,7.6,"fd",7.6,""]
[33,"2019-08-16","2019-08-16",null,null,0,0,0,null,null,null,0,""]
[33,"2019-08-17","2019-08-17",null,null,0,null,0,null,null,"za",0,"","Week",null,"OV WEEK","OV DAG","Recup -","Recup +","OV 50%"]
[33,"2019-08-18","2019-08-18",null,null,0,null,0,null,null,"zo",0,"",{"$f":"SUM(L233:L239)","v":7.6},{"$f":"SUM(H233:H239)","v":0},{"$f":"IF(N239>38,N239-38,0)","v":0},{"$f":"SUM(M233:M239)","v":0},{"$f":"SUM(I233:I239)","v":0},{"$f":"IF(N239>38,N239-38,0)","v":0},{"$f":"IF(P239>Q239,P239,Q239)","v":0}]
[34,"2019-08-19","2019-08-19",null,null,0,0,0,null,null,null,0,""]
[34,"2019-08-20","2019-08-20",null,null,0,{"$f":"IF(F241>=6,0.5,0)","v":0},0,null,null,null,0,""]
[34,"2019-08-21","2019-08-21",null,null,0,0,0,null,null,null,0,""]
[34,"2019-08-22","2019-08-22",null,null,0,0,0,null,null,null,0,""]
[34,"2019-08-23","2019-08-23",null,null,0,0,0,null,null,null,0,""]
[34,"2019-08-24","2019-08-24",null,null,0,null,0,null,null,"za",0,"","Week",null,"OV WEEK","OV DAG","Recup -","Recup +","OV 50%"]
[34,"2019-08-25","2019-08-25",null,null,0,null,0,null,null,"zo",0,"",{"$f":"SUM(L240:L246)","v":0},{"$f":"SUM(H240:H246)","v":0},{"$f":"IF(N246>38,N246-38,0)","v":0},{"$f":"SUM(M240:M246)","v":0},{"$f":"SUM(I240:I246)","v":0},{"$f":"IF(N246>38,N246-38,0)","v":0},{"$f":"IF(P246>Q246,P246,Q246)","v":0}]
[35,"2019-08-26","2019-08-26",null,null,0,0,0,null,null,null,0,""]
[35,"2019-08-27","2019-08-27",null,null,0,0,0,null,null,null,0,""]
[35,"2019-08-28","2019-08-28",null,null,0,0,0,null,null,null,0,""]
[35,"2019-08-29","2019-08-29",null,null,0,0,0,null,null,null,0,""]
[35,"2019-08-30","2019-08-30",null,null,0,0,0,null,null,null,0,""]
[35,"2019-08-31","2019-08-31",null,null,0,null,0,null,null,"za",0,"","Week",null,"OV WEEK","OV DAG","Recup -","Recup +","OV 50%"]
[35,"2019-09-01","2019-09-01",null,null,0,null,0,null,null,"zo",0,"",{"$f":"SUM(L247:L253)","v":0},{"$f":"SUM(H247:H253)","v":0},{"$f":"IF(N253>38,N253-38,0)","v":0},{"$f":"SUM(M247:M253)","v":0},{"$f":"SUM(I247:I253)","v":0},{"$f":"IF(N253>38,N253-38,0)","v":0},{"$f":"IF(P253>Q253,P253,Q253)","v":0}]
[36,"2019-09-02","2019-09-02",null,null,0,0,0,null,null,null,0,""]
[36,"2019-09-03","2019-09-03",null,null,0,0,0,null,null,null,0,""]
[36,"2019-09-04","2019-09-04",null,null,0,0,0,null,null,null,0,""]
[36,"2019-09-05","2019-09-05",null,null,0,0,0,null,null,null,0,""]
[36,"2019-09-06","2019-09-06",null,null,0,0,0,null,null,null,0,""]
[36,"2019-09-07","2019-09-07",null,null,0,null,0,null,null,"za",0,"","Week",null,"OV WEEK","OV DAG","Recup -","Recup +","OV 50%"]
[36,"2019-09-08","2019-09-08",null,null,0,null,0,null,null,"zo",0,"",{"$f":"SUM(L254:L260)","v":0},{"$f":"SUM(H254:H260)","v":0},{"$f":"IF(N260>38,N260-38,0)","v":0},{"$f":"SUM(M254:M260)","v":0},{"$f":"SUM(I254:I260)","v":0},{"$f":"IF(N260>38,N260-38,0)","v":0},{"$f":"IF(P260>Q260,P260,Q260)","v":0}]
[37,"2019-09-09","2019-09-09",null,null,0,0,0,null,null,null,0,""]
[37,"2019-09-10","2019-09-10",null,null,0,0,0,null,null,null,0,""]
[37,"2019-09-11","2019-09-11",null,null,0,0,0,null,null,null,0,""]
[37,"2019-09-12","2019-09-12",null,null,0,0,0,null,null,null,0,""]
[37,"2019-09-13","2019-09-13",null,null,0,0,0,null,null,null,0,{"$f":"IF(L265>9,L265-9,\"\")","v":""}]
[{"$f":"WEEKNUM(C266,21)","v":37},{"$f":"C266","v":"2019-09-14"},"2019-09-14",null,null,{"$f":"(E266-D266)*24","v":0},null,{"$f":"F266-G266","v":0},null,null,"za",{"$f":"SUM(H266:J266)","v":0},"","Week",null,"OV WEEK","OV DAG","Recup -","Recup +","OV 50%"]
[37,"2019-09-15","2019-09-15",null,null,0,null,0,null,null,"zo",0,"",{"$f":"SUM(L261:L267)","v":0},{"$f":"SUM(H261:H267)","v":0},{"$f":"IF(N267>38,N267-38,0)","v":0},{"$f":"SUM(M261:M267)","v":0},{"$f":"SUM(I261:I267)","v":0},{"$f":"IF(N267>38,N267-38,0)","v":0},{"$f":"IF(P267>Q267,P267,Q267)","v":0}]
[38,"2019-09-16","2019-09-16",null,null,0,{"$f":"IF(F268>=6,0.5,0)","v":0},0,null,null,null,0,""]
[38,"2019-09-17","2019-09-17",null,null,0,0,0,null,null,null,0,""]
[38,"2019-09-18","2019-09-18",null,null,0,0,0,null,null,null,0,""]
[38,"2019-09-19","2019-09-19",null,null,0,0,0,null,null,null,0,""]
[38,"2019-09-20","2019-09-20",null,null,0,0,0,null,null,null,0,""]
[38,"2019-09-21","2019-09-21",null,null,0,null,0,null,null,"za",0,"","Week",null,"OV WEEK","OV DAG","Recup -","Recup +","OV 50%"]
[38,"2019-09-22","2019-09-22",null,null,0,null,0,null,null,"zo",0,"",{"$f":"SUM(L268:L274)","v":0},{"$f":"SUM(H268:H274)","v":0},{"$f":"IF(N274>38,N274-38,0)","v":0},{"$f":"SUM(M268:M274)","v":0},{"$f":"SUM(I268:I274)","v":0},{"$f":"IF(N274>38,N274-38,0)","v":0},{"$f":"IF(P274>Q274,P274,Q274)","v":0}]
[39,"2019-09-23","2019-09-23",null,null,0,0,0,null,null,null,0,""]
[39,"2019-09-24","2019-09-24",null,null,0,0,0,null,null,null,0,""]
[39,"2019-09-25","2019-09-25",null,null,0,0,0,null,null,null,0,""]
[39,"2019-09-26","2019-09-26",null,null,0,0,0,null,null,null,0,""]
[39,"2019-09-27","2019-09-27",null,null,0,0,0,null,null,null,0,""]
[39,"2019-09-28","2019-09-28",null,null,0,null,0,null,null,"za",0,"","Week",null,"OV WEEK","OV DAG","Recup -","Recup +","OV 50%"]
[39,"2019-09-29","2019-09-29",null,null,0,null,0,null,null,"zo",0,"",{"$f":"SUM(L275:L281)","v":0},{"$f":"SUM(H275:H281)","v":0},{"$f":"IF(N281>38,N281-38,0)","v":0},{"$f":"SUM(M275:M281)","v":0},{"$f":"SUM(I275:I281)","v":0},{"$f":"IF(N281>38,N281-38,0)","v":0},{"$f":"IF(P281>Q281,P281,Q281)","v":0}]
[40,"2019-09-30","2019-09-30",null,null,0,0,0,null,null,null,0,""]
[40,"2019-10-01","2019-10-01",null,null,0,0,0,null,null,null,0,""]
[40,"2019-10-02","2019-10-02",null,null,0,0,0,null,null,null,0,""]
[40,"2019-10-03","2019-10-03",null,null,0,0,0,null,null,null,0,""]
[40,"2019-10-04","2019-10-04",null,null,0,0,0,null,null,null,0,""]
[40,"2019-10-05","2019-10-05",null,null,0,null,0,null,null,"za",0,"","Week",null,"OV WEEK","OV DAG","Recup -","Recup +","OV 50%"]
[40,"2019-10-06","2019-10-06",null,null,0,null,0,null,null,"zo",0,"",{"$f":"SUM(L282:L288)","v":0},{"$f":"SUM(H282:H288)","v":0},{"$f":"IF(N288>38,N288-38,0)","v":0},{"$f":"SUM(M282:M288)","v":0},{"$f":"SUM(I282:I288)","v":0},{"$f":"IF(N288>38,N288-38,0)","v":0},{"$f":"IF(P288>Q288,P288,Q288)","v":0}]
[41,"2019-10-07","2019-10-07",null,null,0,0,0,null,null,null,0,""]
[41,"2019-10-08","2019-10-08",null,null,0,0,0,null,null,null,0,""]
[41,"2019-10-09","2019-10-09",null,null,0,0,0,null,null,null,0,""]
[41,"2019-10-10","2019-10-10",null,null,0,0,0,null,null,null,0,""]
[41,"2019-10-11","2019-10-11",null,null,0,0,0,null,null,null,0,""]
[41,"2019-10-12","2019-10-12",null,null,0,null,0,null,null,"za",0,"","Week",null,"OV WEEK","OV DAG","Recup -","Recup +","OV 50%"]
[41,"2019-10-13","2019-10-13",null,null,0,null,0,null,null,"zo",0,"",{"$f":"SUM(L289:L295)","v":0},{"$f":"SUM(H289:H295)","v":0},{"$f":"IF(N295>38,N295-38,0)","v":0},{"$f":"SUM(M289:M295)","v":0},{"$f":"SUM(I289:I295)","v":0},{"$f":"IF(N295>38,N295-38,0)","v":0},{"$f":"IF(P295>Q295,P295,Q295)","v":0}]
[42,"2019-10-14","2019-10-14",null,null,0,0,0,null,null,null,0,""]
[42,"2019-10-15","2019-10-15",null,null,0,0,0,null,null,null,0,""]
[42,"2019-10-16","2019-10-16",null,null,0,0,0,null,null,null,0,""]
[42,"2019-10-17","2019-10-17",null,null,0,0,0,null,null,null,0,""]
[42,"2019-10-18","2019-10-18",null,null,0,0,0,null,null,null,0,""]
[42,"2019-10-19","2019-10-19",null,null,0,null,0,null,null,"za",0,"","Week",null,"OV WEEK","OV DAG","Recup -","Recup +","OV 50%"]
[42,"2019-10-20","2019-10-20",null,null,0,null,0,null,null,"zo",0,"",{"$f":"SUM(L296:L302)","v":0},{"$f":"SUM(H296:H302)","v":0},{"$f":"IF(N302>38,N302-38,0)","v":0},{"$f":"SUM(M296:M302)","v":0},{"$f":"SUM(I296:I302)","v":0},{"$f":"IF(N302>38,N302-38,0)","v":0},{"$f":"IF(P302>Q302,P302,Q302)","v":0}]
[43,"2019-10-21","2019-10-21",null,null,0,0,0,null,null,null,0,""]
[43,"2019-10-22","2019-10-22",null,null,0,0,0,null,null,null,0,""]
[43,"2019-10-23","2019-10-23",null,null,0,0,0,null,null,null,0,""]
[43,"2019-10-24","2019-10-24",null,null,0,0,0,null,null,null,0,""]
[43,"2019-10-25","2019-10-25",null,null,0,0,0,null,null,null,0,""]
[43,"2019-10-26","2019-10-26",null,null,0,null,0,null,null,"za",0,"","Week",null,"OV WEEK","OV DAG","Recup -","Recup +","OV 50%"]
[43,"2019-10-27","2019-10-27",null,null,0,null,0,null,null,"zo",0,"",{"$f":"SUM(L303:L309)","v":0},{"$f":"SUM(H303:H309)","v":0},{"$f":"IF(N309>38,N309-38,0)","v":0},{"$f":"SUM(M303:M309)","v":0},{"$f":"SUM(I303:I309)","v":0},{"$f":"IF(N309>38,N309-38,0)","v":0},{"$f":"IF(P309>Q309,P309,Q309)","v":0}]
[44,"2019-10-28","2019-10-28",null,null,0,0,0,null,null,null,0,""]
[44,"2019-10-29","2019-10-29",null,null,0,0,0,null,null,null,0,""]
[44,"2019-10-30","2019-10-30",null,null,0,0,0,null,null,null,0,""]
[44,"2019-10-31","2019-10-31",null,null,0,0,0,null,null,null,0,""]
[44,"2019-11-01","2019-11-01",null,null,0,0,0,null,7.6,"fd",7.6,""]
[44,"2019-11-02","2019-11-02",null,null,0,null,0,null,null,"za",0,"","Week",null,"OV WEEK","OV DAG","Recup -","Recup +","OV 50%"]
[44,"2019-11-03","2019-11-03",null,null,0,null,0,null,null,"zo",0,"",{"$f":"SUM(L310:L316)","v":7.6},{"$f":"SUM(H310:H316)","v":0},{"$f":"IF(N316>38,N316-38,0)","v":0},{"$f":"SUM(M310:M316)","v":0},{"$f":"SUM(I310:I316)","v":0},{"$f":"IF(N316>38,N316-38,0)","v":0},{"$f":"IF(P316>Q316,P316,Q316)","v":0}]
[45,"2019-11-04","2019-11-04",null,null,0,0,0,null,null,null,0,""]
[45,"2019-11-05","2019-11-05",null,null,0,0,0,null,null,null,0,""]
[45,"2019-11-06","2019-11-06",null,null,0,0,0,null,null,null,0,""]
[45,"2019-11-07","2019-11-07",null,null,0,0,0,null,null,null,0,""]
[45,"2019-11-08","2019-11-08",null,null,0,0,0,null,null,null,0,""]
[45,"2019-11-09","2019-11-09",null,null,0,null,0,null,null,"za",0,"","Week",null,"OV WEEK","OV DAG","Recup -","Recup +","OV 50%"]
[45,"2019-11-10","2019-11-10",null,null,0,null,0,null,null,"zo",0,"",{"$f":"SUM(L317:L323)","v":0},{"$f":"SUM(H317:H323)","v":0},{"$f":"IF(N323>38,N323-38,0)","v":0},{"$f":"SUM(M317:M323)","v":0},{"$f":"SUM(I317:I323)","v":0},{"$f":"IF(N323>38,N323-38,0)","v":0},{"$f":"IF(P323>Q323,P323,Q323)","v":0}]
[46,"2019-11-11","2019-11-11",null,null,0,0,0,null,7.6,"fd",7.6,""]
[46,"2019-11-12","2019-11-12",null,null,0,0,0,null,null,null,0,""]
[46,"2019-11-13","2019-11-13",null,null,0,0,0,null,null,null,0,""]
[46,"2019-11-14","2019-11-14",null,null,0,0,0,null,null,null,0,""]
[46,"2019-11-15","2019-11-15",null,null,0,0,0,null,null,null,0,""]
[46,"2019-11-16","2019-11-16",null,null,0,null,0,null,null,"za",0,{"$f":"IF(L329>9,L329-9,\"\")","v":""},"Week",null,"OV WEEK","OV DAG","Recup -","Recup +","OV 50%"]
[{"$f":"WEEKNUM(C330,21)","v":46},{"$f":"C330","v":"2019-11-17"},"2019-11-17",null,null,{"$f":"(E330-D330)*24","v":0},null,{"$f":"F330-G330","v":0},null,null,"zo",{"$f":"SUM(H330:J330)","v":0},"",{"$f":"SUM(L324:L330)","v":7.6},{"$f":"SUM(H324:H330)","v":0},{"$f":"IF(N330>38,N330-38,0)","v":0},{"$f":"SUM(M324:M330)","v":0},{"$f":"SUM(I324:I330)","v":0},{"$f":"IF(N330>38,N330-38,0)","v":0},{"$f":"IF(P330>Q330,P330,Q330)","v":0}]
[47,"2019-11-18","2019-11-18",null,null,0,{"$f":"IF(F331>=6,0.5,0)","v":0},0,null,null,null,0,""]
[47,"2019-11-19","2019-11-19",null,null,0,0,0,null,null,null,0,""]
[47,"2019-11-20","2019-11-20",null,null,0,0,0,null,null,null,0,""]
[47,"2019-11-21","2019-11-21",null,null,0,0,0,null,null,null,0,""]
[47,"2019-11-22","2019-11-22",null,null,0,0,0,null,null,null,0,""]
[47,"2019-11-23","2019-11-23",null,null,0,null,0,null,null,"za",0,"","Week",null,"OV WEEK","OV DAG","Recup -","Recup +","OV 50%"]
[47,"2019-11-24","2019-11-24",null,null,0,null,0,null,null,"zo",0,"",{"$f":"SUM(L331:L337)","v":0},{"$f":"SUM(H331:H337)","v":0},{"$f":"IF(N337>38,N337-38,0)","v":0},{"$f":"SUM(M331:M337)","v":0},{"$f":"SUM(I331:I337)","v":0},{"$f":"IF(N337>38,N337-38,0)","v":0},{"$f":"IF(P337>Q337,P337,Q337)","v":0}]
[48,"2019-11-25","2019-11-25",null,null,0,0,0,null,null,null,0,""]
[48,"2019-11-26","2019-11-26",null,null,0,0,0,null,null,null,0,""]
[48,"2019-11-27","2019-11-27",null,null,0,0,0,null,null,null,0,""]
[48,"2019-11-28","2019-11-28",null,null,0,0,0,null,null,null,0,""]
[48,"2019-11-29","2019-11-29",null,null,0,0,0,null,null,null,0,""]
[48,"2019-11-30","2019-11-30",null,null,0,null,0,null,null,"za",0,"","Week",null,"OV WEEK","OV DAG","Recup -","Recup +","OV 50%"]
[48,"2019-12-01","2019-12-01",null,null,0,null,0,null,null,"zo",0,"",{"$f":"SUM(L338:L344)","v":0},{"$f":"SUM(H338:H344)","v":0},{"$f":"IF(N344>38,N344-38,0)","v":0},{"$f":"SUM(M338:M344)","v":0},{"$f":"SUM(I338:I344)","v":0},{"$f":"IF(N344>38,N344-38,0)","v":0},{"$f":"IF(P344>Q344,P344,Q344)","v":0}]
[49,"2019-12-02","2019-12-02",null,null,0,0,0,null,null,null,0,""]
[49,"2019-12-03","2019-12-03",null,null,0,0,0,null,null,null,0,""]
[49,"2019-12-04","2019-12-04",null,null,0,0,0,null,null,null,0,""]
[49,"2019-12-05","2019-12-05",null,null,0,0,0,null,null,null,0,""]
[49,"2019-12-06","2019-12-06",null,null,0,0,0,null,null,null,0,""]
[49,"2019-12-07","2019-12-07",null,null,0,null,0,null,null,"za",0,"","Week",null,"OV WEEK","OV DAG","Recup -","Recup +","OV 50%"]
[49,"2019-12-08","2019-12-08",null,null,0,null,0,null,null,"zo",0,"",{"$f":"SUM(L345:L351)","v":0},{"$f":"SUM(H345:H351)","v":0},{"$f":"IF(N351>38,N351-38,0)","v":0},{"$f":"SUM(M345:M351)","v":0},{"$f":"SUM(I345:I351)","v":0},{"$f":"IF(N351>38,N351-38,0)","v":0},{"$f":"IF(P351>Q351,P351,Q351)","v":0}]
[50,"2019-12-09","2019-12-09",null,null,0,0,0,null,null,null,0,""]
[50,"2019-12-10","2019-12-10",null,null,0,0,0,null,null,null,0,""]
[50,"2019-12-11","2019-12-11",null,null,0,0,0,null,null,null,0,""]
[50,"2019-12-12","2019-12-12",null,null,0,0,0,null,null,null,0,""]
[50,"2019-12-13","2019-12-13",null,null,0,0,0,null,null,null,0,""]
[50,"2019-12-14","2019-12-14",null,null,0,null,0,null,null,"za",0,"","Week",null,"OV WEEK","OV DAG","Recup -","Recup +","OV 50%"]
[50,"2019-12-15","2019-12-15",null,null,0,null,0,null,null,"zo",0,"",{"$f":"SUM(L352:L358)","v":0},{"$f":"SUM(H352:H358)","v":0},{"$f":"IF(N358>38,N358-38,0)","v":0},{"$f":"SUM(M352:M358)","v":0},{"$f":"SUM(I352:I358)","v":0},{"$f":"IF(N358>38,N358-38,0)","v":0},{"$f":"IF(P358>Q358,P358,Q358)","v":0}]
[51,"2019-12-16","2019-12-16",null,null,0,0,0,null,null,null,0,""]
[51,"2019-12-17","2019-12-17",null,null,0,0,0,null,null,null,0,""]
[51,"2019-12-18","2019-12-18",null,null,0,0,0,null,null,null,0,""]
[51,"2019-12-19","2019-12-19",null,null,0,0,0,null,null,null,0,""]
[51,"2019-12-20","2019-12-20",null,null,0,0,0,null,null,null,0,""]
[51,"2019-12-21","2019-12-21",null,null,0,null,0,null,null,"za",0,"","Week",null,"OV WEEK","OV DAG","Recup -","Recup +","OV 50%"]
[51,"2019-12-22","2019-12-22",null,null,0,null,0,null,null,"zo",0,"",{"$f":"SUM(L359:L365)","v":0},{"$f":"SUM(H359:H365)","v":0},{"$f":"IF(N365>38,N365-38,0)","v":0},{"$f":"SUM(M359:M365)","v":0},{"$f":"SUM(I359:I365)","v":0},{"$f":"IF(N365>38,N365-38,0)","v":0},{"$f":"IF(P365>Q365,P365,Q365)","v":0}]
[52,"2019-12-23","2019-12-23",null,null,0,0,0,null,null,null,0,""]
[52,"2019-12-24","2019-12-24",null,null,0,0,0,null,null,null,0,""]
[52,"2019-12-25","2019-12-25",null,null,0,0,0,null,7.6,"fd",7.6,""]
[52,"2019-12-26","2019-12-26",null,null,0,0,0,null,null,null,0,""]
[52,"2019-12-27","2019-12-27",null,null,0,0,0,null,null,null,0,""]
[52,"2019-12-28","2019-12-28",null,null,0,null,0,null,null,"za",0,"","Week",null,"OV WEEK","OV DAG","Recup -","Recup +","OV 50%"]
[52,"2019-12-29","2019-12-29",null,null,0,null,0,null,null,"zo",0,"",{"$f":"SUM(L366:L372)","v":7.6},{"$f":"SUM(H366:H372)","v":0},{"$f":"IF(N372>38,N372-38,0)","v":0},{"$f":"SUM(M366:M372)","v":0},{"$f":"SUM(I366:I372)","v":0},{"$f":"IF(N372>38,N372-38,0)","v":0},{"$f":"IF(P372>Q372,P372,Q372)","v":0}]
[1,"2019-12-30","2019-12-30",null,null,0,0,0,null,null,null,0,""]
[1,"2019-12-31","2019-12-31",null,null,0,0,0,null,null,null,0,""]
[1,"2020-01-01","2020-01-01",null,null,0,0,0,null,7.6,"fd",7.6,""]
[1,"2020-01-02","2020-01-02",null,null,0,0,0,null,null,null,0,""]
[1,"2020-01-03","2020-01-03",null,null,0,0,0,null,null,null,0,""]
[1,"2020-01-04","2020-01-04",null,null,0,null,0,null,null,"za",0,"","Week",null,"OV WEEK","OV DAG","Recup -","Recup +","OV 50%"]
[1,"2020-01-05","2020-01-05",null,null,0,null,0,null,null,"zo",0,"",{"$f":"SUM(L373:L379)","v":7.6},{"$f":"SUM(H373:H379)","v":0},{"$f":"IF(N379>38,N379-38,0)","v":0},{"$f":"SUM(M373:M379)","v":0},{"$f":"SUM(I373:I379)","v":0},{"$f":"IF(N379>38,N379-38,0)","v":0},{"$f":"IF(P379>Q379,P379,Q379)","v":0}]

{"sheet":"56","index":12,"n_rows":379,"n_cols":35,"rows_kept":379,"cut":false,"hidden":false,"merged":[[6,21,6,24],[6,25,6,28],[6,29,6,32],[6,33,6,34],[0,1,1,12],[4,21,4,23],[4,25,4,28],[4,29,4,32],[4,33,4,34],[5,21,5,23],[5,25,5,28],[5,29,5,32],[5,33,5,34],[2,21,2,23],[2,25,2,28],[2,29,2,32],[2,33,2,34],[3,21,3,23],[3,25,3,28],[3,29,3,32],[3,33,3,34],[0,21,0,24],[0,25,0,28],[0,29,0,32],[0,33,0,34],[1,21,1,23],[1,25,1,28],[1,29,1,32],[1,33,1,34]]}
["56","El Moussati Hamza",null,null,null,null,null,null,null,null,null,null,null,null,null,null,null,null,null,null,null,"Soort",null,null,null,"Recht op",null,null,null,"Opgenomen",null,null,null,"Saldo"]
[null,null,null,null,null,null,null,null,null,null,null,null,null,null,null,null,null,null,null,null,null,"ADV-dagen",null,null,"adv",null,null,null,null,{"$f":"(COUNTIF(W$9:AH$39,\"ADV\")+(COUNTIF(W$9:AH$39,\"0,5ADV\"))/2)","v":0},null,null,null,{"$f":"Z2-AD2","v":0}]
[null,null,null,null,null,null,null,null,null,null,null,null,null,null,null,null,null,null,null,null,null,"Vakantie 2019",null,null,"v",null,null,null,null,{"$f":"(COUNTIF(W$9:AH$39,\"V\")+(COUNTIF(W$9:AH$39,\"0,5V\"))/2)","v":0},null,null,null,{"$f":"Z3-AD3","v":0}]
["Opgelet avondwerk ! Van 00:00u tot 00:00u / + 0,00u premie 50%",null,null,null,null,null,null,null,null,null,null,null,null,"Feestdag in weekend 2019",null,null,null,null,"Recup 2018",1.9,null,"Feestdag 2019",null,null,"f",1,null,null,null,{"$f":"(COUNTIF(W$9:AH$39,\"F\")+(COUNTIF(W$9:AH$39,\"0,5F\"))/2)","v":0},null,null,null,1]
[null,null,null,null,null,null,null,null,null,null,null,null,null,"- nationale feestdag 21/7",null,null,null,null,null,null,null,"Vakantie rest 2018",null,null,"vvj",null,null,null,null,{"$f":"(COUNTIF(W$9:AH$39,\"vvj\")+(COUNTIF(W$9:AH$39,\"0,5vvj\"))/2)","v":0},null,null,null,0]
[null,null,null,null,null,null,null,null,null,null,null,null,null,null,null,null,null,null,"Recup",{"$f":"SUM(S9:S379)-SUM(R9:R379)+T5+T4","v":1.9},null,"Anciënniteitsdagen",null,null,"a ",null,null,null,null,{"$f":"(COUNTIF(W$9:AH$39,\"A\")+(COUNTIF(W$9:AH$39,\"0,5A\"))/2)","v":0},null,null,null,0]
[null,null,null,null,null,null,null,null,null,null,null,null,null,null,null,null,null,null,null,null,null,"TOTAAL",null,null,null,{"$f":"SUM(Z2:AC6)","v":1},null,null,null,{"$f":"SUM(AD2:AG6)","v":0},null,null,null,{"$f":"SUM(AH2:AI6)","v":1}]
["W","Dag","Datum","Van ","Tot",null,"Pauze","Prestaties","Recup","Andere","Type","Dag","OV DAG","Week","Prestaties","OV WEEK","OV DAG","Rec. -","Rec. +","OV 50%","M",null,"Jan","Feb","Maa","Apr","Mei","Jun","Jul","Aug","Sept","Okt","Nov","Dec"]
[{"$f":"WEEKNUM(C9,21)","v":1},{"$f":"C9","v":"2018-12-31"},"2018-12-31",null,null,{"$f":"(E9-D9)*24","v":0},{"$f":"IF(F9>=6,0.5,0)","v":0},{"$f":"F9-G9","v":0},null,7.6,"GA",{"$f":"SUM(H9:J9)","v":7.6},{"$f":"IF(L9>9,L9-9,\"\")","v":""},"Reeds verwerkt in 2018, OK",null,null,null,null,null,null,0,1,{"$f":"K9","v":"GA"},{"$f":"K40","v":0},{"$f":"K68","v":0},{"$f":"K99","v":"zo"},{"$f":"K129","v":0},{"$f":"K160","v":0},{"$f":"K190","v":"zo"},{"$f":"K221","v":0},{"$f":"K252","v":"za"},{"$f":"K282","v":0},{"$f":"K313","v":0},{"$f":"K343","v":"za"},1]
[{"$f":"WEEKNUM(C10,21)","v":1},{"$f":"C10","v":"2019-01-01"},"2019-01-01",null,null,{"$f":"(E10-D10)*24","v":0},{"$f":"IF(F10>=6,0.5,0)","v":0},{"$f":"F10-G10","v":0},null,7.6,"fd",{"$f":"SUM(H10:J10)","v":7.6},"",null,null,null,null,null,null,null,0,2,{"$f":"K10","v":"fd"},{"$f":"K41","v":0},{"$f":"K69","v":0},{"$f":"K100","v":0},{"$f":"K130","v":"fd"},{"$f":"K161","v":"za"},{"$f":"K191","v":0},{"$f":"K222","v":0},{"$f":"K253","v":"zo"},{"$f":"K283","v":0},{"$f":"K314","v":"fd"},{"$f":"K344","v":"zo"},2]
[1,"2019-01-02","2019-01-02",null,null,0,0,0,null,null,null,0,"",null,null,null,null,null,null,null,null,3,0,"za","za",0,0,"zo",0,0,0,0,"za",0,3]
[1,"2019-01-03","2019-01-03",null,null,0,0,0,null,null,null,0,"",null,null,null,null,null,null,null,null,4,0,"zo","zo",0,0,0,0,"za",0,0,"zo",0,4]
[1,"2019-01-04","2019-01-04",null,null,0,0,0,null,null,null,0,"",null,null,null,null,null,null,null,null,5,0,0,0,0,"za",0,0,"zo",0,0,0,{"$f":"K347","v":0},5]
[1,"2019-01-05","2019-01-05",null,null,0,null,0,null,null,"za",0,"","Week",null,"OV WEEK","OV DAG","Recup -","Recup +","OV 50%",null,6,"za",0,0,0,"zo",0,0,0,0,"za",0,0,6]
[1,"2019-01-06","2019-01-06",null,null,0,null,0,null,null,"zo",0,"",{"$f":"SUM(L9:L15)","v":15.2},{"$f":"SUM(H9:H15)","v":0},{"$f":"IF(N15>38,N15-38,0)","v":0},{"$f":"SUM(M9:M15)","v":0},{"$f":"SUM(I9:I15)","v":0},{"$f":"IF(N15>38,N15-38,0)","v":0},{"$f":"IF(P15>Q15,P15,Q15)","v":0},null,7,"zo",0,0,"za",0,0,"za",0,0,"zo",0,0,7]
[2,"2019-01-07","2019-01-07",null,null,0,0,0,null,null,null,0,"",null,null,null,null,null,null,null,null,8,0,0,0,"zo",0,0,"zo",0,"za",0,0,"za",8]
[2,"2019-01-08","2019-01-08",null,null,0,0,0,null,null,null,0,"",null,null,null,null,null,null,null,null,9,0,0,0,0,0,"za",0,0,"zo",0,0,"zo",9]
[2,"2019-01-09","2019-01-09",null,null,0,0,0,null,null,null,0,"",null,null,null,null,null,null,null,null,10,0,"za","za",0,0,"zo",0,0,0,0,"za",0,10]
[2,"2019-01-10","2019-01-10",null,null,0,0,0,null,null,null,0,"",null,null,null,null,null,null,null,null,11,0,"zo","zo",0,0,"fd",0,"za",0,0,"zo",0,11]
[2,"2019-01-11","2019-01-11",null,null,0,0,0,null,null,null,0,"",null,null,null,null,null,null,null,null,12,0,0,0,0,"za",0,0,"zo",0,0,"fd",0,12]
[2,"2019-01-12","2019-01-12",null,null,0,null,0,null,null,"za",0,"","Week",null,"OV WEEK","OV DAG","Recup -","Recup +","OV 50%",null,13,"za",0,0,0,"zo",0,0,0,0,"za",0,0,13]
[2,"2019-01-13","2019-01-13",null,null,0,null,0,null,null,"zo",0,"",{"$f":"SUM(L16:L22)","v":0},{"$f":"SUM(H16:H22)","v":0},{"$f":"IF(N22>38,N22-38,0)","v":0},{"$f":"SUM(M16:M22)","v":0},{"$f":"SUM(I16:I22)","v":0},{"$f":"IF(N22>38,N22-38,0)","v":0},{"$f":"IF(P22>Q22,P22,Q22)","v":0},null,14,"zo",0,0,"za",0,0,"za",0,0,"zo",0,0,14]
[3,"2019-01-14","2019-01-14",null,null,0,0,0,null,null,null,0,"",null,null,null,null,null,null,null,null,15,0,0,0,"zo",0,0,"zo",0,"za",0,0,"za",15]
[3,"2019-01-15","2019-01-15",null,null,0,0,0,null,null,null,0,"",null,null,null,null,null,null,null,null,16,0,0,0,0,0,"za",0,"fd","zo",0,0,"zo",16]
[3,"2019-01-16","2019-01-16",null,null,0,0,0,null,null,null,0,"",null,null,null,null,null,null,null,null,17,0,"za","za",0,0,"zo",0,0,0,0,"za",0,17]
[3,"2019-01-17","2019-01-17",null,null,0,0,0,null,null,null,0,"",null,null,null,null,null,null,null,null,18,0,"zo","zo",0,0,0,0,"za",0,0,"zo",0,18]
[3,"2019-01-18","2019-01-18",null,null,0,0,0,null,null,null,0,"",null,null,null,null,null,null,null,null,19,0,0,0,0,"za",0,0,"zo",0,0,0,0,19]
[3,"2019-01-19","2019-01-19",null,null,0,null,0,null,null,"za",0,"","Week",null,"OV WEEK","OV DAG","Recup -","Recup +","OV 50%",null,20,"za",0,0,0,"zo",0,0,0,0,"za",0,{"$f":"K362","v":0},20]
[3,"2019-01-20","2019-01-20",null,null,0,null,0,null,null,"zo",0,"",{"$f":"SUM(L23:L29)","v":0},{"$f":"SUM(H23:H29)","v":0},{"$f":"IF(N29>38,N29-38,0)","v":0},{"$f":"SUM(M23:M29)","v":0},{"$f":"SUM(I23:I29)","v":0},{"$f":"IF(N29>38,N29-38,0)","v":0},{"$f":"IF(P29>Q29,P29,Q29)","v":0},null,21,"zo",0,0,"za","fd",0,"za",0,0,"zo",0,0,21]
[4,"2019-01-21","2019-01-21",null,null,0,0,0,null,null,null,0,"",null,null,null,null,null,null,null,null,22,0,0,0,"zo",0,0,"zo",0,"za",0,0,"za",22]
[4,"2019-01-22","2019-01-22",null,null,0,0,0,null,null,null,0,"",null,null,null,null,null,null,null,null,23,0,0,0,"fd",0,"za",0,0,"zo",0,0,"zo",23]
[4,"2019-01-23","2019-01-23",null,null,0,0,0,null,null,null,0,"",null,null,null,null,null,null,null,null,24,0,"za","za",0,0,"zo",0,0,0,0,"za",0,24]
[4,"2019-01-24","2019-01-24",null,null,0,0,0,null,null,null,0,"",null,null,null,null,null,null,null,null,25,0,"zo","zo",0,0,0,0,"za",0,0,"zo",0,25]
[4,"2019-01-25","2019-01-25",null,null,0,0,0,null,null,null,0,"",null,null,null,null,null,null,null,null,26,0,0,0,0,"za",0,0,"zo",0,0,0,"fd",26]
[4,"2019-01-26","2019-01-26",null,null,0,null,0,null,null,"za",0,"","Week",null,"OV WEEK","OV DAG","Recup -","Recup +","OV 50%",null,27,"za",0,0,0,"zo",0,0,0,0,"za",0,0,27]
[4,"2019-01-27","2019-01-27",null,null,0,null,0,null,null,"zo",0,"",{"$f":"SUM(L30:L36)","v":0},{"$f":"SUM(H30:H36)","v":0},{"$f":"IF(N36>38,N36-38,0)","v":0},{"$f":"SUM(M30:M36)","v":0},{"$f":"SUM(I30:I36)","v":0},{"$f":"IF(N36>38,N36-38,0)","v":0},{"$f":"IF(P36>Q36,P36,Q36)","v":0},null,28,"zo",0,0,"za",0,0,"za",0,0,"zo",0,0,28]
[5,"2019-01-28","2019-01-28",null,null,0,0,0,null,null,null,0,"",null,null,null,null,null,null,null,null,29,0,null,0,"zo",0,0,"zo",0,"za",0,0,"za",29]
[5,"2019-01-29","2019-01-29",null,null,0,0,0,null,null,null,0,"",null,null,null,null,null,null,null,null,30,0,null,0,0,0,"za",0,0,"zo",0,0,"zo",30]
[5,"2019-01-30","2019-01-30",null,null,0,0,0,null,null,null,0,"",null,null,null,null,null,null,null,null,31,0,null,"za",null,"fd",null,0,0,null,0,null,0,31]
[5,"2019-01-31","2019-01-31",null,null,0,0,0,null,null,null,0,"",null,null,null,null,null,null,null,null,"WD",23,20,21,22,23,20,23,22,21,23,21,22,{"$f":"SUM(W40:AH40)","v":261}]
[5,"2019-02-01","2019-02-01",null,null,0,0,0,null,null,null,0,""]
[5,"2019-02-02","2019-02-02",null,null,0,null,0,null,null,"za",0,"","Week",null,"OV WEEK","OV DAG","Recup -","Recup +","OV 50%"]
[5,"2019-02-03","2019-02-03",null,null,0,null,0,null,null,"zo",0,"",{"$f":"SUM(L37:L43)","v":0},{"$f":"SUM(H37:H43)","v":0},{"$f":"IF(N43>38,N43-38,0)","v":0},{"$f":"SUM(M37:M43)","v":0},{"$f":"SUM(I37:I43)","v":0},{"$f":"IF(N43>38,N43-38,0)","v":0},{"$f":"IF(P43>Q43,P43,Q43)","v":0}]
[6,"2019-02-04","2019-02-04",null,null,0,0,0,null,null,null,0,""]
[6,"2019-02-05","2019-02-05",null,null,0,0,0,null,null,null,0,""]
[6,"2019-02-06","2019-02-06",null,null,0,0,0,null,null,null,0,""]
[6,"2019-02-07","2019-02-07",null,null,0,0,0,null,null,null,0,""]
[6,"2019-02-08","2019-02-08",null,null,0,0,0,null,null,null,0,""]
[6,"2019-02-09","2019-02-09",null,null,0,null,0,null,null,"za",0,"","Week",null,"OV WEEK","OV DAG","Recup -","Recup +","OV 50%"]
[6,"2019-02-10","2019-02-10",null,null,0,null,0,null,null,"zo",0,"",{"$f":"SUM(L44:L50)","v":0},{"$f":"SUM(H44:H50)","v":0},{"$f":"IF(N50>38,N50-38,0)","v":0},{"$f":"SUM(M44:M50)","v":0},{"$f":"SUM(I44:I50)","v":0},{"$f":"IF(N50>38,N50-38,0)","v":0},{"$f":"IF(P50>Q50,P50,Q50)","v":0}]
[7,"2019-02-11","2019-02-11",null,null,0,0,0,null,null,null,0,""]
[7,"2019-02-12","2019-02-12",null,null,0,0,0,null,null,null,0,""]
[7,"2019-02-13","2019-02-13",null,null,0,0,0,null,null,null,0,""]
[7,"2019-02-14","2019-02-14",null,null,0,0,0,null,null,null,0,""]
[7,"2019-02-15","2019-02-15",null,null,0,0,0,null,null,null,0,""]
[7,"2019-02-16","2019-02-16",null,null,0,null,0,null,null,"za",0,"","Week",null,"OV WEEK","OV DAG","Recup -","Recup +","OV 50%"]
[7,"2019-02-17","2019-02-17",null,null,0,null,0,null,null,"zo",0,"",{"$f":"SUM(L51:L57)","v":0},{"$f":"SUM(H51:H57)","v":0},{"$f":"IF(N57>38,N57-38,0)","v":0},{"$f":"SUM(M51:M57)","v":0},{"$f":"SUM(I51:I57)","v":0},{"$f":"IF(N57>38,N57-38,0)","v":0},{"$f":"IF(P57>Q57,P57,Q57)","v":0}]
[8,"2019-02-18","2019-02-18",null,null,0,0,0,null,null,null,0,""]
[8,"2019-02-19","2019-02-19",null,null,0,0,0,null,null,null,0,""]
[8,"2019-02-20","2019-02-20",null,null,0,0,0,null,null,null,0,""]
[8,"2019-02-21","2019-02-21",null,null,0,0,0,null,null,null,0,""]
[8,"2019-02-22","2019-02-22",null,null,0,0,0,null,null,null,0,""]
[8,"2019-02-23","2019-02-23",null,null,0,null,0,null,null,"za",0,"","Week",null,"OV WEEK","OV DAG","Recup -","Recup +","OV 50%"]
[8,"2019-02-24","2019-02-24",null,null,0,null,0,null,null,"zo",0,"",{"$f":"SUM(L58:L64)","v":0},{"$f":"SUM(H58:H64)","v":0},{"$f":"IF(N64>38,N64-38,0)","v":0},{"$f":"SUM(M58:M64)","v":0},{"$f":"SUM(I58:I64)","v":0},{"$f":"IF(N64>38,N64-38,0)","v":0},{"$f":"IF(P64>Q64,P64,Q64)","v":0}]
[9,"2019-02-25","2019-02-25",null,null,0,0,0,null,null,null,0,""]
[9,"2019-02-26","2019-02-26",null,null,0,0,0,null,null,null,0,""]
[9,"2019-02-27","2019-02-27",null,null,0,0,0,null,null,null,0,""]
[9,"2019-02-28","2019-02-28",null,null,0,0,0,null,null,null,0,""]
[9,"2019-03-01","2019-03-01",null,null,0,0,0,null,null,null,0,""]
[9,"2019-03-02","2019-03-02",null,null,0,null,0,null,null,"za",0,"","Week",null,"OV WEEK","OV DAG","Recup -","Recup +","OV 50%"]
[9,"2019-03-03","2019-03-03",null,null,0,null,0,null,null,"zo",0,"",{"$f":"SUM(L65:L71)","v":0},{"$f":"SUM(H65:H71)","v":0},{"$f":"IF(N71>38,N71-38,0)","v":0},{"$f":"SUM(M65:M71)","v":0},{"$f":"SUM(I65:I71)","v":0},{"$f":"IF(N71>38,N71-38,0)","v":0},{"$f":"IF(P71>Q71,P71,Q71)","v":0}]
[10,"2019-03-04","2019-03-04",null,null,0,0,0,null,null,null,0,""]
[10,"2019-03-05","2019-03-05",null,null,0,0,0,null,null,null,0,{"$f":"IF(L73>9,L73-9,\"\")","v":""}]
[{"$f":"WEEKNUM(C74,21)","v":10},{"$f":"C74","v":"2019-03-06"},"2019-03-06",null,null,{"$f":"(E74-D74)*24","v":0},{"$f":"IF(F74>=6,0.5,0)","v":0},{"$f":"F74-G74","v":0},null,null,null,{"$f":"SUM(H74:J74)","v":0},""]
[10,"2019-03-07","2019-03-07",null,null,0,0,0,null,null,null,0,""]
[10,"2019-03-08","2019-03-08",null,null,0,0,0,null,null,null,0,""]
[10,"2019-03-09","2019-03-09",null,null,0,null,0,null,null,"za",0,"","Week",null,"OV WEEK","OV DAG","Recup -","Recup +","OV 50%"]
[10,"2019-03-10","2019-03-10",null,null,0,null,0,null,null,"zo",0,"",{"$f":"SUM(L72:L78)","v":0},{"$f":"SUM(H72:H78)","v":0},{"$f":"IF(N78>38,N78-38,0)","v":0},{"$f":"SUM(M72:M78)","v":0},{"$f":"SUM(I72:I78)","v":0},{"$f":"IF(N78>38,N78-38,0)","v":0},{"$f":"IF(P78>Q78,P78,Q78)","v":0}]
[11,"2019-03-11","2019-03-11",null,null,0,0,0,null,null,null,0,""]
[11,"2019-03-12","2019-03-12",null,null,0,0,0,null,null,null,0,""]
[11,"2019-03-13","2019-03-13",null,null,0,0,0,null,null,null,0,""]
[11,"2019-03-14","2019-03-14",null,null,0,0,0,null,null,null,0,""]
[11,"2019-03-15","2019-03-15",null,null,0,0,0,null,null,null,0,""]
[11,"2019-03-16","2019-03-16",null,null,0,null,0,null,null,"za",0,"","Week",null,"OV WEEK","OV DAG","Recup -","Recup +","OV 50%"]
[11,"2019-03-17","2019-03-17",null,null,0,null,0,null,null,"zo",0,"",{"$f":"SUM(L79:L85)","v":0},{"$f":"SUM(H79:H85)","v":0},{"$f":"IF(N85>38,N85-38,0)","v":0},{"$f":"SUM(M79:M85)","v":0},{"$f":"SUM(I79:I85)","v":0},{"$f":"IF(N85>38,N85-38,0)","v":0},{"$f":"IF(P85>Q85,P85,Q85)","v":0}]
[12,"2019-03-18","2019-03-18",null,null,0,0,0,null,null,null,0,""]
[12,"2019-03-19","2019-03-19",null,null,0,0,0,null,null,null,0,""]
[12,"2019-03-20","2019-03-20",null,null,0,0,0,null,null,null,0,""]
[12,"2019-03-21","2019-03-21",null,null,0,0,0,null,null,null,0,""]
[12,"2019-03-22","2019-03-22",null,null,0,0,0,null,null,null,0,""]
[12,"2019-03-23","2019-03-23",null,null,0,null,0,null,null,"za",0,"","Week",null,"OV WEEK","OV DAG","Recup -","Recup +","OV 50%"]
[12,"2019-03-24","2019-03-24",null,null,0,null,0,null,null,"zo",0,"",{"$f":"SUM(L86:L92)","v":0},{"$f":"SUM(H86:H92)","v":0},{"$f":"IF(N92>38,N92-38,0)","v":0},{"$f":"SUM(M86:M92)","v":0},{"$f":"SUM(I86:I92)","v":0},{"$f":"IF(N92>38,N92-38,0)","v":0},{"$f":"IF(P92>Q92,P92,Q92)","v":0}]
[13,"2019-03-25","2019-03-25",null,null,0,0,0,null,null,null,0,""]
[13,"2019-03-26","2019-03-26",null,null,0,0,0,null,null,null,0,""]
[13,"2019-03-27","2019-03-27",null,null,0,0,0,null,null,null,0,""]
[13,"2019-03-28","2019-03-28",null,null,0,0,0,null,null,null,0,""]
[13,"2019-03-29","2019-03-29",null,null,0,0,0,null,null,null,0,""]
[13,"2019-03-30","2019-03-30",null,null,0,null,0,null,null,"za",0,"","Week",null,"OV WEEK","OV DAG","Recup -","Recup +","OV 50%"]
[13,"2019-03-31","2019-03-31",null,null,0,null,0,null,null,"zo",0,"",{"$f":"SUM(L93:L99)","v":0},{"$f":"SUM(H93:H99)","v":0},{"$f":"IF(N99>38,N99-38,0)","v":0},{"$f":"SUM(M93:M99)","v":0},{"$f":"SUM(I93:I99)","v":0},{"$f":"IF(N99>38,N99-38,0)","v":0},{"$f":"IF(P99>Q99,P99,Q99)","v":0}]
[14,"2019-04-01","2019-04-01",null,null,0,0,0,null,null,null,0,""]
[14,"2019-04-02","2019-04-02",null,null,0,0,0,null,null,null,0,""]
[14,"2019-04-03","2019-04-03",null,null,0,0,0,null,null,null,0,""]
[14,"2019-04-04","2019-04-04",null,null,0,0,0,null,null,null,0,""]
[14,"2019-04-05","2019-04-05",null,null,0,0,0,null,null,null,0,""]
[14,"2019-04-06","2019-04-06",null,null,0,null,0,null,null,"za",0,"","Week",null,"OV WEEK","OV DAG","Recup -","Recup +","OV 50%"]
[14,"2019-04-07","2019-04-07",null,null,0,null,0,null,null,"zo",0,"",{"$f":"SUM(L100:L106)","v":0},{"$f":"SUM(H100:H106)","v":0},{"$f":"IF(N106>38,N106-38,0)","v":0},{"$f":"SUM(M100:M106)","v":0},{"$f":"SUM(I100:I106)","v":0},{"$f":"IF(N106>38,N106-38,0)","v":0},{"$f":"IF(P106>Q106,P106,Q106)","v":0}]
[15,"2019-04-08","2019-04-08",null,null,0,0,0,null,null,null,0,""]
[15,"2019-04-09","2019-04-09",null,null,0,0,0,null,null,null,0,""]
[15,"2019-04-10","2019-04-10",null,null,0,0,0,null,null,null,0,""]
[15,"2019-04-11","2019-04-11",null,null,0,0,0,null,null,null,0,""]
[15,"2019-04-12","2019-04-12",null,null,0,0,0,null,null,null,0,""]
[15,"2019-04-13","2019-04-13",null,null,0,null,0,null,null,"za",0,"","Week",null,"OV WEEK","OV DAG","Recup -","Recup +","OV 50%"]
[15,"2019-04-14","2019-04-14",null,null,0,null,0,null,null,"zo",0,"",{"$f":"SUM(L107:L113)","v":0},{"$f":"SUM(H107:H113)","v":0},{"$f":"IF(N113>38,N113-38,0)","v":0},{"$f":"SUM(M107:M113)","v":0},{"$f":"SUM(I107:I113)","v":0},{"$f":"IF(N113>38,N113-38,0)","v":0},{"$f":"IF(P113>Q113,P113,Q113)","v":0}]
[16,"2019-04-15","2019-04-15",null,null,0,0,0,null,null,null,0,""]
[16,"2019-04-16","2019-04-16",null,null,0,0,0,null,null,null,0,""]
[16,"2019-04-17","2019-04-17",null,null,0,0,0,null,null,null,0,""]
[16,"2019-04-18","2019-04-18",null,null,0,0,0,null,null,null,0,""]
[16,"2019-04-19","2019-04-19",null,null,0,0,0,null,null,null,0,""]
[16,"2019-04-20","2019-04-20",null,null,0,null,0,null,null,"za",0,"","Week",null,"OV WEEK","OV DAG","Recup -","Recup +","OV 50%"]
[16,"2019-04-21","2019-04-21",null,null,0,null,0,null,null,"zo",0,"",{"$f":"SUM(L114:L120)","v":0},{"$f":"SUM(H114:H120)","v":0},{"$f":"IF(N120>38,N120-38,0)","v":0},{"$f":"SUM(M114:M120)","v":0},{"$f":"SUM(I114:I120)","v":0},{"$f":"IF(N120>38,N120-38,0)","v":0},{"$f":"IF(P120>Q120,P120,Q120)","v":0}]
[17,"2019-04-22","2019-04-22",null,null,0,0,0,null,7.6,"fd",7.6,""]
[17,"2019-04-23","2019-04-23",null,null,0,0,0,null,null,null,0,""]
[17,"2019-04-24","2019-04-24",null,null,0,0,0,null,null,null,0,""]
[17,"2019-04-25","2019-04-25",null,null,0,0,0,null,null,null,0,""]
[17,"2019-04-26","2019-04-26",null,null,0,0,0,null,null,null,0,""]
[17,"2019-04-27","2019-04-27",null,null,0,null,0,null,null,"za",0,"","Week",null,"OV WEEK","OV DAG","Recup -","Recup +","OV 50%"]
[17,"2019-04-28","2019-04-28",null,null,0,null,0,null,null,"zo",0,"",{"$f":"SUM(L121:L127)","v":7.6},{"$f":"SUM(H121:H127)","v":0},{"$f":"IF(N127>38,N127-38,0)","v":0},{"$f":"SUM(M121:M127)","v":0},{"$f":"SUM(I121:I127)","v":0},{"$f":"IF(N127>38,N127-38,0)","v":0},{"$f":"IF(P127>Q127,P127,Q127)","v":0}]
[18,"2019-04-29","2019-04-29",null,null,0,0,0,null,null,null,0,""]
[18,"2019-04-30","2019-04-30",null,null,0,0,0,null,null,null,0,""]
[18,"2019-05-01","2019-05-01",null,null,0,0,0,null,7.6,"fd",7.6,""]
[18,"2019-05-02","2019-05-02",null,null,0,0,0,null,null,null,0,""]
[18,"2019-05-03","2019-05-03",null,null,0,0,0,null,null,null,0,""]
[18,"2019-05-04","2019-05-04",null,null,0,null,0,null,null,"za",0,"","Week",null,"OV WEEK","OV DAG","Recup -","Recup +","OV 50%"]
[18,"2019-05-05","2019-05-05",null,null,0,null,0,null,null,"zo",0,"",{"$f":"SUM(L128:L134)","v":7.6},{"$f":"SUM(H128:H134)","v":0},{"$f":"IF(N134>38,N134-38,0)","v":0},{"$f":"SUM(M128:M134)","v":0},{"$f":"SUM(I128:I134)","v":0},{"$f":"IF(N134>38,N134-38,0)","v":0},{"$f":"IF(P134>Q134,P134,Q134)","v":0}]
[19,"2019-05-06","2019-05-06",null,null,0,0,0,null,null,null,0,""]
[19,"2019-05-07","2019-05-07",null,null,0,0,0,null,null,null,0,""]
[19,"2019-05-08","2019-05-08",null,null,0,0,0,null,null,null,0,{"$f":"IF(L137>9,L137-9,\"\")","v":""}]
[{"$f":"WEEKNUM(C138,21)","v":19},{"$f":"C138","v":"2019-05-09"},"2019-05-09",null,null,{"$f":"(E138-D138)*24","v":0},{"$f":"IF(F138>=6,0.5,0)","v":0},{"$f":"F138-G138","v":0},null,null,null,{"$f":"SUM(H138:J138)","v":0},""]
[19,"2019-05-10","2019-05-10",null,null,0,0,0,null,null,null,0,""]
[19,"2019-05-11","2019-05-11",null,null,0,null,0,null,null,"za",0,"","Week",null,"OV WEEK","OV DAG","Recup -","Recup +","OV 50%"]
[19,"2019-05-12","2019-05-12",null,null,0,null,0,null,null,"zo",0,"",{"$f":"SUM(L135:L141)","v":0},{"$f":"SUM(H135:H141)","v":0},{"$f":"IF(N141>38,N141-38,0)","v":0},{"$f":"SUM(M135:M141)","v":0},{"$f":"SUM(I135:I141)","v":0},{"$f":"IF(N141>38,N141-38,0)","v":0},{"$f":"IF(P141>Q141,P141,Q141)","v":0}]
[20,"2019-05-13","2019-05-13",null,null,0,0,0,null,null,null,0,""]
[20,"2019-05-14","2019-05-14",null,null,0,0,0,null,null,null,0,""]
[20,"2019-05-15","2019-05-15",null,null,0,0,0,null,null,null,0,""]
[20,"2019-05-16","2019-05-16",null,null,0,0,0,null,null,null,0,""]
[20,"2019-05-17","2019-05-17",null,null,0,0,0,null,null,null,0,""]
[20,"2019-05-18","2019-05-18",null,null,0,null,0,null,null,"za",0,"","Week",null,"OV WEEK","OV DAG","Recup -","Recup +","OV 50%"]
[20,"2019-05-19","2019-05-19",null,null,0,null,0,null,null,"zo",0,"",{"$f":"SUM(L142:L148)","v":0},{"$f":"SUM(H142:H148)","v":0},{"$f":"IF(N148>38,N148-38,0)","v":0},{"$f":"SUM(M142:M148)","v":0},{"$f":"SUM(I142:I148)","v":0},{"$f":"IF(N148>38,N148-38,0)","v":0},{"$f":"IF(P148>Q148,P148,Q148)","v":0}]
[21,"2019-05-20","2019-05-20",null,null,0,0,0,null,7.6,"fd",7.6,""]
[21,"2019-05-21","2019-05-21",null,null,0,0,0,null,null,null,0,""]
[21,"2019-05-22","2019-05-22",null,null,0,0,0,null,null,null,0,""]
[21,"2019-05-23","2019-05-23",null,null,0,0,0,null,null,null,0,""]
[21,"2019-05-24","2019-05-24",null,null,0,0,0,null,null,null,0,""]
[21,"2019-05-25","2019-05-25",null,null,0,null,0,null,null,"za",0,"","Week",null,"OV WEEK","OV DAG","Recup -","Recup +","OV 50%"]
[21,"2019-05-26","2019-05-26",null,null,0,null,0,null,null,"zo",0,"",{"$f":"SUM(L149:L155)","v":7.6},{"$f":"SUM(H149:H155)","v":0},{"$f":"IF(N155>38,N155-38,0)","v":0},{"$f":"SUM(M149:M155)","v":0},{"$f":"SUM(I149:I155)","v":0},{"$f":"IF(N155>38,N155-38,0)","v":0},{"$f":"IF(P155>Q155,P155,Q155)","v":0}]
[22,"2019-05-27","2019-05-27",null,null,0,0,0,null,null,null,0,""]
[22,"2019-05-28","2019-05-28",null,null,0,0,0,null,null,null,0,""]
[22,"2019-05-29","2019-05-29",null,null,0,0,0,null,null,null,0,""]
[22,"2019-05-30","2019-05-30",null,null,0,0,0,null,7.6,"fd",7.6,""]
[22,"2019-05-31","2019-05-31",null,null,0,0,0,null,null,null,0,""]
[22,"2019-06-01","2019-06-01",null,null,0,null,0,null,null,"za",0,"","Week",null,"OV WEEK","OV DAG","Recup -","Recup +","OV 50%"]
[22,"2019-06-02","2019-06-02",null,null,0,null,0,null,null,"zo",0,"",{"$f":"SUM(L156:L162)","v":7.6},{"$f":"SUM(H156:H162)","v":0},{"$f":"IF(N162>38,N162-38,0)","v":0},{"$f":"SUM(M156:M162)","v":0},{"$f":"SUM(I156:I162)","v":0},{"$f":"IF(N162>38,N162-38,0)","v":0},{"$f":"IF(P162>Q162,P162,Q162)","v":0}]
[23,"2019-06-03","2019-06-03",null,null,0,0,0,null,null,null,0,""]
[23,"2019-06-04","2019-06-04",null,null,0,0,0,null,null,null,0,""]
[23,"2019-06-05","2019-06-05",null,null,0,0,0,null,null,null,0,""]
[23,"2019-06-06","2019-06-06",null,null,0,0,0,null,null,null,0,""]
[23,"2019-06-07","2019-06-07",null,null,0,0,0,null,null,null,0,""]
[23,"2019-06-08","2019-06-08",null,null,0,null,0,null,null,"za",0,"","Week",null,"OV WEEK","OV DAG","Recup -","Recup +","OV 50%"]
[23,"2019-06-09","2019-06-09",null,null,0,null,0,null,null,"zo",0,"",{"$f":"SUM(L163:L169)","v":0},{"$f":"SUM(H163:H169)","v":0},{"$f":"IF(N169>38,N169-38,0)","v":0},{"$f":"SUM(M163:M169)","v":0},{"$f":"SUM(I163:I169)","v":0},{"$f":"IF(N169>38,N169-38,0)","v":0},{"$f":"IF(P169>Q169,P169,Q169)","v":0}]
[24,"2019-06-10","2019-06-10",null,null,0,0,0,null,7.6,"fd",7.6,""]
[24,"2019-06-11","2019-06-11",null,null,0,0,0,null,null,null,0,""]
[24,"2019-06-12","2019-06-12",null,null,0,0,0,null,null,null,0,""]
[24,"2019-06-13","2019-06-13",null,null,0,0,0,null,null,null,0,""]
[24,"2019-06-14","2019-06-14",null,null,0,0,0,null,null,null,0,""]
[24,"2019-06-15","2019-06-15",null,null,0,null,0,null,null,"za",0,"","Week",null,"OV WEEK","OV DAG","Recup -","Recup +","OV 50%"]
[24,"2019-06-16","2019-06-16",null,null,0,null,0,null,null,"zo",0,"",{"$f":"SUM(L170:L176)","v":7.6},{"$f":"SUM(H170:H176)","v":0},{"$f":"IF(N176>38,N176-38,0)","v":0},{"$f":"SUM(M170:M176)","v":0},{"$f":"SUM(I170:I176)","v":0},{"$f":"IF(N176>38,N176-38,0)","v":0},{"$f":"IF(P176>Q176,P176,Q176)","v":0}]
[25,"2019-06-17","2019-06-17",null,null,0,0,0,null,null,null,0,""]
[25,"2019-06-18","2019-06-18",null,null,0,0,0,null,null,null,0,""]
[25,"2019-06-19","2019-06-19",null,null,0,0,0,null,null,null,0,""]
[25,"2019-06-20","2019-06-20",null,null,0,0,0,null,null,null,0,""]
[25,"2019-06-21","2019-06-21",null,null,0,0,0,null,null,null,0,""]
[25,"2019-06-22","2019-06-22",null,null,0,null,0,null,null,"za",0,"","Week",null,"OV WEEK","OV DAG","Recup -","Recup +","OV 50%"]
[25,"2019-06-23","2019-06-23",null,null,0,null,0,null,null,"zo",0,"",{"$f":"SUM(L177:L183)","v":0},{"$f":"SUM(H177:H183)","v":0},{"$f":"IF(N183>38,N183-38,0)","v":0},{"$f":"SUM(M177:M183)","v":0},{"$f":"SUM(I177:I183)","v":0},{"$f":"IF(N183>38,N183-38,0)","v":0},{"$f":"IF(P183>Q183,P183,Q183)","v":0}]
[26,"2019-06-24","2019-06-24",null,null,0,0,0,null,null,null,0,""]
[26,"2019-06-25","2019-06-25",null,null,0,0,0,null,null,null,0,""]
[26,"2019-06-26","2019-06-26",null,null,0,0,0,null,null,null,0,""]
[26,"2019-06-27","2019-06-27",null,null,0,0,0,null,null,null,0,""]
[26,"2019-06-28","2019-06-28",null,null,0,0,0,null,null,null,0,""]
[26,"2019-06-29","2019-06-29",null,null,0,null,0,null,null,"za",0,"","Week",null,"OV WEEK","OV DAG","Recup -","Recup +","OV 50%"]
[26,"2019-06-30","2019-06-30",null,null,0,null,0,null,null,"zo",0,"",{"$f":"SUM(L184:L190)","v":0},{"$f":"SUM(H184:H190)","v":0},{"$f":"IF(N190>38,N190-38,0)","v":0},{"$f":"SUM(M184:M190)","v":0},{"$f":"SUM(I184:I190)","v":0},{"$f":"IF(N190>38,N190-38,0)","v":0},{"$f":"IF(P190>Q190,P190,Q190)","v":0}]
[27,"2019-07-01","2019-07-01",null,null,0,0,0,null,null,null,0,""]
[27,"2019-07-02","2019-07-02",null,null,0,0,0,null,null,null,0,""]
[27,"2019-07-03","2019-07-03",null,null,0,0,0,null,null,null,0,""]
[27,"2019-07-04","2019-07-04",null,null,0,0,0,null,null,null,0,""]
[27,"2019-07-05","2019-07-05",null,null,0,0,0,null,null,null,0,""]
[27,"2019-07-06","2019-07-06",null,null,0,null,0,null,null,"za",0,"","Week",null,"OV WEEK","OV DAG","Recup -","Recup +","OV 50%"]
[27,"2019-07-07","2019-07-07",null,null,0,null,0,null,null,"zo",0,"",{"$f":"SUM(L191:L197)","v":0},{"$f":"SUM(H191:H197)","v":0},{"$f":"IF(N197>38,N197-38,0)","v":0},{"$f":"SUM(M191:M197)","v":0},{"$f":"SUM(I191:I197)","v":0},{"$f":"IF(N197>38,N197-38,0)","v":0},{"$f":"IF(P197>Q197,P197,Q197)","v":0}]
[28,"2019-07-08","2019-07-08",null,null,0,0,0,null,null,null,0,""]
[28,"2019-07-09","2019-07-09",null,null,0,0,0,null,null,null,0,""]
[28,"2019-07-10","2019-07-10",null,null,0,0,0,null,null,null,0,""]
[28,"2019-07-11","2019-07-11",null,null,0,0,0,null,null,null,0,{"$f":"IF(L201>9,L201-9,\"\")","v":""}]
[{"$f":"WEEKNUM(C202,21)","v":28},{"$f":"C202","v":"2019-07-12"},"2019-07-12",null,null,{"$f":"(E202-D202)*24","v":0},{"$f":"IF(F202>=6,0.5,0)","v":0},{"$f":"F202-G202","v":0},null,null,null,{"$f":"SUM(H202:J202)","v":0},""]
[28,"2019-07-13","2019-07-13",null,null,0,null,0,null,null,"za",0,"","Week",null,"OV WEEK","OV DAG","Recup -","Recup +","OV 50%"]
[28,"2019-07-14","2019-07-14",null,null,0,null,0,null,null,"zo",0,"",{"$f":"SUM(L198:L204)","v":0},{"$f":"SUM(H198:H204)","v":0},{"$f":"IF(N204>38,N204-38,0)","v":0},{"$f":"SUM(M198:M204)","v":0},{"$f":"SUM(I198:I204)","v":0},{"$f":"IF(N204>38,N204-38,0)","v":0},{"$f":"IF(P204>Q204,P204,Q204)","v":0}]
[29,"2019-07-15","2019-07-15",null,null,0,0,0,null,null,null,0,""]
[29,"2019-07-16","2019-07-16",null,null,0,0,0,null,null,null,0,""]
[29,"2019-07-17","2019-07-17",null,null,0,0,0,null,null,null,0,""]
[29,"2019-07-18","2019-07-18",null,null,0,0,0,null,null,null,0,""]
[29,"2019-07-19","2019-07-19",null,null,0,0,0,null,null,null,0,""]
[29,"2019-07-20","2019-07-20",null,null,0,null,0,null,null,"za",0,"","Week",null,"OV WEEK","OV DAG","Recup -","Recup +","OV 50%"]
[29,"2019-07-21","2019-07-21",null,null,0,null,0,null,null,"zo",0,"",{"$f":"SUM(L205:L211)","v":0},{"$f":"SUM(H205:H211)","v":0},{"$f":"IF(N211>38,N211-38,0)","v":0},{"$f":"SUM(M205:M211)","v":0},{"$f":"SUM(I205:I211)","v":0},{"$f":"IF(N211>38,N211-38,0)","v":0},{"$f":"IF(P211>Q211,P211,Q211)","v":0}]
[30,"2019-07-22","2019-07-22",null,null,0,0,0,null,null,null,0,""]
[30,"2019-07-23","2019-07-23",null,null,0,0,0,null,null,null,0,""]
[30,"2019-07-24","2019-07-24",null,null,0,0,0,null,null,null,0,""]
[30,"2019-07-25","2019-07-25",null,null,0,0,0,null,null,null,0,""]
[30,"2019-07-26","2019-07-26",null,null,0,0,0,null,null,null,0,""]
[30,"2019-07-27","2019-07-27",null,null,0,null,0,null,null,"za",0,"","Week",null,"OV WEEK","OV DAG","Recup -","Recup +","OV 50%"]
[30,"2019-07-28","2019-07-28",null,null,0,null,0,null,null,"zo",0,"",{"$f":"SUM(L212:L218)","v":0},{"$f":"SUM(H212:H218)","v":0},{"$f":"IF(N218>38,N218-38,0)","v":0},{"$f":"SUM(M212:M218)","v":0},{"$f":"SUM(I212:I218)","v":0},{"$f":"IF(N218>38,N218-38,0)","v":0},{"$f":"IF(P218>Q218,P218,Q218)","v":0}]
[31,"2019-07-29","2019-07-29",null,null,0,0,0,null,null,null,0,""]
[31,"2019-07-30","2019-07-30",null,null,0,0,0,null,null,null,0,""]
[31,"2019-07-31","2019-07-31",null,null,0,0,0,null,null,null,0,""]
[31,"2019-08-01","2019-08-01",null,null,0,0,0,null,null,null,0,""]
[31,"2019-08-02","2019-08-02",null,null,0,0,0,null,null,null,0,""]
[31,"2019-08-03","2019-08-03",null,null,0,null,0,null,null,"za",0,"","Week",null,"OV WEEK","OV DAG","Recup -","Recup +","OV 50%"]
[31,"2019-08-04","2019-08-04",null,null,0,null,0,null,null,"zo",0,"",{"$f":"SUM(L219:L225)","v":0},{"$f":"SUM(H219:H225)","v":0},{"$f":"IF(N225>38,N225-38,0)","v":0},{"$f":"SUM(M219:M225)","v":0},{"$f":"SUM(I219:I225)","v":0},{"$f":"IF(N225>38,N225-38,0)","v":0},{"$f":"IF(P225>Q225,P225,Q225)","v":0}]
[32,"2019-08-05","2019-08-05",null,null,0,0,0,null,null,null,0,""]
[32,"2019-08-06","2019-08-06",null,null,0,0,0,null,null,null,0,""]
[32,"2019-08-07","2019-08-07",null,null,0,0,0,null,null,null,0,""]
[32,"2019-08-08","2019-08-08",null,null,0,0,0,null,null,null,0,""]
[32,"2019-08-09","2019-08-09",null,null,0,0,0,null,null,null,0,""]
[32,"2019-08-10","2019-08-10",null,null,0,null,0,null,null,"za",0,"","Week",null,"OV WEEK","OV DAG","Recup -","Recup +","OV 50%"]
[32,"2019-08-11","2019-08-11",null,null,0,null,0,null,null,"zo",0,"",{"$f":"SUM(L226:L232)","v":0},{"$f":"SUM(H226:H232)","v":0},{"$f":"IF(N232>38,N232-38,0)","v":0},{"$f":"SUM(M226:M232)","v":0},{"$f":"SUM(I226:I232)","v":0},{"$f":"IF(N232>38,N232-38,0)","v":0},{"$f":"IF(P232>Q232,P232,Q232)","v":0}]
[33,"2019-08-12","2019-08-12",null,null,0,0,0,null,null,null,0,""]
[33,"2019-08-13","2019-08-13",null,null,0,0,0,null,null,null,0,""]
[33,"2019-08-14","2019-08-14",null,null,0,0,0,null,null,null,0,""]
[33,"2019-08-15","2019-08-15",null,null,0,0,0,null,7.6,"fd",7.6,""]
[33,"2019-08-16","2019-08-16",null,null,0,0,0,null,null,null,0,""]
[33,"2019-08-17","2019-08-17",null,null,0,null,0,null,null,"za",0,"","Week",null,"OV WEEK","OV DAG","Recup -","Recup +","OV 50%"]
[33,"2019-08-18","2019-08-18",null,null,0,null,0,null,null,"zo",0,"",{"$f":"SUM(L233:L239)","v":7.6},{"$f":"SUM(H233:H239)","v":0},{"$f":"IF(N239>38,N239-38,0)","v":0},{"$f":"SUM(M233:M239)","v":0},{"$f":"SUM(I233:I239)","v":0},{"$f":"IF(N239>38,N239-38,0)","v":0},{"$f":"IF(P239>Q239,P239,Q239)","v":0}]
[34,"2019-08-19","2019-08-19",null,null,0,0,0,null,null,null,0,""]
[34,"2019-08-20","2019-08-20",null,null,0,{"$f":"IF(F241>=6,0.5,0)","v":0},0,null,null,null,0,""]
[34,"2019-08-21","2019-08-21",null,null,0,0,0,null,null,null,0,""]
[34,"2019-08-22","2019-08-22",null,null,0,0,0,null,null,null,0,""]
[34,"2019-08-23","2019-08-23",null,null,0,0,0,null,null,null,0,""]
[34,"2019-08-24","2019-08-24",null,null,0,null,0,null,null,"za",0,"","Week",null,"OV WEEK","OV DAG","Recup -","Recup +","OV 50%"]
[34,"2019-08-25","2019-08-25",null,null,0,null,0,null,null,"zo",0,"",{"$f":"SUM(L240:L246)","v":0},{"$f":"SUM(H240:H246)","v":0},{"$f":"IF(N246>38,N246-38,0)","v":0},{"$f":"SUM(M240:M246)","v":0},{"$f":"SUM(I240:I246)","v":0},{"$f":"IF(N246>38,N246-38,0)","v":0},{"$f":"IF(P246>Q246,P246,Q246)","v":0}]
[35,"2019-08-26","2019-08-26",null,null,0,0,0,null,null,null,0,""]
[35,"2019-08-27","2019-08-27",null,null,0,0,0,null,null,null,0,""]
[35,"2019-08-28","2019-08-28",null,null,0,0,0,null,null,null,0,""]
[35,"2019-08-29","2019-08-29",null,null,0,0,0,null,null,null,0,""]
[35,"2019-08-30","2019-08-30",null,null,0,0,0,null,null,null,0,""]
[35,"2019-08-31","2019-08-31",null,null,0,null,0,null,null,"za",0,"","Week",null,"OV WEEK","OV DAG","Recup -","Recup +","OV 50%"]
[35,"2019-09-01","2019-09-01",null,null,0,null,0,null,null,"zo",0,"",{"$f":"SUM(L247:L253)","v":0},{"$f":"SUM(H247:H253)","v":0},{"$f":"IF(N253>38,N253-38,0)","v":0},{"$f":"SUM(M247:M253)","v":0},{"$f":"SUM(I247:I253)","v":0},{"$f":"IF(N253>38,N253-38,0)","v":0},{"$f":"IF(P253>Q253,P253,Q253)","v":0}]
[36,"2019-09-02","2019-09-02",null,null,0,0,0,null,null,null,0,""]
[36,"2019-09-03","2019-09-03",null,null,0,0,0,null,null,null,0,""]
[36,"2019-09-04","2019-09-04",null,null,0,0,0,null,null,null,0,""]
[36,"2019-09-05","2019-09-05",null,null,0,0,0,null,null,null,0,""]
[36,"2019-09-06","2019-09-06",null,null,0,0,0,null,null,null,0,""]
[36,"2019-09-07","2019-09-07",null,null,0,null,0,null,null,"za",0,"","Week",null,"OV WEEK","OV DAG","Recup -","Recup +","OV 50%"]
[36,"2019-09-08","2019-09-08",null,null,0,null,0,null,null,"zo",0,"",{"$f":"SUM(L254:L260)","v":0},{"$f":"SUM(H254:H260)","v":0},{"$f":"IF(N260>38,N260-38,0)","v":0},{"$f":"SUM(M254:M260)","v":0},{"$f":"SUM(I254:I260)","v":0},{"$f":"IF(N260>38,N260-38,0)","v":0},{"$f":"IF(P260>Q260,P260,Q260)","v":0}]
[37,"2019-09-09","2019-09-09",null,null,0,0,0,null,null,null,0,""]
[37,"2019-09-10","2019-09-10",null,null,0,0,0,null,null,null,0,""]
[37,"2019-09-11","2019-09-11",null,null,0,0,0,null,null,null,0,""]
[37,"2019-09-12","2019-09-12",null,null,0,0,0,null,null,null,0,""]
[37,"2019-09-13","2019-09-13",null,null,0,0,0,null,null,null,0,{"$f":"IF(L265>9,L265-9,\"\")","v":""}]
[{"$f":"WEEKNUM(C266,21)","v":37},{"$f":"C266","v":"2019-09-14"},"2019-09-14",null,null,{"$f":"(E266-D266)*24","v":0},null,{"$f":"F266-G266","v":0},null,null,"za",{"$f":"SUM(H266:J266)","v":0},"","Week",null,"OV WEEK","OV DAG","Recup -","Recup +","OV 50%"]
[37,"2019-09-15","2019-09-15",null,null,0,null,0,null,null,"zo",0,"",{"$f":"SUM(L261:L267)","v":0},{"$f":"SUM(H261:H267)","v":0},{"$f":"IF(N267>38,N267-38,0)","v":0},{"$f":"SUM(M261:M267)","v":0},{"$f":"SUM(I261:I267)","v":0},{"$f":"IF(N267>38,N267-38,0)","v":0},{"$f":"IF(P267>Q267,P267,Q267)","v":0}]
[38,"2019-09-16","2019-09-16",null,null,0,{"$f":"IF(F268>=6,0.5,0)","v":0},0,null,null,null,0,""]
[38,"2019-09-17","2019-09-17",null,null,0,0,0,null,null,null,0,""]
[38,"2019-09-18","2019-09-18",null,null,0,0,0,null,null,null,0,""]
[38,"2019-09-19","2019-09-19",null,null,0,0,0,null,null,null,0,""]
[38,"2019-09-20","2019-09-20",null,null,0,0,0,null,null,null,0,""]
[38,"2019-09-21","2019-09-21",null,null,0,null,0,null,null,"za",0,"","Week",null,"OV WEEK","OV DAG","Recup -","Recup +","OV 50%"]
[38,"2019-09-22","2019-09-22",null,null,0,null,0,null,null,"zo",0,"",{"$f":"SUM(L268:L274)","v":0},{"$f":"SUM(H268:H274)","v":0},{"$f":"IF(N274>38,N274-38,0)","v":0},{"$f":"SUM(M268:M274)","v":0},{"$f":"SUM(I268:I274)","v":0},{"$f":"IF(N274>38,N274-38,0)","v":0},{"$f":"IF(P274>Q274,P274,Q274)","v":0}]
[39,"2019-09-23","2019-09-23",null,null,0,0,0,null,null,null,0,""]
[39,"2019-09-24","2019-09-24",null,null,0,0,0,null,null,null,0,""]
[39,"2019-09-25","2019-09-25",null,null,0,0,0,null,null,null,0,""]
[39,"2019-09-26","2019-09-26",null,null,0,0,0,null,null,null,0,""]
[39,"2019-09-27","2019-09-27",null,null,0,0,0,null,null,null,0,""]
[39,"2019-09-28","2019-09-28",null,null,0,null,0,null,null,"za",0,"","Week",null,"OV WEEK","OV DAG","Recup -","Recup +","OV 50%"]
[39,"2019-09-29","2019-09-29",null,null,0,null,0,null,null,"zo",0,"",{"$f":"SUM(L275:L281)","v":0},{"$f":"SUM(H275:H281)","v":0},{"$f":"IF(N281>38,N281-38,0)","v":0},{"$f":"SUM(M275:M281)","v":0},{"$f":"SUM(I275:I281)","v":0},{"$f":"IF(N281>38,N281-38,0)","v":0},{"$f":"IF(P281>Q281,P281,Q281)","v":0}]
[40,"2019-09-30","2019-09-30",null,null,0,0,0,null,null,null,0,""]
[40,"2019-10-01","2019-10-01",null,null,0,0,0,null,null,null,0,""]
[40,"2019-10-02","2019-10-02",null,null,0,0,0,null,null,null,0,""]
[40,"2019-10-03","2019-10-03",null,null,0,0,0,null,null,null,0,""]
[40,"2019-10-04","2019-10-04",null,null,0,0,0,null,null,null,0,""]
[40,"2019-10-05","2019-10-05",null,null,0,null,0,null,null,"za",0,"","Week",null,"OV WEEK","OV DAG","Recup -","Recup +","OV 50%"]
[40,"2019-10-06","2019-10-06",null,null,0,null,0,null,null,"zo",0,"",{"$f":"SUM(L282:L288)","v":0},{"$f":"SUM(H282:H288)","v":0},{"$f":"IF(N288>38,N288-38,0)","v":0},{"$f":"SUM(M282:M288)","v":0},{"$f":"SUM(I282:I288)","v":0},{"$f":"IF(N288>38,N288-38,0)","v":0},{"$f":"IF(P288>Q288,P288,Q288)","v":0}]
[41,"2019-10-07","2019-10-07",null,null,0,0,0,null,null,null,0,""]
[41,"2019-10-08","2019-10-08",null,null,0,0,0,null,null,null,0,""]
[41,"2019-10-09","2019-10-09",null,null,0,0,0,null,null,null,0,""]
[41,"2019-10-10","2019-10-10",null,null,0,0,0,null,null,null,0,""]
[41,"2019-10-11","2019-10-11",null,null,0,0,0,null,null,null,0,""]
[41,"2019-10-12","2019-10-12",null,null,0,null,0,null,null,"za",0,"","Week",null,"OV WEEK","OV DAG","Recup -","Recup +","OV 50%"]
[41,"2019-10-13","2019-10-13",null,null,0,null,0,null,null,"zo",0,"",{"$f":"SUM(L289:L295)","v":0},{"$f":"SUM(H289:H295)","v":0},{"$f":"IF(N295>38,N295-38,0)","v":0},{"$f":"SUM(M289:M295)","v":0},{"$f":"SUM(I289:I295)","v":0},{"$f":"IF(N295>38,N295-38,0)","v":0},{"$f":"IF(P295>Q295,P295,Q295)","v":0}]
[42,"2019-10-14","2019-10-14",null,null,0,0,0,null,null,null,0,""]
[42,"2019-10-15","2019-10-15",null,null,0,0,0,null,null,null,0,""]
[42,"2019-10-16","2019-10-16",null,null,0,0,0,null,null,null,0,""]
[42,"2019-10-17","2019-10-17",null,null,0,0,0,null,null,null,0,""]
[42,"2019-10-18","2019-10-18",null,null,0,0,0,null,null,null,0,""]
[42,"2019-10-19","2019-10-19",null,null,0,null,0,null,null,"za",0,"","Week",null,"OV WEEK","OV DAG","Recup -","Recup +","OV 50%"]
[42,"2019-10-20","2019-10-20",null,null,0,null,0,null,null,"zo",0,"",{"$f":"SUM(L296:L302)","v":0},{"$f":"SUM(H296:H302)","v":0},{"$f":"IF(N302>38,N302-38,0)","v":0},{"$f":"SUM(M296:M302)","v":0},{"$f":"SUM(I296:I302)","v":0},{"$f":"IF(N302>38,N302-38,0)","v":0},{"$f":"IF(P302>Q302,P302,Q302)","v":0}]
[43,"2019-10-21","2019-10-21",null,null,0,0,0,null,null,null,0,""]
[43,"2019-10-22","2019-10-22",null,null,0,0,0,null,null,null,0,""]
[43,"2019-10-23","2019-10-23",null,null,0,0,0,null,null,null,0,""]
[43,"2019-10-24","2019-10-24",null,null,0,0,0,null,null,null,0,""]
[43,"2019-10-25","2019-10-25",null,null,0,0,0,null,null,null,0,""]
[43,"2019-10-26","2019-10-26",null,null,0,null,0,null,null,"za",0,"","Week",null,"OV WEEK","OV DAG","Recup -","Recup +","OV 50%"]
[43,"2019-10-27","2019-10-27",null,null,0,null,0,null,null,"zo",0,"",{"$f":"SUM(L303:L309)","v":0},{"$f":"SUM(H303:H309)","v":0},{"$f":"IF(N309>38,N309-38,0)","v":0},{"$f":"SUM(M303:M309)","v":0},{"$f":"SUM(I303:I309)","v":0},{"$f":"IF(N309>38,N309-38,0)","v":0},{"$f":"IF(P309>Q309,P309,Q309)","v":0}]
[44,"2019-10-28","2019-10-28",null,null,0,0,0,null,null,null,0,""]
[44,"2019-10-29","2019-10-29",null,null,0,0,0,null,null,null,0,""]
[44,"2019-10-30","2019-10-30",null,null,0,0,0,null,null,null,0,""]
[44,"2019-10-31","2019-10-31",null,null,0,0,0,null,null,null,0,""]
[44,"2019-11-01","2019-11-01",null,null,0,0,0,null,7.6,"fd",7.6,""]
[44,"2019-11-02","2019-11-02",null,null,0,null,0,null,null,"za",0,"","Week",null,"OV WEEK","OV DAG","Recup -","Recup +","OV 50%"]
[44,"2019-11-03","2019-11-03",null,null,0,null,0,null,null,"zo",0,"",{"$f":"SUM(L310:L316)","v":7.6},{"$f":"SUM(H310:H316)","v":0},{"$f":"IF(N316>38,N316-38,0)","v":0},{"$f":"SUM(M310:M316)","v":0},{"$f":"SUM(I310:I316)","v":0},{"$f":"IF(N316>38,N316-38,0)","v":0},{"$f":"IF(P316>Q316,P316,Q316)","v":0}]
[45,"2019-11-04","2019-11-04",null,null,0,0,0,null,null,null,0,""]
[45,"2019-11-05","2019-11-05",null,null,0,0,0,null,null,null,0,""]
[45,"2019-11-06","2019-11-06",null,null,0,0,0,null,null,null,0,""]
[45,"2019-11-07","2019-11-07",null,null,0,0,0,null,null,null,0,""]
[45,"2019-11-08","2019-11-08",null,null,0,0,0,null,null,null,0,""]
[45,"2019-11-09","2019-11-09",null,null,0,null,0,null,null,"za",0,"","Week",null,"OV WEEK","OV DAG","Recup -","Recup +","OV 50%"]
[45,"2019-11-10","2019-11-10",null,null,0,null,0,null,null,"zo",0,"",{"$f":"SUM(L317:L323)","v":0},{"$f":"SUM(H317:H323)","v":0},{"$f":"IF(N323>38,N323-38,0)","v":0},{"$f":"SUM(M317:M323)","v":0},{"$f":"SUM(I317:I323)","v":0},{"$f":"IF(N323>38,N323-38,0)","v":0},{"$f":"IF(P323>Q323,P323,Q323)","v":0}]
[46,"2019-11-11","2019-11-11",null,null,0,0,0,null,7.6,"fd",7.6,""]
[46,"2019-11-12","2019-11-12",null,null,0,0,0,null,null,null,0,""]
[46,"2019-11-13","2019-11-13",null,null,0,0,0,null,null,null,0,""]
[46,"2019-11-14","2019-11-14",null,null,0,0,0,null,null,null,0,""]
[46,"2019-11-15","2019-11-15",null,null,0,0,0,null,null,null,0,""]
[46,"2019-11-16","2019-11-16",null,null,0,null,0,null,null,"za",0,{"$f":"IF(L329>9,L329-9,\"\")","v":""},"Week",null,"OV WEEK","OV DAG","Recup -","Recup +","OV 50%"]
[{"$f":"WEEKNUM(C330,21)","v":46},{"$f":"C330","v":"2019-11-17"},"2019-11-17",null,null,{"$f":"(E330-D330)*24","v":0},null,{"$f":"F330-G330","v":0},null,null,"zo",{"$f":"SUM(H330:J330)","v":0},"",{"$f":"SUM(L324:L330)","v":7.6},{"$f":"SUM(H324:H330)","v":0},{"$f":"IF(N330>38,N330-38,0)","v":0},{"$f":"SUM(M324:M330)","v":0},{"$f":"SUM(I324:I330)","v":0},{"$f":"IF(N330>38,N330-38,0)","v":0},{"$f":"IF(P330>Q330,P330,Q330)","v":0}]
[47,"2019-11-18","2019-11-18",null,null,0,{"$f":"IF(F331>=6,0.5,0)","v":0},0,null,null,null,0,""]
[47,"2019-11-19","2019-11-19",null,null,0,0,0,null,null,null,0,""]
[47,"2019-11-20","2019-11-20",null,null,0,0,0,null,null,null,0,""]
[47,"2019-11-21","2019-11-21",null,null,0,0,0,null,null,null,0,""]
[47,"2019-11-22","2019-11-22",null,null,0,0,0,null,null,null,0,""]
[47,"2019-11-23","2019-11-23",null,null,0,null,0,null,null,"za",0,"","Week",null,"OV WEEK","OV DAG","Recup -","Recup +","OV 50%"]
[47,"2019-11-24","2019-11-24",null,null,0,null,0,null,null,"zo",0,"",{"$f":"SUM(L331:L337)","v":0},{"$f":"SUM(H331:H337)","v":0},{"$f":"IF(N337>38,N337-38,0)","v":0},{"$f":"SUM(M331:M337)","v":0},{"$f":"SUM(I331:I337)","v":0},{"$f":"IF(N337>38,N337-38,0)","v":0},{"$f":"IF(P337>Q337,P337,Q337)","v":0}]
[48,"2019-11-25","2019-11-25",null,null,0,0,0,null,null,null,0,""]
[48,"2019-11-26","2019-11-26",null,null,0,0,0,null,null,null,0,""]
[48,"2019-11-27","2019-11-27",null,null,0,0,0,null,null,null,0,""]
[48,"2019-11-28","2019-11-28",null,null,0,0,0,null,null,null,0,""]
[48,"2019-11-29","2019-11-29",null,null,0,0,0,null,null,null,0,""]
[48,"2019-11-30","2019-11-30",null,null,0,null,0,null,null,"za",0,"","Week",null,"OV WEEK","OV DAG","Recup -","Recup +","OV 50%"]
[48,"2019-12-01","2019-12-01",null,null,0,null,0,null,null,"zo",0,"",{"$f":"SUM(L338:L344)","v":0},{"$f":"SUM(H338:H344)","v":0},{"$f":"IF(N344>38,N344-38,0)","v":0},{"$f":"SUM(M338:M344)","v":0},{"$f":"SUM(I338:I344)","v":0},{"$f":"IF(N344>38,N344-38,0)","v":0},{"$f":"IF(P344>Q344,P344,Q344)","v":0}]
[49,"2019-12-02","2019-12-02",null,null,0,0,0,null,null,null,0,""]
[49,"2019-12-03","2019-12-03",null,null,0,0,0,null,null,null,0,""]
[49,"2019-12-04","2019-12-04",null,null,0,0,0,null,null,null,0,""]
[49,"2019-12-05","2019-12-05",null,null,0,0,0,null,null,null,0,""]
[49,"2019-12-06","2019-12-06",null,null,0,0,0,null,null,null,0,""]
[49,"2019-12-07","2019-12-07",null,null,0,null,0,null,null,"za",0,"","Week",null,"OV WEEK","OV DAG","Recup -","Recup +","OV 50%"]
[49,"2019-12-08","2019-12-08",null,null,0,null,0,null,null,"zo",0,"",{"$f":"SUM(L345:L351)","v":0},{"$f":"SUM(H345:H351)","v":0},{"$f":"IF(N351>38,N351-38,0)","v":0},{"$f":"SUM(M345:M351)","v":0},{"$f":"SUM(I345:I351)","v":0},{"$f":"IF(N351>38,N351-38,0)","v":0},{"$f":"IF(P351>Q351,P351,Q351)","v":0}]
[50,"2019-12-09","2019-12-09",null,null,0,0,0,null,null,null,0,""]
[50,"2019-12-10","2019-12-10",null,null,0,0,0,null,null,null,0,""]
[50,"2019-12-11","2019-12-11",null,null,0,0,0,null,null,null,0,""]
[50,"2019-12-12","2019-12-12",null,null,0,0,0,null,null,null,0,""]
[50,"2019-12-13","2019-12-13",null,null,0,0,0,null,null,null,0,""]
[50,"2019-12-14","2019-12-14",null,null,0,null,0,null,null,"za",0,"","Week",null,"OV WEEK","OV DAG","Recup -","Recup +","OV 50%"]
[50,"2019-12-15","2019-12-15",null,null,0,null,0,null,null,"zo",0,"",{"$f":"SUM(L352:L358)","v":0},{"$f":"SUM(H352:H358)","v":0},{"$f":"IF(N358>38,N358-38,0)","v":0},{"$f":"SUM(M352:M358)","v":0},{"$f":"SUM(I352:I358)","v":0},{"$f":"IF(N358>38,N358-38,0)","v":0},{"$f":"IF(P358>Q358,P358,Q358)","v":0}]
[51,"2019-12-16","2019-12-16",null,null,0,0,0,null,null,null,0,""]
[51,"2019-12-17","2019-12-17",null,null,0,0,0,null,null,null,0,""]
[51,"2019-12-18","2019-12-18",null,null,0,0,0,null,null,null,0,""]
[51,"2019-12-19","2019-12-19",null,null,0,0,0,null,null,null,0,""]
[51,"2019-12-20","2019-12-20",null,null,0,0,0,null,null,null,0,""]
[51,"2019-12-21","2019-12-21",null,null,0,null,0,null,null,"za",0,"","Week",null,"OV WEEK","OV DAG","Recup -","Recup +","OV 50%"]
[51,"2019-12-22","2019-12-22",null,null,0,null,0,null,null,"zo",0,"",{"$f":"SUM(L359:L365)","v":0},{"$f":"SUM(H359:H365)","v":0},{"$f":"IF(N365>38,N365-38,0)","v":0},{"$f":"SUM(M359:M365)","v":0},{"$f":"SUM(I359:I365)","v":0},{"$f":"IF(N365>38,N365-38,0)","v":0},{"$f":"IF(P365>Q365,P365,Q365)","v":0}]
[52,"2019-12-23","2019-12-23",null,null,0,0,0,null,null,null,0,""]
[52,"2019-12-24","2019-12-24",null,null,0,0,0,null,null,null,0,""]
[52,"2019-12-25","2019-12-25",null,null,0,0,0,null,7.6,"fd",7.6,""]
[52,"2019-12-26","2019-12-26",null,null,0,0,0,null,null,null,0,""]
[52,"2019-12-27","2019-12-27",null,null,0,0,0,null,null,null,0,""]
[52,"2019-12-28","2019-12-28",null,null,0,null,0,null,null,"za",0,"","Week",null,"OV WEEK","OV DAG","Recup -","Recup +","OV 50%"]
[52,"2019-12-29","2019-12-29",null,null,0,null,0,null,null,"zo",0,"",{"$f":"SUM(L366:L372)","v":7.6},{"$f":"SUM(H366:H372)","v":0},{"$f":"IF(N372>38,N372-38,0)","v":0},{"$f":"SUM(M366:M372)","v":0},{"$f":"SUM(I366:I372)","v":0},{"$f":"IF(N372>38,N372-38,0)","v":0},{"$f":"IF(P372>Q372,P372,Q372)","v":0}]
[1,"2019-12-30","2019-12-30",null,null,0,0,0,null,null,null,0,""]
[1,"2019-12-31","2019-12-31",null,null,0,0,0,null,null,null,0,""]
[1,"2020-01-01","2020-01-01",null,null,0,0,0,null,7.6,"fd",7.6,""]
[1,"2020-01-02","2020-01-02",null,null,0,0,0,null,null,null,0,""]
[1,"2020-01-03","2020-01-03",null,null,0,0,0,null,null,null,0,""]
[1,"2020-01-04","2020-01-04",null,null,0,null,0,null,null,"za",0,"","Week",null,"OV WEEK","OV DAG","Recup -","Recup +","OV 50%"]
[1,"2020-01-05","2020-01-05",null,null,0,null,0,null,null,"zo",0,"",{"$f":"SUM(L373:L379)","v":7.6},{"$f":"SUM(H373:H379)","v":0},{"$f":"IF(N379>38,N379-38,0)","v":0},{"$f":"SUM(M373:M379)","v":0},{"$f":"SUM(I373:I379)","v":0},{"$f":"IF(N379>38,N379-38,0)","v":0},{"$f":"IF(P379>Q379,P379,Q379)","v":0}]

{"sheet":"70","index":13,"n_rows":379,"n_cols":35,"rows_kept":379,"cut":false,"hidden":false,"merged":[[6,21,6,24],[6,25,6,28],[6,29,6,32],[6,33,6,34],[0,1,1,12],[4,21,4,23],[4,25,4,28],[4,29,4,32],[4,33,4,34],[5,21,5,23],[5,25,5,28],[5,29,5,32],[5,33,5,34],[2,21,2,23],[2,25,2,28],[2,29,2,32],[2,33,2,34],[3,21,3,23],[3,25,3,28],[3,29,3,32],[3,33,3,34],[0,21,0,24],[0,25,0,28],[0,29,0,32],[0,33,0,34],[1,21,1,23],[1,25,1,28],[1,29,1,32],[1,33,1,34]]}
["70","Ilsen Marc",null,null,null,null,null,null,null,null,null,null,null,null,null,null,null,null,null,null,null,"Soort",null,null,null,"Recht op",null,null,null,"Opgenomen",null,null,null,"Saldo"]
[null,null,null,null,null,null,null,null,null,null,null,null,null,null,null,null,null,null,null,null,null,"ADV-dagen",null,null,"adv",null,null,null,null,{"$f":"(COUNTIF(W$9:AH$39,\"ADV\")+(COUNTIF(W$9:AH$39,\"0,5ADV\"))/2)","v":0},null,null,null,{"$f":"Z2-AD2","v":0}]
[null,null,null,null,null,null,null,null,null,null,null,null,null,null,null,null,null,null,null,null,null,"Vakantie 2019",null,null,"v",null,null,null,null,{"$f":"(COUNTIF(W$9:AH$39,\"V\")+(COUNTIF(W$9:AH$39,\"0,5V\"))/2)","v":0},null,null,null,{"$f":"Z3-AD3","v":0}]
[null,null,"40-uren week",null,null,null,null,null,null,null,null,null,null,"Feestdag in weekend 2019",null,null,null,null,"Recup 2018",0.5,null,"Feestdag 2019",null,null,"f",1,null,null,null,{"$f":"(COUNTIF(W$9:AH$39,\"F\")+(COUNTIF(W$9:AH$39,\"0,5F\"))/2)","v":0},null,null,null,1]
[null,null,null,null,null,null,null,null,null,null,null,null,null,"- nationale feestdag 21/7",null,null,null,null,null,null,null,"Vakantie rest 2018",null,null,"vvj",null,null,null,null,{"$f":"(COUNTIF(W$9:AH$39,\"vvj\")+(COUNTIF(W$9:AH$39,\"0,5vvj\"))/2)","v":0},null,null,null,0]
[null,null,null,null,null,null,null,null,null,null,null,null,null,null,null,null,null,null,"Recup",{"$f":"SUM(S9:S379)-SUM(R9:R379)+T5+T4","v":0.5},null,"Anciënniteitsdagen",null,null,"a ",null,null,null,null,{"$f":"(COUNTIF(W$9:AH$39,\"A\")+(COUNTIF(W$9:AH$39,\"0,5A\"))/2)","v":0},null,null,null,0]
[null,null,null,null,null,null,null,null,null,null,null,null,null,null,null,null,null,null,null,null,null,"TOTAAL",null,null,null,{"$f":"SUM(Z2:AC6)","v":1},null,null,null,{"$f":"SUM(AD2:AG6)","v":0},null,null,null,{"$f":"SUM(AH2:AI6)","v":1}]
["W","Dag","Datum","Van ","Tot",null,"Pauze","Prestaties","Recup","Andere","Type","Dag","OV DAG","Week","Prestaties","OV WEEK","OV DAG","Rec. -","Rec. +","OV 50%","M",null,"Jan","Feb","Maa","Apr","Mei","Jun","Jul","Aug","Sept","Okt","Nov","Dec"]
[{"$f":"WEEKNUM(C9,21)","v":1},{"$f":"C9","v":"2018-12-31"},"2018-12-31",null,null,{"$f":"(E9-D9)*24","v":0},{"$f":"IF(F9>=6,0.5,0)","v":0},{"$f":"F9-G9","v":0},null,null,null,{"$f":"SUM(H9:J9)","v":0},{"$f":"IF(L9>9,L9-9,\"\")","v":""},"Marc week van nieuwjaar on site.",null,null,null,null,null,null,null,1,{"$f":"K9","v":0},{"$f":"K40","v":0},{"$f":"K68","v":0},{"$f":"K99","v":"zo"},{"$f":"K129","v":0},{"$f":"K160","v":0},{"$f":"K190","v":"zo"},{"$f":"K221","v":0},{"$f":"K252","v":"za"},{"$f":"K282","v":0},{"$f":"K313","v":0},{"$f":"K343","v":"za"},1]
[{"$f":"WEEKNUM(C10,21)","v":1},{"$f":"C10","v":"2019-01-01"},"2019-01-01",null,null,{"$f":"(E10-D10)*24","v":0},{"$f":"IF(F10>=6,0.5,0)","v":0},{"$f":"F10-G10","v":0},null,7.6,"fd",{"$f":"SUM(H10:J10)","v":7.6},"","31/12 als gewerkt doorgegeven uren nog te ontvangen!",null,null,null,null,null,null,null,2,{"$f":"K10","v":"fd"},{"$f":"K41","v":0},{"$f":"K69","v":0},{"$f":"K100","v":0},{"$f":"K130","v":"fd"},{"$f":"K161","v":"za"},{"$f":"K191","v":0},{"$f":"K222","v":0},{"$f":"K253","v":"zo"},{"$f":"K283","v":0},{"$f":"K314","v":"fd"},{"$f":"K344","v":"zo"},2]
[1,"2019-01-02","2019-01-02",null,null,0,0,0,null,null,null,0,"",null,null,null,null,null,null,null,null,3,0,"za","za",0,0,"zo",0,0,0,0,"za",0,3]
[1,"2019-01-03","2019-01-03",null,null,0,0,0,null,null,null,0,"",null,null,null,null,null,null,null,null,4,0,"zo","zo",0,0,0,0,"za",0,0,"zo",0,4]
[1,"2019-01-04","2019-01-04",null,null,0,0,0,null,null,null,0,"",null,null,null,null,null,null,null,null,5,0,0,0,0,"za",0,0,"zo",0,0,0,{"$f":"K347","v":0},5]
[1,"2019-01-05","2019-01-05",null,null,0,null,0,null,null,"za",0,"","Week",null,"OV WEEK","OV DAG","Recup -","Recup +","OV 50%",null,6,"za",0,0,0,"zo",0,0,0,0,"za",0,0,6]
[1,"2019-01-06","2019-01-06",null,null,0,null,0,null,null,"zo",0,"",{"$f":"SUM(L9:L15)","v":7.6},{"$f":"SUM(H9:H15)","v":0},{"$f":"IF(N15>40,N15-40,0)","v":0},{"$f":"SUM(M9:M15)","v":0},{"$f":"SUM(I9:I15)","v":0},{"$f":"IF(N15>40,N15-40,0)","v":0},{"$f":"IF(P15>Q15,P15,Q15)","v":0},null,7,"zo",0,0,"za",0,0,"za",0,0,"zo",0,0,7]
[2,"2019-01-07","2019-01-07",null,null,0,0,0,null,null,null,0,"",null,null,null,null,null,null,null,null,8,0,0,0,"zo",0,0,"zo",0,"za",0,0,"za",8]
[2,"2019-01-08","2019-01-08",null,null,0,0,0,null,null,null,0,"",null,null,null,null,null,null,null,null,9,0,0,0,0,0,"za",0,0,"zo",0,0,"zo",9]
[2,"2019-01-09","2019-01-09",null,null,0,0,0,null,null,null,0,"",null,null,null,null,null,null,null,null,10,0,"za","za",0,0,"zo",0,0,0,0,"za",0,10]
[2,"2019-01-10","2019-01-10",null,null,0,0,0,null,null,null,0,"",null,null,null,null,null,null,null,null,11,0,"zo","zo",0,0,"fd",0,"za",0,0,"zo",0,11]
[2,"2019-01-11","2019-01-11",null,null,0,0,0,null,null,null,0,"",null,null,null,null,null,null,null,null,12,0,0,0,0,"za",0,0,"zo",0,0,"fd",0,12]
[2,"2019-01-12","2019-01-12",null,null,0,null,0,null,null,"za",0,"","Week",null,"OV WEEK","OV DAG","Recup -","Recup +","OV 50%",null,13,"za",0,0,0,"zo",0,0,0,0,"za",0,0,13]
[2,"2019-01-13","2019-01-13",null,null,0,null,0,null,null,"zo",0,"",{"$f":"SUM(L16:L22)","v":0},{"$f":"SUM(H16:H22)","v":0},{"$f":"IF(N22>40,N22-40,0)","v":0},{"$f":"SUM(M16:M22)","v":0},{"$f":"SUM(I16:I22)","v":0},{"$f":"IF(N22>40,N22-40,0)","v":0},{"$f":"IF(P22>Q22,P22,Q22)","v":0},null,14,"zo",0,0,"za",0,0,"za",0,0,"zo",0,0,14]
[3,"2019-01-14","2019-01-14",null,null,0,0,0,null,null,null,0,"","ET 14/01: Stephanie doorgegeven dat Marc Ilsen ziek heeft gemeld",null,null,null,null,null,null,null,15,0,0,0,"zo",0,0,"zo",0,"za",0,0,"za",15]
[3,"2019-01-15","2019-01-15",null,null,0,0,0,null,null,null,0,"","in het ziekenhuis met nierstenen..attest nog te ontvangen?",null,null,null,null,null,null,null,16,0,0,0,0,0,"za",0,"fd","zo",0,0,"zo",16]
[3,"2019-01-16","2019-01-16",null,null,0,0,0,null,null,null,0,"",null,null,null,null,null,null,null,null,17,0,"za","za",0,0,"zo",0,0,0,0,"za",0,17]
[3,"2019-01-17","2019-01-17",null,null,0,0,0,null,null,null,0,"",null,null,null,null,null,null,null,null,18,0,"zo","zo",0,0,0,0,"za",0,0,"zo",0,18]
[3,"2019-01-18","2019-01-18",null,null,0,0,0,null,null,null,0,"",null,null,null,null,null,null,null,null,19,0,0,0,0,"za",0,0,"zo",0,0,0,0,19]
[3,"2019-01-19","2019-01-19",null,null,0,null,0,null,null,"za",0,"","Week",null,"OV WEEK","OV DAG","Recup -","Recup +","OV 50%",null,20,"za",0,0,0,"zo",0,0,0,0,"za",0,{"$f":"K362","v":0},20]
[3,"2019-01-20","2019-01-20",null,null,0,null,0,null,null,"zo",0,"",{"$f":"SUM(L23:L29)","v":0},{"$f":"SUM(H23:H29)","v":0},{"$f":"IF(N29>40,N29-40,0)","v":0},{"$f":"SUM(M23:M29)","v":0},{"$f":"SUM(I23:I29)","v":0},{"$f":"IF(N29>40,N29-40,0)","v":0},{"$f":"IF(P29>Q29,P29,Q29)","v":0},null,21,"zo",0,0,"za","fd",0,"za",0,0,"zo",0,0,21]
[4,"2019-01-21","2019-01-21",null,null,0,0,0,null,null,null,0,"",null,null,null,null,null,null,null,null,22,0,0,0,"zo",0,0,"zo",0,"za",0,0,"za",22]
[4,"2019-01-22","2019-01-22",null,null,0,0,0,null,null,null,0,"",null,null,null,null,null,null,null,null,23,0,0,0,"fd",0,"za",0,0,"zo",0,0,"zo",23]
[4,"2019-01-23","2019-01-23",null,null,0,0,0,null,null,null,0,"",null,null,null,null,null,null,null,null,24,0,"za","za",0,0,"zo",0,0,0,0,"za",0,24]
[4,"2019-01-24","2019-01-24",null,null,0,0,0,null,null,null,0,"",null,null,null,null,null,null,null,null,25,0,"zo","zo",0,0,0,0,"za",0,0,"zo",0,25]
[4,"2019-01-25","2019-01-25",null,null,0,0,0,null,null,null,0,"",null,null,null,null,null,null,null,null,26,0,0,0,0,"za",0,0,"zo",0,0,0,"fd",26]
[4,"2019-01-26","2019-01-26",null,null,0,null,0,null,null,"za",0,"","Week",null,"OV WEEK","OV DAG","Recup -","Recup +","OV 50%",null,27,"za",0,0,0,"zo",0,0,0,0,"za",0,0,27]
[4,"2019-01-27","2019-01-27",null,null,0,null,0,null,null,"zo",0,"",{"$f":"SUM(L30:L36)","v":0},{"$f":"SUM(H30:H36)","v":0},{"$f":"IF(N36>40,N36-40,0)","v":0},{"$f":"SUM(M30:M36)","v":0},{"$f":"SUM(I30:I36)","v":0},{"$f":"IF(N36>40,N36-40,0)","v":0},{"$f":"IF(P36>Q36,P36,Q36)","v":0},null,28,"zo",0,0,"za",0,0,"za",0,0,"zo",0,0,28]
[5,"2019-01-28","2019-01-28",null,null,0,0,0,null,null,null,0,"",null,null,null,null,null,null,null,null,29,0,null,0,"zo",0,0,"zo",0,"za",0,0,"za",29]
[5,"2019-01-29","2019-01-29",null,null,0,0,0,null,null,null,0,"",null,null,null,null,null,null,null,null,30,0,null,0,0,0,"za",0,0,"zo",0,0,"zo",30]
[5,"2019-01-30","2019-01-30",null,null,0,0,0,null,null,null,0,"",null,null,null,null,null,null,null,null,31,0,null,"za",null,"fd",null,0,0,null,0,null,0,31]
[5,"2019-01-31","2019-01-31",null,null,0,0,0,null,null,null,0,"",null,null,null,null,null,null,null,null,"WD",23,20,21,22,23,20,23,22,21,23,21,22,{"$f":"SUM(W40:AH40)","v":261}]
[5,"2019-02-01","2019-02-01",null,null,0,0,0,null,null,null,0,""]
[5,"2019-02-02","2019-02-02",null,null,0,null,0,null,null,"za",0,"","Week",null,"OV WEEK","OV DAG","Recup -","Recup +","OV 50%"]
[5,"2019-02-03","2019-02-03",null,null,0,null,0,null,null,"zo",0,"",{"$f":"SUM(L37:L43)","v":0},{"$f":"SUM(H37:H43)","v":0},{"$f":"IF(N43>40,N43-40,0)","v":0},{"$f":"SUM(M37:M43)","v":0},{"$f":"SUM(I37:I43)","v":0},{"$f":"IF(N43>40,N43-40,0)","v":0},{"$f":"IF(P43>Q43,P43,Q43)","v":0}]
[6,"2019-02-04","2019-02-04",null,null,0,0,0,null,null,null,0,""]
[6,"2019-02-05","2019-02-05",null,null,0,0,0,null,null,null,0,""]
[6,"2019-02-06","2019-02-06",null,null,0,0,0,null,null,null,0,""]
[6,"2019-02-07","2019-02-07",null,null,0,0,0,null,null,null,0,""]
[6,"2019-02-08","2019-02-08",null,null,0,0,0,null,null,null,0,""]
[6,"2019-02-09","2019-02-09",null,null,0,null,0,null,null,"za",0,"","Week",null,"OV WEEK","OV DAG","Recup -","Recup +","OV 50%"]
[6,"2019-02-10","2019-02-10",null,null,0,null,0,null,null,"zo",0,"",{"$f":"SUM(L44:L50)","v":0},{"$f":"SUM(H44:H50)","v":0},{"$f":"IF(N50>40,N50-40,0)","v":0},{"$f":"SUM(M44:M50)","v":0},{"$f":"SUM(I44:I50)","v":0},{"$f":"IF(N50>40,N50-40,0)","v":0},{"$f":"IF(P50>Q50,P50,Q50)","v":0}]
[7,"2019-02-11","2019-02-11",null,null,0,0,0,null,null,null,0,""]
[7,"2019-02-12","2019-02-12",null,null,0,0,0,null,null,null,0,""]
[7,"2019-02-13","2019-02-13",null,null,0,0,0,null,null,null,0,""]
[7,"2019-02-14","2019-02-14",null,null,0,0,0,null,null,null,0,""]
[7,"2019-02-15","2019-02-15",null,null,0,0,0,null,null,null,0,""]
[7,"2019-02-16","2019-02-16",null,null,0,null,0,null,null,"za",0,"","Week",null,"OV WEEK","OV DAG","Recup -","Recup +","OV 50%"]
[7,"2019-02-17","2019-02-17",null,null,0,null,0,null,null,"zo",0,"",{"$f":"SUM(L51:L57)","v":0},{"$f":"SUM(H51:H57)","v":0},{"$f":"IF(N57>40,N57-40,0)","v":0},{"$f":"SUM(M51:M57)","v":0},{"$f":"SUM(I51:I57)","v":0},{"$f":"IF(N57>40,N57-40,0)","v":0},{"$f":"IF(P57>Q57,P57,Q57)","v":0}]
[8,"2019-02-18","2019-02-18",null,null,0,0,0,null,null,null,0,""]
[8,"2019-02-19","2019-02-19",null,null,0,0,0,null,null,null,0,""]
[8,"2019-02-20","2019-02-20",null,null,0,0,0,null,null,null,0,""]
[8,"2019-02-21","2019-02-21",null,null,0,0,0,null,null,null,0,""]
[8,"2019-02-22","2019-02-22",null,null,0,0,0,null,null,null,0,""]
[8,"2019-02-23","2019-02-23",null,null,0,null,0,null,null,"za",0,"","Week",null,"OV WEEK","OV DAG","Recup -","Recup +","OV 50%"]
[8,"2019-02-24","2019-02-24",null,null,0,null,0,null,null,"zo",0,"",{"$f":"SUM(L58:L64)","v":0},{"$f":"SUM(H58:H64)","v":0},{"$f":"IF(N64>40,N64-40,0)","v":0},{"$f":"SUM(M58:M64)","v":0},{"$f":"SUM(I58:I64)","v":0},{"$f":"IF(N64>40,N64-40,0)","v":0},{"$f":"IF(P64>Q64,P64,Q64)","v":0}]
[9,"2019-02-25","2019-02-25",null,null,0,0,0,null,null,null,0,""]
[9,"2019-02-26","2019-02-26",null,null,0,0,0,null,null,null,0,""]
[9,"2019-02-27","2019-02-27",null,null,0,0,0,null,null,null,0,""]
[9,"2019-02-28","2019-02-28",null,null,0,0,0,null,null,null,0,""]
[9,"2019-03-01","2019-03-01",null,null,0,0,0,null,null,null,0,""]
[9,"2019-03-02","2019-03-02",null,null,0,null,0,null,null,"za",0,"","Week",null,"OV WEEK","OV DAG","Recup -","Recup +","OV 50%"]
[9,"2019-03-03","2019-03-03",null,null,0,null,0,null,null,"zo",0,"",{"$f":"SUM(L65:L71)","v":0},{"$f":"SUM(H65:H71)","v":0},{"$f":"IF(N71>40,N71-40,0)","v":0},{"$f":"SUM(M65:M71)","v":0},{"$f":"SUM(I65:I71)","v":0},{"$f":"IF(N71>40,N71-40,0)","v":0},{"$f":"IF(P71>Q71,P71,Q71)","v":0}]
[10,"2019-03-04","2019-03-04",null,null,0,0,0,null,null,null,0,""]
[10,"2019-03-05","2019-03-05",null,null,0,0,0,null,null,null,0,{"$f":"IF(L73>9,L73-9,\"\")","v":""}]
[{"$f":"WEEKNUM(C74,21)","v":10},{"$f":"C74","v":"2019-03-06"},"2019-03-06",null,null,{"$f":"(E74-D74)*24","v":0},{"$f":"IF(F74>=6,0.5,0)","v":0},{"$f":"F74-G74","v":0},null,null,null,{"$f":"SUM(H74:J74)","v":0},""]
[10,"2019-03-07","2019-03-07",null,null,0,0,0,null,null,null,0,""]
[10,"2019-03-08","2019-03-08",null,null,0,0,0,null,null,null,0,""]
[10,"2019-03-09","2019-03-09",null,null,0,null,0,null,null,"za",0,"","Week",null,"OV WEEK","OV DAG","Recup -","Recup +","OV 50%"]
[10,"2019-03-10","2019-03-10",null,null,0,null,0,null,null,"zo",0,"",{"$f":"SUM(L72:L78)","v":0},{"$f":"SUM(H72:H78)","v":0},{"$f":"IF(N78>40,N78-40,0)","v":0},{"$f":"SUM(M72:M78)","v":0},{"$f":"SUM(I72:I78)","v":0},{"$f":"IF(N78>40,N78-40,0)","v":0},{"$f":"IF(P78>Q78,P78,Q78)","v":0}]
[11,"2019-03-11","2019-03-11",null,null,0,0,0,null,null,null,0,""]
[11,"2019-03-12","2019-03-12",null,null,0,0,0,null,null,null,0,""]
[11,"2019-03-13","2019-03-13",null,null,0,0,0,null,null,null,0,""]
[11,"2019-03-14","2019-03-14",null,null,0,0,0,null,null,null,0,""]
[11,"2019-03-15","2019-03-15",null,null,0,0,0,null,null,null,0,""]
[11,"2019-03-16","2019-03-16",null,null,0,null,0,null,null,"za",0,"","Week",null,"OV WEEK","OV DAG","Recup -","Recup +","OV 50%"]
[11,"2019-03-17","2019-03-17",null,null,0,null,0,null,null,"zo",0,"",{"$f":"SUM(L79:L85)","v":0},{"$f":"SUM(H79:H85)","v":0},{"$f":"IF(N85>40,N85-40,0)","v":0},{"$f":"SUM(M79:M85)","v":0},{"$f":"SUM(I79:I85)","v":0},{"$f":"IF(N85>40,N85-40,0)","v":0},{"$f":"IF(P85>Q85,P85,Q85)","v":0}]
[12,"2019-03-18","2019-03-18",null,null,0,0,0,null,null,null,0,""]
[12,"2019-03-19","2019-03-19",null,null,0,0,0,null,null,null,0,""]
[12,"2019-03-20","2019-03-20",null,null,0,0,0,null,null,null,0,""]
[12,"2019-03-21","2019-03-21",null,null,0,0,0,null,null,null,0,""]
[12,"2019-03-22","2019-03-22",null,null,0,0,0,null,null,null,0,""]
[12,"2019-03-23","2019-03-23",null,null,0,null,0,null,null,"za",0,"","Week",null,"OV WEEK","OV DAG","Recup -","Recup +","OV 50%"]
[12,"2019-03-24","2019-03-24",null,null,0,null,0,null,null,"zo",0,"",{"$f":"SUM(L86:L92)","v":0},{"$f":"SUM(H86:H92)","v":0},{"$f":"IF(N92>40,N92-40,0)","v":0},{"$f":"SUM(M86:M92)","v":0},{"$f":"SUM(I86:I92)","v":0},{"$f":"IF(N92>40,N92-40,0)","v":0},{"$f":"IF(P92>Q92,P92,Q92)","v":0}]
[13,"2019-03-25","2019-03-25",null,null,0,0,0,null,null,null,0,""]
[13,"2019-03-26","2019-03-26",null,null,0,0,0,null,null,null,0,""]
[13,"2019-03-27","2019-03-27",null,null,0,0,0,null,null,null,0,""]
[13,"2019-03-28","2019-03-28",null,null,0,0,0,null,null,null,0,""]
[13,"2019-03-29","2019-03-29",null,null,0,0,0,null,null,null,0,""]
[13,"2019-03-30","2019-03-30",null,null,0,null,0,null,null,"za",0,"","Week",null,"OV WEEK","OV DAG","Recup -","Recup +","OV 50%"]
[13,"2019-03-31","2019-03-31",null,null,0,null,0,null,null,"zo",0,"",{"$f":"SUM(L93:L99)","v":0},{"$f":"SUM(H93:H99)","v":0},{"$f":"IF(N99>40,N99-40,0)","v":0},{"$f":"SUM(M93:M99)","v":0},{"$f":"SUM(I93:I99)","v":0},{"$f":"IF(N99>40,N99-40,0)","v":0},{"$f":"IF(P99>Q99,P99,Q99)","v":0}]
[14,"2019-04-01","2019-04-01",null,null,0,0,0,null,null,null,0,""]
[14,"2019-04-02","2019-04-02",null,null,0,0,0,null,null,null,0,""]
[14,"2019-04-03","2019-04-03",null,null,0,0,0,null,null,null,0,""]
[14,"2019-04-04","2019-04-04",null,null,0,0,0,null,null,null,0,""]
[14,"2019-04-05","2019-04-05",null,null,0,0,0,null,null,null,0,""]
[14,"2019-04-06","2019-04-06",null,null,0,null,0,null,null,"za",0,"","Week",null,"OV WEEK","OV DAG","Recup -","Recup +","OV 50%"]
[14,"2019-04-07","2019-04-07",null,null,0,null,0,null,null,"zo",0,"",{"$f":"SUM(L100:L106)","v":0},{"$f":"SUM(H100:H106)","v":0},{"$f":"IF(N106>40,N106-40,0)","v":0},{"$f":"SUM(M100:M106)","v":0},{"$f":"SUM(I100:I106)","v":0},{"$f":"IF(N106>40,N106-40,0)","v":0},{"$f":"IF(P106>Q106,P106,Q106)","v":0}]
[15,"2019-04-08","2019-04-08",null,null,0,0,0,null,null,null,0,""]
[15,"2019-04-09","2019-04-09",null,null,0,0,0,null,null,null,0,""]
[15,"2019-04-10","2019-04-10",null,null,0,0,0,null,null,null,0,""]
[15,"2019-04-11","2019-04-11",null,null,0,0,0,null,null,null,0,""]
[15,"2019-04-12","2019-04-12",null,null,0,0,0,null,null,null,0,""]
[15,"2019-04-13","2019-04-13",null,null,0,null,0,null,null,"za",0,"","Week",null,"OV WEEK","OV DAG","Recup -","Recup +","OV 50%"]
[15,"2019-04-14","2019-04-14",null,null,0,null,0,null,null,"zo",0,"",{"$f":"SUM(L107:L113)","v":0},{"$f":"SUM(H107:H113)","v":0},{"$f":"IF(N113>40,N113-40,0)","v":0},{"$f":"SUM(M107:M113)","v":0},{"$f":"SUM(I107:I113)","v":0},{"$f":"IF(N113>40,N113-40,0)","v":0},{"$f":"IF(P113>Q113,P113,Q113)","v":0}]
[16,"2019-04-15","2019-04-15",null,null,0,0,0,null,null,null,0,""]
[16,"2019-04-16","2019-04-16",null,null,0,0,0,null,null,null,0,""]
[16,"2019-04-17","2019-04-17",null,null,0,0,0,null,null,null,0,""]
[16,"2019-04-18","2019-04-18",null,null,0,0,0,null,null,null,0,""]
[16,"2019-04-19","2019-04-19",null,null,0,0,0,null,null,null,0,""]
[16,"2019-04-20","2019-04-20",null,null,0,null,0,null,null,"za",0,"","Week",null,"OV WEEK","OV DAG","Recup -","Recup +","OV 50%"]
[16,"2019-04-21","2019-04-21",null,null,0,null,0,null,null,"zo",0,"",{"$f":"SUM(L114:L120)","v":0},{"$f":"SUM(H114:H120)","v":0},{"$f":"IF(N120>40,N120-40,0)","v":0},{"$f":"SUM(M114:M120)","v":0},{"$f":"SUM(I114:I120)","v":0},{"$f":"IF(N120>40,N120-40,0)","v":0},{"$f":"IF(P120>Q120,P120,Q120)","v":0}]
[17,"2019-04-22","2019-04-22",null,null,0,0,0,null,7.6,"fd",7.6,""]
[17,"2019-04-23","2019-04-23",null,null,0,0,0,null,null,null,0,""]
[17,"2019-04-24","2019-04-24",null,null,0,0,0,null,null,null,0,""]
[17,"2019-04-25","2019-04-25",null,null,0,0,0,null,null,null,0,""]
[17,"2019-04-26","2019-04-26",null,null,0,0,0,null,null,null,0,""]
[17,"2019-04-27","2019-04-27",null,null,0,null,0,null,null,"za",0,"","Week",null,"OV WEEK","OV DAG","Recup -","Recup +","OV 50%"]
[17,"2019-04-28","2019-04-28",null,null,0,null,0,null,null,"zo",0,"",{"$f":"SUM(L121:L127)","v":7.6},{"$f":"SUM(H121:H127)","v":0},{"$f":"IF(N127>40,N127-40,0)","v":0},{"$f":"SUM(M121:M127)","v":0},{"$f":"SUM(I121:I127)","v":0},{"$f":"IF(N127>40,N127-40,0)","v":0},{"$f":"IF(P127>Q127,P127,Q127)","v":0}]
[18,"2019-04-29","2019-04-29",null,null,0,0,0,null,null,null,0,""]
[18,"2019-04-30","2019-04-30",null,null,0,0,0,null,null,null,0,""]
[18,"2019-05-01","2019-05-01",null,null,0,0,0,null,7.6,"fd",7.6,""]
[18,"2019-05-02","2019-05-02",null,null,0,0,0,null,null,null,0,""]
[18,"2019-05-03","2019-05-03",null,null,0,0,0,null,null,null,0,""]
[18,"2019-05-04","2019-05-04",null,null,0,null,0,null,null,"za",0,"","Week",null,"OV WEEK","OV DAG","Recup -","Recup +","OV 50%"]
[18,"2019-05-05","2019-05-05",null,null,0,null,0,null,null,"zo",0,"",{"$f":"SUM(L128:L134)","v":7.6},{"$f":"SUM(H128:H134)","v":0},{"$f":"IF(N134>40,N134-40,0)","v":0},{"$f":"SUM(M128:M134)","v":0},{"$f":"SUM(I128:I134)","v":0},{"$f":"IF(N134>40,N134-40,0)","v":0},{"$f":"IF(P134>Q134,P134,Q134)","v":0}]
[19,"2019-05-06","2019-05-06",null,null,0,0,0,null,null,null,0,""]
[19,"2019-05-07","2019-05-07",null,null,0,0,0,null,null,null,0,""]
[19,"2019-05-08","2019-05-08",null,null,0,0,0,null,null,null,0,{"$f":"IF(L137>9,L137-9,\"\")","v":""}]
[{"$f":"WEEKNUM(C138,21)","v":19},{"$f":"C138","v":"2019-05-09"},"2019-05-09",null,null,{"$f":"(E138-D138)*24","v":0},{"$f":"IF(F138>=6,0.5,0)","v":0},{"$f":"F138-G138","v":0},null,null,null,{"$f":"SUM(H138:J138)","v":0},""]
[19,"2019-05-10","2019-05-10",null,null,0,0,0,null,null,null,0,""]
[19,"2019-05-11","2019-05-11",null,null,0,null,0,null,null,"za",0,"","Week",null,"OV WEEK","OV DAG","Recup -","Recup +","OV 50%"]
[19,"2019-05-12","2019-05-12",null,null,0,null,0,null,null,"zo",0,"",{"$f":"SUM(L135:L141)","v":0},{"$f":"SUM(H135:H141)","v":0},{"$f":"IF(N141>40,N141-40,0)","v":0},{"$f":"SUM(M135:M141)","v":0},{"$f":"SUM(I135:I141)","v":0},{"$f":"IF(N141>40,N141-40,0)","v":0},{"$f":"IF(P141>Q141,P141,Q141)","v":0}]
[20,"2019-05-13","2019-05-13",null,null,0,0,0,null,null,null,0,""]
[20,"2019-05-14","2019-05-14",null,null,0,0,0,null,null,null,0,""]
[20,"2019-05-15","2019-05-15",null,null,0,0,0,null,null,null,0,""]
[20,"2019-05-16","2019-05-16",null,null,0,0,0,null,null,null,0,""]
[20,"2019-05-17","2019-05-17",null,null,0,0,0,null,null,null,0,""]
[20,"2019-05-18","2019-05-18",null,null,0,null,0,null,null,"za",0,"","Week",null,"OV WEEK","OV DAG","Recup -","Recup +","OV 50%"]
[20,"2019-05-19","2019-05-19",null,null,0,null,0,null,null,"zo",0,"",{"$f":"SUM(L142:L148)","v":0},{"$f":"SUM(H142:H148)","v":0},{"$f":"IF(N148>40,N148-40,0)","v":0},{"$f":"SUM(M142:M148)","v":0},{"$f":"SUM(I142:I148)","v":0},{"$f":"IF(N148>40,N148-40,0)","v":0},{"$f":"IF(P148>Q148,P148,Q148)","v":0}]
[21,"2019-05-20","2019-05-20",null,null,0,0,0,null,7.6,"fd",7.6,""]
[21,"2019-05-21","2019-05-21",null,null,0,0,0,null,null,null,0,""]
[21,"2019-05-22","2019-05-22",null,null,0,0,0,null,null,null,0,""]
[21,"2019-05-23","2019-05-23",null,null,0,0,0,null,null,null,0,""]
[21,"2019-05-24","2019-05-24",null,null,0,0,0,null,null,null,0,""]
[21,"2019-05-25","2019-05-25",null,null,0,null,0,null,null,"za",0,"","Week",null,"OV WEEK","OV DAG","Recup -","Recup +","OV 50%"]
[21,"2019-05-26","2019-05-26",null,null,0,null,0,null,null,"zo",0,"",{"$f":"SUM(L149:L155)","v":7.6},{"$f":"SUM(H149:H155)","v":0},{"$f":"IF(N155>40,N155-40,0)","v":0},{"$f":"SUM(M149:M155)","v":0},{"$f":"SUM(I149:I155)","v":0},{"$f":"IF(N155>40,N155-40,0)","v":0},{"$f":"IF(P155>Q155,P155,Q155)","v":0}]
[22,"2019-05-27","2019-05-27",null,null,0,0,0,null,null,null,0,""]
[22,"2019-05-28","2019-05-28",null,null,0,0,0,null,null,null,0,""]
[22,"2019-05-29","2019-05-29",null,null,0,0,0,null,null,null,0,""]
[22,"2019-05-30","2019-05-30",null,null,0,0,0,null,7.6,"fd",7.6,""]
[22,"2019-05-31","2019-05-31",null,null,0,0,0,null,null,null,0,""]
[22,"2019-06-01","2019-06-01",null,null,0,null,0,null,null,"za",0,"","Week",null,"OV WEEK","OV DAG","Recup -","Recup +","OV 50%"]
[22,"2019-06-02","2019-06-02",null,null,0,null,0,null,null,"zo",0,"",{"$f":"SUM(L156:L162)","v":7.6},{"$f":"SUM(H156:H162)","v":0},{"$f":"IF(N162>40,N162-40,0)","v":0},{"$f":"SUM(M156:M162)","v":0},{"$f":"SUM(I156:I162)","v":0},{"$f":"IF(N162>40,N162-40,0)","v":0},{"$f":"IF(P162>Q162,P162,Q162)","v":0}]
[23,"2019-06-03","2019-06-03",null,null,0,0,0,null,null,null,0,""]
[23,"2019-06-04","2019-06-04",null,null,0,0,0,null,null,null,0,""]
[23,"2019-06-05","2019-06-05",null,null,0,0,0,null,null,null,0,""]
[23,"2019-06-06","2019-06-06",null,null,0,0,0,null,null,null,0,""]
[23,"2019-06-07","2019-06-07",null,null,0,0,0,null,null,null,0,""]
[23,"2019-06-08","2019-06-08",null,null,0,null,0,null,null,"za",0,"","Week",null,"OV WEEK","OV DAG","Recup -","Recup +","OV 50%"]
[23,"2019-06-09","2019-06-09",null,null,0,null,0,null,null,"zo",0,"",{"$f":"SUM(L163:L169)","v":0},{"$f":"SUM(H163:H169)","v":0},{"$f":"IF(N169>40,N169-40,0)","v":0},{"$f":"SUM(M163:M169)","v":0},{"$f":"SUM(I163:I169)","v":0},{"$f":"IF(N169>40,N169-40,0)","v":0},{"$f":"IF(P169>Q169,P169,Q169)","v":0}]
[24,"2019-06-10","2019-06-10",null,null,0,0,0,null,7.6,"fd",7.6,""]
[24,"2019-06-11","2019-06-11",null,null,0,0,0,null,null,null,0,""]
[24,"2019-06-12","2019-06-12",null,null,0,0,0,null,null,null,0,""]
[24,"2019-06-13","2019-06-13",null,null,0,0,0,null,null,null,0,""]
[24,"2019-06-14","2019-06-14",null,null,0,0,0,null,null,null,0,""]
[24,"2019-06-15","2019-06-15",null,null,0,null,0,null,null,"za",0,"","Week",null,"OV WEEK","OV DAG","Recup -","Recup +","OV 50%"]
[24,"2019-06-16","2019-06-16",null,null,0,null,0,null,null,"zo",0,"",{"$f":"SUM(L170:L176)","v":7.6},{"$f":"SUM(H170:H176)","v":0},{"$f":"IF(N176>40,N176-40,0)","v":0},{"$f":"SUM(M170:M176)","v":0},{"$f":"SUM(I170:I176)","v":0},{"$f":"IF(N176>40,N176-40,0)","v":0},{"$f":"IF(P176>Q176,P176,Q176)","v":0}]
[25,"2019-06-17","2019-06-17",null,null,0,0,0,null,null,null,0,""]
[25,"2019-06-18","2019-06-18",null,null,0,0,0,null,null,null,0,""]
[25,"2019-06-19","2019-06-19",null,null,0,0,0,null,null,null,0,""]
[25,"2019-06-20","2019-06-20",null,null,0,0,0,null,null,null,0,""]
[25,"2019-06-21","2019-06-21",null,null,0,0,0,null,null,null,0,""]
[25,"2019-06-22","2019-06-22",null,null,0,null,0,null,null,"za",0,"","Week",null,"OV WEEK","OV DAG","Recup -","Recup +","OV 50%"]
[25,"2019-06-23","2019-06-23",null,null,0,null,0,null,null,"zo",0,"",{"$f":"SUM(L177:L183)","v":0},{"$f":"SUM(H177:H183)","v":0},{"$f":"IF(N183>40,N183-40,0)","v":0},{"$f":"SUM(M177:M183)","v":0},{"$f":"SUM(I177:I183)","v":0},{"$f":"IF(N183>40,N183-40,0)","v":0},{"$f":"IF(P183>Q183,P183,Q183)","v":0}]
[26,"2019-06-24","2019-06-24",null,null,0,0,0,null,null,null,0,""]
[26,"2019-06-25","2019-06-25",null,null,0,0,0,null,null,null,0,""]
[26,"2019-06-26","2019-06-26",null,null,0,0,0,null,null,null,0,""]
[26,"2019-06-27","2019-06-27",null,null,0,0,0,null,null,null,0,""]
[26,"2019-06-28","2019-06-28",null,null,0,0,0,null,null,null,0,""]
[26,"2019-06-29","2019-06-29",null,null,0,null,0,null,null,"za",0,"","Week",null,"OV WEEK","OV DAG","Recup -","Recup +","OV 50%"]
[26,"2019-06-30","2019-06-30",null,null,0,null,0,null,null,"zo",0,"",{"$f":"SUM(L184:L190)","v":0},{"$f":"SUM(H184:H190)","v":0},{"$f":"IF(N190>40,N190-40,0)","v":0},{"$f":"SUM(M184:M190)","v":0},{"$f":"SUM(I184:I190)","v":0},{"$f":"IF(N190>40,N190-40,0)","v":0},{"$f":"IF(P190>Q190,P190,Q190)","v":0}]
[27,"2019-07-01","2019-07-01",null,null,0,0,0,null,null,null,0,""]
[27,"2019-07-02","2019-07-02",null,null,0,0,0,null,null,null,0,""]
[27,"2019-07-03","2019-07-03",null,null,0,0,0,null,null,null,0,""]
[27,"2019-07-04","2019-07-04",null,null,0,0,0,null,null,null,0,""]
[27,"2019-07-05","2019-07-05",null,null,0,0,0,null,null,null,0,""]
[27,"2019-07-06","2019-07-06",null,null,0,null,0,null,null,"za",0,"","Week",null,"OV WEEK","OV DAG","Recup -","Recup +","OV 50%"]
[27,"2019-07-07","2019-07-07",null,null,0,null,0,null,null,"zo",0,"",{"$f":"SUM(L191:L197)","v":0},{"$f":"SUM(H191:H197)","v":0},{"$f":"IF(N197>40,N197-40,0)","v":0},{"$f":"SUM(M191:M197)","v":0},{"$f":"SUM(I191:I197)","v":0},{"$f":"IF(N197>40,N197-40,0)","v":0},{"$f":"IF(P197>Q197,P197,Q197)","v":0}]
[28,"2019-07-08","2019-07-08",null,null,0,0,0,null,null,null,0,""]
[28,"2019-07-09","2019-07-09",null,null,0,0,0,null,null,null,0,""]
[28,"2019-07-10","2019-07-10",null,null,0,0,0,null,null,null,0,""]
[28,"2019-07-11","2019-07-11",null,null,0,0,0,null,null,null,0,{"$f":"IF(L201>9,L201-9,\"\")","v":""}]
[{"$f":"WEEKNUM(C202,21)","v":28},{"$f":"C202","v":"2019-07-12"},"2019-07-12",null,null,{"$f":"(E202-D202)*24","v":0},{"$f":"IF(F202>=6,0.5,0)","v":0},{"$f":"F202-G202","v":0},null,null,null,{"$f":"SUM(H202:J202)","v":0},""]
[28,"2019-07-13","2019-07-13",null,null,0,null,0,null,null,"za",0,"","Week",null,"OV WEEK","OV DAG","Recup -","Recup +","OV 50%"]
[28,"2019-07-14","2019-07-14",null,null,0,null,0,null,null,"zo",0,"",{"$f":"SUM(L198:L204)","v":0},{"$f":"SUM(H198:H204)","v":0},{"$f":"IF(N204>40,N204-40,0)","v":0},{"$f":"SUM(M198:M204)","v":0},{"$f":"SUM(I198:I204)","v":0},{"$f":"IF(N204>40,N204-40,0)","v":0},{"$f":"IF(P204>Q204,P204,Q204)","v":0}]
[29,"2019-07-15","2019-07-15",null,null,0,0,0,null,null,null,0,""]
[29,"2019-07-16","2019-07-16",null,null,0,0,0,null,null,null,0,""]
[29,"2019-07-17","2019-07-17",null,null,0,0,0,null,null,null,0,""]
[29,"2019-07-18","2019-07-18",null,null,0,0,0,null,null,null,0,""]
[29,"2019-07-19","2019-07-19",null,null,0,0,0,null,null,null,0,""]
[29,"2019-07-20","2019-07-20",null,null,0,null,0,null,null,"za",0,"","Week",null,"OV WEEK","OV DAG","Recup -","Recup +","OV 50%"]
[29,"2019-07-21","2019-07-21",null,null,0,null,0,null,null,"zo",0,"",{"$f":"SUM(L205:L211)","v":0},{"$f":"SUM(H205:H211)","v":0},{"$f":"IF(N211>40,N211-40,0)","v":0},{"$f":"SUM(M205:M211)","v":0},{"$f":"SUM(I205:I211)","v":0},{"$f":"IF(N211>40,N211-40,0)","v":0},{"$f":"IF(P211>Q211,P211,Q211)","v":0}]
[30,"2019-07-22","2019-07-22",null,null,0,0,0,null,null,null,0,""]
[30,"2019-07-23","2019-07-23",null,null,0,0,0,null,null,null,0,""]
[30,"2019-07-24","2019-07-24",null,null,0,0,0,null,null,null,0,""]
[30,"2019-07-25","2019-07-25",null,null,0,0,0,null,null,null,0,""]
[30,"2019-07-26","2019-07-26",null,null,0,0,0,null,null,null,0,""]
[30,"2019-07-27","2019-07-27",null,null,0,null,0,null,null,"za",0,"","Week",null,"OV WEEK","OV DAG","Recup -","Recup +","OV 50%"]
[30,"2019-07-28","2019-07-28",null,null,0,null,0,null,null,"zo",0,"",{"$f":"SUM(L212:L218)","v":0},{"$f":"SUM(H212:H218)","v":0},{"$f":"IF(N218>40,N218-40,0)","v":0},{"$f":"SUM(M212:M218)","v":0},{"$f":"SUM(I212:I218)","v":0},{"$f":"IF(N218>40,N218-40,0)","v":0},{"$f":"IF(P218>Q218,P218,Q218)","v":0}]
[31,"2019-07-29","2019-07-29",null,null,0,0,0,null,null,null,0,""]
[31,"2019-07-30","2019-07-30",null,null,0,0,0,null,null,null,0,""]
[31,"2019-07-31","2019-07-31",null,null,0,0,0,null,null,null,0,""]
[31,"2019-08-01","2019-08-01",null,null,0,0,0,null,null,null,0,""]
[31,"2019-08-02","2019-08-02",null,null,0,0,0,null,null,null,0,""]
[31,"2019-08-03","2019-08-03",null,null,0,null,0,null,null,"za",0,"","Week",null,"OV WEEK","OV DAG","Recup -","Recup +","OV 50%"]
[31,"2019-08-04","2019-08-04",null,null,0,null,0,null,null,"zo",0,"",{"$f":"SUM(L219:L225)","v":0},{"$f":"SUM(H219:H225)","v":0},{"$f":"IF(N225>40,N225-40,0)","v":0},{"$f":"SUM(M219:M225)","v":0},{"$f":"SUM(I219:I225)","v":0},{"$f":"IF(N225>40,N225-40,0)","v":0},{"$f":"IF(P225>Q225,P225,Q225)","v":0}]
[32,"2019-08-05","2019-08-05",null,null,0,0,0,null,null,null,0,""]
[32,"2019-08-06","2019-08-06",null,null,0,0,0,null,null,null,0,""]
[32,"2019-08-07","2019-08-07",null,null,0,0,0,null,null,null,0,""]
[32,"2019-08-08","2019-08-08",null,null,0,0,0,null,null,null,0,""]
[32,"2019-08-09","2019-08-09",null,null,0,0,0,null,null,null,0,""]
[32,"2019-08-10","2019-08-10",null,null,0,null,0,null,null,"za",0,"","Week",null,"OV WEEK","OV DAG","Recup -","Recup +","OV 50%"]
[32,"2019-08-11","2019-08-11",null,null,0,null,0,null,null,"zo",0,"",{"$f":"SUM(L226:L232)","v":0},{"$f":"SUM(H226:H232)","v":0},{"$f":"IF(N232>40,N232-40,0)","v":0},{"$f":"SUM(M226:M232)","v":0},{"$f":"SUM(I226:I232)","v":0},{"$f":"IF(N232>40,N232-40,0)","v":0},{"$f":"IF(P232>Q232,P232,Q232)","v":0}]
[33,"2019-08-12","2019-08-12",null,null,0,0,0,null,null,null,0,""]
[33,"2019-08-13","2019-08-13",null,null,0,0,0,null,null,null,0,""]
[33,"2019-08-14","2019-08-14",null,null,0,0,0,null,null,null,0,""]
[33,"2019-08-15","2019-08-15",null,null,0,0,0,null,7.6,"fd",7.6,""]
[33,"2019-08-16","2019-08-16",null,null,0,0,0,null,null,null,0,""]
[33,"2019-08-17","2019-08-17",null,null,0,null,0,null,null,"za",0,"","Week",null,"OV WEEK","OV DAG","Recup -","Recup +","OV 50%"]
[33,"2019-08-18","2019-08-18",null,null,0,null,0,null,null,"zo",0,"",{"$f":"SUM(L233:L239)","v":7.6},{"$f":"SUM(H233:H239)","v":0},{"$f":"IF(N239>40,N239-40,0)","v":0},{"$f":"SUM(M233:M239)","v":0},{"$f":"SUM(I233:I239)","v":0},{"$f":"IF(N239>40,N239-40,0)","v":0},{"$f":"IF(P239>Q239,P239,Q239)","v":0}]
[34,"2019-08-19","2019-08-19",null,null,0,0,0,null,null,null,0,""]
[34,"2019-08-20","2019-08-20",null,null,0,{"$f":"IF(F241>=6,0.5,0)","v":0},0,null,null,null,0,""]
[34,"2019-08-21","2019-08-21",null,null,0,0,0,null,null,null,0,""]
[34,"2019-08-22","2019-08-22",null,null,0,0,0,null,null,null,0,""]
[34,"2019-08-23","2019-08-23",null,null,0,0,0,null,null,null,0,""]
[34,"2019-08-24","2019-08-24",null,null,0,null,0,null,null,"za",0,"","Week",null,"OV WEEK","OV DAG","Recup -","Recup +","OV 50%"]
[34,"2019-08-25","2019-08-25",null,null,0,null,0,null,null,"zo",0,"",{"$f":"SUM(L240:L246)","v":0},{"$f":"SUM(H240:H246)","v":0},{"$f":"IF(N246>40,N246-40,0)","v":0},{"$f":"SUM(M240:M246)","v":0},{"$f":"SUM(I240:I246)","v":0},{"$f":"IF(N246>40,N246-40,0)","v":0},{"$f":"IF(P246>Q246,P246,Q246)","v":0}]
[35,"2019-08-26","2019-08-26",null,null,0,0,0,null,null,null,0,""]
[35,"2019-08-27","2019-08-27",null,null,0,0,0,null,null,null,0,""]
[35,"2019-08-28","2019-08-28",null,null,0,0,0,null,null,null,0,""]
[35,"2019-08-29","2019-08-29",null,null,0,0,0,null,null,null,0,""]
[35,"2019-08-30","2019-08-30",null,null,0,0,0,null,null,null,0,""]
[35,"2019-08-31","2019-08-31",null,null,0,null,0,null,null,"za",0,"","Week",null,"OV WEEK","OV DAG","Recup -","Recup +","OV 50%"]
[35,"2019-09-01","2019-09-01",null,null,0,null,0,null,null,"zo",0,"",{"$f":"SUM(L247:L253)","v":0},{"$f":"SUM(H247:H253)","v":0},{"$f":"IF(N253>40,N253-40,0)","v":0},{"$f":"SUM(M247:M253)","v":0},{"$f":"SUM(I247:I253)","v":0},{"$f":"IF(N253>40,N253-40,0)","v":0},{"$f":"IF(P253>Q253,P253,Q253)","v":0}]
[36,"2019-09-02","2019-09-02",null,null,0,0,0,null,null,null,0,""]
[36,"2019-09-03","2019-09-03",null,null,0,0,0,null,null,null,0,""]
[36,"2019-09-04","2019-09-04",null,null,0,0,0,null,null,null,0,""]
[36,"2019-09-05","2019-09-05",null,null,0,0,0,null,null,null,0,""]
[36,"2019-09-06","2019-09-06",null,null,0,0,0,null,null,null,0,""]
[36,"2019-09-07","2019-09-07",null,null,0,null,0,null,null,"za",0,"","Week",null,"OV WEEK","OV DAG","Recup -","Recup +","OV 50%"]
[36,"2019-09-08","2019-09-08",null,null,0,null,0,null,null,"zo",0,"",{"$f":"SUM(L254:L260)","v":0},{"$f":"SUM(H254:H260)","v":0},{"$f":"IF(N260>40,N260-40,0)","v":0},{"$f":"SUM(M254:M260)","v":0},{"$f":"SUM(I254:I260)","v":0},{"$f":"IF(N260>40,N260-40,0)","v":0},{"$f":"IF(P260>Q260,P260,Q260)","v":0}]
[37,"2019-09-09","2019-09-09",null,null,0,0,0,null,null,null,0,""]
[37,"2019-09-10","2019-09-10",null,null,0,0,0,null,null,null,0,""]
[37,"2019-09-11","2019-09-11",null,null,0,0,0,null,null,null,0,""]
[37,"2019-09-12","2019-09-12",null,null,0,0,0,null,null,null,0,""]
[37,"2019-09-13","2019-09-13",null,null,0,0,0,null,null,null,0,{"$f":"IF(L265>9,L265-9,\"\")","v":""}]
[{"$f":"WEEKNUM(C266,21)","v":37},{"$f":"C266","v":"2019-09-14"},"2019-09-14",null,null,{"$f":"(E266-D266)*24","v":0},null,{"$f":"F266-G266","v":0},null,null,"za",{"$f":"SUM(H266:J266)","v":0},"","Week",null,"OV WEEK","OV DAG","Recup -","Recup +","OV 50%"]
[37,"2019-09-15","2019-09-15",null,null,0,null,0,null,null,"zo",0,"",{"$f":"SUM(L261:L267)","v":0},{"$f":"SUM(H261:H267)","v":0},{"$f":"IF(N267>40,N267-40,0)","v":0},{"$f":"SUM(M261:M267)","v":0},{"$f":"SUM(I261:I267)","v":0},{"$f":"IF(N267>40,N267-40,0)","v":0},{"$f":"IF(P267>Q267,P267,Q267)","v":0}]
[38,"2019-09-16","2019-09-16",null,null,0,{"$f":"IF(F268>=6,0.5,0)","v":0},0,null,null,null,0,""]
[38,"2019-09-17","2019-09-17",null,null,0,0,0,null,null,null,0,""]
[38,"2019-09-18","2019-09-18",null,null,0,0,0,null,null,null,0,""]
[38,"2019-09-19","2019-09-19",null,null,0,0,0,null,null,null,0,""]
[38,"2019-09-20","2019-09-20",null,null,0,0,0,null,null,null,0,""]
[38,"2019-09-21","2019-09-21",null,null,0,null,0,null,null,"za",0,"","Week",null,"OV WEEK","OV DAG","Recup -","Recup +","OV 50%"]
[38,"2019-09-22","2019-09-22",null,null,0,null,0,null,null,"zo",0,"",{"$f":"SUM(L268:L274)","v":0},{"$f":"SUM(H268:H274)","v":0},{"$f":"IF(N274>40,N274-40,0)","v":0},{"$f":"SUM(M268:M274)","v":0},{"$f":"SUM(I268:I274)","v":0},{"$f":"IF(N274>40,N274-40,0)","v":0},{"$f":"IF(P274>Q274,P274,Q274)","v":0}]
[39,"2019-09-23","2019-09-23",null,null,0,0,0,null,null,null,0,""]
[39,"2019-09-24","2019-09-24",null,null,0,0,0,null,null,null,0,""]
[39,"2019-09-25","2019-09-25",null,null,0,0,0,null,null,null,0,""]
[39,"2019-09-26","2019-09-26",null,null,0,0,0,null,null,null,0,""]
[39,"2019-09-27","2019-09-27",null,null,0,0,0,null,null,null,0,""]
[39,"2019-09-28","2019-09-28",null,null,0,null,0,null,null,"za",0,"","Week",null,"OV WEEK","OV DAG","Recup -","Recup +","OV 50%"]
[39,"2019-09-29","2019-09-29",null,null,0,null,0,null,null,"zo",0,"",{"$f":"SUM(L275:L281)","v":0},{"$f":"SUM(H275:H281)","v":0},{"$f":"IF(N281>40,N281-40,0)","v":0},{"$f":"SUM(M275:M281)","v":0},{"$f":"SUM(I275:I281)","v":0},{"$f":"IF(N281>40,N281-40,0)","v":0},{"$f":"IF(P281>Q281,P281,Q281)","v":0}]
[40,"2019-09-30","2019-09-30",null,null,0,0,0,null,null,null,0,""]
[40,"2019-10-01","2019-10-01",null,null,0,0,0,null,null,null,0,""]
[40,"2019-10-02","2019-10-02",null,null,0,0,0,null,null,null,0,""]
[40,"2019-10-03","2019-10-03",null,null,0,0,0,null,null,null,0,""]
[40,"2019-10-04","2019-10-04",null,null,0,0,0,null,null,null,0,""]
[40,"2019-10-05","2019-10-05",null,null,0,null,0,null,null,"za",0,"","Week",null,"OV WEEK","OV DAG","Recup -","Recup +","OV 50%"]
[40,"2019-10-06","2019-10-06",null,null,0,null,0,null,null,"zo",0,"",{"$f":"SUM(L282:L288)","v":0},{"$f":"SUM(H282:H288)","v":0},{"$f":"IF(N288>40,N288-40,0)","v":0},{"$f":"SUM(M282:M288)","v":0},{"$f":"SUM(I282:I288)","v":0},{"$f":"IF(N288>40,N288-40,0)","v":0},{"$f":"IF(P288>Q288,P288,Q288)","v":0}]
[41,"2019-10-07","2019-10-07",null,null,0,0,0,null,null,null,0,""]
[41,"2019-10-08","2019-10-08",null,null,0,0,0,null,null,null,0,""]
[41,"2019-10-09","2019-10-09",null,null,0,0,0,null,null,null,0,""]
[41,"2019-10-10","2019-10-10",null,null,0,0,0,null,null,null,0,""]
[41,"2019-10-11","2019-10-11",null,null,0,0,0,null,null,null,0,""]
[41,"2019-10-12","2019-10-12",null,null,0,null,0,null,null,"za",0,"","Week",null,"OV WEEK","OV DAG","Recup -","Recup +","OV 50%"]
[41,"2019-10-13","2019-10-13",null,null,0,null,0,null,null,"zo",0,"",{"$f":"SUM(L289:L295)","v":0},{"$f":"SUM(H289:H295)","v":0},{"$f":"IF(N295>40,N295-40,0)","v":0},{"$f":"SUM(M289:M295)","v":0},{"$f":"SUM(I289:I295)","v":0},{"$f":"IF(N295>40,N295-40,0)","v":0},{"$f":"IF(P295>Q295,P295,Q295)","v":0}]
[42,"2019-10-14","2019-10-14",null,null,0,0,0,null,null,null,0,""]
[42,"2019-10-15","2019-10-15",null,null,0,0,0,null,null,null,0,""]
[42,"2019-10-16","2019-10-16",null,null,0,0,0,null,null,null,0,""]
[42,"2019-10-17","2019-10-17",null,null,0,0,0,null,null,null,0,""]
[42,"2019-10-18","2019-10-18",null,null,0,0,0,null,null,null,0,""]
[42,"2019-10-19","2019-10-19",null,null,0,null,0,null,null,"za",0,"","Week",null,"OV WEEK","OV DAG","Recup -","Recup +","OV 50%"]
[42,"2019-10-20","2019-10-20",null,null,0,null,0,null,null,"zo",0,"",{"$f":"SUM(L296:L302)","v":0},{"$f":"SUM(H296:H302)","v":0},{"$f":"IF(N302>40,N302-40,0)","v":0},{"$f":"SUM(M296:M302)","v":0},{"$f":"SUM(I296:I302)","v":0},{"$f":"IF(N302>40,N302-40,0)","v":0},{"$f":"IF(P302>Q302,P302,Q302)","v":0}]
[43,"2019-10-21","2019-10-21",null,null,0,0,0,null,null,null,0,""]
[43,"2019-10-22","2019-10-22",null,null,0,0,0,null,null,null,0,""]
[43,"2019-10-23","2019-10-23",null,null,0,0,0,null,null,null,0,""]
[43,"2019-10-24","2019-10-24",null,null,0,0,0,null,null,null,0,""]
[43,"2019-10-25","2019-10-25",null,null,0,0,0,null,null,null,0,""]
[43,"2019-10-26","2019-10-26",null,null,0,null,0,null,null,"za",0,"","Week",null,"OV WEEK","OV DAG","Recup -","Recup +","OV 50%"]
[43,"2019-10-27","2019-10-27",null,null,0,null,0,null,null,"zo",0,"",{"$f":"SUM(L303:L309)","v":0},{"$f":"SUM(H303:H309)","v":0},{"$f":"IF(N309>40,N309-40,0)","v":0},{"$f":"SUM(M303:M309)","v":0},{"$f":"SUM(I303:I309)","v":0},{"$f":"IF(N309>40,N309-40,0)","v":0},{"$f":"IF(P309>Q309,P309,Q309)","v":0}]
[44,"2019-10-28","2019-10-28",null,null,0,0,0,null,null,null,0,""]
[44,"2019-10-29","2019-10-29",null,null,0,0,0,null,null,null,0,""]
[44,"2019-10-30","2019-10-30",null,null,0,0,0,null,null,null,0,""]
[44,"2019-10-31","2019-10-31",null,null,0,0,0,null,null,null,0,""]
[44,"2019-11-01","2019-11-01",null,null,0,0,0,null,7.6,"fd",7.6,""]
[44,"2019-11-02","2019-11-02",null,null,0,null,0,null,null,"za",0,"","Week",null,"OV WEEK","OV DAG","Recup -","Recup +","OV 50%"]
[44,"2019-11-03","2019-11-03",null,null,0,null,0,null,null,"zo",0,"",{"$f":"SUM(L310:L316)","v":7.6},{"$f":"SUM(H310:H316)","v":0},{"$f":"IF(N316>40,N316-40,0)","v":0},{"$f":"SUM(M310:M316)","v":0},{"$f":"SUM(I310:I316)","v":0},{"$f":"IF(N316>40,N316-40,0)","v":0},{"$f":"IF(P316>Q316,P316,Q316)","v":0}]
[45,"2019-11-04","2019-11-04",null,null,0,0,0,null,null,null,0,""]
[45,"2019-11-05","2019-11-05",null,null,0,0,0,null,null,null,0,""]
[45,"2019-11-06","2019-11-06",null,null,0,0,0,null,null,null,0,""]
[45,"2019-11-07","2019-11-07",null,null,0,0,0,null,null,null,0,""]
[45,"2019-11-08","2019-11-08",null,null,0,0,0,null,null,null,0,""]
[45,"2019-11-09","2019-11-09",null,null,0,null,0,null,null,"za",0,"","Week",null,"OV WEEK","OV DAG","Recup -","Recup +","OV 50%"]
[45,"2019-11-10","2019-11-10",null,null,0,null,0,null,null,"zo",0,"",{"$f":"SUM(L317:L323)","v":0},{"$f":"SUM(H317:H323)","v":0},{"$f":"IF(N323>40,N323-40,0)","v":0},{"$f":"SUM(M317:M323)","v":0},{"$f":"SUM(I317:I323)","v":0},{"$f":"IF(N323>40,N323-40,0)","v":0},{"$f":"IF(P323>Q323,P323,Q323)","v":0}]
[46,"2019-11-11","2019-11-11",null,null,0,0,0,null,7.6,"fd",7.6,""]
[46,"2019-11-12","2019-11-12",null,null,0,0,0,null,null,null,0,""]
[46,"2019-11-13","2019-11-13",null,null,0,0,0,null,null,null,0,""]
[46,"2019-11-14","2019-11-14",null,null,0,0,0,null,null,null,0,""]
[46,"2019-11-15","2019-11-15",null,null,0,0,0,null,null,null,0,""]
[46,"2019-11-16","2019-11-16",null,null,0,null,0,null,null,"za",0,{"$f":"IF(L329>9,L329-9,\"\")","v":""},"Week",null,"OV WEEK","OV DAG","Recup -","Recup +","OV 50%"]
[{"$f":"WEEKNUM(C330,21)","v":46},{"$f":"C330","v":"2019-11-17"},"2019-11-17",null,null,{"$f":"(E330-D330)*24","v":0},null,{"$f":"F330-G330","v":0},null,null,"zo",{"$f":"SUM(H330:J330)","v":0},"",{"$f":"SUM(L324:L330)","v":7.6},{"$f":"SUM(H324:H330)","v":0},{"$f":"IF(N330>40,N330-40,0)","v":0},{"$f":"SUM(M324:M330)","v":0},{"$f":"SUM(I324:I330)","v":0},{"$f":"IF(N330>40,N330-40,0)","v":0},{"$f":"IF(P330>Q330,P330,Q330)","v":0}]
[47,"2019-11-18","2019-11-18",null,null,0,{"$f":"IF(F331>=6,0.5,0)","v":0},0,null,null,null,0,""]
[47,"2019-11-19","2019-11-19",null,null,0,0,0,null,null,null,0,""]
[47,"2019-11-20","2019-11-20",null,null,0,0,0,null,null,null,0,""]
[47,"2019-11-21","2019-11-21",null,null,0,0,0,null,null,null,0,""]
[47,"2019-11-22","2019-11-22",null,null,0,0,0,null,null,null,0,""]
[47,"2019-11-23","2019-11-23",null,null,0,null,0,null,null,"za",0,"","Week",null,"OV WEEK","OV DAG","Recup -","Recup +","OV 50%"]
[47,"2019-11-24","2019-11-24",null,null,0,null,0,null,null,"zo",0,"",{"$f":"SUM(L331:L337)","v":0},{"$f":"SUM(H331:H337)","v":0},{"$f":"IF(N337>40,N337-40,0)","v":0},{"$f":"SUM(M331:M337)","v":0},{"$f":"SUM(I331:I337)","v":0},{"$f":"IF(N337>40,N337-40,0)","v":0},{"$f":"IF(P337>Q337,P337,Q337)","v":0}]
[48,"2019-11-25","2019-11-25",null,null,0,0,0,null,null,null,0,""]
[48,"2019-11-26","2019-11-26",null,null,0,0,0,null,null,null,0,""]
[48,"2019-11-27","2019-11-27",null,null,0,0,0,null,null,null,0,""]
[48,"2019-11-28","2019-11-28",null,null,0,0,0,null,null,null,0,""]
[48,"2019-11-29","2019-11-29",null,null,0,0,0,null,null,null,0,""]
[48,"2019-11-30","2019-11-30",null,null,0,null,0,null,null,"za",0,"","Week",null,"OV WEEK","OV DAG","Recup -","Recup +","OV 50%"]
[48,"2019-12-01","2019-12-01",null,null,0,null,0,null,null,"zo",0,"",{"$f":"SUM(L338:L344)","v":0},{"$f":"SUM(H338:H344)","v":0},{"$f":"IF(N344>40,N344-40,0)","v":0},{"$f":"SUM(M338:M344)","v":0},{"$f":"SUM(I338:I344)","v":0},{"$f":"IF(N344>40,N344-40,0)","v":0},{"$f":"IF(P344>Q344,P344,Q344)","v":0}]
[49,"2019-12-02","2019-12-02",null,null,0,0,0,null,null,null,0,""]
[49,"2019-12-03","2019-12-03",null,null,0,0,0,null,null,null,0,""]
[49,"2019-12-04","2019-12-04",null,null,0,0,0,null,null,null,0,""]
[49,"2019-12-05","2019-12-05",null,null,0,0,0,null,null,null,0,""]
[49,"2019-12-06","2019-12-06",null,null,0,0,0,null,null,null,0,""]
[49,"2019-12-07","2019-12-07",null,null,0,null,0,null,null,"za",0,"","Week",null,"OV WEEK","OV DAG","Recup -","Recup +","OV 50%"]
[49,"2019-12-08","2019-12-08",null,null,0,null,0,null,null,"zo",0,"",{"$f":"SUM(L345:L351)","v":0},{"$f":"SUM(H345:H351)","v":0},{"$f":"IF(N351>40,N351-40,0)","v":0},{"$f":"SUM(M345:M351)","v":0},{"$f":"SUM(I345:I351)","v":0},{"$f":"IF(N351>40,N351-40,0)","v":0},{"$f":"IF(P351>Q351,P351,Q351)","v":0}]
[50,"2019-12-09","2019-12-09",null,null,0,0,0,null,null,null,0,""]
[50,"2019-12-10","2019-12-10",null,null,0,0,0,null,null,null,0,""]
[50,"2019-12-11","2019-12-11",null,null,0,0,0,null,null,null,0,""]
[50,"2019-12-12","2019-12-12",null,null,0,0,0,null,null,null,0,""]
[50,"2019-12-13","2019-12-13",null,null,0,0,0,null,null,null,0,""]
[50,"2019-12-14","2019-12-14",null,null,0,null,0,null,null,"za",0,"","Week",null,"OV WEEK","OV DAG","Recup -","Recup +","OV 50%"]
[50,"2019-12-15","2019-12-15",null,null,0,null,0,null,null,"zo",0,"",{"$f":"SUM(L352:L358)","v":0},{"$f":"SUM(H352:H358)","v":0},{"$f":"IF(N358>40,N358-40,0)","v":0},{"$f":"SUM(M352:M358)","v":0},{"$f":"SUM(I352:I358)","v":0},{"$f":"IF(N358>40,N358-40,0)","v":0},{"$f":"IF(P358>Q358,P358,Q358)","v":0}]
[51,"2019-12-16","2019-12-16",null,null,0,0,0,null,null,null,0,""]
[51,"2019-12-17","2019-12-17",null,null,0,0,0,null,null,null,0,""]
[51,"2019-12-18","2019-12-18",null,null,0,0,0,null,null,null,0,""]
[51,"2019-12-19","2019-12-19",null,null,0,0,0,null,null,null,0,""]
[51,"2019-12-20","2019-12-20",null,null,0,0,0,null,null,null,0,""]
[51,"2019-12-21","2019-12-21",null,null,0,null,0,null,null,"za",0,"","Week",null,"OV WEEK","OV DAG","Recup -","Recup +","OV 50%"]
[51,"2019-12-22","2019-12-22",null,null,0,null,0,null,null,"zo",0,"",{"$f":"SUM(L359:L365)","v":0},{"$f":"SUM(H359:H365)","v":0},{"$f":"IF(N365>40,N365-40,0)","v":0},{"$f":"SUM(M359:M365)","v":0},{"$f":"SUM(I359:I365)","v":0},{"$f":"IF(N365>40,N365-40,0)","v":0},{"$f":"IF(P365>Q365,P365,Q365)","v":0}]
[52,"2019-12-23","2019-12-23",null,null,0,0,0,null,null,null,0,""]
[52,"2019-12-24","2019-12-24",null,null,0,0,0,null,null,null,0,""]
[52,"2019-12-25","2019-12-25",null,null,0,0,0,null,7.6,"fd",7.6,""]
[52,"2019-12-26","2019-12-26",null,null,0,0,0,null,null,null,0,""]
[52,"2019-12-27","2019-12-27",null,null,0,0,0,null,null,null,0,""]
[52,"2019-12-28","2019-12-28",null,null,0,null,0,null,null,"za",0,"","Week",null,"OV WEEK","OV DAG","Recup -","Recup +","OV 50%"]
[52,"2019-12-29","2019-12-29",null,null,0,null,0,null,null,"zo",0,"",{"$f":"SUM(L366:L372)","v":7.6},{"$f":"SUM(H366:H372)","v":0},{"$f":"IF(N372>40,N372-40,0)","v":0},{"$f":"SUM(M366:M372)","v":0},{"$f":"SUM(I366:I372)","v":0},{"$f":"IF(N372>40,N372-40,0)","v":0},{"$f":"IF(P372>Q372,P372,Q372)","v":0}]
[1,"2019-12-30","2019-12-30",null,null,0,0,0,null,null,null,0,""]
[1,"2019-12-31","2019-12-31",null,null,0,0,0,null,null,null,0,""]
[1,"2020-01-01","2020-01-01",null,null,0,0,0,null,7.6,"fd",7.6,""]
[1,"2020-01-02","2020-01-02",null,null,0,0,0,null,null,null,0,""]
[1,"2020-01-03","2020-01-03",null,null,0,0,0,null,null,null,0,""]
[1,"2020-01-04","2020-01-04",null,null,0,null,0,null,null,"za",0,"","Week",null,"OV WEEK","OV DAG","Recup -","Recup +","OV 50%"]
[1,"2020-01-05","2020-01-05",null,null,0,null,0,null,null,"zo",0,"",{"$f":"SUM(L373:L379)","v":7.6},{"$f":"SUM(H373:H379)","v":0},{"$f":"IF(N379>40,N379-40,0)","v":0},{"$f":"SUM(M373:M379)","v":0},{"$f":"SUM(I373:I379)","v":0},{"$f":"IF(N379>40,N379-40,0)","v":0},{"$f":"IF(P379>Q379,P379,Q379)","v":0}]

{"sheet":"73","index":14,"n_rows":379,"n_cols":35,"rows_kept":379,"cut":false,"hidden":false,"merged":[[6,21,6,24],[6,25,6,28],[6,29,6,32],[6,33,6,34],[0,1,1,12],[4,21,4,23],[4,25,4,28],[4,29,4,32],[4,33,4,34],[5,21,5,23],[5,25,5,28],[5,29,5,32],[5,33,5,34],[2,21,2,23],[2,25,2,28],[2,29,2,32],[2,33,2,34],[3,21,3,23],[3,25,3,28],[3,29,3,32],[3,33,3,34],[0,21,0,24],[0,25,0,28],[0,29,0,32],[0,33,0,34],[1,21,1,23],[1,25,1,28],[1,29,1,32],[1,33,1,34]]}
["73","Ouhida Hassan",null,null,null,null,null,null,null,null,null,null,null,null,null,null,null,null,null,null,null,"Soort",null,null,null,"Recht op",null,null,null,"Opgenomen",null,null,null,"Saldo"]
[null,null,null,null,null,null,null,null,null,null,null,null,null,null,null,null,null,null,null,null,null,"ADV-dagen",null,null,"adv",null,null,null,null,{"$f":"(COUNTIF(W$9:AH$39,\"ADV\")+(COUNTIF(W$9:AH$39,\"0,5ADV\"))/2)","v":0},null,null,null,{"$f":"Z2-AD2","v":0}]
[null,null,null,null,null,null,null,null,null,null,null,null,null,null,null,null,null,null,null,null,null,"Vakantie 2019",null,null,"v",null,null,null,null,{"$f":"(COUNTIF(W$9:AH$39,\"V\")+(COUNTIF(W$9:AH$39,\"0,5V\"))/2)","v":0},null,null,null,{"$f":"Z3-AD3","v":0}]
["Opgelet avondwerk ! Van 00:00u tot 00:00u / + 0,00u premie 50%",null,null,null,null,null,null,null,null,null,null,null,null,"Feestdag in weekend 2019",null,null,null,null,"Recup 2018",7.1,null,"Feestdag 2019",null,null,"f",1,null,null,null,{"$f":"(COUNTIF(W$9:AH$39,\"F\")+(COUNTIF(W$9:AH$39,\"0,5F\"))/2)","v":0},null,null,null,1]
[null,null,null,null,null,null,null,null,null,null,null,null,null,"- nationale feestdag 21/7",null,null,null,null,null,null,null,"Vakantie rest 2018",null,null,"vvj",null,null,null,null,{"$f":"(COUNTIF(W$9:AH$39,\"vvj\")+(COUNTIF(W$9:AH$39,\"0,5vvj\"))/2)","v":0},null,null,null,0]
[null,null,null,null,null,null,null,null,null,null,null,null,null,null,null,null,null,null,"Recup",{"$f":"SUM(S9:S379)-SUM(R9:R379)+T5+T4","v":7.1},null,"Anciënniteitsdagen",null,null,"a ",null,null,null,null,{"$f":"(COUNTIF(W$9:AH$39,\"A\")+(COUNTIF(W$9:AH$39,\"0,5A\"))/2)","v":0},null,null,null,0]
[null,null,null,null,null,null,null,null,null,null,null,null,null,null,null,null,null,null,null,null,null,"TOTAAL",null,null,null,{"$f":"SUM(Z2:AC6)","v":1},null,null,null,{"$f":"SUM(AD2:AG6)","v":0},null,null,null,{"$f":"SUM(AH2:AI6)","v":1}]
["W","Dag","Datum","Van ","Tot",null,"Pauze","Prestaties","Recup","Andere","Type","Dag","OV DAG","Week","Prestaties","OV WEEK","OV DAG","Rec. -","Rec. +","OV 50%","M",null,"Jan","Feb","Maa","Apr","Mei","Jun","Jul","Aug","Sept","Okt","Nov","Dec"]
[{"$f":"WEEKNUM(C9,21)","v":1},{"$f":"C9","v":"2018-12-31"},"2018-12-31",null,null,{"$f":"(E9-D9)*24","v":0},{"$f":"IF(F9>=6,0.5,0)","v":0},{"$f":"F9-G9","v":0},null,null,null,{"$f":"SUM(H9:J9)","v":0},{"$f":"IF(L9>9,L9-9,\"\")","v":""},null,null,null,null,null,null,null,null,1,{"$f":"K9","v":0},{"$f":"K40","v":0},{"$f":"K68","v":0},{"$f":"K99","v":"zo"},{"$f":"K129","v":0},{"$f":"K160","v":0},{"$f":"K190","v":"zo"},{"$f":"K221","v":0},{"$f":"K252","v":"za"},{"$f":"K282","v":0},{"$f":"K313","v":0},{"$f":"K343","v":"za"},1]
[{"$f":"WEEKNUM(C10,21)","v":1},{"$f":"C10","v":"2019-01-01"},"2019-01-01",null,null,{"$f":"(E10-D10)*24","v":0},{"$f":"IF(F10>=6,0.5,0)","v":0},{"$f":"F10-G10","v":0},null,7.6,"fd",{"$f":"SUM(H10:J10)","v":7.6},"",null,null,null,null,null,null,null,null,2,{"$f":"K10","v":"fd"},{"$f":"K41","v":0},{"$f":"K69","v":0},{"$f":"K100","v":0},{"$f":"K130","v":"fd"},{"$f":"K161","v":"za"},{"$f":"K191","v":0},{"$f":"K222","v":0},{"$f":"K253","v":"zo"},{"$f":"K283","v":0},{"$f":"K314","v":"fd"},{"$f":"K344","v":"zo"},2]
[1,"2019-01-02","2019-01-02",null,null,0,0,0,null,null,null,0,"",null,null,null,null,null,null,null,null,3,0,"za","za",0,0,"zo",0,0,0,0,"za",0,3]
[1,"2019-01-03","2019-01-03",null,null,0,0,0,null,null,null,0,"",null,null,null,null,null,null,null,null,4,0,"zo","zo",0,0,0,0,"za",0,0,"zo",0,4]
[1,"2019-01-04","2019-01-04",null,null,0,0,0,null,null,null,0,"",null,null,null,null,null,null,null,null,5,0,0,0,0,"za",0,0,"zo",0,0,0,{"$f":"K347","v":0},5]
[1,"2019-01-05","2019-01-05",null,null,0,null,0,null,null,"za",0,"","Week",null,"OV WEEK","OV DAG","Recup -","Recup +","OV 50%",null,6,"za",0,0,0,"zo",0,0,0,0,"za",0,0,6]
[1,"2019-01-06","2019-01-06",null,null,0,null,0,null,null,"zo",0,"",{"$f":"SUM(L9:L15)","v":7.6},{"$f":"SUM(H9:H15)","v":0},{"$f":"IF(N15>38,N15-38,0)","v":0},{"$f":"SUM(M9:M15)","v":0},{"$f":"SUM(I9:I15)","v":0},{"$f":"IF(N15>38,N15-38,0)","v":0},{"$f":"IF(P15>Q15,P15,Q15)","v":0},null,7,"zo",0,0,"za",0,0,"za",0,0,"zo",0,0,7]
[2,"2019-01-07","2019-01-07",null,null,0,0,0,null,null,null,0,"",null,null,null,null,null,null,null,null,8,0,0,0,"zo",0,0,"zo",0,"za",0,0,"za",8]
[2,"2019-01-08","2019-01-08",null,null,0,0,0,null,null,null,0,"",null,null,null,null,null,null,null,null,9,0,0,0,0,0,"za",0,0,"zo",0,0,"zo",9]
[2,"2019-01-09","2019-01-09",null,null,0,0,0,null,null,null,0,"",null,null,null,null,null,null,null,null,10,0,"za","za",0,0,"zo",0,0,0,0,"za",0,10]
[2,"2019-01-10","2019-01-10",null,null,0,0,0,null,null,null,0,"",null,null,null,null,null,null,null,null,11,0,"zo","zo",0,0,"fd",0,"za",0,0,"zo",0,11]
[2,"2019-01-11","2019-01-11",null,null,0,0,0,null,null,null,0,"",null,null,null,null,null,null,null,null,12,0,0,0,0,"za",0,0,"zo",0,0,"fd",0,12]
[2,"2019-01-12","2019-01-12",null,null,0,null,0,null,null,"za",0,"","Week",null,"OV WEEK","OV DAG","Recup -","Recup +","OV 50%",null,13,"za",0,0,0,"zo",0,0,0,0,"za",0,0,13]
[2,"2019-01-13","2019-01-13",null,null,0,null,0,null,null,"zo",0,"",{"$f":"SUM(L16:L22)","v":0},{"$f":"SUM(H16:H22)","v":0},{"$f":"IF(N22>38,N22-38,0)","v":0},{"$f":"SUM(M16:M22)","v":0},{"$f":"SUM(I16:I22)","v":0},{"$f":"IF(N22>38,N22-38,0)","v":0},{"$f":"IF(P22>Q22,P22,Q22)","v":0},null,14,"zo",0,0,"za",0,0,"za",0,0,"zo",0,0,14]
[3,"2019-01-14","2019-01-14",null,null,0,0,0,null,null,null,0,"",null,null,null,null,null,null,null,null,15,0,0,0,"zo",0,0,"zo",0,"za",0,0,"za",15]
[3,"2019-01-15","2019-01-15",null,null,0,0,0,null,null,null,0,"",null,null,null,null,null,null,null,null,16,0,0,0,0,0,"za",0,"fd","zo",0,0,"zo",16]
[3,"2019-01-16","2019-01-16",null,null,0,0,0,null,null,null,0,"",null,null,null,null,null,null,null,null,17,0,"za","za",0,0,"zo",0,0,0,0,"za",0,17]
[3,"2019-01-17","2019-01-17",null,null,0,0,0,null,null,null,0,"",null,null,null,null,null,null,null,null,18,0,"zo","zo",0,0,0,0,"za",0,0,"zo",0,18]
[3,"2019-01-18","2019-01-18",null,null,0,0,0,null,null,null,0,"",null,null,null,null,null,null,null,null,19,0,0,0,0,"za",0,0,"zo",0,0,0,0,19]
[3,"2019-01-19","2019-01-19",null,null,0,null,0,null,null,"za",0,"","Week",null,"OV WEEK","OV DAG","Recup -","Recup +","OV 50%",null,20,"za",0,0,0,"zo",0,0,0,0,"za",0,{"$f":"K362","v":0},20]
[3,"2019-01-20","2019-01-20",null,null,0,null,0,null,null,"zo",0,"",{"$f":"SUM(L23:L29)","v":0},{"$f":"SUM(H23:H29)","v":0},{"$f":"IF(N29>38,N29-38,0)","v":0},{"$f":"SUM(M23:M29)","v":0},{"$f":"SUM(I23:I29)","v":0},{"$f":"IF(N29>38,N29-38,0)","v":0},{"$f":"IF(P29>Q29,P29,Q29)","v":0},null,21,"zo",0,0,"za","fd",0,"za",0,0,"zo",0,0,21]
[4,"2019-01-21","2019-01-21",null,null,0,0,0,null,null,null,0,"",null,null,null,null,null,null,null,null,22,0,0,0,"zo",0,0,"zo",0,"za",0,0,"za",22]
[4,"2019-01-22","2019-01-22",null,null,0,0,0,null,null,null,0,"",null,null,null,null,null,null,null,null,23,0,0,0,"fd",0,"za",0,0,"zo",0,0,"zo",23]
[4,"2019-01-23","2019-01-23",null,null,0,0,0,null,null,null,0,"",null,null,null,null,null,null,null,null,24,0,"za","za",0,0,"zo",0,0,0,0,"za",0,24]
[4,"2019-01-24","2019-01-24",null,null,0,0,0,null,null,null,0,"",null,null,null,null,null,null,null,null,25,0,"zo","zo",0,0,0,0,"za",0,0,"zo",0,25]
[4,"2019-01-25","2019-01-25",null,null,0,0,0,null,null,null,0,"",null,null,null,null,null,null,null,null,26,0,0,0,0,"za",0,0,"zo",0,0,0,"fd",26]
[4,"2019-01-26","2019-01-26",null,null,0,null,0,null,null,"za",0,"","Week",null,"OV WEEK","OV DAG","Recup -","Recup +","OV 50%",null,27,"za",0,0,0,"zo",0,0,0,0,"za",0,0,27]
[4,"2019-01-27","2019-01-27",null,null,0,null,0,null,null,"zo",0,"",{"$f":"SUM(L30:L36)","v":0},{"$f":"SUM(H30:H36)","v":0},{"$f":"IF(N36>38,N36-38,0)","v":0},{"$f":"SUM(M30:M36)","v":0},{"$f":"SUM(I30:I36)","v":0},{"$f":"IF(N36>38,N36-38,0)","v":0},{"$f":"IF(P36>Q36,P36,Q36)","v":0},null,28,"zo",0,0,"za",0,0,"za",0,0,"zo",0,0,28]
[5,"2019-01-28","2019-01-28",null,null,0,0,0,null,null,null,0,"",null,null,null,null,null,null,null,null,29,0,null,0,"zo",0,0,"zo",0,"za",0,0,"za",29]
[5,"2019-01-29","2019-01-29",null,null,0,0,0,null,null,null,0,"",null,null,null,null,null,null,null,null,30,0,null,0,0,0,"za",0,0,"zo",0,0,"zo",30]
[5,"2019-01-30","2019-01-30",null,null,0,0,0,null,null,null,0,"",null,null,null,null,null,null,null,null,31,0,null,"za",null,"fd",null,0,0,null,0,null,0,31]
[5,"2019-01-31","2019-01-31",null,null,0,0,0,null,null,null,0,"",null,null,null,null,null,null,null,null,"WD",23,20,21,22,23,20,23,22,21,23,21,22,{"$f":"SUM(W40:AH40)","v":261}]
[5,"2019-02-01","2019-02-01",null,null,0,0,0,null,null,null,0,""]
[5,"2019-02-02","2019-02-02",null,null,0,null,0,null,null,"za",0,"","Week",null,"OV WEEK","OV DAG","Recup -","Recup +","OV 50%"]
[5,"2019-02-03","2019-02-03",null,null,0,null,0,null,null,"zo",0,"",{"$f":"SUM(L37:L43)","v":0},{"$f":"SUM(H37:H43)","v":0},{"$f":"IF(N43>38,N43-38,0)","v":0},{"$f":"SUM(M37:M43)","v":0},{"$f":"SUM(I37:I43)","v":0},{"$f":"IF(N43>38,N43-38,0)","v":0},{"$f":"IF(P43>Q43,P43,Q43)","v":0}]
[6,"2019-02-04","2019-02-04",null,null,0,0,0,null,null,null,0,""]
[6,"2019-02-05","2019-02-05",null,null,0,0,0,null,null,null,0,""]
[6,"2019-02-06","2019-02-06",null,null,0,0,0,null,null,null,0,""]
[6,"2019-02-07","2019-02-07",null,null,0,0,0,null,null,null,0,""]
[6,"2019-02-08","2019-02-08",null,null,0,0,0,null,null,null,0,""]
[6,"2019-02-09","2019-02-09",null,null,0,null,0,null,null,"za",0,"","Week",null,"OV WEEK","OV DAG","Recup -","Recup +","OV 50%"]
[6,"2019-02-10","2019-02-10",null,null,0,null,0,null,null,"zo",0,"",{"$f":"SUM(L44:L50)","v":0},{"$f":"SUM(H44:H50)","v":0},{"$f":"IF(N50>38,N50-38,0)","v":0},{"$f":"SUM(M44:M50)","v":0},{"$f":"SUM(I44:I50)","v":0},{"$f":"IF(N50>38,N50-38,0)","v":0},{"$f":"IF(P50>Q50,P50,Q50)","v":0}]
[7,"2019-02-11","2019-02-11",null,null,0,0,0,null,null,null,0,""]
[7,"2019-02-12","2019-02-12",null,null,0,0,0,null,null,null,0,""]
[7,"2019-02-13","2019-02-13",null,null,0,0,0,null,null,null,0,""]
[7,"2019-02-14","2019-02-14",null,null,0,0,0,null,null,null,0,""]
[7,"2019-02-15","2019-02-15",null,null,0,0,0,null,null,null,0,""]
[7,"2019-02-16","2019-02-16",null,null,0,null,0,null,null,"za",0,"","Week",null,"OV WEEK","OV DAG","Recup -","Recup +","OV 50%"]
[7,"2019-02-17","2019-02-17",null,null,0,null,0,null,null,"zo",0,"",{"$f":"SUM(L51:L57)","v":0},{"$f":"SUM(H51:H57)","v":0},{"$f":"IF(N57>38,N57-38,0)","v":0},{"$f":"SUM(M51:M57)","v":0},{"$f":"SUM(I51:I57)","v":0},{"$f":"IF(N57>38,N57-38,0)","v":0},{"$f":"IF(P57>Q57,P57,Q57)","v":0}]
[8,"2019-02-18","2019-02-18",null,null,0,0,0,null,null,null,0,""]
[8,"2019-02-19","2019-02-19",null,null,0,0,0,null,null,null,0,""]
[8,"2019-02-20","2019-02-20",null,null,0,0,0,null,null,null,0,""]
[8,"2019-02-21","2019-02-21",null,null,0,0,0,null,null,null,0,""]
[8,"2019-02-22","2019-02-22",null,null,0,0,0,null,null,null,0,""]
[8,"2019-02-23","2019-02-23",null,null,0,null,0,null,null,"za",0,"","Week",null,"OV WEEK","OV DAG","Recup -","Recup +","OV 50%"]
[8,"2019-02-24","2019-02-24",null,null,0,null,0,null,null,"zo",0,"",{"$f":"SUM(L58:L64)","v":0},{"$f":"SUM(H58:H64)","v":0},{"$f":"IF(N64>38,N64-38,0)","v":0},{"$f":"SUM(M58:M64)","v":0},{"$f":"SUM(I58:I64)","v":0},{"$f":"IF(N64>38,N64-38,0)","v":0},{"$f":"IF(P64>Q64,P64,Q64)","v":0}]
[9,"2019-02-25","2019-02-25",null,null,0,0,0,null,null,null,0,""]
[9,"2019-02-26","2019-02-26",null,null,0,0,0,null,null,null,0,""]
[9,"2019-02-27","2019-02-27",null,null,0,0,0,null,null,null,0,""]
[9,"2019-02-28","2019-02-28",null,null,0,0,0,null,null,null,0,""]
[9,"2019-03-01","2019-03-01",null,null,0,0,0,null,null,null,0,""]
[9,"2019-03-02","2019-03-02",null,null,0,null,0,null,null,"za",0,"","Week",null,"OV WEEK","OV DAG","Recup -","Recup +","OV 50%"]
[9,"2019-03-03","2019-03-03",null,null,0,null,0,null,null,"zo",0,"",{"$f":"SUM(L65:L71)","v":0},{"$f":"SUM(H65:H71)","v":0},{"$f":"IF(N71>38,N71-38,0)","v":0},{"$f":"SUM(M65:M71)","v":0},{"$f":"SUM(I65:I71)","v":0},{"$f":"IF(N71>38,N71-38,0)","v":0},{"$f":"IF(P71>Q71,P71,Q71)","v":0}]
[10,"2019-03-04","2019-03-04",null,null,0,0,0,null,null,null,0,""]
[10,"2019-03-05","2019-03-05",null,null,0,0,0,null,null,null,0,{"$f":"IF(L73>9,L73-9,\"\")","v":""}]
[{"$f":"WEEKNUM(C74,21)","v":10},{"$f":"C74","v":"2019-03-06"},"2019-03-06",null,null,{"$f":"(E74-D74)*24","v":0},{"$f":"IF(F74>=6,0.5,0)","v":0},{"$f":"F74-G74","v":0},null,null,null,{"$f":"SUM(H74:J74)","v":0},""]
[10,"2019-03-07","2019-03-07",null,null,0,0,0,null,null,null,0,""]
[10,"2019-03-08","2019-03-08",null,null,0,0,0,null,null,null,0,""]
[10,"2019-03-09","2019-03-09",null,null,0,null,0,null,null,"za",0,"","Week",null,"OV WEEK","OV DAG","Recup -","Recup +","OV 50%"]
[10,"2019-03-10","2019-03-10",null,null,0,null,0,null,null,"zo",0,"",{"$f":"SUM(L72:L78)","v":0},{"$f":"SUM(H72:H78)","v":0},{"$f":"IF(N78>38,N78-38,0)","v":0},{"$f":"SUM(M72:M78)","v":0},{"$f":"SUM(I72:I78)","v":0},{"$f":"IF(N78>38,N78-38,0)","v":0},{"$f":"IF(P78>Q78,P78,Q78)","v":0}]
[11,"2019-03-11","2019-03-11",null,null,0,0,0,null,null,null,0,""]
[11,"2019-03-12","2019-03-12",null,null,0,0,0,null,null,null,0,""]
[11,"2019-03-13","2019-03-13",null,null,0,0,0,null,null,null,0,""]
[11,"2019-03-14","2019-03-14",null,null,0,0,0,null,null,null,0,""]
[11,"2019-03-15","2019-03-15",null,null,0,0,0,null,null,null,0,""]
[11,"2019-03-16","2019-03-16",null,null,0,null,0,null,null,"za",0,"","Week",null,"OV WEEK","OV DAG","Recup -","Recup +","OV 50%"]
[11,"2019-03-17","2019-03-17",null,null,0,null,0,null,null,"zo",0,"",{"$f":"SUM(L79:L85)","v":0},{"$f":"SUM(H79:H85)","v":0},{"$f":"IF(N85>38,N85-38,0)","v":0},{"$f":"SUM(M79:M85)","v":0},{"$f":"SUM(I79:I85)","v":0},{"$f":"IF(N85>38,N85-38,0)","v":0},{"$f":"IF(P85>Q85,P85,Q85)","v":0}]
[12,"2019-03-18","2019-03-18",null,null,0,0,0,null,null,null,0,""]
[12,"2019-03-19","2019-03-19",null,null,0,0,0,null,null,null,0,""]
[12,"2019-03-20","2019-03-20",null,null,0,0,0,null,null,null,0,""]
[12,"2019-03-21","2019-03-21",null,null,0,0,0,null,null,null,0,""]
[12,"2019-03-22","2019-03-22",null,null,0,0,0,null,null,null,0,""]
[12,"2019-03-23","2019-03-23",null,null,0,null,0,null,null,"za",0,"","Week",null,"OV WEEK","OV DAG","Recup -","Recup +","OV 50%"]
[12,"2019-03-24","2019-03-24",null,null,0,null,0,null,null,"zo",0,"",{"$f":"SUM(L86:L92)","v":0},{"$f":"SUM(H86:H92)","v":0},{"$f":"IF(N92>38,N92-38,0)","v":0},{"$f":"SUM(M86:M92)","v":0},{"$f":"SUM(I86:I92)","v":0},{"$f":"IF(N92>38,N92-38,0)","v":0},{"$f":"IF(P92>Q92,P92,Q92)","v":0}]
[13,"2019-03-25","2019-03-25",null,null,0,0,0,null,null,null,0,""]
[13,"2019-03-26","2019-03-26",null,null,0,0,0,null,null,null,0,""]
[13,"2019-03-27","2019-03-27",null,null,0,0,0,null,null,null,0,""]
[13,"2019-03-28","2019-03-28",null,null,0,0,0,null,null,null,0,""]
[13,"2019-03-29","2019-03-29",null,null,0,0,0,null,null,null,0,""]
[13,"2019-03-30","2019-03-30",null,null,0,null,0,null,null,"za",0,"","Week",null,"OV WEEK","OV DAG","Recup -","Recup +","OV 50%"]
[13,"2019-03-31","2019-03-31",null,null,0,null,0,null,null,"zo",0,"",{"$f":"SUM(L93:L99)","v":0},{"$f":"SUM(H93:H99)","v":0},{"$f":"IF(N99>38,N99-38,0)","v":0},{"$f":"SUM(M93:M99)","v":0},{"$f":"SUM(I93:I99)","v":0},{"$f":"IF(N99>38,N99-38,0)","v":0},{"$f":"IF(P99>Q99,P99,Q99)","v":0}]
[14,"2019-04-01","2019-04-01",null,null,0,0,0,null,null,null,0,""]
[14,"2019-04-02","2019-04-02",null,null,0,0,0,null,null,null,0,""]
[14,"2019-04-03","2019-04-03",null,null,0,0,0,null,null,null,0,""]
[14,"2019-04-04","2019-04-04",null,null,0,0,0,null,null,null,0,""]
[14,"2019-04-05","2019-04-05",null,null,0,0,0,null,null,null,0,""]
[14,"2019-04-06","2019-04-06",null,null,0,null,0,null,null,"za",0,"","Week",null,"OV WEEK","OV DAG","Recup -","Recup +","OV 50%"]
[14,"2019-04-07","2019-04-07",null,null,0,null,0,null,null,"zo",0,"",{"$f":"SUM(L100:L106)","v":0},{"$f":"SUM(H100:H106)","v":0},{"$f":"IF(N106>38,N106-38,0)","v":0},{"$f":"SUM(M100:M106)","v":0},{"$f":"SUM(I100:I106)","v":0},{"$f":"IF(N106>38,N106-38,0)","v":0},{"$f":"IF(P106>Q106,P106,Q106)","v":0}]
[15,"2019-04-08","2019-04-08",null,null,0,0,0,null,null,null,0,""]
[15,"2019-04-09","2019-04-09",null,null,0,0,0,null,null,null,0,""]
[15,"2019-04-10","2019-04-10",null,null,0,0,0,null,null,null,0,""]
[15,"2019-04-11","2019-04-11",null,null,0,0,0,null,null,null,0,""]
[15,"2019-04-12","2019-04-12",null,null,0,0,0,null,null,null,0,""]
[15,"2019-04-13","2019-04-13",null,null,0,null,0,null,null,"za",0,"","Week",null,"OV WEEK","OV DAG","Recup -","Recup +","OV 50%"]
[15,"2019-04-14","2019-04-14",null,null,0,null,0,null,null,"zo",0,"",{"$f":"SUM(L107:L113)","v":0},{"$f":"SUM(H107:H113)","v":0},{"$f":"IF(N113>38,N113-38,0)","v":0},{"$f":"SUM(M107:M113)","v":0},{"$f":"SUM(I107:I113)","v":0},{"$f":"IF(N113>38,N113-38,0)","v":0},{"$f":"IF(P113>Q113,P113,Q113)","v":0}]
[16,"2019-04-15","2019-04-15",null,null,0,0,0,null,null,null,0,""]
[16,"2019-04-16","2019-04-16",null,null,0,0,0,null,null,null,0,""]
[16,"2019-04-17","2019-04-17",null,null,0,0,0,null,null,null,0,""]
[16,"2019-04-18","2019-04-18",null,null,0,0,0,null,null,null,0,""]
[16,"2019-04-19","2019-04-19",null,null,0,0,0,null,null,null,0,""]
[16,"2019-04-20","2019-04-20",null,null,0,null,0,null,null,"za",0,"","Week",null,"OV WEEK","OV DAG","Recup -","Recup +","OV 50%"]
[16,"2019-04-21","2019-04-21",null,null,0,null,0,null,null,"zo",0,"",{"$f":"SUM(L114:L120)","v":0},{"$f":"SUM(H114:H120)","v":0},{"$f":"IF(N120>38,N120-38,0)","v":0},{"$f":"SUM(M114:M120)","v":0},{"$f":"SUM(I114:I120)","v":0},{"$f":"IF(N120>38,N120-38,0)","v":0},{"$f":"IF(P120>Q120,P120,Q120)","v":0}]
[17,"2019-04-22","2019-04-22",null,null,0,0,0,null,7.6,"fd",7.6,""]
[17,"2019-04-23","2019-04-23",null,null,0,0,0,null,null,null,0,""]
[17,"2019-04-24","2019-04-24",null,null,0,0,0,null,null,null,0,""]
[17,"2019-04-25","2019-04-25",null,null,0,0,0,null,null,null,0,""]
[17,"2019-04-26","2019-04-26",null,null,0,0,0,null,null,null,0,""]
[17,"2019-04-27","2019-04-27",null,null,0,null,0,null,null,"za",0,"","Week",null,"OV WEEK","OV DAG","Recup -","Recup +","OV 50%"]
[17,"2019-04-28","2019-04-28",null,null,0,null,0,null,null,"zo",0,"",{"$f":"SUM(L121:L127)","v":7.6},{"$f":"SUM(H121:H127)","v":0},{"$f":"IF(N127>38,N127-38,0)","v":0},{"$f":"SUM(M121:M127)","v":0},{"$f":"SUM(I121:I127)","v":0},{"$f":"IF(N127>38,N127-38,0)","v":0},{"$f":"IF(P127>Q127,P127,Q127)","v":0}]
[18,"2019-04-29","2019-04-29",null,null,0,0,0,null,null,null,0,""]
[18,"2019-04-30","2019-04-30",null,null,0,0,0,null,null,null,0,""]
[18,"2019-05-01","2019-05-01",null,null,0,0,0,null,7.6,"fd",7.6,""]
[18,"2019-05-02","2019-05-02",null,null,0,0,0,null,null,null,0,""]
[18,"2019-05-03","2019-05-03",null,null,0,0,0,null,null,null,0,""]
[18,"2019-05-04","2019-05-04",null,null,0,null,0,null,null,"za",0,"","Week",null,"OV WEEK","OV DAG","Recup -","Recup +","OV 50%"]
[18,"2019-05-05","2019-05-05",null,null,0,null,0,null,null,"zo",0,"",{"$f":"SUM(L128:L134)","v":7.6},{"$f":"SUM(H128:H134)","v":0},{"$f":"IF(N134>38,N134-38,0)","v":0},{"$f":"SUM(M128:M134)","v":0},{"$f":"SUM(I128:I134)","v":0},{"$f":"IF(N134>38,N134-38,0)","v":0},{"$f":"IF(P134>Q134,P134,Q134)","v":0}]
[19,"2019-05-06","2019-05-06",null,null,0,0,0,null,null,null,0,""]
[19,"2019-05-07","2019-05-07",null,null,0,0,0,null,null,null,0,""]
[19,"2019-05-08","2019-05-08",null,null,0,0,0,null,null,null,0,{"$f":"IF(L137>9,L137-9,\"\")","v":""}]
[{"$f":"WEEKNUM(C138,21)","v":19},{"$f":"C138","v":"2019-05-09"},"2019-05-09",null,null,{"$f":"(E138-D138)*24","v":0},{"$f":"IF(F138>=6,0.5,0)","v":0},{"$f":"F138-G138","v":0},null,null,null,{"$f":"SUM(H138:J138)","v":0},""]
[19,"2019-05-10","2019-05-10",null,null,0,0,0,null,null,null,0,""]
[19,"2019-05-11","2019-05-11",null,null,0,null,0,null,null,"za",0,"","Week",null,"OV WEEK","OV DAG","Recup -","Recup +","OV 50%"]
[19,"2019-05-12","2019-05-12",null,null,0,null,0,null,null,"zo",0,"",{"$f":"SUM(L135:L141)","v":0},{"$f":"SUM(H135:H141)","v":0},{"$f":"IF(N141>38,N141-38,0)","v":0},{"$f":"SUM(M135:M141)","v":0},{"$f":"SUM(I135:I141)","v":0},{"$f":"IF(N141>38,N141-38,0)","v":0},{"$f":"IF(P141>Q141,P141,Q141)","v":0}]
[20,"2019-05-13","2019-05-13",null,null,0,0,0,null,null,null,0,""]
[20,"2019-05-14","2019-05-14",null,null,0,0,0,null,null,null,0,""]
[20,"2019-05-15","2019-05-15",null,null,0,0,0,null,null,null,0,""]
[20,"2019-05-16","2019-05-16",null,null,0,0,0,null,null,null,0,""]
[20,"2019-05-17","2019-05-17",null,null,0,0,0,null,null,null,0,""]
[20,"2019-05-18","2019-05-18",null,null,0,null,0,null,null,"za",0,"","Week",null,"OV WEEK","OV DAG","Recup -","Recup +","OV 50%"]
[20,"2019-05-19","2019-05-19",null,null,0,null,0,null,null,"zo",0,"",{"$f":"SUM(L142:L148)","v":0},{"$f":"SUM(H142:H148)","v":0},{"$f":"IF(N148>38,N148-38,0)","v":0},{"$f":"SUM(M142:M148)","v":0},{"$f":"SUM(I142:I148)","v":0},{"$f":"IF(N148>38,N148-38,0)","v":0},{"$f":"IF(P148>Q148,P148,Q148)","v":0}]
[21,"2019-05-20","2019-05-20",null,null,0,0,0,null,7.6,"fd",7.6,""]
[21,"2019-05-21","2019-05-21",null,null,0,0,0,null,null,null,0,""]
[21,"2019-05-22","2019-05-22",null,null,0,0,0,null,null,null,0,""]
[21,"2019-05-23","2019-05-23",null,null,0,0,0,null,null,null,0,""]
[21,"2019-05-24","2019-05-24",null,null,0,0,0,null,null,null,0,""]
[21,"2019-05-25","2019-05-25",null,null,0,null,0,null,null,"za",0,"","Week",null,"OV WEEK","OV DAG","Recup -","Recup +","OV 50%"]
[21,"2019-05-26","2019-05-26",null,null,0,null,0,null,null,"zo",0,"",{"$f":"SUM(L149:L155)","v":7.6},{"$f":"SUM(H149:H155)","v":0},{"$f":"IF(N155>38,N155-38,0)","v":0},{"$f":"SUM(M149:M155)","v":0},{"$f":"SUM(I149:I155)","v":0},{"$f":"IF(N155>38,N155-38,0)","v":0},{"$f":"IF(P155>Q155,P155,Q155)","v":0}]
[22,"2019-05-27","2019-05-27",null,null,0,0,0,null,null,null,0,""]
[22,"2019-05-28","2019-05-28",null,null,0,0,0,null,null,null,0,""]
[22,"2019-05-29","2019-05-29",null,null,0,0,0,null,null,null,0,""]
[22,"2019-05-30","2019-05-30",null,null,0,0,0,null,7.6,"fd",7.6,""]
[22,"2019-05-31","2019-05-31",null,null,0,0,0,null,null,null,0,""]
[22,"2019-06-01","2019-06-01",null,null,0,null,0,null,null,"za",0,"","Week",null,"OV WEEK","OV DAG","Recup -","Recup +","OV 50%"]
[22,"2019-06-02","2019-06-02",null,null,0,null,0,null,null,"zo",0,"",{"$f":"SUM(L156:L162)","v":7.6},{"$f":"SUM(H156:H162)","v":0},{"$f":"IF(N162>38,N162-38,0)","v":0},{"$f":"SUM(M156:M162)","v":0},{"$f":"SUM(I156:I162)","v":0},{"$f":"IF(N162>38,N162-38,0)","v":0},{"$f":"IF(P162>Q162,P162,Q162)","v":0}]
[23,"2019-06-03","2019-06-03",null,null,0,0,0,null,null,null,0,""]
[23,"2019-06-04","2019-06-04",null,null,0,0,0,null,null,null,0,""]
[23,"2019-06-05","2019-06-05",null,null,0,0,0,null,null,null,0,""]
[23,"2019-06-06","2019-06-06",null,null,0,0,0,null,null,null,0,""]
[23,"2019-06-07","2019-06-07",null,null,0,0,0,null,null,null,0,""]
[23,"2019-06-08","2019-06-08",null,null,0,null,0,null,null,"za",0,"","Week",null,"OV WEEK","OV DAG","Recup -","Recup +","OV 50%"]
[23,"2019-06-09","2019-06-09",null,null,0,null,0,null,null,"zo",0,"",{"$f":"SUM(L163:L169)","v":0},{"$f":"SUM(H163:H169)","v":0},{"$f":"IF(N169>38,N169-38,0)","v":0},{"$f":"SUM(M163:M169)","v":0},{"$f":"SUM(I163:I169)","v":0},{"$f":"IF(N169>38,N169-38,0)","v":0},{"$f":"IF(P169>Q169,P169,Q169)","v":0}]
[24,"2019-06-10","2019-06-10",null,null,0,0,0,null,7.6,"fd",7.6,""]
[24,"2019-06-11","2019-06-11",null,null,0,0,0,null,null,null,0,""]
[24,"2019-06-12","2019-06-12",null,null,0,0,0,null,null,null,0,""]
[24,"2019-06-13","2019-06-13",null,null,0,0,0,null,null,null,0,""]
[24,"2019-06-14","2019-06-14",null,null,0,0,0,null,null,null,0,""]
[24,"2019-06-15","2019-06-15",null,null,0,null,0,null,null,"za",0,"","Week",null,"OV WEEK","OV DAG","Recup -","Recup +","OV 50%"]
[24,"2019-06-16","2019-06-16",null,null,0,null,0,null,null,"zo",0,"",{"$f":"SUM(L170:L176)","v":7.6},{"$f":"SUM(H170:H176)","v":0},{"$f":"IF(N176>38,N176-38,0)","v":0},{"$f":"SUM(M170:M176)","v":0},{"$f":"SUM(I170:I176)","v":0},{"$f":"IF(N176>38,N176-38,0)","v":0},{"$f":"IF(P176>Q176,P176,Q176)","v":0}]
[25,"2019-06-17","2019-06-17",null,null,0,0,0,null,null,null,0,""]
[25,"2019-06-18","2019-06-18",null,null,0,0,0,null,null,null,0,""]
[25,"2019-06-19","2019-06-19",null,null,0,0,0,null,null,null,0,""]
[25,"2019-06-20","2019-06-20",null,null,0,0,0,null,null,null,0,""]
[25,"2019-06-21","2019-06-21",null,null,0,0,0,null,null,null,0,""]
[25,"2019-06-22","2019-06-22",null,null,0,null,0,null,null,"za",0,"","Week",null,"OV WEEK","OV DAG","Recup -","Recup +","OV 50%"]
[25,"2019-06-23","2019-06-23",null,null,0,null,0,null,null,"zo",0,"",{"$f":"SUM(L177:L183)","v":0},{"$f":"SUM(H177:H183)","v":0},{"$f":"IF(N183>38,N183-38,0)","v":0},{"$f":"SUM(M177:M183)","v":0},{"$f":"SUM(I177:I183)","v":0},{"$f":"IF(N183>38,N183-38,0)","v":0},{"$f":"IF(P183>Q183,P183,Q183)","v":0}]
[26,"2019-06-24","2019-06-24",null,null,0,0,0,null,null,null,0,""]
[26,"2019-06-25","2019-06-25",null,null,0,0,0,null,null,null,0,""]
[26,"2019-06-26","2019-06-26",null,null,0,0,0,null,null,null,0,""]
[26,"2019-06-27","2019-06-27",null,null,0,0,0,null,null,null,0,""]
[26,"2019-06-28","2019-06-28",null,null,0,0,0,null,null,null,0,""]
[26,"2019-06-29","2019-06-29",null,null,0,null,0,null,null,"za",0,"","Week",null,"OV WEEK","OV DAG","Recup -","Recup +","OV 50%"]
[26,"2019-06-30","2019-06-30",null,null,0,null,0,null,null,"zo",0,"",{"$f":"SUM(L184:L190)","v":0},{"$f":"SUM(H184:H190)","v":0},{"$f":"IF(N190>38,N190-38,0)","v":0},{"$f":"SUM(M184:M190)","v":0},{"$f":"SUM(I184:I190)","v":0},{"$f":"IF(N190>38,N190-38,0)","v":0},{"$f":"IF(P190>Q190,P190,Q190)","v":0}]
[27,"2019-07-01","2019-07-01",null,null,0,0,0,null,null,null,0,""]
[27,"2019-07-02","2019-07-02",null,null,0,0,0,null,null,null,0,""]
[27,"2019-07-03","2019-07-03",null,null,0,0,0,null,null,null,0,""]
[27,"2019-07-04","2019-07-04",null,null,0,0,0,null,null,null,0,""]
[27,"2019-07-05","2019-07-05",null,null,0,0,0,null,null,null,0,""]
[27,"2019-07-06","2019-07-06",null,null,0,null,0,null,null,"za",0,"","Week",null,"OV WEEK","OV DAG","Recup -","Recup +","OV 50%"]
[27,"2019-07-07","2019-07-07",null,null,0,null,0,null,null,"zo",0,"",{"$f":"SUM(L191:L197)","v":0},{"$f":"SUM(H191:H197)","v":0},{"$f":"IF(N197>38,N197-38,0)","v":0},{"$f":"SUM(M191:M197)","v":0},{"$f":"SUM(I191:I197)","v":0},{"$f":"IF(N197>38,N197-38,0)","v":0},{"$f":"IF(P197>Q197,P197,Q197)","v":0}]
[28,"2019-07-08","2019-07-08",null,null,0,0,0,null,null,null,0,""]
[28,"2019-07-09","2019-07-09",null,null,0,0,0,null,null,null,0,""]
[28,"2019-07-10","2019-07-10",null,null,0,0,0,null,null,null,0,""]
[28,"2019-07-11","2019-07-11",null,null,0,0,0,null,null,null,0,{"$f":"IF(L201>9,L201-9,\"\")","v":""}]
[{"$f":"WEEKNUM(C202,21)","v":28},{"$f":"C202","v":"2019-07-12"},"2019-07-12",null,null,{"$f":"(E202-D202)*24","v":0},{"$f":"IF(F202>=6,0.5,0)","v":0},{"$f":"F202-G202","v":0},null,null,null,{"$f":"SUM(H202:J202)","v":0},""]
[28,"2019-07-13","2019-07-13",null,null,0,null,0,null,null,"za",0,"","Week",null,"OV WEEK","OV DAG","Recup -","Recup +","OV 50%"]
[28,"2019-07-14","2019-07-14",null,null,0,null,0,null,null,"zo",0,"",{"$f":"SUM(L198:L204)","v":0},{"$f":"SUM(H198:H204)","v":0},{"$f":"IF(N204>38,N204-38,0)","v":0},{"$f":"SUM(M198:M204)","v":0},{"$f":"SUM(I198:I204)","v":0},{"$f":"IF(N204>38,N204-38,0)","v":0},{"$f":"IF(P204>Q204,P204,Q204)","v":0}]
[29,"2019-07-15","2019-07-15",null,null,0,0,0,null,null,null,0,""]
[29,"2019-07-16","2019-07-16",null,null,0,0,0,null,null,null,0,""]
[29,"2019-07-17","2019-07-17",null,null,0,0,0,null,null,null,0,""]
[29,"2019-07-18","2019-07-18",null,null,0,0,0,null,null,null,0,""]
[29,"2019-07-19","2019-07-19",null,null,0,0,0,null,null,null,0,""]
[29,"2019-07-20","2019-07-20",null,null,0,null,0,null,null,"za",0,"","Week",null,"OV WEEK","OV DAG","Recup -","Recup +","OV 50%"]
[29,"2019-07-21","2019-07-21",null,null,0,null,0,null,null,"zo",0,"",{"$f":"SUM(L205:L211)","v":0},{"$f":"SUM(H205:H211)","v":0},{"$f":"IF(N211>38,N211-38,0)","v":0},{"$f":"SUM(M205:M211)","v":0},{"$f":"SUM(I205:I211)","v":0},{"$f":"IF(N211>38,N211-38,0)","v":0},{"$f":"IF(P211>Q211,P211,Q211)","v":0}]
[30,"2019-07-22","2019-07-22",null,null,0,0,0,null,null,null,0,""]
[30,"2019-07-23","2019-07-23",null,null,0,0,0,null,null,null,0,""]
[30,"2019-07-24","2019-07-24",null,null,0,0,0,null,null,null,0,""]
[30,"2019-07-25","2019-07-25",null,null,0,0,0,null,null,null,0,""]
[30,"2019-07-26","2019-07-26",null,null,0,0,0,null,null,null,0,""]
[30,"2019-07-27","2019-07-27",null,null,0,null,0,null,null,"za",0,"","Week",null,"OV WEEK","OV DAG","Recup -","Recup +","OV 50%"]
[30,"2019-07-28","2019-07-28",null,null,0,null,0,null,null,"zo",0,"",{"$f":"SUM(L212:L218)","v":0},{"$f":"SUM(H212:H218)","v":0},{"$f":"IF(N218>38,N218-38,0)","v":0},{"$f":"SUM(M212:M218)","v":0},{"$f":"SUM(I212:I218)","v":0},{"$f":"IF(N218>38,N218-38,0)","v":0},{"$f":"IF(P218>Q218,P218,Q218)","v":0}]
[31,"2019-07-29","2019-07-29",null,null,0,0,0,null,null,null,0,""]
[31,"2019-07-30","2019-07-30",null,null,0,0,0,null,null,null,0,""]
[31,"2019-07-31","2019-07-31",null,null,0,0,0,null,null,null,0,""]
[31,"2019-08-01","2019-08-01",null,null,0,0,0,null,null,null,0,""]
[31,"2019-08-02","2019-08-02",null,null,0,0,0,null,null,null,0,""]
[31,"2019-08-03","2019-08-03",null,null,0,null,0,null,null,"za",0,"","Week",null,"OV WEEK","OV DAG","Recup -","Recup +","OV 50%"]
[31,"2019-08-04","2019-08-04",null,null,0,null,0,null,null,"zo",0,"",{"$f":"SUM(L219:L225)","v":0},{"$f":"SUM(H219:H225)","v":0},{"$f":"IF(N225>38,N225-38,0)","v":0},{"$f":"SUM(M219:M225)","v":0},{"$f":"SUM(I219:I225)","v":0},{"$f":"IF(N225>38,N225-38,0)","v":0},{"$f":"IF(P225>Q225,P225,Q225)","v":0}]
[32,"2019-08-05","2019-08-05",null,null,0,0,0,null,null,null,0,""]
[32,"2019-08-06","2019-08-06",null,null,0,0,0,null,null,null,0,""]
[32,"2019-08-07","2019-08-07",null,null,0,0,0,null,null,null,0,""]
[32,"2019-08-08","2019-08-08",null,null,0,0,0,null,null,null,0,""]
[32,"2019-08-09","2019-08-09",null,null,0,0,0,null,null,null,0,""]
[32,"2019-08-10","2019-08-10",null,null,0,null,0,null,null,"za",0,"","Week",null,"OV WEEK","OV DAG","Recup -","Recup +","OV 50%"]
[32,"2019-08-11","2019-08-11",null,null,0,null,0,null,null,"zo",0,"",{"$f":"SUM(L226:L232)","v":0},{"$f":"SUM(H226:H232)","v":0},{"$f":"IF(N232>38,N232-38,0)","v":0},{"$f":"SUM(M226:M232)","v":0},{"$f":"SUM(I226:I232)","v":0},{"$f":"IF(N232>38,N232-38,0)","v":0},{"$f":"IF(P232>Q232,P232,Q232)","v":0}]
[33,"2019-08-12","2019-08-12",null,null,0,0,0,null,null,null,0,""]
[33,"2019-08-13","2019-08-13",null,null,0,0,0,null,null,null,0,""]
[33,"2019-08-14","2019-08-14",null,null,0,0,0,null,null,null,0,""]
[33,"2019-08-15","2019-08-15",null,null,0,0,0,null,7.6,"fd",7.6,""]
[33,"2019-08-16","2019-08-16",null,null,0,0,0,null,null,null,0,""]
[33,"2019-08-17","2019-08-17",null,null,0,null,0,null,null,"za",0,"","Week",null,"OV WEEK","OV DAG","Recup -","Recup +","OV 50%"]
[33,"2019-08-18","2019-08-18",null,null,0,null,0,null,null,"zo",0,"",{"$f":"SUM(L233:L239)","v":7.6},{"$f":"SUM(H233:H239)","v":0},{"$f":"IF(N239>38,N239-38,0)","v":0},{"$f":"SUM(M233:M239)","v":0},{"$f":"SUM(I233:I239)","v":0},{"$f":"IF(N239>38,N239-38,0)","v":0},{"$f":"IF(P239>Q239,P239,Q239)","v":0}]
[34,"2019-08-19","2019-08-19",null,null,0,0,0,null,null,null,0,""]
[34,"2019-08-20","2019-08-20",null,null,0,{"$f":"IF(F241>=6,0.5,0)","v":0},0,null,null,null,0,""]
[34,"2019-08-21","2019-08-21",null,null,0,0,0,null,null,null,0,""]
[34,"2019-08-22","2019-08-22",null,null,0,0,0,null,null,null,0,""]
[34,"2019-08-23","2019-08-23",null,null,0,0,0,null,null,null,0,""]
[34,"2019-08-24","2019-08-24",null,null,0,null,0,null,null,"za",0,"","Week",null,"OV WEEK","OV DAG","Recup -","Recup +","OV 50%"]
[34,"2019-08-25","2019-08-25",null,null,0,null,0,null,null,"zo",0,"",{"$f":"SUM(L240:L246)","v":0},{"$f":"SUM(H240:H246)","v":0},{"$f":"IF(N246>38,N246-38,0)","v":0},{"$f":"SUM(M240:M246)","v":0},{"$f":"SUM(I240:I246)","v":0},{"$f":"IF(N246>38,N246-38,0)","v":0},{"$f":"IF(P246>Q246,P246,Q246)","v":0}]
[35,"2019-08-26","2019-08-26",null,null,0,0,0,null,null,null,0,""]
[35,"2019-08-27","2019-08-27",null,null,0,0,0,null,null,null,0,""]
[35,"2019-08-28","2019-08-28",null,null,0,0,0,null,null,null,0,""]
[35,"2019-08-29","2019-08-29",null,null,0,0,0,null,null,null,0,""]
[35,"2019-08-30","2019-08-30",null,null,0,0,0,null,null,null,0,""]
[35,"2019-08-31","2019-08-31",null,null,0,null,0,null,null,"za",0,"","Week",null,"OV WEEK","OV DAG","Recup -","Recup +","OV 50%"]
[35,"2019-09-01","2019-09-01",null,null,0,null,0,null,null,"zo",0,"",{"$f":"SUM(L247:L253)","v":0},{"$f":"SUM(H247:H253)","v":0},{"$f":"IF(N253>38,N253-38,0)","v":0},{"$f":"SUM(M247:M253)","v":0},{"$f":"SUM(I247:I253)","v":0},{"$f":"IF(N253>38,N253-38,0)","v":0},{"$f":"IF(P253>Q253,P253,Q253)","v":0}]
[36,"2019-09-02","2019-09-02",null,null,0,0,0,null,null,null,0,""]
[36,"2019-09-03","2019-09-03",null,null,0,0,0,null,null,null,0,""]
[36,"2019-09-04","2019-09-04",null,null,0,0,0,null,null,null,0,""]
[36,"2019-09-05","2019-09-05",null,null,0,0,0,null,null,null,0,""]
[36,"2019-09-06","2019-09-06",null,null,0,0,0,null,null,null,0,""]
[36,"2019-09-07","2019-09-07",null,null,0,null,0,null,null,"za",0,"","Week",null,"OV WEEK","OV DAG","Recup -","Recup +","OV 50%"]
[36,"2019-09-08","2019-09-08",null,null,0,null,0,null,null,"zo",0,"",{"$f":"SUM(L254:L260)","v":0},{"$f":"SUM(H254:H260)","v":0},{"$f":"IF(N260>38,N260-38,0)","v":0},{"$f":"SUM(M254:M260)","v":0},{"$f":"SUM(I254:I260)","v":0},{"$f":"IF(N260>38,N260-38,0)","v":0},{"$f":"IF(P260>Q260,P260,Q260)","v":0}]
[37,"2019-09-09","2019-09-09",null,null,0,0,0,null,null,null,0,""]
[37,"2019-09-10","2019-09-10",null,null,0,0,0,null,null,null,0,""]
[37,"2019-09-11","2019-09-11",null,null,0,0,0,null,null,null,0,""]
[37,"2019-09-12","2019-09-12",null,null,0,0,0,null,null,null,0,""]
[37,"2019-09-13","2019-09-13",null,null,0,0,0,null,null,null,0,{"$f":"IF(L265>9,L265-9,\"\")","v":""}]
[{"$f":"WEEKNUM(C266,21)","v":37},{"$f":"C266","v":"2019-09-14"},"2019-09-14",null,null,{"$f":"(E266-D266)*24","v":0},null,{"$f":"F266-G266","v":0},null,null,"za",{"$f":"SUM(H266:J266)","v":0},"","Week",null,"OV WEEK","OV DAG","Recup -","Recup +","OV 50%"]
[37,"2019-09-15","2019-09-15",null,null,0,null,0,null,null,"zo",0,"",{"$f":"SUM(L261:L267)","v":0},{"$f":"SUM(H261:H267)","v":0},{"$f":"IF(N267>38,N267-38,0)","v":0},{"$f":"SUM(M261:M267)","v":0},{"$f":"SUM(I261:I267)","v":0},{"$f":"IF(N267>38,N267-38,0)","v":0},{"$f":"IF(P267>Q267,P267,Q267)","v":0}]
[38,"2019-09-16","2019-09-16",null,null,0,{"$f":"IF(F268>=6,0.5,0)","v":0},0,null,null,null,0,""]
[38,"2019-09-17","2019-09-17",null,null,0,0,0,null,null,null,0,""]
[38,"2019-09-18","2019-09-18",null,null,0,0,0,null,null,null,0,""]
[38,"2019-09-19","2019-09-19",null,null,0,0,0,null,null,null,0,""]
[38,"2019-09-20","2019-09-20",null,null,0,0,0,null,null,null,0,""]
[38,"2019-09-21","2019-09-21",null,null,0,null,0,null,null,"za",0,"","Week",null,"OV WEEK","OV DAG","Recup -","Recup +","OV 50%"]
[38,"2019-09-22","2019-09-22",null,null,0,null,0,null,null,"zo",0,"",{"$f":"SUM(L268:L274)","v":0},{"$f":"SUM(H268:H274)","v":0},{"$f":"IF(N274>38,N274-38,0)","v":0},{"$f":"SUM(M268:M274)","v":0},{"$f":"SUM(I268:I274)","v":0},{"$f":"IF(N274>38,N274-38,0)","v":0},{"$f":"IF(P274>Q274,P274,Q274)","v":0}]
[39,"2019-09-23","2019-09-23",null,null,0,0,0,null,null,null,0,""]
[39,"2019-09-24","2019-09-24",null,null,0,0,0,null,null,null,0,""]
[39,"2019-09-25","2019-09-25",null,null,0,0,0,null,null,null,0,""]
[39,"2019-09-26","2019-09-26",null,null,0,0,0,null,null,null,0,""]
[39,"2019-09-27","2019-09-27",null,null,0,0,0,null,null,null,0,""]
[39,"2019-09-28","2019-09-28",null,null,0,null,0,null,null,"za",0,"","Week",null,"OV WEEK","OV DAG","Recup -","Recup +","OV 50%"]
[39,"2019-09-29","2019-09-29",null,null,0,null,0,null,null,"zo",0,"",{"$f":"SUM(L275:L281)","v":0},{"$f":"SUM(H275:H281)","v":0},{"$f":"IF(N281>38,N281-38,0)","v":0},{"$f":"SUM(M275:M281)","v":0},{"$f":"SUM(I275:I281)","v":0},{"$f":"IF(N281>38,N281-38,0)","v":0},{"$f":"IF(P281>Q281,P281,Q281)","v":0}]
[40,"2019-09-30","2019-09-30",null,null,0,0,0,null,null,null,0,""]
[40,"2019-10-01","2019-10-01",null,null,0,0,0,null,null,null,0,""]
[40,"2019-10-02","2019-10-02",null,null,0,0,0,null,null,null,0,""]
[40,"2019-10-03","2019-10-03",null,null,0,0,0,null,null,null,0,""]
[40,"2019-10-04","2019-10-04",null,null,0,0,0,null,null,null,0,""]
[40,"2019-10-05","2019-10-05",null,null,0,null,0,null,null,"za",0,"","Week",null,"OV WEEK","OV DAG","Recup -","Recup +","OV 50%"]
[40,"2019-10-06","2019-10-06",null,null,0,null,0,null,null,"zo",0,"",{"$f":"SUM(L282:L288)","v":0},{"$f":"SUM(H282:H288)","v":0},{"$f":"IF(N288>38,N288-38,0)","v":0},{"$f":"SUM(M282:M288)","v":0},{"$f":"SUM(I282:I288)","v":0},{"$f":"IF(N288>38,N288-38,0)","v":0},{"$f":"IF(P288>Q288,P288,Q288)","v":0}]
[41,"2019-10-07","2019-10-07",null,null,0,0,0,null,null,null,0,""]
[41,"2019-10-08","2019-10-08",null,null,0,0,0,null,null,null,0,""]
[41,"2019-10-09","2019-10-09",null,null,0,0,0,null,null,null,0,""]
[41,"2019-10-10","2019-10-10",null,null,0,0,0,null,null,null,0,""]
[41,"2019-10-11","2019-10-11",null,null,0,0,0,null,null,null,0,""]
[41,"2019-10-12","2019-10-12",null,null,0,null,0,null,null,"za",0,"","Week",null,"OV WEEK","OV DAG","Recup -","Recup +","OV 50%"]
[41,"2019-10-13","2019-10-13",null,null,0,null,0,null,null,"zo",0,"",{"$f":"SUM(L289:L295)","v":0},{"$f":"SUM(H289:H295)","v":0},{"$f":"IF(N295>38,N295-38,0)","v":0},{"$f":"SUM(M289:M295)","v":0},{"$f":"SUM(I289:I295)","v":0},{"$f":"IF(N295>38,N295-38,0)","v":0},{"$f":"IF(P295>Q295,P295,Q295)","v":0}]
[42,"2019-10-14","2019-10-14",null,null,0,0,0,null,null,null,0,""]
[42,"2019-10-15","2019-10-15",null,null,0,0,0,null,null,null,0,""]
[42,"2019-10-16","2019-10-16",null,null,0,0,0,null,null,null,0,""]
[42,"2019-10-17","2019-10-17",null,null,0,0,0,null,null,null,0,""]
[42,"2019-10-18","2019-10-18",null,null,0,0,0,null,null,null,0,""]
[42,"2019-10-19","2019-10-19",null,null,0,null,0,null,null,"za",0,"","Week",null,"OV WEEK","OV DAG","Recup -","Recup +","OV 50%"]
[42,"2019-10-20","2019-10-20",null,null,0,null,0,null,null,"zo",0,"",{"$f":"SUM(L296:L302)","v":0},{"$f":"SUM(H296:H302)","v":0},{"$f":"IF(N302>38,N302-38,0)","v":0},{"$f":"SUM(M296:M302)","v":0},{"$f":"SUM(I296:I302)","v":0},{"$f":"IF(N302>38,N302-38,0)","v":0},{"$f":"IF(P302>Q302,P302,Q302)","v":0}]
[43,"2019-10-21","2019-10-21",null,null,0,0,0,null,null,null,0,""]
[43,"2019-10-22","2019-10-22",null,null,0,0,0,null,null,null,0,""]
[43,"2019-10-23","2019-10-23",null,null,0,0,0,null,null,null,0,""]
[43,"2019-10-24","2019-10-24",null,null,0,0,0,null,null,null,0,""]
[43,"2019-10-25","2019-10-25",null,null,0,0,0,null,null,null,0,""]
[43,"2019-10-26","2019-10-26",null,null,0,null,0,null,null,"za",0,"","Week",null,"OV WEEK","OV DAG","Recup -","Recup +","OV 50%"]
[43,"2019-10-27","2019-10-27",null,null,0,null,0,null,null,"zo",0,"",{"$f":"SUM(L303:L309)","v":0},{"$f":"SUM(H303:H309)","v":0},{"$f":"IF(N309>38,N309-38,0)","v":0},{"$f":"SUM(M303:M309)","v":0},{"$f":"SUM(I303:I309)","v":0},{"$f":"IF(N309>38,N309-38,0)","v":0},{"$f":"IF(P309>Q309,P309,Q309)","v":0}]
[44,"2019-10-28","2019-10-28",null,null,0,0,0,null,null,null,0,""]
[44,"2019-10-29","2019-10-29",null,null,0,0,0,null,null,null,0,""]
[44,"2019-10-30","2019-10-30",null,null,0,0,0,null,null,null,0,""]
[44,"2019-10-31","2019-10-31",null,null,0,0,0,null,null,null,0,""]
[44,"2019-11-01","2019-11-01",null,null,0,0,0,null,7.6,"fd",7.6,""]
[44,"2019-11-02","2019-11-02",null,null,0,null,0,null,null,"za",0,"","Week",null,"OV WEEK","OV DAG","Recup -","Recup +","OV 50%"]
[44,"2019-11-03","2019-11-03",null,null,0,null,0,null,null,"zo",0,"",{"$f":"SUM(L310:L316)","v":7.6},{"$f":"SUM(H310:H316)","v":0},{"$f":"IF(N316>38,N316-38,0)","v":0},{"$f":"SUM(M310:M316)","v":0},{"$f":"SUM(I310:I316)","v":0},{"$f":"IF(N316>38,N316-38,0)","v":0},{"$f":"IF(P316>Q316,P316,Q316)","v":0}]
[45,"2019-11-04","2019-11-04",null,null,0,0,0,null,null,null,0,""]
[45,"2019-11-05","2019-11-05",null,null,0,0,0,null,null,null,0,""]
[45,"2019-11-06","2019-11-06",null,null,0,0,0,null,null,null,0,""]
[45,"2019-11-07","2019-11-07",null,null,0,0,0,null,null,null,0,""]
[45,"2019-11-08","2019-11-08",null,null,0,0,0,null,null,null,0,""]
[45,"2019-11-09","2019-11-09",null,null,0,null,0,null,null,"za",0,"","Week",null,"OV WEEK","OV DAG","Recup -","Recup +","OV 50%"]
[45,"2019-11-10","2019-11-10",null,null,0,null,0,null,null,"zo",0,"",{"$f":"SUM(L317:L323)","v":0},{"$f":"SUM(H317:H323)","v":0},{"$f":"IF(N323>38,N323-38,0)","v":0},{"$f":"SUM(M317:M323)","v":0},{"$f":"SUM(I317:I323)","v":0},{"$f":"IF(N323>38,N323-38,0)","v":0},{"$f":"IF(P323>Q323,P323,Q323)","v":0}]
[46,"2019-11-11","2019-11-11",null,null,0,0,0,null,7.6,"fd",7.6,""]
[46,"2019-11-12","2019-11-12",null,null,0,0,0,null,null,null,0,""]
[46,"2019-11-13","2019-11-13",null,null,0,0,0,null,null,null,0,""]
[46,"2019-11-14","2019-11-14",null,null,0,0,0,null,null,null,0,""]
[46,"2019-11-15","2019-11-15",null,null,0,0,0,null,null,null,0,""]
[46,"2019-11-16","2019-11-16",null,null,0,null,0,null,null,"za",0,{"$f":"IF(L329>9,L329-9,\"\")","v":""},"Week",null,"OV WEEK","OV DAG","Recup -","Recup +","OV 50%"]
[{"$f":"WEEKNUM(C330,21)","v":46},{"$f":"C330","v":"2019-11-17"},"2019-11-17",null,null,{"$f":"(E330-D330)*24","v":0},null,{"$f":"F330-G330","v":0},null,null,"zo",{"$f":"SUM(H330:J330)","v":0},"",{"$f":"SUM(L324:L330)","v":7.6},{"$f":"SUM(H324:H330)","v":0},{"$f":"IF(N330>38,N330-38,0)","v":0},{"$f":"SUM(M324:M330)","v":0},{"$f":"SUM(I324:I330)","v":0},{"$f":"IF(N330>38,N330-38,0)","v":0},{"$f":"IF(P330>Q330,P330,Q330)","v":0}]
[47,"2019-11-18","2019-11-18",null,null,0,{"$f":"IF(F331>=6,0.5,0)","v":0},0,null,null,null,0,""]
[47,"2019-11-19","2019-11-19",null,null,0,0,0,null,null,null,0,""]
[47,"2019-11-20","2019-11-20",null,null,0,0,0,null,null,null,0,""]
[47,"2019-11-21","2019-11-21",null,null,0,0,0,null,null,null,0,""]
[47,"2019-11-22","2019-11-22",null,null,0,0,0,null,null,null,0,""]
[47,"2019-11-23","2019-11-23",null,null,0,null,0,null,null,"za",0,"","Week",null,"OV WEEK","OV DAG","Recup -","Recup +","OV 50%"]
[47,"2019-11-24","2019-11-24",null,null,0,null,0,null,null,"zo",0,"",{"$f":"SUM(L331:L337)","v":0},{"$f":"SUM(H331:H337)","v":0},{"$f":"IF(N337>38,N337-38,0)","v":0},{"$f":"SUM(M331:M337)","v":0},{"$f":"SUM(I331:I337)","v":0},{"$f":"IF(N337>38,N337-38,0)","v":0},{"$f":"IF(P337>Q337,P337,Q337)","v":0}]
[48,"2019-11-25","2019-11-25",null,null,0,0,0,null,null,null,0,""]
[48,"2019-11-26","2019-11-26",null,null,0,0,0,null,null,null,0,""]
[48,"2019-11-27","2019-11-27",null,null,0,0,0,null,null,null,0,""]
[48,"2019-11-28","2019-11-28",null,null,0,0,0,null,null,null,0,""]
[48,"2019-11-29","2019-11-29",null,null,0,0,0,null,null,null,0,""]
[48,"2019-11-30","2019-11-30",null,null,0,null,0,null,null,"za",0,"","Week",null,"OV WEEK","OV DAG","Recup -","Recup +","OV 50%"]
[48,"2019-12-01","2019-12-01",null,null,0,null,0,null,null,"zo",0,"",{"$f":"SUM(L338:L344)","v":0},{"$f":"SUM(H338:H344)","v":0},{"$f":"IF(N344>38,N344-38,0)","v":0},{"$f":"SUM(M338:M344)","v":0},{"$f":"SUM(I338:I344)","v":0},{"$f":"IF(N344>38,N344-38,0)","v":0},{"$f":"IF(P344>Q344,P344,Q344)","v":0}]
[49,"2019-12-02","2019-12-02",null,null,0,0,0,null,null,null,0,""]
[49,"2019-12-03","2019-12-03",null,null,0,0,0,null,null,null,0,""]
[49,"2019-12-04","2019-12-04",null,null,0,0,0,null,null,null,0,""]
[49,"2019-12-05","2019-12-05",null,null,0,0,0,null,null,null,0,""]
[49,"2019-12-06","2019-12-06",null,null,0,0,0,null,null,null,0,""]
[49,"2019-12-07","2019-12-07",null,null,0,null,0,null,null,"za",0,"","Week",null,"OV WEEK","OV DAG","Recup -","Recup +","OV 50%"]
[49,"2019-12-08","2019-12-08",null,null,0,null,0,null,null,"zo",0,"",{"$f":"SUM(L345:L351)","v":0},{"$f":"SUM(H345:H351)","v":0},{"$f":"IF(N351>38,N351-38,0)","v":0},{"$f":"SUM(M345:M351)","v":0},{"$f":"SUM(I345:I351)","v":0},{"$f":"IF(N351>38,N351-38,0)","v":0},{"$f":"IF(P351>Q351,P351,Q351)","v":0}]
[50,"2019-12-09","2019-12-09",null,null,0,0,0,null,null,null,0,""]
[50,"2019-12-10","2019-12-10",null,null,0,0,0,null,null,null,0,""]
[50,"2019-12-11","2019-12-11",null,null,0,0,0,null,null,null,0,""]
[50,"2019-12-12","2019-12-12",null,null,0,0,0,null,null,null,0,""]
[50,"2019-12-13","2019-12-13",null,null,0,0,0,null,null,null,0,""]
[50,"2019-12-14","2019-12-14",null,null,0,null,0,null,null,"za",0,"","Week",null,"OV WEEK","OV DAG","Recup -","Recup +","OV 50%"]
[50,"2019-12-15","2019-12-15",null,null,0,null,0,null,null,"zo",0,"",{"$f":"SUM(L352:L358)","v":0},{"$f":"SUM(H352:H358)","v":0},{"$f":"IF(N358>38,N358-38,0)","v":0},{"$f":"SUM(M352:M358)","v":0},{"$f":"SUM(I352:I358)","v":0},{"$f":"IF(N358>38,N358-38,0)","v":0},{"$f":"IF(P358>Q358,P358,Q358)","v":0}]
[51,"2019-12-16","2019-12-16",null,null,0,0,0,null,null,null,0,""]
[51,"2019-12-17","2019-12-17",null,null,0,0,0,null,null,null,0,""]
[51,"2019-12-18","2019-12-18",null,null,0,0,0,null,null,null,0,""]
[51,"2019-12-19","2019-12-19",null,null,0,0,0,null,null,null,0,""]
[51,"2019-12-20","2019-12-20",null,null,0,0,0,null,null,null,0,""]
[51,"2019-12-21","2019-12-21",null,null,0,null,0,null,null,"za",0,"","Week",null,"OV WEEK","OV DAG","Recup -","Recup +","OV 50%"]
[51,"2019-12-22","2019-12-22",null,null,0,null,0,null,null,"zo",0,"",{"$f":"SUM(L359:L365)","v":0},{"$f":"SUM(H359:H365)","v":0},{"$f":"IF(N365>38,N365-38,0)","v":0},{"$f":"SUM(M359:M365)","v":0},{"$f":"SUM(I359:I365)","v":0},{"$f":"IF(N365>38,N365-38,0)","v":0},{"$f":"IF(P365>Q365,P365,Q365)","v":0}]
[52,"2019-12-23","2019-12-23",null,null,0,0,0,null,null,null,0,""]
[52,"2019-12-24","2019-12-24",null,null,0,0,0,null,null,null,0,""]
[52,"2019-12-25","2019-12-25",null,null,0,0,0,null,7.6,"fd",7.6,""]
[52,"2019-12-26","2019-12-26",null,null,0,0,0,null,null,null,0,""]
[52,"2019-12-27","2019-12-27",null,null,0,0,0,null,null,null,0,""]
[52,"2019-12-28","2019-12-28",null,null,0,null,0,null,null,"za",0,"","Week",null,"OV WEEK","OV DAG","Recup -","Recup +","OV 50%"]
[52,"2019-12-29","2019-12-29",null,null,0,null,0,null,null,"zo",0,"",{"$f":"SUM(L366:L372)","v":7.6},{"$f":"SUM(H366:H372)","v":0},{"$f":"IF(N372>38,N372-38,0)","v":0},{"$f":"SUM(M366:M372)","v":0},{"$f":"SUM(I366:I372)","v":0},{"$f":"IF(N372>38,N372-38,0)","v":0},{"$f":"IF(P372>Q372,P372,Q372)","v":0}]
[1,"2019-12-30","2019-12-30",null,null,0,0,0,null,null,null,0,""]
[1,"2019-12-31","2019-12-31",null,null,0,0,0,null,null,null,0,""]
[1,"2020-01-01","2020-01-01",null,null,0,0,0,null,7.6,"fd",7.6,""]
[1,"2020-01-02","2020-01-02",null,null,0,0,0,null,null,null,0,""]
[1,"2020-01-03","2020-01-03",null,null,0,0,0,null,null,null,0,""]
[1,"2020-01-04","2020-01-04",null,null,0,null,0,null,null,"za",0,"","Week",null,"OV WEEK","OV DAG","Recup -","Recup +","OV 50%"]
[1,"2020-01-05","2020-01-05",null,null,0,null,0,null,null,"zo",0,"",{"$f":"SUM(L373:L379)","v":7.6},{"$f":"SUM(H373:H379)","v":0},{"$f":"IF(N379>38,N379-38,0)","v":0},{"$f":"SUM(M373:M379)","v":0},{"$f":"SUM(I373:I379)","v":0},{"$f":"IF(N379>38,N379-38,0)","v":0},{"$f":"IF(P379>Q379,P379,Q379)","v":0}]

{"sheet":"82","index":15,"n_rows":379,"n_cols":35,"rows_kept":379,"cut":false,"hidden":false,"merged":[[6,21,6,24],[6,25,6,28],[6,29,6,32],[6,33,6,34],[4,21,4,23],[4,25,4,28],[4,29,4,32],[4,33,4,34],[5,21,5,23],[5,25,5,28],[5,29,5,32],[5,33,5,34],[2,21,2,23],[2,25,2,28],[2,29,2,32],[2,33,2,34],[3,21,3,23],[3,25,3,28],[3,29,3,32],[3,33,3,34],[0,1,1,12],[0,21,0,24],[0,25,0,28],[0,29,0,32],[0,33,0,34],[1,21,1,23],[1,25,1,28],[1,29,1,32],[1,33,1,34]]}
["82","Vedda Angelo Jean- Louis",null,null,null,null,null,null,null,null,null,null,null,null,null,null,null,null,null,null,null,"Soort",null,null,null,"Recht op",null,null,null,"Opgenomen",null,null,null,"Saldo"]
[null,null,null,null,null,null,null,null,null,null,null,null,null,null,null,null,null,null,null,null,null,"ADV-dagen",null,null,"adv",null,null,null,null,{"$f":"(COUNTIF(W$9:AH$39,\"ADV\")+(COUNTIF(W$9:AH$39,\"0,5ADV\"))/2)","v":0},null,null,null,{"$f":"Z2-AD2","v":0}]
[null,null,null,null,null,null,null,null,null,null,null,null,null,null,null,null,null,null,null,null,null,"Vakantie 2019",null,null,"v",null,null,null,null,{"$f":"(COUNTIF(W$9:AH$39,\"V\")+(COUNTIF(W$9:AH$39,\"0,5V\"))/2)","v":0},null,null,null,{"$f":"Z3-AD3","v":0}]
["Opgelet avondwerk ! Van 00:00u tot 00:00u / + 0,00u premie 50%",null,null,null,null,null,null,null,null,null,null,null,null,"Feestdag in weekend 2019",null,null,null,null,"Recup 2018",0,null,"Feestdag 2019",null,null,"f",1,null,null,null,{"$f":"(COUNTIF(W$9:AH$39,\"F\")+(COUNTIF(W$9:AH$39,\"0,5F\"))/2)","v":0},null,null,null,1]
[null,null,null,null,null,null,null,null,null,null,null,null,null,"- nationale feestdag 21/7",null,null,null,null,null,null,null,"Vakantie rest 2018",null,null,"vvj",1,null,null,null,{"$f":"(COUNTIF(W$9:AH$39,\"vvj\")+(COUNTIF(W$9:AH$39,\"0,5vvj\"))/2)","v":1},null,null,null,0]
[null,null,null,null,null,null,null,null,null,null,null,null,null,null,null,null,null,null,"Recup",{"$f":"SUM(S9:S379)-SUM(R9:R379)+T5+T4","v":0},null,"Anciënniteitsdagen",null,null,"a ",null,null,null,null,{"$f":"(COUNTIF(W$9:AH$39,\"A\")+(COUNTIF(W$9:AH$39,\"0,5A\"))/2)","v":0},null,null,null,0]
[null,null,null,null,null,null,null,null,null,null,null,null,null,null,null,null,null,null,null,null,null,"TOTAAL",null,null,null,{"$f":"SUM(Z2:AC6)","v":2},null,null,null,{"$f":"SUM(AD2:AG6)","v":1},null,null,null,{"$f":"SUM(AH2:AI6)","v":1}]
["W","Dag","Datum","Van ","Tot",null,"Pauze","Prestaties","Recup","Andere","Type","Dag","OV DAG","Week","Prestaties","OV WEEK","OV DAG","Rec. -","Rec. +","OV 50%","M",null,"Jan","Feb","Maa","Apr","Mei","Jun","Jul","Aug","Sept","Okt","Nov","Dec"]
[{"$f":"WEEKNUM(C9,21)","v":1},{"$f":"C9","v":"2018-12-31"},"2018-12-31","08:45:00","13:30:00",{"$f":"(E9-D9)*24","v":4.75},{"$f":"IF(F9>=6,0.5,0)","v":0},{"$f":"F9-G9","v":4.75},null,null,null,{"$f":"SUM(H9:J9)","v":4.75},{"$f":"IF(L9>9,L9-9,\"\")","v":""},"HB 31/12: gewerkt",null,null,null,null,null,null,null,1,{"$f":"K9","v":0},{"$f":"K40","v":0},{"$f":"K68","v":0},{"$f":"K99","v":"zo"},{"$f":"K129","v":0},{"$f":"K160","v":0},{"$f":"K190","v":"zo"},{"$f":"K221","v":0},{"$f":"K252","v":"za"},{"$f":"K282","v":0},{"$f":"K313","v":0},{"$f":"K343","v":"za"},1]
[{"$f":"WEEKNUM(C10,21)","v":1},{"$f":"C10","v":"2019-01-01"},"2019-01-01",null,null,{"$f":"(E10-D10)*24","v":0},{"$f":"IF(F10>=6,0.5,0)","v":0},{"$f":"F10-G10","v":0},null,7.6,"fd",{"$f":"SUM(H10:J10)","v":7.6},"",null,null,null,null,null,null,null,null,2,{"$f":"K10","v":"fd"},{"$f":"K41","v":0},{"$f":"K69","v":0},{"$f":"K100","v":0},{"$f":"K130","v":"fd"},{"$f":"K161","v":"za"},{"$f":"K191","v":0},{"$f":"K222","v":0},{"$f":"K253","v":"zo"},{"$f":"K283","v":0},{"$f":"K314","v":"fd"},{"$f":"K344","v":"zo"},2]
[1,"2019-01-02","2019-01-02",null,null,0,0,0,null,7.6,"vvj",7.6,"","ET 20/12: Verlof goedgekeurd CB. VVJ 2018",null,null,null,null,null,null,null,3,"vvj","za","za",0,0,"zo",0,0,0,0,"za",0,3]
[1,"2019-01-03","2019-01-03","08:30:00","16:45:00",8.2499999999999982,0.5,7.7499999999999982,null,null,null,7.7499999999999982,"",null,null,null,null,null,null,null,null,4,0,"zo","zo",0,0,0,0,"za",0,0,"zo",0,4]
[1,"2019-01-04","2019-01-04","08:00:00","16:00:00",8,0.5,7.5,null,null,null,7.5,"",null,null,null,null,null,null,null,null,5,0,0,0,0,"za",0,0,"zo",0,0,0,{"$f":"K347","v":0},5]
[1,"2019-01-05","2019-01-05",null,null,0,null,0,null,null,"za",0,"","Week",null,"OV WEEK","OV DAG","Recup -","Recup +","OV 50%",null,6,"za",0,0,0,"zo",0,0,0,0,"za",0,0,6]
[1,"2019-01-06","2019-01-06",null,null,0,null,0,null,null,"zo",0,"",{"$f":"SUM(L9:L15)","v":35.199999999999996},{"$f":"SUM(H9:H15)","v":20},{"$f":"IF(N15>38,N15-38,0)","v":0},{"$f":"SUM(M9:M15)","v":0},{"$f":"SUM(I9:I15)","v":0},{"$f":"IF(N15>38,N15-38,0)","v":0},{"$f":"IF(P15>Q15,P15,Q15)","v":0},null,7,"zo",0,0,"za",0,0,"za",0,0,"zo",0,0,7]
[2,"2019-01-07","2019-01-07",null,null,0,0,0,null,null,null,0,"",null,null,null,null,null,null,null,null,8,0,0,0,"zo",0,0,"zo",0,"za",0,0,"za",8]
[2,"2019-01-08","2019-01-08",null,null,0,0,0,null,null,null,0,"",null,null,null,null,null,null,null,null,9,0,0,0,0,0,"za",0,0,"zo",0,0,"zo",9]
[2,"2019-01-09","2019-01-09",null,null,0,0,0,null,null,null,0,"",null,null,null,null,null,null,null,null,10,0,"za","za",0,0,"zo",0,0,0,0,"za",0,10]
[2,"2019-01-10","2019-01-10",null,null,0,0,0,null,null,null,0,"",null,null,null,null,null,null,null,null,11,0,"zo","zo",0,0,"fd",0,"za",0,0,"zo",0,11]
[2,"2019-01-11","2019-01-11",null,null,0,0,0,null,null,null,0,"",null,null,null,null,null,null,null,null,12,0,0,0,0,"za",0,0,"zo",0,0,"fd",0,12]
[2,"2019-01-12","2019-01-12",null,null,0,null,0,null,null,"za",0,"","Week",null,"OV WEEK","OV DAG","Recup -","Recup +","OV 50%",null,13,"za",0,0,0,"zo",0,0,0,0,"za",0,0,13]
[2,"2019-01-13","2019-01-13",null,null,0,null,0,null,null,"zo",0,"",{"$f":"SUM(L16:L22)","v":0},{"$f":"SUM(H16:H22)","v":0},{"$f":"IF(N22>38,N22-38,0)","v":0},{"$f":"SUM(M16:M22)","v":0},{"$f":"SUM(I16:I22)","v":0},{"$f":"IF(N22>38,N22-38,0)","v":0},{"$f":"IF(P22>Q22,P22,Q22)","v":0},null,14,"zo",0,0,"za",0,0,"za",0,0,"zo",0,0,14]
[3,"2019-01-14","2019-01-14",null,null,0,0,0,null,null,null,0,"",null,null,null,null,null,null,null,null,15,0,0,0,"zo",0,0,"zo",0,"za",0,0,"za",15]
[3,"2019-01-15","2019-01-15",null,null,0,0,0,null,null,null,0,"",null,null,null,null,null,null,null,null,16,0,0,0,0,0,"za",0,"fd","zo",0,0,"zo",16]
[3,"2019-01-16","2019-01-16",null,null,0,0,0,null,null,null,0,"",null,null,null,null,null,null,null,null,17,0,"za","za",0,0,"zo",0,0,0,0,"za",0,17]
[3,"2019-01-17","2019-01-17",null,null,0,0,0,null,null,null,0,"",null,null,null,null,null,null,null,null,18,0,"zo","zo",0,0,0,0,"za",0,0,"zo",0,18]
[3,"2019-01-18","2019-01-18",null,null,0,0,0,null,null,null,0,"",null,null,null,null,null,null,null,null,19,0,0,0,0,"za",0,0,"zo",0,0,0,0,19]
[3,"2019-01-19","2019-01-19",null,null,0,null,0,null,null,"za",0,"","Week",null,"OV WEEK","OV DAG","Recup -","Recup +","OV 50%",null,20,"za",0,0,0,"zo",0,0,0,0,"za",0,{"$f":"K362","v":0},20]
[3,"2019-01-20","2019-01-20",null,null,0,null,0,null,null,"zo",0,"",{"$f":"SUM(L23:L29)","v":0},{"$f":"SUM(H23:H29)","v":0},{"$f":"IF(N29>38,N29-38,0)","v":0},{"$f":"SUM(M23:M29)","v":0},{"$f":"SUM(I23:I29)","v":0},{"$f":"IF(N29>38,N29-38,0)","v":0},{"$f":"IF(P29>Q29,P29,Q29)","v":0},null,21,"zo",0,0,"za","fd",0,"za",0,0,"zo",0,0,21]
[4,"2019-01-21","2019-01-21",null,null,0,0,0,null,null,null,0,"",null,null,null,null,null,null,null,null,22,0,0,0,"zo",0,0,"zo",0,"za",0,0,"za",22]
[4,"2019-01-22","2019-01-22",null,null,0,0,0,null,null,null,0,"",null,null,null,null,null,null,null,null,23,0,0,0,"fd",0,"za",0,0,"zo",0,0,"zo",23]
[4,"2019-01-23","2019-01-23",null,null,0,0,0,null,null,null,0,"",null,null,null,null,null,null,null,null,24,0,"za","za",0,0,"zo",0,0,0,0,"za",0,24]
[4,"2019-01-24","2019-01-24",null,null,0,0,0,null,null,null,0,"",null,null,null,null,null,null,null,null,25,0,"zo","zo",0,0,0,0,"za",0,0,"zo",0,25]
[4,"2019-01-25","2019-01-25",null,null,0,0,0,null,null,null,0,"",null,null,null,null,null,null,null,null,26,0,0,0,0,"za",0,0,"zo",0,0,0,"fd",26]
[4,"2019-01-26","2019-01-26",null,null,0,null,0,null,null,"za",0,"","Week",null,"OV WEEK","OV DAG","Recup -","Recup +","OV 50%",null,27,"za",0,0,0,"zo",0,0,0,0,"za",0,0,27]
[4,"2019-01-27","2019-01-27",null,null,0,null,0,null,null,"zo",0,"",{"$f":"SUM(L30:L36)","v":0},{"$f":"SUM(H30:H36)","v":0},{"$f":"IF(N36>38,N36-38,0)","v":0},{"$f":"SUM(M30:M36)","v":0},{"$f":"SUM(I30:I36)","v":0},{"$f":"IF(N36>38,N36-38,0)","v":0},{"$f":"IF(P36>Q36,P36,Q36)","v":0},null,28,"zo",0,0,"za",0,0,"za",0,0,"zo",0,0,28]
[5,"2019-01-28","2019-01-28",null,null,0,0,0,null,null,null,0,"",null,null,null,null,null,null,null,null,29,0,null,0,"zo",0,0,"zo",0,"za",0,0,"za",29]
[5,"2019-01-29","2019-01-29",null,null,0,0,0,null,null,null,0,"",null,null,null,null,null,null,null,null,30,0,null,0,0,0,"za",0,0,"zo",0,0,"zo",30]
[5,"2019-01-30","2019-01-30",null,null,0,0,0,null,null,null,0,"",null,null,null,null,null,null,null,null,31,0,null,"za",null,"fd",null,0,0,null,0,null,0,31]
[5,"2019-01-31","2019-01-31",null,null,0,0,0,null,null,null,0,"",null,null,null,null,null,null,null,null,"WD",23,20,21,22,23,20,23,22,21,23,21,22,{"$f":"SUM(W40:AH40)","v":261}]
[5,"2019-02-01","2019-02-01",null,null,0,0,0,null,null,null,0,""]
[5,"2019-02-02","2019-02-02",null,null,0,null,0,null,null,"za",0,"","Week",null,"OV WEEK","OV DAG","Recup -","Recup +","OV 50%"]
[5,"2019-02-03","2019-02-03",null,null,0,null,0,null,null,"zo",0,"",{"$f":"SUM(L37:L43)","v":0},{"$f":"SUM(H37:H43)","v":0},{"$f":"IF(N43>38,N43-38,0)","v":0},{"$f":"SUM(M37:M43)","v":0},{"$f":"SUM(I37:I43)","v":0},{"$f":"IF(N43>38,N43-38,0)","v":0},{"$f":"IF(P43>Q43,P43,Q43)","v":0}]
[6,"2019-02-04","2019-02-04",null,null,0,0,0,null,null,null,0,""]
[6,"2019-02-05","2019-02-05",null,null,0,0,0,null,null,null,0,""]
[6,"2019-02-06","2019-02-06",null,null,0,0,0,null,null,null,0,""]
[6,"2019-02-07","2019-02-07",null,null,0,0,0,null,null,null,0,""]
[6,"2019-02-08","2019-02-08",null,null,0,0,0,null,null,null,0,""]
[6,"2019-02-09","2019-02-09",null,null,0,null,0,null,null,"za",0,"","Week",null,"OV WEEK","OV DAG","Recup -","Recup +","OV 50%"]
[6,"2019-02-10","2019-02-10",null,null,0,null,0,null,null,"zo",0,"",{"$f":"SUM(L44:L50)","v":0},{"$f":"SUM(H44:H50)","v":0},{"$f":"IF(N50>38,N50-38,0)","v":0},{"$f":"SUM(M44:M50)","v":0},{"$f":"SUM(I44:I50)","v":0},{"$f":"IF(N50>38,N50-38,0)","v":0},{"$f":"IF(P50>Q50,P50,Q50)","v":0}]
[7,"2019-02-11","2019-02-11",null,null,0,0,0,null,null,null,0,""]
[7,"2019-02-12","2019-02-12",null,null,0,0,0,null,null,null,0,""]
[7,"2019-02-13","2019-02-13",null,null,0,0,0,null,null,null,0,""]
[7,"2019-02-14","2019-02-14",null,null,0,0,0,null,null,null,0,""]
[7,"2019-02-15","2019-02-15",null,null,0,0,0,null,null,null,0,""]
[7,"2019-02-16","2019-02-16",null,null,0,null,0,null,null,"za",0,"","Week",null,"OV WEEK","OV DAG","Recup -","Recup +","OV 50%"]
[7,"2019-02-17","2019-02-17",null,null,0,null,0,null,null,"zo",0,"",{"$f":"SUM(L51:L57)","v":0},{"$f":"SUM(H51:H57)","v":0},{"$f":"IF(N57>38,N57-38,0)","v":0},{"$f":"SUM(M51:M57)","v":0},{"$f":"SUM(I51:I57)","v":0},{"$f":"IF(N57>38,N57-38,0)","v":0},{"$f":"IF(P57>Q57,P57,Q57)","v":0}]
[8,"2019-02-18","2019-02-18",null,null,0,0,0,null,null,null,0,""]
[8,"2019-02-19","2019-02-19",null,null,0,0,0,null,null,null,0,""]
[8,"2019-02-20","2019-02-20",null,null,0,0,0,null,null,null,0,""]
[8,"2019-02-21","2019-02-21",null,null,0,0,0,null,null,null,0,""]
[8,"2019-02-22","2019-02-22",null,null,0,0,0,null,null,null,0,""]
[8,"2019-02-23","2019-02-23",null,null,0,null,0,null,null,"za",0,"","Week",null,"OV WEEK","OV DAG","Recup -","Recup +","OV 50%"]
[8,"2019-02-24","2019-02-24",null,null,0,null,0,null,null,"zo",0,"",{"$f":"SUM(L58:L64)","v":0},{"$f":"SUM(H58:H64)","v":0},{"$f":"IF(N64>38,N64-38,0)","v":0},{"$f":"SUM(M58:M64)","v":0},{"$f":"SUM(I58:I64)","v":0},{"$f":"IF(N64>38,N64-38,0)","v":0},{"$f":"IF(P64>Q64,P64,Q64)","v":0}]
[9,"2019-02-25","2019-02-25",null,null,0,0,0,null,null,null,0,""]
[9,"2019-02-26","2019-02-26",null,null,0,0,0,null,null,null,0,""]
[9,"2019-02-27","2019-02-27",null,null,0,0,0,null,null,null,0,""]
[9,"2019-02-28","2019-02-28",null,null,0,0,0,null,null,null,0,""]
[9,"2019-03-01","2019-03-01",null,null,0,0,0,null,null,null,0,""]
[9,"2019-03-02","2019-03-02",null,null,0,null,0,null,null,"za",0,"","Week",null,"OV WEEK","OV DAG","Recup -","Recup +","OV 50%"]
[9,"2019-03-03","2019-03-03",null,null,0,null,0,null,null,"zo",0,"",{"$f":"SUM(L65:L71)","v":0},{"$f":"SUM(H65:H71)","v":0},{"$f":"IF(N71>38,N71-38,0)","v":0},{"$f":"SUM(M65:M71)","v":0},{"$f":"SUM(I65:I71)","v":0},{"$f":"IF(N71>38,N71-38,0)","v":0},{"$f":"IF(P71>Q71,P71,Q71)","v":0}]
[10,"2019-03-04","2019-03-04",null,null,0,0,0,null,null,null,0,""]
[10,"2019-03-05","2019-03-05",null,null,0,0,0,null,null,null,0,{"$f":"IF(L73>9,L73-9,\"\")","v":""}]
[{"$f":"WEEKNUM(C74,21)","v":10},{"$f":"C74","v":"2019-03-06"},"2019-03-06",null,null,{"$f":"(E74-D74)*24","v":0},{"$f":"IF(F74>=6,0.5,0)","v":0},{"$f":"F74-G74","v":0},null,null,null,{"$f":"SUM(H74:J74)","v":0},""]
[10,"2019-03-07","2019-03-07",null,null,0,0,0,null,null,null,0,""]
[10,"2019-03-08","2019-03-08",null,null,0,0,0,null,null,null,0,""]
[10,"2019-03-09","2019-03-09",null,null,0,null,0,null,null,"za",0,"","Week",null,"OV WEEK","OV DAG","Recup -","Recup +","OV 50%"]
[10,"2019-03-10","2019-03-10",null,null,0,null,0,null,null,"zo",0,"",{"$f":"SUM(L72:L78)","v":0},{"$f":"SUM(H72:H78)","v":0},{"$f":"IF(N78>38,N78-38,0)","v":0},{"$f":"SUM(M72:M78)","v":0},{"$f":"SUM(I72:I78)","v":0},{"$f":"IF(N78>38,N78-38,0)","v":0},{"$f":"IF(P78>Q78,P78,Q78)","v":0}]
[11,"2019-03-11","2019-03-11",null,null,0,0,0,null,null,null,0,""]
[11,"2019-03-12","2019-03-12",null,null,0,0,0,null,null,null,0,""]
[11,"2019-03-13","2019-03-13",null,null,0,0,0,null,null,null,0,""]
[11,"2019-03-14","2019-03-14",null,null,0,0,0,null,null,null,0,""]
[11,"2019-03-15","2019-03-15",null,null,0,0,0,null,null,null,0,""]
[11,"2019-03-16","2019-03-16",null,null,0,null,0,null,null,"za",0,"","Week",null,"OV WEEK","OV DAG","Recup -","Recup +","OV 50%"]
[11,"2019-03-17","2019-03-17",null,null,0,null,0,null,null,"zo",0,"",{"$f":"SUM(L79:L85)","v":0},{"$f":"SUM(H79:H85)","v":0},{"$f":"IF(N85>38,N85-38,0)","v":0},{"$f":"SUM(M79:M85)","v":0},{"$f":"SUM(I79:I85)","v":0},{"$f":"IF(N85>38,N85-38,0)","v":0},{"$f":"IF(P85>Q85,P85,Q85)","v":0}]
[12,"2019-03-18","2019-03-18",null,null,0,0,0,null,null,null,0,""]
[12,"2019-03-19","2019-03-19",null,null,0,0,0,null,null,null,0,""]
[12,"2019-03-20","2019-03-20",null,null,0,0,0,null,null,null,0,""]
[12,"2019-03-21","2019-03-21",null,null,0,0,0,null,null,null,0,""]
[12,"2019-03-22","2019-03-22",null,null,0,0,0,null,null,null,0,""]
[12,"2019-03-23","2019-03-23",null,null,0,null,0,null,null,"za",0,"","Week",null,"OV WEEK","OV DAG","Recup -","Recup +","OV 50%"]
[12,"2019-03-24","2019-03-24",null,null,0,null,0,null,null,"zo",0,"",{"$f":"SUM(L86:L92)","v":0},{"$f":"SUM(H86:H92)","v":0},{"$f":"IF(N92>38,N92-38,0)","v":0},{"$f":"SUM(M86:M92)","v":0},{"$f":"SUM(I86:I92)","v":0},{"$f":"IF(N92>38,N92-38,0)","v":0},{"$f":"IF(P92>Q92,P92,Q92)","v":0}]
[13,"2019-03-25","2019-03-25",null,null,0,0,0,null,null,null,0,""]
[13,"2019-03-26","2019-03-26",null,null,0,0,0,null,null,null,0,""]
[13,"2019-03-27","2019-03-27",null,null,0,0,0,null,null,null,0,""]
[13,"2019-03-28","2019-03-28",null,null,0,0,0,null,null,null,0,""]
[13,"2019-03-29","2019-03-29",null,null,0,0,0,null,null,null,0,""]
[13,"2019-03-30","2019-03-30",null,null,0,null,0,null,null,"za",0,"","Week",null,"OV WEEK","OV DAG","Recup -","Recup +","OV 50%"]
[13,"2019-03-31","2019-03-31",null,null,0,null,0,null,null,"zo",0,"",{"$f":"SUM(L93:L99)","v":0},{"$f":"SUM(H93:H99)","v":0},{"$f":"IF(N99>38,N99-38,0)","v":0},{"$f":"SUM(M93:M99)","v":0},{"$f":"SUM(I93:I99)","v":0},{"$f":"IF(N99>38,N99-38,0)","v":0},{"$f":"IF(P99>Q99,P99,Q99)","v":0}]
[14,"2019-04-01","2019-04-01",null,null,0,0,0,null,null,null,0,""]
[14,"2019-04-02","2019-04-02",null,null,0,0,0,null,null,null,0,""]
[14,"2019-04-03","2019-04-03",null,null,0,0,0,null,null,null,0,""]
[14,"2019-04-04","2019-04-04",null,null,0,0,0,null,null,null,0,""]
[14,"2019-04-05","2019-04-05",null,null,0,0,0,null,null,null,0,""]
[14,"2019-04-06","2019-04-06",null,null,0,null,0,null,null,"za",0,"","Week",null,"OV WEEK","OV DAG","Recup -","Recup +","OV 50%"]
[14,"2019-04-07","2019-04-07",null,null,0,null,0,null,null,"zo",0,"",{"$f":"SUM(L100:L106)","v":0},{"$f":"SUM(H100:H106)","v":0},{"$f":"IF(N106>38,N106-38,0)","v":0},{"$f":"SUM(M100:M106)","v":0},{"$f":"SUM(I100:I106)","v":0},{"$f":"IF(N106>38,N106-38,0)","v":0},{"$f":"IF(P106>Q106,P106,Q106)","v":0}]
[15,"2019-04-08","2019-04-08",null,null,0,0,0,null,null,null,0,""]
[15,"2019-04-09","2019-04-09",null,null,0,0,0,null,null,null,0,""]
[15,"2019-04-10","2019-04-10",null,null,0,0,0,null,null,null,0,""]
[15,"2019-04-11","2019-04-11",null,null,0,0,0,null,null,null,0,""]
[15,"2019-04-12","2019-04-12",null,null,0,0,0,null,null,null,0,""]
[15,"2019-04-13","2019-04-13",null,null,0,null,0,null,null,"za",0,"","Week",null,"OV WEEK","OV DAG","Recup -","Recup +","OV 50%"]
[15,"2019-04-14","2019-04-14",null,null,0,null,0,null,null,"zo",0,"",{"$f":"SUM(L107:L113)","v":0},{"$f":"SUM(H107:H113)","v":0},{"$f":"IF(N113>38,N113-38,0)","v":0},{"$f":"SUM(M107:M113)","v":0},{"$f":"SUM(I107:I113)","v":0},{"$f":"IF(N113>38,N113-38,0)","v":0},{"$f":"IF(P113>Q113,P113,Q113)","v":0}]
[16,"2019-04-15","2019-04-15",null,null,0,0,0,null,null,null,0,""]
[16,"2019-04-16","2019-04-16",null,null,0,0,0,null,null,null,0,""]
[16,"2019-04-17","2019-04-17",null,null,0,0,0,null,null,null,0,""]
[16,"2019-04-18","2019-04-18",null,null,0,0,0,null,null,null,0,""]
[16,"2019-04-19","2019-04-19",null,null,0,0,0,null,null,null,0,""]
[16,"2019-04-20","2019-04-20",null,null,0,null,0,null,null,"za",0,"","Week",null,"OV WEEK","OV DAG","Recup -","Recup +","OV 50%"]
[16,"2019-04-21","2019-04-21",null,null,0,null,0,null,null,"zo",0,"",{"$f":"SUM(L114:L120)","v":0},{"$f":"SUM(H114:H120)","v":0},{"$f":"IF(N120>38,N120-38,0)","v":0},{"$f":"SUM(M114:M120)","v":0},{"$f":"SUM(I114:I120)","v":0},{"$f":"IF(N120>38,N120-38,0)","v":0},{"$f":"IF(P120>Q120,P120,Q120)","v":0}]
[17,"2019-04-22","2019-04-22",null,null,0,0,0,null,7.6,"fd",7.6,""]
[17,"2019-04-23","2019-04-23",null,null,0,0,0,null,null,null,0,""]
[17,"2019-04-24","2019-04-24",null,null,0,0,0,null,null,null,0,""]
[17,"2019-04-25","2019-04-25",null,null,0,0,0,null,null,null,0,""]
[17,"2019-04-26","2019-04-26",null,null,0,0,0,null,null,null,0,""]
[17,"2019-04-27","2019-04-27",null,null,0,null,0,null,null,"za",0,"","Week",null,"OV WEEK","OV DAG","Recup -","Recup +","OV 50%"]
[17,"2019-04-28","2019-04-28",null,null,0,null,0,null,null,"zo",0,"",{"$f":"SUM(L121:L127)","v":7.6},{"$f":"SUM(H121:H127)","v":0},{"$f":"IF(N127>38,N127-38,0)","v":0},{"$f":"SUM(M121:M127)","v":0},{"$f":"SUM(I121:I127)","v":0},{"$f":"IF(N127>38,N127-38,0)","v":0},{"$f":"IF(P127>Q127,P127,Q127)","v":0}]
[18,"2019-04-29","2019-04-29",null,null,0,0,0,null,null,null,0,""]
[18,"2019-04-30","2019-04-30",null,null,0,0,0,null,null,null,0,""]
[18,"2019-05-01","2019-05-01",null,null,0,0,0,null,7.6,"fd",7.6,""]
[18,"2019-05-02","2019-05-02",null,null,0,0,0,null,null,null,0,""]
[18,"2019-05-03","2019-05-03",null,null,0,0,0,null,null,null,0,""]
[18,"2019-05-04","2019-05-04",null,null,0,null,0,null,null,"za",0,"","Week",null,"OV WEEK","OV DAG","Recup -","Recup +","OV 50%"]
[18,"2019-05-05","2019-05-05",null,null,0,null,0,null,null,"zo",0,"",{"$f":"SUM(L128:L134)","v":7.6},{"$f":"SUM(H128:H134)","v":0},{"$f":"IF(N134>38,N134-38,0)","v":0},{"$f":"SUM(M128:M134)","v":0},{"$f":"SUM(I128:I134)","v":0},{"$f":"IF(N134>38,N134-38,0)","v":0},{"$f":"IF(P134>Q134,P134,Q134)","v":0}]
[19,"2019-05-06","2019-05-06",null,null,0,0,0,null,null,null,0,""]
[19,"2019-05-07","2019-05-07",null,null,0,0,0,null,null,null,0,""]
[19,"2019-05-08","2019-05-08",null,null,0,0,0,null,null,null,0,{"$f":"IF(L137>9,L137-9,\"\")","v":""}]
[{"$f":"WEEKNUM(C138,21)","v":19},{"$f":"C138","v":"2019-05-09"},"2019-05-09",null,null,{"$f":"(E138-D138)*24","v":0},{"$f":"IF(F138>=6,0.5,0)","v":0},{"$f":"F138-G138","v":0},null,null,null,{"$f":"SUM(H138:J138)","v":0},""]
[19,"2019-05-10","2019-05-10",null,null,0,0,0,null,null,null,0,""]
[19,"2019-05-11","2019-05-11",null,null,0,null,0,null,null,"za",0,"","Week",null,"OV WEEK","OV DAG","Recup -","Recup +","OV 50%"]
[19,"2019-05-12","2019-05-12",null,null,0,null,0,null,null,"zo",0,"",{"$f":"SUM(L135:L141)","v":0},{"$f":"SUM(H135:H141)","v":0},{"$f":"IF(N141>38,N141-38,0)","v":0},{"$f":"SUM(M135:M141)","v":0},{"$f":"SUM(I135:I141)","v":0},{"$f":"IF(N141>38,N141-38,0)","v":0},{"$f":"IF(P141>Q141,P141,Q141)","v":0}]
[20,"2019-05-13","2019-05-13",null,null,0,0,0,null,null,null,0,""]
[20,"2019-05-14","2019-05-14",null,null,0,0,0,null,null,null,0,""]
[20,"2019-05-15","2019-05-15",null,null,0,0,0,null,null,null,0,""]
[20,"2019-05-16","2019-05-16",null,null,0,0,0,null,null,null,0,""]
[20,"2019-05-17","2019-05-17",null,null,0,0,0,null,null,null,0,""]
[20,"2019-05-18","2019-05-18",null,null,0,null,0,null,null,"za",0,"","Week",null,"OV WEEK","OV DAG","Recup -","Recup +","OV 50%"]
[20,"2019-05-19","2019-05-19",null,null,0,null,0,null,null,"zo",0,"",{"$f":"SUM(L142:L148)","v":0},{"$f":"SUM(H142:H148)","v":0},{"$f":"IF(N148>38,N148-38,0)","v":0},{"$f":"SUM(M142:M148)","v":0},{"$f":"SUM(I142:I148)","v":0},{"$f":"IF(N148>38,N148-38,0)","v":0},{"$f":"IF(P148>Q148,P148,Q148)","v":0}]
[21,"2019-05-20","2019-05-20",null,null,0,0,0,null,7.6,"fd",7.6,""]
[21,"2019-05-21","2019-05-21",null,null,0,0,0,null,null,null,0,""]
[21,"2019-05-22","2019-05-22",null,null,0,0,0,null,null,null,0,""]
[21,"2019-05-23","2019-05-23",null,null,0,0,0,null,null,null,0,""]
[21,"2019-05-24","2019-05-24",null,null,0,0,0,null,null,null,0,""]
[21,"2019-05-25","2019-05-25",null,null,0,null,0,null,null,"za",0,"","Week",null,"OV WEEK","OV DAG","Recup -","Recup +","OV 50%"]
[21,"2019-05-26","2019-05-26",null,null,0,null,0,null,null,"zo",0,"",{"$f":"SUM(L149:L155)","v":7.6},{"$f":"SUM(H149:H155)","v":0},{"$f":"IF(N155>38,N155-38,0)","v":0},{"$f":"SUM(M149:M155)","v":0},{"$f":"SUM(I149:I155)","v":0},{"$f":"IF(N155>38,N155-38,0)","v":0},{"$f":"IF(P155>Q155,P155,Q155)","v":0}]
[22,"2019-05-27","2019-05-27",null,null,0,0,0,null,null,null,0,""]
[22,"2019-05-28","2019-05-28",null,null,0,0,0,null,null,null,0,""]
[22,"2019-05-29","2019-05-29",null,null,0,0,0,null,null,null,0,""]
[22,"2019-05-30","2019-05-30",null,null,0,0,0,null,7.6,"fd",7.6,""]
[22,"2019-05-31","2019-05-31",null,null,0,0,0,null,null,null,0,""]
[22,"2019-06-01","2019-06-01",null,null,0,null,0,null,null,"za",0,"","Week",null,"OV WEEK","OV DAG","Recup -","Recup +","OV 50%"]
[22,"2019-06-02","2019-06-02",null,null,0,null,0,null,null,"zo",0,"",{"$f":"SUM(L156:L162)","v":7.6},{"$f":"SUM(H156:H162)","v":0},{"$f":"IF(N162>38,N162-38,0)","v":0},{"$f":"SUM(M156:M162)","v":0},{"$f":"SUM(I156:I162)","v":0},{"$f":"IF(N162>38,N162-38,0)","v":0},{"$f":"IF(P162>Q162,P162,Q162)","v":0}]
[23,"2019-06-03","2019-06-03",null,null,0,0,0,null,null,null,0,""]
[23,"2019-06-04","2019-06-04",null,null,0,0,0,null,null,null,0,""]
[23,"2019-06-05","2019-06-05",null,null,0,0,0,null,null,null,0,""]
[23,"2019-06-06","2019-06-06",null,null,0,0,0,null,null,null,0,""]
[23,"2019-06-07","2019-06-07",null,null,0,0,0,null,null,null,0,""]
[23,"2019-06-08","2019-06-08",null,null,0,null,0,null,null,"za",0,"","Week",null,"OV WEEK","OV DAG","Recup -","Recup +","OV 50%"]
[23,"2019-06-09","2019-06-09",null,null,0,null,0,null,null,"zo",0,"",{"$f":"SUM(L163:L169)","v":0},{"$f":"SUM(H163:H169)","v":0},{"$f":"IF(N169>38,N169-38,0)","v":0},{"$f":"SUM(M163:M169)","v":0},{"$f":"SUM(I163:I169)","v":0},{"$f":"IF(N169>38,N169-38,0)","v":0},{"$f":"IF(P169>Q169,P169,Q169)","v":0}]
[24,"2019-06-10","2019-06-10",null,null,0,0,0,null,7.6,"fd",7.6,""]
[24,"2019-06-11","2019-06-11",null,null,0,0,0,null,null,null,0,""]
[24,"2019-06-12","2019-06-12",null,null,0,0,0,null,null,null,0,""]
[24,"2019-06-13","2019-06-13",null,null,0,0,0,null,null,null,0,""]
[24,"2019-06-14","2019-06-14",null,null,0,0,0,null,null,null,0,""]
[24,"2019-06-15","2019-06-15",null,null,0,null,0,null,null,"za",0,"","Week",null,"OV WEEK","OV DAG","Recup -","Recup +","OV 50%"]
[24,"2019-06-16","2019-06-16",null,null,0,null,0,null,null,"zo",0,"",{"$f":"SUM(L170:L176)","v":7.6},{"$f":"SUM(H170:H176)","v":0},{"$f":"IF(N176>38,N176-38,0)","v":0},{"$f":"SUM(M170:M176)","v":0},{"$f":"SUM(I170:I176)","v":0},{"$f":"IF(N176>38,N176-38,0)","v":0},{"$f":"IF(P176>Q176,P176,Q176)","v":0}]
[25,"2019-06-17","2019-06-17",null,null,0,0,0,null,null,null,0,""]
[25,"2019-06-18","2019-06-18",null,null,0,0,0,null,null,null,0,""]
[25,"2019-06-19","2019-06-19",null,null,0,0,0,null,null,null,0,""]
[25,"2019-06-20","2019-06-20",null,null,0,0,0,null,null,null,0,""]
[25,"2019-06-21","2019-06-21",null,null,0,0,0,null,null,null,0,""]
[25,"2019-06-22","2019-06-22",null,null,0,null,0,null,null,"za",0,"","Week",null,"OV WEEK","OV DAG","Recup -","Recup +","OV 50%"]
[25,"2019-06-23","2019-06-23",null,null,0,null,0,null,null,"zo",0,"",{"$f":"SUM(L177:L183)","v":0},{"$f":"SUM(H177:H183)","v":0},{"$f":"IF(N183>38,N183-38,0)","v":0},{"$f":"SUM(M177:M183)","v":0},{"$f":"SUM(I177:I183)","v":0},{"$f":"IF(N183>38,N183-38,0)","v":0},{"$f":"IF(P183>Q183,P183,Q183)","v":0}]
[26,"2019-06-24","2019-06-24",null,null,0,0,0,null,null,null,0,""]
[26,"2019-06-25","2019-06-25",null,null,0,0,0,null,null,null,0,""]
[26,"2019-06-26","2019-06-26",null,null,0,0,0,null,null,null,0,""]
[26,"2019-06-27","2019-06-27",null,null,0,0,0,null,null,null,0,""]
[26,"2019-06-28","2019-06-28",null,null,0,0,0,null,null,null,0,""]
[26,"2019-06-29","2019-06-29",null,null,0,null,0,null,null,"za",0,"","Week",null,"OV WEEK","OV DAG","Recup -","Recup +","OV 50%"]
[26,"2019-06-30","2019-06-30",null,null,0,null,0,null,null,"zo",0,"",{"$f":"SUM(L184:L190)","v":0},{"$f":"SUM(H184:H190)","v":0},{"$f":"IF(N190>38,N190-38,0)","v":0},{"$f":"SUM(M184:M190)","v":0},{"$f":"SUM(I184:I190)","v":0},{"$f":"IF(N190>38,N190-38,0)","v":0},{"$f":"IF(P190>Q190,P190,Q190)","v":0}]
[27,"2019-07-01","2019-07-01",null,null,0,0,0,null,null,null,0,""]
[27,"2019-07-02","2019-07-02",null,null,0,0,0,null,null,null,0,""]
[27,"2019-07-03","2019-07-03",null,null,0,0,0,null,null,null,0,""]
[27,"2019-07-04","2019-07-04",null,null,0,0,0,null,null,null,0,""]
[27,"2019-07-05","2019-07-05",null,null,0,0,0,null,null,null,0,""]
[27,"2019-07-06","2019-07-06",null,null,0,null,0,null,null,"za",0,"","Week",null,"OV WEEK","OV DAG","Recup -","Recup +","OV 50%"]
[27,"2019-07-07","2019-07-07",null,null,0,null,0,null,null,"zo",0,"",{"$f":"SUM(L191:L197)","v":0},{"$f":"SUM(H191:H197)","v":0},{"$f":"IF(N197>38,N197-38,0)","v":0},{"$f":"SUM(M191:M197)","v":0},{"$f":"SUM(I191:I197)","v":0},{"$f":"IF(N197>38,N197-38,0)","v":0},{"$f":"IF(P197>Q197,P197,Q197)","v":0}]
[28,"2019-07-08","2019-07-08",null,null,0,0,0,null,null,null,0,""]
[28,"2019-07-09","2019-07-09",null,null,0,0,0,null,null,null,0,""]
[28,"2019-07-10","2019-07-10",null,null,0,0,0,null,null,null,0,""]
[28,"2019-07-11","2019-07-11",null,null,0,0,0,null,null,null,0,{"$f":"IF(L201>9,L201-9,\"\")","v":""}]
[{"$f":"WEEKNUM(C202,21)","v":28},{"$f":"C202","v":"2019-07-12"},"2019-07-12",null,null,{"$f":"(E202-D202)*24","v":0},{"$f":"IF(F202>=6,0.5,0)","v":0},{"$f":"F202-G202","v":0},null,null,null,{"$f":"SUM(H202:J202)","v":0},""]
[28,"2019-07-13","2019-07-13",null,null,0,null,0,null,null,"za",0,"","Week",null,"OV WEEK","OV DAG","Recup -","Recup +","OV 50%"]
[28,"2019-07-14","2019-07-14",null,null,0,null,0,null,null,"zo",0,"",{"$f":"SUM(L198:L204)","v":0},{"$f":"SUM(H198:H204)","v":0},{"$f":"IF(N204>38,N204-38,0)","v":0},{"$f":"SUM(M198:M204)","v":0},{"$f":"SUM(I198:I204)","v":0},{"$f":"IF(N204>38,N204-38,0)","v":0},{"$f":"IF(P204>Q204,P204,Q204)","v":0}]
[29,"2019-07-15","2019-07-15",null,null,0,0,0,null,null,null,0,""]
[29,"2019-07-16","2019-07-16",null,null,0,0,0,null,null,null,0,""]
[29,"2019-07-17","2019-07-17",null,null,0,0,0,null,null,null,0,""]
[29,"2019-07-18","2019-07-18",null,null,0,0,0,null,null,null,0,""]
[29,"2019-07-19","2019-07-19",null,null,0,0,0,null,null,null,0,""]
[29,"2019-07-20","2019-07-20",null,null,0,null,0,null,null,"za",0,"","Week",null,"OV WEEK","OV DAG","Recup -","Recup +","OV 50%"]
[29,"2019-07-21","2019-07-21",null,null,0,null,0,null,null,"zo",0,"",{"$f":"SUM(L205:L211)","v":0},{"$f":"SUM(H205:H211)","v":0},{"$f":"IF(N211>38,N211-38,0)","v":0},{"$f":"SUM(M205:M211)","v":0},{"$f":"SUM(I205:I211)","v":0},{"$f":"IF(N211>38,N211-38,0)","v":0},{"$f":"IF(P211>Q211,P211,Q211)","v":0}]
[30,"2019-07-22","2019-07-22",null,null,0,0,0,null,null,null,0,""]
[30,"2019-07-23","2019-07-23",null,null,0,0,0,null,null,null,0,""]
[30,"2019-07-24","2019-07-24",null,null,0,0,0,null,null,null,0,""]
[30,"2019-07-25","2019-07-25",null,null,0,0,0,null,null,null,0,""]
[30,"2019-07-26","2019-07-26",null,null,0,0,0,null,null,null,0,""]
[30,"2019-07-27","2019-07-27",null,null,0,null,0,null,null,"za",0,"","Week",null,"OV WEEK","OV DAG","Recup -","Recup +","OV 50%"]
[30,"2019-07-28","2019-07-28",null,null,0,null,0,null,null,"zo",0,"",{"$f":"SUM(L212:L218)","v":0},{"$f":"SUM(H212:H218)","v":0},{"$f":"IF(N218>38,N218-38,0)","v":0},{"$f":"SUM(M212:M218)","v":0},{"$f":"SUM(I212:I218)","v":0},{"$f":"IF(N218>38,N218-38,0)","v":0},{"$f":"IF(P218>Q218,P218,Q218)","v":0}]
[31,"2019-07-29","2019-07-29",null,null,0,0,0,null,null,null,0,""]
[31,"2019-07-30","2019-07-30",null,null,0,0,0,null,null,null,0,""]
[31,"2019-07-31","2019-07-31",null,null,0,0,0,null,null,null,0,""]
[31,"2019-08-01","2019-08-01",null,null,0,0,0,null,null,null,0,""]
[31,"2019-08-02","2019-08-02",null,null,0,0,0,null,null,null,0,""]
[31,"2019-08-03","2019-08-03",null,null,0,null,0,null,null,"za",0,"","Week",null,"OV WEEK","OV DAG","Recup -","Recup +","OV 50%"]
[31,"2019-08-04","2019-08-04",null,null,0,null,0,null,null,"zo",0,"",{"$f":"SUM(L219:L225)","v":0},{"$f":"SUM(H219:H225)","v":0},{"$f":"IF(N225>38,N225-38,0)","v":0},{"$f":"SUM(M219:M225)","v":0},{"$f":"SUM(I219:I225)","v":0},{"$f":"IF(N225>38,N225-38,0)","v":0},{"$f":"IF(P225>Q225,P225,Q225)","v":0}]
[32,"2019-08-05","2019-08-05",null,null,0,0,0,null,null,null,0,""]
[32,"2019-08-06","2019-08-06",null,null,0,0,0,null,null,null,0,""]
[32,"2019-08-07","2019-08-07",null,null,0,0,0,null,null,null,0,""]
[32,"2019-08-08","2019-08-08",null,null,0,0,0,null,null,null,0,""]
[32,"2019-08-09","2019-08-09",null,null,0,0,0,null,null,null,0,""]
[32,"2019-08-10","2019-08-10",null,null,0,null,0,null,null,"za",0,"","Week",null,"OV WEEK","OV DAG","Recup -","Recup +","OV 50%"]
[32,"2019-08-11","2019-08-11",null,null,0,null,0,null,null,"zo",0,"",{"$f":"SUM(L226:L232)","v":0},{"$f":"SUM(H226:H232)","v":0},{"$f":"IF(N232>38,N232-38,0)","v":0},{"$f":"SUM(M226:M232)","v":0},{"$f":"SUM(I226:I232)","v":0},{"$f":"IF(N232>38,N232-38,0)","v":0},{"$f":"IF(P232>Q232,P232,Q232)","v":0}]
[33,"2019-08-12","2019-08-12",null,null,0,0,0,null,null,null,0,""]
[33,"2019-08-13","2019-08-13",null,null,0,0,0,null,null,null,0,""]
[33,"2019-08-14","2019-08-14",null,null,0,0,0,null,null,null,0,""]
[33,"2019-08-15","2019-08-15",null,null,0,0,0,null,7.6,"fd",7.6,""]
[33,"2019-08-16","2019-08-16",null,null,0,0,0,null,null,null,0,""]
[33,"2019-08-17","2019-08-17",null,null,0,null,0,null,null,"za",0,"","Week",null,"OV WEEK","OV DAG","Recup -","Recup +","OV 50%"]
[33,"2019-08-18","2019-08-18",null,null,0,null,0,null,null,"zo",0,"",{"$f":"SUM(L233:L239)","v":7.6},{"$f":"SUM(H233:H239)","v":0},{"$f":"IF(N239>38,N239-38,0)","v":0},{"$f":"SUM(M233:M239)","v":0},{"$f":"SUM(I233:I239)","v":0},{"$f":"IF(N239>38,N239-38,0)","v":0},{"$f":"IF(P239>Q239,P239,Q239)","v":0}]
[34,"2019-08-19","2019-08-19",null,null,0,0,0,null,null,null,0,""]
[34,"2019-08-20","2019-08-20",null,null,0,{"$f":"IF(F241>=6,0.5,0)","v":0},0,null,null,null,0,""]
[34,"2019-08-21","2019-08-21",null,null,0,0,0,null,null,null,0,""]
[34,"2019-08-22","2019-08-22",null,null,0,0,0,null,null,null,0,""]
[34,"2019-08-23","2019-08-23",null,null,0,0,0,null,null,null,0,""]
[34,"2019-08-24","2019-08-24",null,null,0,null,0,null,null,"za",0,"","Week",null,"OV WEEK","OV DAG","Recup -","Recup +","OV 50%"]
[34,"2019-08-25","2019-08-25",null,null,0,null,0,null,null,"zo",0,"",{"$f":"SUM(L240:L246)","v":0},{"$f":"SUM(H240:H246)","v":0},{"$f":"IF(N246>38,N246-38,0)","v":0},{"$f":"SUM(M240:M246)","v":0},{"$f":"SUM(I240:I246)","v":0},{"$f":"IF(N246>38,N246-38,0)","v":0},{"$f":"IF(P246>Q246,P246,Q246)","v":0}]
[35,"2019-08-26","2019-08-26",null,null,0,0,0,null,null,null,0,""]
[35,"2019-08-27","2019-08-27",null,null,0,0,0,null,null,null,0,""]
[35,"2019-08-28","2019-08-28",null,null,0,0,0,null,null,null,0,""]
[35,"2019-08-29","2019-08-29",null,null,0,0,0,null,null,null,0,""]
[35,"2019-08-30","2019-08-30",null,null,0,0,0,null,null,null,0,""]
[35,"2019-08-31","2019-08-31",null,null,0,null,0,null,null,"za",0,"","Week",null,"OV WEEK","OV DAG","Recup -","Recup +","OV 50%"]
[35,"2019-09-01","2019-09-01",null,null,0,null,0,null,null,"zo",0,"",{"$f":"SUM(L247:L253)","v":0},{"$f":"SUM(H247:H253)","v":0},{"$f":"IF(N253>38,N253-38,0)","v":0},{"$f":"SUM(M247:M253)","v":0},{"$f":"SUM(I247:I253)","v":0},{"$f":"IF(N253>38,N253-38,0)","v":0},{"$f":"IF(P253>Q253,P253,Q253)","v":0}]
[36,"2019-09-02","2019-09-02",null,null,0,0,0,null,null,null,0,""]
[36,"2019-09-03","2019-09-03",null,null,0,0,0,null,null,null,0,""]
[36,"2019-09-04","2019-09-04",null,null,0,0,0,null,null,null,0,""]
[36,"2019-09-05","2019-09-05",null,null,0,0,0,null,null,null,0,""]
[36,"2019-09-06","2019-09-06",null,null,0,0,0,null,null,null,0,""]
[36,"2019-09-07","2019-09-07",null,null,0,null,0,null,null,"za",0,"","Week",null,"OV WEEK","OV DAG","Recup -","Recup +","OV 50%"]
[36,"2019-09-08","2019-09-08",null,null,0,null,0,null,null,"zo",0,"",{"$f":"SUM(L254:L260)","v":0},{"$f":"SUM(H254:H260)","v":0},{"$f":"IF(N260>38,N260-38,0)","v":0},{"$f":"SUM(M254:M260)","v":0},{"$f":"SUM(I254:I260)","v":0},{"$f":"IF(N260>38,N260-38,0)","v":0},{"$f":"IF(P260>Q260,P260,Q260)","v":0}]
[37,"2019-09-09","2019-09-09",null,null,0,0,0,null,null,null,0,""]
[37,"2019-09-10","2019-09-10",null,null,0,0,0,null,null,null,0,""]
[37,"2019-09-11","2019-09-11",null,null,0,0,0,null,null,null,0,""]
[37,"2019-09-12","2019-09-12",null,null,0,0,0,null,null,null,0,""]
[37,"2019-09-13","2019-09-13",null,null,0,0,0,null,null,null,0,{"$f":"IF(L265>9,L265-9,\"\")","v":""}]
[{"$f":"WEEKNUM(C266,21)","v":37},{"$f":"C266","v":"2019-09-14"},"2019-09-14",null,null,{"$f":"(E266-D266)*24","v":0},null,{"$f":"F266-G266","v":0},null,null,"za",{"$f":"SUM(H266:J266)","v":0},"","Week",null,"OV WEEK","OV DAG","Recup -","Recup +","OV 50%"]
[37,"2019-09-15","2019-09-15",null,null,0,null,0,null,null,"zo",0,"",{"$f":"SUM(L261:L267)","v":0},{"$f":"SUM(H261:H267)","v":0},{"$f":"IF(N267>38,N267-38,0)","v":0},{"$f":"SUM(M261:M267)","v":0},{"$f":"SUM(I261:I267)","v":0},{"$f":"IF(N267>38,N267-38,0)","v":0},{"$f":"IF(P267>Q267,P267,Q267)","v":0}]
[38,"2019-09-16","2019-09-16",null,null,0,{"$f":"IF(F268>=6,0.5,0)","v":0},0,null,null,null,0,""]
[38,"2019-09-17","2019-09-17",null,null,0,0,0,null,null,null,0,""]
[38,"2019-09-18","2019-09-18",null,null,0,0,0,null,null,null,0,""]
[38,"2019-09-19","2019-09-19",null,null,0,0,0,null,null,null,0,""]
[38,"2019-09-20","2019-09-20",null,null,0,0,0,null,null,null,0,""]
[38,"2019-09-21","2019-09-21",null,null,0,null,0,null,null,"za",0,"","Week",null,"OV WEEK","OV DAG","Recup -","Recup +","OV 50%"]
[38,"2019-09-22","2019-09-22",null,null,0,null,0,null,null,"zo",0,"",{"$f":"SUM(L268:L274)","v":0},{"$f":"SUM(H268:H274)","v":0},{"$f":"IF(N274>38,N274-38,0)","v":0},{"$f":"SUM(M268:M274)","v":0},{"$f":"SUM(I268:I274)","v":0},{"$f":"IF(N274>38,N274-38,0)","v":0},{"$f":"IF(P274>Q274,P274,Q274)","v":0}]
[39,"2019-09-23","2019-09-23",null,null,0,0,0,null,null,null,0,""]
[39,"2019-09-24","2019-09-24",null,null,0,0,0,null,null,null,0,""]
[39,"2019-09-25","2019-09-25",null,null,0,0,0,null,null,null,0,""]
[39,"2019-09-26","2019-09-26",null,null,0,0,0,null,null,null,0,""]
[39,"2019-09-27","2019-09-27",null,null,0,0,0,null,null,null,0,""]
[39,"2019-09-28","2019-09-28",null,null,0,null,0,null,null,"za",0,"","Week",null,"OV WEEK","OV DAG","Recup -","Recup +","OV 50%"]
[39,"2019-09-29","2019-09-29",null,null,0,null,0,null,null,"zo",0,"",{"$f":"SUM(L275:L281)","v":0},{"$f":"SUM(H275:H281)","v":0},{"$f":"IF(N281>38,N281-38,0)","v":0},{"$f":"SUM(M275:M281)","v":0},{"$f":"SUM(I275:I281)","v":0},{"$f":"IF(N281>38,N281-38,0)","v":0},{"$f":"IF(P281>Q281,P281,Q281)","v":0}]
[40,"2019-09-30","2019-09-30",null,null,0,0,0,null,null,null,0,""]
[40,"2019-10-01","2019-10-01",null,null,0,0,0,null,null,null,0,""]
[40,"2019-10-02","2019-10-02",null,null,0,0,0,null,null,null,0,""]
[40,"2019-10-03","2019-10-03",null,null,0,0,0,null,null,null,0,""]
[40,"2019-10-04","2019-10-04",null,null,0,0,0,null,null,null,0,""]
[40,"2019-10-05","2019-10-05",null,null,0,null,0,null,null,"za",0,"","Week",null,"OV WEEK","OV DAG","Recup -","Recup +","OV 50%"]
[40,"2019-10-06","2019-10-06",null,null,0,null,0,null,null,"zo",0,"",{"$f":"SUM(L282:L288)","v":0},{"$f":"SUM(H282:H288)","v":0},{"$f":"IF(N288>38,N288-38,0)","v":0},{"$f":"SUM(M282:M288)","v":0},{"$f":"SUM(I282:I288)","v":0},{"$f":"IF(N288>38,N288-38,0)","v":0},{"$f":"IF(P288>Q288,P288,Q288)","v":0}]
[41,"2019-10-07","2019-10-07",null,null,0,0,0,null,null,null,0,""]
[41,"2019-10-08","2019-10-08",null,null,0,0,0,null,null,null,0,""]
[41,"2019-10-09","2019-10-09",null,null,0,0,0,null,null,null,0,""]
[41,"2019-10-10","2019-10-10",null,null,0,0,0,null,null,null,0,""]
[41,"2019-10-11","2019-10-11",null,null,0,0,0,null,null,null,0,""]
[41,"2019-10-12","2019-10-12",null,null,0,null,0,null,null,"za",0,"","Week",null,"OV WEEK","OV DAG","Recup -","Recup +","OV 50%"]
[41,"2019-10-13","2019-10-13",null,null,0,null,0,null,null,"zo",0,"",{"$f":"SUM(L289:L295)","v":0},{"$f":"SUM(H289:H295)","v":0},{"$f":"IF(N295>38,N295-38,0)","v":0},{"$f":"SUM(M289:M295)","v":0},{"$f":"SUM(I289:I295)","v":0},{"$f":"IF(N295>38,N295-38,0)","v":0},{"$f":"IF(P295>Q295,P295,Q295)","v":0}]
[42,"2019-10-14","2019-10-14",null,null,0,0,0,null,null,null,0,""]
[42,"2019-10-15","2019-10-15",null,null,0,0,0,null,null,null,0,""]
[42,"2019-10-16","2019-10-16",null,null,0,0,0,null,null,null,0,""]
[42,"2019-10-17","2019-10-17",null,null,0,0,0,null,null,null,0,""]
[42,"2019-10-18","2019-10-18",null,null,0,0,0,null,null,null,0,""]
[42,"2019-10-19","2019-10-19",null,null,0,null,0,null,null,"za",0,"","Week",null,"OV WEEK","OV DAG","Recup -","Recup +","OV 50%"]
[42,"2019-10-20","2019-10-20",null,null,0,null,0,null,null,"zo",0,"",{"$f":"SUM(L296:L302)","v":0},{"$f":"SUM(H296:H302)","v":0},{"$f":"IF(N302>38,N302-38,0)","v":0},{"$f":"SUM(M296:M302)","v":0},{"$f":"SUM(I296:I302)","v":0},{"$f":"IF(N302>38,N302-38,0)","v":0},{"$f":"IF(P302>Q302,P302,Q302)","v":0}]
[43,"2019-10-21","2019-10-21",null,null,0,0,0,null,null,null,0,""]
[43,"2019-10-22","2019-10-22",null,null,0,0,0,null,null,null,0,""]
[43,"2019-10-23","2019-10-23",null,null,0,0,0,null,null,null,0,""]
[43,"2019-10-24","2019-10-24",null,null,0,0,0,null,null,null,0,""]
[43,"2019-10-25","2019-10-25",null,null,0,0,0,null,null,null,0,""]
[43,"2019-10-26","2019-10-26",null,null,0,null,0,null,null,"za",0,"","Week",null,"OV WEEK","OV DAG","Recup -","Recup +","OV 50%"]
[43,"2019-10-27","2019-10-27",null,null,0,null,0,null,null,"zo",0,"",{"$f":"SUM(L303:L309)","v":0},{"$f":"SUM(H303:H309)","v":0},{"$f":"IF(N309>38,N309-38,0)","v":0},{"$f":"SUM(M303:M309)","v":0},{"$f":"SUM(I303:I309)","v":0},{"$f":"IF(N309>38,N309-38,0)","v":0},{"$f":"IF(P309>Q309,P309,Q309)","v":0}]
[44,"2019-10-28","2019-10-28",null,null,0,0,0,null,null,null,0,""]
[44,"2019-10-29","2019-10-29",null,null,0,0,0,null,null,null,0,""]
[44,"2019-10-30","2019-10-30",null,null,0,0,0,null,null,null,0,""]
[44,"2019-10-31","2019-10-31",null,null,0,0,0,null,null,null,0,""]
[44,"2019-11-01","2019-11-01",null,null,0,0,0,null,7.6,"fd",7.6,""]
[44,"2019-11-02","2019-11-02",null,null,0,null,0,null,null,"za",0,"","Week",null,"OV WEEK","OV DAG","Recup -","Recup +","OV 50%"]
[44,"2019-11-03","2019-11-03",null,null,0,null,0,null,null,"zo",0,"",{"$f":"SUM(L310:L316)","v":7.6},{"$f":"SUM(H310:H316)","v":0},{"$f":"IF(N316>38,N316-38,0)","v":0},{"$f":"SUM(M310:M316)","v":0},{"$f":"SUM(I310:I316)","v":0},{"$f":"IF(N316>38,N316-38,0)","v":0},{"$f":"IF(P316>Q316,P316,Q316)","v":0}]
[45,"2019-11-04","2019-11-04",null,null,0,0,0,null,null,null,0,""]
[45,"2019-11-05","2019-11-05",null,null,0,0,0,null,null,null,0,""]
[45,"2019-11-06","2019-11-06",null,null,0,0,0,null,null,null,0,""]
[45,"2019-11-07","2019-11-07",null,null,0,0,0,null,null,null,0,""]
[45,"2019-11-08","2019-11-08",null,null,0,0,0,null,null,null,0,""]
[45,"2019-11-09","2019-11-09",null,null,0,null,0,null,null,"za",0,"","Week",null,"OV WEEK","OV DAG","Recup -","Recup +","OV 50%"]
[45,"2019-11-10","2019-11-10",null,null,0,null,0,null,null,"zo",0,"",{"$f":"SUM(L317:L323)","v":0},{"$f":"SUM(H317:H323)","v":0},{"$f":"IF(N323>38,N323-38,0)","v":0},{"$f":"SUM(M317:M323)","v":0},{"$f":"SUM(I317:I323)","v":0},{"$f":"IF(N323>38,N323-38,0)","v":0},{"$f":"IF(P323>Q323,P323,Q323)","v":0}]
[46,"2019-11-11","2019-11-11",null,null,0,0,0,null,7.6,"fd",7.6,""]
[46,"2019-11-12","2019-11-12",null,null,0,0,0,null,null,null,0,""]
[46,"2019-11-13","2019-11-13",null,null,0,0,0,null,null,null,0,""]
[46,"2019-11-14","2019-11-14",null,null,0,0,0,null,null,null,0,""]
[46,"2019-11-15","2019-11-15",null,null,0,0,0,null,null,null,0,""]
[46,"2019-11-16","2019-11-16",null,null,0,null,0,null,null,"za",0,{"$f":"IF(L329>9,L329-9,\"\")","v":""},"Week",null,"OV WEEK","OV DAG","Recup -","Recup +","OV 50%"]
[{"$f":"WEEKNUM(C330,21)","v":46},{"$f":"C330","v":"2019-11-17"},"2019-11-17",null,null,{"$f":"(E330-D330)*24","v":0},null,{"$f":"F330-G330","v":0},null,null,"zo",{"$f":"SUM(H330:J330)","v":0},"",{"$f":"SUM(L324:L330)","v":7.6},{"$f":"SUM(H324:H330)","v":0},{"$f":"IF(N330>38,N330-38,0)","v":0},{"$f":"SUM(M324:M330)","v":0},{"$f":"SUM(I324:I330)","v":0},{"$f":"IF(N330>38,N330-38,0)","v":0},{"$f":"IF(P330>Q330,P330,Q330)","v":0}]
[47,"2019-11-18","2019-11-18",null,null,0,{"$f":"IF(F331>=6,0.5,0)","v":0},0,null,null,null,0,""]
[47,"2019-11-19","2019-11-19",null,null,0,0,0,null,null,null,0,""]
[47,"2019-11-20","2019-11-20",null,null,0,0,0,null,null,null,0,""]
[47,"2019-11-21","2019-11-21",null,null,0,0,0,null,null,null,0,""]
[47,"2019-11-22","2019-11-22",null,null,0,0,0,null,null,null,0,""]
[47,"2019-11-23","2019-11-23",null,null,0,null,0,null,null,"za",0,"","Week",null,"OV WEEK","OV DAG","Recup -","Recup +","OV 50%"]
[47,"2019-11-24","2019-11-24",null,null,0,null,0,null,null,"zo",0,"",{"$f":"SUM(L331:L337)","v":0},{"$f":"SUM(H331:H337)","v":0},{"$f":"IF(N337>38,N337-38,0)","v":0},{"$f":"SUM(M331:M337)","v":0},{"$f":"SUM(I331:I337)","v":0},{"$f":"IF(N337>38,N337-38,0)","v":0},{"$f":"IF(P337>Q337,P337,Q337)","v":0}]
[48,"2019-11-25","2019-11-25",null,null,0,0,0,null,null,null,0,""]
[48,"2019-11-26","2019-11-26",null,null,0,0,0,null,null,null,0,""]
[48,"2019-11-27","2019-11-27",null,null,0,0,0,null,null,null,0,""]
[48,"2019-11-28","2019-11-28",null,null,0,0,0,null,null,null,0,""]
[48,"2019-11-29","2019-11-29",null,null,0,0,0,null,null,null,0,""]
[48,"2019-11-30","2019-11-30",null,null,0,null,0,null,null,"za",0,"","Week",null,"OV WEEK","OV DAG","Recup -","Recup +","OV 50%"]
[48,"2019-12-01","2019-12-01",null,null,0,null,0,null,null,"zo",0,"",{"$f":"SUM(L338:L344)","v":0},{"$f":"SUM(H338:H344)","v":0},{"$f":"IF(N344>38,N344-38,0)","v":0},{"$f":"SUM(M338:M344)","v":0},{"$f":"SUM(I338:I344)","v":0},{"$f":"IF(N344>38,N344-38,0)","v":0},{"$f":"IF(P344>Q344,P344,Q344)","v":0}]
[49,"2019-12-02","2019-12-02",null,null,0,0,0,null,null,null,0,""]
[49,"2019-12-03","2019-12-03",null,null,0,0,0,null,null,null,0,""]
[49,"2019-12-04","2019-12-04",null,null,0,0,0,null,null,null,0,""]
[49,"2019-12-05","2019-12-05",null,null,0,0,0,null,null,null,0,""]
[49,"2019-12-06","2019-12-06",null,null,0,0,0,null,null,null,0,""]
[49,"2019-12-07","2019-12-07",null,null,0,null,0,null,null,"za",0,"","Week",null,"OV WEEK","OV DAG","Recup -","Recup +","OV 50%"]
[49,"2019-12-08","2019-12-08",null,null,0,null,0,null,null,"zo",0,"",{"$f":"SUM(L345:L351)","v":0},{"$f":"SUM(H345:H351)","v":0},{"$f":"IF(N351>38,N351-38,0)","v":0},{"$f":"SUM(M345:M351)","v":0},{"$f":"SUM(I345:I351)","v":0},{"$f":"IF(N351>38,N351-38,0)","v":0},{"$f":"IF(P351>Q351,P351,Q351)","v":0}]
[50,"2019-12-09","2019-12-09",null,null,0,0,0,null,null,null,0,""]
[50,"2019-12-10","2019-12-10",null,null,0,0,0,null,null,null,0,""]
[50,"2019-12-11","2019-12-11",null,null,0,0,0,null,null,null,0,""]
[50,"2019-12-12","2019-12-12",null,null,0,0,0,null,null,null,0,""]
[50,"2019-12-13","2019-12-13",null,null,0,0,0,null,null,null,0,""]
[50,"2019-12-14","2019-12-14",null,null,0,null,0,null,null,"za",0,"","Week",null,"OV WEEK","OV DAG","Recup -","Recup +","OV 50%"]
[50,"2019-12-15","2019-12-15",null,null,0,null,0,null,null,"zo",0,"",{"$f":"SUM(L352:L358)","v":0},{"$f":"SUM(H352:H358)","v":0},{"$f":"IF(N358>38,N358-38,0)","v":0},{"$f":"SUM(M352:M358)","v":0},{"$f":"SUM(I352:I358)","v":0},{"$f":"IF(N358>38,N358-38,0)","v":0},{"$f":"IF(P358>Q358,P358,Q358)","v":0}]
[51,"2019-12-16","2019-12-16",null,null,0,0,0,null,null,null,0,""]
[51,"2019-12-17","2019-12-17",null,null,0,0,0,null,null,null,0,""]
[51,"2019-12-18","2019-12-18",null,null,0,0,0,null,null,null,0,""]
[51,"2019-12-19","2019-12-19",null,null,0,0,0,null,null,null,0,""]
[51,"2019-12-20","2019-12-20",null,null,0,0,0,null,null,null,0,""]
[51,"2019-12-21","2019-12-21",null,null,0,null,0,null,null,"za",0,"","Week",null,"OV WEEK","OV DAG","Recup -","Recup +","OV 50%"]
[51,"2019-12-22","2019-12-22",null,null,0,null,0,null,null,"zo",0,"",{"$f":"SUM(L359:L365)","v":0},{"$f":"SUM(H359:H365)","v":0},{"$f":"IF(N365>38,N365-38,0)","v":0},{"$f":"SUM(M359:M365)","v":0},{"$f":"SUM(I359:I365)","v":0},{"$f":"IF(N365>38,N365-38,0)","v":0},{"$f":"IF(P365>Q365,P365,Q365)","v":0}]
[52,"2019-12-23","2019-12-23",null,null,0,0,0,null,null,null,0,""]
[52,"2019-12-24","2019-12-24",null,null,0,0,0,null,null,null,0,""]
[52,"2019-12-25","2019-12-25",null,null,0,0,0,null,7.6,"fd",7.6,""]
[52,"2019-12-26","2019-12-26",null,null,0,0,0,null,null,null,0,""]
[52,"2019-12-27","2019-12-27",null,null,0,0,0,null,null,null,0,""]
[52,"2019-12-28","2019-12-28",null,null,0,null,0,null,null,"za",0,"","Week",null,"OV WEEK","OV DAG","Recup -","Recup +","OV 50%"]
[52,"2019-12-29","2019-12-29",null,null,0,null,0,null,null,"zo",0,"",{"$f":"SUM(L366:L372)","v":7.6},{"$f":"SUM(H366:H372)","v":0},{"$f":"IF(N372>38,N372-38,0)","v":0},{"$f":"SUM(M366:M372)","v":0},{"$f":"SUM(I366:I372)","v":0},{"$f":"IF(N372>38,N372-38,0)","v":0},{"$f":"IF(P372>Q372,P372,Q372)","v":0}]
[1,"2019-12-30","2019-12-30",null,null,0,0,0,null,null,null,0,""]
[1,"2019-12-31","2019-12-31",null,null,0,0,0,null,null,null,0,""]
[1,"2020-01-01","2020-01-01",null,null,0,0,0,null,7.6,"fd",7.6,""]
[1,"2020-01-02","2020-01-02",null,null,0,0,0,null,null,null,0,""]
[1,"2020-01-03","2020-01-03",null,null,0,0,0,null,null,null,0,""]
[1,"2020-01-04","2020-01-04",null,null,0,null,0,null,null,"za",0,"","Week",null,"OV WEEK","OV DAG","Recup -","Recup +","OV 50%"]
[1,"2020-01-05","2020-01-05",null,null,0,null,0,null,null,"zo",0,"",{"$f":"SUM(L373:L379)","v":7.6},{"$f":"SUM(H373:H379)","v":0},{"$f":"IF(N379>38,N379-38,0)","v":0},{"$f":"SUM(M373:M379)","v":0},{"$f":"SUM(I373:I379)","v":0},{"$f":"IF(N379>38,N379-38,0)","v":0},{"$f":"IF(P379>Q379,P379,Q379)","v":0}]

{"sheet":"83","index":16,"n_rows":379,"n_cols":35,"rows_kept":379,"cut":false,"hidden":false,"merged":[[6,21,6,24],[6,25,6,28],[6,29,6,32],[6,33,6,34],[0,1,1,12],[4,21,4,23],[4,25,4,28],[4,29,4,32],[4,33,4,34],[5,21,5,23],[5,25,5,28],[5,29,5,32],[5,33,5,34],[2,21,2,23],[2,25,2,28],[2,29,2,32],[2,33,2,34],[3,21,3,23],[3,25,3,28],[3,29,3,32],[3,33,3,34],[0,21,0,24],[0,25,0,28],[0,29,0,32],[0,33,0,34],[1,21,1,23],[1,25,1,28],[1,29,1,32],[1,33,1,34]]}
["83","El Filali Chrif",null,null,null,null,null,null,null,null,null,null,null,null,null,null,null,null,null,null,null,"Soort",null,null,null,"Recht op",null,null,null,"Opgenomen",null,null,null,"Saldo"]
[null,null,null,null,null,null,null,null,null,null,null,null,null,null,null,null,null,null,null,null,null,"ADV-dagen",null,null,"adv",null,null,null,null,{"$f":"(COUNTIF(W$9:AH$39,\"ADV\")+(COUNTIF(W$9:AH$39,\"0,5ADV\"))/2)","v":0},null,null,null,{"$f":"Z2-AD2","v":0}]
[null,null,null,null,null,null,null,null,null,null,null,null,null,null,null,null,null,null,null,null,null,"Vakantie 2019",null,null,"v",null,null,null,null,{"$f":"(COUNTIF(W$9:AH$39,\"V\")+(COUNTIF(W$9:AH$39,\"0,5V\"))/2)","v":0},null,null,null,{"$f":"Z3-AD3","v":0}]
["Opgelet avondwerk ! Van 00:00u tot 00:00u / + 0,00u premie 50%",null,null,null,null,null,null,null,null,null,null,null,null,"Feestdag in weekend 2019",null,null,null,null,"Recup 2018",-7.6,null,"Feestdag 2019",null,null,"f",1,null,null,null,{"$f":"(COUNTIF(W$9:AH$39,\"F\")+(COUNTIF(W$9:AH$39,\"0,5F\"))/2)","v":0},null,null,null,1]
[null,null,null,null,null,null,null,null,null,null,null,null,null,"- nationale feestdag 21/7",null,null,null,null,null,null,null,"Vakantie rest 2018",null,null,"vvj",null,null,null,null,{"$f":"(COUNTIF(W$9:AH$39,\"vvj\")+(COUNTIF(W$9:AH$39,\"0,5vvj\"))/2)","v":0},null,null,null,0]
[null,null,null,null,null,null,null,null,null,null,null,null,null,null,null,null,null,null,"Recup",{"$f":"SUM(S9:S379)-SUM(R9:R379)+T5+T4","v":-7.6},null,"Anciënniteitsdagen",null,null,"a ",null,null,null,null,{"$f":"(COUNTIF(W$9:AH$39,\"A\")+(COUNTIF(W$9:AH$39,\"0,5A\"))/2)","v":0},null,null,null,0]
[null,null,null,null,null,null,null,null,null,null,null,null,null,null,null,null,null,null,null,null,null,"TOTAAL",null,null,null,{"$f":"SUM(Z2:AC6)","v":1},null,null,null,{"$f":"SUM(AD2:AG6)","v":0},null,null,null,{"$f":"SUM(AH2:AI6)","v":1}]
["W","Dag","Datum","Van ","Tot",null,"Pauze","Prestaties","Recup","Andere","Type","Dag","OV DAG","Week","Prestaties","OV WEEK","OV DAG","Rec. -","Rec. +","OV 50%","M",null,"Jan","Feb","Maa","Apr","Mei","Jun","Jul","Aug","Sept","Okt","Nov","Dec"]
[{"$f":"WEEKNUM(C9,21)","v":1},{"$f":"C9","v":"2018-12-31"},"2018-12-31",null,null,{"$f":"(E9-D9)*24","v":0},{"$f":"IF(F9>=6,0.5,0)","v":0},{"$f":"F9-G9","v":0},null,null,"RO",{"$f":"SUM(H9:J9)","v":0},{"$f":"IF(L9>9,L9-9,\"\")","v":""},"HB 31/12: melding van Jens dat hij 31/12 nog verlof / recup neemt.",null,null,null,null,null,null,0,1,{"$f":"K9","v":"RO"},{"$f":"K40","v":0},{"$f":"K68","v":0},{"$f":"K99","v":"zo"},{"$f":"K129","v":0},{"$f":"K160","v":0},{"$f":"K190","v":"zo"},{"$f":"K221","v":0},{"$f":"K252","v":"za"},{"$f":"K282","v":0},{"$f":"K313","v":0},{"$f":"K343","v":"za"},1]
[{"$f":"WEEKNUM(C10,21)","v":1},{"$f":"C10","v":"2019-01-01"},"2019-01-01",null,null,{"$f":"(E10-D10)*24","v":0},{"$f":"IF(F10>=6,0.5,0)","v":0},{"$f":"F10-G10","v":0},null,7.6,"fd",{"$f":"SUM(H10:J10)","v":7.6},"","Heeft niets meer, wordt dus dag onbetaald.",null,null,null,null,null,null,0,2,{"$f":"K10","v":"fd"},{"$f":"K41","v":0},{"$f":"K69","v":0},{"$f":"K100","v":0},{"$f":"K130","v":"fd"},{"$f":"K161","v":"za"},{"$f":"K191","v":0},{"$f":"K222","v":0},{"$f":"K253","v":"zo"},{"$f":"K283","v":0},{"$f":"K314","v":"fd"},{"$f":"K344","v":"zo"},2]
[1,"2019-01-02","2019-01-02","07:45:00","17:15:00",9.5,0.5,9,null,null,null,9,"","Jens, blijkbaar was dit op vraag van ons dat hij thuis gebleven is?",null,null,null,null,null,null,null,3,0,"za","za",0,0,"zo",0,0,0,0,"za",0,3]
[1,"2019-01-03","2019-01-03","08:00:00","16:00:00",8,0.5,7.5,null,null,null,7.5,"","Rechtzetting te doen: 31/12 als recup doorgeven, en het aantal recupuren in – noteren bij recup 2018",null,null,null,null,null,null,null,4,0,"zo","zo",0,0,0,0,"za",0,0,"zo",0,4]
[1,"2019-01-04","2019-01-04","07:30:00","17:15:00",9.75,0.5,9.25,null,null,null,9.25,0.25,"Rechtzetting met verloning van Januari - TO DO !",null,null,null,null,null,null,null,5,0,0,0,0,"za",0,0,"zo",0,0,0,{"$f":"K347","v":0},5]
[1,"2019-01-05","2019-01-05",null,null,0,null,0,null,null,"za",0,"","Week",null,"OV WEEK","OV DAG","Recup -","Recup +","OV 50%",null,6,"za",0,0,0,"zo",0,0,0,0,"za",0,0,6]
[1,"2019-01-06","2019-01-06",null,null,0,null,0,null,null,"zo",0,"",{"$f":"SUM(L9:L15)","v":33.35},{"$f":"SUM(H9:H15)","v":25.75},{"$f":"IF(N15>38,N15-38,0)","v":0},{"$f":"SUM(M9:M15)","v":0.25},{"$f":"SUM(I9:I15)","v":0},{"$f":"IF(N15>38,N15-38,0)","v":0},{"$f":"IF(P15>Q15,P15,Q15)","v":0.25},null,7,"zo",0,0,"za",0,0,"za",0,0,"zo",0,0,7]
[2,"2019-01-07","2019-01-07",null,null,0,0,0,null,null,null,0,"",null,null,null,null,null,null,null,null,8,0,0,0,"zo",0,0,"zo",0,"za",0,0,"za",8]
[2,"2019-01-08","2019-01-08",null,null,0,0,0,null,null,null,0,"",null,null,null,null,null,null,null,null,9,0,0,0,0,0,"za",0,0,"zo",0,0,"zo",9]
[2,"2019-01-09","2019-01-09",null,null,0,0,0,null,null,null,0,"",null,null,null,null,null,null,null,null,10,0,"za","za",0,0,"zo",0,0,0,0,"za",0,10]
[2,"2019-01-10","2019-01-10",null,null,0,0,0,null,null,null,0,"",null,null,null,null,null,null,null,null,11,0,"zo","zo",0,0,"fd",0,"za",0,0,"zo",0,11]
[2,"2019-01-11","2019-01-11",null,null,0,0,0,null,null,null,0,"",null,null,null,null,null,null,null,null,12,0,0,0,0,"za",0,0,"zo",0,0,"fd",0,12]
[2,"2019-01-12","2019-01-12",null,null,0,null,0,null,null,"za",0,"","Week",null,"OV WEEK","OV DAG","Recup -","Recup +","OV 50%",null,13,"za",0,0,0,"zo",0,0,0,0,"za",0,0,13]
[2,"2019-01-13","2019-01-13",null,null,0,null,0,null,null,"zo",0,"",{"$f":"SUM(L16:L22)","v":0},{"$f":"SUM(H16:H22)","v":0},{"$f":"IF(N22>38,N22-38,0)","v":0},{"$f":"SUM(M16:M22)","v":0},{"$f":"SUM(I16:I22)","v":0},{"$f":"IF(N22>38,N22-38,0)","v":0},{"$f":"IF(P22>Q22,P22,Q22)","v":0},null,14,"zo",0,0,"za",0,0,"za",0,0,"zo",0,0,14]
[3,"2019-01-14","2019-01-14",null,null,0,0,0,null,null,null,0,"",null,null,null,null,null,null,null,null,15,0,0,0,"zo",0,0,"zo",0,"za",0,0,"za",15]
[3,"2019-01-15","2019-01-15",null,null,0,0,0,null,null,null,0,"",null,null,null,null,null,null,null,null,16,0,0,0,0,0,"za",0,"fd","zo",0,0,"zo",16]
[3,"2019-01-16","2019-01-16",null,null,0,0,0,null,null,null,0,"",null,null,null,null,null,null,null,null,17,0,"za","za",0,0,"zo",0,0,0,0,"za",0,17]
[3,"2019-01-17","2019-01-17",null,null,0,0,0,null,null,null,0,"",null,null,null,null,null,null,null,null,18,0,"zo","zo",0,0,0,0,"za",0,0,"zo",0,18]
[3,"2019-01-18","2019-01-18",null,null,0,0,0,null,null,null,0,"",null,null,null,null,null,null,null,null,19,0,0,0,0,"za",0,0,"zo",0,0,0,0,19]
[3,"2019-01-19","2019-01-19",null,null,0,null,0,null,null,"za",0,"","Week",null,"OV WEEK","OV DAG","Recup -","Recup +","OV 50%",null,20,"za",0,0,0,"zo",0,0,0,0,"za",0,{"$f":"K362","v":0},20]
[3,"2019-01-20","2019-01-20",null,null,0,null,0,null,null,"zo",0,"",{"$f":"SUM(L23:L29)","v":0},{"$f":"SUM(H23:H29)","v":0},{"$f":"IF(N29>38,N29-38,0)","v":0},{"$f":"SUM(M23:M29)","v":0},{"$f":"SUM(I23:I29)","v":0},{"$f":"IF(N29>38,N29-38,0)","v":0},{"$f":"IF(P29>Q29,P29,Q29)","v":0},null,21,"zo",0,0,"za","fd",0,"za",0,0,"zo",0,0,21]
[4,"2019-01-21","2019-01-21",null,null,0,0,0,null,null,null,0,"",null,null,null,null,null,null,null,null,22,0,0,0,"zo",0,0,"zo",0,"za",0,0,"za",22]
[4,"2019-01-22","2019-01-22",null,null,0,0,0,null,null,null,0,"",null,null,null,null,null,null,null,null,23,0,0,0,"fd",0,"za",0,0,"zo",0,0,"zo",23]
[4,"2019-01-23","2019-01-23",null,null,0,0,0,null,null,null,0,"",null,null,null,null,null,null,null,null,24,0,"za","za",0,0,"zo",0,0,0,0,"za",0,24]
[4,"2019-01-24","2019-01-24",null,null,0,0,0,null,null,null,0,"",null,null,null,null,null,null,null,null,25,0,"zo","zo",0,0,0,0,"za",0,0,"zo",0,25]
[4,"2019-01-25","2019-01-25",null,null,0,0,0,null,null,null,0,"",null,null,null,null,null,null,null,null,26,0,0,0,0,"za",0,0,"zo",0,0,0,"fd",26]
[4,"2019-01-26","2019-01-26",null,null,0,null,0,null,null,"za",0,"","Week",null,"OV WEEK","OV DAG","Recup -","Recup +","OV 50%",null,27,"za",0,0,0,"zo",0,0,0,0,"za",0,0,27]
[4,"2019-01-27","2019-01-27",null,null,0,null,0,null,null,"zo",0,"",{"$f":"SUM(L30:L36)","v":0},{"$f":"SUM(H30:H36)","v":0},{"$f":"IF(N36>38,N36-38,0)","v":0},{"$f":"SUM(M30:M36)","v":0},{"$f":"SUM(I30:I36)","v":0},{"$f":"IF(N36>38,N36-38,0)","v":0},{"$f":"IF(P36>Q36,P36,Q36)","v":0},null,28,"zo",0,0,"za",0,0,"za",0,0,"zo",0,0,28]
[5,"2019-01-28","2019-01-28",null,null,0,0,0,null,null,null,0,"",null,null,null,null,null,null,null,null,29,0,null,0,"zo",0,0,"zo",0,"za",0,0,"za",29]
[5,"2019-01-29","2019-01-29",null,null,0,0,0,null,null,null,0,"",null,null,null,null,null,null,null,null,30,0,null,0,0,0,"za",0,0,"zo",0,0,"zo",30]
[5,"2019-01-30","2019-01-30",null,null,0,0,0,null,null,null,0,"",null,null,null,null,null,null,null,null,31,0,null,"za",null,"fd",null,0,0,null,0,null,0,31]
[5,"2019-01-31","2019-01-31",null,null,0,0,0,null,null,null,0,"",null,null,null,null,null,null,null,null,"WD",23,20,21,22,23,20,23,22,21,23,21,22,{"$f":"SUM(W40:AH40)","v":261}]
[5,"2019-02-01","2019-02-01",null,null,0,0,0,null,null,null,0,""]
[5,"2019-02-02","2019-02-02",null,null,0,null,0,null,null,"za",0,"","Week",null,"OV WEEK","OV DAG","Recup -","Recup +","OV 50%"]
[5,"2019-02-03","2019-02-03",null,null,0,null,0,null,null,"zo",0,"",{"$f":"SUM(L37:L43)","v":0},{"$f":"SUM(H37:H43)","v":0},{"$f":"IF(N43>38,N43-38,0)","v":0},{"$f":"SUM(M37:M43)","v":0},{"$f":"SUM(I37:I43)","v":0},{"$f":"IF(N43>38,N43-38,0)","v":0},{"$f":"IF(P43>Q43,P43,Q43)","v":0}]
[6,"2019-02-04","2019-02-04",null,null,0,0,0,null,null,null,0,""]
[6,"2019-02-05","2019-02-05",null,null,0,0,0,null,null,null,0,""]
[6,"2019-02-06","2019-02-06",null,null,0,0,0,null,null,null,0,""]
[6,"2019-02-07","2019-02-07",null,null,0,0,0,null,null,null,0,""]
[6,"2019-02-08","2019-02-08",null,null,0,0,0,null,null,null,0,""]
[6,"2019-02-09","2019-02-09",null,null,0,null,0,null,null,"za",0,"","Week",null,"OV WEEK","OV DAG","Recup -","Recup +","OV 50%"]
[6,"2019-02-10","2019-02-10",null,null,0,null,0,null,null,"zo",0,"",{"$f":"SUM(L44:L50)","v":0},{"$f":"SUM(H44:H50)","v":0},{"$f":"IF(N50>38,N50-38,0)","v":0},{"$f":"SUM(M44:M50)","v":0},{"$f":"SUM(I44:I50)","v":0},{"$f":"IF(N50>38,N50-38,0)","v":0},{"$f":"IF(P50>Q50,P50,Q50)","v":0}]
[7,"2019-02-11","2019-02-11",null,null,0,0,0,null,null,null,0,""]
[7,"2019-02-12","2019-02-12",null,null,0,0,0,null,null,null,0,""]
[7,"2019-02-13","2019-02-13",null,null,0,0,0,null,null,null,0,""]
[7,"2019-02-14","2019-02-14",null,null,0,0,0,null,null,null,0,""]
[7,"2019-02-15","2019-02-15",null,null,0,0,0,null,null,null,0,""]
[7,"2019-02-16","2019-02-16",null,null,0,null,0,null,null,"za",0,"","Week",null,"OV WEEK","OV DAG","Recup -","Recup +","OV 50%"]
[7,"2019-02-17","2019-02-17",null,null,0,null,0,null,null,"zo",0,"",{"$f":"SUM(L51:L57)","v":0},{"$f":"SUM(H51:H57)","v":0},{"$f":"IF(N57>38,N57-38,0)","v":0},{"$f":"SUM(M51:M57)","v":0},{"$f":"SUM(I51:I57)","v":0},{"$f":"IF(N57>38,N57-38,0)","v":0},{"$f":"IF(P57>Q57,P57,Q57)","v":0}]
[8,"2019-02-18","2019-02-18",null,null,0,0,0,null,null,null,0,""]
[8,"2019-02-19","2019-02-19",null,null,0,0,0,null,null,null,0,""]
[8,"2019-02-20","2019-02-20",null,null,0,0,0,null,null,null,0,""]
[8,"2019-02-21","2019-02-21",null,null,0,0,0,null,null,null,0,""]
[8,"2019-02-22","2019-02-22",null,null,0,0,0,null,null,null,0,""]
[8,"2019-02-23","2019-02-23",null,null,0,null,0,null,null,"za",0,"","Week",null,"OV WEEK","OV DAG","Recup -","Recup +","OV 50%"]
[8,"2019-02-24","2019-02-24",null,null,0,null,0,null,null,"zo",0,"",{"$f":"SUM(L58:L64)","v":0},{"$f":"SUM(H58:H64)","v":0},{"$f":"IF(N64>38,N64-38,0)","v":0},{"$f":"SUM(M58:M64)","v":0},{"$f":"SUM(I58:I64)","v":0},{"$f":"IF(N64>38,N64-38,0)","v":0},{"$f":"IF(P64>Q64,P64,Q64)","v":0}]
[9,"2019-02-25","2019-02-25",null,null,0,0,0,null,null,null,0,""]
[9,"2019-02-26","2019-02-26",null,null,0,0,0,null,null,null,0,""]
[9,"2019-02-27","2019-02-27",null,null,0,0,0,null,null,null,0,""]
[9,"2019-02-28","2019-02-28",null,null,0,0,0,null,null,null,0,""]
[9,"2019-03-01","2019-03-01",null,null,0,0,0,null,null,null,0,""]
[9,"2019-03-02","2019-03-02",null,null,0,null,0,null,null,"za",0,"","Week",null,"OV WEEK","OV DAG","Recup -","Recup +","OV 50%"]
[9,"2019-03-03","2019-03-03",null,null,0,null,0,null,null,"zo",0,"",{"$f":"SUM(L65:L71)","v":0},{"$f":"SUM(H65:H71)","v":0},{"$f":"IF(N71>38,N71-38,0)","v":0},{"$f":"SUM(M65:M71)","v":0},{"$f":"SUM(I65:I71)","v":0},{"$f":"IF(N71>38,N71-38,0)","v":0},{"$f":"IF(P71>Q71,P71,Q71)","v":0}]
[10,"2019-03-04","2019-03-04",null,null,0,0,0,null,null,null,0,""]
[10,"2019-03-05","2019-03-05",null,null,0,0,0,null,null,null,0,{"$f":"IF(L73>9,L73-9,\"\")","v":""}]
[{"$f":"WEEKNUM(C74,21)","v":10},{"$f":"C74","v":"2019-03-06"},"2019-03-06",null,null,{"$f":"(E74-D74)*24","v":0},{"$f":"IF(F74>=6,0.5,0)","v":0},{"$f":"F74-G74","v":0},null,null,null,{"$f":"SUM(H74:J74)","v":0},""]
[10,"2019-03-07","2019-03-07",null,null,0,0,0,null,null,null,0,""]
[10,"2019-03-08","2019-03-08",null,null,0,0,0,null,null,null,0,""]
[10,"2019-03-09","2019-03-09",null,null,0,null,0,null,null,"za",0,"","Week",null,"OV WEEK","OV DAG","Recup -","Recup +","OV 50%"]
[10,"2019-03-10","2019-03-10",null,null,0,null,0,null,null,"zo",0,"",{"$f":"SUM(L72:L78)","v":0},{"$f":"SUM(H72:H78)","v":0},{"$f":"IF(N78>38,N78-38,0)","v":0},{"$f":"SUM(M72:M78)","v":0},{"$f":"SUM(I72:I78)","v":0},{"$f":"IF(N78>38,N78-38,0)","v":0},{"$f":"IF(P78>Q78,P78,Q78)","v":0}]
[11,"2019-03-11","2019-03-11",null,null,0,0,0,null,null,null,0,""]
[11,"2019-03-12","2019-03-12",null,null,0,0,0,null,null,null,0,""]
[11,"2019-03-13","2019-03-13",null,null,0,0,0,null,null,null,0,""]
[11,"2019-03-14","2019-03-14",null,null,0,0,0,null,null,null,0,""]
[11,"2019-03-15","2019-03-15",null,null,0,0,0,null,null,null,0,""]
[11,"2019-03-16","2019-03-16",null,null,0,null,0,null,null,"za",0,"","Week",null,"OV WEEK","OV DAG","Recup -","Recup +","OV 50%"]
[11,"2019-03-17","2019-03-17",null,null,0,null,0,null,null,"zo",0,"",{"$f":"SUM(L79:L85)","v":0},{"$f":"SUM(H79:H85)","v":0},{"$f":"IF(N85>38,N85-38,0)","v":0},{"$f":"SUM(M79:M85)","v":0},{"$f":"SUM(I79:I85)","v":0},{"$f":"IF(N85>38,N85-38,0)","v":0},{"$f":"IF(P85>Q85,P85,Q85)","v":0}]
[12,"2019-03-18","2019-03-18",null,null,0,0,0,null,null,null,0,""]
[12,"2019-03-19","2019-03-19",null,null,0,0,0,null,null,null,0,""]
[12,"2019-03-20","2019-03-20",null,null,0,0,0,null,null,null,0,""]
[12,"2019-03-21","2019-03-21",null,null,0,0,0,null,null,null,0,""]
[12,"2019-03-22","2019-03-22",null,null,0,0,0,null,null,null,0,""]
[12,"2019-03-23","2019-03-23",null,null,0,null,0,null,null,"za",0,"","Week",null,"OV WEEK","OV DAG","Recup -","Recup +","OV 50%"]
[12,"2019-03-24","2019-03-24",null,null,0,null,0,null,null,"zo",0,"",{"$f":"SUM(L86:L92)","v":0},{"$f":"SUM(H86:H92)","v":0},{"$f":"IF(N92>38,N92-38,0)","v":0},{"$f":"SUM(M86:M92)","v":0},{"$f":"SUM(I86:I92)","v":0},{"$f":"IF(N92>38,N92-38,0)","v":0},{"$f":"IF(P92>Q92,P92,Q92)","v":0}]
[13,"2019-03-25","2019-03-25",null,null,0,0,0,null,null,null,0,""]
[13,"2019-03-26","2019-03-26",null,null,0,0,0,null,null,null,0,""]
[13,"2019-03-27","2019-03-27",null,null,0,0,0,null,null,null,0,""]
[13,"2019-03-28","2019-03-28",null,null,0,0,0,null,null,null,0,""]
[13,"2019-03-29","2019-03-29",null,null,0,0,0,null,null,null,0,""]
[13,"2019-03-30","2019-03-30",null,null,0,null,0,null,null,"za",0,"","Week",null,"OV WEEK","OV DAG","Recup -","Recup +","OV 50%"]
[13,"2019-03-31","2019-03-31",null,null,0,null,0,null,null,"zo",0,"",{"$f":"SUM(L93:L99)","v":0},{"$f":"SUM(H93:H99)","v":0},{"$f":"IF(N99>38,N99-38,0)","v":0},{"$f":"SUM(M93:M99)","v":0},{"$f":"SUM(I93:I99)","v":0},{"$f":"IF(N99>38,N99-38,0)","v":0},{"$f":"IF(P99>Q99,P99,Q99)","v":0}]
[14,"2019-04-01","2019-04-01",null,null,0,0,0,null,null,null,0,""]
[14,"2019-04-02","2019-04-02",null,null,0,0,0,null,null,null,0,""]
[14,"2019-04-03","2019-04-03",null,null,0,0,0,null,null,null,0,""]
[14,"2019-04-04","2019-04-04",null,null,0,0,0,null,null,null,0,""]
[14,"2019-04-05","2019-04-05",null,null,0,0,0,null,null,null,0,""]
[14,"2019-04-06","2019-04-06",null,null,0,null,0,null,null,"za",0,"","Week",null,"OV WEEK","OV DAG","Recup -","Recup +","OV 50%"]
[14,"2019-04-07","2019-04-07",null,null,0,null,0,null,null,"zo",0,"",{"$f":"SUM(L100:L106)","v":0},{"$f":"SUM(H100:H106)","v":0},{"$f":"IF(N106>38,N106-38,0)","v":0},{"$f":"SUM(M100:M106)","v":0},{"$f":"SUM(I100:I106)","v":0},{"$f":"IF(N106>38,N106-38,0)","v":0},{"$f":"IF(P106>Q106,P106,Q106)","v":0}]
[15,"2019-04-08","2019-04-08",null,null,0,0,0,null,null,null,0,""]
[15,"2019-04-09","2019-04-09",null,null,0,0,0,null,null,null,0,""]
[15,"2019-04-10","2019-04-10",null,null,0,0,0,null,null,null,0,""]
[15,"2019-04-11","2019-04-11",null,null,0,0,0,null,null,null,0,""]
[15,"2019-04-12","2019-04-12",null,null,0,0,0,null,null,null,0,""]
[15,"2019-04-13","2019-04-13",null,null,0,null,0,null,null,"za",0,"","Week",null,"OV WEEK","OV DAG","Recup -","Recup +","OV 50%"]
[15,"2019-04-14","2019-04-14",null,null,0,null,0,null,null,"zo",0,"",{"$f":"SUM(L107:L113)","v":0},{"$f":"SUM(H107:H113)","v":0},{"$f":"IF(N113>38,N113-38,0)","v":0},{"$f":"SUM(M107:M113)","v":0},{"$f":"SUM(I107:I113)","v":0},{"$f":"IF(N113>38,N113-38,0)","v":0},{"$f":"IF(P113>Q113,P113,Q113)","v":0}]
[16,"2019-04-15","2019-04-15",null,null,0,0,0,null,null,null,0,""]
[16,"2019-04-16","2019-04-16",null,null,0,0,0,null,null,null,0,""]
[16,"2019-04-17","2019-04-17",null,null,0,0,0,null,null,null,0,""]
[16,"2019-04-18","2019-04-18",null,null,0,0,0,null,null,null,0,""]
[16,"2019-04-19","2019-04-19",null,null,0,0,0,null,null,null,0,""]
[16,"2019-04-20","2019-04-20",null,null,0,null,0,null,null,"za",0,"","Week",null,"OV WEEK","OV DAG","Recup -","Recup +","OV 50%"]
[16,"2019-04-21","2019-04-21",null,null,0,null,0,null,null,"zo",0,"",{"$f":"SUM(L114:L120)","v":0},{"$f":"SUM(H114:H120)","v":0},{"$f":"IF(N120>38,N120-38,0)","v":0},{"$f":"SUM(M114:M120)","v":0},{"$f":"SUM(I114:I120)","v":0},{"$f":"IF(N120>38,N120-38,0)","v":0},{"$f":"IF(P120>Q120,P120,Q120)","v":0}]
[17,"2019-04-22","2019-04-22",null,null,0,0,0,null,7.6,"fd",7.6,""]
[17,"2019-04-23","2019-04-23",null,null,0,0,0,null,null,null,0,""]
[17,"2019-04-24","2019-04-24",null,null,0,0,0,null,null,null,0,""]
[17,"2019-04-25","2019-04-25",null,null,0,0,0,null,null,null,0,""]
[17,"2019-04-26","2019-04-26",null,null,0,0,0,null,null,null,0,""]
[17,"2019-04-27","2019-04-27",null,null,0,null,0,null,null,"za",0,"","Week",null,"OV WEEK","OV DAG","Recup -","Recup +","OV 50%"]
[17,"2019-04-28","2019-04-28",null,null,0,null,0,null,null,"zo",0,"",{"$f":"SUM(L121:L127)","v":7.6},{"$f":"SUM(H121:H127)","v":0},{"$f":"IF(N127>38,N127-38,0)","v":0},{"$f":"SUM(M121:M127)","v":0},{"$f":"SUM(I121:I127)","v":0},{"$f":"IF(N127>38,N127-38,0)","v":0},{"$f":"IF(P127>Q127,P127,Q127)","v":0}]
[18,"2019-04-29","2019-04-29",null,null,0,0,0,null,null,null,0,""]
[18,"2019-04-30","2019-04-30",null,null,0,0,0,null,null,null,0,""]
[18,"2019-05-01","2019-05-01",null,null,0,0,0,null,7.6,"fd",7.6,""]
[18,"2019-05-02","2019-05-02",null,null,0,0,0,null,null,null,0,""]
[18,"2019-05-03","2019-05-03",null,null,0,0,0,null,null,null,0,""]
[18,"2019-05-04","2019-05-04",null,null,0,null,0,null,null,"za",0,"","Week",null,"OV WEEK","OV DAG","Recup -","Recup +","OV 50%"]
[18,"2019-05-05","2019-05-05",null,null,0,null,0,null,null,"zo",0,"",{"$f":"SUM(L128:L134)","v":7.6},{"$f":"SUM(H128:H134)","v":0},{"$f":"IF(N134>38,N134-38,0)","v":0},{"$f":"SUM(M128:M134)","v":0},{"$f":"SUM(I128:I134)","v":0},{"$f":"IF(N134>38,N134-38,0)","v":0},{"$f":"IF(P134>Q134,P134,Q134)","v":0}]
[19,"2019-05-06","2019-05-06",null,null,0,0,0,null,null,null,0,""]
[19,"2019-05-07","2019-05-07",null,null,0,0,0,null,null,null,0,""]
[19,"2019-05-08","2019-05-08",null,null,0,0,0,null,null,null,0,{"$f":"IF(L137>9,L137-9,\"\")","v":""}]
[{"$f":"WEEKNUM(C138,21)","v":19},{"$f":"C138","v":"2019-05-09"},"2019-05-09",null,null,{"$f":"(E138-D138)*24","v":0},{"$f":"IF(F138>=6,0.5,0)","v":0},{"$f":"F138-G138","v":0},null,null,null,{"$f":"SUM(H138:J138)","v":0},""]
[19,"2019-05-10","2019-05-10",null,null,0,0,0,null,null,null,0,""]
[19,"2019-05-11","2019-05-11",null,null,0,null,0,null,null,"za",0,"","Week",null,"OV WEEK","OV DAG","Recup -","Recup +","OV 50%"]
[19,"2019-05-12","2019-05-12",null,null,0,null,0,null,null,"zo",0,"",{"$f":"SUM(L135:L141)","v":0},{"$f":"SUM(H135:H141)","v":0},{"$f":"IF(N141>38,N141-38,0)","v":0},{"$f":"SUM(M135:M141)","v":0},{"$f":"SUM(I135:I141)","v":0},{"$f":"IF(N141>38,N141-38,0)","v":0},{"$f":"IF(P141>Q141,P141,Q141)","v":0}]
[20,"2019-05-13","2019-05-13",null,null,0,0,0,null,null,null,0,""]
[20,"2019-05-14","2019-05-14",null,null,0,0,0,null,null,null,0,""]
[20,"2019-05-15","2019-05-15",null,null,0,0,0,null,null,null,0,""]
[20,"2019-05-16","2019-05-16",null,null,0,0,0,null,null,null,0,""]
[20,"2019-05-17","2019-05-17",null,null,0,0,0,null,null,null,0,""]
[20,"2019-05-18","2019-05-18",null,null,0,null,0,null,null,"za",0,"","Week",null,"OV WEEK","OV DAG","Recup -","Recup +","OV 50%"]
[20,"2019-05-19","2019-05-19",null,null,0,null,0,null,null,"zo",0,"",{"$f":"SUM(L142:L148)","v":0},{"$f":"SUM(H142:H148)","v":0},{"$f":"IF(N148>38,N148-38,0)","v":0},{"$f":"SUM(M142:M148)","v":0},{"$f":"SUM(I142:I148)","v":0},{"$f":"IF(N148>38,N148-38,0)","v":0},{"$f":"IF(P148>Q148,P148,Q148)","v":0}]
[21,"2019-05-20","2019-05-20",null,null,0,0,0,null,7.6,"fd",7.6,""]
[21,"2019-05-21","2019-05-21",null,null,0,0,0,null,null,null,0,""]
[21,"2019-05-22","2019-05-22",null,null,0,0,0,null,null,null,0,""]
[21,"2019-05-23","2019-05-23",null,null,0,0,0,null,null,null,0,""]
[21,"2019-05-24","2019-05-24",null,null,0,0,0,null,null,null,0,""]
[21,"2019-05-25","2019-05-25",null,null,0,null,0,null,null,"za",0,"","Week",null,"OV WEEK","OV DAG","Recup -","Recup +","OV 50%"]
[21,"2019-05-26","2019-05-26",null,null,0,null,0,null,null,"zo",0,"",{"$f":"SUM(L149:L155)","v":7.6},{"$f":"SUM(H149:H155)","v":0},{"$f":"IF(N155>38,N155-38,0)","v":0},{"$f":"SUM(M149:M155)","v":0},{"$f":"SUM(I149:I155)","v":0},{"$f":"IF(N155>38,N155-38,0)","v":0},{"$f":"IF(P155>Q155,P155,Q155)","v":0}]
[22,"2019-05-27","2019-05-27",null,null,0,0,0,null,null,null,0,""]
[22,"2019-05-28","2019-05-28",null,null,0,0,0,null,null,null,0,""]
[22,"2019-05-29","2019-05-29",null,null,0,0,0,null,null,null,0,""]
[22,"2019-05-30","2019-05-30",null,null,0,0,0,null,7.6,"fd",7.6,""]
[22,"2019-05-31","2019-05-31",null,null,0,0,0,null,null,null,0,""]
[22,"2019-06-01","2019-06-01",null,null,0,null,0,null,null,"za",0,"","Week",null,"OV WEEK","OV DAG","Recup -","Recup +","OV 50%"]
[22,"2019-06-02","2019-06-02",null,null,0,null,0,null,null,"zo",0,"",{"$f":"SUM(L156:L162)","v":7.6},{"$f":"SUM(H156:H162)","v":0},{"$f":"IF(N162>38,N162-38,0)","v":0},{"$f":"SUM(M156:M162)","v":0},{"$f":"SUM(I156:I162)","v":0},{"$f":"IF(N162>38,N162-38,0)","v":0},{"$f":"IF(P162>Q162,P162,Q162)","v":0}]
[23,"2019-06-03","2019-06-03",null,null,0,0,0,null,null,null,0,""]
[23,"2019-06-04","2019-06-04",null,null,0,0,0,null,null,null,0,""]
[23,"2019-06-05","2019-06-05",null,null,0,0,0,null,null,null,0,""]
[23,"2019-06-06","2019-06-06",null,null,0,0,0,null,null,null,0,""]
[23,"2019-06-07","2019-06-07",null,null,0,0,0,null,null,null,0,""]
[23,"2019-06-08","2019-06-08",null,null,0,null,0,null,null,"za",0,"","Week",null,"OV WEEK","OV DAG","Recup -","Recup +","OV 50%"]
[23,"2019-06-09","2019-06-09",null,null,0,null,0,null,null,"zo",0,"",{"$f":"SUM(L163:L169)","v":0},{"$f":"SUM(H163:H169)","v":0},{"$f":"IF(N169>38,N169-38,0)","v":0},{"$f":"SUM(M163:M169)","v":0},{"$f":"SUM(I163:I169)","v":0},{"$f":"IF(N169>38,N169-38,0)","v":0},{"$f":"IF(P169>Q169,P169,Q169)","v":0}]
[24,"2019-06-10","2019-06-10",null,null,0,0,0,null,7.6,"fd",7.6,""]
[24,"2019-06-11","2019-06-11",null,null,0,0,0,null,null,null,0,""]
[24,"2019-06-12","2019-06-12",null,null,0,0,0,null,null,null,0,""]
[24,"2019-06-13","2019-06-13",null,null,0,0,0,null,null,null,0,""]
[24,"2019-06-14","2019-06-14",null,null,0,0,0,null,null,null,0,""]
[24,"2019-06-15","2019-06-15",null,null,0,null,0,null,null,"za",0,"","Week",null,"OV WEEK","OV DAG","Recup -","Recup +","OV 50%"]
[24,"2019-06-16","2019-06-16",null,null,0,null,0,null,null,"zo",0,"",{"$f":"SUM(L170:L176)","v":7.6},{"$f":"SUM(H170:H176)","v":0},{"$f":"IF(N176>38,N176-38,0)","v":0},{"$f":"SUM(M170:M176)","v":0},{"$f":"SUM(I170:I176)","v":0},{"$f":"IF(N176>38,N176-38,0)","v":0},{"$f":"IF(P176>Q176,P176,Q176)","v":0}]
[25,"2019-06-17","2019-06-17",null,null,0,0,0,null,null,null,0,""]
[25,"2019-06-18","2019-06-18",null,null,0,0,0,null,null,null,0,""]
[25,"2019-06-19","2019-06-19",null,null,0,0,0,null,null,null,0,""]
[25,"2019-06-20","2019-06-20",null,null,0,0,0,null,null,null,0,""]
[25,"2019-06-21","2019-06-21",null,null,0,0,0,null,null,null,0,""]
[25,"2019-06-22","2019-06-22",null,null,0,null,0,null,null,"za",0,"","Week",null,"OV WEEK","OV DAG","Recup -","Recup +","OV 50%"]
[25,"2019-06-23","2019-06-23",null,null,0,null,0,null,null,"zo",0,"",{"$f":"SUM(L177:L183)","v":0},{"$f":"SUM(H177:H183)","v":0},{"$f":"IF(N183>38,N183-38,0)","v":0},{"$f":"SUM(M177:M183)","v":0},{"$f":"SUM(I177:I183)","v":0},{"$f":"IF(N183>38,N183-38,0)","v":0},{"$f":"IF(P183>Q183,P183,Q183)","v":0}]
[26,"2019-06-24","2019-06-24",null,null,0,0,0,null,null,null,0,""]
[26,"2019-06-25","2019-06-25",null,null,0,0,0,null,null,null,0,""]
[26,"2019-06-26","2019-06-26",null,null,0,0,0,null,null,null,0,""]
[26,"2019-06-27","2019-06-27",null,null,0,0,0,null,null,null,0,""]
[26,"2019-06-28","2019-06-28",null,null,0,0,0,null,null,null,0,""]
[26,"2019-06-29","2019-06-29",null,null,0,null,0,null,null,"za",0,"","Week",null,"OV WEEK","OV DAG","Recup -","Recup +","OV 50%"]
[26,"2019-06-30","2019-06-30",null,null,0,null,0,null,null,"zo",0,"",{"$f":"SUM(L184:L190)","v":0},{"$f":"SUM(H184:H190)","v":0},{"$f":"IF(N190>38,N190-38,0)","v":0},{"$f":"SUM(M184:M190)","v":0},{"$f":"SUM(I184:I190)","v":0},{"$f":"IF(N190>38,N190-38,0)","v":0},{"$f":"IF(P190>Q190,P190,Q190)","v":0}]
[27,"2019-07-01","2019-07-01",null,null,0,0,0,null,null,null,0,""]
[27,"2019-07-02","2019-07-02",null,null,0,0,0,null,null,null,0,""]
[27,"2019-07-03","2019-07-03",null,null,0,0,0,null,null,null,0,""]
[27,"2019-07-04","2019-07-04",null,null,0,0,0,null,null,null,0,""]
[27,"2019-07-05","2019-07-05",null,null,0,0,0,null,null,null,0,""]
[27,"2019-07-06","2019-07-06",null,null,0,null,0,null,null,"za",0,"","Week",null,"OV WEEK","OV DAG","Recup -","Recup +","OV 50%"]
[27,"2019-07-07","2019-07-07",null,null,0,null,0,null,null,"zo",0,"",{"$f":"SUM(L191:L197)","v":0},{"$f":"SUM(H191:H197)","v":0},{"$f":"IF(N197>38,N197-38,0)","v":0},{"$f":"SUM(M191:M197)","v":0},{"$f":"SUM(I191:I197)","v":0},{"$f":"IF(N197>38,N197-38,0)","v":0},{"$f":"IF(P197>Q197,P197,Q197)","v":0}]
[28,"2019-07-08","2019-07-08",null,null,0,0,0,null,null,null,0,""]
[28,"2019-07-09","2019-07-09",null,null,0,0,0,null,null,null,0,""]
[28,"2019-07-10","2019-07-10",null,null,0,0,0,null,null,null,0,""]
[28,"2019-07-11","2019-07-11",null,null,0,0,0,null,null,null,0,{"$f":"IF(L201>9,L201-9,\"\")","v":""}]
[{"$f":"WEEKNUM(C202,21)","v":28},{"$f":"C202","v":"2019-07-12"},"2019-07-12",null,null,{"$f":"(E202-D202)*24","v":0},{"$f":"IF(F202>=6,0.5,0)","v":0},{"$f":"F202-G202","v":0},null,null,null,{"$f":"SUM(H202:J202)","v":0},""]
[28,"2019-07-13","2019-07-13",null,null,0,null,0,null,null,"za",0,"","Week",null,"OV WEEK","OV DAG","Recup -","Recup +","OV 50%"]
[28,"2019-07-14","2019-07-14",null,null,0,null,0,null,null,"zo",0,"",{"$f":"SUM(L198:L204)","v":0},{"$f":"SUM(H198:H204)","v":0},{"$f":"IF(N204>38,N204-38,0)","v":0},{"$f":"SUM(M198:M204)","v":0},{"$f":"SUM(I198:I204)","v":0},{"$f":"IF(N204>38,N204-38,0)","v":0},{"$f":"IF(P204>Q204,P204,Q204)","v":0}]
[29,"2019-07-15","2019-07-15",null,null,0,0,0,null,null,null,0,""]
[29,"2019-07-16","2019-07-16",null,null,0,0,0,null,null,null,0,""]
[29,"2019-07-17","2019-07-17",null,null,0,0,0,null,null,null,0,""]
[29,"2019-07-18","2019-07-18",null,null,0,0,0,null,null,null,0,""]
[29,"2019-07-19","2019-07-19",null,null,0,0,0,null,null,null,0,""]
[29,"2019-07-20","2019-07-20",null,null,0,null,0,null,null,"za",0,"","Week",null,"OV WEEK","OV DAG","Recup -","Recup +","OV 50%"]
[29,"2019-07-21","2019-07-21",null,null,0,null,0,null,null,"zo",0,"",{"$f":"SUM(L205:L211)","v":0},{"$f":"SUM(H205:H211)","v":0},{"$f":"IF(N211>38,N211-38,0)","v":0},{"$f":"SUM(M205:M211)","v":0},{"$f":"SUM(I205:I211)","v":0},{"$f":"IF(N211>38,N211-38,0)","v":0},{"$f":"IF(P211>Q211,P211,Q211)","v":0}]
[30,"2019-07-22","2019-07-22",null,null,0,0,0,null,null,null,0,""]
[30,"2019-07-23","2019-07-23",null,null,0,0,0,null,null,null,0,""]
[30,"2019-07-24","2019-07-24",null,null,0,0,0,null,null,null,0,""]
[30,"2019-07-25","2019-07-25",null,null,0,0,0,null,null,null,0,""]
[30,"2019-07-26","2019-07-26",null,null,0,0,0,null,null,null,0,""]
[30,"2019-07-27","2019-07-27",null,null,0,null,0,null,null,"za",0,"","Week",null,"OV WEEK","OV DAG","Recup -","Recup +","OV 50%"]
[30,"2019-07-28","2019-07-28",null,null,0,null,0,null,null,"zo",0,"",{"$f":"SUM(L212:L218)","v":0},{"$f":"SUM(H212:H218)","v":0},{"$f":"IF(N218>38,N218-38,0)","v":0},{"$f":"SUM(M212:M218)","v":0},{"$f":"SUM(I212:I218)","v":0},{"$f":"IF(N218>38,N218-38,0)","v":0},{"$f":"IF(P218>Q218,P218,Q218)","v":0}]
[31,"2019-07-29","2019-07-29",null,null,0,0,0,null,null,null,0,""]
[31,"2019-07-30","2019-07-30",null,null,0,0,0,null,null,null,0,""]
[31,"2019-07-31","2019-07-31",null,null,0,0,0,null,null,null,0,""]
[31,"2019-08-01","2019-08-01",null,null,0,0,0,null,null,null,0,""]
[31,"2019-08-02","2019-08-02",null,null,0,0,0,null,null,null,0,""]
[31,"2019-08-03","2019-08-03",null,null,0,null,0,null,null,"za",0,"","Week",null,"OV WEEK","OV DAG","Recup -","Recup +","OV 50%"]
[31,"2019-08-04","2019-08-04",null,null,0,null,0,null,null,"zo",0,"",{"$f":"SUM(L219:L225)","v":0},{"$f":"SUM(H219:H225)","v":0},{"$f":"IF(N225>38,N225-38,0)","v":0},{"$f":"SUM(M219:M225)","v":0},{"$f":"SUM(I219:I225)","v":0},{"$f":"IF(N225>38,N225-38,0)","v":0},{"$f":"IF(P225>Q225,P225,Q225)","v":0}]
[32,"2019-08-05","2019-08-05",null,null,0,0,0,null,null,null,0,""]
[32,"2019-08-06","2019-08-06",null,null,0,0,0,null,null,null,0,""]
[32,"2019-08-07","2019-08-07",null,null,0,0,0,null,null,null,0,""]
[32,"2019-08-08","2019-08-08",null,null,0,0,0,null,null,null,0,""]
[32,"2019-08-09","2019-08-09",null,null,0,0,0,null,null,null,0,""]
[32,"2019-08-10","2019-08-10",null,null,0,null,0,null,null,"za",0,"","Week",null,"OV WEEK","OV DAG","Recup -","Recup +","OV 50%"]
[32,"2019-08-11","2019-08-11",null,null,0,null,0,null,null,"zo",0,"",{"$f":"SUM(L226:L232)","v":0},{"$f":"SUM(H226:H232)","v":0},{"$f":"IF(N232>38,N232-38,0)","v":0},{"$f":"SUM(M226:M232)","v":0},{"$f":"SUM(I226:I232)","v":0},{"$f":"IF(N232>38,N232-38,0)","v":0},{"$f":"IF(P232>Q232,P232,Q232)","v":0}]
[33,"2019-08-12","2019-08-12",null,null,0,0,0,null,null,null,0,""]
[33,"2019-08-13","2019-08-13",null,null,0,0,0,null,null,null,0,""]
[33,"2019-08-14","2019-08-14",null,null,0,0,0,null,null,null,0,""]
[33,"2019-08-15","2019-08-15",null,null,0,0,0,null,7.6,"fd",7.6,""]
[33,"2019-08-16","2019-08-16",null,null,0,0,0,null,null,null,0,""]
[33,"2019-08-17","2019-08-17",null,null,0,null,0,null,null,"za",0,"","Week",null,"OV WEEK","OV DAG","Recup -","Recup +","OV 50%"]
[33,"2019-08-18","2019-08-18",null,null,0,null,0,null,null,"zo",0,"",{"$f":"SUM(L233:L239)","v":7.6},{"$f":"SUM(H233:H239)","v":0},{"$f":"IF(N239>38,N239-38,0)","v":0},{"$f":"SUM(M233:M239)","v":0},{"$f":"SUM(I233:I239)","v":0},{"$f":"IF(N239>38,N239-38,0)","v":0},{"$f":"IF(P239>Q239,P239,Q239)","v":0}]
[34,"2019-08-19","2019-08-19",null,null,0,0,0,null,null,null,0,""]
[34,"2019-08-20","2019-08-20",null,null,0,{"$f":"IF(F241>=6,0.5,0)","v":0},0,null,null,null,0,""]
[34,"2019-08-21","2019-08-21",null,null,0,0,0,null,null,null,0,""]
[34,"2019-08-22","2019-08-22",null,null,0,0,0,null,null,null,0,""]
[34,"2019-08-23","2019-08-23",null,null,0,0,0,null,null,null,0,""]
[34,"2019-08-24","2019-08-24",null,null,0,null,0,null,null,"za",0,"","Week",null,"OV WEEK","OV DAG","Recup -","Recup +","OV 50%"]
[34,"2019-08-25","2019-08-25",null,null,0,null,0,null,null,"zo",0,"",{"$f":"SUM(L240:L246)","v":0},{"$f":"SUM(H240:H246)","v":0},{"$f":"IF(N246>38,N246-38,0)","v":0},{"$f":"SUM(M240:M246)","v":0},{"$f":"SUM(I240:I246)","v":0},{"$f":"IF(N246>38,N246-38,0)","v":0},{"$f":"IF(P246>Q246,P246,Q246)","v":0}]
[35,"2019-08-26","2019-08-26",null,null,0,0,0,null,null,null,0,""]
[35,"2019-08-27","2019-08-27",null,null,0,0,0,null,null,null,0,""]
[35,"2019-08-28","2019-08-28",null,null,0,0,0,null,null,null,0,""]
[35,"2019-08-29","2019-08-29",null,null,0,0,0,null,null,null,0,""]
[35,"2019-08-30","2019-08-30",null,null,0,0,0,null,null,null,0,""]
[35,"2019-08-31","2019-08-31",null,null,0,null,0,null,null,"za",0,"","Week",null,"OV WEEK","OV DAG","Recup -","Recup +","OV 50%"]
[35,"2019-09-01","2019-09-01",null,null,0,null,0,null,null,"zo",0,"",{"$f":"SUM(L247:L253)","v":0},{"$f":"SUM(H247:H253)","v":0},{"$f":"IF(N253>38,N253-38,0)","v":0},{"$f":"SUM(M247:M253)","v":0},{"$f":"SUM(I247:I253)","v":0},{"$f":"IF(N253>38,N253-38,0)","v":0},{"$f":"IF(P253>Q253,P253,Q253)","v":0}]
[36,"2019-09-02","2019-09-02",null,null,0,0,0,null,null,null,0,""]
[36,"2019-09-03","2019-09-03",null,null,0,0,0,null,null,null,0,""]
[36,"2019-09-04","2019-09-04",null,null,0,0,0,null,null,null,0,""]
[36,"2019-09-05","2019-09-05",null,null,0,0,0,null,null,null,0,""]
[36,"2019-09-06","2019-09-06",null,null,0,0,0,null,null,null,0,""]
[36,"2019-09-07","2019-09-07",null,null,0,null,0,null,null,"za",0,"","Week",null,"OV WEEK","OV DAG","Recup -","Recup +","OV 50%"]
[36,"2019-09-08","2019-09-08",null,null,0,null,0,null,null,"zo",0,"",{"$f":"SUM(L254:L260)","v":0},{"$f":"SUM(H254:H260)","v":0},{"$f":"IF(N260>38,N260-38,0)","v":0},{"$f":"SUM(M254:M260)","v":0},{"$f":"SUM(I254:I260)","v":0},{"$f":"IF(N260>38,N260-38,0)","v":0},{"$f":"IF(P260>Q260,P260,Q260)","v":0}]
[37,"2019-09-09","2019-09-09",null,null,0,0,0,null,null,null,0,""]
[37,"2019-09-10","2019-09-10",null,null,0,0,0,null,null,null,0,""]
[37,"2019-09-11","2019-09-11",null,null,0,0,0,null,null,null,0,""]
[37,"2019-09-12","2019-09-12",null,null,0,0,0,null,null,null,0,""]
[37,"2019-09-13","2019-09-13",null,null,0,0,0,null,null,null,0,{"$f":"IF(L265>9,L265-9,\"\")","v":""}]
[{"$f":"WEEKNUM(C266,21)","v":37},{"$f":"C266","v":"2019-09-14"},"2019-09-14",null,null,{"$f":"(E266-D266)*24","v":0},null,{"$f":"F266-G266","v":0},null,null,"za",{"$f":"SUM(H266:J266)","v":0},"","Week",null,"OV WEEK","OV DAG","Recup -","Recup +","OV 50%"]
[37,"2019-09-15","2019-09-15",null,null,0,null,0,null,null,"zo",0,"",{"$f":"SUM(L261:L267)","v":0},{"$f":"SUM(H261:H267)","v":0},{"$f":"IF(N267>38,N267-38,0)","v":0},{"$f":"SUM(M261:M267)","v":0},{"$f":"SUM(I261:I267)","v":0},{"$f":"IF(N267>38,N267-38,0)","v":0},{"$f":"IF(P267>Q267,P267,Q267)","v":0}]
[38,"2019-09-16","2019-09-16",null,null,0,{"$f":"IF(F268>=6,0.5,0)","v":0},0,null,null,null,0,""]
[38,"2019-09-17","2019-09-17",null,null,0,0,0,null,null,null,0,""]
[38,"2019-09-18","2019-09-18",null,null,0,0,0,null,null,null,0,""]
[38,"2019-09-19","2019-09-19",null,null,0,0,0,null,null,null,0,""]
[38,"2019-09-20","2019-09-20",null,null,0,0,0,null,null,null,0,""]
[38,"2019-09-21","2019-09-21",null,null,0,null,0,null,null,"za",0,"","Week",null,"OV WEEK","OV DAG","Recup -","Recup +","OV 50%"]
[38,"2019-09-22","2019-09-22",null,null,0,null,0,null,null,"zo",0,"",{"$f":"SUM(L268:L274)","v":0},{"$f":"SUM(H268:H274)","v":0},{"$f":"IF(N274>38,N274-38,0)","v":0},{"$f":"SUM(M268:M274)","v":0},{"$f":"SUM(I268:I274)","v":0},{"$f":"IF(N274>38,N274-38,0)","v":0},{"$f":"IF(P274>Q274,P274,Q274)","v":0}]
[39,"2019-09-23","2019-09-23",null,null,0,0,0,null,null,null,0,""]
[39,"2019-09-24","2019-09-24",null,null,0,0,0,null,null,null,0,""]
[39,"2019-09-25","2019-09-25",null,null,0,0,0,null,null,null,0,""]
[39,"2019-09-26","2019-09-26",null,null,0,0,0,null,null,null,0,""]
[39,"2019-09-27","2019-09-27",null,null,0,0,0,null,null,null,0,""]
[39,"2019-09-28","2019-09-28",null,null,0,null,0,null,null,"za",0,"","Week",null,"OV WEEK","OV DAG","Recup -","Recup +","OV 50%"]
[39,"2019-09-29","2019-09-29",null,null,0,null,0,null,null,"zo",0,"",{"$f":"SUM(L275:L281)","v":0},{"$f":"SUM(H275:H281)","v":0},{"$f":"IF(N281>38,N281-38,0)","v":0},{"$f":"SUM(M275:M281)","v":0},{"$f":"SUM(I275:I281)","v":0},{"$f":"IF(N281>38,N281-38,0)","v":0},{"$f":"IF(P281>Q281,P281,Q281)","v":0}]
[40,"2019-09-30","2019-09-30",null,null,0,0,0,null,null,null,0,""]
[40,"2019-10-01","2019-10-01",null,null,0,0,0,null,null,null,0,""]
[40,"2019-10-02","2019-10-02",null,null,0,0,0,null,null,null,0,""]
[40,"2019-10-03","2019-10-03",null,null,0,0,0,null,null,null,0,""]
[40,"2019-10-04","2019-10-04",null,null,0,0,0,null,null,null,0,""]
[40,"2019-10-05","2019-10-05",null,null,0,null,0,null,null,"za",0,"","Week",null,"OV WEEK","OV DAG","Recup -","Recup +","OV 50%"]
[40,"2019-10-06","2019-10-06",null,null,0,null,0,null,null,"zo",0,"",{"$f":"SUM(L282:L288)","v":0},{"$f":"SUM(H282:H288)","v":0},{"$f":"IF(N288>38,N288-38,0)","v":0},{"$f":"SUM(M282:M288)","v":0},{"$f":"SUM(I282:I288)","v":0},{"$f":"IF(N288>38,N288-38,0)","v":0},{"$f":"IF(P288>Q288,P288,Q288)","v":0}]
[41,"2019-10-07","2019-10-07",null,null,0,0,0,null,null,null,0,""]
[41,"2019-10-08","2019-10-08",null,null,0,0,0,null,null,null,0,""]
[41,"2019-10-09","2019-10-09",null,null,0,0,0,null,null,null,0,""]
[41,"2019-10-10","2019-10-10",null,null,0,0,0,null,null,null,0,""]
[41,"2019-10-11","2019-10-11",null,null,0,0,0,null,null,null,0,""]
[41,"2019-10-12","2019-10-12",null,null,0,null,0,null,null,"za",0,"","Week",null,"OV WEEK","OV DAG","Recup -","Recup +","OV 50%"]
[41,"2019-10-13","2019-10-13",null,null,0,null,0,null,null,"zo",0,"",{"$f":"SUM(L289:L295)","v":0},{"$f":"SUM(H289:H295)","v":0},{"$f":"IF(N295>38,N295-38,0)","v":0},{"$f":"SUM(M289:M295)","v":0},{"$f":"SUM(I289:I295)","v":0},{"$f":"IF(N295>38,N295-38,0)","v":0},{"$f":"IF(P295>Q295,P295,Q295)","v":0}]
[42,"2019-10-14","2019-10-14",null,null,0,0,0,null,null,null,0,""]
[42,"2019-10-15","2019-10-15",null,null,0,0,0,null,null,null,0,""]
[42,"2019-10-16","2019-10-16",null,null,0,0,0,null,null,null,0,""]
[42,"2019-10-17","2019-10-17",null,null,0,0,0,null,null,null,0,""]
[42,"2019-10-18","2019-10-18",null,null,0,0,0,null,null,null,0,""]
[42,"2019-10-19","2019-10-19",null,null,0,null,0,null,null,"za",0,"","Week",null,"OV WEEK","OV DAG","Recup -","Recup +","OV 50%"]
[42,"2019-10-20","2019-10-20",null,null,0,null,0,null,null,"zo",0,"",{"$f":"SUM(L296:L302)","v":0},{"$f":"SUM(H296:H302)","v":0},{"$f":"IF(N302>38,N302-38,0)","v":0},{"$f":"SUM(M296:M302)","v":0},{"$f":"SUM(I296:I302)","v":0},{"$f":"IF(N302>38,N302-38,0)","v":0},{"$f":"IF(P302>Q302,P302,Q302)","v":0}]
[43,"2019-10-21","2019-10-21",null,null,0,0,0,null,null,null,0,""]
[43,"2019-10-22","2019-10-22",null,null,0,0,0,null,null,null,0,""]
[43,"2019-10-23","2019-10-23",null,null,0,0,0,null,null,null,0,""]
[43,"2019-10-24","2019-10-24",null,null,0,0,0,null,null,null,0,""]
[43,"2019-10-25","2019-10-25",null,null,0,0,0,null,null,null,0,""]
[43,"2019-10-26","2019-10-26",null,null,0,null,0,null,null,"za",0,"","Week",null,"OV WEEK","OV DAG","Recup -","Recup +","OV 50%"]
[43,"2019-10-27","2019-10-27",null,null,0,null,0,null,null,"zo",0,"",{"$f":"SUM(L303:L309)","v":0},{"$f":"SUM(H303:H309)","v":0},{"$f":"IF(N309>38,N309-38,0)","v":0},{"$f":"SUM(M303:M309)","v":0},{"$f":"SUM(I303:I309)","v":0},{"$f":"IF(N309>38,N309-38,0)","v":0},{"$f":"IF(P309>Q309,P309,Q309)","v":0}]
[44,"2019-10-28","2019-10-28",null,null,0,0,0,null,null,null,0,""]
[44,"2019-10-29","2019-10-29",null,null,0,0,0,null,null,null,0,""]
[44,"2019-10-30","2019-10-30",null,null,0,0,0,null,null,null,0,""]
[44,"2019-10-31","2019-10-31",null,null,0,0,0,null,null,null,0,""]
[44,"2019-11-01","2019-11-01",null,null,0,0,0,null,7.6,"fd",7.6,""]
[44,"2019-11-02","2019-11-02",null,null,0,null,0,null,null,"za",0,"","Week",null,"OV WEEK","OV DAG","Recup -","Recup +","OV 50%"]
[44,"2019-11-03","2019-11-03",null,null,0,null,0,null,null,"zo",0,"",{"$f":"SUM(L310:L316)","v":7.6},{"$f":"SUM(H310:H316)","v":0},{"$f":"IF(N316>38,N316-38,0)","v":0},{"$f":"SUM(M310:M316)","v":0},{"$f":"SUM(I310:I316)","v":0},{"$f":"IF(N316>38,N316-38,0)","v":0},{"$f":"IF(P316>Q316,P316,Q316)","v":0}]
[45,"2019-11-04","2019-11-04",null,null,0,0,0,null,null,null,0,""]
[45,"2019-11-05","2019-11-05",null,null,0,0,0,null,null,null,0,""]
[45,"2019-11-06","2019-11-06",null,null,0,0,0,null,null,null,0,""]
[45,"2019-11-07","2019-11-07",null,null,0,0,0,null,null,null,0,""]
[45,"2019-11-08","2019-11-08",null,null,0,0,0,null,null,null,0,""]
[45,"2019-11-09","2019-11-09",null,null,0,null,0,null,null,"za",0,"","Week",null,"OV WEEK","OV DAG","Recup -","Recup +","OV 50%"]
[45,"2019-11-10","2019-11-10",null,null,0,null,0,null,null,"zo",0,"",{"$f":"SUM(L317:L323)","v":0},{"$f":"SUM(H317:H323)","v":0},{"$f":"IF(N323>38,N323-38,0)","v":0},{"$f":"SUM(M317:M323)","v":0},{"$f":"SUM(I317:I323)","v":0},{"$f":"IF(N323>38,N323-38,0)","v":0},{"$f":"IF(P323>Q323,P323,Q323)","v":0}]
[46,"2019-11-11","2019-11-11",null,null,0,0,0,null,7.6,"fd",7.6,""]
[46,"2019-11-12","2019-11-12",null,null,0,0,0,null,null,null,0,""]
[46,"2019-11-13","2019-11-13",null,null,0,0,0,null,null,null,0,""]
[46,"2019-11-14","2019-11-14",null,null,0,0,0,null,null,null,0,""]
[46,"2019-11-15","2019-11-15",null,null,0,0,0,null,null,null,0,""]
[46,"2019-11-16","2019-11-16",null,null,0,null,0,null,null,"za",0,{"$f":"IF(L329>9,L329-9,\"\")","v":""},"Week",null,"OV WEEK","OV DAG","Recup -","Recup +","OV 50%"]
[{"$f":"WEEKNUM(C330,21)","v":46},{"$f":"C330","v":"2019-11-17"},"2019-11-17",null,null,{"$f":"(E330-D330)*24","v":0},null,{"$f":"F330-G330","v":0},null,null,"zo",{"$f":"SUM(H330:J330)","v":0},"",{"$f":"SUM(L324:L330)","v":7.6},{"$f":"SUM(H324:H330)","v":0},{"$f":"IF(N330>38,N330-38,0)","v":0},{"$f":"SUM(M324:M330)","v":0},{"$f":"SUM(I324:I330)","v":0},{"$f":"IF(N330>38,N330-38,0)","v":0},{"$f":"IF(P330>Q330,P330,Q330)","v":0}]
[47,"2019-11-18","2019-11-18",null,null,0,{"$f":"IF(F331>=6,0.5,0)","v":0},0,null,null,null,0,""]
[47,"2019-11-19","2019-11-19",null,null,0,0,0,null,null,null,0,""]
[47,"2019-11-20","2019-11-20",null,null,0,0,0,null,null,null,0,""]
[47,"2019-11-21","2019-11-21",null,null,0,0,0,null,null,null,0,""]
[47,"2019-11-22","2019-11-22",null,null,0,0,0,null,null,null,0,""]
[47,"2019-11-23","2019-11-23",null,null,0,null,0,null,null,"za",0,"","Week",null,"OV WEEK","OV DAG","Recup -","Recup +","OV 50%"]
[47,"2019-11-24","2019-11-24",null,null,0,null,0,null,null,"zo",0,"",{"$f":"SUM(L331:L337)","v":0},{"$f":"SUM(H331:H337)","v":0},{"$f":"IF(N337>38,N337-38,0)","v":0},{"$f":"SUM(M331:M337)","v":0},{"$f":"SUM(I331:I337)","v":0},{"$f":"IF(N337>38,N337-38,0)","v":0},{"$f":"IF(P337>Q337,P337,Q337)","v":0}]
[48,"2019-11-25","2019-11-25",null,null,0,0,0,null,null,null,0,""]
[48,"2019-11-26","2019-11-26",null,null,0,0,0,null,null,null,0,""]
[48,"2019-11-27","2019-11-27",null,null,0,0,0,null,null,null,0,""]
[48,"2019-11-28","2019-11-28",null,null,0,0,0,null,null,null,0,""]
[48,"2019-11-29","2019-11-29",null,null,0,0,0,null,null,null,0,""]
[48,"2019-11-30","2019-11-30",null,null,0,null,0,null,null,"za",0,"","Week",null,"OV WEEK","OV DAG","Recup -","Recup +","OV 50%"]
[48,"2019-12-01","2019-12-01",null,null,0,null,0,null,null,"zo",0,"",{"$f":"SUM(L338:L344)","v":0},{"$f":"SUM(H338:H344)","v":0},{"$f":"IF(N344>38,N344-38,0)","v":0},{"$f":"SUM(M338:M344)","v":0},{"$f":"SUM(I338:I344)","v":0},{"$f":"IF(N344>38,N344-38,0)","v":0},{"$f":"IF(P344>Q344,P344,Q344)","v":0}]
[49,"2019-12-02","2019-12-02",null,null,0,0,0,null,null,null,0,""]
[49,"2019-12-03","2019-12-03",null,null,0,0,0,null,null,null,0,""]
[49,"2019-12-04","2019-12-04",null,null,0,0,0,null,null,null,0,""]
[49,"2019-12-05","2019-12-05",null,null,0,0,0,null,null,null,0,""]
[49,"2019-12-06","2019-12-06",null,null,0,0,0,null,null,null,0,""]
[49,"2019-12-07","2019-12-07",null,null,0,null,0,null,null,"za",0,"","Week",null,"OV WEEK","OV DAG","Recup -","Recup +","OV 50%"]
[49,"2019-12-08","2019-12-08",null,null,0,null,0,null,null,"zo",0,"",{"$f":"SUM(L345:L351)","v":0},{"$f":"SUM(H345:H351)","v":0},{"$f":"IF(N351>38,N351-38,0)","v":0},{"$f":"SUM(M345:M351)","v":0},{"$f":"SUM(I345:I351)","v":0},{"$f":"IF(N351>38,N351-38,0)","v":0},{"$f":"IF(P351>Q351,P351,Q351)","v":0}]
[50,"2019-12-09","2019-12-09",null,null,0,0,0,null,null,null,0,""]
[50,"2019-12-10","2019-12-10",null,null,0,0,0,null,null,null,0,""]
[50,"2019-12-11","2019-12-11",null,null,0,0,0,null,null,null,0,""]
[50,"2019-12-12","2019-12-12",null,null,0,0,0,null,null,null,0,""]
[50,"2019-12-13","2019-12-13",null,null,0,0,0,null,null,null,0,""]
[50,"2019-12-14","2019-12-14",null,null,0,null,0,null,null,"za",0,"","Week",null,"OV WEEK","OV DAG","Recup -","Recup +","OV 50%"]
[50,"2019-12-15","2019-12-15",null,null,0,null,0,null,null,"zo",0,"",{"$f":"SUM(L352:L358)","v":0},{"$f":"SUM(H352:H358)","v":0},{"$f":"IF(N358>38,N358-38,0)","v":0},{"$f":"SUM(M352:M358)","v":0},{"$f":"SUM(I352:I358)","v":0},{"$f":"IF(N358>38,N358-38,0)","v":0},{"$f":"IF(P358>Q358,P358,Q358)","v":0}]
[51,"2019-12-16","2019-12-16",null,null,0,0,0,null,null,null,0,""]
[51,"2019-12-17","2019-12-17",null,null,0,0,0,null,null,null,0,""]
[51,"2019-12-18","2019-12-18",null,null,0,0,0,null,null,null,0,""]
[51,"2019-12-19","2019-12-19",null,null,0,0,0,null,null,null,0,""]
[51,"2019-12-20","2019-12-20",null,null,0,0,0,null,null,null,0,""]
[51,"2019-12-21","2019-12-21",null,null,0,null,0,null,null,"za",0,"","Week",null,"OV WEEK","OV DAG","Recup -","Recup +","OV 50%"]
[51,"2019-12-22","2019-12-22",null,null,0,null,0,null,null,"zo",0,"",{"$f":"SUM(L359:L365)","v":0},{"$f":"SUM(H359:H365)","v":0},{"$f":"IF(N365>38,N365-38,0)","v":0},{"$f":"SUM(M359:M365)","v":0},{"$f":"SUM(I359:I365)","v":0},{"$f":"IF(N365>38,N365-38,0)","v":0},{"$f":"IF(P365>Q365,P365,Q365)","v":0}]
[52,"2019-12-23","2019-12-23",null,null,0,0,0,null,null,null,0,""]
[52,"2019-12-24","2019-12-24",null,null,0,0,0,null,null,null,0,""]
[52,"2019-12-25","2019-12-25",null,null,0,0,0,null,7.6,"fd",7.6,""]
[52,"2019-12-26","2019-12-26",null,null,0,0,0,null,null,null,0,""]
[52,"2019-12-27","2019-12-27",null,null,0,0,0,null,null,null,0,""]
[52,"2019-12-28","2019-12-28",null,null,0,null,0,null,null,"za",0,"","Week",null,"OV WEEK","OV DAG","Recup -","Recup +","OV 50%"]
[52,"2019-12-29","2019-12-29",null,null,0,null,0,null,null,"zo",0,"",{"$f":"SUM(L366:L372)","v":7.6},{"$f":"SUM(H366:H372)","v":0},{"$f":"IF(N372>38,N372-38,0)","v":0},{"$f":"SUM(M366:M372)","v":0},{"$f":"SUM(I366:I372)","v":0},{"$f":"IF(N372>38,N372-38,0)","v":0},{"$f":"IF(P372>Q372,P372,Q372)","v":0}]
[1,"2019-12-30","2019-12-30",null,null,0,0,0,null,null,null,0,""]
[1,"2019-12-31","2019-12-31",null,null,0,0,0,null,null,null,0,""]
[1,"2020-01-01","2020-01-01",null,null,0,0,0,null,7.6,"fd",7.6,""]
[1,"2020-01-02","2020-01-02",null,null,0,0,0,null,null,null,0,""]
[1,"2020-01-03","2020-01-03",null,null,0,0,0,null,null,null,0,""]
[1,"2020-01-04","2020-01-04",null,null,0,null,0,null,null,"za",0,"","Week",null,"OV WEEK","OV DAG","Recup -","Recup +","OV 50%"]
[1,"2020-01-05","2020-01-05",null,null,0,null,0,null,null,"zo",0,"",{"$f":"SUM(L373:L379)","v":7.6},{"$f":"SUM(H373:H379)","v":0},{"$f":"IF(N379>38,N379-38,0)","v":0},{"$f":"SUM(M373:M379)","v":0},{"$f":"SUM(I373:I379)","v":0},{"$f":"IF(N379>38,N379-38,0)","v":0},{"$f":"IF(P379>Q379,P379,Q379)","v":0}]

{"sheet":"85","index":17,"n_rows":379,"n_cols":35,"rows_kept":379,"cut":false,"hidden":false,"merged":[[6,21,6,24],[6,25,6,28],[6,29,6,32],[6,33,6,34],[0,1,1,12],[4,21,4,23],[4,25,4,28],[4,29,4,32],[4,33,4,34],[5,21,5,23],[5,25,5,28],[5,29,5,32],[5,33,5,34],[2,21,2,23],[2,25,2,28],[2,29,2,32],[2,33,2,34],[3,21,3,23],[3,25,3,28],[3,29,3,32],[3,33,3,34],[0,21,0,24],[0,25,0,28],[0,29,0,32],[0,33,0,34],[1,21,1,23],[1,25,1,28],[1,29,1,32],[1,33,1,34]]}
["85","Teibe Galid",null,null,null,null,null,null,null,null,null,null,null,null,null,null,null,null,null,null,null,"Soort",null,null,null,"Recht op",null,null,null,"Opgenomen",null,null,null,"Saldo"]
[null,null,null,null,null,null,null,null,null,null,null,null,null,null,null,null,null,null,null,null,null,"ADV-dagen",null,null,"adv",null,null,null,null,{"$f":"(COUNTIF(W$9:AH$39,\"ADV\")+(COUNTIF(W$9:AH$39,\"0,5ADV\"))/2)","v":0},null,null,null,{"$f":"Z2-AD2","v":0}]
[null,null,null,null,null,null,null,null,null,null,null,null,null,null,null,null,null,null,null,null,null,"Vakantie 2019",null,null,"v",null,null,null,null,{"$f":"(COUNTIF(W$9:AH$39,\"V\")+(COUNTIF(W$9:AH$39,\"0,5V\"))/2)","v":0},null,null,null,{"$f":"Z3-AD3","v":0}]
[null,null,"40-uren week",null,null,null,null,null,null,null,null,null,null,"Feestdag in weekend 2019",null,null,null,null,"Recup 2018",null,null,"Feestdag 2019",null,null,"f",1,null,null,null,{"$f":"(COUNTIF(W$9:AH$39,\"F\")+(COUNTIF(W$9:AH$39,\"0,5F\"))/2)","v":0},null,null,null,1]
[null,null,null,null,null,null,null,null,null,null,null,null,null,"- nationale feestdag 21/7",null,null,null,null,null,null,null,"Vakantie rest 2018",null,null,"vvj",null,null,null,null,{"$f":"(COUNTIF(W$9:AH$39,\"vvj\")+(COUNTIF(W$9:AH$39,\"0,5vvj\"))/2)","v":0},null,null,null,0]
[null,null,null,null,null,null,null,null,null,null,null,null,null,null,null,null,null,null,"Recup",{"$f":"SUM(S9:S379)-SUM(R9:R379)+T5+T4","v":0},null,"Anciënniteitsdagen",null,null,"a ",null,null,null,null,{"$f":"(COUNTIF(W$9:AH$39,\"A\")+(COUNTIF(W$9:AH$39,\"0,5A\"))/2)","v":0},null,null,null,0]
[null,null,null,null,null,null,null,null,null,null,null,null,null,null,null,null,null,null,null,null,null,"TOTAAL",null,null,null,{"$f":"SUM(Z2:AC6)","v":1},null,null,null,{"$f":"SUM(AD2:AG6)","v":0},null,null,null,{"$f":"SUM(AH2:AI6)","v":1}]
["W","Dag","Datum","Van ","Tot",null,"Pauze","Prestaties","Recup","Andere","Type","Dag","OV DAG","Week","Prestaties","OV WEEK","OV DAG","Rec. -","Rec. +","OV 50%","M",null,"Jan","Feb","Maa","Apr","Mei","Jun","Jul","Aug","Sept","Okt","Nov","Dec"]
[{"$f":"WEEKNUM(C9,21)","v":1},{"$f":"C9","v":"2018-12-31"},"2018-12-31",null,null,{"$f":"(E9-D9)*24","v":0},{"$f":"IF(F9>=6,0.5,0)","v":0},{"$f":"F9-G9","v":0},null,8,"OK",{"$f":"SUM(H9:J9)","v":8},{"$f":"IF(L9>9,L9-9,\"\")","v":""},"OA",null,null,null,null,null,null,0,1,{"$f":"K9","v":"OK"},{"$f":"K40","v":0},{"$f":"K68","v":0},{"$f":"K99","v":"zo"},{"$f":"K129","v":0},{"$f":"K160","v":0},{"$f":"K190","v":"zo"},{"$f":"K221","v":0},{"$f":"K252","v":"za"},{"$f":"K282","v":0},{"$f":"K313","v":0},{"$f":"K343","v":"za"},1]
[{"$f":"WEEKNUM(C10,21)","v":1},{"$f":"C10","v":"2019-01-01"},"2019-01-01",null,null,{"$f":"(E10-D10)*24","v":0},{"$f":"IF(F10>=6,0.5,0)","v":0},{"$f":"F10-G10","v":0},null,8,"fd",{"$f":"SUM(H10:J10)","v":8},"","zie 2018 !!!",null,null,null,null,null,null,0,2,{"$f":"K10","v":"fd"},{"$f":"K41","v":0},{"$f":"K69","v":0},{"$f":"K100","v":0},{"$f":"K130","v":"fd"},{"$f":"K161","v":"za"},{"$f":"K191","v":0},{"$f":"K222","v":0},{"$f":"K253","v":"zo"},{"$f":"K283","v":0},{"$f":"K314","v":"fd"},{"$f":"K344","v":"zo"},2]
[1,"2019-01-02","2019-01-02",null,null,0,0,0,null,8,"ZOA",8,"","Geen attest!",null,null,null,null,null,null,null,3,"ZOA","za","za",0,0,"zo",0,0,0,0,"za",0,3]
[1,"2019-01-03","2019-01-03",null,null,0,0,0,null,8,"ZOA",8,"","Geen attest!",null,null,null,null,null,null,null,4,"ZOA","zo","zo",0,0,0,0,"za",0,0,"zo",0,4]
[1,"2019-01-04","2019-01-04",null,null,0,0,0,null,8,"ZOA",8,"","Geen attest!",null,null,null,null,null,null,null,5,"ZOA",0,0,0,"za",0,0,"zo",0,0,0,{"$f":"K347","v":0},5]
[1,"2019-01-05","2019-01-05",null,null,0,null,0,null,null,"za",0,"","Week",null,"OV WEEK","OV DAG","Recup -","Recup +","OV 50%",null,6,"za",0,0,0,"zo",0,0,0,0,"za",0,0,6]
[1,"2019-01-06","2019-01-06",null,null,0,null,0,null,null,"zo",0,"",{"$f":"SUM(L9:L15)","v":40},{"$f":"SUM(H9:H15)","v":0},{"$f":"IF(N15>40,N15-40,0)","v":0},{"$f":"SUM(M9:M15)","v":0},{"$f":"SUM(I9:I15)","v":0},{"$f":"IF(N15>40,N15-40,0)","v":0},{"$f":"IF(P15>Q15,P15,Q15)","v":0},null,7,"zo",0,0,"za",0,0,"za",0,0,"zo",0,0,7]
[2,"2019-01-07","2019-01-07",null,null,0,0,0,null,8,"z",8,"","Ziektebriefje 07/01 - 11/01 OK",null,null,null,null,null,null,null,8,"z",0,0,"zo",0,0,"zo",0,"za",0,0,"za",8]
[2,"2019-01-08","2019-01-08",null,null,0,0,0,null,8,"z",8,"",null,null,null,null,null,null,null,null,9,"z",0,0,0,0,"za",0,0,"zo",0,0,"zo",9]
[2,"2019-01-09","2019-01-09",null,null,0,0,0,null,8,"z",8,"",null,null,null,null,null,null,null,null,10,"z","za","za",0,0,"zo",0,0,0,0,"za",0,10]
[2,"2019-01-10","2019-01-10",null,null,0,0,0,null,8,"z",8,"",null,null,null,null,null,null,null,null,11,"z","zo","zo",0,0,"fd",0,"za",0,0,"zo",0,11]
[2,"2019-01-11","2019-01-11",null,null,0,0,0,null,8,"z",8,"",null,null,null,null,null,null,null,null,12,"z",0,0,0,"za",0,0,"zo",0,0,"fd",0,12]
[2,"2019-01-12","2019-01-12",null,null,0,null,0,null,null,"za",0,"","Week",null,"OV WEEK","OV DAG","Recup -","Recup +","OV 50%",null,13,"za",0,0,0,"zo",0,0,0,0,"za",0,0,13]
[2,"2019-01-13","2019-01-13",null,null,0,null,0,null,null,"zo",0,"",{"$f":"SUM(L16:L22)","v":40},{"$f":"SUM(H16:H22)","v":0},{"$f":"IF(N22>40,N22-40,0)","v":0},{"$f":"SUM(M16:M22)","v":0},{"$f":"SUM(I16:I22)","v":0},{"$f":"IF(N22>40,N22-40,0)","v":0},{"$f":"IF(P22>Q22,P22,Q22)","v":0},null,14,"zo",0,0,"za",0,0,"za",0,0,"zo",0,0,14]
[3,"2019-01-14","2019-01-14",null,null,0,0,0,null,8,"z",8,"","Ziektebriefje 14/01 - 18/01  OK",null,null,null,null,null,null,null,15,"z",0,0,"zo",0,0,"zo",0,"za",0,0,"za",15]
[3,"2019-01-15","2019-01-15",null,null,0,0,0,null,8,"z",8,"",null,null,null,null,null,null,null,null,16,"z",0,0,0,0,"za",0,"fd","zo",0,0,"zo",16]
[3,"2019-01-16","2019-01-16",null,null,0,0,0,null,8,"z",8,"",null,null,null,null,null,null,null,null,17,"z","za","za",0,0,"zo",0,0,0,0,"za",0,17]
[3,"2019-01-17","2019-01-17",null,null,0,0,0,null,8,"z",8,"",null,null,null,null,null,null,null,null,18,"z","zo","zo",0,0,0,0,"za",0,0,"zo",0,18]
[3,"2019-01-18","2019-01-18",null,null,0,0,0,null,8,"z",8,"",null,null,null,null,null,null,null,null,19,"z",0,0,0,"za",0,0,"zo",0,0,0,0,19]
[3,"2019-01-19","2019-01-19",null,null,0,null,0,null,null,"za",0,"","Week",null,"OV WEEK","OV DAG","Recup -","Recup +","OV 50%",null,20,"za",0,0,0,"zo",0,0,0,0,"za",0,{"$f":"K362","v":0},20]
[3,"2019-01-20","2019-01-20",null,null,0,null,0,null,null,"zo",0,"",{"$f":"SUM(L23:L29)","v":40},{"$f":"SUM(H23:H29)","v":0},{"$f":"IF(N29>40,N29-40,0)","v":0},{"$f":"SUM(M23:M29)","v":0},{"$f":"SUM(I23:I29)","v":0},{"$f":"IF(N29>40,N29-40,0)","v":0},{"$f":"IF(P29>Q29,P29,Q29)","v":0},null,21,"zo",0,0,"za","fd",0,"za",0,0,"zo",0,0,21]
[4,"2019-01-21","2019-01-21",null,null,0,0,0,null,null,null,0,"",null,null,null,null,null,null,null,null,22,0,0,0,"zo",0,0,"zo",0,"za",0,0,"za",22]
[4,"2019-01-22","2019-01-22",null,null,0,0,0,null,null,null,0,"",null,null,null,null,null,null,null,null,23,0,0,0,"fd",0,"za",0,0,"zo",0,0,"zo",23]
[4,"2019-01-23","2019-01-23",null,null,0,0,0,null,null,null,0,"",null,null,null,null,null,null,null,null,24,0,"za","za",0,0,"zo",0,0,0,0,"za",0,24]
[4,"2019-01-24","2019-01-24",null,null,0,0,0,null,null,null,0,"",null,null,null,null,null,null,null,null,25,0,"zo","zo",0,0,0,0,"za",0,0,"zo",0,25]
[4,"2019-01-25","2019-01-25",null,null,0,0,0,null,null,null,0,"",null,null,null,null,null,null,null,null,26,0,0,0,0,"za",0,0,"zo",0,0,0,"fd",26]
[4,"2019-01-26","2019-01-26",null,null,0,null,0,null,null,"za",0,"","Week",null,"OV WEEK","OV DAG","Recup -","Recup +","OV 50%",null,27,"za",0,0,0,"zo",0,0,0,0,"za",0,0,27]
[4,"2019-01-27","2019-01-27",null,null,0,null,0,null,null,"zo",0,"",{"$f":"SUM(L30:L36)","v":0},{"$f":"SUM(H30:H36)","v":0},{"$f":"IF(N36>40,N36-40,0)","v":0},{"$f":"SUM(M30:M36)","v":0},{"$f":"SUM(I30:I36)","v":0},{"$f":"IF(N36>40,N36-40,0)","v":0},{"$f":"IF(P36>Q36,P36,Q36)","v":0},null,28,"zo",0,0,"za",0,0,"za",0,0,"zo",0,0,28]
[5,"2019-01-28","2019-01-28",null,null,0,0,0,null,null,null,0,"",null,null,null,null,null,null,null,null,29,0,null,0,"zo",0,0,"zo",0,"za",0,0,"za",29]
[5,"2019-01-29","2019-01-29",null,null,0,0,0,null,null,null,0,"",null,null,null,null,null,null,null,null,30,0,null,0,0,0,"za",0,0,"zo",0,0,"zo",30]
[5,"2019-01-30","2019-01-30",null,null,0,0,0,null,null,null,0,"",null,null,null,null,null,null,null,null,31,0,null,"za",null,"fd",null,0,0,null,0,null,0,31]
[5,"2019-01-31","2019-01-31",null,null,0,0,0,null,null,null,0,"",null,null,null,null,null,null,null,null,"WD",23,20,21,22,23,20,23,22,21,23,21,22,{"$f":"SUM(W40:AH40)","v":261}]
[5,"2019-02-01","2019-02-01",null,null,0,0,0,null,null,null,0,""]
[5,"2019-02-02","2019-02-02",null,null,0,null,0,null,null,"za",0,"","Week",null,"OV WEEK","OV DAG","Recup -","Recup +","OV 50%"]
[5,"2019-02-03","2019-02-03",null,null,0,null,0,null,null,"zo",0,"",{"$f":"SUM(L37:L43)","v":0},{"$f":"SUM(H37:H43)","v":0},{"$f":"IF(N43>40,N43-40,0)","v":0},{"$f":"SUM(M37:M43)","v":0},{"$f":"SUM(I37:I43)","v":0},{"$f":"IF(N43>40,N43-40,0)","v":0},{"$f":"IF(P43>Q43,P43,Q43)","v":0}]
[6,"2019-02-04","2019-02-04",null,null,0,0,0,null,null,null,0,""]
[6,"2019-02-05","2019-02-05",null,null,0,0,0,null,null,null,0,""]
[6,"2019-02-06","2019-02-06",null,null,0,0,0,null,null,null,0,""]
[6,"2019-02-07","2019-02-07",null,null,0,0,0,null,null,null,0,""]
[6,"2019-02-08","2019-02-08",null,null,0,0,0,null,null,null,0,""]
[6,"2019-02-09","2019-02-09",null,null,0,null,0,null,null,"za",0,"","Week",null,"OV WEEK","OV DAG","Recup -","Recup +","OV 50%"]
[6,"2019-02-10","2019-02-10",null,null,0,null,0,null,null,"zo",0,"",{"$f":"SUM(L44:L50)","v":0},{"$f":"SUM(H44:H50)","v":0},{"$f":"IF(N50>40,N50-40,0)","v":0},{"$f":"SUM(M44:M50)","v":0},{"$f":"SUM(I44:I50)","v":0},{"$f":"IF(N50>40,N50-40,0)","v":0},{"$f":"IF(P50>Q50,P50,Q50)","v":0}]
[7,"2019-02-11","2019-02-11",null,null,0,0,0,null,null,null,0,""]
[7,"2019-02-12","2019-02-12",null,null,0,0,0,null,null,null,0,""]
[7,"2019-02-13","2019-02-13",null,null,0,0,0,null,null,null,0,""]
[7,"2019-02-14","2019-02-14",null,null,0,0,0,null,null,null,0,""]
[7,"2019-02-15","2019-02-15",null,null,0,0,0,null,null,null,0,""]
[7,"2019-02-16","2019-02-16",null,null,0,null,0,null,null,"za",0,"","Week",null,"OV WEEK","OV DAG","Recup -","Recup +","OV 50%"]
[7,"2019-02-17","2019-02-17",null,null,0,null,0,null,null,"zo",0,"",{"$f":"SUM(L51:L57)","v":0},{"$f":"SUM(H51:H57)","v":0},{"$f":"IF(N57>40,N57-40,0)","v":0},{"$f":"SUM(M51:M57)","v":0},{"$f":"SUM(I51:I57)","v":0},{"$f":"IF(N57>40,N57-40,0)","v":0},{"$f":"IF(P57>Q57,P57,Q57)","v":0}]
[8,"2019-02-18","2019-02-18",null,null,0,0,0,null,null,null,0,""]
[8,"2019-02-19","2019-02-19",null,null,0,0,0,null,null,null,0,""]
[8,"2019-02-20","2019-02-20",null,null,0,0,0,null,null,null,0,""]
[8,"2019-02-21","2019-02-21",null,null,0,0,0,null,null,null,0,""]
[8,"2019-02-22","2019-02-22",null,null,0,0,0,null,null,null,0,""]
[8,"2019-02-23","2019-02-23",null,null,0,null,0,null,null,"za",0,"","Week",null,"OV WEEK","OV DAG","Recup -","Recup +","OV 50%"]
[8,"2019-02-24","2019-02-24",null,null,0,null,0,null,null,"zo",0,"",{"$f":"SUM(L58:L64)","v":0},{"$f":"SUM(H58:H64)","v":0},{"$f":"IF(N64>40,N64-40,0)","v":0},{"$f":"SUM(M58:M64)","v":0},{"$f":"SUM(I58:I64)","v":0},{"$f":"IF(N64>40,N64-40,0)","v":0},{"$f":"IF(P64>Q64,P64,Q64)","v":0}]
[9,"2019-02-25","2019-02-25",null,null,0,0,0,null,null,null,0,""]
[9,"2019-02-26","2019-02-26",null,null,0,0,0,null,null,null,0,""]
[9,"2019-02-27","2019-02-27",null,null,0,0,0,null,null,null,0,""]
[9,"2019-02-28","2019-02-28",null,null,0,0,0,null,null,null,0,""]
[9,"2019-03-01","2019-03-01",null,null,0,0,0,null,null,null,0,""]
[9,"2019-03-02","2019-03-02",null,null,0,null,0,null,null,"za",0,"","Week",null,"OV WEEK","OV DAG","Recup -","Recup +","OV 50%"]
[9,"2019-03-03","2019-03-03",null,null,0,null,0,null,null,"zo",0,"",{"$f":"SUM(L65:L71)","v":0},{"$f":"SUM(H65:H71)","v":0},{"$f":"IF(N71>40,N71-40,0)","v":0},{"$f":"SUM(M65:M71)","v":0},{"$f":"SUM(I65:I71)","v":0},{"$f":"IF(N71>40,N71-40,0)","v":0},{"$f":"IF(P71>Q71,P71,Q71)","v":0}]
[10,"2019-03-04","2019-03-04",null,null,0,0,0,null,null,null,0,""]
[10,"2019-03-05","2019-03-05",null,null,0,0,0,null,null,null,0,{"$f":"IF(L73>9,L73-9,\"\")","v":""}]
[{"$f":"WEEKNUM(C74,21)","v":10},{"$f":"C74","v":"2019-03-06"},"2019-03-06",null,null,{"$f":"(E74-D74)*24","v":0},{"$f":"IF(F74>=6,0.5,0)","v":0},{"$f":"F74-G74","v":0},null,null,null,{"$f":"SUM(H74:J74)","v":0},""]
[10,"2019-03-07","2019-03-07",null,null,0,0,0,null,null,null,0,""]
[10,"2019-03-08","2019-03-08",null,null,0,0,0,null,null,null,0,""]
[10,"2019-03-09","2019-03-09",null,null,0,null,0,null,null,"za",0,"","Week",null,"OV WEEK","OV DAG","Recup -","Recup +","OV 50%"]
[10,"2019-03-10","2019-03-10",null,null,0,null,0,null,null,"zo",0,"",{"$f":"SUM(L72:L78)","v":0},{"$f":"SUM(H72:H78)","v":0},{"$f":"IF(N78>40,N78-40,0)","v":0},{"$f":"SUM(M72:M78)","v":0},{"$f":"SUM(I72:I78)","v":0},{"$f":"IF(N78>40,N78-40,0)","v":0},{"$f":"IF(P78>Q78,P78,Q78)","v":0}]
[11,"2019-03-11","2019-03-11",null,null,0,0,0,null,null,null,0,""]
[11,"2019-03-12","2019-03-12",null,null,0,0,0,null,null,null,0,""]
[11,"2019-03-13","2019-03-13",null,null,0,0,0,null,null,null,0,""]
[11,"2019-03-14","2019-03-14",null,null,0,0,0,null,null,null,0,""]
[11,"2019-03-15","2019-03-15",null,null,0,0,0,null,null,null,0,""]
[11,"2019-03-16","2019-03-16",null,null,0,null,0,null,null,"za",0,"","Week",null,"OV WEEK","OV DAG","Recup -","Recup +","OV 50%"]
[11,"2019-03-17","2019-03-17",null,null,0,null,0,null,null,"zo",0,"",{"$f":"SUM(L79:L85)","v":0},{"$f":"SUM(H79:H85)","v":0},{"$f":"IF(N85>40,N85-40,0)","v":0},{"$f":"SUM(M79:M85)","v":0},{"$f":"SUM(I79:I85)","v":0},{"$f":"IF(N85>40,N85-40,0)","v":0},{"$f":"IF(P85>Q85,P85,Q85)","v":0}]
[12,"2019-03-18","2019-03-18",null,null,0,0,0,null,null,null,0,""]
[12,"2019-03-19","2019-03-19",null,null,0,0,0,null,null,null,0,""]
[12,"2019-03-20","2019-03-20",null,null,0,0,0,null,null,null,0,""]
[12,"2019-03-21","2019-03-21",null,null,0,0,0,null,null,null,0,""]
[12,"2019-03-22","2019-03-22",null,null,0,0,0,null,null,null,0,""]
[12,"2019-03-23","2019-03-23",null,null,0,null,0,null,null,"za",0,"","Week",null,"OV WEEK","OV DAG","Recup -","Recup +","OV 50%"]
[12,"2019-03-24","2019-03-24",null,null,0,null,0,null,null,"zo",0,"",{"$f":"SUM(L86:L92)","v":0},{"$f":"SUM(H86:H92)","v":0},{"$f":"IF(N92>40,N92-40,0)","v":0},{"$f":"SUM(M86:M92)","v":0},{"$f":"SUM(I86:I92)","v":0},{"$f":"IF(N92>40,N92-40,0)","v":0},{"$f":"IF(P92>Q92,P92,Q92)","v":0}]
[13,"2019-03-25","2019-03-25",null,null,0,0,0,null,null,null,0,""]
[13,"2019-03-26","2019-03-26",null,null,0,0,0,null,null,null,0,""]
[13,"2019-03-27","2019-03-27",null,null,0,0,0,null,null,null,0,""]
[13,"2019-03-28","2019-03-28",null,null,0,0,0,null,null,null,0,""]
[13,"2019-03-29","2019-03-29",null,null,0,0,0,null,null,null,0,""]
[13,"2019-03-30","2019-03-30",null,null,0,null,0,null,null,"za",0,"","Week",null,"OV WEEK","OV DAG","Recup -","Recup +","OV 50%"]
[13,"2019-03-31","2019-03-31",null,null,0,null,0,null,null,"zo",0,"",{"$f":"SUM(L93:L99)","v":0},{"$f":"SUM(H93:H99)","v":0},{"$f":"IF(N99>40,N99-40,0)","v":0},{"$f":"SUM(M93:M99)","v":0},{"$f":"SUM(I93:I99)","v":0},{"$f":"IF(N99>40,N99-40,0)","v":0},{"$f":"IF(P99>Q99,P99,Q99)","v":0}]
[14,"2019-04-01","2019-04-01",null,null,0,0,0,null,null,null,0,""]
[14,"2019-04-02","2019-04-02",null,null,0,0,0,null,null,null,0,""]
[14,"2019-04-03","2019-04-03",null,null,0,0,0,null,null,null,0,""]
[14,"2019-04-04","2019-04-04",null,null,0,0,0,null,null,null,0,""]
[14,"2019-04-05","2019-04-05",null,null,0,0,0,null,null,null,0,""]
[14,"2019-04-06","2019-04-06",null,null,0,null,0,null,null,"za",0,"","Week",null,"OV WEEK","OV DAG","Recup -","Recup +","OV 50%"]
[14,"2019-04-07","2019-04-07",null,null,0,null,0,null,null,"zo",0,"",{"$f":"SUM(L100:L106)","v":0},{"$f":"SUM(H100:H106)","v":0},{"$f":"IF(N106>40,N106-40,0)","v":0},{"$f":"SUM(M100:M106)","v":0},{"$f":"SUM(I100:I106)","v":0},{"$f":"IF(N106>40,N106-40,0)","v":0},{"$f":"IF(P106>Q106,P106,Q106)","v":0}]
[15,"2019-04-08","2019-04-08",null,null,0,0,0,null,null,null,0,""]
[15,"2019-04-09","2019-04-09",null,null,0,0,0,null,null,null,0,""]
[15,"2019-04-10","2019-04-10",null,null,0,0,0,null,null,null,0,""]
[15,"2019-04-11","2019-04-11",null,null,0,0,0,null,null,null,0,""]
[15,"2019-04-12","2019-04-12",null,null,0,0,0,null,null,null,0,""]
[15,"2019-04-13","2019-04-13",null,null,0,null,0,null,null,"za",0,"","Week",null,"OV WEEK","OV DAG","Recup -","Recup +","OV 50%"]
[15,"2019-04-14","2019-04-14",null,null,0,null,0,null,null,"zo",0,"",{"$f":"SUM(L107:L113)","v":0},{"$f":"SUM(H107:H113)","v":0},{"$f":"IF(N113>40,N113-40,0)","v":0},{"$f":"SUM(M107:M113)","v":0},{"$f":"SUM(I107:I113)","v":0},{"$f":"IF(N113>40,N113-40,0)","v":0},{"$f":"IF(P113>Q113,P113,Q113)","v":0}]
[16,"2019-04-15","2019-04-15",null,null,0,0,0,null,null,null,0,""]
[16,"2019-04-16","2019-04-16",null,null,0,0,0,null,null,null,0,""]
[16,"2019-04-17","2019-04-17",null,null,0,0,0,null,null,null,0,""]
[16,"2019-04-18","2019-04-18",null,null,0,0,0,null,null,null,0,""]
[16,"2019-04-19","2019-04-19",null,null,0,0,0,null,null,null,0,""]
[16,"2019-04-20","2019-04-20",null,null,0,null,0,null,null,"za",0,"","Week",null,"OV WEEK","OV DAG","Recup -","Recup +","OV 50%"]
[16,"2019-04-21","2019-04-21",null,null,0,null,0,null,null,"zo",0,"",{"$f":"SUM(L114:L120)","v":0},{"$f":"SUM(H114:H120)","v":0},{"$f":"IF(N120>40,N120-40,0)","v":0},{"$f":"SUM(M114:M120)","v":0},{"$f":"SUM(I114:I120)","v":0},{"$f":"IF(N120>40,N120-40,0)","v":0},{"$f":"IF(P120>Q120,P120,Q120)","v":0}]
[17,"2019-04-22","2019-04-22",null,null,0,0,0,null,7.6,"fd",7.6,""]
[17,"2019-04-23","2019-04-23",null,null,0,0,0,null,null,null,0,""]
[17,"2019-04-24","2019-04-24",null,null,0,0,0,null,null,null,0,""]
[17,"2019-04-25","2019-04-25",null,null,0,0,0,null,null,null,0,""]
[17,"2019-04-26","2019-04-26",null,null,0,0,0,null,null,null,0,""]
[17,"2019-04-27","2019-04-27",null,null,0,null,0,null,null,"za",0,"","Week",null,"OV WEEK","OV DAG","Recup -","Recup +","OV 50%"]
[17,"2019-04-28","2019-04-28",null,null,0,null,0,null,null,"zo",0,"",{"$f":"SUM(L121:L127)","v":7.6},{"$f":"SUM(H121:H127)","v":0},{"$f":"IF(N127>40,N127-40,0)","v":0},{"$f":"SUM(M121:M127)","v":0},{"$f":"SUM(I121:I127)","v":0},{"$f":"IF(N127>40,N127-40,0)","v":0},{"$f":"IF(P127>Q127,P127,Q127)","v":0}]
[18,"2019-04-29","2019-04-29",null,null,0,0,0,null,null,null,0,""]
[18,"2019-04-30","2019-04-30",null,null,0,0,0,null,null,null,0,""]
[18,"2019-05-01","2019-05-01",null,null,0,0,0,null,7.6,"fd",7.6,""]
[18,"2019-05-02","2019-05-02",null,null,0,0,0,null,null,null,0,""]
[18,"2019-05-03","2019-05-03",null,null,0,0,0,null,null,null,0,""]
[18,"2019-05-04","2019-05-04",null,null,0,null,0,null,null,"za",0,"","Week",null,"OV WEEK","OV DAG","Recup -","Recup +","OV 50%"]
[18,"2019-05-05","2019-05-05",null,null,0,null,0,null,null,"zo",0,"",{"$f":"SUM(L128:L134)","v":7.6},{"$f":"SUM(H128:H134)","v":0},{"$f":"IF(N134>40,N134-40,0)","v":0},{"$f":"SUM(M128:M134)","v":0},{"$f":"SUM(I128:I134)","v":0},{"$f":"IF(N134>40,N134-40,0)","v":0},{"$f":"IF(P134>Q134,P134,Q134)","v":0}]
[19,"2019-05-06","2019-05-06",null,null,0,0,0,null,null,null,0,""]
[19,"2019-05-07","2019-05-07",null,null,0,0,0,null,null,null,0,""]
[19,"2019-05-08","2019-05-08",null,null,0,0,0,null,null,null,0,{"$f":"IF(L137>9,L137-9,\"\")","v":""}]
[{"$f":"WEEKNUM(C138,21)","v":19},{"$f":"C138","v":"2019-05-09"},"2019-05-09",null,null,{"$f":"(E138-D138)*24","v":0},{"$f":"IF(F138>=6,0.5,0)","v":0},{"$f":"F138-G138","v":0},null,null,null,{"$f":"SUM(H138:J138)","v":0},""]
[19,"2019-05-10","2019-05-10",null,null,0,0,0,null,null,null,0,""]
[19,"2019-05-11","2019-05-11",null,null,0,null,0,null,null,"za",0,"","Week",null,"OV WEEK","OV DAG","Recup -","Recup +","OV 50%"]
[19,"2019-05-12","2019-05-12",null,null,0,null,0,null,null,"zo",0,"",{"$f":"SUM(L135:L141)","v":0},{"$f":"SUM(H135:H141)","v":0},{"$f":"IF(N141>40,N141-40,0)","v":0},{"$f":"SUM(M135:M141)","v":0},{"$f":"SUM(I135:I141)","v":0},{"$f":"IF(N141>40,N141-40,0)","v":0},{"$f":"IF(P141>Q141,P141,Q141)","v":0}]
[20,"2019-05-13","2019-05-13",null,null,0,0,0,null,null,null,0,""]
[20,"2019-05-14","2019-05-14",null,null,0,0,0,null,null,null,0,""]
[20,"2019-05-15","2019-05-15",null,null,0,0,0,null,null,null,0,""]
[20,"2019-05-16","2019-05-16",null,null,0,0,0,null,null,null,0,""]
[20,"2019-05-17","2019-05-17",null,null,0,0,0,null,null,null,0,""]
[20,"2019-05-18","2019-05-18",null,null,0,null,0,null,null,"za",0,"","Week",null,"OV WEEK","OV DAG","Recup -","Recup +","OV 50%"]
[20,"2019-05-19","2019-05-19",null,null,0,null,0,null,null,"zo",0,"",{"$f":"SUM(L142:L148)","v":0},{"$f":"SUM(H142:H148)","v":0},{"$f":"IF(N148>40,N148-40,0)","v":0},{"$f":"SUM(M142:M148)","v":0},{"$f":"SUM(I142:I148)","v":0},{"$f":"IF(N148>40,N148-40,0)","v":0},{"$f":"IF(P148>Q148,P148,Q148)","v":0}]
[21,"2019-05-20","2019-05-20",null,null,0,0,0,null,7.6,"fd",7.6,""]
[21,"2019-05-21","2019-05-21",null,null,0,0,0,null,null,null,0,""]
[21,"2019-05-22","2019-05-22",null,null,0,0,0,null,null,null,0,""]
[21,"2019-05-23","2019-05-23",null,null,0,0,0,null,null,null,0,""]
[21,"2019-05-24","2019-05-24",null,null,0,0,0,null,null,null,0,""]
[21,"2019-05-25","2019-05-25",null,null,0,null,0,null,null,"za",0,"","Week",null,"OV WEEK","OV DAG","Recup -","Recup +","OV 50%"]
[21,"2019-05-26","2019-05-26",null,null,0,null,0,null,null,"zo",0,"",{"$f":"SUM(L149:L155)","v":7.6},{"$f":"SUM(H149:H155)","v":0},{"$f":"IF(N155>40,N155-40,0)","v":0},{"$f":"SUM(M149:M155)","v":0},{"$f":"SUM(I149:I155)","v":0},{"$f":"IF(N155>40,N155-40,0)","v":0},{"$f":"IF(P155>Q155,P155,Q155)","v":0}]
[22,"2019-05-27","2019-05-27",null,null,0,0,0,null,null,null,0,""]
[22,"2019-05-28","2019-05-28",null,null,0,0,0,null,null,null,0,""]
[22,"2019-05-29","2019-05-29",null,null,0,0,0,null,null,null,0,""]
[22,"2019-05-30","2019-05-30",null,null,0,0,0,null,7.6,"fd",7.6,""]
[22,"2019-05-31","2019-05-31",null,null,0,0,0,null,null,null,0,""]
[22,"2019-06-01","2019-06-01",null,null,0,null,0,null,null,"za",0,"","Week",null,"OV WEEK","OV DAG","Recup -","Recup +","OV 50%"]
[22,"2019-06-02","2019-06-02",null,null,0,null,0,null,null,"zo",0,"",{"$f":"SUM(L156:L162)","v":7.6},{"$f":"SUM(H156:H162)","v":0},{"$f":"IF(N162>40,N162-40,0)","v":0},{"$f":"SUM(M156:M162)","v":0},{"$f":"SUM(I156:I162)","v":0},{"$f":"IF(N162>40,N162-40,0)","v":0},{"$f":"IF(P162>Q162,P162,Q162)","v":0}]
[23,"2019-06-03","2019-06-03",null,null,0,0,0,null,null,null,0,""]
[23,"2019-06-04","2019-06-04",null,null,0,0,0,null,null,null,0,""]
[23,"2019-06-05","2019-06-05",null,null,0,0,0,null,null,null,0,""]
[23,"2019-06-06","2019-06-06",null,null,0,0,0,null,null,null,0,""]
[23,"2019-06-07","2019-06-07",null,null,0,0,0,null,null,null,0,""]
[23,"2019-06-08","2019-06-08",null,null,0,null,0,null,null,"za",0,"","Week",null,"OV WEEK","OV DAG","Recup -","Recup +","OV 50%"]
[23,"2019-06-09","2019-06-09",null,null,0,null,0,null,null,"zo",0,"",{"$f":"SUM(L163:L169)","v":0},{"$f":"SUM(H163:H169)","v":0},{"$f":"IF(N169>40,N169-40,0)","v":0},{"$f":"SUM(M163:M169)","v":0},{"$f":"SUM(I163:I169)","v":0},{"$f":"IF(N169>40,N169-40,0)","v":0},{"$f":"IF(P169>Q169,P169,Q169)","v":0}]
[24,"2019-06-10","2019-06-10",null,null,0,0,0,null,7.6,"fd",7.6,""]
[24,"2019-06-11","2019-06-11",null,null,0,0,0,null,null,null,0,""]
[24,"2019-06-12","2019-06-12",null,null,0,0,0,null,null,null,0,""]
[24,"2019-06-13","2019-06-13",null,null,0,0,0,null,null,null,0,""]
[24,"2019-06-14","2019-06-14",null,null,0,0,0,null,null,null,0,""]
[24,"2019-06-15","2019-06-15",null,null,0,null,0,null,null,"za",0,"","Week",null,"OV WEEK","OV DAG","Recup -","Recup +","OV 50%"]
[24,"2019-06-16","2019-06-16",null,null,0,null,0,null,null,"zo",0,"",{"$f":"SUM(L170:L176)","v":7.6},{"$f":"SUM(H170:H176)","v":0},{"$f":"IF(N176>40,N176-40,0)","v":0},{"$f":"SUM(M170:M176)","v":0},{"$f":"SUM(I170:I176)","v":0},{"$f":"IF(N176>40,N176-40,0)","v":0},{"$f":"IF(P176>Q176,P176,Q176)","v":0}]
[25,"2019-06-17","2019-06-17",null,null,0,0,0,null,null,null,0,""]
[25,"2019-06-18","2019-06-18",null,null,0,0,0,null,null,null,0,""]
[25,"2019-06-19","2019-06-19",null,null,0,0,0,null,null,null,0,""]
[25,"2019-06-20","2019-06-20",null,null,0,0,0,null,null,null,0,""]
[25,"2019-06-21","2019-06-21",null,null,0,0,0,null,null,null,0,""]
[25,"2019-06-22","2019-06-22",null,null,0,null,0,null,null,"za",0,"","Week",null,"OV WEEK","OV DAG","Recup -","Recup +","OV 50%"]
[25,"2019-06-23","2019-06-23",null,null,0,null,0,null,null,"zo",0,"",{"$f":"SUM(L177:L183)","v":0},{"$f":"SUM(H177:H183)","v":0},{"$f":"IF(N183>40,N183-40,0)","v":0},{"$f":"SUM(M177:M183)","v":0},{"$f":"SUM(I177:I183)","v":0},{"$f":"IF(N183>40,N183-40,0)","v":0},{"$f":"IF(P183>Q183,P183,Q183)","v":0}]
[26,"2019-06-24","2019-06-24",null,null,0,0,0,null,null,null,0,""]
[26,"2019-06-25","2019-06-25",null,null,0,0,0,null,null,null,0,""]
[26,"2019-06-26","2019-06-26",null,null,0,0,0,null,null,null,0,""]
[26,"2019-06-27","2019-06-27",null,null,0,0,0,null,null,null,0,""]
[26,"2019-06-28","2019-06-28",null,null,0,0,0,null,null,null,0,""]
[26,"2019-06-29","2019-06-29",null,null,0,null,0,null,null,"za",0,"","Week",null,"OV WEEK","OV DAG","Recup -","Recup +","OV 50%"]
[26,"2019-06-30","2019-06-30",null,null,0,null,0,null,null,"zo",0,"",{"$f":"SUM(L184:L190)","v":0},{"$f":"SUM(H184:H190)","v":0},{"$f":"IF(N190>40,N190-40,0)","v":0},{"$f":"SUM(M184:M190)","v":0},{"$f":"SUM(I184:I190)","v":0},{"$f":"IF(N190>40,N190-40,0)","v":0},{"$f":"IF(P190>Q190,P190,Q190)","v":0}]
[27,"2019-07-01","2019-07-01",null,null,0,0,0,null,null,null,0,""]
[27,"2019-07-02","2019-07-02",null,null,0,0,0,null,null,null,0,""]
[27,"2019-07-03","2019-07-03",null,null,0,0,0,null,null,null,0,""]
[27,"2019-07-04","2019-07-04",null,null,0,0,0,null,null,null,0,""]
[27,"2019-07-05","2019-07-05",null,null,0,0,0,null,null,null,0,""]
[27,"2019-07-06","2019-07-06",null,null,0,null,0,null,null,"za",0,"","Week",null,"OV WEEK","OV DAG","Recup -","Recup +","OV 50%"]
[27,"2019-07-07","2019-07-07",null,null,0,null,0,null,null,"zo",0,"",{"$f":"SUM(L191:L197)","v":0},{"$f":"SUM(H191:H197)","v":0},{"$f":"IF(N197>40,N197-40,0)","v":0},{"$f":"SUM(M191:M197)","v":0},{"$f":"SUM(I191:I197)","v":0},{"$f":"IF(N197>40,N197-40,0)","v":0},{"$f":"IF(P197>Q197,P197,Q197)","v":0}]
[28,"2019-07-08","2019-07-08",null,null,0,0,0,null,null,null,0,""]
[28,"2019-07-09","2019-07-09",null,null,0,0,0,null,null,null,0,""]
[28,"2019-07-10","2019-07-10",null,null,0,0,0,null,null,null,0,""]
[28,"2019-07-11","2019-07-11",null,null,0,0,0,null,null,null,0,{"$f":"IF(L201>9,L201-9,\"\")","v":""}]
[{"$f":"WEEKNUM(C202,21)","v":28},{"$f":"C202","v":"2019-07-12"},"2019-07-12",null,null,{"$f":"(E202-D202)*24","v":0},{"$f":"IF(F202>=6,0.5,0)","v":0},{"$f":"F202-G202","v":0},null,null,null,{"$f":"SUM(H202:J202)","v":0},""]
[28,"2019-07-13","2019-07-13",null,null,0,null,0,null,null,"za",0,"","Week",null,"OV WEEK","OV DAG","Recup -","Recup +","OV 50%"]
[28,"2019-07-14","2019-07-14",null,null,0,null,0,null,null,"zo",0,"",{"$f":"SUM(L198:L204)","v":0},{"$f":"SUM(H198:H204)","v":0},{"$f":"IF(N204>40,N204-40,0)","v":0},{"$f":"SUM(M198:M204)","v":0},{"$f":"SUM(I198:I204)","v":0},{"$f":"IF(N204>40,N204-40,0)","v":0},{"$f":"IF(P204>Q204,P204,Q204)","v":0}]
[29,"2019-07-15","2019-07-15",null,null,0,0,0,null,null,null,0,""]
[29,"2019-07-16","2019-07-16",null,null,0,0,0,null,null,null,0,""]
[29,"2019-07-17","2019-07-17",null,null,0,0,0,null,null,null,0,""]
[29,"2019-07-18","2019-07-18",null,null,0,0,0,null,null,null,0,""]
[29,"2019-07-19","2019-07-19",null,null,0,0,0,null,null,null,0,""]
[29,"2019-07-20","2019-07-20",null,null,0,null,0,null,null,"za",0,"","Week",null,"OV WEEK","OV DAG","Recup -","Recup +","OV 50%"]
[29,"2019-07-21","2019-07-21",null,null,0,null,0,null,null,"zo",0,"",{"$f":"SUM(L205:L211)","v":0},{"$f":"SUM(H205:H211)","v":0},{"$f":"IF(N211>40,N211-40,0)","v":0},{"$f":"SUM(M205:M211)","v":0},{"$f":"SUM(I205:I211)","v":0},{"$f":"IF(N211>40,N211-40,0)","v":0},{"$f":"IF(P211>Q211,P211,Q211)","v":0}]
[30,"2019-07-22","2019-07-22",null,null,0,0,0,null,null,null,0,""]
[30,"2019-07-23","2019-07-23",null,null,0,0,0,null,null,null,0,""]
[30,"2019-07-24","2019-07-24",null,null,0,0,0,null,null,null,0,""]
[30,"2019-07-25","2019-07-25",null,null,0,0,0,null,null,null,0,""]
[30,"2019-07-26","2019-07-26",null,null,0,0,0,null,null,null,0,""]
[30,"2019-07-27","2019-07-27",null,null,0,null,0,null,null,"za",0,"","Week",null,"OV WEEK","OV DAG","Recup -","Recup +","OV 50%"]
[30,"2019-07-28","2019-07-28",null,null,0,null,0,null,null,"zo",0,"",{"$f":"SUM(L212:L218)","v":0},{"$f":"SUM(H212:H218)","v":0},{"$f":"IF(N218>40,N218-40,0)","v":0},{"$f":"SUM(M212:M218)","v":0},{"$f":"SUM(I212:I218)","v":0},{"$f":"IF(N218>40,N218-40,0)","v":0},{"$f":"IF(P218>Q218,P218,Q218)","v":0}]
[31,"2019-07-29","2019-07-29",null,null,0,0,0,null,null,null,0,""]
[31,"2019-07-30","2019-07-30",null,null,0,0,0,null,null,null,0,""]
[31,"2019-07-31","2019-07-31",null,null,0,0,0,null,null,null,0,""]
[31,"2019-08-01","2019-08-01",null,null,0,0,0,null,null,null,0,""]
[31,"2019-08-02","2019-08-02",null,null,0,0,0,null,null,null,0,""]
[31,"2019-08-03","2019-08-03",null,null,0,null,0,null,null,"za",0,"","Week",null,"OV WEEK","OV DAG","Recup -","Recup +","OV 50%"]
[31,"2019-08-04","2019-08-04",null,null,0,null,0,null,null,"zo",0,"",{"$f":"SUM(L219:L225)","v":0},{"$f":"SUM(H219:H225)","v":0},{"$f":"IF(N225>40,N225-40,0)","v":0},{"$f":"SUM(M219:M225)","v":0},{"$f":"SUM(I219:I225)","v":0},{"$f":"IF(N225>40,N225-40,0)","v":0},{"$f":"IF(P225>Q225,P225,Q225)","v":0}]
[32,"2019-08-05","2019-08-05",null,null,0,0,0,null,null,null,0,""]
[32,"2019-08-06","2019-08-06",null,null,0,0,0,null,null,null,0,""]
[32,"2019-08-07","2019-08-07",null,null,0,0,0,null,null,null,0,""]
[32,"2019-08-08","2019-08-08",null,null,0,0,0,null,null,null,0,""]
[32,"2019-08-09","2019-08-09",null,null,0,0,0,null,null,null,0,""]
[32,"2019-08-10","2019-08-10",null,null,0,null,0,null,null,"za",0,"","Week",null,"OV WEEK","OV DAG","Recup -","Recup +","OV 50%"]
[32,"2019-08-11","2019-08-11",null,null,0,null,0,null,null,"zo",0,"",{"$f":"SUM(L226:L232)","v":0},{"$f":"SUM(H226:H232)","v":0},{"$f":"IF(N232>40,N232-40,0)","v":0},{"$f":"SUM(M226:M232)","v":0},{"$f":"SUM(I226:I232)","v":0},{"$f":"IF(N232>40,N232-40,0)","v":0},{"$f":"IF(P232>Q232,P232,Q232)","v":0}]
[33,"2019-08-12","2019-08-12",null,null,0,0,0,null,null,null,0,""]
[33,"2019-08-13","2019-08-13",null,null,0,0,0,null,null,null,0,""]
[33,"2019-08-14","2019-08-14",null,null,0,0,0,null,null,null,0,""]
[33,"2019-08-15","2019-08-15",null,null,0,0,0,null,7.6,"fd",7.6,""]
[33,"2019-08-16","2019-08-16",null,null,0,0,0,null,null,null,0,""]
[33,"2019-08-17","2019-08-17",null,null,0,null,0,null,null,"za",0,"","Week",null,"OV WEEK","OV DAG","Recup -","Recup +","OV 50%"]
[33,"2019-08-18","2019-08-18",null,null,0,null,0,null,null,"zo",0,"",{"$f":"SUM(L233:L239)","v":7.6},{"$f":"SUM(H233:H239)","v":0},{"$f":"IF(N239>40,N239-40,0)","v":0},{"$f":"SUM(M233:M239)","v":0},{"$f":"SUM(I233:I239)","v":0},{"$f":"IF(N239>40,N239-40,0)","v":0},{"$f":"IF(P239>Q239,P239,Q239)","v":0}]
[34,"2019-08-19","2019-08-19",null,null,0,0,0,null,null,null,0,""]
[34,"2019-08-20","2019-08-20",null,null,0,{"$f":"IF(F241>=6,0.5,0)","v":0},0,null,null,null,0,""]
[34,"2019-08-21","2019-08-21",null,null,0,0,0,null,null,null,0,""]
[34,"2019-08-22","2019-08-22",null,null,0,0,0,null,null,null,0,""]
[34,"2019-08-23","2019-08-23",null,null,0,0,0,null,null,null,0,""]
[34,"2019-08-24","2019-08-24",null,null,0,null,0,null,null,"za",0,"","Week",null,"OV WEEK","OV DAG","Recup -","Recup +","OV 50%"]
[34,"2019-08-25","2019-08-25",null,null,0,null,0,null,null,"zo",0,"",{"$f":"SUM(L240:L246)","v":0},{"$f":"SUM(H240:H246)","v":0},{"$f":"IF(N246>40,N246-40,0)","v":0},{"$f":"SUM(M240:M246)","v":0},{"$f":"SUM(I240:I246)","v":0},{"$f":"IF(N246>40,N246-40,0)","v":0},{"$f":"IF(P246>Q246,P246,Q246)","v":0}]
[35,"2019-08-26","2019-08-26",null,null,0,0,0,null,null,null,0,""]
[35,"2019-08-27","2019-08-27",null,null,0,0,0,null,null,null,0,""]
[35,"2019-08-28","2019-08-28",null,null,0,0,0,null,null,null,0,""]
[35,"2019-08-29","2019-08-29",null,null,0,0,0,null,null,null,0,""]
[35,"2019-08-30","2019-08-30",null,null,0,0,0,null,null,null,0,""]
[35,"2019-08-31","2019-08-31",null,null,0,null,0,null,null,"za",0,"","Week",null,"OV WEEK","OV DAG","Recup -","Recup +","OV 50%"]
[35,"2019-09-01","2019-09-01",null,null,0,null,0,null,null,"zo",0,"",{"$f":"SUM(L247:L253)","v":0},{"$f":"SUM(H247:H253)","v":0},{"$f":"IF(N253>40,N253-40,0)","v":0},{"$f":"SUM(M247:M253)","v":0},{"$f":"SUM(I247:I253)","v":0},{"$f":"IF(N253>40,N253-40,0)","v":0},{"$f":"IF(P253>Q253,P253,Q253)","v":0}]
[36,"2019-09-02","2019-09-02",null,null,0,0,0,null,null,null,0,""]
[36,"2019-09-03","2019-09-03",null,null,0,0,0,null,null,null,0,""]
[36,"2019-09-04","2019-09-04",null,null,0,0,0,null,null,null,0,""]
[36,"2019-09-05","2019-09-05",null,null,0,0,0,null,null,null,0,""]
[36,"2019-09-06","2019-09-06",null,null,0,0,0,null,null,null,0,""]
[36,"2019-09-07","2019-09-07",null,null,0,null,0,null,null,"za",0,"","Week",null,"OV WEEK","OV DAG","Recup -","Recup +","OV 50%"]
[36,"2019-09-08","2019-09-08",null,null,0,null,0,null,null,"zo",0,"",{"$f":"SUM(L254:L260)","v":0},{"$f":"SUM(H254:H260)","v":0},{"$f":"IF(N260>40,N260-40,0)","v":0},{"$f":"SUM(M254:M260)","v":0},{"$f":"SUM(I254:I260)","v":0},{"$f":"IF(N260>40,N260-40,0)","v":0},{"$f":"IF(P260>Q260,P260,Q260)","v":0}]
[37,"2019-09-09","2019-09-09",null,null,0,0,0,null,null,null,0,""]
[37,"2019-09-10","2019-09-10",null,null,0,0,0,null,null,null,0,""]
[37,"2019-09-11","2019-09-11",null,null,0,0,0,null,null,null,0,""]
[37,"2019-09-12","2019-09-12",null,null,0,0,0,null,null,null,0,""]
[37,"2019-09-13","2019-09-13",null,null,0,0,0,null,null,null,0,{"$f":"IF(L265>9,L265-9,\"\")","v":""}]
[{"$f":"WEEKNUM(C266,21)","v":37},{"$f":"C266","v":"2019-09-14"},"2019-09-14",null,null,{"$f":"(E266-D266)*24","v":0},null,{"$f":"F266-G266","v":0},null,null,"za",{"$f":"SUM(H266:J266)","v":0},"","Week",null,"OV WEEK","OV DAG","Recup -","Recup +","OV 50%"]
[37,"2019-09-15","2019-09-15",null,null,0,null,0,null,null,"zo",0,"",{"$f":"SUM(L261:L267)","v":0},{"$f":"SUM(H261:H267)","v":0},{"$f":"IF(N267>40,N267-40,0)","v":0},{"$f":"SUM(M261:M267)","v":0},{"$f":"SUM(I261:I267)","v":0},{"$f":"IF(N267>40,N267-40,0)","v":0},{"$f":"IF(P267>Q267,P267,Q267)","v":0}]
[38,"2019-09-16","2019-09-16",null,null,0,{"$f":"IF(F268>=6,0.5,0)","v":0},0,null,null,null,0,""]
[38,"2019-09-17","2019-09-17",null,null,0,0,0,null,null,null,0,""]
[38,"2019-09-18","2019-09-18",null,null,0,0,0,null,null,null,0,""]
[38,"2019-09-19","2019-09-19",null,null,0,0,0,null,null,null,0,""]
[38,"2019-09-20","2019-09-20",null,null,0,0,0,null,null,null,0,""]
[38,"2019-09-21","2019-09-21",null,null,0,null,0,null,null,"za",0,"","Week",null,"OV WEEK","OV DAG","Recup -","Recup +","OV 50%"]
[38,"2019-09-22","2019-09-22",null,null,0,null,0,null,null,"zo",0,"",{"$f":"SUM(L268:L274)","v":0},{"$f":"SUM(H268:H274)","v":0},{"$f":"IF(N274>40,N274-40,0)","v":0},{"$f":"SUM(M268:M274)","v":0},{"$f":"SUM(I268:I274)","v":0},{"$f":"IF(N274>40,N274-40,0)","v":0},{"$f":"IF(P274>Q274,P274,Q274)","v":0}]
[39,"2019-09-23","2019-09-23",null,null,0,0,0,null,null,null,0,""]
[39,"2019-09-24","2019-09-24",null,null,0,0,0,null,null,null,0,""]
[39,"2019-09-25","2019-09-25",null,null,0,0,0,null,null,null,0,""]
[39,"2019-09-26","2019-09-26",null,null,0,0,0,null,null,null,0,""]
[39,"2019-09-27","2019-09-27",null,null,0,0,0,null,null,null,0,""]
[39,"2019-09-28","2019-09-28",null,null,0,null,0,null,null,"za",0,"","Week",null,"OV WEEK","OV DAG","Recup -","Recup +","OV 50%"]
[39,"2019-09-29","2019-09-29",null,null,0,null,0,null,null,"zo",0,"",{"$f":"SUM(L275:L281)","v":0},{"$f":"SUM(H275:H281)","v":0},{"$f":"IF(N281>40,N281-40,0)","v":0},{"$f":"SUM(M275:M281)","v":0},{"$f":"SUM(I275:I281)","v":0},{"$f":"IF(N281>40,N281-40,0)","v":0},{"$f":"IF(P281>Q281,P281,Q281)","v":0}]
[40,"2019-09-30","2019-09-30",null,null,0,0,0,null,null,null,0,""]
[40,"2019-10-01","2019-10-01",null,null,0,0,0,null,null,null,0,""]
[40,"2019-10-02","2019-10-02",null,null,0,0,0,null,null,null,0,""]
[40,"2019-10-03","2019-10-03",null,null,0,0,0,null,null,null,0,""]
[40,"2019-10-04","2019-10-04",null,null,0,0,0,null,null,null,0,""]
[40,"2019-10-05","2019-10-05",null,null,0,null,0,null,null,"za",0,"","Week",null,"OV WEEK","OV DAG","Recup -","Recup +","OV 50%"]
[40,"2019-10-06","2019-10-06",null,null,0,null,0,null,null,"zo",0,"",{"$f":"SUM(L282:L288)","v":0},{"$f":"SUM(H282:H288)","v":0},{"$f":"IF(N288>40,N288-40,0)","v":0},{"$f":"SUM(M282:M288)","v":0},{"$f":"SUM(I282:I288)","v":0},{"$f":"IF(N288>40,N288-40,0)","v":0},{"$f":"IF(P288>Q288,P288,Q288)","v":0}]
[41,"2019-10-07","2019-10-07",null,null,0,0,0,null,null,null,0,""]
[41,"2019-10-08","2019-10-08",null,null,0,0,0,null,null,null,0,""]
[41,"2019-10-09","2019-10-09",null,null,0,0,0,null,null,null,0,""]
[41,"2019-10-10","2019-10-10",null,null,0,0,0,null,null,null,0,""]
[41,"2019-10-11","2019-10-11",null,null,0,0,0,null,null,null,0,""]
[41,"2019-10-12","2019-10-12",null,null,0,null,0,null,null,"za",0,"","Week",null,"OV WEEK","OV DAG","Recup -","Recup +","OV 50%"]
[41,"2019-10-13","2019-10-13",null,null,0,null,0,null,null,"zo",0,"",{"$f":"SUM(L289:L295)","v":0},{"$f":"SUM(H289:H295)","v":0},{"$f":"IF(N295>40,N295-40,0)","v":0},{"$f":"SUM(M289:M295)","v":0},{"$f":"SUM(I289:I295)","v":0},{"$f":"IF(N295>40,N295-40,0)","v":0},{"$f":"IF(P295>Q295,P295,Q295)","v":0}]
[42,"2019-10-14","2019-10-14",null,null,0,0,0,null,null,null,0,""]
[42,"2019-10-15","2019-10-15",null,null,0,0,0,null,null,null,0,""]
[42,"2019-10-16","2019-10-16",null,null,0,0,0,null,null,null,0,""]
[42,"2019-10-17","2019-10-17",null,null,0,0,0,null,null,null,0,""]
[42,"2019-10-18","2019-10-18",null,null,0,0,0,null,null,null,0,""]
[42,"2019-10-19","2019-10-19",null,null,0,null,0,null,null,"za",0,"","Week",null,"OV WEEK","OV DAG","Recup -","Recup +","OV 50%"]
[42,"2019-10-20","2019-10-20",null,null,0,null,0,null,null,"zo",0,"",{"$f":"SUM(L296:L302)","v":0},{"$f":"SUM(H296:H302)","v":0},{"$f":"IF(N302>40,N302-40,0)","v":0},{"$f":"SUM(M296:M302)","v":0},{"$f":"SUM(I296:I302)","v":0},{"$f":"IF(N302>40,N302-40,0)","v":0},{"$f":"IF(P302>Q302,P302,Q302)","v":0}]
[43,"2019-10-21","2019-10-21",null,null,0,0,0,null,null,null,0,""]
[43,"2019-10-22","2019-10-22",null,null,0,0,0,null,null,null,0,""]
[43,"2019-10-23","2019-10-23",null,null,0,0,0,null,null,null,0,""]
[43,"2019-10-24","2019-10-24",null,null,0,0,0,null,null,null,0,""]
[43,"2019-10-25","2019-10-25",null,null,0,0,0,null,null,null,0,""]
[43,"2019-10-26","2019-10-26",null,null,0,null,0,null,null,"za",0,"","Week",null,"OV WEEK","OV DAG","Recup -","Recup +","OV 50%"]
[43,"2019-10-27","2019-10-27",null,null,0,null,0,null,null,"zo",0,"",{"$f":"SUM(L303:L309)","v":0},{"$f":"SUM(H303:H309)","v":0},{"$f":"IF(N309>40,N309-40,0)","v":0},{"$f":"SUM(M303:M309)","v":0},{"$f":"SUM(I303:I309)","v":0},{"$f":"IF(N309>40,N309-40,0)","v":0},{"$f":"IF(P309>Q309,P309,Q309)","v":0}]
[44,"2019-10-28","2019-10-28",null,null,0,0,0,null,null,null,0,""]
[44,"2019-10-29","2019-10-29",null,null,0,0,0,null,null,null,0,""]
[44,"2019-10-30","2019-10-30",null,null,0,0,0,null,null,null,0,""]
[44,"2019-10-31","2019-10-31",null,null,0,0,0,null,null,null,0,""]
[44,"2019-11-01","2019-11-01",null,null,0,0,0,null,7.6,"fd",7.6,""]
[44,"2019-11-02","2019-11-02",null,null,0,null,0,null,null,"za",0,"","Week",null,"OV WEEK","OV DAG","Recup -","Recup +","OV 50%"]
[44,"2019-11-03","2019-11-03",null,null,0,null,0,null,null,"zo",0,"",{"$f":"SUM(L310:L316)","v":7.6},{"$f":"SUM(H310:H316)","v":0},{"$f":"IF(N316>40,N316-40,0)","v":0},{"$f":"SUM(M310:M316)","v":0},{"$f":"SUM(I310:I316)","v":0},{"$f":"IF(N316>40,N316-40,0)","v":0},{"$f":"IF(P316>Q316,P316,Q316)","v":0}]
[45,"2019-11-04","2019-11-04",null,null,0,0,0,null,null,null,0,""]
[45,"2019-11-05","2019-11-05",null,null,0,0,0,null,null,null,0,""]
[45,"2019-11-06","2019-11-06",null,null,0,0,0,null,null,null,0,""]
[45,"2019-11-07","2019-11-07",null,null,0,0,0,null,null,null,0,""]
[45,"2019-11-08","2019-11-08",null,null,0,0,0,null,null,null,0,""]
[45,"2019-11-09","2019-11-09",null,null,0,null,0,null,null,"za",0,"","Week",null,"OV WEEK","OV DAG","Recup -","Recup +","OV 50%"]
[45,"2019-11-10","2019-11-10",null,null,0,null,0,null,null,"zo",0,"",{"$f":"SUM(L317:L323)","v":0},{"$f":"SUM(H317:H323)","v":0},{"$f":"IF(N323>40,N323-40,0)","v":0},{"$f":"SUM(M317:M323)","v":0},{"$f":"SUM(I317:I323)","v":0},{"$f":"IF(N323>40,N323-40,0)","v":0},{"$f":"IF(P323>Q323,P323,Q323)","v":0}]
[46,"2019-11-11","2019-11-11",null,null,0,0,0,null,7.6,"fd",7.6,""]
[46,"2019-11-12","2019-11-12",null,null,0,0,0,null,null,null,0,""]
[46,"2019-11-13","2019-11-13",null,null,0,0,0,null,null,null,0,""]
[46,"2019-11-14","2019-11-14",null,null,0,0,0,null,null,null,0,""]
[46,"2019-11-15","2019-11-15",null,null,0,0,0,null,null,null,0,""]
[46,"2019-11-16","2019-11-16",null,null,0,null,0,null,null,"za",0,{"$f":"IF(L329>9,L329-9,\"\")","v":""},"Week",null,"OV WEEK","OV DAG","Recup -","Recup +","OV 50%"]
[{"$f":"WEEKNUM(C330,21)","v":46},{"$f":"C330","v":"2019-11-17"},"2019-11-17",null,null,{"$f":"(E330-D330)*24","v":0},null,{"$f":"F330-G330","v":0},null,null,"zo",{"$f":"SUM(H330:J330)","v":0},"",{"$f":"SUM(L324:L330)","v":7.6},{"$f":"SUM(H324:H330)","v":0},{"$f":"IF(N330>40,N330-40,0)","v":0},{"$f":"SUM(M324:M330)","v":0},{"$f":"SUM(I324:I330)","v":0},{"$f":"IF(N330>40,N330-40,0)","v":0},{"$f":"IF(P330>Q330,P330,Q330)","v":0}]
[47,"2019-11-18","2019-11-18",null,null,0,{"$f":"IF(F331>=6,0.5,0)","v":0},0,null,null,null,0,""]
[47,"2019-11-19","2019-11-19",null,null,0,0,0,null,null,null,0,""]
[47,"2019-11-20","2019-11-20",null,null,0,0,0,null,null,null,0,""]
[47,"2019-11-21","2019-11-21",null,null,0,0,0,null,null,null,0,""]
[47,"2019-11-22","2019-11-22",null,null,0,0,0,null,null,null,0,""]
[47,"2019-11-23","2019-11-23",null,null,0,null,0,null,null,"za",0,"","Week",null,"OV WEEK","OV DAG","Recup -","Recup +","OV 50%"]
[47,"2019-11-24","2019-11-24",null,null,0,null,0,null,null,"zo",0,"",{"$f":"SUM(L331:L337)","v":0},{"$f":"SUM(H331:H337)","v":0},{"$f":"IF(N337>40,N337-40,0)","v":0},{"$f":"SUM(M331:M337)","v":0},{"$f":"SUM(I331:I337)","v":0},{"$f":"IF(N337>40,N337-40,0)","v":0},{"$f":"IF(P337>Q337,P337,Q337)","v":0}]
[48,"2019-11-25","2019-11-25",null,null,0,0,0,null,null,null,0,""]
[48,"2019-11-26","2019-11-26",null,null,0,0,0,null,null,null,0,""]
[48,"2019-11-27","2019-11-27",null,null,0,0,0,null,null,null,0,""]
[48,"2019-11-28","2019-11-28",null,null,0,0,0,null,null,null,0,""]
[48,"2019-11-29","2019-11-29",null,null,0,0,0,null,null,null,0,""]
[48,"2019-11-30","2019-11-30",null,null,0,null,0,null,null,"za",0,"","Week",null,"OV WEEK","OV DAG","Recup -","Recup +","OV 50%"]
[48,"2019-12-01","2019-12-01",null,null,0,null,0,null,null,"zo",0,"",{"$f":"SUM(L338:L344)","v":0},{"$f":"SUM(H338:H344)","v":0},{"$f":"IF(N344>40,N344-40,0)","v":0},{"$f":"SUM(M338:M344)","v":0},{"$f":"SUM(I338:I344)","v":0},{"$f":"IF(N344>40,N344-40,0)","v":0},{"$f":"IF(P344>Q344,P344,Q344)","v":0}]
[49,"2019-12-02","2019-12-02",null,null,0,0,0,null,null,null,0,""]
[49,"2019-12-03","2019-12-03",null,null,0,0,0,null,null,null,0,""]
[49,"2019-12-04","2019-12-04",null,null,0,0,0,null,null,null,0,""]
[49,"2019-12-05","2019-12-05",null,null,0,0,0,null,null,null,0,""]
[49,"2019-12-06","2019-12-06",null,null,0,0,0,null,null,null,0,""]
[49,"2019-12-07","2019-12-07",null,null,0,null,0,null,null,"za",0,"","Week",null,"OV WEEK","OV DAG","Recup -","Recup +","OV 50%"]
[49,"2019-12-08","2019-12-08",null,null,0,null,0,null,null,"zo",0,"",{"$f":"SUM(L345:L351)","v":0},{"$f":"SUM(H345:H351)","v":0},{"$f":"IF(N351>40,N351-40,0)","v":0},{"$f":"SUM(M345:M351)","v":0},{"$f":"SUM(I345:I351)","v":0},{"$f":"IF(N351>40,N351-40,0)","v":0},{"$f":"IF(P351>Q351,P351,Q351)","v":0}]
[50,"2019-12-09","2019-12-09",null,null,0,0,0,null,null,null,0,""]
[50,"2019-12-10","2019-12-10",null,null,0,0,0,null,null,null,0,""]
[50,"2019-12-11","2019-12-11",null,null,0,0,0,null,null,null,0,""]
[50,"2019-12-12","2019-12-12",null,null,0,0,0,null,null,null,0,""]
[50,"2019-12-13","2019-12-13",null,null,0,0,0,null,null,null,0,""]
[50,"2019-12-14","2019-12-14",null,null,0,null,0,null,null,"za",0,"","Week",null,"OV WEEK","OV DAG","Recup -","Recup +","OV 50%"]
[50,"2019-12-15","2019-12-15",null,null,0,null,0,null,null,"zo",0,"",{"$f":"SUM(L352:L358)","v":0},{"$f":"SUM(H352:H358)","v":0},{"$f":"IF(N358>40,N358-40,0)","v":0},{"$f":"SUM(M352:M358)","v":0},{"$f":"SUM(I352:I358)","v":0},{"$f":"IF(N358>40,N358-40,0)","v":0},{"$f":"IF(P358>Q358,P358,Q358)","v":0}]
[51,"2019-12-16","2019-12-16",null,null,0,0,0,null,null,null,0,""]
[51,"2019-12-17","2019-12-17",null,null,0,0,0,null,null,null,0,""]
[51,"2019-12-18","2019-12-18",null,null,0,0,0,null,null,null,0,""]
[51,"2019-12-19","2019-12-19",null,null,0,0,0,null,null,null,0,""]
[51,"2019-12-20","2019-12-20",null,null,0,0,0,null,null,null,0,""]
[51,"2019-12-21","2019-12-21",null,null,0,null,0,null,null,"za",0,"","Week",null,"OV WEEK","OV DAG","Recup -","Recup +","OV 50%"]
[51,"2019-12-22","2019-12-22",null,null,0,null,0,null,null,"zo",0,"",{"$f":"SUM(L359:L365)","v":0},{"$f":"SUM(H359:H365)","v":0},{"$f":"IF(N365>40,N365-40,0)","v":0},{"$f":"SUM(M359:M365)","v":0},{"$f":"SUM(I359:I365)","v":0},{"$f":"IF(N365>40,N365-40,0)","v":0},{"$f":"IF(P365>Q365,P365,Q365)","v":0}]
[52,"2019-12-23","2019-12-23",null,null,0,0,0,null,null,null,0,""]
[52,"2019-12-24","2019-12-24",null,null,0,0,0,null,null,null,0,""]
[52,"2019-12-25","2019-12-25",null,null,0,0,0,null,7.6,"fd",7.6,""]
[52,"2019-12-26","2019-12-26",null,null,0,0,0,null,null,null,0,""]
[52,"2019-12-27","2019-12-27",null,null,0,0,0,null,null,null,0,""]
[52,"2019-12-28","2019-12-28",null,null,0,null,0,null,null,"za",0,"","Week",null,"OV WEEK","OV DAG","Recup -","Recup +","OV 50%"]
[52,"2019-12-29","2019-12-29",null,null,0,null,0,null,null,"zo",0,"",{"$f":"SUM(L366:L372)","v":7.6},{"$f":"SUM(H366:H372)","v":0},{"$f":"IF(N372>40,N372-40,0)","v":0},{"$f":"SUM(M366:M372)","v":0},{"$f":"SUM(I366:I372)","v":0},{"$f":"IF(N372>40,N372-40,0)","v":0},{"$f":"IF(P372>Q372,P372,Q372)","v":0}]
[1,"2019-12-30","2019-12-30",null,null,0,0,0,null,null,null,0,""]
[1,"2019-12-31","2019-12-31",null,null,0,0,0,null,null,null,0,""]
[1,"2020-01-01","2020-01-01",null,null,0,0,0,null,7.6,"fd",7.6,""]
[1,"2020-01-02","2020-01-02",null,null,0,0,0,null,null,null,0,""]
[1,"2020-01-03","2020-01-03",null,null,0,0,0,null,null,null,0,""]
[1,"2020-01-04","2020-01-04",null,null,0,null,0,null,null,"za",0,"","Week",null,"OV WEEK","OV DAG","Recup -","Recup +","OV 50%"]
[1,"2020-01-05","2020-01-05",null,null,0,null,0,null,null,"zo",0,"",{"$f":"SUM(L373:L379)","v":7.6},{"$f":"SUM(H373:H379)","v":0},{"$f":"IF(N379>40,N379-40,0)","v":0},{"$f":"SUM(M373:M379)","v":0},{"$f":"SUM(I373:I379)","v":0},{"$f":"IF(N379>40,N379-40,0)","v":0},{"$f":"IF(P379>Q379,P379,Q379)","v":0}]

{"sheet":"94","index":18,"n_rows":379,"n_cols":35,"rows_kept":379,"cut":false,"hidden":false,"merged":[[6,21,6,24],[6,25,6,28],[6,29,6,32],[6,33,6,34],[0,1,1,12],[4,21,4,23],[4,25,4,28],[4,29,4,32],[4,33,4,34],[5,21,5,23],[5,25,5,28],[5,29,5,32],[5,33,5,34],[2,21,2,23],[2,25,2,28],[2,29,2,32],[2,33,2,34],[3,21,3,23],[3,25,3,28],[3,29,3,32],[3,33,3,34],[0,21,0,24],[0,25,0,28],[0,29,0,32],[0,33,0,34],[1,21,1,23],[1,25,1,28],[1,29,1,32],[1,33,1,34]]}
["94","Guerron Guerrero Pablo",null,null,null,null,null,null,null,null,null,null,null,null,null,null,null,null,null,null,null,"Soort",null,null,null,"Recht op",null,null,null,"Opgenomen",null,null,null,"Saldo"]
[null,null,null,null,null,null,null,null,null,null,null,null,null,null,null,null,null,null,null,null,null,"ADV-dagen",null,null,"adv",null,null,null,null,{"$f":"(COUNTIF(W$9:AH$39,\"ADV\")+(COUNTIF(W$9:AH$39,\"0,5ADV\"))/2)","v":0},null,null,null,{"$f":"Z2-AD2","v":0}]
[null,null,null,null,null,null,null,null,null,null,null,null,null,null,null,null,null,null,null,null,null,"Vakantie 2019",null,null,"v",null,null,null,null,{"$f":"(COUNTIF(W$9:AH$39,\"V\")+(COUNTIF(W$9:AH$39,\"0,5V\"))/2)","v":0},null,null,null,{"$f":"Z3-AD3","v":0}]
["Opgelet avondwerk ! Van 00:00u tot 00:00u / + 0,00u premie 50%",null,null,null,null,null,null,null,null,null,null,null,null,"Feestdag in weekend 2019",null,null,null,null,"Recup 2018",null,null,"Feestdag 2019",null,null,"f",1,null,null,null,{"$f":"(COUNTIF(W$9:AH$39,\"F\")+(COUNTIF(W$9:AH$39,\"0,5F\"))/2)","v":0},null,null,null,1]
[null,null,null,null,null,null,null,null,null,null,null,null,null,"- nationale feestdag 21/7",null,null,null,null,null,null,null,"Vakantie rest 2018",null,null,"vvj",null,null,null,null,{"$f":"(COUNTIF(W$9:AH$39,\"vvj\")+(COUNTIF(W$9:AH$39,\"0,5vvj\"))/2)","v":0},null,null,null,0]
[null,null,null,null,null,null,null,null,null,null,null,null,null,null,null,null,null,null,"Recup",{"$f":"SUM(S9:S379)-SUM(R9:R379)+T5+T4","v":8.6000000000000014},null,"Anciënniteitsdagen",null,null,"a ",null,null,null,null,{"$f":"(COUNTIF(W$9:AH$39,\"A\")+(COUNTIF(W$9:AH$39,\"0,5A\"))/2)","v":0},null,null,null,0]
[null,null,null,null,null,null,null,null,null,null,null,null,null,null,null,null,null,null,null,null,null,"TOTAAL",null,null,null,{"$f":"SUM(Z2:AC6)","v":1},null,null,null,{"$f":"SUM(AD2:AG6)","v":0},null,null,null,{"$f":"SUM(AH2:AI6)","v":1}]
["W","Dag","Datum","Van ","Tot",null,"Pauze","Prestaties","Recup","Andere","Type","Dag","OV DAG","Week","Prestaties","OV WEEK","OV DAG","Rec. -","Rec. +","OV 50%","M",null,"Jan","Feb","Maa","Apr","Mei","Jun","Jul","Aug","Sept","Okt","Nov","Dec"]
[{"$f":"WEEKNUM(C9,21)","v":1},{"$f":"C9","v":"2018-12-31"},"2018-12-31","06:30:00",1.0833333333333333,{"$f":"(E9-D9)*24","v":19.5},{"$f":"IF(F9>=6,0.5,0)+2.5","v":3},{"$f":"F9-G9","v":16.5},null,null,null,{"$f":"SUM(H9:J9)","v":16.5},{"$f":"IF(L9>9,L9-9,\"\")","v":7.5},"Opgelet avondwerk! Van 20:00u tot 02:00u / + 6,00u premie 50%",null,null,null,null,null,null,null,1,{"$f":"K9","v":0},{"$f":"K40","v":0},{"$f":"K68","v":0},{"$f":"K99","v":"zo"},{"$f":"K129","v":0},{"$f":"K160","v":0},{"$f":"K190","v":"zo"},{"$f":"K221","v":0},{"$f":"K252","v":"za"},{"$f":"K282","v":0},{"$f":"K313","v":0},{"$f":"K343","v":"za"},1]
[{"$f":"WEEKNUM(C10,21)","v":1},{"$f":"C10","v":"2019-01-01"},"2019-01-01",null,null,{"$f":"(E10-D10)*24","v":0},{"$f":"IF(F10>=6,0.5,0)","v":0},{"$f":"F10-G10","v":0},null,7.6,"fd",{"$f":"SUM(H10:J10)","v":7.6},"",null,null,null,null,null,null,null,null,2,{"$f":"K10","v":"fd"},{"$f":"K41","v":0},{"$f":"K69","v":0},{"$f":"K100","v":0},{"$f":"K130","v":"fd"},{"$f":"K161","v":"za"},{"$f":"K191","v":0},{"$f":"K222","v":0},{"$f":"K253","v":"zo"},{"$f":"K283","v":0},{"$f":"K314","v":"fd"},{"$f":"K344","v":"zo"},2]
[1,"2019-01-02","2019-01-02","06:30:00","15:00:00",8.5,0.5,8,null,null,null,8,"",null,"Rechtzetting voor 29/12/2018 TO DO zie lijst 2018 !",null,null,null,null,null,null,3,0,"za","za",0,0,"zo",0,0,0,0,"za",0,3]
[1,"2019-01-03","2019-01-03","06:00:00","14:00:00",8,0.5,7.5,null,null,null,7.5,"",null,null,null,null,null,null,null,null,4,0,"zo","zo",0,0,0,0,"za",0,0,"zo",0,4]
[1,"2019-01-04","2019-01-04","06:30:00","14:00:00",7.5000000000000018,0.5,7.0000000000000018,null,null,null,7.0000000000000018,"",null,null,null,null,null,null,null,null,5,0,0,0,0,"za",0,0,"zo",0,0,0,{"$f":"K347","v":0},5]
[1,"2019-01-05","2019-01-05",null,null,0,null,0,null,null,"za",0,"","Week",null,"OV WEEK","OV DAG","Recup -","Recup +","OV 50%",null,6,"za",0,0,0,"zo",0,0,0,0,"za",0,0,6]
[1,"2019-01-06","2019-01-06",null,null,0,null,0,null,null,"zo",0,"",{"$f":"SUM(L9:L15)","v":46.6},{"$f":"SUM(H9:H15)","v":39},{"$f":"IF(N15>38,N15-38,0)","v":8.6000000000000014},{"$f":"SUM(M9:M15)","v":7.5},{"$f":"SUM(I9:I15)","v":0},{"$f":"IF(N15>38,N15-38,0)","v":8.6000000000000014},{"$f":"IF(P15>Q15,P15,Q15)","v":8.6000000000000014},null,7,"zo",0,0,"za",0,0,"za",0,0,"zo",0,0,7]
[2,"2019-01-07","2019-01-07",null,null,0,0,0,null,null,null,0,"",null,null,null,null,null,null,null,null,8,0,0,0,"zo",0,0,"zo",0,"za",0,0,"za",8]
[2,"2019-01-08","2019-01-08",null,null,0,0,0,null,null,null,0,"",null,null,null,null,null,null,null,null,9,0,0,0,0,0,"za",0,0,"zo",0,0,"zo",9]
[2,"2019-01-09","2019-01-09",null,null,0,0,0,null,null,null,0,"",null,null,null,null,null,null,null,null,10,0,"za","za",0,0,"zo",0,0,0,0,"za",0,10]
[2,"2019-01-10","2019-01-10",null,null,0,0,0,null,null,null,0,"",null,null,null,null,null,null,null,null,11,0,"zo","zo",0,0,"fd",0,"za",0,0,"zo",0,11]
[2,"2019-01-11","2019-01-11",null,null,0,0,0,null,null,null,0,"",null,null,null,null,null,null,null,null,12,0,0,0,0,"za",0,0,"zo",0,0,"fd",0,12]
[2,"2019-01-12","2019-01-12",null,null,0,null,0,null,null,"za",0,"","Week",null,"OV WEEK","OV DAG","Recup -","Recup +","OV 50%",null,13,"za",0,0,0,"zo",0,0,0,0,"za",0,0,13]
[2,"2019-01-13","2019-01-13",null,null,0,null,0,null,null,"zo",0,"",{"$f":"SUM(L16:L22)","v":0},{"$f":"SUM(H16:H22)","v":0},{"$f":"IF(N22>38,N22-38,0)","v":0},{"$f":"SUM(M16:M22)","v":0},{"$f":"SUM(I16:I22)","v":0},{"$f":"IF(N22>38,N22-38,0)","v":0},{"$f":"IF(P22>Q22,P22,Q22)","v":0},null,14,"zo",0,0,"za",0,0,"za",0,0,"zo",0,0,14]
[3,"2019-01-14","2019-01-14",null,null,0,0,0,null,null,null,0,"",null,null,null,null,null,null,null,null,15,0,0,0,"zo",0,0,"zo",0,"za",0,0,"za",15]
[3,"2019-01-15","2019-01-15",null,null,0,0,0,null,null,null,0,"",null,null,null,null,null,null,null,null,16,0,0,0,0,0,"za",0,"fd","zo",0,0,"zo",16]
[3,"2019-01-16","2019-01-16",null,null,0,0,0,null,null,null,0,"",null,null,null,null,null,null,null,null,17,0,"za","za",0,0,"zo",0,0,0,0,"za",0,17]
[3,"2019-01-17","2019-01-17",null,null,0,0,0,null,null,null,0,"",null,null,null,null,null,null,null,null,18,0,"zo","zo",0,0,0,0,"za",0,0,"zo",0,18]
[3,"2019-01-18","2019-01-18",null,null,0,0,0,null,null,null,0,"",null,null,null,null,null,null,null,null,19,0,0,0,0,"za",0,0,"zo",0,0,0,0,19]
[3,"2019-01-19","2019-01-19",null,null,0,null,0,null,null,"za",0,"","Week",null,"OV WEEK","OV DAG","Recup -","Recup +","OV 50%",null,20,"za",0,0,0,"zo",0,0,0,0,"za",0,{"$f":"K362","v":0},20]
[3,"2019-01-20","2019-01-20",null,null,0,null,0,null,null,"zo",0,"",{"$f":"SUM(L23:L29)","v":0},{"$f":"SUM(H23:H29)","v":0},{"$f":"IF(N29>38,N29-38,0)","v":0},{"$f":"SUM(M23:M29)","v":0},{"$f":"SUM(I23:I29)","v":0},{"$f":"IF(N29>38,N29-38,0)","v":0},{"$f":"IF(P29>Q29,P29,Q29)","v":0},null,21,"zo",0,0,"za","fd",0,"za",0,0,"zo",0,0,21]
[4,"2019-01-21","2019-01-21",null,null,0,0,0,null,null,null,0,"",null,null,null,null,null,null,null,null,22,0,0,0,"zo",0,0,"zo",0,"za",0,0,"za",22]
[4,"2019-01-22","2019-01-22",null,null,0,0,0,null,null,null,0,"",null,null,null,null,null,null,null,null,23,0,0,0,"fd",0,"za",0,0,"zo",0,0,"zo",23]
[4,"2019-01-23","2019-01-23",null,null,0,0,0,null,null,null,0,"",null,null,null,null,null,null,null,null,24,0,"za","za",0,0,"zo",0,0,0,0,"za",0,24]
[4,"2019-01-24","2019-01-24",null,null,0,0,0,null,null,null,0,"",null,null,null,null,null,null,null,null,25,0,"zo","zo",0,0,0,0,"za",0,0,"zo",0,25]
[4,"2019-01-25","2019-01-25",null,null,0,0,0,null,null,null,0,"",null,null,null,null,null,null,null,null,26,0,0,0,0,"za",0,0,"zo",0,0,0,"fd",26]
[4,"2019-01-26","2019-01-26",null,null,0,null,0,null,null,"za",0,"","Week",null,"OV WEEK","OV DAG","Recup -","Recup +","OV 50%",null,27,"za",0,0,0,"zo",0,0,0,0,"za",0,0,27]
[4,"2019-01-27","2019-01-27",null,null,0,null,0,null,null,"zo",0,"",{"$f":"SUM(L30:L36)","v":0},{"$f":"SUM(H30:H36)","v":0},{"$f":"IF(N36>38,N36-38,0)","v":0},{"$f":"SUM(M30:M36)","v":0},{"$f":"SUM(I30:I36)","v":0},{"$f":"IF(N36>38,N36-38,0)","v":0},{"$f":"IF(P36>Q36,P36,Q36)","v":0},null,28,"zo",0,0,"za",0,0,"za",0,0,"zo",0,0,28]
[5,"2019-01-28","2019-01-28",null,null,0,0,0,null,null,null,0,"",null,null,null,null,null,null,null,null,29,0,null,0,"zo",0,0,"zo",0,"za",0,0,"za",29]
[5,"2019-01-29","2019-01-29",null,null,0,0,0,null,null,null,0,"",null,null,null,null,null,null,null,null,30,0,null,0,0,0,"za",0,0,"zo",0,0,"zo",30]
[5,"2019-01-30","2019-01-30",null,null,0,0,0,null,null,null,0,"",null,null,null,null,null,null,null,null,31,0,null,"za",null,"fd",null,0,0,null,0,null,0,31]
[5,"2019-01-31","2019-01-31",null,null,0,0,0,null,null,null,0,"",null,null,null,null,null,null,null,null,"WD",23,20,21,22,23,20,23,22,21,23,21,22,{"$f":"SUM(W40:AH40)","v":261}]
[5,"2019-02-01","2019-02-01",null,null,0,0,0,null,null,null,0,""]
[5,"2019-02-02","2019-02-02",null,null,0,null,0,null,null,"za",0,"","Week",null,"OV WEEK","OV DAG","Recup -","Recup +","OV 50%"]
[5,"2019-02-03","2019-02-03",null,null,0,null,0,null,null,"zo",0,"",{"$f":"SUM(L37:L43)","v":0},{"$f":"SUM(H37:H43)","v":0},{"$f":"IF(N43>38,N43-38,0)","v":0},{"$f":"SUM(M37:M43)","v":0},{"$f":"SUM(I37:I43)","v":0},{"$f":"IF(N43>38,N43-38,0)","v":0},{"$f":"IF(P43>Q43,P43,Q43)","v":0}]
[6,"2019-02-04","2019-02-04",null,null,0,0,0,null,null,null,0,""]
[6,"2019-02-05","2019-02-05",null,null,0,0,0,null,null,null,0,""]
[6,"2019-02-06","2019-02-06",null,null,0,0,0,null,null,null,0,""]
[6,"2019-02-07","2019-02-07",null,null,0,0,0,null,null,null,0,""]
[6,"2019-02-08","2019-02-08",null,null,0,0,0,null,null,null,0,""]
[6,"2019-02-09","2019-02-09",null,null,0,null,0,null,null,"za",0,"","Week",null,"OV WEEK","OV DAG","Recup -","Recup +","OV 50%"]
[6,"2019-02-10","2019-02-10",null,null,0,null,0,null,null,"zo",0,"",{"$f":"SUM(L44:L50)","v":0},{"$f":"SUM(H44:H50)","v":0},{"$f":"IF(N50>38,N50-38,0)","v":0},{"$f":"SUM(M44:M50)","v":0},{"$f":"SUM(I44:I50)","v":0},{"$f":"IF(N50>38,N50-38,0)","v":0},{"$f":"IF(P50>Q50,P50,Q50)","v":0}]
[7,"2019-02-11","2019-02-11",null,null,0,0,0,null,null,null,0,""]
[7,"2019-02-12","2019-02-12",null,null,0,0,0,null,null,null,0,""]
[7,"2019-02-13","2019-02-13",null,null,0,0,0,null,null,null,0,""]
[7,"2019-02-14","2019-02-14",null,null,0,0,0,null,null,null,0,""]
[7,"2019-02-15","2019-02-15",null,null,0,0,0,null,null,null,0,""]
[7,"2019-02-16","2019-02-16",null,null,0,null,0,null,null,"za",0,"","Week",null,"OV WEEK","OV DAG","Recup -","Recup +","OV 50%"]
[7,"2019-02-17","2019-02-17",null,null,0,null,0,null,null,"zo",0,"",{"$f":"SUM(L51:L57)","v":0},{"$f":"SUM(H51:H57)","v":0},{"$f":"IF(N57>38,N57-38,0)","v":0},{"$f":"SUM(M51:M57)","v":0},{"$f":"SUM(I51:I57)","v":0},{"$f":"IF(N57>38,N57-38,0)","v":0},{"$f":"IF(P57>Q57,P57,Q57)","v":0}]
[8,"2019-02-18","2019-02-18",null,null,0,0,0,null,null,null,0,""]
[8,"2019-02-19","2019-02-19",null,null,0,0,0,null,null,null,0,""]
[8,"2019-02-20","2019-02-20",null,null,0,0,0,null,null,null,0,""]
[8,"2019-02-21","2019-02-21",null,null,0,0,0,null,null,null,0,""]
[8,"2019-02-22","2019-02-22",null,null,0,0,0,null,null,null,0,""]
[8,"2019-02-23","2019-02-23",null,null,0,null,0,null,null,"za",0,"","Week",null,"OV WEEK","OV DAG","Recup -","Recup +","OV 50%"]
[8,"2019-02-24","2019-02-24",null,null,0,null,0,null,null,"zo",0,"",{"$f":"SUM(L58:L64)","v":0},{"$f":"SUM(H58:H64)","v":0},{"$f":"IF(N64>38,N64-38,0)","v":0},{"$f":"SUM(M58:M64)","v":0},{"$f":"SUM(I58:I64)","v":0},{"$f":"IF(N64>38,N64-38,0)","v":0},{"$f":"IF(P64>Q64,P64,Q64)","v":0}]
[9,"2019-02-25","2019-02-25",null,null,0,0,0,null,null,null,0,""]
[9,"2019-02-26","2019-02-26",null,null,0,0,0,null,null,null,0,""]
[9,"2019-02-27","2019-02-27",null,null,0,0,0,null,null,null,0,""]
[9,"2019-02-28","2019-02-28",null,null,0,0,0,null,null,null,0,""]
[9,"2019-03-01","2019-03-01",null,null,0,0,0,null,null,null,0,""]
[9,"2019-03-02","2019-03-02",null,null,0,null,0,null,null,"za",0,"","Week",null,"OV WEEK","OV DAG","Recup -","Recup +","OV 50%"]
[9,"2019-03-03","2019-03-03",null,null,0,null,0,null,null,"zo",0,"",{"$f":"SUM(L65:L71)","v":0},{"$f":"SUM(H65:H71)","v":0},{"$f":"IF(N71>38,N71-38,0)","v":0},{"$f":"SUM(M65:M71)","v":0},{"$f":"SUM(I65:I71)","v":0},{"$f":"IF(N71>38,N71-38,0)","v":0},{"$f":"IF(P71>Q71,P71,Q71)","v":0}]
[10,"2019-03-04","2019-03-04",null,null,0,0,0,null,null,null,0,""]
[10,"2019-03-05","2019-03-05",null,null,0,0,0,null,null,null,0,{"$f":"IF(L73>9,L73-9,\"\")","v":""}]
[{"$f":"WEEKNUM(C74,21)","v":10},{"$f":"C74","v":"2019-03-06"},"2019-03-06",null,null,{"$f":"(E74-D74)*24","v":0},{"$f":"IF(F74>=6,0.5,0)","v":0},{"$f":"F74-G74","v":0},null,null,null,{"$f":"SUM(H74:J74)","v":0},""]
[10,"2019-03-07","2019-03-07",null,null,0,0,0,null,null,null,0,""]
[10,"2019-03-08","2019-03-08",null,null,0,0,0,null,null,null,0,""]
[10,"2019-03-09","2019-03-09",null,null,0,null,0,null,null,"za",0,"","Week",null,"OV WEEK","OV DAG","Recup -","Recup +","OV 50%"]
[10,"2019-03-10","2019-03-10",null,null,0,null,0,null,null,"zo",0,"",{"$f":"SUM(L72:L78)","v":0},{"$f":"SUM(H72:H78)","v":0},{"$f":"IF(N78>38,N78-38,0)","v":0},{"$f":"SUM(M72:M78)","v":0},{"$f":"SUM(I72:I78)","v":0},{"$f":"IF(N78>38,N78-38,0)","v":0},{"$f":"IF(P78>Q78,P78,Q78)","v":0}]
[11,"2019-03-11","2019-03-11",null,null,0,0,0,null,null,null,0,""]
[11,"2019-03-12","2019-03-12",null,null,0,0,0,null,null,null,0,""]
[11,"2019-03-13","2019-03-13",null,null,0,0,0,null,null,null,0,""]
[11,"2019-03-14","2019-03-14",null,null,0,0,0,null,null,null,0,""]
[11,"2019-03-15","2019-03-15",null,null,0,0,0,null,null,null,0,""]
[11,"2019-03-16","2019-03-16",null,null,0,null,0,null,null,"za",0,"","Week",null,"OV WEEK","OV DAG","Recup -","Recup +","OV 50%"]
[11,"2019-03-17","2019-03-17",null,null,0,null,0,null,null,"zo",0,"",{"$f":"SUM(L79:L85)","v":0},{"$f":"SUM(H79:H85)","v":0},{"$f":"IF(N85>38,N85-38,0)","v":0},{"$f":"SUM(M79:M85)","v":0},{"$f":"SUM(I79:I85)","v":0},{"$f":"IF(N85>38,N85-38,0)","v":0},{"$f":"IF(P85>Q85,P85,Q85)","v":0}]
[12,"2019-03-18","2019-03-18",null,null,0,0,0,null,null,null,0,""]
[12,"2019-03-19","2019-03-19",null,null,0,0,0,null,null,null,0,""]
[12,"2019-03-20","2019-03-20",null,null,0,0,0,null,null,null,0,""]
[12,"2019-03-21","2019-03-21",null,null,0,0,0,null,null,null,0,""]
[12,"2019-03-22","2019-03-22",null,null,0,0,0,null,null,null,0,""]
[12,"2019-03-23","2019-03-23",null,null,0,null,0,null,null,"za",0,"","Week",null,"OV WEEK","OV DAG","Recup -","Recup +","OV 50%"]
[12,"2019-03-24","2019-03-24",null,null,0,null,0,null,null,"zo",0,"",{"$f":"SUM(L86:L92)","v":0},{"$f":"SUM(H86:H92)","v":0},{"$f":"IF(N92>38,N92-38,0)","v":0},{"$f":"SUM(M86:M92)","v":0},{"$f":"SUM(I86:I92)","v":0},{"$f":"IF(N92>38,N92-38,0)","v":0},{"$f":"IF(P92>Q92,P92,Q92)","v":0}]
[13,"2019-03-25","2019-03-25",null,null,0,0,0,null,null,null,0,""]
[13,"2019-03-26","2019-03-26",null,null,0,0,0,null,null,null,0,""]
[13,"2019-03-27","2019-03-27",null,null,0,0,0,null,null,null,0,""]
[13,"2019-03-28","2019-03-28",null,null,0,0,0,null,null,null,0,""]
[13,"2019-03-29","2019-03-29",null,null,0,0,0,null,null,null,0,""]
[13,"2019-03-30","2019-03-30",null,null,0,null,0,null,null,"za",0,"","Week",null,"OV WEEK","OV DAG","Recup -","Recup +","OV 50%"]
[13,"2019-03-31","2019-03-31",null,null,0,null,0,null,null,"zo",0,"",{"$f":"SUM(L93:L99)","v":0},{"$f":"SUM(H93:H99)","v":0},{"$f":"IF(N99>38,N99-38,0)","v":0},{"$f":"SUM(M93:M99)","v":0},{"$f":"SUM(I93:I99)","v":0},{"$f":"IF(N99>38,N99-38,0)","v":0},{"$f":"IF(P99>Q99,P99,Q99)","v":0}]
[14,"2019-04-01","2019-04-01",null,null,0,0,0,null,null,null,0,""]
[14,"2019-04-02","2019-04-02",null,null,0,0,0,null,null,null,0,""]
[14,"2019-04-03","2019-04-03",null,null,0,0,0,null,null,null,0,""]
[14,"2019-04-04","2019-04-04",null,null,0,0,0,null,null,null,0,""]
[14,"2019-04-05","2019-04-05",null,null,0,0,0,null,null,null,0,""]
[14,"2019-04-06","2019-04-06",null,null,0,null,0,null,null,"za",0,"","Week",null,"OV WEEK","OV DAG","Recup -","Recup +","OV 50%"]
[14,"2019-04-07","2019-04-07",null,null,0,null,0,null,null,"zo",0,"",{"$f":"SUM(L100:L106)","v":0},{"$f":"SUM(H100:H106)","v":0},{"$f":"IF(N106>38,N106-38,0)","v":0},{"$f":"SUM(M100:M106)","v":0},{"$f":"SUM(I100:I106)","v":0},{"$f":"IF(N106>38,N106-38,0)","v":0},{"$f":"IF(P106>Q106,P106,Q106)","v":0}]
[15,"2019-04-08","2019-04-08",null,null,0,0,0,null,null,null,0,""]
[15,"2019-04-09","2019-04-09",null,null,0,0,0,null,null,null,0,""]
[15,"2019-04-10","2019-04-10",null,null,0,0,0,null,null,null,0,""]
[15,"2019-04-11","2019-04-11",null,null,0,0,0,null,null,null,0,""]
[15,"2019-04-12","2019-04-12",null,null,0,0,0,null,null,null,0,""]
[15,"2019-04-13","2019-04-13",null,null,0,null,0,null,null,"za",0,"","Week",null,"OV WEEK","OV DAG","Recup -","Recup +","OV 50%"]
[15,"2019-04-14","2019-04-14",null,null,0,null,0,null,null,"zo",0,"",{"$f":"SUM(L107:L113)","v":0},{"$f":"SUM(H107:H113)","v":0},{"$f":"IF(N113>38,N113-38,0)","v":0},{"$f":"SUM(M107:M113)","v":0},{"$f":"SUM(I107:I113)","v":0},{"$f":"IF(N113>38,N113-38,0)","v":0},{"$f":"IF(P113>Q113,P113,Q113)","v":0}]
[16,"2019-04-15","2019-04-15",null,null,0,0,0,null,null,null,0,""]
[16,"2019-04-16","2019-04-16",null,null,0,0,0,null,null,null,0,""]
[16,"2019-04-17","2019-04-17",null,null,0,0,0,null,null,null,0,""]
[16,"2019-04-18","2019-04-18",null,null,0,0,0,null,null,null,0,""]
[16,"2019-04-19","2019-04-19",null,null,0,0,0,null,null,null,0,""]
[16,"2019-04-20","2019-04-20",null,null,0,null,0,null,null,"za",0,"","Week",null,"OV WEEK","OV DAG","Recup -","Recup +","OV 50%"]
[16,"2019-04-21","2019-04-21",null,null,0,null,0,null,null,"zo",0,"",{"$f":"SUM(L114:L120)","v":0},{"$f":"SUM(H114:H120)","v":0},{"$f":"IF(N120>38,N120-38,0)","v":0},{"$f":"SUM(M114:M120)","v":0},{"$f":"SUM(I114:I120)","v":0},{"$f":"IF(N120>38,N120-38,0)","v":0},{"$f":"IF(P120>Q120,P120,Q120)","v":0}]
[17,"2019-04-22","2019-04-22",null,null,0,0,0,null,7.6,"fd",7.6,""]
[17,"2019-04-23","2019-04-23",null,null,0,0,0,null,null,null,0,""]
[17,"2019-04-24","2019-04-24",null,null,0,0,0,null,null,null,0,""]
[17,"2019-04-25","2019-04-25",null,null,0,0,0,null,null,null,0,""]
[17,"2019-04-26","2019-04-26",null,null,0,0,0,null,null,null,0,""]
[17,"2019-04-27","2019-04-27",null,null,0,null,0,null,null,"za",0,"","Week",null,"OV WEEK","OV DAG","Recup -","Recup +","OV 50%"]
[17,"2019-04-28","2019-04-28",null,null,0,null,0,null,null,"zo",0,"",{"$f":"SUM(L121:L127)","v":7.6},{"$f":"SUM(H121:H127)","v":0},{"$f":"IF(N127>38,N127-38,0)","v":0},{"$f":"SUM(M121:M127)","v":0},{"$f":"SUM(I121:I127)","v":0},{"$f":"IF(N127>38,N127-38,0)","v":0},{"$f":"IF(P127>Q127,P127,Q127)","v":0}]
[18,"2019-04-29","2019-04-29",null,null,0,0,0,null,null,null,0,""]
[18,"2019-04-30","2019-04-30",null,null,0,0,0,null,null,null,0,""]
[18,"2019-05-01","2019-05-01",null,null,0,0,0,null,7.6,"fd",7.6,""]
[18,"2019-05-02","2019-05-02",null,null,0,0,0,null,null,null,0,""]
[18,"2019-05-03","2019-05-03",null,null,0,0,0,null,null,null,0,""]
[18,"2019-05-04","2019-05-04",null,null,0,null,0,null,null,"za",0,"","Week",null,"OV WEEK","OV DAG","Recup -","Recup +","OV 50%"]
[18,"2019-05-05","2019-05-05",null,null,0,null,0,null,null,"zo",0,"",{"$f":"SUM(L128:L134)","v":7.6},{"$f":"SUM(H128:H134)","v":0},{"$f":"IF(N134>38,N134-38,0)","v":0},{"$f":"SUM(M128:M134)","v":0},{"$f":"SUM(I128:I134)","v":0},{"$f":"IF(N134>38,N134-38,0)","v":0},{"$f":"IF(P134>Q134,P134,Q134)","v":0}]
[19,"2019-05-06","2019-05-06",null,null,0,0,0,null,null,null,0,""]
[19,"2019-05-07","2019-05-07",null,null,0,0,0,null,null,null,0,""]
[19,"2019-05-08","2019-05-08",null,null,0,0,0,null,null,null,0,{"$f":"IF(L137>9,L137-9,\"\")","v":""}]
[{"$f":"WEEKNUM(C138,21)","v":19},{"$f":"C138","v":"2019-05-09"},"2019-05-09",null,null,{"$f":"(E138-D138)*24","v":0},{"$f":"IF(F138>=6,0.5,0)","v":0},{"$f":"F138-G138","v":0},null,null,null,{"$f":"SUM(H138:J138)","v":0},""]
[19,"2019-05-10","2019-05-10",null,null,0,0,0,null,null,null,0,""]
[19,"2019-05-11","2019-05-11",null,null,0,null,0,null,null,"za",0,"","Week",null,"OV WEEK","OV DAG","Recup -","Recup +","OV 50%"]
[19,"2019-05-12","2019-05-12",null,null,0,null,0,null,null,"zo",0,"",{"$f":"SUM(L135:L141)","v":0},{"$f":"SUM(H135:H141)","v":0},{"$f":"IF(N141>38,N141-38,0)","v":0},{"$f":"SUM(M135:M141)","v":0},{"$f":"SUM(I135:I141)","v":0},{"$f":"IF(N141>38,N141-38,0)","v":0},{"$f":"IF(P141>Q141,P141,Q141)","v":0}]
[20,"2019-05-13","2019-05-13",null,null,0,0,0,null,null,null,0,""]
[20,"2019-05-14","2019-05-14",null,null,0,0,0,null,null,null,0,""]
[20,"2019-05-15","2019-05-15",null,null,0,0,0,null,null,null,0,""]
[20,"2019-05-16","2019-05-16",null,null,0,0,0,null,null,null,0,""]
[20,"2019-05-17","2019-05-17",null,null,0,0,0,null,null,null,0,""]
[20,"2019-05-18","2019-05-18",null,null,0,null,0,null,null,"za",0,"","Week",null,"OV WEEK","OV DAG","Recup -","Recup +","OV 50%"]
[20,"2019-05-19","2019-05-19",null,null,0,null,0,null,null,"zo",0,"",{"$f":"SUM(L142:L148)","v":0},{"$f":"SUM(H142:H148)","v":0},{"$f":"IF(N148>38,N148-38,0)","v":0},{"$f":"SUM(M142:M148)","v":0},{"$f":"SUM(I142:I148)","v":0},{"$f":"IF(N148>38,N148-38,0)","v":0},{"$f":"IF(P148>Q148,P148,Q148)","v":0}]
[21,"2019-05-20","2019-05-20",null,null,0,0,0,null,7.6,"fd",7.6,""]
[21,"2019-05-21","2019-05-21",null,null,0,0,0,null,null,null,0,""]
[21,"2019-05-22","2019-05-22",null,null,0,0,0,null,null,null,0,""]
[21,"2019-05-23","2019-05-23",null,null,0,0,0,null,null,null,0,""]
[21,"2019-05-24","2019-05-24",null,null,0,0,0,null,null,null,0,""]
[21,"2019-05-25","2019-05-25",null,null,0,null,0,null,null,"za",0,"","Week",null,"OV WEEK","OV DAG","Recup -","Recup +","OV 50%"]
[21,"2019-05-26","2019-05-26",null,null,0,null,0,null,null,"zo",0,"",{"$f":"SUM(L149:L155)","v":7.6},{"$f":"SUM(H149:H155)","v":0},{"$f":"IF(N155>38,N155-38,0)","v":0},{"$f":"SUM(M149:M155)","v":0},{"$f":"SUM(I149:I155)","v":0},{"$f":"IF(N155>38,N155-38,0)","v":0},{"$f":"IF(P155>Q155,P155,Q155)","v":0}]
[22,"2019-05-27","2019-05-27",null,null,0,0,0,null,null,null,0,""]
[22,"2019-05-28","2019-05-28",null,null,0,0,0,null,null,null,0,""]
[22,"2019-05-29","2019-05-29",null,null,0,0,0,null,null,null,0,""]
[22,"2019-05-30","2019-05-30",null,null,0,0,0,null,7.6,"fd",7.6,""]
[22,"2019-05-31","2019-05-31",null,null,0,0,0,null,null,null,0,""]
[22,"2019-06-01","2019-06-01",null,null,0,null,0,null,null,"za",0,"","Week",null,"OV WEEK","OV DAG","Recup -","Recup +","OV 50%"]
[22,"2019-06-02","2019-06-02",null,null,0,null,0,null,null,"zo",0,"",{"$f":"SUM(L156:L162)","v":7.6},{"$f":"SUM(H156:H162)","v":0},{"$f":"IF(N162>38,N162-38,0)","v":0},{"$f":"SUM(M156:M162)","v":0},{"$f":"SUM(I156:I162)","v":0},{"$f":"IF(N162>38,N162-38,0)","v":0},{"$f":"IF(P162>Q162,P162,Q162)","v":0}]
[23,"2019-06-03","2019-06-03",null,null,0,0,0,null,null,null,0,""]
[23,"2019-06-04","2019-06-04",null,null,0,0,0,null,null,null,0,""]
[23,"2019-06-05","2019-06-05",null,null,0,0,0,null,null,null,0,""]
[23,"2019-06-06","2019-06-06",null,null,0,0,0,null,null,null,0,""]
[23,"2019-06-07","2019-06-07",null,null,0,0,0,null,null,null,0,""]
[23,"2019-06-08","2019-06-08",null,null,0,null,0,null,null,"za",0,"","Week",null,"OV WEEK","OV DAG","Recup -","Recup +","OV 50%"]
[23,"2019-06-09","2019-06-09",null,null,0,null,0,null,null,"zo",0,"",{"$f":"SUM(L163:L169)","v":0},{"$f":"SUM(H163:H169)","v":0},{"$f":"IF(N169>38,N169-38,0)","v":0},{"$f":"SUM(M163:M169)","v":0},{"$f":"SUM(I163:I169)","v":0},{"$f":"IF(N169>38,N169-38,0)","v":0},{"$f":"IF(P169>Q169,P169,Q169)","v":0}]
[24,"2019-06-10","2019-06-10",null,null,0,0,0,null,7.6,"fd",7.6,""]
[24,"2019-06-11","2019-06-11",null,null,0,0,0,null,null,null,0,""]
[24,"2019-06-12","2019-06-12",null,null,0,0,0,null,null,null,0,""]
[24,"2019-06-13","2019-06-13",null,null,0,0,0,null,null,null,0,""]
[24,"2019-06-14","2019-06-14",null,null,0,0,0,null,null,null,0,""]
[24,"2019-06-15","2019-06-15",null,null,0,null,0,null,null,"za",0,"","Week",null,"OV WEEK","OV DAG","Recup -","Recup +","OV 50%"]
[24,"2019-06-16","2019-06-16",null,null,0,null,0,null,null,"zo",0,"",{"$f":"SUM(L170:L176)","v":7.6},{"$f":"SUM(H170:H176)","v":0},{"$f":"IF(N176>38,N176-38,0)","v":0},{"$f":"SUM(M170:M176)","v":0},{"$f":"SUM(I170:I176)","v":0},{"$f":"IF(N176>38,N176-38,0)","v":0},{"$f":"IF(P176>Q176,P176,Q176)","v":0}]
[25,"2019-06-17","2019-06-17",null,null,0,0,0,null,null,null,0,""]
[25,"2019-06-18","2019-06-18",null,null,0,0,0,null,null,null,0,""]
[25,"2019-06-19","2019-06-19",null,null,0,0,0,null,null,null,0,""]
[25,"2019-06-20","2019-06-20",null,null,0,0,0,null,null,null,0,""]
[25,"2019-06-21","2019-06-21",null,null,0,0,0,null,null,null,0,""]
[25,"2019-06-22","2019-06-22",null,null,0,null,0,null,null,"za",0,"","Week",null,"OV WEEK","OV DAG","Recup -","Recup +","OV 50%"]
[25,"2019-06-23","2019-06-23",null,null,0,null,0,null,null,"zo",0,"",{"$f":"SUM(L177:L183)","v":0},{"$f":"SUM(H177:H183)","v":0},{"$f":"IF(N183>38,N183-38,0)","v":0},{"$f":"SUM(M177:M183)","v":0},{"$f":"SUM(I177:I183)","v":0},{"$f":"IF(N183>38,N183-38,0)","v":0},{"$f":"IF(P183>Q183,P183,Q183)","v":0}]
[26,"2019-06-24","2019-06-24",null,null,0,0,0,null,null,null,0,""]
[26,"2019-06-25","2019-06-25",null,null,0,0,0,null,null,null,0,""]
[26,"2019-06-26","2019-06-26",null,null,0,0,0,null,null,null,0,""]
[26,"2019-06-27","2019-06-27",null,null,0,0,0,null,null,null,0,""]
[26,"2019-06-28","2019-06-28",null,null,0,0,0,null,null,null,0,""]
[26,"2019-06-29","2019-06-29",null,null,0,null,0,null,null,"za",0,"","Week",null,"OV WEEK","OV DAG","Recup -","Recup +","OV 50%"]
[26,"2019-06-30","2019-06-30",null,null,0,null,0,null,null,"zo",0,"",{"$f":"SUM(L184:L190)","v":0},{"$f":"SUM(H184:H190)","v":0},{"$f":"IF(N190>38,N190-38,0)","v":0},{"$f":"SUM(M184:M190)","v":0},{"$f":"SUM(I184:I190)","v":0},{"$f":"IF(N190>38,N190-38,0)","v":0},{"$f":"IF(P190>Q190,P190,Q190)","v":0}]
[27,"2019-07-01","2019-07-01",null,null,0,0,0,null,null,null,0,""]
[27,"2019-07-02","2019-07-02",null,null,0,0,0,null,null,null,0,""]
[27,"2019-07-03","2019-07-03",null,null,0,0,0,null,null,null,0,""]
[27,"2019-07-04","2019-07-04",null,null,0,0,0,null,null,null,0,""]
[27,"2019-07-05","2019-07-05",null,null,0,0,0,null,null,null,0,""]
[27,"2019-07-06","2019-07-06",null,null,0,null,0,null,null,"za",0,"","Week",null,"OV WEEK","OV DAG","Recup -","Recup +","OV 50%"]
[27,"2019-07-07","2019-07-07",null,null,0,null,0,null,null,"zo",0,"",{"$f":"SUM(L191:L197)","v":0},{"$f":"SUM(H191:H197)","v":0},{"$f":"IF(N197>38,N197-38,0)","v":0},{"$f":"SUM(M191:M197)","v":0},{"$f":"SUM(I191:I197)","v":0},{"$f":"IF(N197>38,N197-38,0)","v":0},{"$f":"IF(P197>Q197,P197,Q197)","v":0}]
[28,"2019-07-08","2019-07-08",null,null,0,0,0,null,null,null,0,""]
[28,"2019-07-09","2019-07-09",null,null,0,0,0,null,null,null,0,""]
[28,"2019-07-10","2019-07-10",null,null,0,0,0,null,null,null,0,""]
[28,"2019-07-11","2019-07-11",null,null,0,0,0,null,null,null,0,{"$f":"IF(L201>9,L201-9,\"\")","v":""}]
[{"$f":"WEEKNUM(C202,21)","v":28},{"$f":"C202","v":"2019-07-12"},"2019-07-12",null,null,{"$f":"(E202-D202)*24","v":0},{"$f":"IF(F202>=6,0.5,0)","v":0},{"$f":"F202-G202","v":0},null,null,null,{"$f":"SUM(H202:J202)","v":0},""]
[28,"2019-07-13","2019-07-13",null,null,0,null,0,null,null,"za",0,"","Week",null,"OV WEEK","OV DAG","Recup -","Recup +","OV 50%"]
[28,"2019-07-14","2019-07-14",null,null,0,null,0,null,null,"zo",0,"",{"$f":"SUM(L198:L204)","v":0},{"$f":"SUM(H198:H204)","v":0},{"$f":"IF(N204>38,N204-38,0)","v":0},{"$f":"SUM(M198:M204)","v":0},{"$f":"SUM(I198:I204)","v":0},{"$f":"IF(N204>38,N204-38,0)","v":0},{"$f":"IF(P204>Q204,P204,Q204)","v":0}]
[29,"2019-07-15","2019-07-15",null,null,0,0,0,null,null,null,0,""]
[29,"2019-07-16","2019-07-16",null,null,0,0,0,null,null,null,0,""]
[29,"2019-07-17","2019-07-17",null,null,0,0,0,null,null,null,0,""]
[29,"2019-07-18","2019-07-18",null,null,0,0,0,null,null,null,0,""]
[29,"2019-07-19","2019-07-19",null,null,0,0,0,null,null,null,0,""]
[29,"2019-07-20","2019-07-20",null,null,0,null,0,null,null,"za",0,"","Week",null,"OV WEEK","OV DAG","Recup -","Recup +","OV 50%"]
[29,"2019-07-21","2019-07-21",null,null,0,null,0,null,null,"zo",0,"",{"$f":"SUM(L205:L211)","v":0},{"$f":"SUM(H205:H211)","v":0},{"$f":"IF(N211>38,N211-38,0)","v":0},{"$f":"SUM(M205:M211)","v":0},{"$f":"SUM(I205:I211)","v":0},{"$f":"IF(N211>38,N211-38,0)","v":0},{"$f":"IF(P211>Q211,P211,Q211)","v":0}]
[30,"2019-07-22","2019-07-22",null,null,0,0,0,null,null,null,0,""]
[30,"2019-07-23","2019-07-23",null,null,0,0,0,null,null,null,0,""]
[30,"2019-07-24","2019-07-24",null,null,0,0,0,null,null,null,0,""]
[30,"2019-07-25","2019-07-25",null,null,0,0,0,null,null,null,0,""]
[30,"2019-07-26","2019-07-26",null,null,0,0,0,null,null,null,0,""]
[30,"2019-07-27","2019-07-27",null,null,0,null,0,null,null,"za",0,"","Week",null,"OV WEEK","OV DAG","Recup -","Recup +","OV 50%"]
[30,"2019-07-28","2019-07-28",null,null,0,null,0,null,null,"zo",0,"",{"$f":"SUM(L212:L218)","v":0},{"$f":"SUM(H212:H218)","v":0},{"$f":"IF(N218>38,N218-38,0)","v":0},{"$f":"SUM(M212:M218)","v":0},{"$f":"SUM(I212:I218)","v":0},{"$f":"IF(N218>38,N218-38,0)","v":0},{"$f":"IF(P218>Q218,P218,Q218)","v":0}]
[31,"2019-07-29","2019-07-29",null,null,0,0,0,null,null,null,0,""]
[31,"2019-07-30","2019-07-30",null,null,0,0,0,null,null,null,0,""]
[31,"2019-07-31","2019-07-31",null,null,0,0,0,null,null,null,0,""]
[31,"2019-08-01","2019-08-01",null,null,0,0,0,null,null,null,0,""]
[31,"2019-08-02","2019-08-02",null,null,0,0,0,null,null,null,0,""]
[31,"2019-08-03","2019-08-03",null,null,0,null,0,null,null,"za",0,"","Week",null,"OV WEEK","OV DAG","Recup -","Recup +","OV 50%"]
[31,"2019-08-04","2019-08-04",null,null,0,null,0,null,null,"zo",0,"",{"$f":"SUM(L219:L225)","v":0},{"$f":"SUM(H219:H225)","v":0},{"$f":"IF(N225>38,N225-38,0)","v":0},{"$f":"SUM(M219:M225)","v":0},{"$f":"SUM(I219:I225)","v":0},{"$f":"IF(N225>38,N225-38,0)","v":0},{"$f":"IF(P225>Q225,P225,Q225)","v":0}]
[32,"2019-08-05","2019-08-05",null,null,0,0,0,null,null,null,0,""]
[32,"2019-08-06","2019-08-06",null,null,0,0,0,null,null,null,0,""]
[32,"2019-08-07","2019-08-07",null,null,0,0,0,null,null,null,0,""]
[32,"2019-08-08","2019-08-08",null,null,0,0,0,null,null,null,0,""]
[32,"2019-08-09","2019-08-09",null,null,0,0,0,null,null,null,0,""]
[32,"2019-08-10","2019-08-10",null,null,0,null,0,null,null,"za",0,"","Week",null,"OV WEEK","OV DAG","Recup -","Recup +","OV 50%"]
[32,"2019-08-11","2019-08-11",null,null,0,null,0,null,null,"zo",0,"",{"$f":"SUM(L226:L232)","v":0},{"$f":"SUM(H226:H232)","v":0},{"$f":"IF(N232>38,N232-38,0)","v":0},{"$f":"SUM(M226:M232)","v":0},{"$f":"SUM(I226:I232)","v":0},{"$f":"IF(N232>38,N232-38,0)","v":0},{"$f":"IF(P232>Q232,P232,Q232)","v":0}]
[33,"2019-08-12","2019-08-12",null,null,0,0,0,null,null,null,0,""]
[33,"2019-08-13","2019-08-13",null,null,0,0,0,null,null,null,0,""]
[33,"2019-08-14","2019-08-14",null,null,0,0,0,null,null,null,0,""]
[33,"2019-08-15","2019-08-15",null,null,0,0,0,null,7.6,"fd",7.6,""]
[33,"2019-08-16","2019-08-16",null,null,0,0,0,null,null,null,0,""]
[33,"2019-08-17","2019-08-17",null,null,0,null,0,null,null,"za",0,"","Week",null,"OV WEEK","OV DAG","Recup -","Recup +","OV 50%"]
[33,"2019-08-18","2019-08-18",null,null,0,null,0,null,null,"zo",0,"",{"$f":"SUM(L233:L239)","v":7.6},{"$f":"SUM(H233:H239)","v":0},{"$f":"IF(N239>38,N239-38,0)","v":0},{"$f":"SUM(M233:M239)","v":0},{"$f":"SUM(I233:I239)","v":0},{"$f":"IF(N239>38,N239-38,0)","v":0},{"$f":"IF(P239>Q239,P239,Q239)","v":0}]
[34,"2019-08-19","2019-08-19",null,null,0,0,0,null,null,null,0,""]
[34,"2019-08-20","2019-08-20",null,null,0,{"$f":"IF(F241>=6,0.5,0)","v":0},0,null,null,null,0,""]
[34,"2019-08-21","2019-08-21",null,null,0,0,0,null,null,null,0,""]
[34,"2019-08-22","2019-08-22",null,null,0,0,0,null,null,null,0,""]
[34,"2019-08-23","2019-08-23",null,null,0,0,0,null,null,null,0,""]
[34,"2019-08-24","2019-08-24",null,null,0,null,0,null,null,"za",0,"","Week",null,"OV WEEK","OV DAG","Recup -","Recup +","OV 50%"]
[34,"2019-08-25","2019-08-25",null,null,0,null,0,null,null,"zo",0,"",{"$f":"SUM(L240:L246)","v":0},{"$f":"SUM(H240:H246)","v":0},{"$f":"IF(N246>38,N246-38,0)","v":0},{"$f":"SUM(M240:M246)","v":0},{"$f":"SUM(I240:I246)","v":0},{"$f":"IF(N246>38,N246-38,0)","v":0},{"$f":"IF(P246>Q246,P246,Q246)","v":0}]
[35,"2019-08-26","2019-08-26",null,null,0,0,0,null,null,null,0,""]
[35,"2019-08-27","2019-08-27",null,null,0,0,0,null,null,null,0,""]
[35,"2019-08-28","2019-08-28",null,null,0,0,0,null,null,null,0,""]
[35,"2019-08-29","2019-08-29",null,null,0,0,0,null,null,null,0,""]
[35,"2019-08-30","2019-08-30",null,null,0,0,0,null,null,null,0,""]
[35,"2019-08-31","2019-08-31",null,null,0,null,0,null,null,"za",0,"","Week",null,"OV WEEK","OV DAG","Recup -","Recup +","OV 50%"]
[35,"2019-09-01","2019-09-01",null,null,0,null,0,null,null,"zo",0,"",{"$f":"SUM(L247:L253)","v":0},{"$f":"SUM(H247:H253)","v":0},{"$f":"IF(N253>38,N253-38,0)","v":0},{"$f":"SUM(M247:M253)","v":0},{"$f":"SUM(I247:I253)","v":0},{"$f":"IF(N253>38,N253-38,0)","v":0},{"$f":"IF(P253>Q253,P253,Q253)","v":0}]
[36,"2019-09-02","2019-09-02",null,null,0,0,0,null,null,null,0,""]
[36,"2019-09-03","2019-09-03",null,null,0,0,0,null,null,null,0,""]
[36,"2019-09-04","2019-09-04",null,null,0,0,0,null,null,null,0,""]
[36,"2019-09-05","2019-09-05",null,null,0,0,0,null,null,null,0,""]
[36,"2019-09-06","2019-09-06",null,null,0,0,0,null,null,null,0,""]
[36,"2019-09-07","2019-09-07",null,null,0,null,0,null,null,"za",0,"","Week",null,"OV WEEK","OV DAG","Recup -","Recup +","OV 50%"]
[36,"2019-09-08","2019-09-08",null,null,0,null,0,null,null,"zo",0,"",{"$f":"SUM(L254:L260)","v":0},{"$f":"SUM(H254:H260)","v":0},{"$f":"IF(N260>38,N260-38,0)","v":0},{"$f":"SUM(M254:M260)","v":0},{"$f":"SUM(I254:I260)","v":0},{"$f":"IF(N260>38,N260-38,0)","v":0},{"$f":"IF(P260>Q260,P260,Q260)","v":0}]
[37,"2019-09-09","2019-09-09",null,null,0,0,0,null,null,null,0,""]
[37,"2019-09-10","2019-09-10",null,null,0,0,0,null,null,null,0,""]
[37,"2019-09-11","2019-09-11",null,null,0,0,0,null,null,null,0,""]
[37,"2019-09-12","2019-09-12",null,null,0,0,0,null,null,null,0,""]
[37,"2019-09-13","2019-09-13",null,null,0,0,0,null,null,null,0,{"$f":"IF(L265>9,L265-9,\"\")","v":""}]
[{"$f":"WEEKNUM(C266,21)","v":37},{"$f":"C266","v":"2019-09-14"},"2019-09-14",null,null,{"$f":"(E266-D266)*24","v":0},null,{"$f":"F266-G266","v":0},null,null,"za",{"$f":"SUM(H266:J266)","v":0},"","Week",null,"OV WEEK","OV DAG","Recup -","Recup +","OV 50%"]
[37,"2019-09-15","2019-09-15",null,null,0,null,0,null,null,"zo",0,"",{"$f":"SUM(L261:L267)","v":0},{"$f":"SUM(H261:H267)","v":0},{"$f":"IF(N267>38,N267-38,0)","v":0},{"$f":"SUM(M261:M267)","v":0},{"$f":"SUM(I261:I267)","v":0},{"$f":"IF(N267>38,N267-38,0)","v":0},{"$f":"IF(P267>Q267,P267,Q267)","v":0}]
[38,"2019-09-16","2019-09-16",null,null,0,{"$f":"IF(F268>=6,0.5,0)","v":0},0,null,null,null,0,""]
[38,"2019-09-17","2019-09-17",null,null,0,0,0,null,null,null,0,""]
[38,"2019-09-18","2019-09-18",null,null,0,0,0,null,null,null,0,""]
[38,"2019-09-19","2019-09-19",null,null,0,0,0,null,null,null,0,""]
[38,"2019-09-20","2019-09-20",null,null,0,0,0,null,null,null,0,""]
[38,"2019-09-21","2019-09-21",null,null,0,null,0,null,null,"za",0,"","Week",null,"OV WEEK","OV DAG","Recup -","Recup +","OV 50%"]
[38,"2019-09-22","2019-09-22",null,null,0,null,0,null,null,"zo",0,"",{"$f":"SUM(L268:L274)","v":0},{"$f":"SUM(H268:H274)","v":0},{"$f":"IF(N274>38,N274-38,0)","v":0},{"$f":"SUM(M268:M274)","v":0},{"$f":"SUM(I268:I274)","v":0},{"$f":"IF(N274>38,N274-38,0)","v":0},{"$f":"IF(P274>Q274,P274,Q274)","v":0}]
[39,"2019-09-23","2019-09-23",null,null,0,0,0,null,null,null,0,""]
[39,"2019-09-24","2019-09-24",null,null,0,0,0,null,null,null,0,""]
[39,"2019-09-25","2019-09-25",null,null,0,0,0,null,null,null,0,""]
[39,"2019-09-26","2019-09-26",null,null,0,0,0,null,null,null,0,""]
[39,"2019-09-27","2019-09-27",null,null,0,0,0,null,null,null,0,""]
[39,"2019-09-28","2019-09-28",null,null,0,null,0,null,null,"za",0,"","Week",null,"OV WEEK","OV DAG","Recup -","Recup +","OV 50%"]
[39,"2019-09-29","2019-09-29",null,null,0,null,0,null,null,"zo",0,"",{"$f":"SUM(L275:L281)","v":0},{"$f":"SUM(H275:H281)","v":0},{"$f":"IF(N281>38,N281-38,0)","v":0},{"$f":"SUM(M275:M281)","v":0},{"$f":"SUM(I275:I281)","v":0},{"$f":"IF(N281>38,N281-38,0)","v":0},{"$f":"IF(P281>Q281,P281,Q281)","v":0}]
[40,"2019-09-30","2019-09-30",null,null,0,0,0,null,null,null,0,""]
[40,"2019-10-01","2019-10-01",null,null,0,0,0,null,null,null,0,""]
[40,"2019-10-02","2019-10-02",null,null,0,0,0,null,null,null,0,""]
[40,"2019-10-03","2019-10-03",null,null,0,0,0,null,null,null,0,""]
[40,"2019-10-04","2019-10-04",null,null,0,0,0,null,null,null,0,""]
[40,"2019-10-05","2019-10-05",null,null,0,null,0,null,null,"za",0,"","Week",null,"OV WEEK","OV DAG","Recup -","Recup +","OV 50%"]
[40,"2019-10-06","2019-10-06",null,null,0,null,0,null,null,"zo",0,"",{"$f":"SUM(L282:L288)","v":0},{"$f":"SUM(H282:H288)","v":0},{"$f":"IF(N288>38,N288-38,0)","v":0},{"$f":"SUM(M282:M288)","v":0},{"$f":"SUM(I282:I288)","v":0},{"$f":"IF(N288>38,N288-38,0)","v":0},{"$f":"IF(P288>Q288,P288,Q288)","v":0}]
[41,"2019-10-07","2019-10-07",null,null,0,0,0,null,null,null,0,""]
[41,"2019-10-08","2019-10-08",null,null,0,0,0,null,null,null,0,""]
[41,"2019-10-09","2019-10-09",null,null,0,0,0,null,null,null,0,""]
[41,"2019-10-10","2019-10-10",null,null,0,0,0,null,null,null,0,""]
[41,"2019-10-11","2019-10-11",null,null,0,0,0,null,null,null,0,""]
[41,"2019-10-12","2019-10-12",null,null,0,null,0,null,null,"za",0,"","Week",null,"OV WEEK","OV DAG","Recup -","Recup +","OV 50%"]
[41,"2019-10-13","2019-10-13",null,null,0,null,0,null,null,"zo",0,"",{"$f":"SUM(L289:L295)","v":0},{"$f":"SUM(H289:H295)","v":0},{"$f":"IF(N295>38,N295-38,0)","v":0},{"$f":"SUM(M289:M295)","v":0},{"$f":"SUM(I289:I295)","v":0},{"$f":"IF(N295>38,N295-38,0)","v":0},{"$f":"IF(P295>Q295,P295,Q295)","v":0}]
[42,"2019-10-14","2019-10-14",null,null,0,0,0,null,null,null,0,""]
[42,"2019-10-15","2019-10-15",null,null,0,0,0,null,null,null,0,""]
[42,"2019-10-16","2019-10-16",null,null,0,0,0,null,null,null,0,""]
[42,"2019-10-17","2019-10-17",null,null,0,0,0,null,null,null,0,""]
[42,"2019-10-18","2019-10-18",null,null,0,0,0,null,null,null,0,""]
[42,"2019-10-19","2019-10-19",null,null,0,null,0,null,null,"za",0,"","Week",null,"OV WEEK","OV DAG","Recup -","Recup +","OV 50%"]
[42,"2019-10-20","2019-10-20",null,null,0,null,0,null,null,"zo",0,"",{"$f":"SUM(L296:L302)","v":0},{"$f":"SUM(H296:H302)","v":0},{"$f":"IF(N302>38,N302-38,0)","v":0},{"$f":"SUM(M296:M302)","v":0},{"$f":"SUM(I296:I302)","v":0},{"$f":"IF(N302>38,N302-38,0)","v":0},{"$f":"IF(P302>Q302,P302,Q302)","v":0}]
[43,"2019-10-21","2019-10-21",null,null,0,0,0,null,null,null,0,""]
[43,"2019-10-22","2019-10-22",null,null,0,0,0,null,null,null,0,""]
[43,"2019-10-23","2019-10-23",null,null,0,0,0,null,null,null,0,""]
[43,"2019-10-24","2019-10-24",null,null,0,0,0,null,null,null,0,""]
[43,"2019-10-25","2019-10-25",null,null,0,0,0,null,null,null,0,""]
[43,"2019-10-26","2019-10-26",null,null,0,null,0,null,null,"za",0,"","Week",null,"OV WEEK","OV DAG","Recup -","Recup +","OV 50%"]
[43,"2019-10-27","2019-10-27",null,null,0,null,0,null,null,"zo",0,"",{"$f":"SUM(L303:L309)","v":0},{"$f":"SUM(H303:H309)","v":0},{"$f":"IF(N309>38,N309-38,0)","v":0},{"$f":"SUM(M303:M309)","v":0},{"$f":"SUM(I303:I309)","v":0},{"$f":"IF(N309>38,N309-38,0)","v":0},{"$f":"IF(P309>Q309,P309,Q309)","v":0}]
[44,"2019-10-28","2019-10-28",null,null,0,0,0,null,null,null,0,""]
[44,"2019-10-29","2019-10-29",null,null,0,0,0,null,null,null,0,""]
[44,"2019-10-30","2019-10-30",null,null,0,0,0,null,null,null,0,""]
[44,"2019-10-31","2019-10-31",null,null,0,0,0,null,null,null,0,""]
[44,"2019-11-01","2019-11-01",null,null,0,0,0,null,7.6,"fd",7.6,""]
[44,"2019-11-02","2019-11-02",null,null,0,null,0,null,null,"za",0,"","Week",null,"OV WEEK","OV DAG","Recup -","Recup +","OV 50%"]
[44,"2019-11-03","2019-11-03",null,null,0,null,0,null,null,"zo",0,"",{"$f":"SUM(L310:L316)","v":7.6},{"$f":"SUM(H310:H316)","v":0},{"$f":"IF(N316>38,N316-38,0)","v":0},{"$f":"SUM(M310:M316)","v":0},{"$f":"SUM(I310:I316)","v":0},{"$f":"IF(N316>38,N316-38,0)","v":0},{"$f":"IF(P316>Q316,P316,Q316)","v":0}]
[45,"2019-11-04","2019-11-04",null,null,0,0,0,null,null,null,0,""]
[45,"2019-11-05","2019-11-05",null,null,0,0,0,null,null,null,0,""]
[45,"2019-11-06","2019-11-06",null,null,0,0,0,null,null,null,0,""]
[45,"2019-11-07","2019-11-07",null,null,0,0,0,null,null,null,0,""]
[45,"2019-11-08","2019-11-08",null,null,0,0,0,null,null,null,0,""]
[45,"2019-11-09","2019-11-09",null,null,0,null,0,null,null,"za",0,"","Week",null,"OV WEEK","OV DAG","Recup -","Recup +","OV 50%"]
[45,"2019-11-10","2019-11-10",null,null,0,null,0,null,null,"zo",0,"",{"$f":"SUM(L317:L323)","v":0},{"$f":"SUM(H317:H323)","v":0},{"$f":"IF(N323>38,N323-38,0)","v":0},{"$f":"SUM(M317:M323)","v":0},{"$f":"SUM(I317:I323)","v":0},{"$f":"IF(N323>38,N323-38,0)","v":0},{"$f":"IF(P323>Q323,P323,Q323)","v":0}]
[46,"2019-11-11","2019-11-11",null,null,0,0,0,null,7.6,"fd",7.6,""]
[46,"2019-11-12","2019-11-12",null,null,0,0,0,null,null,null,0,""]
[46,"2019-11-13","2019-11-13",null,null,0,0,0,null,null,null,0,""]
[46,"2019-11-14","2019-11-14",null,null,0,0,0,null,null,null,0,""]
[46,"2019-11-15","2019-11-15",null,null,0,0,0,null,null,null,0,""]
[46,"2019-11-16","2019-11-16",null,null,0,null,0,null,null,"za",0,{"$f":"IF(L329>9,L329-9,\"\")","v":""},"Week",null,"OV WEEK","OV DAG","Recup -","Recup +","OV 50%"]
[{"$f":"WEEKNUM(C330,21)","v":46},{"$f":"C330","v":"2019-11-17"},"2019-11-17",null,null,{"$f":"(E330-D330)*24","v":0},null,{"$f":"F330-G330","v":0},null,null,"zo",{"$f":"SUM(H330:J330)","v":0},"",{"$f":"SUM(L324:L330)","v":7.6},{"$f":"SUM(H324:H330)","v":0},{"$f":"IF(N330>38,N330-38,0)","v":0},{"$f":"SUM(M324:M330)","v":0},{"$f":"SUM(I324:I330)","v":0},{"$f":"IF(N330>38,N330-38,0)","v":0},{"$f":"IF(P330>Q330,P330,Q330)","v":0}]
[47,"2019-11-18","2019-11-18",null,null,0,{"$f":"IF(F331>=6,0.5,0)","v":0},0,null,null,null,0,""]
[47,"2019-11-19","2019-11-19",null,null,0,0,0,null,null,null,0,""]
[47,"2019-11-20","2019-11-20",null,null,0,0,0,null,null,null,0,""]
[47,"2019-11-21","2019-11-21",null,null,0,0,0,null,null,null,0,""]
[47,"2019-11-22","2019-11-22",null,null,0,0,0,null,null,null,0,""]
[47,"2019-11-23","2019-11-23",null,null,0,null,0,null,null,"za",0,"","Week",null,"OV WEEK","OV DAG","Recup -","Recup +","OV 50%"]
[47,"2019-11-24","2019-11-24",null,null,0,null,0,null,null,"zo",0,"",{"$f":"SUM(L331:L337)","v":0},{"$f":"SUM(H331:H337)","v":0},{"$f":"IF(N337>38,N337-38,0)","v":0},{"$f":"SUM(M331:M337)","v":0},{"$f":"SUM(I331:I337)","v":0},{"$f":"IF(N337>38,N337-38,0)","v":0},{"$f":"IF(P337>Q337,P337,Q337)","v":0}]
[48,"2019-11-25","2019-11-25",null,null,0,0,0,null,null,null,0,""]
[48,"2019-11-26","2019-11-26",null,null,0,0,0,null,null,null,0,""]
[48,"2019-11-27","2019-11-27",null,null,0,0,0,null,null,null,0,""]
[48,"2019-11-28","2019-11-28",null,null,0,0,0,null,null,null,0,""]
[48,"2019-11-29","2019-11-29",null,null,0,0,0,null,null,null,0,""]
[48,"2019-11-30","2019-11-30",null,null,0,null,0,null,null,"za",0,"","Week",null,"OV WEEK","OV DAG","Recup -","Recup +","OV 50%"]
[48,"2019-12-01","2019-12-01",null,null,0,null,0,null,null,"zo",0,"",{"$f":"SUM(L338:L344)","v":0},{"$f":"SUM(H338:H344)","v":0},{"$f":"IF(N344>38,N344-38,0)","v":0},{"$f":"SUM(M338:M344)","v":0},{"$f":"SUM(I338:I344)","v":0},{"$f":"IF(N344>38,N344-38,0)","v":0},{"$f":"IF(P344>Q344,P344,Q344)","v":0}]
[49,"2019-12-02","2019-12-02",null,null,0,0,0,null,null,null,0,""]
[49,"2019-12-03","2019-12-03",null,null,0,0,0,null,null,null,0,""]
[49,"2019-12-04","2019-12-04",null,null,0,0,0,null,null,null,0,""]
[49,"2019-12-05","2019-12-05",null,null,0,0,0,null,null,null,0,""]
[49,"2019-12-06","2019-12-06",null,null,0,0,0,null,null,null,0,""]
[49,"2019-12-07","2019-12-07",null,null,0,null,0,null,null,"za",0,"","Week",null,"OV WEEK","OV DAG","Recup -","Recup +","OV 50%"]
[49,"2019-12-08","2019-12-08",null,null,0,null,0,null,null,"zo",0,"",{"$f":"SUM(L345:L351)","v":0},{"$f":"SUM(H345:H351)","v":0},{"$f":"IF(N351>38,N351-38,0)","v":0},{"$f":"SUM(M345:M351)","v":0},{"$f":"SUM(I345:I351)","v":0},{"$f":"IF(N351>38,N351-38,0)","v":0},{"$f":"IF(P351>Q351,P351,Q351)","v":0}]
[50,"2019-12-09","2019-12-09",null,null,0,0,0,null,null,null,0,""]
[50,"2019-12-10","2019-12-10",null,null,0,0,0,null,null,null,0,""]
[50,"2019-12-11","2019-12-11",null,null,0,0,0,null,null,null,0,""]
[50,"2019-12-12","2019-12-12",null,null,0,0,0,null,null,null,0,""]
[50,"2019-12-13","2019-12-13",null,null,0,0,0,null,null,null,0,""]
[50,"2019-12-14","2019-12-14",null,null,0,null,0,null,null,"za",0,"","Week",null,"OV WEEK","OV DAG","Recup -","Recup +","OV 50%"]
[50,"2019-12-15","2019-12-15",null,null,0,null,0,null,null,"zo",0,"",{"$f":"SUM(L352:L358)","v":0},{"$f":"SUM(H352:H358)","v":0},{"$f":"IF(N358>38,N358-38,0)","v":0},{"$f":"SUM(M352:M358)","v":0},{"$f":"SUM(I352:I358)","v":0},{"$f":"IF(N358>38,N358-38,0)","v":0},{"$f":"IF(P358>Q358,P358,Q358)","v":0}]
[51,"2019-12-16","2019-12-16",null,null,0,0,0,null,null,null,0,""]
[51,"2019-12-17","2019-12-17",null,null,0,0,0,null,null,null,0,""]
[51,"2019-12-18","2019-12-18",null,null,0,0,0,null,null,null,0,""]
[51,"2019-12-19","2019-12-19",null,null,0,0,0,null,null,null,0,""]
[51,"2019-12-20","2019-12-20",null,null,0,0,0,null,null,null,0,""]
[51,"2019-12-21","2019-12-21",null,null,0,null,0,null,null,"za",0,"","Week",null,"OV WEEK","OV DAG","Recup -","Recup +","OV 50%"]
[51,"2019-12-22","2019-12-22",null,null,0,null,0,null,null,"zo",0,"",{"$f":"SUM(L359:L365)","v":0},{"$f":"SUM(H359:H365)","v":0},{"$f":"IF(N365>38,N365-38,0)","v":0},{"$f":"SUM(M359:M365)","v":0},{"$f":"SUM(I359:I365)","v":0},{"$f":"IF(N365>38,N365-38,0)","v":0},{"$f":"IF(P365>Q365,P365,Q365)","v":0}]
[52,"2019-12-23","2019-12-23",null,null,0,0,0,null,null,null,0,""]
[52,"2019-12-24","2019-12-24",null,null,0,0,0,null,null,null,0,""]
[52,"2019-12-25","2019-12-25",null,null,0,0,0,null,7.6,"fd",7.6,""]
[52,"2019-12-26","2019-12-26",null,null,0,0,0,null,null,null,0,""]
[52,"2019-12-27","2019-12-27",null,null,0,0,0,null,null,null,0,""]
[52,"2019-12-28","2019-12-28",null,null,0,null,0,null,null,"za",0,"","Week",null,"OV WEEK","OV DAG","Recup -","Recup +","OV 50%"]
[52,"2019-12-29","2019-12-29",null,null,0,null,0,null,null,"zo",0,"",{"$f":"SUM(L366:L372)","v":7.6},{"$f":"SUM(H366:H372)","v":0},{"$f":"IF(N372>38,N372-38,0)","v":0},{"$f":"SUM(M366:M372)","v":0},{"$f":"SUM(I366:I372)","v":0},{"$f":"IF(N372>38,N372-38,0)","v":0},{"$f":"IF(P372>Q372,P372,Q372)","v":0}]
[1,"2019-12-30","2019-12-30",null,null,0,0,0,null,null,null,0,""]
[1,"2019-12-31","2019-12-31",null,null,0,0,0,null,null,null,0,""]
[1,"2020-01-01","2020-01-01",null,null,0,0,0,null,7.6,"fd",7.6,""]
[1,"2020-01-02","2020-01-02",null,null,0,0,0,null,null,null,0,""]
[1,"2020-01-03","2020-01-03",null,null,0,0,0,null,null,null,0,""]
[1,"2020-01-04","2020-01-04",null,null,0,null,0,null,null,"za",0,"","Week",null,"OV WEEK","OV DAG","Recup -","Recup +","OV 50%"]
[1,"2020-01-05","2020-01-05",null,null,0,null,0,null,null,"zo",0,"",{"$f":"SUM(L373:L379)","v":7.6},{"$f":"SUM(H373:H379)","v":0},{"$f":"IF(N379>38,N379-38,0)","v":0},{"$f":"SUM(M373:M379)","v":0},{"$f":"SUM(I373:I379)","v":0},{"$f":"IF(N379>38,N379-38,0)","v":0},{"$f":"IF(P379>Q379,P379,Q379)","v":0}]

{"sheet":"97","index":19,"n_rows":379,"n_cols":35,"rows_kept":379,"cut":false,"hidden":false,"merged":[[6,21,6,24],[6,25,6,28],[6,29,6,32],[6,33,6,34],[0,1,1,12],[4,21,4,23],[4,25,4,28],[4,29,4,32],[4,33,4,34],[5,21,5,23],[5,25,5,28],[5,29,5,32],[5,33,5,34],[2,21,2,23],[2,25,2,28],[2,29,2,32],[2,33,2,34],[3,21,3,23],[3,25,3,28],[3,29,3,32],[3,33,3,34],[0,21,0,24],[0,25,0,28],[0,29,0,32],[0,33,0,34],[1,21,1,23],[1,25,1,28],[1,29,1,32],[1,33,1,34]]}
["97","Thys Wesley",null,null,null,null,null,null,null,null,null,null,null,null,null,null,null,null,null,null,null,"Soort",null,null,null,"Recht op",null,null,null,"Opgenomen",null,null,null,"Saldo"]
[null,null,null,null,null,null,null,null,null,null,null,null,null,null,null,null,null,null,null,null,null,"ADV-dagen",null,null,"adv",null,null,null,null,{"$f":"(COUNTIF(W$9:AH$39,\"ADV\")+(COUNTIF(W$9:AH$39,\"0,5ADV\"))/2)","v":0},null,null,null,{"$f":"Z2-AD2","v":0}]
[null,null,null,null,null,null,null,null,null,null,null,null,null,null,null,null,null,null,null,null,null,"Vakantie 2019",null,null,"v",null,null,null,null,{"$f":"(COUNTIF(W$9:AH$39,\"V\")+(COUNTIF(W$9:AH$39,\"0,5V\"))/2)","v":6},null,null,null,{"$f":"Z3-AD3","v":-6}]
[null,null,"40-uren week",null,null,null,null,null,null,null,null,null,null,"Feestdag in weekend 2019",null,null,null,null,"Recup 2018",0.5,null,"Feestdag 2019",null,null,"f",1,null,null,null,{"$f":"(COUNTIF(W$9:AH$39,\"F\")+(COUNTIF(W$9:AH$39,\"0,5F\"))/2)","v":0},null,null,null,1]
[null,null,null,null,null,null,null,null,null,null,null,null,null,"- nationale feestdag 21/7",null,null,null,null,null,null,null,"Vakantie rest 2018",null,null,"vvj",3,null,null,null,{"$f":"(COUNTIF(W$9:AH$39,\"vvj\")+(COUNTIF(W$9:AH$39,\"0,5vvj\"))/2)","v":3},null,null,null,0]
[null,null,null,null,null,null,null,null,null,null,null,null,null,null,null,null,null,null,"Recup",{"$f":"SUM(S9:S379)-SUM(R9:R379)+T5+T4","v":0.5},null,"Anciënniteitsdagen",null,null,"a ",null,null,null,null,{"$f":"(COUNTIF(W$9:AH$39,\"A\")+(COUNTIF(W$9:AH$39,\"0,5A\"))/2)","v":0},null,null,null,0]
[null,null,null,null,null,null,null,null,null,null,null,null,null,null,null,null,null,null,null,null,null,"TOTAAL",null,null,null,{"$f":"SUM(Z2:AC6)","v":4},null,null,null,{"$f":"SUM(AD2:AG6)","v":9},null,null,null,{"$f":"SUM(AH2:AI6)","v":-5}]
["W","Dag","Datum","Van ","Tot",null,"Pauze","Prestaties","Recup","Andere","Type","Dag","OV DAG","Week","Prestaties","OV WEEK","OV DAG","Rec. -","Rec. +","OV 50%","M",null,"Jan","Feb","Maa","Apr","Mei","Jun","Jul","Aug","Sept","Okt","Nov","Dec"]
[{"$f":"WEEKNUM(C9,21)","v":1},{"$f":"C9","v":"2018-12-31"},"2018-12-31",null,null,{"$f":"(E9-D9)*24","v":0},{"$f":"IF(F9>=6,0.5,0)","v":0},{"$f":"F9-G9","v":0},null,8,"OK",{"$f":"SUM(H9:J9)","v":8},{"$f":"IF(L9>9,L9-9,\"\")","v":""},"0,5 ADV + 0,5 BV van 2018 reeds verwerkt OK!",null,null,null,null,null,null,0,1,{"$f":"K9","v":"OK"},{"$f":"K40","v":0},{"$f":"K68","v":0},{"$f":"K99","v":"zo"},{"$f":"K129","v":0},{"$f":"K160","v":0},{"$f":"K190","v":"zo"},{"$f":"K221","v":0},{"$f":"K252","v":"za"},{"$f":"K282","v":0},{"$f":"K313","v":0},{"$f":"K343","v":"za"},1]
[{"$f":"WEEKNUM(C10,21)","v":1},{"$f":"C10","v":"2019-01-01"},"2019-01-01",null,null,{"$f":"(E10-D10)*24","v":0},{"$f":"IF(F10>=6,0.5,0)","v":0},{"$f":"F10-G10","v":0},null,8,"fd",{"$f":"SUM(H10:J10)","v":8},"",null,null,null,null,null,null,null,0,2,{"$f":"K10","v":"fd"},{"$f":"K41","v":0},{"$f":"K69","v":"v"},{"$f":"K100","v":0},{"$f":"K130","v":"fd"},{"$f":"K161","v":"za"},{"$f":"K191","v":0},{"$f":"K222","v":0},{"$f":"K253","v":"zo"},{"$f":"K283","v":0},{"$f":"K314","v":"fd"},{"$f":"K344","v":"zo"},2]
[1,"2019-01-02","2019-01-02",null,null,0,0,0,null,8,"vvj",8,"",null,null,null,null,null,null,null,null,3,"vvj","za","za",0,0,"zo",0,0,0,0,"za",0,3]
[1,"2019-01-03","2019-01-03",null,null,0,0,0,null,8,"vvj",8,"",null,null,null,null,null,null,null,null,4,"vvj","zo","zo",0,0,0,0,"za",0,0,"zo",0,4]
[1,"2019-01-04","2019-01-04",null,null,0,0,0,null,8,"vvj",8,"",null,null,null,null,null,null,null,null,5,"vvj",0,"v",0,"za",0,0,"zo",0,0,0,{"$f":"K347","v":0},5]
[1,"2019-01-05","2019-01-05",null,null,0,null,0,null,null,"za",0,"","Week",null,"OV WEEK","OV DAG","Recup -","Recup +","OV 50%",null,6,"za",0,"v",0,"zo",0,0,0,0,"za",0,0,6]
[1,"2019-01-06","2019-01-06",null,null,0,null,0,null,null,"zo",0,"",{"$f":"SUM(L9:L15)","v":40},{"$f":"SUM(H9:H15)","v":0},{"$f":"IF(N15>40,N15-40,0)","v":0},{"$f":"SUM(M9:M15)","v":0},{"$f":"SUM(I9:I15)","v":0},{"$f":"IF(N15>40,N15-40,0)","v":0},{"$f":"IF(P15>Q15,P15,Q15)","v":0},null,7,"zo",0,"v","za",0,0,"za",0,0,"zo",0,0,7]
[2,"2019-01-07","2019-01-07",null,null,0,0,0,null,null,null,0,"",null,null,null,null,null,null,null,null,8,0,0,"v","zo",0,0,"zo",0,"za",0,0,"za",8]
[2,"2019-01-08","2019-01-08",null,null,0,0,0,null,null,null,0,"",null,null,null,null,null,null,null,null,9,0,0,"v",0,0,"za",0,0,"zo",0,0,"zo",9]
[2,"2019-01-09","2019-01-09",null,null,0,0,0,null,null,null,0,"",null,null,null,null,null,null,null,null,10,0,"za","za",0,0,"zo",0,0,0,0,"za",0,10]
[2,"2019-01-10","2019-01-10",null,null,0,0,0,null,null,null,0,"",null,null,null,null,null,null,null,null,11,0,"zo","zo",0,0,"fd",0,"za",0,0,"zo",0,11]
[2,"2019-01-11","2019-01-11",null,null,0,0,0,null,null,null,0,"",null,null,null,null,null,null,null,null,12,0,0,0,0,"za",0,0,"zo",0,0,"fd",0,12]
[2,"2019-01-12","2019-01-12",null,null,0,null,0,null,null,"za",0,"","Week",null,"OV WEEK","OV DAG","Recup -","Recup +","OV 50%",null,13,"za",0,0,0,"zo",0,0,0,0,"za",0,0,13]
[2,"2019-01-13","2019-01-13",null,null,0,null,0,null,null,"zo",0,"",{"$f":"SUM(L16:L22)","v":0},{"$f":"SUM(H16:H22)","v":0},{"$f":"IF(N22>40,N22-40,0)","v":0},{"$f":"SUM(M16:M22)","v":0},{"$f":"SUM(I16:I22)","v":0},{"$f":"IF(N22>40,N22-40,0)","v":0},{"$f":"IF(P22>Q22,P22,Q22)","v":0},null,14,"zo",0,0,"za",0,0,"za",0,0,"zo",0,0,14]
[3,"2019-01-14","2019-01-14",null,null,0,0,0,null,null,null,0,"",null,null,null,null,null,null,null,null,15,0,0,0,"zo",0,0,"zo",0,"za",0,0,"za",15]
[3,"2019-01-15","2019-01-15",null,null,0,0,0,null,null,null,0,"",null,null,null,null,null,null,null,null,16,0,0,0,0,0,"za",0,"fd","zo",0,0,"zo",16]
[3,"2019-01-16","2019-01-16",null,null,0,0,0,null,null,null,0,"",null,null,null,null,null,null,null,null,17,0,"za","za",0,0,"zo",0,0,0,0,"za",0,17]
[3,"2019-01-17","2019-01-17",null,null,0,0,0,null,null,null,0,"",null,null,null,null,null,null,null,null,18,0,"zo","zo",0,0,0,0,"za",0,0,"zo",0,18]
[3,"2019-01-18","2019-01-18",null,null,0,0,0,null,null,null,0,"",null,null,null,null,null,null,null,null,19,0,0,0,0,"za",0,0,"zo",0,0,0,0,19]
[3,"2019-01-19","2019-01-19",null,null,0,null,0,null,null,"za",0,"","Week",null,"OV WEEK","OV DAG","Recup -","Recup +","OV 50%",null,20,"za",0,0,0,"zo",0,0,0,0,"za",0,{"$f":"K362","v":0},20]
[3,"2019-01-20","2019-01-20",null,null,0,null,0,null,null,"zo",0,"",{"$f":"SUM(L23:L29)","v":0},{"$f":"SUM(H23:H29)","v":0},{"$f":"IF(N29>40,N29-40,0)","v":0},{"$f":"SUM(M23:M29)","v":0},{"$f":"SUM(I23:I29)","v":0},{"$f":"IF(N29>40,N29-40,0)","v":0},{"$f":"IF(P29>Q29,P29,Q29)","v":0},null,21,"zo",0,0,"za","fd",0,"za",0,0,"zo",0,0,21]
[4,"2019-01-21","2019-01-21",null,null,0,0,0,null,null,null,0,"",null,null,null,null,null,null,null,null,22,0,0,0,"zo",0,0,"zo",0,"za",0,0,"za",22]
[4,"2019-01-22","2019-01-22",null,null,0,0,0,null,null,null,0,"",null,null,null,null,null,null,null,null,23,0,0,0,"fd",0,"za",0,0,"zo",0,0,"zo",23]
[4,"2019-01-23","2019-01-23",null,null,0,0,0,null,null,null,0,"",null,null,null,null,null,null,null,null,24,0,"za","za",0,0,"zo",0,0,0,0,"za",0,24]
[4,"2019-01-24","2019-01-24",null,null,0,0,0,null,null,null,0,"",null,null,null,null,null,null,null,null,25,0,"zo","zo",0,0,0,0,"za",0,0,"zo",0,25]
[4,"2019-01-25","2019-01-25",null,null,0,0,0,null,null,null,0,"",null,null,null,null,null,null,null,null,26,0,0,0,0,"za",0,0,"zo",0,0,0,"fd",26]
[4,"2019-01-26","2019-01-26",null,null,0,null,0,null,null,"za",0,"","Week",null,"OV WEEK","OV DAG","Recup -","Recup +","OV 50%",null,27,"za",0,0,0,"zo",0,0,0,0,"za",0,0,27]
[4,"2019-01-27","2019-01-27",null,null,0,null,0,null,null,"zo",0,"",{"$f":"SUM(L30:L36)","v":0},{"$f":"SUM(H30:H36)","v":0},{"$f":"IF(N36>40,N36-40,0)","v":0},{"$f":"SUM(M30:M36)","v":0},{"$f":"SUM(I30:I36)","v":0},{"$f":"IF(N36>40,N36-40,0)","v":0},{"$f":"IF(P36>Q36,P36,Q36)","v":0},null,28,"zo",0,0,"za",0,0,"za",0,0,"zo",0,0,28]
[5,"2019-01-28","2019-01-28",null,null,0,0,0,null,null,null,0,"",null,null,null,null,null,null,null,null,29,0,null,0,"zo",0,0,"zo",0,"za",0,0,"za",29]
[5,"2019-01-29","2019-01-29",null,null,0,0,0,null,null,null,0,"",null,null,null,null,null,null,null,null,30,0,null,0,0,0,"za",0,0,"zo",0,0,"zo",30]
[5,"2019-01-30","2019-01-30",null,null,0,0,0,null,null,null,0,"",null,null,null,null,null,null,null,null,31,0,null,"za",null,"fd",null,0,0,null,0,null,0,31]
[5,"2019-01-31","2019-01-31",null,null,0,0,0,null,null,null,0,"",null,null,null,null,null,null,null,null,"WD",23,20,21,22,23,20,23,22,21,23,21,22,{"$f":"SUM(W40:AH40)","v":261}]
[5,"2019-02-01","2019-02-01",null,null,0,0,0,null,null,null,0,""]
[5,"2019-02-02","2019-02-02",null,null,0,null,0,null,null,"za",0,"","Week",null,"OV WEEK","OV DAG","Recup -","Recup +","OV 50%"]
[5,"2019-02-03","2019-02-03",null,null,0,null,0,null,null,"zo",0,"",{"$f":"SUM(L37:L43)","v":0},{"$f":"SUM(H37:H43)","v":0},{"$f":"IF(N43>40,N43-40,0)","v":0},{"$f":"SUM(M37:M43)","v":0},{"$f":"SUM(I37:I43)","v":0},{"$f":"IF(N43>40,N43-40,0)","v":0},{"$f":"IF(P43>Q43,P43,Q43)","v":0}]
[6,"2019-02-04","2019-02-04",null,null,0,0,0,null,null,null,0,""]
[6,"2019-02-05","2019-02-05",null,null,0,0,0,null,null,null,0,""]
[6,"2019-02-06","2019-02-06",null,null,0,0,0,null,null,null,0,""]
[6,"2019-02-07","2019-02-07",null,null,0,0,0,null,null,null,0,""]
[6,"2019-02-08","2019-02-08",null,null,0,0,0,null,null,null,0,""]
[6,"2019-02-09","2019-02-09",null,null,0,null,0,null,null,"za",0,"","Week",null,"OV WEEK","OV DAG","Recup -","Recup +","OV 50%"]
[6,"2019-02-10","2019-02-10",null,null,0,null,0,null,null,"zo",0,"",{"$f":"SUM(L44:L50)","v":0},{"$f":"SUM(H44:H50)","v":0},{"$f":"IF(N50>40,N50-40,0)","v":0},{"$f":"SUM(M44:M50)","v":0},{"$f":"SUM(I44:I50)","v":0},{"$f":"IF(N50>40,N50-40,0)","v":0},{"$f":"IF(P50>Q50,P50,Q50)","v":0}]
[7,"2019-02-11","2019-02-11",null,null,0,0,0,null,null,null,0,""]
[7,"2019-02-12","2019-02-12",null,null,0,0,0,null,null,null,0,""]
[7,"2019-02-13","2019-02-13",null,null,0,0,0,null,null,null,0,""]
[7,"2019-02-14","2019-02-14",null,null,0,0,0,null,null,null,0,""]
[7,"2019-02-15","2019-02-15",null,null,0,0,0,null,null,null,0,""]
[7,"2019-02-16","2019-02-16",null,null,0,null,0,null,null,"za",0,"","Week",null,"OV WEEK","OV DAG","Recup -","Recup +","OV 50%"]
[7,"2019-02-17","2019-02-17",null,null,0,null,0,null,null,"zo",0,"",{"$f":"SUM(L51:L57)","v":0},{"$f":"SUM(H51:H57)","v":0},{"$f":"IF(N57>40,N57-40,0)","v":0},{"$f":"SUM(M51:M57)","v":0},{"$f":"SUM(I51:I57)","v":0},{"$f":"IF(N57>40,N57-40,0)","v":0},{"$f":"IF(P57>Q57,P57,Q57)","v":0}]
[8,"2019-02-18","2019-02-18",null,null,0,0,0,null,null,null,0,""]
[8,"2019-02-19","2019-02-19",null,null,0,0,0,null,null,null,0,""]
[8,"2019-02-20","2019-02-20",null,null,0,0,0,null,null,null,0,""]
[8,"2019-02-21","2019-02-21",null,null,0,0,0,null,null,null,0,""]
[8,"2019-02-22","2019-02-22",null,null,0,0,0,null,null,null,0,""]
[8,"2019-02-23","2019-02-23",null,null,0,null,0,null,null,"za",0,"","Week",null,"OV WEEK","OV DAG","Recup -","Recup +","OV 50%"]
[8,"2019-02-24","2019-02-24",null,null,0,null,0,null,null,"zo",0,"",{"$f":"SUM(L58:L64)","v":0},{"$f":"SUM(H58:H64)","v":0},{"$f":"IF(N64>40,N64-40,0)","v":0},{"$f":"SUM(M58:M64)","v":0},{"$f":"SUM(I58:I64)","v":0},{"$f":"IF(N64>40,N64-40,0)","v":0},{"$f":"IF(P64>Q64,P64,Q64)","v":0}]
[9,"2019-02-25","2019-02-25",null,null,0,0,0,null,null,null,0,""]
[9,"2019-02-26","2019-02-26",null,null,0,0,0,null,null,null,0,""]
[9,"2019-02-27","2019-02-27",null,null,0,0,0,null,null,null,0,""]
[9,"2019-02-28","2019-02-28",null,null,0,0,0,null,null,null,0,""]
[9,"2019-03-01","2019-03-01",null,null,0,0,0,null,8,"v",8,"","ET 08/01: Verlof goedgekeurd Stephanie R."]
[9,"2019-03-02","2019-03-02",null,null,0,null,0,null,null,"za",0,"","Week",null,"OV WEEK","OV DAG","Recup -","Recup +","OV 50%"]
[9,"2019-03-03","2019-03-03",null,null,0,null,0,null,null,"zo",0,"",{"$f":"SUM(L65:L71)","v":8},{"$f":"SUM(H65:H71)","v":0},{"$f":"IF(N71>40,N71-40,0)","v":0},{"$f":"SUM(M65:M71)","v":0},{"$f":"SUM(I65:I71)","v":0},{"$f":"IF(N71>40,N71-40,0)","v":0},{"$f":"IF(P71>Q71,P71,Q71)","v":0}]
[10,"2019-03-04","2019-03-04",null,null,0,0,0,null,8,"v",8,""]
[10,"2019-03-05","2019-03-05",null,null,0,0,0,null,8,"v",8,{"$f":"IF(L73>9,L73-9,\"\")","v":""}]
[{"$f":"WEEKNUM(C74,21)","v":10},{"$f":"C74","v":"2019-03-06"},"2019-03-06",null,null,{"$f":"(E74-D74)*24","v":0},{"$f":"IF(F74>=6,0.5,0)","v":0},{"$f":"F74-G74","v":0},null,8,"v",{"$f":"SUM(H74:J74)","v":8},""]
[10,"2019-03-07","2019-03-07",null,null,0,0,0,null,8,"v",8,""]
[10,"2019-03-08","2019-03-08",null,null,0,0,0,null,8,"v",8,""]
[10,"2019-03-09","2019-03-09",null,null,0,null,0,null,null,"za",0,"","Week",null,"OV WEEK","OV DAG","Recup -","Recup +","OV 50%"]
[10,"2019-03-10","2019-03-10",null,null,0,null,0,null,null,"zo",0,"",{"$f":"SUM(L72:L78)","v":40},{"$f":"SUM(H72:H78)","v":0},{"$f":"IF(N78>40,N78-40,0)","v":0},{"$f":"SUM(M72:M78)","v":0},{"$f":"SUM(I72:I78)","v":0},{"$f":"IF(N78>40,N78-40,0)","v":0},{"$f":"IF(P78>Q78,P78,Q78)","v":0}]
[11,"2019-03-11","2019-03-11",null,null,0,0,0,null,null,null,0,""]
[11,"2019-03-12","2019-03-12",null,null,0,0,0,null,null,null,0,""]
[11,"2019-03-13","2019-03-13",null,null,0,0,0,null,null,null,0,""]
[11,"2019-03-14","2019-03-14",null,null,0,0,0,null,null,null,0,""]
[11,"2019-03-15","2019-03-15",null,null,0,0,0,null,null,null,0,""]
[11,"2019-03-16","2019-03-16",null,null,0,null,0,null,null,"za",0,"","Week",null,"OV WEEK","OV DAG","Recup -","Recup +","OV 50%"]
[11,"2019-03-17","2019-03-17",null,null,0,null,0,null,null,"zo",0,"",{"$f":"SUM(L79:L85)","v":0},{"$f":"SUM(H79:H85)","v":0},{"$f":"IF(N85>40,N85-40,0)","v":0},{"$f":"SUM(M79:M85)","v":0},{"$f":"SUM(I79:I85)","v":0},{"$f":"IF(N85>40,N85-40,0)","v":0},{"$f":"IF(P85>Q85,P85,Q85)","v":0}]
[12,"2019-03-18","2019-03-18",null,null,0,0,0,null,null,null,0,""]
[12,"2019-03-19","2019-03-19",null,null,0,0,0,null,null,null,0,""]
[12,"2019-03-20","2019-03-20",null,null,0,0,0,null,null,null,0,""]
[12,"2019-03-21","2019-03-21",null,null,0,0,0,null,null,null,0,""]
[12,"2019-03-22","2019-03-22",null,null,0,0,0,null,null,null,0,""]
[12,"2019-03-23","2019-03-23",null,null,0,null,0,null,null,"za",0,"","Week",null,"OV WEEK","OV DAG","Recup -","Recup +","OV 50%"]
[12,"2019-03-24","2019-03-24",null,null,0,null,0,null,null,"zo",0,"",{"$f":"SUM(L86:L92)","v":0},{"$f":"SUM(H86:H92)","v":0},{"$f":"IF(N92>40,N92-40,0)","v":0},{"$f":"SUM(M86:M92)","v":0},{"$f":"SUM(I86:I92)","v":0},{"$f":"IF(N92>40,N92-40,0)","v":0},{"$f":"IF(P92>Q92,P92,Q92)","v":0}]
[13,"2019-03-25","2019-03-25",null,null,0,0,0,null,null,null,0,""]
[13,"2019-03-26","2019-03-26",null,null,0,0,0,null,null,null,0,""]
[13,"2019-03-27","2019-03-27",null,null,0,0,0,null,null,null,0,""]
[13,"2019-03-28","2019-03-28",null,null,0,0,0,null,null,null,0,""]
[13,"2019-03-29","2019-03-29",null,null,0,0,0,null,null,null,0,""]
[13,"2019-03-30","2019-03-30",null,null,0,null,0,null,null,"za",0,"","Week",null,"OV WEEK","OV DAG","Recup -","Recup +","OV 50%"]
[13,"2019-03-31","2019-03-31",null,null,0,null,0,null,null,"zo",0,"",{"$f":"SUM(L93:L99)","v":0},{"$f":"SUM(H93:H99)","v":0},{"$f":"IF(N99>40,N99-40,0)","v":0},{"$f":"SUM(M93:M99)","v":0},{"$f":"SUM(I93:I99)","v":0},{"$f":"IF(N99>40,N99-40,0)","v":0},{"$f":"IF(P99>Q99,P99,Q99)","v":0}]
[14,"2019-04-01","2019-04-01",null,null,0,0,0,null,null,null,0,""]
[14,"2019-04-02","2019-04-02",null,null,0,0,0,null,null,null,0,""]
[14,"2019-04-03","2019-04-03",null,null,0,0,0,null,null,null,0,""]
[14,"2019-04-04","2019-04-04",null,null,0,0,0,null,null,null,0,""]
[14,"2019-04-05","2019-04-05",null,null,0,0,0,null,null,null,0,""]
[14,"2019-04-06","2019-04-06",null,null,0,null,0,null,null,"za",0,"","Week",null,"OV WEEK","OV DAG","Recup -","Recup +","OV 50%"]
[14,"2019-04-07","2019-04-07",null,null,0,null,0,null,null,"zo",0,"",{"$f":"SUM(L100:L106)","v":0},{"$f":"SUM(H100:H106)","v":0},{"$f":"IF(N106>40,N106-40,0)","v":0},{"$f":"SUM(M100:M106)","v":0},{"$f":"SUM(I100:I106)","v":0},{"$f":"IF(N106>40,N106-40,0)","v":0},{"$f":"IF(P106>Q106,P106,Q106)","v":0}]
[15,"2019-04-08","2019-04-08",null,null,0,0,0,null,null,null,0,""]
[15,"2019-04-09","2019-04-09",null,null,0,0,0,null,null,null,0,""]
[15,"2019-04-10","2019-04-10",null,null,0,0,0,null,null,null,0,""]
[15,"2019-04-11","2019-04-11",null,null,0,0,0,null,null,null,0,""]
[15,"2019-04-12","2019-04-12",null,null,0,0,0,null,null,null,0,""]
[15,"2019-04-13","2019-04-13",null,null,0,null,0,null,null,"za",0,"","Week",null,"OV WEEK","OV DAG","Recup -","Recup +","OV 50%"]
[15,"2019-04-14","2019-04-14",null,null,0,null,0,null,null,"zo",0,"",{"$f":"SUM(L107:L113)","v":0},{"$f":"SUM(H107:H113)","v":0},{"$f":"IF(N113>40,N113-40,0)","v":0},{"$f":"SUM(M107:M113)","v":0},{"$f":"SUM(I107:I113)","v":0},{"$f":"IF(N113>40,N113-40,0)","v":0},{"$f":"IF(P113>Q113,P113,Q113)","v":0}]
[16,"2019-04-15","2019-04-15",null,null,0,0,0,null,null,null,0,""]
[16,"2019-04-16","2019-04-16",null,null,0,0,0,null,null,null,0,""]
[16,"2019-04-17","2019-04-17",null,null,0,0,0,null,null,null,0,""]
[16,"2019-04-18","2019-04-18",null,null,0,0,0,null,null,null,0,""]
[16,"2019-04-19","2019-04-19",null,null,0,0,0,null,null,null,0,""]
[16,"2019-04-20","2019-04-20",null,null,0,null,0,null,null,"za",0,"","Week",null,"OV WEEK","OV DAG","Recup -","Recup +","OV 50%"]
[16,"2019-04-21","2019-04-21",null,null,0,null,0,null,null,"zo",0,"",{"$f":"SUM(L114:L120)","v":0},{"$f":"SUM(H114:H120)","v":0},{"$f":"IF(N120>40,N120-40,0)","v":0},{"$f":"SUM(M114:M120)","v":0},{"$f":"SUM(I114:I120)","v":0},{"$f":"IF(N120>40,N120-40,0)","v":0},{"$f":"IF(P120>Q120,P120,Q120)","v":0}]
[17,"2019-04-22","2019-04-22",null,null,0,0,0,null,7.6,"fd",7.6,""]
[17,"2019-04-23","2019-04-23",null,null,0,0,0,null,null,null,0,""]
[17,"2019-04-24","2019-04-24",null,null,0,0,0,null,null,null,0,""]
[17,"2019-04-25","2019-04-25",null,null,0,0,0,null,null,null,0,""]
[17,"2019-04-26","2019-04-26",null,null,0,0,0,null,null,null,0,""]
[17,"2019-04-27","2019-04-27",null,null,0,null,0,null,null,"za",0,"","Week",null,"OV WEEK","OV DAG","Recup -","Recup +","OV 50%"]
[17,"2019-04-28","2019-04-28",null,null,0,null,0,null,null,"zo",0,"",{"$f":"SUM(L121:L127)","v":7.6},{"$f":"SUM(H121:H127)","v":0},{"$f":"IF(N127>40,N127-40,0)","v":0},{"$f":"SUM(M121:M127)","v":0},{"$f":"SUM(I121:I127)","v":0},{"$f":"IF(N127>40,N127-40,0)","v":0},{"$f":"IF(P127>Q127,P127,Q127)","v":0}]
[18,"2019-04-29","2019-04-29",null,null,0,0,0,null,null,null,0,""]
[18,"2019-04-30","2019-04-30",null,null,0,0,0,null,null,null,0,""]
[18,"2019-05-01","2019-05-01",null,null,0,0,0,null,7.6,"fd",7.6,""]
[18,"2019-05-02","2019-05-02",null,null,0,0,0,null,null,null,0,""]
[18,"2019-05-03","2019-05-03",null,null,0,0,0,null,null,null,0,""]
[18,"2019-05-04","2019-05-04",null,null,0,null,0,null,null,"za",0,"","Week",null,"OV WEEK","OV DAG","Recup -","Recup +","OV 50%"]
[18,"2019-05-05","2019-05-05",null,null,0,null,0,null,null,"zo",0,"",{"$f":"SUM(L128:L134)","v":7.6},{"$f":"SUM(H128:H134)","v":0},{"$f":"IF(N134>40,N134-40,0)","v":0},{"$f":"SUM(M128:M134)","v":0},{"$f":"SUM(I128:I134)","v":0},{"$f":"IF(N134>40,N134-40,0)","v":0},{"$f":"IF(P134>Q134,P134,Q134)","v":0}]
[19,"2019-05-06","2019-05-06",null,null,0,0,0,null,null,null,0,""]
[19,"2019-05-07","2019-05-07",null,null,0,0,0,null,null,null,0,""]
[19,"2019-05-08","2019-05-08",null,null,0,0,0,null,null,null,0,{"$f":"IF(L137>9,L137-9,\"\")","v":""}]
[{"$f":"WEEKNUM(C138,21)","v":19},{"$f":"C138","v":"2019-05-09"},"2019-05-09",null,null,{"$f":"(E138-D138)*24","v":0},{"$f":"IF(F138>=6,0.5,0)","v":0},{"$f":"F138-G138","v":0},null,null,null,{"$f":"SUM(H138:J138)","v":0},""]
[19,"2019-05-10","2019-05-10",null,null,0,0,0,null,null,null,0,""]
[19,"2019-05-11","2019-05-11",null,null,0,null,0,null,null,"za",0,"","Week",null,"OV WEEK","OV DAG","Recup -","Recup +","OV 50%"]
[19,"2019-05-12","2019-05-12",null,null,0,null,0,null,null,"zo",0,"",{"$f":"SUM(L135:L141)","v":0},{"$f":"SUM(H135:H141)","v":0},{"$f":"IF(N141>40,N141-40,0)","v":0},{"$f":"SUM(M135:M141)","v":0},{"$f":"SUM(I135:I141)","v":0},{"$f":"IF(N141>40,N141-40,0)","v":0},{"$f":"IF(P141>Q141,P141,Q141)","v":0}]
[20,"2019-05-13","2019-05-13",null,null,0,0,0,null,null,null,0,""]
[20,"2019-05-14","2019-05-14",null,null,0,0,0,null,null,null,0,""]
[20,"2019-05-15","2019-05-15",null,null,0,0,0,null,null,null,0,""]
[20,"2019-05-16","2019-05-16",null,null,0,0,0,null,null,null,0,""]
[20,"2019-05-17","2019-05-17",null,null,0,0,0,null,null,null,0,""]
[20,"2019-05-18","2019-05-18",null,null,0,null,0,null,null,"za",0,"","Week",null,"OV WEEK","OV DAG","Recup -","Recup +","OV 50%"]
[20,"2019-05-19","2019-05-19",null,null,0,null,0,null,null,"zo",0,"",{"$f":"SUM(L142:L148)","v":0},{"$f":"SUM(H142:H148)","v":0},{"$f":"IF(N148>40,N148-40,0)","v":0},{"$f":"SUM(M142:M148)","v":0},{"$f":"SUM(I142:I148)","v":0},{"$f":"IF(N148>40,N148-40,0)","v":0},{"$f":"IF(P148>Q148,P148,Q148)","v":0}]
[21,"2019-05-20","2019-05-20",null,null,0,0,0,null,7.6,"fd",7.6,""]
[21,"2019-05-21","2019-05-21",null,null,0,0,0,null,null,null,0,""]
[21,"2019-05-22","2019-05-22",null,null,0,0,0,null,null,null,0,""]
[21,"2019-05-23","2019-05-23",null,null,0,0,0,null,null,null,0,""]
[21,"2019-05-24","2019-05-24",null,null,0,0,0,null,null,null,0,""]
[21,"2019-05-25","2019-05-25",null,null,0,null,0,null,null,"za",0,"","Week",null,"OV WEEK","OV DAG","Recup -","Recup +","OV 50%"]
[21,"2019-05-26","2019-05-26",null,null,0,null,0,null,null,"zo",0,"",{"$f":"SUM(L149:L155)","v":7.6},{"$f":"SUM(H149:H155)","v":0},{"$f":"IF(N155>40,N155-40,0)","v":0},{"$f":"SUM(M149:M155)","v":0},{"$f":"SUM(I149:I155)","v":0},{"$f":"IF(N155>40,N155-40,0)","v":0},{"$f":"IF(P155>Q155,P155,Q155)","v":0}]
[22,"2019-05-27","2019-05-27",null,null,0,0,0,null,null,null,0,""]
[22,"2019-05-28","2019-05-28",null,null,0,0,0,null,null,null,0,""]
[22,"2019-05-29","2019-05-29",null,null,0,0,0,null,null,null,0,""]
[22,"2019-05-30","2019-05-30",null,null,0,0,0,null,7.6,"fd",7.6,""]
[22,"2019-05-31","2019-05-31",null,null,0,0,0,null,null,null,0,""]
[22,"2019-06-01","2019-06-01",null,null,0,null,0,null,null,"za",0,"","Week",null,"OV WEEK","OV DAG","Recup -","Recup +","OV 50%"]
[22,"2019-06-02","2019-06-02",null,null,0,null,0,null,null,"zo",0,"",{"$f":"SUM(L156:L162)","v":7.6},{"$f":"SUM(H156:H162)","v":0},{"$f":"IF(N162>40,N162-40,0)","v":0},{"$f":"SUM(M156:M162)","v":0},{"$f":"SUM(I156:I162)","v":0},{"$f":"IF(N162>40,N162-40,0)","v":0},{"$f":"IF(P162>Q162,P162,Q162)","v":0}]
[23,"2019-06-03","2019-06-03",null,null,0,0,0,null,null,null,0,""]
[23,"2019-06-04","2019-06-04",null,null,0,0,0,null,null,null,0,""]
[23,"2019-06-05","2019-06-05",null,null,0,0,0,null,null,null,0,""]
[23,"2019-06-06","2019-06-06",null,null,0,0,0,null,null,null,0,""]
[23,"2019-06-07","2019-06-07",null,null,0,0,0,null,null,null,0,""]
[23,"2019-06-08","2019-06-08",null,null,0,null,0,null,null,"za",0,"","Week",null,"OV WEEK","OV DAG","Recup -","Recup +","OV 50%"]
[23,"2019-06-09","2019-06-09",null,null,0,null,0,null,null,"zo",0,"",{"$f":"SUM(L163:L169)","v":0},{"$f":"SUM(H163:H169)","v":0},{"$f":"IF(N169>40,N169-40,0)","v":0},{"$f":"SUM(M163:M169)","v":0},{"$f":"SUM(I163:I169)","v":0},{"$f":"IF(N169>40,N169-40,0)","v":0},{"$f":"IF(P169>Q169,P169,Q169)","v":0}]
[24,"2019-06-10","2019-06-10",null,null,0,0,0,null,7.6,"fd",7.6,""]
[24,"2019-06-11","2019-06-11",null,null,0,0,0,null,null,null,0,""]
[24,"2019-06-12","2019-06-12",null,null,0,0,0,null,null,null,0,""]
[24,"2019-06-13","2019-06-13",null,null,0,0,0,null,null,null,0,""]
[24,"2019-06-14","2019-06-14",null,null,0,0,0,null,null,null,0,""]
[24,"2019-06-15","2019-06-15",null,null,0,null,0,null,null,"za",0,"","Week",null,"OV WEEK","OV DAG","Recup -","Recup +","OV 50%"]
[24,"2019-06-16","2019-06-16",null,null,0,null,0,null,null,"zo",0,"",{"$f":"SUM(L170:L176)","v":7.6},{"$f":"SUM(H170:H176)","v":0},{"$f":"IF(N176>40,N176-40,0)","v":0},{"$f":"SUM(M170:M176)","v":0},{"$f":"SUM(I170:I176)","v":0},{"$f":"IF(N176>40,N176-40,0)","v":0},{"$f":"IF(P176>Q176,P176,Q176)","v":0}]
[25,"2019-06-17","2019-06-17",null,null,0,0,0,null,null,null,0,""]
[25,"2019-06-18","2019-06-18",null,null,0,0,0,null,null,null,0,""]
[25,"2019-06-19","2019-06-19",null,null,0,0,0,null,null,null,0,""]
[25,"2019-06-20","2019-06-20",null,null,0,0,0,null,null,null,0,""]
[25,"2019-06-21","2019-06-21",null,null,0,0,0,null,null,null,0,""]
[25,"2019-06-22","2019-06-22",null,null,0,null,0,null,null,"za",0,"","Week",null,"OV WEEK","OV DAG","Recup -","Recup +","OV 50%"]
[25,"2019-06-23","2019-06-23",null,null,0,null,0,null,null,"zo",0,"",{"$f":"SUM(L177:L183)","v":0},{"$f":"SUM(H177:H183)","v":0},{"$f":"IF(N183>40,N183-40,0)","v":0},{"$f":"SUM(M177:M183)","v":0},{"$f":"SUM(I177:I183)","v":0},{"$f":"IF(N183>40,N183-40,0)","v":0},{"$f":"IF(P183>Q183,P183,Q183)","v":0}]
[26,"2019-06-24","2019-06-24",null,null,0,0,0,null,null,null,0,""]
[26,"2019-06-25","2019-06-25",null,null,0,0,0,null,null,null,0,""]
[26,"2019-06-26","2019-06-26",null,null,0,0,0,null,null,null,0,""]
[26,"2019-06-27","2019-06-27",null,null,0,0,0,null,null,null,0,""]
[26,"2019-06-28","2019-06-28",null,null,0,0,0,null,null,null,0,""]
[26,"2019-06-29","2019-06-29",null,null,0,null,0,null,null,"za",0,"","Week",null,"OV WEEK","OV DAG","Recup -","Recup +","OV 50%"]
[26,"2019-06-30","2019-06-30",null,null,0,null,0,null,null,"zo",0,"",{"$f":"SUM(L184:L190)","v":0},{"$f":"SUM(H184:H190)","v":0},{"$f":"IF(N190>40,N190-40,0)","v":0},{"$f":"SUM(M184:M190)","v":0},{"$f":"SUM(I184:I190)","v":0},{"$f":"IF(N190>40,N190-40,0)","v":0},{"$f":"IF(P190>Q190,P190,Q190)","v":0}]
[27,"2019-07-01","2019-07-01",null,null,0,0,0,null,null,null,0,""]
[27,"2019-07-02","2019-07-02",null,null,0,0,0,null,null,null,0,""]
[27,"2019-07-03","2019-07-03",null,null,0,0,0,null,null,null,0,""]
[27,"2019-07-04","2019-07-04",null,null,0,0,0,null,null,null,0,""]
[27,"2019-07-05","2019-07-05",null,null,0,0,0,null,null,null,0,""]
[27,"2019-07-06","2019-07-06",null,null,0,null,0,null,null,"za",0,"","Week",null,"OV WEEK","OV DAG","Recup -","Recup +","OV 50%"]
[27,"2019-07-07","2019-07-07",null,null,0,null,0,null,null,"zo",0,"",{"$f":"SUM(L191:L197)","v":0},{"$f":"SUM(H191:H197)","v":0},{"$f":"IF(N197>40,N197-40,0)","v":0},{"$f":"SUM(M191:M197)","v":0},{"$f":"SUM(I191:I197)","v":0},{"$f":"IF(N197>40,N197-40,0)","v":0},{"$f":"IF(P197>Q197,P197,Q197)","v":0}]
[28,"2019-07-08","2019-07-08",null,null,0,0,0,null,null,null,0,""]
[28,"2019-07-09","2019-07-09",null,null,0,0,0,null,null,null,0,""]
[28,"2019-07-10","2019-07-10",null,null,0,0,0,null,null,null,0,""]
[28,"2019-07-11","2019-07-11",null,null,0,0,0,null,null,null,0,{"$f":"IF(L201>9,L201-9,\"\")","v":""}]
[{"$f":"WEEKNUM(C202,21)","v":28},{"$f":"C202","v":"2019-07-12"},"2019-07-12",null,null,{"$f":"(E202-D202)*24","v":0},{"$f":"IF(F202>=6,0.5,0)","v":0},{"$f":"F202-G202","v":0},null,null,null,{"$f":"SUM(H202:J202)","v":0},""]
[28,"2019-07-13","2019-07-13",null,null,0,null,0,null,null,"za",0,"","Week",null,"OV WEEK","OV DAG","Recup -","Recup +","OV 50%"]
[28,"2019-07-14","2019-07-14",null,null,0,null,0,null,null,"zo",0,"",{"$f":"SUM(L198:L204)","v":0},{"$f":"SUM(H198:H204)","v":0},{"$f":"IF(N204>40,N204-40,0)","v":0},{"$f":"SUM(M198:M204)","v":0},{"$f":"SUM(I198:I204)","v":0},{"$f":"IF(N204>40,N204-40,0)","v":0},{"$f":"IF(P204>Q204,P204,Q204)","v":0}]
[29,"2019-07-15","2019-07-15",null,null,0,0,0,null,null,null,0,""]
[29,"2019-07-16","2019-07-16",null,null,0,0,0,null,null,null,0,""]
[29,"2019-07-17","2019-07-17",null,null,0,0,0,null,null,null,0,""]
[29,"2019-07-18","2019-07-18",null,null,0,0,0,null,null,null,0,""]
[29,"2019-07-19","2019-07-19",null,null,0,0,0,null,null,null,0,""]
[29,"2019-07-20","2019-07-20",null,null,0,null,0,null,null,"za",0,"","Week",null,"OV WEEK","OV DAG","Recup -","Recup +","OV 50%"]
[29,"2019-07-21","2019-07-21",null,null,0,null,0,null,null,"zo",0,"",{"$f":"SUM(L205:L211)","v":0},{"$f":"SUM(H205:H211)","v":0},{"$f":"IF(N211>40,N211-40,0)","v":0},{"$f":"SUM(M205:M211)","v":0},{"$f":"SUM(I205:I211)","v":0},{"$f":"IF(N211>40,N211-40,0)","v":0},{"$f":"IF(P211>Q211,P211,Q211)","v":0}]
[30,"2019-07-22","2019-07-22",null,null,0,0,0,null,null,null,0,""]
[30,"2019-07-23","2019-07-23",null,null,0,0,0,null,null,null,0,""]
[30,"2019-07-24","2019-07-24",null,null,0,0,0,null,null,null,0,""]
[30,"2019-07-25","2019-07-25",null,null,0,0,0,null,null,null,0,""]
[30,"2019-07-26","2019-07-26",null,null,0,0,0,null,null,null,0,""]
[30,"2019-07-27","2019-07-27",null,null,0,null,0,null,null,"za",0,"","Week",null,"OV WEEK","OV DAG","Recup -","Recup +","OV 50%"]
[30,"2019-07-28","2019-07-28",null,null,0,null,0,null,null,"zo",0,"",{"$f":"SUM(L212:L218)","v":0},{"$f":"SUM(H212:H218)","v":0},{"$f":"IF(N218>40,N218-40,0)","v":0},{"$f":"SUM(M212:M218)","v":0},{"$f":"SUM(I212:I218)","v":0},{"$f":"IF(N218>40,N218-40,0)","v":0},{"$f":"IF(P218>Q218,P218,Q218)","v":0}]
[31,"2019-07-29","2019-07-29",null,null,0,0,0,null,null,null,0,""]
[31,"2019-07-30","2019-07-30",null,null,0,0,0,null,null,null,0,""]
[31,"2019-07-31","2019-07-31",null,null,0,0,0,null,null,null,0,""]
[31,"2019-08-01","2019-08-01",null,null,0,0,0,null,null,null,0,""]
[31,"2019-08-02","2019-08-02",null,null,0,0,0,null,null,null,0,""]
[31,"2019-08-03","2019-08-03",null,null,0,null,0,null,null,"za",0,"","Week",null,"OV WEEK","OV DAG","Recup -","Recup +","OV 50%"]
[31,"2019-08-04","2019-08-04",null,null,0,null,0,null,null,"zo",0,"",{"$f":"SUM(L219:L225)","v":0},{"$f":"SUM(H219:H225)","v":0},{"$f":"IF(N225>40,N225-40,0)","v":0},{"$f":"SUM(M219:M225)","v":0},{"$f":"SUM(I219:I225)","v":0},{"$f":"IF(N225>40,N225-40,0)","v":0},{"$f":"IF(P225>Q225,P225,Q225)","v":0}]
[32,"2019-08-05","2019-08-05",null,null,0,0,0,null,null,null,0,""]
[32,"2019-08-06","2019-08-06",null,null,0,0,0,null,null,null,0,""]
[32,"2019-08-07","2019-08-07",null,null,0,0,0,null,null,null,0,""]
[32,"2019-08-08","2019-08-08",null,null,0,0,0,null,null,null,0,""]
[32,"2019-08-09","2019-08-09",null,null,0,0,0,null,null,null,0,""]
[32,"2019-08-10","2019-08-10",null,null,0,null,0,null,null,"za",0,"","Week",null,"OV WEEK","OV DAG","Recup -","Recup +","OV 50%"]
[32,"2019-08-11","2019-08-11",null,null,0,null,0,null,null,"zo",0,"",{"$f":"SUM(L226:L232)","v":0},{"$f":"SUM(H226:H232)","v":0},{"$f":"IF(N232>40,N232-40,0)","v":0},{"$f":"SUM(M226:M232)","v":0},{"$f":"SUM(I226:I232)","v":0},{"$f":"IF(N232>40,N232-40,0)","v":0},{"$f":"IF(P232>Q232,P232,Q232)","v":0}]
[33,"2019-08-12","2019-08-12",null,null,0,0,0,null,null,null,0,""]
[33,"2019-08-13","2019-08-13",null,null,0,0,0,null,null,null,0,""]
[33,"2019-08-14","2019-08-14",null,null,0,0,0,null,null,null,0,""]
[33,"2019-08-15","2019-08-15",null,null,0,0,0,null,7.6,"fd",7.6,""]
[33,"2019-08-16","2019-08-16",null,null,0,0,0,null,null,null,0,""]
[33,"2019-08-17","2019-08-17",null,null,0,null,0,null,null,"za",0,"","Week",null,"OV WEEK","OV DAG","Recup -","Recup +","OV 50%"]
[33,"2019-08-18","2019-08-18",null,null,0,null,0,null,null,"zo",0,"",{"$f":"SUM(L233:L239)","v":7.6},{"$f":"SUM(H233:H239)","v":0},{"$f":"IF(N239>40,N239-40,0)","v":0},{"$f":"SUM(M233:M239)","v":0},{"$f":"SUM(I233:I239)","v":0},{"$f":"IF(N239>40,N239-40,0)","v":0},{"$f":"IF(P239>Q239,P239,Q239)","v":0}]
[34,"2019-08-19","2019-08-19",null,null,0,0,0,null,null,null,0,""]
[34,"2019-08-20","2019-08-20",null,null,0,{"$f":"IF(F241>=6,0.5,0)","v":0},0,null,null,null,0,""]
[34,"2019-08-21","2019-08-21",null,null,0,0,0,null,null,null,0,""]
[34,"2019-08-22","2019-08-22",null,null,0,0,0,null,null,null,0,""]
[34,"2019-08-23","2019-08-23",null,null,0,0,0,null,null,null,0,""]
[34,"2019-08-24","2019-08-24",null,null,0,null,0,null,null,"za",0,"","Week",null,"OV WEEK","OV DAG","Recup -","Recup +","OV 50%"]
[34,"2019-08-25","2019-08-25",null,null,0,null,0,null,null,"zo",0,"",{"$f":"SUM(L240:L246)","v":0},{"$f":"SUM(H240:H246)","v":0},{"$f":"IF(N246>40,N246-40,0)","v":0},{"$f":"SUM(M240:M246)","v":0},{"$f":"SUM(I240:I246)","v":0},{"$f":"IF(N246>40,N246-40,0)","v":0},{"$f":"IF(P246>Q246,P246,Q246)","v":0}]
[35,"2019-08-26","2019-08-26",null,null,0,0,0,null,null,null,0,""]
[35,"2019-08-27","2019-08-27",null,null,0,0,0,null,null,null,0,""]
[35,"2019-08-28","2019-08-28",null,null,0,0,0,null,null,null,0,""]
[35,"2019-08-29","2019-08-29",null,null,0,0,0,null,null,null,0,""]
[35,"2019-08-30","2019-08-30",null,null,0,0,0,null,null,null,0,""]
[35,"2019-08-31","2019-08-31",null,null,0,null,0,null,null,"za",0,"","Week",null,"OV WEEK","OV DAG","Recup -","Recup +","OV 50%"]
[35,"2019-09-01","2019-09-01",null,null,0,null,0,null,null,"zo",0,"",{"$f":"SUM(L247:L253)","v":0},{"$f":"SUM(H247:H253)","v":0},{"$f":"IF(N253>40,N253-40,0)","v":0},{"$f":"SUM(M247:M253)","v":0},{"$f":"SUM(I247:I253)","v":0},{"$f":"IF(N253>40,N253-40,0)","v":0},{"$f":"IF(P253>Q253,P253,Q253)","v":0}]
[36,"2019-09-02","2019-09-02",null,null,0,0,0,null,null,null,0,""]
[36,"2019-09-03","2019-09-03",null,null,0,0,0,null,null,null,0,""]
[36,"2019-09-04","2019-09-04",null,null,0,0,0,null,null,null,0,""]
[36,"2019-09-05","2019-09-05",null,null,0,0,0,null,null,null,0,""]
[36,"2019-09-06","2019-09-06",null,null,0,0,0,null,null,null,0,""]
[36,"2019-09-07","2019-09-07",null,null,0,null,0,null,null,"za",0,"","Week",null,"OV WEEK","OV DAG","Recup -","Recup +","OV 50%"]
[36,"2019-09-08","2019-09-08",null,null,0,null,0,null,null,"zo",0,"",{"$f":"SUM(L254:L260)","v":0},{"$f":"SUM(H254:H260)","v":0},{"$f":"IF(N260>40,N260-40,0)","v":0},{"$f":"SUM(M254:M260)","v":0},{"$f":"SUM(I254:I260)","v":0},{"$f":"IF(N260>40,N260-40,0)","v":0},{"$f":"IF(P260>Q260,P260,Q260)","v":0}]
[37,"2019-09-09","2019-09-09",null,null,0,0,0,null,null,null,0,""]
[37,"2019-09-10","2019-09-10",null,null,0,0,0,null,null,null,0,""]
[37,"2019-09-11","2019-09-11",null,null,0,0,0,null,null,null,0,""]
[37,"2019-09-12","2019-09-12",null,null,0,0,0,null,null,null,0,""]
[37,"2019-09-13","2019-09-13",null,null,0,0,0,null,null,null,0,{"$f":"IF(L265>9,L265-9,\"\")","v":""}]
[{"$f":"WEEKNUM(C266,21)","v":37},{"$f":"C266","v":"2019-09-14"},"2019-09-14",null,null,{"$f":"(E266-D266)*24","v":0},null,{"$f":"F266-G266","v":0},null,null,"za",{"$f":"SUM(H266:J266)","v":0},"","Week",null,"OV WEEK","OV DAG","Recup -","Recup +","OV 50%"]
[37,"2019-09-15","2019-09-15",null,null,0,null,0,null,null,"zo",0,"",{"$f":"SUM(L261:L267)","v":0},{"$f":"SUM(H261:H267)","v":0},{"$f":"IF(N267>40,N267-40,0)","v":0},{"$f":"SUM(M261:M267)","v":0},{"$f":"SUM(I261:I267)","v":0},{"$f":"IF(N267>40,N267-40,0)","v":0},{"$f":"IF(P267>Q267,P267,Q267)","v":0}]
[38,"2019-09-16","2019-09-16",null,null,0,{"$f":"IF(F268>=6,0.5,0)","v":0},0,null,null,null,0,""]
[38,"2019-09-17","2019-09-17",null,null,0,0,0,null,null,null,0,""]
[38,"2019-09-18","2019-09-18",null,null,0,0,0,null,null,null,0,""]
[38,"2019-09-19","2019-09-19",null,null,0,0,0,null,null,null,0,""]
[38,"2019-09-20","2019-09-20",null,null,0,0,0,null,null,null,0,""]
[38,"2019-09-21","2019-09-21",null,null,0,null,0,null,null,"za",0,"","Week",null,"OV WEEK","OV DAG","Recup -","Recup +","OV 50%"]
[38,"2019-09-22","2019-09-22",null,null,0,null,0,null,null,"zo",0,"",{"$f":"SUM(L268:L274)","v":0},{"$f":"SUM(H268:H274)","v":0},{"$f":"IF(N274>40,N274-40,0)","v":0},{"$f":"SUM(M268:M274)","v":0},{"$f":"SUM(I268:I274)","v":0},{"$f":"IF(N274>40,N274-40,0)","v":0},{"$f":"IF(P274>Q274,P274,Q274)","v":0}]
[39,"2019-09-23","2019-09-23",null,null,0,0,0,null,null,null,0,""]
[39,"2019-09-24","2019-09-24",null,null,0,0,0,null,null,null,0,""]
[39,"2019-09-25","2019-09-25",null,null,0,0,0,null,null,null,0,""]
[39,"2019-09-26","2019-09-26",null,null,0,0,0,null,null,null,0,""]
[39,"2019-09-27","2019-09-27",null,null,0,0,0,null,null,null,0,""]
[39,"2019-09-28","2019-09-28",null,null,0,null,0,null,null,"za",0,"","Week",null,"OV WEEK","OV DAG","Recup -","Recup +","OV 50%"]
[39,"2019-09-29","2019-09-29",null,null,0,null,0,null,null,"zo",0,"",{"$f":"SUM(L275:L281)","v":0},{"$f":"SUM(H275:H281)","v":0},{"$f":"IF(N281>40,N281-40,0)","v":0},{"$f":"SUM(M275:M281)","v":0},{"$f":"SUM(I275:I281)","v":0},{"$f":"IF(N281>40,N281-40,0)","v":0},{"$f":"IF(P281>Q281,P281,Q281)","v":0}]
[40,"2019-09-30","2019-09-30",null,null,0,0,0,null,null,null,0,""]
[40,"2019-10-01","2019-10-01",null,null,0,0,0,null,null,null,0,""]
[40,"2019-10-02","2019-10-02",null,null,0,0,0,null,null,null,0,""]
[40,"2019-10-03","2019-10-03",null,null,0,0,0,null,null,null,0,""]
[40,"2019-10-04","2019-10-04",null,null,0,0,0,null,null,null,0,""]
[40,"2019-10-05","2019-10-05",null,null,0,null,0,null,null,"za",0,"","Week",null,"OV WEEK","OV DAG","Recup -","Recup +","OV 50%"]
[40,"2019-10-06","2019-10-06",null,null,0,null,0,null,null,"zo",0,"",{"$f":"SUM(L282:L288)","v":0},{"$f":"SUM(H282:H288)","v":0},{"$f":"IF(N288>40,N288-40,0)","v":0},{"$f":"SUM(M282:M288)","v":0},{"$f":"SUM(I282:I288)","v":0},{"$f":"IF(N288>40,N288-40,0)","v":0},{"$f":"IF(P288>Q288,P288,Q288)","v":0}]
[41,"2019-10-07","2019-10-07",null,null,0,0,0,null,null,null,0,""]
[41,"2019-10-08","2019-10-08",null,null,0,0,0,null,null,null,0,""]
[41,"2019-10-09","2019-10-09",null,null,0,0,0,null,null,null,0,""]
[41,"2019-10-10","2019-10-10",null,null,0,0,0,null,null,null,0,""]
[41,"2019-10-11","2019-10-11",null,null,0,0,0,null,null,null,0,""]
[41,"2019-10-12","2019-10-12",null,null,0,null,0,null,null,"za",0,"","Week",null,"OV WEEK","OV DAG","Recup -","Recup +","OV 50%"]
[41,"2019-10-13","2019-10-13",null,null,0,null,0,null,null,"zo",0,"",{"$f":"SUM(L289:L295)","v":0},{"$f":"SUM(H289:H295)","v":0},{"$f":"IF(N295>40,N295-40,0)","v":0},{"$f":"SUM(M289:M295)","v":0},{"$f":"SUM(I289:I295)","v":0},{"$f":"IF(N295>40,N295-40,0)","v":0},{"$f":"IF(P295>Q295,P295,Q295)","v":0}]
[42,"2019-10-14","2019-10-14",null,null,0,0,0,null,null,null,0,""]
[42,"2019-10-15","2019-10-15",null,null,0,0,0,null,null,null,0,""]
[42,"2019-10-16","2019-10-16",null,null,0,0,0,null,null,null,0,""]
[42,"2019-10-17","2019-10-17",null,null,0,0,0,null,null,null,0,""]
[42,"2019-10-18","2019-10-18",null,null,0,0,0,null,null,null,0,""]
[42,"2019-10-19","2019-10-19",null,null,0,null,0,null,null,"za",0,"","Week",null,"OV WEEK","OV DAG","Recup -","Recup +","OV 50%"]
[42,"2019-10-20","2019-10-20",null,null,0,null,0,null,null,"zo",0,"",{"$f":"SUM(L296:L302)","v":0},{"$f":"SUM(H296:H302)","v":0},{"$f":"IF(N302>40,N302-40,0)","v":0},{"$f":"SUM(M296:M302)","v":0},{"$f":"SUM(I296:I302)","v":0},{"$f":"IF(N302>40,N302-40,0)","v":0},{"$f":"IF(P302>Q302,P302,Q302)","v":0}]
[43,"2019-10-21","2019-10-21",null,null,0,0,0,null,null,null,0,""]
[43,"2019-10-22","2019-10-22",null,null,0,0,0,null,null,null,0,""]
[43,"2019-10-23","2019-10-23",null,null,0,0,0,null,null,null,0,""]
[43,"2019-10-24","2019-10-24",null,null,0,0,0,null,null,null,0,""]
[43,"2019-10-25","2019-10-25",null,null,0,0,0,null,null,null,0,""]
[43,"2019-10-26","2019-10-26",null,null,0,null,0,null,null,"za",0,"","Week",null,"OV WEEK","OV DAG","Recup -","Recup +","OV 50%"]
[43,"2019-10-27","2019-10-27",null,null,0,null,0,null,null,"zo",0,"",{"$f":"SUM(L303:L309)","v":0},{"$f":"SUM(H303:H309)","v":0},{"$f":"IF(N309>40,N309-40,0)","v":0},{"$f":"SUM(M303:M309)","v":0},{"$f":"SUM(I303:I309)","v":0},{"$f":"IF(N309>40,N309-40,0)","v":0},{"$f":"IF(P309>Q309,P309,Q309)","v":0}]
[44,"2019-10-28","2019-10-28",null,null,0,0,0,null,null,null,0,""]
[44,"2019-10-29","2019-10-29",null,null,0,0,0,null,null,null,0,""]
[44,"2019-10-30","2019-10-30",null,null,0,0,0,null,null,null,0,""]
[44,"2019-10-31","2019-10-31",null,null,0,0,0,null,null,null,0,""]
[44,"2019-11-01","2019-11-01",null,null,0,0,0,null,7.6,"fd",7.6,""]
[44,"2019-11-02","2019-11-02",null,null,0,null,0,null,null,"za",0,"","Week",null,"OV WEEK","OV DAG","Recup -","Recup +","OV 50%"]
[44,"2019-11-03","2019-11-03",null,null,0,null,0,null,null,"zo",0,"",{"$f":"SUM(L310:L316)","v":7.6},{"$f":"SUM(H310:H316)","v":0},{"$f":"IF(N316>40,N316-40,0)","v":0},{"$f":"SUM(M310:M316)","v":0},{"$f":"SUM(I310:I316)","v":0},{"$f":"IF(N316>40,N316-40,0)","v":0},{"$f":"IF(P316>Q316,P316,Q316)","v":0}]
[45,"2019-11-04","2019-11-04",null,null,0,0,0,null,null,null,0,""]
[45,"2019-11-05","2019-11-05",null,null,0,0,0,null,null,null,0,""]
[45,"2019-11-06","2019-11-06",null,null,0,0,0,null,null,null,0,""]
[45,"2019-11-07","2019-11-07",null,null,0,0,0,null,null,null,0,""]
[45,"2019-11-08","2019-11-08",null,null,0,0,0,null,null,null,0,""]
[45,"2019-11-09","2019-11-09",null,null,0,null,0,null,null,"za",0,"","Week",null,"OV WEEK","OV DAG","Recup -","Recup +","OV 50%"]
[45,"2019-11-10","2019-11-10",null,null,0,null,0,null,null,"zo",0,"",{"$f":"SUM(L317:L323)","v":0},{"$f":"SUM(H317:H323)","v":0},{"$f":"IF(N323>40,N323-40,0)","v":0},{"$f":"SUM(M317:M323)","v":0},{"$f":"SUM(I317:I323)","v":0},{"$f":"IF(N323>40,N323-40,0)","v":0},{"$f":"IF(P323>Q323,P323,Q323)","v":0}]
[46,"2019-11-11","2019-11-11",null,null,0,0,0,null,7.6,"fd",7.6,""]
[46,"2019-11-12","2019-11-12",null,null,0,0,0,null,null,null,0,""]
[46,"2019-11-13","2019-11-13",null,null,0,0,0,null,null,null,0,""]
[46,"2019-11-14","2019-11-14",null,null,0,0,0,null,null,null,0,""]
[46,"2019-11-15","2019-11-15",null,null,0,0,0,null,null,null,0,""]
[46,"2019-11-16","2019-11-16",null,null,0,null,0,null,null,"za",0,{"$f":"IF(L329>9,L329-9,\"\")","v":""},"Week",null,"OV WEEK","OV DAG","Recup -","Recup +","OV 50%"]
[{"$f":"WEEKNUM(C330,21)","v":46},{"$f":"C330","v":"2019-11-17"},"2019-11-17",null,null,{"$f":"(E330-D330)*24","v":0},null,{"$f":"F330-G330","v":0},null,null,"zo",{"$f":"SUM(H330:J330)","v":0},"",{"$f":"SUM(L324:L330)","v":7.6},{"$f":"SUM(H324:H330)","v":0},{"$f":"IF(N330>40,N330-40,0)","v":0},{"$f":"SUM(M324:M330)","v":0},{"$f":"SUM(I324:I330)","v":0},{"$f":"IF(N330>40,N330-40,0)","v":0},{"$f":"IF(P330>Q330,P330,Q330)","v":0}]
[47,"2019-11-18","2019-11-18",null,null,0,{"$f":"IF(F331>=6,0.5,0)","v":0},0,null,null,null,0,""]
[47,"2019-11-19","2019-11-19",null,null,0,0,0,null,null,null,0,""]
[47,"2019-11-20","2019-11-20",null,null,0,0,0,null,null,null,0,""]
[47,"2019-11-21","2019-11-21",null,null,0,0,0,null,null,null,0,""]
[47,"2019-11-22","2019-11-22",null,null,0,0,0,null,null,null,0,""]
[47,"2019-11-23","2019-11-23",null,null,0,null,0,null,null,"za",0,"","Week",null,"OV WEEK","OV DAG","Recup -","Recup +","OV 50%"]
[47,"2019-11-24","2019-11-24",null,null,0,null,0,null,null,"zo",0,"",{"$f":"SUM(L331:L337)","v":0},{"$f":"SUM(H331:H337)","v":0},{"$f":"IF(N337>40,N337-40,0)","v":0},{"$f":"SUM(M331:M337)","v":0},{"$f":"SUM(I331:I337)","v":0},{"$f":"IF(N337>40,N337-40,0)","v":0},{"$f":"IF(P337>Q337,P337,Q337)","v":0}]
[48,"2019-11-25","2019-11-25",null,null,0,0,0,null,null,null,0,""]
[48,"2019-11-26","2019-11-26",null,null,0,0,0,null,null,null,0,""]
[48,"2019-11-27","2019-11-27",null,null,0,0,0,null,null,null,0,""]
[48,"2019-11-28","2019-11-28",null,null,0,0,0,null,null,null,0,""]
[48,"2019-11-29","2019-11-29",null,null,0,0,0,null,null,null,0,""]
[48,"2019-11-30","2019-11-30",null,null,0,null,0,null,null,"za",0,"","Week",null,"OV WEEK","OV DAG","Recup -","Recup +","OV 50%"]
[48,"2019-12-01","2019-12-01",null,null,0,null,0,null,null,"zo",0,"",{"$f":"SUM(L338:L344)","v":0},{"$f":"SUM(H338:H344)","v":0},{"$f":"IF(N344>40,N344-40,0)","v":0},{"$f":"SUM(M338:M344)","v":0},{"$f":"SUM(I338:I344)","v":0},{"$f":"IF(N344>40,N344-40,0)","v":0},{"$f":"IF(P344>Q344,P344,Q344)","v":0}]
[49,"2019-12-02","2019-12-02",null,null,0,0,0,null,null,null,0,""]
[49,"2019-12-03","2019-12-03",null,null,0,0,0,null,null,null,0,""]
[49,"2019-12-04","2019-12-04",null,null,0,0,0,null,null,null,0,""]
[49,"2019-12-05","2019-12-05",null,null,0,0,0,null,null,null,0,""]
[49,"2019-12-06","2019-12-06",null,null,0,0,0,null,null,null,0,""]
[49,"2019-12-07","2019-12-07",null,null,0,null,0,null,null,"za",0,"","Week",null,"OV WEEK","OV DAG","Recup -","Recup +","OV 50%"]
[49,"2019-12-08","2019-12-08",null,null,0,null,0,null,null,"zo",0,"",{"$f":"SUM(L345:L351)","v":0},{"$f":"SUM(H345:H351)","v":0},{"$f":"IF(N351>40,N351-40,0)","v":0},{"$f":"SUM(M345:M351)","v":0},{"$f":"SUM(I345:I351)","v":0},{"$f":"IF(N351>40,N351-40,0)","v":0},{"$f":"IF(P351>Q351,P351,Q351)","v":0}]
[50,"2019-12-09","2019-12-09",null,null,0,0,0,null,null,null,0,""]
[50,"2019-12-10","2019-12-10",null,null,0,0,0,null,null,null,0,""]
[50,"2019-12-11","2019-12-11",null,null,0,0,0,null,null,null,0,""]
[50,"2019-12-12","2019-12-12",null,null,0,0,0,null,null,null,0,""]
[50,"2019-12-13","2019-12-13",null,null,0,0,0,null,null,null,0,""]
[50,"2019-12-14","2019-12-14",null,null,0,null,0,null,null,"za",0,"","Week",null,"OV WEEK","OV DAG","Recup -","Recup +","OV 50%"]
[50,"2019-12-15","2019-12-15",null,null,0,null,0,null,null,"zo",0,"",{"$f":"SUM(L352:L358)","v":0},{"$f":"SUM(H352:H358)","v":0},{"$f":"IF(N358>40,N358-40,0)","v":0},{"$f":"SUM(M352:M358)","v":0},{"$f":"SUM(I352:I358)","v":0},{"$f":"IF(N358>40,N358-40,0)","v":0},{"$f":"IF(P358>Q358,P358,Q358)","v":0}]
[51,"2019-12-16","2019-12-16",null,null,0,0,0,null,null,null,0,""]
[51,"2019-12-17","2019-12-17",null,null,0,0,0,null,null,null,0,""]
[51,"2019-12-18","2019-12-18",null,null,0,0,0,null,null,null,0,""]
[51,"2019-12-19","2019-12-19",null,null,0,0,0,null,null,null,0,""]
[51,"2019-12-20","2019-12-20",null,null,0,0,0,null,null,null,0,""]
[51,"2019-12-21","2019-12-21",null,null,0,null,0,null,null,"za",0,"","Week",null,"OV WEEK","OV DAG","Recup -","Recup +","OV 50%"]
[51,"2019-12-22","2019-12-22",null,null,0,null,0,null,null,"zo",0,"",{"$f":"SUM(L359:L365)","v":0},{"$f":"SUM(H359:H365)","v":0},{"$f":"IF(N365>40,N365-40,0)","v":0},{"$f":"SUM(M359:M365)","v":0},{"$f":"SUM(I359:I365)","v":0},{"$f":"IF(N365>40,N365-40,0)","v":0},{"$f":"IF(P365>Q365,P365,Q365)","v":0}]
[52,"2019-12-23","2019-12-23",null,null,0,0,0,null,null,null,0,""]
[52,"2019-12-24","2019-12-24",null,null,0,0,0,null,null,null,0,""]
[52,"2019-12-25","2019-12-25",null,null,0,0,0,null,7.6,"fd",7.6,""]
[52,"2019-12-26","2019-12-26",null,null,0,0,0,null,null,null,0,""]
[52,"2019-12-27","2019-12-27",null,null,0,0,0,null,null,null,0,""]
[52,"2019-12-28","2019-12-28",null,null,0,null,0,null,null,"za",0,"","Week",null,"OV WEEK","OV DAG","Recup -","Recup +","OV 50%"]
[52,"2019-12-29","2019-12-29",null,null,0,null,0,null,null,"zo",0,"",{"$f":"SUM(L366:L372)","v":7.6},{"$f":"SUM(H366:H372)","v":0},{"$f":"IF(N372>40,N372-40,0)","v":0},{"$f":"SUM(M366:M372)","v":0},{"$f":"SUM(I366:I372)","v":0},{"$f":"IF(N372>40,N372-40,0)","v":0},{"$f":"IF(P372>Q372,P372,Q372)","v":0}]
[1,"2019-12-30","2019-12-30",null,null,0,0,0,null,null,null,0,""]
[1,"2019-12-31","2019-12-31",null,null,0,0,0,null,null,null,0,""]
[1,"2020-01-01","2020-01-01",null,null,0,0,0,null,7.6,"fd",7.6,""]
[1,"2020-01-02","2020-01-02",null,null,0,0,0,null,null,null,0,""]
[1,"2020-01-03","2020-01-03",null,null,0,0,0,null,null,null,0,""]
[1,"2020-01-04","2020-01-04",null,null,0,null,0,null,null,"za",0,"","Week",null,"OV WEEK","OV DAG","Recup -","Recup +","OV 50%"]
[1,"2020-01-05","2020-01-05",null,null,0,null,0,null,null,"zo",0,"",{"$f":"SUM(L373:L379)","v":7.6},{"$f":"SUM(H373:H379)","v":0},{"$f":"IF(N379>40,N379-40,0)","v":0},{"$f":"SUM(M373:M379)","v":0},{"$f":"SUM(I373:I379)","v":0},{"$f":"IF(N379>40,N379-40,0)","v":0},{"$f":"IF(P379>Q379,P379,Q379)","v":0}]

{"sheet":"99","index":20,"n_rows":379,"n_cols":35,"rows_kept":379,"cut":false,"hidden":false,"merged":[[6,21,6,24],[6,25,6,28],[6,29,6,32],[6,33,6,34],[0,1,1,12],[4,21,4,23],[4,25,4,28],[4,29,4,32],[4,33,4,34],[5,21,5,23],[5,25,5,28],[5,29,5,32],[5,33,5,34],[2,21,2,23],[2,25,2,28],[2,29,2,32],[2,33,2,34],[3,21,3,23],[3,25,3,28],[3,29,3,32],[3,33,3,34],[0,21,0,24],[0,25,0,28],[0,29,0,32],[0,33,0,34],[1,21,1,23],[1,25,1,28],[1,29,1,32],[1,33,1,34]]}
["99","Reakani Azad",null,null,null,null,null,null,null,null,null,null,null,null,null,null,null,null,null,null,null,"Soort",null,null,null,"Recht op",null,null,null,"Opgenomen",null,null,null,"Saldo"]
[null,null,null,null,null,null,null,null,null,null,null,null,null,null,null,null,null,null,null,null,null,"ADV-dagen",null,null,"adv",null,null,null,null,{"$f":"(COUNTIF(W$9:AH$39,\"ADV\")+(COUNTIF(W$9:AH$39,\"0,5ADV\"))/2)","v":0},null,null,null,{"$f":"Z2-AD2","v":0}]
[null,null,null,null,null,null,null,null,null,null,null,null,null,null,null,null,null,null,null,null,null,"Vakantie 2019",null,null,"v",null,null,null,null,{"$f":"(COUNTIF(W$9:AH$39,\"V\")+(COUNTIF(W$9:AH$39,\"0,5V\"))/2)","v":0},null,null,null,{"$f":"Z3-AD3","v":0}]
[null,null,"40-uren week",null,null,null,null,null,null,null,null,null,null,"Feestdag in weekend 2019",null,null,null,null,"Recup 2018",9,null,"Feestdag 2019",null,null,"f",1,null,null,null,{"$f":"(COUNTIF(W$9:AH$39,\"F\")+(COUNTIF(W$9:AH$39,\"0,5F\"))/2)","v":0},null,null,null,1]
[null,null,null,null,null,null,null,null,null,null,null,null,null,"- nationale feestdag 21/7",null,null,null,null,null,null,null,"Vakantie rest 2018",null,null,"vvj",null,null,null,null,{"$f":"(COUNTIF(W$9:AH$39,\"vvj\")+(COUNTIF(W$9:AH$39,\"0,5vvj\"))/2)","v":0},null,null,null,0]
[null,null,null,null,null,null,null,null,null,null,null,null,null,null,null,null,null,null,"Recup",{"$f":"SUM(S9:S379)-SUM(R9:R379)+T5+T4","v":9},null,"Anciënniteitsdagen",null,null,"a ",null,null,null,null,{"$f":"(COUNTIF(W$9:AH$39,\"A\")+(COUNTIF(W$9:AH$39,\"0,5A\"))/2)","v":0},null,null,null,0]
[null,null,null,null,null,null,null,null,null,null,null,null,null,null,null,null,null,null,null,null,null,"TOTAAL",null,null,null,{"$f":"SUM(Z2:AC6)","v":1},null,null,null,{"$f":"SUM(AD2:AG6)","v":0},null,null,null,{"$f":"SUM(AH2:AI6)","v":1}]
["W","Dag","Datum","Van ","Tot",null,"Pauze","Prestaties","Recup","Andere","Type","Dag","OV DAG","Week","Prestaties","OV WEEK","OV DAG","Rec. -","Rec. +","OV 50%","M",null,"Jan","Feb","Maa","Apr","Mei","Jun","Jul","Aug","Sept","Okt","Nov","Dec"]
[{"$f":"WEEKNUM(C9,21)","v":1},{"$f":"C9","v":"2018-12-31"},"2018-12-31",null,null,{"$f":"(E9-D9)*24","v":0},{"$f":"IF(F9>=6,0.5,0)","v":0},{"$f":"F9-G9","v":0},null,8,"GA",{"$f":"SUM(H9:J9)","v":8},{"$f":"IF(L9>9,L9-9,\"\")","v":""},"Covestro 2 weken gesloten, verlof op dus GA! 31/2 verwerkt OK!",null,null,null,null,null,null,0,1,{"$f":"K9","v":"GA"},{"$f":"K40","v":0},{"$f":"K68","v":0},{"$f":"K99","v":"zo"},{"$f":"K129","v":0},{"$f":"K160","v":0},{"$f":"K190","v":"zo"},{"$f":"K221","v":0},{"$f":"K252","v":"za"},{"$f":"K282","v":0},{"$f":"K313","v":0},{"$f":"K343","v":"za"},1]
[{"$f":"WEEKNUM(C10,21)","v":1},{"$f":"C10","v":"2019-01-01"},"2019-01-01",null,null,{"$f":"(E10-D10)*24","v":0},{"$f":"IF(F10>=6,0.5,0)","v":0},{"$f":"F10-G10","v":0},null,8,"fd",{"$f":"SUM(H10:J10)","v":8},"","Covestro 2 weken gesloten, verlof op dus GA!",null,null,null,null,null,null,null,2,{"$f":"K10","v":"fd"},{"$f":"K41","v":0},{"$f":"K69","v":0},{"$f":"K100","v":0},{"$f":"K130","v":"fd"},{"$f":"K161","v":"za"},{"$f":"K191","v":0},{"$f":"K222","v":0},{"$f":"K253","v":"zo"},{"$f":"K283","v":0},{"$f":"K314","v":"fd"},{"$f":"K344","v":"zo"},2]
[1,"2019-01-02","2019-01-02",null,null,0,0,0,null,8,"GA",8,"","OF aanpassen met nieuwe verlofrechten van 2019!",null,null,null,null,null,null,null,3,"GA","za","za",0,0,"zo",0,0,0,0,"za",0,3]
[1,"2019-01-03","2019-01-03",null,null,0,0,0,null,8,"GA",8,"",null,null,null,null,null,null,null,null,4,"GA","zo","zo",0,0,0,0,"za",0,0,"zo",0,4]
[1,"2019-01-04","2019-01-04",null,null,0,0,0,null,8,"GA",8,"",null,null,null,null,null,null,null,null,5,"GA",0,0,0,"za",0,0,"zo",0,0,0,{"$f":"K347","v":0},5]
[1,"2019-01-05","2019-01-05",null,null,0,null,0,null,null,"za",0,"","Week",null,"OV WEEK","OV DAG","Recup -","Recup +","OV 50%",null,6,"za",0,0,0,"zo",0,0,0,0,"za",0,0,6]
[1,"2019-01-06","2019-01-06",null,null,0,null,0,null,null,"zo",0,"",{"$f":"SUM(L9:L15)","v":40},{"$f":"SUM(H9:H15)","v":0},{"$f":"IF(N15>40,N15-40,0)","v":0},{"$f":"SUM(M9:M15)","v":0},{"$f":"SUM(I9:I15)","v":0},{"$f":"IF(N15>40,N15-40,0)","v":0},{"$f":"IF(P15>Q15,P15,Q15)","v":0},null,7,"zo",0,0,"za",0,0,"za",0,0,"zo",0,0,7]
[2,"2019-01-07","2019-01-07",null,null,0,0,0,null,null,null,0,"",null,null,null,null,null,null,null,null,8,0,0,0,"zo",0,0,"zo",0,"za",0,0,"za",8]
[2,"2019-01-08","2019-01-08",null,null,0,0,0,null,null,null,0,"",null,null,null,null,null,null,null,null,9,0,0,0,0,0,"za",0,0,"zo",0,0,"zo",9]
[2,"2019-01-09","2019-01-09",null,null,0,0,0,null,null,null,0,"",null,null,null,null,null,null,null,null,10,0,"za","za",0,0,"zo",0,0,0,0,"za",0,10]
[2,"2019-01-10","2019-01-10",null,null,0,0,0,null,null,null,0,"",null,null,null,null,null,null,null,null,11,0,"zo","zo",0,0,"fd",0,"za",0,0,"zo",0,11]
[2,"2019-01-11","2019-01-11",null,null,0,0,0,null,null,null,0,"",null,null,null,null,null,null,null,null,12,0,0,0,0,"za",0,0,"zo",0,0,"fd",0,12]
[2,"2019-01-12","2019-01-12",null,null,0,null,0,null,null,"za",0,"","Week",null,"OV WEEK","OV DAG","Recup -","Recup +","OV 50%",null,13,"za",0,0,0,"zo",0,0,0,0,"za",0,0,13]
[2,"2019-01-13","2019-01-13",null,null,0,null,0,null,null,"zo",0,"",{"$f":"SUM(L16:L22)","v":0},{"$f":"SUM(H16:H22)","v":0},{"$f":"IF(N22>40,N22-40,0)","v":0},{"$f":"SUM(M16:M22)","v":0},{"$f":"SUM(I16:I22)","v":0},{"$f":"IF(N22>40,N22-40,0)","v":0},{"$f":"IF(P22>Q22,P22,Q22)","v":0},null,14,"zo",0,0,"za",0,0,"za",0,0,"zo",0,0,14]
[3,"2019-01-14","2019-01-14",null,null,0,0,0,null,null,null,0,"",null,null,null,null,null,null,null,null,15,0,0,0,"zo",0,0,"zo",0,"za",0,0,"za",15]
[3,"2019-01-15","2019-01-15",null,null,0,0,0,null,null,null,0,"",null,null,null,null,null,null,null,null,16,0,0,0,0,0,"za",0,"fd","zo",0,0,"zo",16]
[3,"2019-01-16","2019-01-16",null,null,0,0,0,null,null,null,0,"",null,null,null,null,null,null,null,null,17,0,"za","za",0,0,"zo",0,0,0,0,"za",0,17]
[3,"2019-01-17","2019-01-17",null,null,0,0,0,null,null,null,0,"",null,null,null,null,null,null,null,null,18,0,"zo","zo",0,0,0,0,"za",0,0,"zo",0,18]
[3,"2019-01-18","2019-01-18",null,null,0,0,0,null,null,null,0,"",null,null,null,null,null,null,null,null,19,0,0,0,0,"za",0,0,"zo",0,0,0,0,19]
[3,"2019-01-19","2019-01-19",null,null,0,null,0,null,null,"za",0,"","Week",null,"OV WEEK","OV DAG","Recup -","Recup +","OV 50%",null,20,"za",0,0,0,"zo",0,0,0,0,"za",0,{"$f":"K362","v":0},20]
[3,"2019-01-20","2019-01-20",null,null,0,null,0,null,null,"zo",0,"",{"$f":"SUM(L23:L29)","v":0},{"$f":"SUM(H23:H29)","v":0},{"$f":"IF(N29>40,N29-40,0)","v":0},{"$f":"SUM(M23:M29)","v":0},{"$f":"SUM(I23:I29)","v":0},{"$f":"IF(N29>40,N29-40,0)","v":0},{"$f":"IF(P29>Q29,P29,Q29)","v":0},null,21,"zo",0,0,"za","fd",0,"za",0,0,"zo",0,0,21]
[4,"2019-01-21","2019-01-21",null,null,0,0,0,null,null,null,0,"",null,null,null,null,null,null,null,null,22,0,0,0,"zo",0,0,"zo",0,"za",0,0,"za",22]
[4,"2019-01-22","2019-01-22",null,null,0,0,0,null,null,null,0,"",null,null,null,null,null,null,null,null,23,0,0,0,"fd",0,"za",0,0,"zo",0,0,"zo",23]
[4,"2019-01-23","2019-01-23",null,null,0,0,0,null,null,null,0,"",null,null,null,null,null,null,null,null,24,0,"za","za",0,0,"zo",0,0,0,0,"za",0,24]
[4,"2019-01-24","2019-01-24",null,null,0,0,0,null,null,null,0,"",null,null,null,null,null,null,null,null,25,0,"zo","zo",0,0,0,0,"za",0,0,"zo",0,25]
[4,"2019-01-25","2019-01-25",null,null,0,0,0,null,null,null,0,"",null,null,null,null,null,null,null,null,26,0,0,0,0,"za",0,0,"zo",0,0,0,"fd",26]
[4,"2019-01-26","2019-01-26",null,null,0,null,0,null,null,"za",0,"","Week",null,"OV WEEK","OV DAG","Recup -","Recup +","OV 50%",null,27,"za",0,0,0,"zo",0,0,0,0,"za",0,0,27]
[4,"2019-01-27","2019-01-27",null,null,0,null,0,null,null,"zo",0,"",{"$f":"SUM(L30:L36)","v":0},{"$f":"SUM(H30:H36)","v":0},{"$f":"IF(N36>40,N36-40,0)","v":0},{"$f":"SUM(M30:M36)","v":0},{"$f":"SUM(I30:I36)","v":0},{"$f":"IF(N36>40,N36-40,0)","v":0},{"$f":"IF(P36>Q36,P36,Q36)","v":0},null,28,"zo",0,0,"za",0,0,"za",0,0,"zo",0,0,28]
[5,"2019-01-28","2019-01-28",null,null,0,0,0,null,null,null,0,"",null,null,null,null,null,null,null,null,29,0,null,0,"zo",0,0,"zo",0,"za",0,0,"za",29]
[5,"2019-01-29","2019-01-29",null,null,0,0,0,null,null,null,0,"",null,null,null,null,null,null,null,null,30,0,null,0,0,0,"za",0,0,"zo",0,0,"zo",30]
[5,"2019-01-30","2019-01-30",null,null,0,0,0,null,null,null,0,"",null,null,null,null,null,null,null,null,31,0,null,"za",null,"fd",null,0,0,null,0,null,0,31]
[5,"2019-01-31","2019-01-31",null,null,0,0,0,null,null,null,0,"",null,null,null,null,null,null,null,null,"WD",23,20,21,22,23,20,23,22,21,23,21,22,{"$f":"SUM(W40:AH40)","v":261}]
[5,"2019-02-01","2019-02-01",null,null,0,0,0,null,null,null,0,""]
[5,"2019-02-02","2019-02-02",null,null,0,null,0,null,null,"za",0,"","Week",null,"OV WEEK","OV DAG","Recup -","Recup +","OV 50%"]
[5,"2019-02-03","2019-02-03",null,null,0,null,0,null,null,"zo",0,"",{"$f":"SUM(L37:L43)","v":0},{"$f":"SUM(H37:H43)","v":0},{"$f":"IF(N43>40,N43-40,0)","v":0},{"$f":"SUM(M37:M43)","v":0},{"$f":"SUM(I37:I43)","v":0},{"$f":"IF(N43>40,N43-40,0)","v":0},{"$f":"IF(P43>Q43,P43,Q43)","v":0}]
[6,"2019-02-04","2019-02-04",null,null,0,0,0,null,null,null,0,""]
[6,"2019-02-05","2019-02-05",null,null,0,0,0,null,null,null,0,""]
[6,"2019-02-06","2019-02-06",null,null,0,0,0,null,null,null,0,""]
[6,"2019-02-07","2019-02-07",null,null,0,0,0,null,null,null,0,""]
[6,"2019-02-08","2019-02-08",null,null,0,0,0,null,null,null,0,""]
[6,"2019-02-09","2019-02-09",null,null,0,null,0,null,null,"za",0,"","Week",null,"OV WEEK","OV DAG","Recup -","Recup +","OV 50%"]
[6,"2019-02-10","2019-02-10",null,null,0,null,0,null,null,"zo",0,"",{"$f":"SUM(L44:L50)","v":0},{"$f":"SUM(H44:H50)","v":0},{"$f":"IF(N50>40,N50-40,0)","v":0},{"$f":"SUM(M44:M50)","v":0},{"$f":"SUM(I44:I50)","v":0},{"$f":"IF(N50>40,N50-40,0)","v":0},{"$f":"IF(P50>Q50,P50,Q50)","v":0}]
[7,"2019-02-11","2019-02-11",null,null,0,0,0,null,null,null,0,""]
[7,"2019-02-12","2019-02-12",null,null,0,0,0,null,null,null,0,""]
[7,"2019-02-13","2019-02-13",null,null,0,0,0,null,null,null,0,""]
[7,"2019-02-14","2019-02-14",null,null,0,0,0,null,null,null,0,""]
[7,"2019-02-15","2019-02-15",null,null,0,0,0,null,null,null,0,""]
[7,"2019-02-16","2019-02-16",null,null,0,null,0,null,null,"za",0,"","Week",null,"OV WEEK","OV DAG","Recup -","Recup +","OV 50%"]
[7,"2019-02-17","2019-02-17",null,null,0,null,0,null,null,"zo",0,"",{"$f":"SUM(L51:L57)","v":0},{"$f":"SUM(H51:H57)","v":0},{"$f":"IF(N57>40,N57-40,0)","v":0},{"$f":"SUM(M51:M57)","v":0},{"$f":"SUM(I51:I57)","v":0},{"$f":"IF(N57>40,N57-40,0)","v":0},{"$f":"IF(P57>Q57,P57,Q57)","v":0}]
[8,"2019-02-18","2019-02-18",null,null,0,0,0,null,null,null,0,""]
[8,"2019-02-19","2019-02-19",null,null,0,0,0,null,null,null,0,""]
[8,"2019-02-20","2019-02-20",null,null,0,0,0,null,null,null,0,""]
[8,"2019-02-21","2019-02-21",null,null,0,0,0,null,null,null,0,""]
[8,"2019-02-22","2019-02-22",null,null,0,0,0,null,null,null,0,""]
[8,"2019-02-23","2019-02-23",null,null,0,null,0,null,null,"za",0,"","Week",null,"OV WEEK","OV DAG","Recup -","Recup +","OV 50%"]
[8,"2019-02-24","2019-02-24",null,null,0,null,0,null,null,"zo",0,"",{"$f":"SUM(L58:L64)","v":0},{"$f":"SUM(H58:H64)","v":0},{"$f":"IF(N64>40,N64-40,0)","v":0},{"$f":"SUM(M58:M64)","v":0},{"$f":"SUM(I58:I64)","v":0},{"$f":"IF(N64>40,N64-40,0)","v":0},{"$f":"IF(P64>Q64,P64,Q64)","v":0}]
[9,"2019-02-25","2019-02-25",null,null,0,0,0,null,null,null,0,""]
[9,"2019-02-26","2019-02-26",null,null,0,0,0,null,null,null,0,""]
[9,"2019-02-27","2019-02-27",null,null,0,0,0,null,null,null,0,""]
[9,"2019-02-28","2019-02-28",null,null,0,0,0,null,null,null,0,""]
[9,"2019-03-01","2019-03-01",null,null,0,0,0,null,null,null,0,""]
[9,"2019-03-02","2019-03-02",null,null,0,null,0,null,null,"za",0,"","Week",null,"OV WEEK","OV DAG","Recup -","Recup +","OV 50%"]
[9,"2019-03-03","2019-03-03",null,null,0,null,0,null,null,"zo",0,"",{"$f":"SUM(L65:L71)","v":0},{"$f":"SUM(H65:H71)","v":0},{"$f":"IF(N71>40,N71-40,0)","v":0},{"$f":"SUM(M65:M71)","v":0},{"$f":"SUM(I65:I71)","v":0},{"$f":"IF(N71>40,N71-40,0)","v":0},{"$f":"IF(P71>Q71,P71,Q71)","v":0}]
[10,"2019-03-04","2019-03-04",null,null,0,0,0,null,null,null,0,""]
[10,"2019-03-05","2019-03-05",null,null,0,0,0,null,null,null,0,{"$f":"IF(L73>9,L73-9,\"\")","v":""}]
[{"$f":"WEEKNUM(C74,21)","v":10},{"$f":"C74","v":"2019-03-06"},"2019-03-06",null,null,{"$f":"(E74-D74)*24","v":0},{"$f":"IF(F74>=6,0.5,0)","v":0},{"$f":"F74-G74","v":0},null,null,null,{"$f":"SUM(H74:J74)","v":0},""]
[10,"2019-03-07","2019-03-07",null,null,0,0,0,null,null,null,0,""]
[10,"2019-03-08","2019-03-08",null,null,0,0,0,null,null,null,0,""]
[10,"2019-03-09","2019-03-09",null,null,0,null,0,null,null,"za",0,"","Week",null,"OV WEEK","OV DAG","Recup -","Recup +","OV 50%"]
[10,"2019-03-10","2019-03-10",null,null,0,null,0,null,null,"zo",0,"",{"$f":"SUM(L72:L78)","v":0},{"$f":"SUM(H72:H78)","v":0},{"$f":"IF(N78>40,N78-40,0)","v":0},{"$f":"SUM(M72:M78)","v":0},{"$f":"SUM(I72:I78)","v":0},{"$f":"IF(N78>40,N78-40,0)","v":0},{"$f":"IF(P78>Q78,P78,Q78)","v":0}]
[11,"2019-03-11","2019-03-11",null,null,0,0,0,null,null,null,0,""]
[11,"2019-03-12","2019-03-12",null,null,0,0,0,null,null,null,0,""]
[11,"2019-03-13","2019-03-13",null,null,0,0,0,null,null,null,0,""]
[11,"2019-03-14","2019-03-14",null,null,0,0,0,null,null,null,0,""]
[11,"2019-03-15","2019-03-15",null,null,0,0,0,null,null,null,0,""]
[11,"2019-03-16","2019-03-16",null,null,0,null,0,null,null,"za",0,"","Week",null,"OV WEEK","OV DAG","Recup -","Recup +","OV 50%"]
[11,"2019-03-17","2019-03-17",null,null,0,null,0,null,null,"zo",0,"",{"$f":"SUM(L79:L85)","v":0},{"$f":"SUM(H79:H85)","v":0},{"$f":"IF(N85>40,N85-40,0)","v":0},{"$f":"SUM(M79:M85)","v":0},{"$f":"SUM(I79:I85)","v":0},{"$f":"IF(N85>40,N85-40,0)","v":0},{"$f":"IF(P85>Q85,P85,Q85)","v":0}]
[12,"2019-03-18","2019-03-18",null,null,0,0,0,null,null,null,0,""]
[12,"2019-03-19","2019-03-19",null,null,0,0,0,null,null,null,0,""]
[12,"2019-03-20","2019-03-20",null,null,0,0,0,null,null,null,0,""]
[12,"2019-03-21","2019-03-21",null,null,0,0,0,null,null,null,0,""]
[12,"2019-03-22","2019-03-22",null,null,0,0,0,null,null,null,0,""]
[12,"2019-03-23","2019-03-23",null,null,0,null,0,null,null,"za",0,"","Week",null,"OV WEEK","OV DAG","Recup -","Recup +","OV 50%"]
[12,"2019-03-24","2019-03-24",null,null,0,null,0,null,null,"zo",0,"",{"$f":"SUM(L86:L92)","v":0},{"$f":"SUM(H86:H92)","v":0},{"$f":"IF(N92>40,N92-40,0)","v":0},{"$f":"SUM(M86:M92)","v":0},{"$f":"SUM(I86:I92)","v":0},{"$f":"IF(N92>40,N92-40,0)","v":0},{"$f":"IF(P92>Q92,P92,Q92)","v":0}]
[13,"2019-03-25","2019-03-25",null,null,0,0,0,null,null,null,0,""]
[13,"2019-03-26","2019-03-26",null,null,0,0,0,null,null,null,0,""]
[13,"2019-03-27","2019-03-27",null,null,0,0,0,null,null,null,0,""]
[13,"2019-03-28","2019-03-28",null,null,0,0,0,null,null,null,0,""]
[13,"2019-03-29","2019-03-29",null,null,0,0,0,null,null,null,0,""]
[13,"2019-03-30","2019-03-30",null,null,0,null,0,null,null,"za",0,"","Week",null,"OV WEEK","OV DAG","Recup -","Recup +","OV 50%"]
[13,"2019-03-31","2019-03-31",null,null,0,null,0,null,null,"zo",0,"",{"$f":"SUM(L93:L99)","v":0},{"$f":"SUM(H93:H99)","v":0},{"$f":"IF(N99>40,N99-40,0)","v":0},{"$f":"SUM(M93:M99)","v":0},{"$f":"SUM(I93:I99)","v":0},{"$f":"IF(N99>40,N99-40,0)","v":0},{"$f":"IF(P99>Q99,P99,Q99)","v":0}]
[14,"2019-04-01","2019-04-01",null,null,0,0,0,null,null,null,0,""]
[14,"2019-04-02","2019-04-02",null,null,0,0,0,null,null,null,0,""]
[14,"2019-04-03","2019-04-03",null,null,0,0,0,null,null,null,0,""]
[14,"2019-04-04","2019-04-04",null,null,0,0,0,null,null,null,0,""]
[14,"2019-04-05","2019-04-05",null,null,0,0,0,null,null,null,0,""]
[14,"2019-04-06","2019-04-06",null,null,0,null,0,null,null,"za",0,"","Week",null,"OV WEEK","OV DAG","Recup -","Recup +","OV 50%"]
[14,"2019-04-07","2019-04-07",null,null,0,null,0,null,null,"zo",0,"",{"$f":"SUM(L100:L106)","v":0},{"$f":"SUM(H100:H106)","v":0},{"$f":"IF(N106>40,N106-40,0)","v":0},{"$f":"SUM(M100:M106)","v":0},{"$f":"SUM(I100:I106)","v":0},{"$f":"IF(N106>40,N106-40,0)","v":0},{"$f":"IF(P106>Q106,P106,Q106)","v":0}]
[15,"2019-04-08","2019-04-08",null,null,0,0,0,null,null,null,0,""]
[15,"2019-04-09","2019-04-09",null,null,0,0,0,null,null,null,0,""]
[15,"2019-04-10","2019-04-10",null,null,0,0,0,null,null,null,0,""]
[15,"2019-04-11","2019-04-11",null,null,0,0,0,null,null,null,0,""]
[15,"2019-04-12","2019-04-12",null,null,0,0,0,null,null,null,0,""]
[15,"2019-04-13","2019-04-13",null,null,0,null,0,null,null,"za",0,"","Week",null,"OV WEEK","OV DAG","Recup -","Recup +","OV 50%"]
[15,"2019-04-14","2019-04-14",null,null,0,null,0,null,null,"zo",0,"",{"$f":"SUM(L107:L113)","v":0},{"$f":"SUM(H107:H113)","v":0},{"$f":"IF(N113>40,N113-40,0)","v":0},{"$f":"SUM(M107:M113)","v":0},{"$f":"SUM(I107:I113)","v":0},{"$f":"IF(N113>40,N113-40,0)","v":0},{"$f":"IF(P113>Q113,P113,Q113)","v":0}]
[16,"2019-04-15","2019-04-15",null,null,0,0,0,null,null,null,0,""]
[16,"2019-04-16","2019-04-16",null,null,0,0,0,null,null,null,0,""]
[16,"2019-04-17","2019-04-17",null,null,0,0,0,null,null,null,0,""]
[16,"2019-04-18","2019-04-18",null,null,0,0,0,null,null,null,0,""]
[16,"2019-04-19","2019-04-19",null,null,0,0,0,null,null,null,0,""]
[16,"2019-04-20","2019-04-20",null,null,0,null,0,null,null,"za",0,"","Week",null,"OV WEEK","OV DAG","Recup -","Recup +","OV 50%"]
[16,"2019-04-21","2019-04-21",null,null,0,null,0,null,null,"zo",0,"",{"$f":"SUM(L114:L120)","v":0},{"$f":"SUM(H114:H120)","v":0},{"$f":"IF(N120>40,N120-40,0)","v":0},{"$f":"SUM(M114:M120)","v":0},{"$f":"SUM(I114:I120)","v":0},{"$f":"IF(N120>40,N120-40,0)","v":0},{"$f":"IF(P120>Q120,P120,Q120)","v":0}]
[17,"2019-04-22","2019-04-22",null,null,0,0,0,null,7.6,"fd",7.6,""]
[17,"2019-04-23","2019-04-23",null,null,0,0,0,null,null,null,0,""]
[17,"2019-04-24","2019-04-24",null,null,0,0,0,null,null,null,0,""]
[17,"2019-04-25","2019-04-25",null,null,0,0,0,null,null,null,0,""]
[17,"2019-04-26","2019-04-26",null,null,0,0,0,null,null,null,0,""]
[17,"2019-04-27","2019-04-27",null,null,0,null,0,null,null,"za",0,"","Week",null,"OV WEEK","OV DAG","Recup -","Recup +","OV 50%"]
[17,"2019-04-28","2019-04-28",null,null,0,null,0,null,null,"zo",0,"",{"$f":"SUM(L121:L127)","v":7.6},{"$f":"SUM(H121:H127)","v":0},{"$f":"IF(N127>40,N127-40,0)","v":0},{"$f":"SUM(M121:M127)","v":0},{"$f":"SUM(I121:I127)","v":0},{"$f":"IF(N127>40,N127-40,0)","v":0},{"$f":"IF(P127>Q127,P127,Q127)","v":0}]
[18,"2019-04-29","2019-04-29",null,null,0,0,0,null,null,null,0,""]
[18,"2019-04-30","2019-04-30",null,null,0,0,0,null,null,null,0,""]
[18,"2019-05-01","2019-05-01",null,null,0,0,0,null,7.6,"fd",7.6,""]
[18,"2019-05-02","2019-05-02",null,null,0,0,0,null,null,null,0,""]
[18,"2019-05-03","2019-05-03",null,null,0,0,0,null,null,null,0,""]
[18,"2019-05-04","2019-05-04",null,null,0,null,0,null,null,"za",0,"","Week",null,"OV WEEK","OV DAG","Recup -","Recup +","OV 50%"]
[18,"2019-05-05","2019-05-05",null,null,0,null,0,null,null,"zo",0,"",{"$f":"SUM(L128:L134)","v":7.6},{"$f":"SUM(H128:H134)","v":0},{"$f":"IF(N134>40,N134-40,0)","v":0},{"$f":"SUM(M128:M134)","v":0},{"$f":"SUM(I128:I134)","v":0},{"$f":"IF(N134>40,N134-40,0)","v":0},{"$f":"IF(P134>Q134,P134,Q134)","v":0}]
[19,"2019-05-06","2019-05-06",null,null,0,0,0,null,null,null,0,""]
[19,"2019-05-07","2019-05-07",null,null,0,0,0,null,null,null,0,""]
[19,"2019-05-08","2019-05-08",null,null,0,0,0,null,null,null,0,{"$f":"IF(L137>9,L137-9,\"\")","v":""}]
[{"$f":"WEEKNUM(C138,21)","v":19},{"$f":"C138","v":"2019-05-09"},"2019-05-09",null,null,{"$f":"(E138-D138)*24","v":0},{"$f":"IF(F138>=6,0.5,0)","v":0},{"$f":"F138-G138","v":0},null,null,null,{"$f":"SUM(H138:J138)","v":0},""]
[19,"2019-05-10","2019-05-10",null,null,0,0,0,null,null,null,0,""]
[19,"2019-05-11","2019-05-11",null,null,0,null,0,null,null,"za",0,"","Week",null,"OV WEEK","OV DAG","Recup -","Recup +","OV 50%"]
[19,"2019-05-12","2019-05-12",null,null,0,null,0,null,null,"zo",0,"",{"$f":"SUM(L135:L141)","v":0},{"$f":"SUM(H135:H141)","v":0},{"$f":"IF(N141>40,N141-40,0)","v":0},{"$f":"SUM(M135:M141)","v":0},{"$f":"SUM(I135:I141)","v":0},{"$f":"IF(N141>40,N141-40,0)","v":0},{"$f":"IF(P141>Q141,P141,Q141)","v":0}]
[20,"2019-05-13","2019-05-13",null,null,0,0,0,null,null,null,0,""]
[20,"2019-05-14","2019-05-14",null,null,0,0,0,null,null,null,0,""]
[20,"2019-05-15","2019-05-15",null,null,0,0,0,null,null,null,0,""]
[20,"2019-05-16","2019-05-16",null,null,0,0,0,null,null,null,0,""]
[20,"2019-05-17","2019-05-17",null,null,0,0,0,null,null,null,0,""]
[20,"2019-05-18","2019-05-18",null,null,0,null,0,null,null,"za",0,"","Week",null,"OV WEEK","OV DAG","Recup -","Recup +","OV 50%"]
[20,"2019-05-19","2019-05-19",null,null,0,null,0,null,null,"zo",0,"",{"$f":"SUM(L142:L148)","v":0},{"$f":"SUM(H142:H148)","v":0},{"$f":"IF(N148>40,N148-40,0)","v":0},{"$f":"SUM(M142:M148)","v":0},{"$f":"SUM(I142:I148)","v":0},{"$f":"IF(N148>40,N148-40,0)","v":0},{"$f":"IF(P148>Q148,P148,Q148)","v":0}]
[21,"2019-05-20","2019-05-20",null,null,0,0,0,null,7.6,"fd",7.6,""]
[21,"2019-05-21","2019-05-21",null,null,0,0,0,null,null,null,0,""]
[21,"2019-05-22","2019-05-22",null,null,0,0,0,null,null,null,0,""]
[21,"2019-05-23","2019-05-23",null,null,0,0,0,null,null,null,0,""]
[21,"2019-05-24","2019-05-24",null,null,0,0,0,null,null,null,0,""]
[21,"2019-05-25","2019-05-25",null,null,0,null,0,null,null,"za",0,"","Week",null,"OV WEEK","OV DAG","Recup -","Recup +","OV 50%"]
[21,"2019-05-26","2019-05-26",null,null,0,null,0,null,null,"zo",0,"",{"$f":"SUM(L149:L155)","v":7.6},{"$f":"SUM(H149:H155)","v":0},{"$f":"IF(N155>40,N155-40,0)","v":0},{"$f":"SUM(M149:M155)","v":0},{"$f":"SUM(I149:I155)","v":0},{"$f":"IF(N155>40,N155-40,0)","v":0},{"$f":"IF(P155>Q155,P155,Q155)","v":0}]
[22,"2019-05-27","2019-05-27",null,null,0,0,0,null,null,null,0,""]
[22,"2019-05-28","2019-05-28",null,null,0,0,0,null,null,null,0,""]
[22,"2019-05-29","2019-05-29",null,null,0,0,0,null,null,null,0,""]
[22,"2019-05-30","2019-05-30",null,null,0,0,0,null,7.6,"fd",7.6,""]
[22,"2019-05-31","2019-05-31",null,null,0,0,0,null,null,null,0,""]
[22,"2019-06-01","2019-06-01",null,null,0,null,0,null,null,"za",0,"","Week",null,"OV WEEK","OV DAG","Recup -","Recup +","OV 50%"]
[22,"2019-06-02","2019-06-02",null,null,0,null,0,null,null,"zo",0,"",{"$f":"SUM(L156:L162)","v":7.6},{"$f":"SUM(H156:H162)","v":0},{"$f":"IF(N162>40,N162-40,0)","v":0},{"$f":"SUM(M156:M162)","v":0},{"$f":"SUM(I156:I162)","v":0},{"$f":"IF(N162>40,N162-40,0)","v":0},{"$f":"IF(P162>Q162,P162,Q162)","v":0}]
[23,"2019-06-03","2019-06-03",null,null,0,0,0,null,null,null,0,""]
[23,"2019-06-04","2019-06-04",null,null,0,0,0,null,null,null,0,""]
[23,"2019-06-05","2019-06-05",null,null,0,0,0,null,null,null,0,""]
[23,"2019-06-06","2019-06-06",null,null,0,0,0,null,null,null,0,""]
[23,"2019-06-07","2019-06-07",null,null,0,0,0,null,null,null,0,""]
[23,"2019-06-08","2019-06-08",null,null,0,null,0,null,null,"za",0,"","Week",null,"OV WEEK","OV DAG","Recup -","Recup +","OV 50%"]
[23,"2019-06-09","2019-06-09",null,null,0,null,0,null,null,"zo",0,"",{"$f":"SUM(L163:L169)","v":0},{"$f":"SUM(H163:H169)","v":0},{"$f":"IF(N169>40,N169-40,0)","v":0},{"$f":"SUM(M163:M169)","v":0},{"$f":"SUM(I163:I169)","v":0},{"$f":"IF(N169>40,N169-40,0)","v":0},{"$f":"IF(P169>Q169,P169,Q169)","v":0}]
[24,"2019-06-10","2019-06-10",null,null,0,0,0,null,7.6,"fd",7.6,""]
[24,"2019-06-11","2019-06-11",null,null,0,0,0,null,null,null,0,""]
[24,"2019-06-12","2019-06-12",null,null,0,0,0,null,null,null,0,""]
[24,"2019-06-13","2019-06-13",null,null,0,0,0,null,null,null,0,""]
[24,"2019-06-14","2019-06-14",null,null,0,0,0,null,null,null,0,""]
[24,"2019-06-15","2019-06-15",null,null,0,null,0,null,null,"za",0,"","Week",null,"OV WEEK","OV DAG","Recup -","Recup +","OV 50%"]
[24,"2019-06-16","2019-06-16",null,null,0,null,0,null,null,"zo",0,"",{"$f":"SUM(L170:L176)","v":7.6},{"$f":"SUM(H170:H176)","v":0},{"$f":"IF(N176>40,N176-40,0)","v":0},{"$f":"SUM(M170:M176)","v":0},{"$f":"SUM(I170:I176)","v":0},{"$f":"IF(N176>40,N176-40,0)","v":0},{"$f":"IF(P176>Q176,P176,Q176)","v":0}]
[25,"2019-06-17","2019-06-17",null,null,0,0,0,null,null,null,0,""]
[25,"2019-06-18","2019-06-18",null,null,0,0,0,null,null,null,0,""]
[25,"2019-06-19","2019-06-19",null,null,0,0,0,null,null,null,0,""]
[25,"2019-06-20","2019-06-20",null,null,0,0,0,null,null,null,0,""]
[25,"2019-06-21","2019-06-21",null,null,0,0,0,null,null,null,0,""]
[25,"2019-06-22","2019-06-22",null,null,0,null,0,null,null,"za",0,"","Week",null,"OV WEEK","OV DAG","Recup -","Recup +","OV 50%"]
[25,"2019-06-23","2019-06-23",null,null,0,null,0,null,null,"zo",0,"",{"$f":"SUM(L177:L183)","v":0},{"$f":"SUM(H177:H183)","v":0},{"$f":"IF(N183>40,N183-40,0)","v":0},{"$f":"SUM(M177:M183)","v":0},{"$f":"SUM(I177:I183)","v":0},{"$f":"IF(N183>40,N183-40,0)","v":0},{"$f":"IF(P183>Q183,P183,Q183)","v":0}]
[26,"2019-06-24","2019-06-24",null,null,0,0,0,null,null,null,0,""]
[26,"2019-06-25","2019-06-25",null,null,0,0,0,null,null,null,0,""]
[26,"2019-06-26","2019-06-26",null,null,0,0,0,null,null,null,0,""]
[26,"2019-06-27","2019-06-27",null,null,0,0,0,null,null,null,0,""]
[26,"2019-06-28","2019-06-28",null,null,0,0,0,null,null,null,0,""]
[26,"2019-06-29","2019-06-29",null,null,0,null,0,null,null,"za",0,"","Week",null,"OV WEEK","OV DAG","Recup -","Recup +","OV 50%"]
[26,"2019-06-30","2019-06-30",null,null,0,null,0,null,null,"zo",0,"",{"$f":"SUM(L184:L190)","v":0},{"$f":"SUM(H184:H190)","v":0},{"$f":"IF(N190>40,N190-40,0)","v":0},{"$f":"SUM(M184:M190)","v":0},{"$f":"SUM(I184:I190)","v":0},{"$f":"IF(N190>40,N190-40,0)","v":0},{"$f":"IF(P190>Q190,P190,Q190)","v":0}]
[27,"2019-07-01","2019-07-01",null,null,0,0,0,null,null,null,0,""]
[27,"2019-07-02","2019-07-02",null,null,0,0,0,null,null,null,0,""]
[27,"2019-07-03","2019-07-03",null,null,0,0,0,null,null,null,0,""]
[27,"2019-07-04","2019-07-04",null,null,0,0,0,null,null,null,0,""]
[27,"2019-07-05","2019-07-05",null,null,0,0,0,null,null,null,0,""]
[27,"2019-07-06","2019-07-06",null,null,0,null,0,null,null,"za",0,"","Week",null,"OV WEEK","OV DAG","Recup -","Recup +","OV 50%"]
[27,"2019-07-07","2019-07-07",null,null,0,null,0,null,null,"zo",0,"",{"$f":"SUM(L191:L197)","v":0},{"$f":"SUM(H191:H197)","v":0},{"$f":"IF(N197>40,N197-40,0)","v":0},{"$f":"SUM(M191:M197)","v":0},{"$f":"SUM(I191:I197)","v":0},{"$f":"IF(N197>40,N197-40,0)","v":0},{"$f":"IF(P197>Q197,P197,Q197)","v":0}]
[28,"2019-07-08","2019-07-08",null,null,0,0,0,null,null,null,0,""]
[28,"2019-07-09","2019-07-09",null,null,0,0,0,null,null,null,0,""]
[28,"2019-07-10","2019-07-10",null,null,0,0,0,null,null,null,0,""]
[28,"2019-07-11","2019-07-11",null,null,0,0,0,null,null,null,0,{"$f":"IF(L201>9,L201-9,\"\")","v":""}]
[{"$f":"WEEKNUM(C202,21)","v":28},{"$f":"C202","v":"2019-07-12"},"2019-07-12",null,null,{"$f":"(E202-D202)*24","v":0},{"$f":"IF(F202>=6,0.5,0)","v":0},{"$f":"F202-G202","v":0},null,null,null,{"$f":"SUM(H202:J202)","v":0},""]
[28,"2019-07-13","2019-07-13",null,null,0,null,0,null,null,"za",0,"","Week",null,"OV WEEK","OV DAG","Recup -","Recup +","OV 50%"]
[28,"2019-07-14","2019-07-14",null,null,0,null,0,null,null,"zo",0,"",{"$f":"SUM(L198:L204)","v":0},{"$f":"SUM(H198:H204)","v":0},{"$f":"IF(N204>40,N204-40,0)","v":0},{"$f":"SUM(M198:M204)","v":0},{"$f":"SUM(I198:I204)","v":0},{"$f":"IF(N204>40,N204-40,0)","v":0},{"$f":"IF(P204>Q204,P204,Q204)","v":0}]
[29,"2019-07-15","2019-07-15",null,null,0,0,0,null,null,null,0,""]
[29,"2019-07-16","2019-07-16",null,null,0,0,0,null,null,null,0,""]
[29,"2019-07-17","2019-07-17",null,null,0,0,0,null,null,null,0,""]
[29,"2019-07-18","2019-07-18",null,null,0,0,0,null,null,null,0,""]
[29,"2019-07-19","2019-07-19",null,null,0,0,0,null,null,null,0,""]
[29,"2019-07-20","2019-07-20",null,null,0,null,0,null,null,"za",0,"","Week",null,"OV WEEK","OV DAG","Recup -","Recup +","OV 50%"]
[29,"2019-07-21","2019-07-21",null,null,0,null,0,null,null,"zo",0,"",{"$f":"SUM(L205:L211)","v":0},{"$f":"SUM(H205:H211)","v":0},{"$f":"IF(N211>40,N211-40,0)","v":0},{"$f":"SUM(M205:M211)","v":0},{"$f":"SUM(I205:I211)","v":0},{"$f":"IF(N211>40,N211-40,0)","v":0},{"$f":"IF(P211>Q211,P211,Q211)","v":0}]
[30,"2019-07-22","2019-07-22",null,null,0,0,0,null,null,null,0,""]
[30,"2019-07-23","2019-07-23",null,null,0,0,0,null,null,null,0,""]
[30,"2019-07-24","2019-07-24",null,null,0,0,0,null,null,null,0,""]
[30,"2019-07-25","2019-07-25",null,null,0,0,0,null,null,null,0,""]
[30,"2019-07-26","2019-07-26",null,null,0,0,0,null,null,null,0,""]
[30,"2019-07-27","2019-07-27",null,null,0,null,0,null,null,"za",0,"","Week",null,"OV WEEK","OV DAG","Recup -","Recup +","OV 50%"]
[30,"2019-07-28","2019-07-28",null,null,0,null,0,null,null,"zo",0,"",{"$f":"SUM(L212:L218)","v":0},{"$f":"SUM(H212:H218)","v":0},{"$f":"IF(N218>40,N218-40,0)","v":0},{"$f":"SUM(M212:M218)","v":0},{"$f":"SUM(I212:I218)","v":0},{"$f":"IF(N218>40,N218-40,0)","v":0},{"$f":"IF(P218>Q218,P218,Q218)","v":0}]
[31,"2019-07-29","2019-07-29",null,null,0,0,0,null,null,null,0,""]
[31,"2019-07-30","2019-07-30",null,null,0,0,0,null,null,null,0,""]
[31,"2019-07-31","2019-07-31",null,null,0,0,0,null,null,null,0,""]
[31,"2019-08-01","2019-08-01",null,null,0,0,0,null,null,null,0,""]
[31,"2019-08-02","2019-08-02",null,null,0,0,0,null,null,null,0,""]
[31,"2019-08-03","2019-08-03",null,null,0,null,0,null,null,"za",0,"","Week",null,"OV WEEK","OV DAG","Recup -","Recup +","OV 50%"]
[31,"2019-08-04","2019-08-04",null,null,0,null,0,null,null,"zo",0,"",{"$f":"SUM(L219:L225)","v":0},{"$f":"SUM(H219:H225)","v":0},{"$f":"IF(N225>40,N225-40,0)","v":0},{"$f":"SUM(M219:M225)","v":0},{"$f":"SUM(I219:I225)","v":0},{"$f":"IF(N225>40,N225-40,0)","v":0},{"$f":"IF(P225>Q225,P225,Q225)","v":0}]
[32,"2019-08-05","2019-08-05",null,null,0,0,0,null,null,null,0,""]
[32,"2019-08-06","2019-08-06",null,null,0,0,0,null,null,null,0,""]
[32,"2019-08-07","2019-08-07",null,null,0,0,0,null,null,null,0,""]
[32,"2019-08-08","2019-08-08",null,null,0,0,0,null,null,null,0,""]
[32,"2019-08-09","2019-08-09",null,null,0,0,0,null,null,null,0,""]
[32,"2019-08-10","2019-08-10",null,null,0,null,0,null,null,"za",0,"","Week",null,"OV WEEK","OV DAG","Recup -","Recup +","OV 50%"]
[32,"2019-08-11","2019-08-11",null,null,0,null,0,null,null,"zo",0,"",{"$f":"SUM(L226:L232)","v":0},{"$f":"SUM(H226:H232)","v":0},{"$f":"IF(N232>40,N232-40,0)","v":0},{"$f":"SUM(M226:M232)","v":0},{"$f":"SUM(I226:I232)","v":0},{"$f":"IF(N232>40,N232-40,0)","v":0},{"$f":"IF(P232>Q232,P232,Q232)","v":0}]
[33,"2019-08-12","2019-08-12",null,null,0,0,0,null,null,null,0,""]
[33,"2019-08-13","2019-08-13",null,null,0,0,0,null,null,null,0,""]
[33,"2019-08-14","2019-08-14",null,null,0,0,0,null,null,null,0,""]
[33,"2019-08-15","2019-08-15",null,null,0,0,0,null,7.6,"fd",7.6,""]
[33,"2019-08-16","2019-08-16",null,null,0,0,0,null,null,null,0,""]
[33,"2019-08-17","2019-08-17",null,null,0,null,0,null,null,"za",0,"","Week",null,"OV WEEK","OV DAG","Recup -","Recup +","OV 50%"]
[33,"2019-08-18","2019-08-18",null,null,0,null,0,null,null,"zo",0,"",{"$f":"SUM(L233:L239)","v":7.6},{"$f":"SUM(H233:H239)","v":0},{"$f":"IF(N239>40,N239-40,0)","v":0},{"$f":"SUM(M233:M239)","v":0},{"$f":"SUM(I233:I239)","v":0},{"$f":"IF(N239>40,N239-40,0)","v":0},{"$f":"IF(P239>Q239,P239,Q239)","v":0}]
[34,"2019-08-19","2019-08-19",null,null,0,0,0,null,null,null,0,""]
[34,"2019-08-20","2019-08-20",null,null,0,{"$f":"IF(F241>=6,0.5,0)","v":0},0,null,null,null,0,""]
[34,"2019-08-21","2019-08-21",null,null,0,0,0,null,null,null,0,""]
[34,"2019-08-22","2019-08-22",null,null,0,0,0,null,null,null,0,""]
[34,"2019-08-23","2019-08-23",null,null,0,0,0,null,null,null,0,""]
[34,"2019-08-24","2019-08-24",null,null,0,null,0,null,null,"za",0,"","Week",null,"OV WEEK","OV DAG","Recup -","Recup +","OV 50%"]
[34,"2019-08-25","2019-08-25",null,null,0,null,0,null,null,"zo",0,"",{"$f":"SUM(L240:L246)","v":0},{"$f":"SUM(H240:H246)","v":0},{"$f":"IF(N246>40,N246-40,0)","v":0},{"$f":"SUM(M240:M246)","v":0},{"$f":"SUM(I240:I246)","v":0},{"$f":"IF(N246>40,N246-40,0)","v":0},{"$f":"IF(P246>Q246,P246,Q246)","v":0}]
[35,"2019-08-26","2019-08-26",null,null,0,0,0,null,null,null,0,""]
[35,"2019-08-27","2019-08-27",null,null,0,0,0,null,null,null,0,""]
[35,"2019-08-28","2019-08-28",null,null,0,0,0,null,null,null,0,""]
[35,"2019-08-29","2019-08-29",null,null,0,0,0,null,null,null,0,""]
[35,"2019-08-30","2019-08-30",null,null,0,0,0,null,null,null,0,""]
[35,"2019-08-31","2019-08-31",null,null,0,null,0,null,null,"za",0,"","Week",null,"OV WEEK","OV DAG","Recup -","Recup +","OV 50%"]
[35,"2019-09-01","2019-09-01",null,null,0,null,0,null,null,"zo",0,"",{"$f":"SUM(L247:L253)","v":0},{"$f":"SUM(H247:H253)","v":0},{"$f":"IF(N253>40,N253-40,0)","v":0},{"$f":"SUM(M247:M253)","v":0},{"$f":"SUM(I247:I253)","v":0},{"$f":"IF(N253>40,N253-40,0)","v":0},{"$f":"IF(P253>Q253,P253,Q253)","v":0}]
[36,"2019-09-02","2019-09-02",null,null,0,0,0,null,null,null,0,""]
[36,"2019-09-03","2019-09-03",null,null,0,0,0,null,null,null,0,""]
[36,"2019-09-04","2019-09-04",null,null,0,0,0,null,null,null,0,""]
[36,"2019-09-05","2019-09-05",null,null,0,0,0,null,null,null,0,""]
[36,"2019-09-06","2019-09-06",null,null,0,0,0,null,null,null,0,""]
[36,"2019-09-07","2019-09-07",null,null,0,null,0,null,null,"za",0,"","Week",null,"OV WEEK","OV DAG","Recup -","Recup +","OV 50%"]
[36,"2019-09-08","2019-09-08",null,null,0,null,0,null,null,"zo",0,"",{"$f":"SUM(L254:L260)","v":0},{"$f":"SUM(H254:H260)","v":0},{"$f":"IF(N260>40,N260-40,0)","v":0},{"$f":"SUM(M254:M260)","v":0},{"$f":"SUM(I254:I260)","v":0},{"$f":"IF(N260>40,N260-40,0)","v":0},{"$f":"IF(P260>Q260,P260,Q260)","v":0}]
[37,"2019-09-09","2019-09-09",null,null,0,0,0,null,null,null,0,""]
[37,"2019-09-10","2019-09-10",null,null,0,0,0,null,null,null,0,""]
[37,"2019-09-11","2019-09-11",null,null,0,0,0,null,null,null,0,""]
[37,"2019-09-12","2019-09-12",null,null,0,0,0,null,null,null,0,""]
[37,"2019-09-13","2019-09-13",null,null,0,0,0,null,null,null,0,{"$f":"IF(L265>9,L265-9,\"\")","v":""}]
[{"$f":"WEEKNUM(C266,21)","v":37},{"$f":"C266","v":"2019-09-14"},"2019-09-14",null,null,{"$f":"(E266-D266)*24","v":0},null,{"$f":"F266-G266","v":0},null,null,"za",{"$f":"SUM(H266:J266)","v":0},"","Week",null,"OV WEEK","OV DAG","Recup -","Recup +","OV 50%"]
[37,"2019-09-15","2019-09-15",null,null,0,null,0,null,null,"zo",0,"",{"$f":"SUM(L261:L267)","v":0},{"$f":"SUM(H261:H267)","v":0},{"$f":"IF(N267>40,N267-40,0)","v":0},{"$f":"SUM(M261:M267)","v":0},{"$f":"SUM(I261:I267)","v":0},{"$f":"IF(N267>40,N267-40,0)","v":0},{"$f":"IF(P267>Q267,P267,Q267)","v":0}]
[38,"2019-09-16","2019-09-16",null,null,0,{"$f":"IF(F268>=6,0.5,0)","v":0},0,null,null,null,0,""]
[38,"2019-09-17","2019-09-17",null,null,0,0,0,null,null,null,0,""]
[38,"2019-09-18","2019-09-18",null,null,0,0,0,null,null,null,0,""]
[38,"2019-09-19","2019-09-19",null,null,0,0,0,null,null,null,0,""]
[38,"2019-09-20","2019-09-20",null,null,0,0,0,null,null,null,0,""]
[38,"2019-09-21","2019-09-21",null,null,0,null,0,null,null,"za",0,"","Week",null,"OV WEEK","OV DAG","Recup -","Recup +","OV 50%"]
[38,"2019-09-22","2019-09-22",null,null,0,null,0,null,null,"zo",0,"",{"$f":"SUM(L268:L274)","v":0},{"$f":"SUM(H268:H274)","v":0},{"$f":"IF(N274>40,N274-40,0)","v":0},{"$f":"SUM(M268:M274)","v":0},{"$f":"SUM(I268:I274)","v":0},{"$f":"IF(N274>40,N274-40,0)","v":0},{"$f":"IF(P274>Q274,P274,Q274)","v":0}]
[39,"2019-09-23","2019-09-23",null,null,0,0,0,null,null,null,0,""]
[39,"2019-09-24","2019-09-24",null,null,0,0,0,null,null,null,0,""]
[39,"2019-09-25","2019-09-25",null,null,0,0,0,null,null,null,0,""]
[39,"2019-09-26","2019-09-26",null,null,0,0,0,null,null,null,0,""]
[39,"2019-09-27","2019-09-27",null,null,0,0,0,null,null,null,0,""]
[39,"2019-09-28","2019-09-28",null,null,0,null,0,null,null,"za",0,"","Week",null,"OV WEEK","OV DAG","Recup -","Recup +","OV 50%"]
[39,"2019-09-29","2019-09-29",null,null,0,null,0,null,null,"zo",0,"",{"$f":"SUM(L275:L281)","v":0},{"$f":"SUM(H275:H281)","v":0},{"$f":"IF(N281>40,N281-40,0)","v":0},{"$f":"SUM(M275:M281)","v":0},{"$f":"SUM(I275:I281)","v":0},{"$f":"IF(N281>40,N281-40,0)","v":0},{"$f":"IF(P281>Q281,P281,Q281)","v":0}]
[40,"2019-09-30","2019-09-30",null,null,0,0,0,null,null,null,0,""]
[40,"2019-10-01","2019-10-01",null,null,0,0,0,null,null,null,0,""]
[40,"2019-10-02","2019-10-02",null,null,0,0,0,null,null,null,0,""]
[40,"2019-10-03","2019-10-03",null,null,0,0,0,null,null,null,0,""]
[40,"2019-10-04","2019-10-04",null,null,0,0,0,null,null,null,0,""]
[40,"2019-10-05","2019-10-05",null,null,0,null,0,null,null,"za",0,"","Week",null,"OV WEEK","OV DAG","Recup -","Recup +","OV 50%"]
[40,"2019-10-06","2019-10-06",null,null,0,null,0,null,null,"zo",0,"",{"$f":"SUM(L282:L288)","v":0},{"$f":"SUM(H282:H288)","v":0},{"$f":"IF(N288>40,N288-40,0)","v":0},{"$f":"SUM(M282:M288)","v":0},{"$f":"SUM(I282:I288)","v":0},{"$f":"IF(N288>40,N288-40,0)","v":0},{"$f":"IF(P288>Q288,P288,Q288)","v":0}]
[41,"2019-10-07","2019-10-07",null,null,0,0,0,null,null,null,0,""]
[41,"2019-10-08","2019-10-08",null,null,0,0,0,null,null,null,0,""]
[41,"2019-10-09","2019-10-09",null,null,0,0,0,null,null,null,0,""]
[41,"2019-10-10","2019-10-10",null,null,0,0,0,null,null,null,0,""]
[41,"2019-10-11","2019-10-11",null,null,0,0,0,null,null,null,0,""]
[41,"2019-10-12","2019-10-12",null,null,0,null,0,null,null,"za",0,"","Week",null,"OV WEEK","OV DAG","Recup -","Recup +","OV 50%"]
[41,"2019-10-13","2019-10-13",null,null,0,null,0,null,null,"zo",0,"",{"$f":"SUM(L289:L295)","v":0},{"$f":"SUM(H289:H295)","v":0},{"$f":"IF(N295>40,N295-40,0)","v":0},{"$f":"SUM(M289:M295)","v":0},{"$f":"SUM(I289:I295)","v":0},{"$f":"IF(N295>40,N295-40,0)","v":0},{"$f":"IF(P295>Q295,P295,Q295)","v":0}]
[42,"2019-10-14","2019-10-14",null,null,0,0,0,null,null,null,0,""]
[42,"2019-10-15","2019-10-15",null,null,0,0,0,null,null,null,0,""]
[42,"2019-10-16","2019-10-16",null,null,0,0,0,null,null,null,0,""]
[42,"2019-10-17","2019-10-17",null,null,0,0,0,null,null,null,0,""]
[42,"2019-10-18","2019-10-18",null,null,0,0,0,null,null,null,0,""]
[42,"2019-10-19","2019-10-19",null,null,0,null,0,null,null,"za",0,"","Week",null,"OV WEEK","OV DAG","Recup -","Recup +","OV 50%"]
[42,"2019-10-20","2019-10-20",null,null,0,null,0,null,null,"zo",0,"",{"$f":"SUM(L296:L302)","v":0},{"$f":"SUM(H296:H302)","v":0},{"$f":"IF(N302>40,N302-40,0)","v":0},{"$f":"SUM(M296:M302)","v":0},{"$f":"SUM(I296:I302)","v":0},{"$f":"IF(N302>40,N302-40,0)","v":0},{"$f":"IF(P302>Q302,P302,Q302)","v":0}]
[43,"2019-10-21","2019-10-21",null,null,0,0,0,null,null,null,0,""]
[43,"2019-10-22","2019-10-22",null,null,0,0,0,null,null,null,0,""]
[43,"2019-10-23","2019-10-23",null,null,0,0,0,null,null,null,0,""]
[43,"2019-10-24","2019-10-24",null,null,0,0,0,null,null,null,0,""]
[43,"2019-10-25","2019-10-25",null,null,0,0,0,null,null,null,0,""]
[43,"2019-10-26","2019-10-26",null,null,0,null,0,null,null,"za",0,"","Week",null,"OV WEEK","OV DAG","Recup -","Recup +","OV 50%"]
[43,"2019-10-27","2019-10-27",null,null,0,null,0,null,null,"zo",0,"",{"$f":"SUM(L303:L309)","v":0},{"$f":"SUM(H303:H309)","v":0},{"$f":"IF(N309>40,N309-40,0)","v":0},{"$f":"SUM(M303:M309)","v":0},{"$f":"SUM(I303:I309)","v":0},{"$f":"IF(N309>40,N309-40,0)","v":0},{"$f":"IF(P309>Q309,P309,Q309)","v":0}]
[44,"2019-10-28","2019-10-28",null,null,0,0,0,null,null,null,0,""]
[44,"2019-10-29","2019-10-29",null,null,0,0,0,null,null,null,0,""]
[44,"2019-10-30","2019-10-30",null,null,0,0,0,null,null,null,0,""]
[44,"2019-10-31","2019-10-31",null,null,0,0,0,null,null,null,0,""]
[44,"2019-11-01","2019-11-01",null,null,0,0,0,null,7.6,"fd",7.6,""]
[44,"2019-11-02","2019-11-02",null,null,0,null,0,null,null,"za",0,"","Week",null,"OV WEEK","OV DAG","Recup -","Recup +","OV 50%"]
[44,"2019-11-03","2019-11-03",null,null,0,null,0,null,null,"zo",0,"",{"$f":"SUM(L310:L316)","v":7.6},{"$f":"SUM(H310:H316)","v":0},{"$f":"IF(N316>40,N316-40,0)","v":0},{"$f":"SUM(M310:M316)","v":0},{"$f":"SUM(I310:I316)","v":0},{"$f":"IF(N316>40,N316-40,0)","v":0},{"$f":"IF(P316>Q316,P316,Q316)","v":0}]
[45,"2019-11-04","2019-11-04",null,null,0,0,0,null,null,null,0,""]
[45,"2019-11-05","2019-11-05",null,null,0,0,0,null,null,null,0,""]
[45,"2019-11-06","2019-11-06",null,null,0,0,0,null,null,null,0,""]
[45,"2019-11-07","2019-11-07",null,null,0,0,0,null,null,null,0,""]
[45,"2019-11-08","2019-11-08",null,null,0,0,0,null,null,null,0,""]
[45,"2019-11-09","2019-11-09",null,null,0,null,0,null,null,"za",0,"","Week",null,"OV WEEK","OV DAG","Recup -","Recup +","OV 50%"]
[45,"2019-11-10","2019-11-10",null,null,0,null,0,null,null,"zo",0,"",{"$f":"SUM(L317:L323)","v":0},{"$f":"SUM(H317:H323)","v":0},{"$f":"IF(N323>40,N323-40,0)","v":0},{"$f":"SUM(M317:M323)","v":0},{"$f":"SUM(I317:I323)","v":0},{"$f":"IF(N323>40,N323-40,0)","v":0},{"$f":"IF(P323>Q323,P323,Q323)","v":0}]
[46,"2019-11-11","2019-11-11",null,null,0,0,0,null,7.6,"fd",7.6,""]
[46,"2019-11-12","2019-11-12",null,null,0,0,0,null,null,null,0,""]
[46,"2019-11-13","2019-11-13",null,null,0,0,0,null,null,null,0,""]
[46,"2019-11-14","2019-11-14",null,null,0,0,0,null,null,null,0,""]
[46,"2019-11-15","2019-11-15",null,null,0,0,0,null,null,null,0,""]
[46,"2019-11-16","2019-11-16",null,null,0,null,0,null,null,"za",0,{"$f":"IF(L329>9,L329-9,\"\")","v":""},"Week",null,"OV WEEK","OV DAG","Recup -","Recup +","OV 50%"]
[{"$f":"WEEKNUM(C330,21)","v":46},{"$f":"C330","v":"2019-11-17"},"2019-11-17",null,null,{"$f":"(E330-D330)*24","v":0},null,{"$f":"F330-G330","v":0},null,null,"zo",{"$f":"SUM(H330:J330)","v":0},"",{"$f":"SUM(L324:L330)","v":7.6},{"$f":"SUM(H324:H330)","v":0},{"$f":"IF(N330>40,N330-40,0)","v":0},{"$f":"SUM(M324:M330)","v":0},{"$f":"SUM(I324:I330)","v":0},{"$f":"IF(N330>40,N330-40,0)","v":0},{"$f":"IF(P330>Q330,P330,Q330)","v":0}]
[47,"2019-11-18","2019-11-18",null,null,0,{"$f":"IF(F331>=6,0.5,0)","v":0},0,null,null,null,0,""]
[47,"2019-11-19","2019-11-19",null,null,0,0,0,null,null,null,0,""]
[47,"2019-11-20","2019-11-20",null,null,0,0,0,null,null,null,0,""]
[47,"2019-11-21","2019-11-21",null,null,0,0,0,null,null,null,0,""]
[47,"2019-11-22","2019-11-22",null,null,0,0,0,null,null,null,0,""]
[47,"2019-11-23","2019-11-23",null,null,0,null,0,null,null,"za",0,"","Week",null,"OV WEEK","OV DAG","Recup -","Recup +","OV 50%"]
[47,"2019-11-24","2019-11-24",null,null,0,null,0,null,null,"zo",0,"",{"$f":"SUM(L331:L337)","v":0},{"$f":"SUM(H331:H337)","v":0},{"$f":"IF(N337>40,N337-40,0)","v":0},{"$f":"SUM(M331:M337)","v":0},{"$f":"SUM(I331:I337)","v":0},{"$f":"IF(N337>40,N337-40,0)","v":0},{"$f":"IF(P337>Q337,P337,Q337)","v":0}]
[48,"2019-11-25","2019-11-25",null,null,0,0,0,null,null,null,0,""]
[48,"2019-11-26","2019-11-26",null,null,0,0,0,null,null,null,0,""]
[48,"2019-11-27","2019-11-27",null,null,0,0,0,null,null,null,0,""]
[48,"2019-11-28","2019-11-28",null,null,0,0,0,null,null,null,0,""]
[48,"2019-11-29","2019-11-29",null,null,0,0,0,null,null,null,0,""]
[48,"2019-11-30","2019-11-30",null,null,0,null,0,null,null,"za",0,"","Week",null,"OV WEEK","OV DAG","Recup -","Recup +","OV 50%"]
[48,"2019-12-01","2019-12-01",null,null,0,null,0,null,null,"zo",0,"",{"$f":"SUM(L338:L344)","v":0},{"$f":"SUM(H338:H344)","v":0},{"$f":"IF(N344>40,N344-40,0)","v":0},{"$f":"SUM(M338:M344)","v":0},{"$f":"SUM(I338:I344)","v":0},{"$f":"IF(N344>40,N344-40,0)","v":0},{"$f":"IF(P344>Q344,P344,Q344)","v":0}]
[49,"2019-12-02","2019-12-02",null,null,0,0,0,null,null,null,0,""]
[49,"2019-12-03","2019-12-03",null,null,0,0,0,null,null,null,0,""]
[49,"2019-12-04","2019-12-04",null,null,0,0,0,null,null,null,0,""]
[49,"2019-12-05","2019-12-05",null,null,0,0,0,null,null,null,0,""]
[49,"2019-12-06","2019-12-06",null,null,0,0,0,null,null,null,0,""]
[49,"2019-12-07","2019-12-07",null,null,0,null,0,null,null,"za",0,"","Week",null,"OV WEEK","OV DAG","Recup -","Recup +","OV 50%"]
[49,"2019-12-08","2019-12-08",null,null,0,null,0,null,null,"zo",0,"",{"$f":"SUM(L345:L351)","v":0},{"$f":"SUM(H345:H351)","v":0},{"$f":"IF(N351>40,N351-40,0)","v":0},{"$f":"SUM(M345:M351)","v":0},{"$f":"SUM(I345:I351)","v":0},{"$f":"IF(N351>40,N351-40,0)","v":0},{"$f":"IF(P351>Q351,P351,Q351)","v":0}]
[50,"2019-12-09","2019-12-09",null,null,0,0,0,null,null,null,0,""]
[50,"2019-12-10","2019-12-10",null,null,0,0,0,null,null,null,0,""]
[50,"2019-12-11","2019-12-11",null,null,0,0,0,null,null,null,0,""]
[50,"2019-12-12","2019-12-12",null,null,0,0,0,null,null,null,0,""]
[50,"2019-12-13","2019-12-13",null,null,0,0,0,null,null,null,0,""]
[50,"2019-12-14","2019-12-14",null,null,0,null,0,null,null,"za",0,"","Week",null,"OV WEEK","OV DAG","Recup -","Recup +","OV 50%"]
[50,"2019-12-15","2019-12-15",null,null,0,null,0,null,null,"zo",0,"",{"$f":"SUM(L352:L358)","v":0},{"$f":"SUM(H352:H358)","v":0},{"$f":"IF(N358>40,N358-40,0)","v":0},{"$f":"SUM(M352:M358)","v":0},{"$f":"SUM(I352:I358)","v":0},{"$f":"IF(N358>40,N358-40,0)","v":0},{"$f":"IF(P358>Q358,P358,Q358)","v":0}]
[51,"2019-12-16","2019-12-16",null,null,0,0,0,null,null,null,0,""]
[51,"2019-12-17","2019-12-17",null,null,0,0,0,null,null,null,0,""]
[51,"2019-12-18","2019-12-18",null,null,0,0,0,null,null,null,0,""]
[51,"2019-12-19","2019-12-19",null,null,0,0,0,null,null,null,0,""]
[51,"2019-12-20","2019-12-20",null,null,0,0,0,null,null,null,0,""]
[51,"2019-12-21","2019-12-21",null,null,0,null,0,null,null,"za",0,"","Week",null,"OV WEEK","OV DAG","Recup -","Recup +","OV 50%"]
[51,"2019-12-22","2019-12-22",null,null,0,null,0,null,null,"zo",0,"",{"$f":"SUM(L359:L365)","v":0},{"$f":"SUM(H359:H365)","v":0},{"$f":"IF(N365>40,N365-40,0)","v":0},{"$f":"SUM(M359:M365)","v":0},{"$f":"SUM(I359:I365)","v":0},{"$f":"IF(N365>40,N365-40,0)","v":0},{"$f":"IF(P365>Q365,P365,Q365)","v":0}]
[52,"2019-12-23","2019-12-23",null,null,0,0,0,null,null,null,0,""]
[52,"2019-12-24","2019-12-24",null,null,0,0,0,null,null,null,0,""]
[52,"2019-12-25","2019-12-25",null,null,0,0,0,null,7.6,"fd",7.6,""]
[52,"2019-12-26","2019-12-26",null,null,0,0,0,null,null,null,0,""]
[52,"2019-12-27","2019-12-27",null,null,0,0,0,null,null,null,0,""]
[52,"2019-12-28","2019-12-28",null,null,0,null,0,null,null,"za",0,"","Week",null,"OV WEEK","OV DAG","Recup -","Recup +","OV 50%"]
[52,"2019-12-29","2019-12-29",null,null,0,null,0,null,null,"zo",0,"",{"$f":"SUM(L366:L372)","v":7.6},{"$f":"SUM(H366:H372)","v":0},{"$f":"IF(N372>40,N372-40,0)","v":0},{"$f":"SUM(M366:M372)","v":0},{"$f":"SUM(I366:I372)","v":0},{"$f":"IF(N372>40,N372-40,0)","v":0},{"$f":"IF(P372>Q372,P372,Q372)","v":0}]
[1,"2019-12-30","2019-12-30",null,null,0,0,0,null,null,null,0,""]
[1,"2019-12-31","2019-12-31",null,null,0,0,0,null,null,null,0,""]
[1,"2020-01-01","2020-01-01",null,null,0,0,0,null,7.6,"fd",7.6,""]
[1,"2020-01-02","2020-01-02",null,null,0,0,0,null,null,null,0,""]
[1,"2020-01-03","2020-01-03",null,null,0,0,0,null,null,null,0,""]
[1,"2020-01-04","2020-01-04",null,null,0,null,0,null,null,"za",0,"","Week",null,"OV WEEK","OV DAG","Recup -","Recup +","OV 50%"]
[1,"2020-01-05","2020-01-05",null,null,0,null,0,null,null,"zo",0,"",{"$f":"SUM(L373:L379)","v":7.6},{"$f":"SUM(H373:H379)","v":0},{"$f":"IF(N379>40,N379-40,0)","v":0},{"$f":"SUM(M373:M379)","v":0},{"$f":"SUM(I373:I379)","v":0},{"$f":"IF(N379>40,N379-40,0)","v":0},{"$f":"IF(P379>Q379,P379,Q379)","v":0}]

{"sheet":"100","index":21,"n_rows":379,"n_cols":35,"rows_kept":379,"cut":false,"hidden":false,"merged":[[6,21,6,24],[6,25,6,28],[6,29,6,32],[6,33,6,34],[0,1,1,12],[4,21,4,23],[4,25,4,28],[4,29,4,32],[4,33,4,34],[5,21,5,23],[5,25,5,28],[5,29,5,32],[5,33,5,34],[2,21,2,23],[2,25,2,28],[2,29,2,32],[2,33,2,34],[3,21,3,23],[3,25,3,28],[3,29,3,32],[3,33,3,34],[0,21,0,24],[0,25,0,28],[0,29,0,32],[0,33,0,34],[1,21,1,23],[1,25,1,28],[1,29,1,32],[1,33,1,34]]}
["100","Fazlijevic Sebastijan",null,null,null,null,null,null,null,null,null,null,null,null,null,null,null,null,null,null,null,"Soort",null,null,null,"Recht op",null,null,null,"Opgenomen",null,null,null,"Saldo"]
[null,null,null,null,null,null,null,null,null,null,null,null,null,null,null,null,null,null,null,null,null,"ADV-dagen",null,null,"adv",null,null,null,null,{"$f":"(COUNTIF(W$9:AH$39,\"ADV\")+(COUNTIF(W$9:AH$39,\"0,5ADV\"))/2)","v":0},null,null,null,{"$f":"Z2-AD2","v":0}]
[null,null,null,null,null,null,null,null,null,null,null,null,null,null,null,null,null,null,null,null,null,"Vakantie 2019",null,null,"v",null,null,null,null,{"$f":"(COUNTIF(W$9:AH$39,\"V\")+(COUNTIF(W$9:AH$39,\"0,5V\"))/2)","v":0},null,null,null,{"$f":"Z3-AD3","v":0}]
[null,null,"40-uren week",null,null,null,null,null,null,null,null,null,null,"Feestdag in weekend 2019",null,null,null,null,"Recup 2018",null,null,"Feestdag 2019",null,null,"f",1,null,null,null,{"$f":"(COUNTIF(W$9:AH$39,\"F\")+(COUNTIF(W$9:AH$39,\"0,5F\"))/2)","v":0},null,null,null,1]
[null,null,null,null,null,null,null,null,null,null,null,null,null,"- nationale feestdag 21/7",null,null,null,null,null,null,null,"Vakantie rest 2018",null,null,"vvj",null,null,null,null,{"$f":"(COUNTIF(W$9:AH$39,\"vvj\")+(COUNTIF(W$9:AH$39,\"0,5vvj\"))/2)","v":0},null,null,null,0]
[null,null,null,null,null,null,null,null,null,null,null,null,null,null,null,null,null,null,"Recup",{"$f":"SUM(S9:S379)-SUM(R9:R379)+T5+T4","v":0},null,"Anciënniteitsdagen",null,null,"a ",null,null,null,null,{"$f":"(COUNTIF(W$9:AH$39,\"A\")+(COUNTIF(W$9:AH$39,\"0,5A\"))/2)","v":0},null,null,null,0]
[null,null,null,null,null,null,null,null,null,null,null,null,null,null,null,null,null,null,null,null,null,"TOTAAL",null,null,null,{"$f":"SUM(Z2:AC6)","v":1},null,null,null,{"$f":"SUM(AD2:AG6)","v":0},null,null,null,{"$f":"SUM(AH2:AI6)","v":1}]
["W","Dag","Datum","Van ","Tot",null,"Pauze","Prestaties","Recup","Andere","Type","Dag","OV DAG","Week","Prestaties","OV WEEK","OV DAG","Rec. -","Rec. +","OV 50%","M",null,"Jan","Feb","Maa","Apr","Mei","Jun","Jul","Aug","Sept","Okt","Nov","Dec"]
[{"$f":"WEEKNUM(C9,21)","v":1},{"$f":"C9","v":"2018-12-31"},"2018-12-31",null,null,{"$f":"(E9-D9)*24","v":0},{"$f":"IF(F9>=6,0.5,0)","v":0},{"$f":"F9-G9","v":0},null,8,"VH",{"$f":"SUM(H9:J9)","v":8},{"$f":"IF(L9>9,L9-9,\"\")","v":""},"VH voor 2018 reeds verwerkt, OK!",null,null,null,null,null,null,0,1,{"$f":"K9","v":"VH"},{"$f":"K40","v":0},{"$f":"K68","v":0},{"$f":"K99","v":"zo"},{"$f":"K129","v":0},{"$f":"K160","v":0},{"$f":"K190","v":"zo"},{"$f":"K221","v":0},{"$f":"K252","v":"za"},{"$f":"K282","v":0},{"$f":"K313","v":0},{"$f":"K343","v":"za"},1]
[{"$f":"WEEKNUM(C10,21)","v":1},{"$f":"C10","v":"2019-01-01"},"2019-01-01",null,null,{"$f":"(E10-D10)*24","v":0},{"$f":"IF(F10>=6,0.5,0)","v":0},{"$f":"F10-G10","v":0},null,8,"fd",{"$f":"SUM(H10:J10)","v":8},"",null,null,null,null,null,null,null,0,2,{"$f":"K10","v":"fd"},{"$f":"K41","v":0},{"$f":"K69","v":0},{"$f":"K100","v":0},{"$f":"K130","v":"fd"},{"$f":"K161","v":"za"},{"$f":"K191","v":0},{"$f":"K222","v":0},{"$f":"K253","v":"zo"},{"$f":"K283","v":0},{"$f":"K314","v":"fd"},{"$f":"K344","v":"zo"},2]
[1,"2019-01-02","2019-01-02",null,null,0,0,0,null,null,null,0,"",null,null,null,null,null,null,null,null,3,0,"za","za",0,0,"zo",0,0,0,0,"za",0,3]
[1,"2019-01-03","2019-01-03",null,null,0,0,0,null,null,null,0,"",null,null,null,null,null,null,null,null,4,0,"zo","zo",0,0,0,0,"za",0,0,"zo",0,4]
[1,"2019-01-04","2019-01-04",null,null,0,0,0,null,null,null,0,"",null,null,null,null,null,null,null,null,5,0,0,0,0,"za",0,0,"zo",0,0,0,{"$f":"K347","v":0},5]
[1,"2019-01-05","2019-01-05",null,null,0,null,0,null,null,"za",0,"","Week",null,"OV WEEK","OV DAG","Recup -","Recup +","OV 50%",null,6,"za",0,0,0,"zo",0,0,0,0,"za",0,0,6]
[1,"2019-01-06","2019-01-06",null,null,0,null,0,null,null,"zo",0,"",{"$f":"SUM(L9:L15)","v":16},{"$f":"SUM(H9:H15)","v":0},{"$f":"IF(N15>40,N15-40,0)","v":0},{"$f":"SUM(M9:M15)","v":0},{"$f":"SUM(I9:I15)","v":0},{"$f":"IF(N15>40,N15-40,0)","v":0},{"$f":"IF(P15>Q15,P15,Q15)","v":0},null,7,"zo",0,0,"za",0,0,"za",0,0,"zo",0,0,7]
[2,"2019-01-07","2019-01-07",null,null,0,0,0,null,null,null,0,"",null,null,null,null,null,null,null,null,8,0,0,0,"zo",0,0,"zo",0,"za",0,0,"za",8]
[2,"2019-01-08","2019-01-08",null,null,0,0,0,null,null,null,0,"","08/01/2019: Mail Mathias G.",null,null,null,null,null,null,null,9,0,0,0,0,0,"za",0,0,"zo",0,0,"zo",9]
[2,"2019-01-09","2019-01-09",null,null,0,0,0,null,null,null,0,"","Gisteren tekende FAZLIJEVIC SEBASTIJAN met ",null,null,null,null,null,null,null,10,0,"za","za",0,0,"zo",0,0,0,0,"za",0,10]
[2,"2019-01-10","2019-01-10",null,null,0,0,0,null,null,null,0,"","onderling akkoord de beëindiging van zijn arbeidsovereenkomst bij Facilicom.",null,null,null,null,null,null,null,11,0,"zo","zo",0,0,"fd",0,"za",0,0,"zo",0,11]
[2,"2019-01-11","2019-01-11",null,null,0,0,0,null,null,null,0,"",null,null,null,null,null,null,null,null,12,0,0,0,0,"za",0,0,"zo",0,0,"fd",0,12]
[2,"2019-01-12","2019-01-12",null,null,0,null,0,null,null,"za",0,"","Week",null,"OV WEEK","OV DAG","Recup -","Recup +","OV 50%",null,13,"za",0,0,0,"zo",0,0,0,0,"za",0,0,13]
[2,"2019-01-13","2019-01-13",null,null,0,null,0,null,null,"zo",0,"",{"$f":"SUM(L16:L22)","v":0},{"$f":"SUM(H16:H22)","v":0},{"$f":"IF(N22>40,N22-40,0)","v":0},{"$f":"SUM(M16:M22)","v":0},{"$f":"SUM(I16:I22)","v":0},{"$f":"IF(N22>40,N22-40,0)","v":0},{"$f":"IF(P22>Q22,P22,Q22)","v":0},null,14,"zo",0,0,"za",0,0,"za",0,0,"zo",0,0,14]
[3,"2019-01-14","2019-01-14",null,null,0,0,0,null,null,null,0,"",null,null,null,null,null,null,null,null,15,0,0,0,"zo",0,0,"zo",0,"za",0,0,"za",15]
[3,"2019-01-15","2019-01-15",null,null,0,0,0,null,null,null,0,"",null,null,null,null,null,null,null,null,16,0,0,0,0,0,"za",0,"fd","zo",0,0,"zo",16]
[3,"2019-01-16","2019-01-16",null,null,0,0,0,null,null,null,0,"",null,null,null,null,null,null,null,null,17,0,"za","za",0,0,"zo",0,0,0,0,"za",0,17]
[3,"2019-01-17","2019-01-17",null,null,0,0,0,null,null,null,0,"",null,null,null,null,null,null,null,null,18,0,"zo","zo",0,0,0,0,"za",0,0,"zo",0,18]
[3,"2019-01-18","2019-01-18",null,null,0,0,0,null,null,null,0,"",null,null,null,null,null,null,null,null,19,0,0,0,0,"za",0,0,"zo",0,0,0,0,19]
[3,"2019-01-19","2019-01-19",null,null,0,null,0,null,null,"za",0,"","Week",null,"OV WEEK","OV DAG","Recup -","Recup +","OV 50%",null,20,"za",0,0,0,"zo",0,0,0,0,"za",0,{"$f":"K362","v":0},20]
[3,"2019-01-20","2019-01-20",null,null,0,null,0,null,null,"zo",0,"",{"$f":"SUM(L23:L29)","v":0},{"$f":"SUM(H23:H29)","v":0},{"$f":"IF(N29>40,N29-40,0)","v":0},{"$f":"SUM(M23:M29)","v":0},{"$f":"SUM(I23:I29)","v":0},{"$f":"IF(N29>40,N29-40,0)","v":0},{"$f":"IF(P29>Q29,P29,Q29)","v":0},null,21,"zo",0,0,"za","fd",0,"za",0,0,"zo",0,0,21]
[4,"2019-01-21","2019-01-21",null,null,0,0,0,null,null,null,0,"",null,null,null,null,null,null,null,null,22,0,0,0,"zo",0,0,"zo",0,"za",0,0,"za",22]
[4,"2019-01-22","2019-01-22",null,null,0,0,0,null,null,null,0,"",null,null,null,null,null,null,null,null,23,0,0,0,"fd",0,"za",0,0,"zo",0,0,"zo",23]
[4,"2019-01-23","2019-01-23",null,null,0,0,0,null,null,null,0,"",null,null,null,null,null,null,null,null,24,0,"za","za",0,0,"zo",0,0,0,0,"za",0,24]
[4,"2019-01-24","2019-01-24",null,null,0,0,0,null,null,null,0,"",null,null,null,null,null,null,null,null,25,0,"zo","zo",0,0,0,0,"za",0,0,"zo",0,25]
[4,"2019-01-25","2019-01-25",null,null,0,0,0,null,null,null,0,"",null,null,null,null,null,null,null,null,26,0,0,0,0,"za",0,0,"zo",0,0,0,"fd",26]
[4,"2019-01-26","2019-01-26",null,null,0,null,0,null,null,"za",0,"","Week",null,"OV WEEK","OV DAG","Recup -","Recup +","OV 50%",null,27,"za",0,0,0,"zo",0,0,0,0,"za",0,0,27]
[4,"2019-01-27","2019-01-27",null,null,0,null,0,null,null,"zo",0,"",{"$f":"SUM(L30:L36)","v":0},{"$f":"SUM(H30:H36)","v":0},{"$f":"IF(N36>40,N36-40,0)","v":0},{"$f":"SUM(M30:M36)","v":0},{"$f":"SUM(I30:I36)","v":0},{"$f":"IF(N36>40,N36-40,0)","v":0},{"$f":"IF(P36>Q36,P36,Q36)","v":0},null,28,"zo",0,0,"za",0,0,"za",0,0,"zo",0,0,28]
[5,"2019-01-28","2019-01-28",null,null,0,0,0,null,null,null,0,"",null,null,null,null,null,null,null,null,29,0,null,0,"zo",0,0,"zo",0,"za",0,0,"za",29]
[5,"2019-01-29","2019-01-29",null,null,0,0,0,null,null,null,0,"",null,null,null,null,null,null,null,null,30,0,null,0,0,0,"za",0,0,"zo",0,0,"zo",30]
[5,"2019-01-30","2019-01-30",null,null,0,0,0,null,null,null,0,"",null,null,null,null,null,null,null,null,31,0,null,"za",null,"fd",null,0,0,null,0,null,0,31]
[5,"2019-01-31","2019-01-31",null,null,0,0,0,null,null,null,0,"",null,null,null,null,null,null,null,null,"WD",23,20,21,22,23,20,23,22,21,23,21,22,{"$f":"SUM(W40:AH40)","v":261}]
[5,"2019-02-01","2019-02-01",null,null,0,0,0,null,null,null,0,""]
[5,"2019-02-02","2019-02-02",null,null,0,null,0,null,null,"za",0,"","Week",null,"OV WEEK","OV DAG","Recup -","Recup +","OV 50%"]
[5,"2019-02-03","2019-02-03",null,null,0,null,0,null,null,"zo",0,"",{"$f":"SUM(L37:L43)","v":0},{"$f":"SUM(H37:H43)","v":0},{"$f":"IF(N43>40,N43-40,0)","v":0},{"$f":"SUM(M37:M43)","v":0},{"$f":"SUM(I37:I43)","v":0},{"$f":"IF(N43>40,N43-40,0)","v":0},{"$f":"IF(P43>Q43,P43,Q43)","v":0}]
[6,"2019-02-04","2019-02-04",null,null,0,0,0,null,null,null,0,""]
[6,"2019-02-05","2019-02-05",null,null,0,0,0,null,null,null,0,""]
[6,"2019-02-06","2019-02-06",null,null,0,0,0,null,null,null,0,""]
[6,"2019-02-07","2019-02-07",null,null,0,0,0,null,null,null,0,""]
[6,"2019-02-08","2019-02-08",null,null,0,0,0,null,null,null,0,""]
[6,"2019-02-09","2019-02-09",null,null,0,null,0,null,null,"za",0,"","Week",null,"OV WEEK","OV DAG","Recup -","Recup +","OV 50%"]
[6,"2019-02-10","2019-02-10",null,null,0,null,0,null,null,"zo",0,"",{"$f":"SUM(L44:L50)","v":0},{"$f":"SUM(H44:H50)","v":0},{"$f":"IF(N50>40,N50-40,0)","v":0},{"$f":"SUM(M44:M50)","v":0},{"$f":"SUM(I44:I50)","v":0},{"$f":"IF(N50>40,N50-40,0)","v":0},{"$f":"IF(P50>Q50,P50,Q50)","v":0}]
[7,"2019-02-11","2019-02-11",null,null,0,0,0,null,null,null,0,""]
[7,"2019-02-12","2019-02-12",null,null,0,0,0,null,null,null,0,""]
[7,"2019-02-13","2019-02-13",null,null,0,0,0,null,null,null,0,""]
[7,"2019-02-14","2019-02-14",null,null,0,0,0,null,null,null,0,""]
[7,"2019-02-15","2019-02-15",null,null,0,0,0,null,null,null,0,""]
[7,"2019-02-16","2019-02-16",null,null,0,null,0,null,null,"za",0,"","Week",null,"OV WEEK","OV DAG","Recup -","Recup +","OV 50%"]
[7,"2019-02-17","2019-02-17",null,null,0,null,0,null,null,"zo",0,"",{"$f":"SUM(L51:L57)","v":0},{"$f":"SUM(H51:H57)","v":0},{"$f":"IF(N57>40,N57-40,0)","v":0},{"$f":"SUM(M51:M57)","v":0},{"$f":"SUM(I51:I57)","v":0},{"$f":"IF(N57>40,N57-40,0)","v":0},{"$f":"IF(P57>Q57,P57,Q57)","v":0}]
[8,"2019-02-18","2019-02-18",null,null,0,0,0,null,null,null,0,""]
[8,"2019-02-19","2019-02-19",null,null,0,0,0,null,null,null,0,""]
[8,"2019-02-20","2019-02-20",null,null,0,0,0,null,null,null,0,""]
[8,"2019-02-21","2019-02-21",null,null,0,0,0,null,null,null,0,""]
[8,"2019-02-22","2019-02-22",null,null,0,0,0,null,null,null,0,""]
[8,"2019-02-23","2019-02-23",null,null,0,null,0,null,null,"za",0,"","Week",null,"OV WEEK","OV DAG","Recup -","Recup +","OV 50%"]
[8,"2019-02-24","2019-02-24",null,null,0,null,0,null,null,"zo",0,"",{"$f":"SUM(L58:L64)","v":0},{"$f":"SUM(H58:H64)","v":0},{"$f":"IF(N64>40,N64-40,0)","v":0},{"$f":"SUM(M58:M64)","v":0},{"$f":"SUM(I58:I64)","v":0},{"$f":"IF(N64>40,N64-40,0)","v":0},{"$f":"IF(P64>Q64,P64,Q64)","v":0}]
[9,"2019-02-25","2019-02-25",null,null,0,0,0,null,null,null,0,""]
[9,"2019-02-26","2019-02-26",null,null,0,0,0,null,null,null,0,""]
[9,"2019-02-27","2019-02-27",null,null,0,0,0,null,null,null,0,""]
[9,"2019-02-28","2019-02-28",null,null,0,0,0,null,null,null,0,""]
[9,"2019-03-01","2019-03-01",null,null,0,0,0,null,null,null,0,""]
[9,"2019-03-02","2019-03-02",null,null,0,null,0,null,null,"za",0,"","Week",null,"OV WEEK","OV DAG","Recup -","Recup +","OV 50%"]
[9,"2019-03-03","2019-03-03",null,null,0,null,0,null,null,"zo",0,"",{"$f":"SUM(L65:L71)","v":0},{"$f":"SUM(H65:H71)","v":0},{"$f":"IF(N71>40,N71-40,0)","v":0},{"$f":"SUM(M65:M71)","v":0},{"$f":"SUM(I65:I71)","v":0},{"$f":"IF(N71>40,N71-40,0)","v":0},{"$f":"IF(P71>Q71,P71,Q71)","v":0}]
[10,"2019-03-04","2019-03-04",null,null,0,0,0,null,null,null,0,""]
[10,"2019-03-05","2019-03-05",null,null,0,0,0,null,null,null,0,{"$f":"IF(L73>9,L73-9,\"\")","v":""}]
[{"$f":"WEEKNUM(C74,21)","v":10},{"$f":"C74","v":"2019-03-06"},"2019-03-06",null,null,{"$f":"(E74-D74)*24","v":0},{"$f":"IF(F74>=6,0.5,0)","v":0},{"$f":"F74-G74","v":0},null,null,null,{"$f":"SUM(H74:J74)","v":0},""]
[10,"2019-03-07","2019-03-07",null,null,0,0,0,null,null,null,0,""]
[10,"2019-03-08","2019-03-08",null,null,0,0,0,null,null,null,0,""]
[10,"2019-03-09","2019-03-09",null,null,0,null,0,null,null,"za",0,"","Week",null,"OV WEEK","OV DAG","Recup -","Recup +","OV 50%"]
[10,"2019-03-10","2019-03-10",null,null,0,null,0,null,null,"zo",0,"",{"$f":"SUM(L72:L78)","v":0},{"$f":"SUM(H72:H78)","v":0},{"$f":"IF(N78>40,N78-40,0)","v":0},{"$f":"SUM(M72:M78)","v":0},{"$f":"SUM(I72:I78)","v":0},{"$f":"IF(N78>40,N78-40,0)","v":0},{"$f":"IF(P78>Q78,P78,Q78)","v":0}]
[11,"2019-03-11","2019-03-11",null,null,0,0,0,null,null,null,0,""]
[11,"2019-03-12","2019-03-12",null,null,0,0,0,null,null,null,0,""]
[11,"2019-03-13","2019-03-13",null,null,0,0,0,null,null,null,0,""]
[11,"2019-03-14","2019-03-14",null,null,0,0,0,null,null,null,0,""]
[11,"2019-03-15","2019-03-15",null,null,0,0,0,null,null,null,0,""]
[11,"2019-03-16","2019-03-16",null,null,0,null,0,null,null,"za",0,"","Week",null,"OV WEEK","OV DAG","Recup -","Recup +","OV 50%"]
[11,"2019-03-17","2019-03-17",null,null,0,null,0,null,null,"zo",0,"",{"$f":"SUM(L79:L85)","v":0},{"$f":"SUM(H79:H85)","v":0},{"$f":"IF(N85>40,N85-40,0)","v":0},{"$f":"SUM(M79:M85)","v":0},{"$f":"SUM(I79:I85)","v":0},{"$f":"IF(N85>40,N85-40,0)","v":0},{"$f":"IF(P85>Q85,P85,Q85)","v":0}]
[12,"2019-03-18","2019-03-18",null,null,0,0,0,null,null,null,0,""]
[12,"2019-03-19","2019-03-19",null,null,0,0,0,null,null,null,0,""]
[12,"2019-03-20","2019-03-20",null,null,0,0,0,null,null,null,0,""]
[12,"2019-03-21","2019-03-21",null,null,0,0,0,null,null,null,0,""]
[12,"2019-03-22","2019-03-22",null,null,0,0,0,null,null,null,0,""]
[12,"2019-03-23","2019-03-23",null,null,0,null,0,null,null,"za",0,"","Week",null,"OV WEEK","OV DAG","Recup -","Recup +","OV 50%"]
[12,"2019-03-24","2019-03-24",null,null,0,null,0,null,null,"zo",0,"",{"$f":"SUM(L86:L92)","v":0},{"$f":"SUM(H86:H92)","v":0},{"$f":"IF(N92>40,N92-40,0)","v":0},{"$f":"SUM(M86:M92)","v":0},{"$f":"SUM(I86:I92)","v":0},{"$f":"IF(N92>40,N92-40,0)","v":0},{"$f":"IF(P92>Q92,P92,Q92)","v":0}]
[13,"2019-03-25","2019-03-25",null,null,0,0,0,null,null,null,0,""]
[13,"2019-03-26","2019-03-26",null,null,0,0,0,null,null,null,0,""]
[13,"2019-03-27","2019-03-27",null,null,0,0,0,null,null,null,0,""]
[13,"2019-03-28","2019-03-28",null,null,0,0,0,null,null,null,0,""]
[13,"2019-03-29","2019-03-29",null,null,0,0,0,null,null,null,0,""]
[13,"2019-03-30","2019-03-30",null,null,0,null,0,null,null,"za",0,"","Week",null,"OV WEEK","OV DAG","Recup -","Recup +","OV 50%"]
[13,"2019-03-31","2019-03-31",null,null,0,null,0,null,null,"zo",0,"",{"$f":"SUM(L93:L99)","v":0},{"$f":"SUM(H93:H99)","v":0},{"$f":"IF(N99>40,N99-40,0)","v":0},{"$f":"SUM(M93:M99)","v":0},{"$f":"SUM(I93:I99)","v":0},{"$f":"IF(N99>40,N99-40,0)","v":0},{"$f":"IF(P99>Q99,P99,Q99)","v":0}]
[14,"2019-04-01","2019-04-01",null,null,0,0,0,null,null,null,0,""]
[14,"2019-04-02","2019-04-02",null,null,0,0,0,null,null,null,0,""]
[14,"2019-04-03","2019-04-03",null,null,0,0,0,null,null,null,0,""]
[14,"2019-04-04","2019-04-04",null,null,0,0,0,null,null,null,0,""]
[14,"2019-04-05","2019-04-05",null,null,0,0,0,null,null,null,0,""]
[14,"2019-04-06","2019-04-06",null,null,0,null,0,null,null,"za",0,"","Week",null,"OV WEEK","OV DAG","Recup -","Recup +","OV 50%"]
[14,"2019-04-07","2019-04-07",null,null,0,null,0,null,null,"zo",0,"",{"$f":"SUM(L100:L106)","v":0},{"$f":"SUM(H100:H106)","v":0},{"$f":"IF(N106>40,N106-40,0)","v":0},{"$f":"SUM(M100:M106)","v":0},{"$f":"SUM(I100:I106)","v":0},{"$f":"IF(N106>40,N106-40,0)","v":0},{"$f":"IF(P106>Q106,P106,Q106)","v":0}]
[15,"2019-04-08","2019-04-08",null,null,0,0,0,null,null,null,0,""]
[15,"2019-04-09","2019-04-09",null,null,0,0,0,null,null,null,0,""]
[15,"2019-04-10","2019-04-10",null,null,0,0,0,null,null,null,0,""]
[15,"2019-04-11","2019-04-11",null,null,0,0,0,null,null,null,0,""]
[15,"2019-04-12","2019-04-12",null,null,0,0,0,null,null,null,0,""]
[15,"2019-04-13","2019-04-13",null,null,0,null,0,null,null,"za",0,"","Week",null,"OV WEEK","OV DAG","Recup -","Recup +","OV 50%"]
[15,"2019-04-14","2019-04-14",null,null,0,null,0,null,null,"zo",0,"",{"$f":"SUM(L107:L113)","v":0},{"$f":"SUM(H107:H113)","v":0},{"$f":"IF(N113>40,N113-40,0)","v":0},{"$f":"SUM(M107:M113)","v":0},{"$f":"SUM(I107:I113)","v":0},{"$f":"IF(N113>40,N113-40,0)","v":0},{"$f":"IF(P113>Q113,P113,Q113)","v":0}]
[16,"2019-04-15","2019-04-15",null,null,0,0,0,null,null,null,0,""]
[16,"2019-04-16","2019-04-16",null,null,0,0,0,null,null,null,0,""]
[16,"2019-04-17","2019-04-17",null,null,0,0,0,null,null,null,0,""]
[16,"2019-04-18","2019-04-18",null,null,0,0,0,null,null,null,0,""]
[16,"2019-04-19","2019-04-19",null,null,0,0,0,null,null,null,0,""]
[16,"2019-04-20","2019-04-20",null,null,0,null,0,null,null,"za",0,"","Week",null,"OV WEEK","OV DAG","Recup -","Recup +","OV 50%"]
[16,"2019-04-21","2019-04-21",null,null,0,null,0,null,null,"zo",0,"",{"$f":"SUM(L114:L120)","v":0},{"$f":"SUM(H114:H120)","v":0},{"$f":"IF(N120>40,N120-40,0)","v":0},{"$f":"SUM(M114:M120)","v":0},{"$f":"SUM(I114:I120)","v":0},{"$f":"IF(N120>40,N120-40,0)","v":0},{"$f":"IF(P120>Q120,P120,Q120)","v":0}]
[17,"2019-04-22","2019-04-22",null,null,0,0,0,null,7.6,"fd",7.6,""]
[17,"2019-04-23","2019-04-23",null,null,0,0,0,null,null,null,0,""]
[17,"2019-04-24","2019-04-24",null,null,0,0,0,null,null,null,0,""]
[17,"2019-04-25","2019-04-25",null,null,0,0,0,null,null,null,0,""]
[17,"2019-04-26","2019-04-26",null,null,0,0,0,null,null,null,0,""]
[17,"2019-04-27","2019-04-27",null,null,0,null,0,null,null,"za",0,"","Week",null,"OV WEEK","OV DAG","Recup -","Recup +","OV 50%"]
[17,"2019-04-28","2019-04-28",null,null,0,null,0,null,null,"zo",0,"",{"$f":"SUM(L121:L127)","v":7.6},{"$f":"SUM(H121:H127)","v":0},{"$f":"IF(N127>40,N127-40,0)","v":0},{"$f":"SUM(M121:M127)","v":0},{"$f":"SUM(I121:I127)","v":0},{"$f":"IF(N127>40,N127-40,0)","v":0},{"$f":"IF(P127>Q127,P127,Q127)","v":0}]
[18,"2019-04-29","2019-04-29",null,null,0,0,0,null,null,null,0,""]
[18,"2019-04-30","2019-04-30",null,null,0,0,0,null,null,null,0,""]
[18,"2019-05-01","2019-05-01",null,null,0,0,0,null,7.6,"fd",7.6,""]
[18,"2019-05-02","2019-05-02",null,null,0,0,0,null,null,null,0,""]
[18,"2019-05-03","2019-05-03",null,null,0,0,0,null,null,null,0,""]
[18,"2019-05-04","2019-05-04",null,null,0,null,0,null,null,"za",0,"","Week",null,"OV WEEK","OV DAG","Recup -","Recup +","OV 50%"]
[18,"2019-05-05","2019-05-05",null,null,0,null,0,null,null,"zo",0,"",{"$f":"SUM(L128:L134)","v":7.6},{"$f":"SUM(H128:H134)","v":0},{"$f":"IF(N134>40,N134-40,0)","v":0},{"$f":"SUM(M128:M134)","v":0},{"$f":"SUM(I128:I134)","v":0},{"$f":"IF(N134>40,N134-40,0)","v":0},{"$f":"IF(P134>Q134,P134,Q134)","v":0}]
[19,"2019-05-06","2019-05-06",null,null,0,0,0,null,null,null,0,""]
[19,"2019-05-07","2019-05-07",null,null,0,0,0,null,null,null,0,""]
[19,"2019-05-08","2019-05-08",null,null,0,0,0,null,null,null,0,{"$f":"IF(L137>9,L137-9,\"\")","v":""}]
[{"$f":"WEEKNUM(C138,21)","v":19},{"$f":"C138","v":"2019-05-09"},"2019-05-09",null,null,{"$f":"(E138-D138)*24","v":0},{"$f":"IF(F138>=6,0.5,0)","v":0},{"$f":"F138-G138","v":0},null,null,null,{"$f":"SUM(H138:J138)","v":0},""]
[19,"2019-05-10","2019-05-10",null,null,0,0,0,null,null,null,0,""]
[19,"2019-05-11","2019-05-11",null,null,0,null,0,null,null,"za",0,"","Week",null,"OV WEEK","OV DAG","Recup -","Recup +","OV 50%"]
[19,"2019-05-12","2019-05-12",null,null,0,null,0,null,null,"zo",0,"",{"$f":"SUM(L135:L141)","v":0},{"$f":"SUM(H135:H141)","v":0},{"$f":"IF(N141>40,N141-40,0)","v":0},{"$f":"SUM(M135:M141)","v":0},{"$f":"SUM(I135:I141)","v":0},{"$f":"IF(N141>40,N141-40,0)","v":0},{"$f":"IF(P141>Q141,P141,Q141)","v":0}]
[20,"2019-05-13","2019-05-13",null,null,0,0,0,null,null,null,0,""]
[20,"2019-05-14","2019-05-14",null,null,0,0,0,null,null,null,0,""]
[20,"2019-05-15","2019-05-15",null,null,0,0,0,null,null,null,0,""]
[20,"2019-05-16","2019-05-16",null,null,0,0,0,null,null,null,0,""]
[20,"2019-05-17","2019-05-17",null,null,0,0,0,null,null,null,0,""]
[20,"2019-05-18","2019-05-18",null,null,0,null,0,null,null,"za",0,"","Week",null,"OV WEEK","OV DAG","Recup -","Recup +","OV 50%"]
[20,"2019-05-19","2019-05-19",null,null,0,null,0,null,null,"zo",0,"",{"$f":"SUM(L142:L148)","v":0},{"$f":"SUM(H142:H148)","v":0},{"$f":"IF(N148>40,N148-40,0)","v":0},{"$f":"SUM(M142:M148)","v":0},{"$f":"SUM(I142:I148)","v":0},{"$f":"IF(N148>40,N148-40,0)","v":0},{"$f":"IF(P148>Q148,P148,Q148)","v":0}]
[21,"2019-05-20","2019-05-20",null,null,0,0,0,null,7.6,"fd",7.6,""]
[21,"2019-05-21","2019-05-21",null,null,0,0,0,null,null,null,0,""]
[21,"2019-05-22","2019-05-22",null,null,0,0,0,null,null,null,0,""]
[21,"2019-05-23","2019-05-23",null,null,0,0,0,null,null,null,0,""]
[21,"2019-05-24","2019-05-24",null,null,0,0,0,null,null,null,0,""]
[21,"2019-05-25","2019-05-25",null,null,0,null,0,null,null,"za",0,"","Week",null,"OV WEEK","OV DAG","Recup -","Recup +","OV 50%"]
[21,"2019-05-26","2019-05-26",null,null,0,null,0,null,null,"zo",0,"",{"$f":"SUM(L149:L155)","v":7.6},{"$f":"SUM(H149:H155)","v":0},{"$f":"IF(N155>40,N155-40,0)","v":0},{"$f":"SUM(M149:M155)","v":0},{"$f":"SUM(I149:I155)","v":0},{"$f":"IF(N155>40,N155-40,0)","v":0},{"$f":"IF(P155>Q155,P155,Q155)","v":0}]
[22,"2019-05-27","2019-05-27",null,null,0,0,0,null,null,null,0,""]
[22,"2019-05-28","2019-05-28",null,null,0,0,0,null,null,null,0,""]
[22,"2019-05-29","2019-05-29",null,null,0,0,0,null,null,null,0,""]
[22,"2019-05-30","2019-05-30",null,null,0,0,0,null,7.6,"fd",7.6,""]
[22,"2019-05-31","2019-05-31",null,null,0,0,0,null,null,null,0,""]
[22,"2019-06-01","2019-06-01",null,null,0,null,0,null,null,"za",0,"","Week",null,"OV WEEK","OV DAG","Recup -","Recup +","OV 50%"]
[22,"2019-06-02","2019-06-02",null,null,0,null,0,null,null,"zo",0,"",{"$f":"SUM(L156:L162)","v":7.6},{"$f":"SUM(H156:H162)","v":0},{"$f":"IF(N162>40,N162-40,0)","v":0},{"$f":"SUM(M156:M162)","v":0},{"$f":"SUM(I156:I162)","v":0},{"$f":"IF(N162>40,N162-40,0)","v":0},{"$f":"IF(P162>Q162,P162,Q162)","v":0}]
[23,"2019-06-03","2019-06-03",null,null,0,0,0,null,null,null,0,""]
[23,"2019-06-04","2019-06-04",null,null,0,0,0,null,null,null,0,""]
[23,"2019-06-05","2019-06-05",null,null,0,0,0,null,null,null,0,""]
[23,"2019-06-06","2019-06-06",null,null,0,0,0,null,null,null,0,""]
[23,"2019-06-07","2019-06-07",null,null,0,0,0,null,null,null,0,""]
[23,"2019-06-08","2019-06-08",null,null,0,null,0,null,null,"za",0,"","Week",null,"OV WEEK","OV DAG","Recup -","Recup +","OV 50%"]
[23,"2019-06-09","2019-06-09",null,null,0,null,0,null,null,"zo",0,"",{"$f":"SUM(L163:L169)","v":0},{"$f":"SUM(H163:H169)","v":0},{"$f":"IF(N169>40,N169-40,0)","v":0},{"$f":"SUM(M163:M169)","v":0},{"$f":"SUM(I163:I169)","v":0},{"$f":"IF(N169>40,N169-40,0)","v":0},{"$f":"IF(P169>Q169,P169,Q169)","v":0}]
[24,"2019-06-10","2019-06-10",null,null,0,0,0,null,7.6,"fd",7.6,""]
[24,"2019-06-11","2019-06-11",null,null,0,0,0,null,null,null,0,""]
[24,"2019-06-12","2019-06-12",null,null,0,0,0,null,null,null,0,""]
[24,"2019-06-13","2019-06-13",null,null,0,0,0,null,null,null,0,""]
[24,"2019-06-14","2019-06-14",null,null,0,0,0,null,null,null,0,""]
[24,"2019-06-15","2019-06-15",null,null,0,null,0,null,null,"za",0,"","Week",null,"OV WEEK","OV DAG","Recup -","Recup +","OV 50%"]
[24,"2019-06-16","2019-06-16",null,null,0,null,0,null,null,"zo",0,"",{"$f":"SUM(L170:L176)","v":7.6},{"$f":"SUM(H170:H176)","v":0},{"$f":"IF(N176>40,N176-40,0)","v":0},{"$f":"SUM(M170:M176)","v":0},{"$f":"SUM(I170:I176)","v":0},{"$f":"IF(N176>40,N176-40,0)","v":0},{"$f":"IF(P176>Q176,P176,Q176)","v":0}]
[25,"2019-06-17","2019-06-17",null,null,0,0,0,null,null,null,0,""]
[25,"2019-06-18","2019-06-18",null,null,0,0,0,null,null,null,0,""]
[25,"2019-06-19","2019-06-19",null,null,0,0,0,null,null,null,0,""]
[25,"2019-06-20","2019-06-20",null,null,0,0,0,null,null,null,0,""]
[25,"2019-06-21","2019-06-21",null,null,0,0,0,null,null,null,0,""]
[25,"2019-06-22","2019-06-22",null,null,0,null,0,null,null,"za",0,"","Week",null,"OV WEEK","OV DAG","Recup -","Recup +","OV 50%"]
[25,"2019-06-23","2019-06-23",null,null,0,null,0,null,null,"zo",0,"",{"$f":"SUM(L177:L183)","v":0},{"$f":"SUM(H177:H183)","v":0},{"$f":"IF(N183>40,N183-40,0)","v":0},{"$f":"SUM(M177:M183)","v":0},{"$f":"SUM(I177:I183)","v":0},{"$f":"IF(N183>40,N183-40,0)","v":0},{"$f":"IF(P183>Q183,P183,Q183)","v":0}]
[26,"2019-06-24","2019-06-24",null,null,0,0,0,null,null,null,0,""]
[26,"2019-06-25","2019-06-25",null,null,0,0,0,null,null,null,0,""]
[26,"2019-06-26","2019-06-26",null,null,0,0,0,null,null,null,0,""]
[26,"2019-06-27","2019-06-27",null,null,0,0,0,null,null,null,0,""]
[26,"2019-06-28","2019-06-28",null,null,0,0,0,null,null,null,0,""]
[26,"2019-06-29","2019-06-29",null,null,0,null,0,null,null,"za",0,"","Week",null,"OV WEEK","OV DAG","Recup -","Recup +","OV 50%"]
[26,"2019-06-30","2019-06-30",null,null,0,null,0,null,null,"zo",0,"",{"$f":"SUM(L184:L190)","v":0},{"$f":"SUM(H184:H190)","v":0},{"$f":"IF(N190>40,N190-40,0)","v":0},{"$f":"SUM(M184:M190)","v":0},{"$f":"SUM(I184:I190)","v":0},{"$f":"IF(N190>40,N190-40,0)","v":0},{"$f":"IF(P190>Q190,P190,Q190)","v":0}]
[27,"2019-07-01","2019-07-01",null,null,0,0,0,null,null,null,0,""]
[27,"2019-07-02","2019-07-02",null,null,0,0,0,null,null,null,0,""]
[27,"2019-07-03","2019-07-03",null,null,0,0,0,null,null,null,0,""]
[27,"2019-07-04","2019-07-04",null,null,0,0,0,null,null,null,0,""]
[27,"2019-07-05","2019-07-05",null,null,0,0,0,null,null,null,0,""]
[27,"2019-07-06","2019-07-06",null,null,0,null,0,null,null,"za",0,"","Week",null,"OV WEEK","OV DAG","Recup -","Recup +","OV 50%"]
[27,"2019-07-07","2019-07-07",null,null,0,null,0,null,null,"zo",0,"",{"$f":"SUM(L191:L197)","v":0},{"$f":"SUM(H191:H197)","v":0},{"$f":"IF(N197>40,N197-40,0)","v":0},{"$f":"SUM(M191:M197)","v":0},{"$f":"SUM(I191:I197)","v":0},{"$f":"IF(N197>40,N197-40,0)","v":0},{"$f":"IF(P197>Q197,P197,Q197)","v":0}]
[28,"2019-07-08","2019-07-08",null,null,0,0,0,null,null,null,0,""]
[28,"2019-07-09","2019-07-09",null,null,0,0,0,null,null,null,0,""]
[28,"2019-07-10","2019-07-10",null,null,0,0,0,null,null,null,0,""]
[28,"2019-07-11","2019-07-11",null,null,0,0,0,null,null,null,0,{"$f":"IF(L201>9,L201-9,\"\")","v":""}]
[{"$f":"WEEKNUM(C202,21)","v":28},{"$f":"C202","v":"2019-07-12"},"2019-07-12",null,null,{"$f":"(E202-D202)*24","v":0},{"$f":"IF(F202>=6,0.5,0)","v":0},{"$f":"F202-G202","v":0},null,null,null,{"$f":"SUM(H202:J202)","v":0},""]
[28,"2019-07-13","2019-07-13",null,null,0,null,0,null,null,"za",0,"","Week",null,"OV WEEK","OV DAG","Recup -","Recup +","OV 50%"]
[28,"2019-07-14","2019-07-14",null,null,0,null,0,null,null,"zo",0,"",{"$f":"SUM(L198:L204)","v":0},{"$f":"SUM(H198:H204)","v":0},{"$f":"IF(N204>40,N204-40,0)","v":0},{"$f":"SUM(M198:M204)","v":0},{"$f":"SUM(I198:I204)","v":0},{"$f":"IF(N204>40,N204-40,0)","v":0},{"$f":"IF(P204>Q204,P204,Q204)","v":0}]
[29,"2019-07-15","2019-07-15",null,null,0,0,0,null,null,null,0,""]
[29,"2019-07-16","2019-07-16",null,null,0,0,0,null,null,null,0,""]
[29,"2019-07-17","2019-07-17",null,null,0,0,0,null,null,null,0,""]
[29,"2019-07-18","2019-07-18",null,null,0,0,0,null,null,null,0,""]
[29,"2019-07-19","2019-07-19",null,null,0,0,0,null,null,null,0,""]
[29,"2019-07-20","2019-07-20",null,null,0,null,0,null,null,"za",0,"","Week",null,"OV WEEK","OV DAG","Recup -","Recup +","OV 50%"]
[29,"2019-07-21","2019-07-21",null,null,0,null,0,null,null,"zo",0,"",{"$f":"SUM(L205:L211)","v":0},{"$f":"SUM(H205:H211)","v":0},{"$f":"IF(N211>40,N211-40,0)","v":0},{"$f":"SUM(M205:M211)","v":0},{"$f":"SUM(I205:I211)","v":0},{"$f":"IF(N211>40,N211-40,0)","v":0},{"$f":"IF(P211>Q211,P211,Q211)","v":0}]
[30,"2019-07-22","2019-07-22",null,null,0,0,0,null,null,null,0,""]
[30,"2019-07-23","2019-07-23",null,null,0,0,0,null,null,null,0,""]
[30,"2019-07-24","2019-07-24",null,null,0,0,0,null,null,null,0,""]
[30,"2019-07-25","2019-07-25",null,null,0,0,0,null,null,null,0,""]
[30,"2019-07-26","2019-07-26",null,null,0,0,0,null,null,null,0,""]
[30,"2019-07-27","2019-07-27",null,null,0,null,0,null,null,"za",0,"","Week",null,"OV WEEK","OV DAG","Recup -","Recup +","OV 50%"]
[30,"2019-07-28","2019-07-28",null,null,0,null,0,null,null,"zo",0,"",{"$f":"SUM(L212:L218)","v":0},{"$f":"SUM(H212:H218)","v":0},{"$f":"IF(N218>40,N218-40,0)","v":0},{"$f":"SUM(M212:M218)","v":0},{"$f":"SUM(I212:I218)","v":0},{"$f":"IF(N218>40,N218-40,0)","v":0},{"$f":"IF(P218>Q218,P218,Q218)","v":0}]
[31,"2019-07-29","2019-07-29",null,null,0,0,0,null,null,null,0,""]
[31,"2019-07-30","2019-07-30",null,null,0,0,0,null,null,null,0,""]
[31,"2019-07-31","2019-07-31",null,null,0,0,0,null,null,null,0,""]
[31,"2019-08-01","2019-08-01",null,null,0,0,0,null,null,null,0,""]
[31,"2019-08-02","2019-08-02",null,null,0,0,0,null,null,null,0,""]
[31,"2019-08-03","2019-08-03",null,null,0,null,0,null,null,"za",0,"","Week",null,"OV WEEK","OV DAG","Recup -","Recup +","OV 50%"]
[31,"2019-08-04","2019-08-04",null,null,0,null,0,null,null,"zo",0,"",{"$f":"SUM(L219:L225)","v":0},{"$f":"SUM(H219:H225)","v":0},{"$f":"IF(N225>40,N225-40,0)","v":0},{"$f":"SUM(M219:M225)","v":0},{"$f":"SUM(I219:I225)","v":0},{"$f":"IF(N225>40,N225-40,0)","v":0},{"$f":"IF(P225>Q225,P225,Q225)","v":0}]
[32,"2019-08-05","2019-08-05",null,null,0,0,0,null,null,null,0,""]
[32,"2019-08-06","2019-08-06",null,null,0,0,0,null,null,null,0,""]
[32,"2019-08-07","2019-08-07",null,null,0,0,0,null,null,null,0,""]
[32,"2019-08-08","2019-08-08",null,null,0,0,0,null,null,null,0,""]
[32,"2019-08-09","2019-08-09",null,null,0,0,0,null,null,null,0,""]
[32,"2019-08-10","2019-08-10",null,null,0,null,0,null,null,"za",0,"","Week",null,"OV WEEK","OV DAG","Recup -","Recup +","OV 50%"]
[32,"2019-08-11","2019-08-11",null,null,0,null,0,null,null,"zo",0,"",{"$f":"SUM(L226:L232)","v":0},{"$f":"SUM(H226:H232)","v":0},{"$f":"IF(N232>40,N232-40,0)","v":0},{"$f":"SUM(M226:M232)","v":0},{"$f":"SUM(I226:I232)","v":0},{"$f":"IF(N232>40,N232-40,0)","v":0},{"$f":"IF(P232>Q232,P232,Q232)","v":0}]
[33,"2019-08-12","2019-08-12",null,null,0,0,0,null,null,null,0,""]
[33,"2019-08-13","2019-08-13",null,null,0,0,0,null,null,null,0,""]
[33,"2019-08-14","2019-08-14",null,null,0,0,0,null,null,null,0,""]
[33,"2019-08-15","2019-08-15",null,null,0,0,0,null,7.6,"fd",7.6,""]
[33,"2019-08-16","2019-08-16",null,null,0,0,0,null,null,null,0,""]
[33,"2019-08-17","2019-08-17",null,null,0,null,0,null,null,"za",0,"","Week",null,"OV WEEK","OV DAG","Recup -","Recup +","OV 50%"]
[33,"2019-08-18","2019-08-18",null,null,0,null,0,null,null,"zo",0,"",{"$f":"SUM(L233:L239)","v":7.6},{"$f":"SUM(H233:H239)","v":0},{"$f":"IF(N239>40,N239-40,0)","v":0},{"$f":"SUM(M233:M239)","v":0},{"$f":"SUM(I233:I239)","v":0},{"$f":"IF(N239>40,N239-40,0)","v":0},{"$f":"IF(P239>Q239,P239,Q239)","v":0}]
[34,"2019-08-19","2019-08-19",null,null,0,0,0,null,null,null,0,""]
[34,"2019-08-20","2019-08-20",null,null,0,{"$f":"IF(F241>=6,0.5,0)","v":0},0,null,null,null,0,""]
[34,"2019-08-21","2019-08-21",null,null,0,0,0,null,null,null,0,""]
[34,"2019-08-22","2019-08-22",null,null,0,0,0,null,null,null,0,""]
[34,"2019-08-23","2019-08-23",null,null,0,0,0,null,null,null,0,""]
[34,"2019-08-24","2019-08-24",null,null,0,null,0,null,null,"za",0,"","Week",null,"OV WEEK","OV DAG","Recup -","Recup +","OV 50%"]
[34,"2019-08-25","2019-08-25",null,null,0,null,0,null,null,"zo",0,"",{"$f":"SUM(L240:L246)","v":0},{"$f":"SUM(H240:H246)","v":0},{"$f":"IF(N246>40,N246-40,0)","v":0},{"$f":"SUM(M240:M246)","v":0},{"$f":"SUM(I240:I246)","v":0},{"$f":"IF(N246>40,N246-40,0)","v":0},{"$f":"IF(P246>Q246,P246,Q246)","v":0}]
[35,"2019-08-26","2019-08-26",null,null,0,0,0,null,null,null,0,""]
[35,"2019-08-27","2019-08-27",null,null,0,0,0,null,null,null,0,""]
[35,"2019-08-28","2019-08-28",null,null,0,0,0,null,null,null,0,""]
[35,"2019-08-29","2019-08-29",null,null,0,0,0,null,null,null,0,""]
[35,"2019-08-30","2019-08-30",null,null,0,0,0,null,null,null,0,""]
[35,"2019-08-31","2019-08-31",null,null,0,null,0,null,null,"za",0,"","Week",null,"OV WEEK","OV DAG","Recup -","Recup +","OV 50%"]
[35,"2019-09-01","2019-09-01",null,null,0,null,0,null,null,"zo",0,"",{"$f":"SUM(L247:L253)","v":0},{"$f":"SUM(H247:H253)","v":0},{"$f":"IF(N253>40,N253-40,0)","v":0},{"$f":"SUM(M247:M253)","v":0},{"$f":"SUM(I247:I253)","v":0},{"$f":"IF(N253>40,N253-40,0)","v":0},{"$f":"IF(P253>Q253,P253,Q253)","v":0}]
[36,"2019-09-02","2019-09-02",null,null,0,0,0,null,null,null,0,""]
[36,"2019-09-03","2019-09-03",null,null,0,0,0,null,null,null,0,""]
[36,"2019-09-04","2019-09-04",null,null,0,0,0,null,null,null,0,""]
[36,"2019-09-05","2019-09-05",null,null,0,0,0,null,null,null,0,""]
[36,"2019-09-06","2019-09-06",null,null,0,0,0,null,null,null,0,""]
[36,"2019-09-07","2019-09-07",null,null,0,null,0,null,null,"za",0,"","Week",null,"OV WEEK","OV DAG","Recup -","Recup +","OV 50%"]
[36,"2019-09-08","2019-09-08",null,null,0,null,0,null,null,"zo",0,"",{"$f":"SUM(L254:L260)","v":0},{"$f":"SUM(H254:H260)","v":0},{"$f":"IF(N260>40,N260-40,0)","v":0},{"$f":"SUM(M254:M260)","v":0},{"$f":"SUM(I254:I260)","v":0},{"$f":"IF(N260>40,N260-40,0)","v":0},{"$f":"IF(P260>Q260,P260,Q260)","v":0}]
[37,"2019-09-09","2019-09-09",null,null,0,0,0,null,null,null,0,""]
[37,"2019-09-10","2019-09-10",null,null,0,0,0,null,null,null,0,""]
[37,"2019-09-11","2019-09-11",null,null,0,0,0,null,null,null,0,""]
[37,"2019-09-12","2019-09-12",null,null,0,0,0,null,null,null,0,""]
[37,"2019-09-13","2019-09-13",null,null,0,0,0,null,null,null,0,{"$f":"IF(L265>9,L265-9,\"\")","v":""}]
[{"$f":"WEEKNUM(C266,21)","v":37},{"$f":"C266","v":"2019-09-14"},"2019-09-14",null,null,{"$f":"(E266-D266)*24","v":0},null,{"$f":"F266-G266","v":0},null,null,"za",{"$f":"SUM(H266:J266)","v":0},"","Week",null,"OV WEEK","OV DAG","Recup -","Recup +","OV 50%"]
[37,"2019-09-15","2019-09-15",null,null,0,null,0,null,null,"zo",0,"",{"$f":"SUM(L261:L267)","v":0},{"$f":"SUM(H261:H267)","v":0},{"$f":"IF(N267>40,N267-40,0)","v":0},{"$f":"SUM(M261:M267)","v":0},{"$f":"SUM(I261:I267)","v":0},{"$f":"IF(N267>40,N267-40,0)","v":0},{"$f":"IF(P267>Q267,P267,Q267)","v":0}]
[38,"2019-09-16","2019-09-16",null,null,0,{"$f":"IF(F268>=6,0.5,0)","v":0},0,null,null,null,0,""]
[38,"2019-09-17","2019-09-17",null,null,0,0,0,null,null,null,0,""]
[38,"2019-09-18","2019-09-18",null,null,0,0,0,null,null,null,0,""]
[38,"2019-09-19","2019-09-19",null,null,0,0,0,null,null,null,0,""]
[38,"2019-09-20","2019-09-20",null,null,0,0,0,null,null,null,0,""]
[38,"2019-09-21","2019-09-21",null,null,0,null,0,null,null,"za",0,"","Week",null,"OV WEEK","OV DAG","Recup -","Recup +","OV 50%"]
[38,"2019-09-22","2019-09-22",null,null,0,null,0,null,null,"zo",0,"",{"$f":"SUM(L268:L274)","v":0},{"$f":"SUM(H268:H274)","v":0},{"$f":"IF(N274>40,N274-40,0)","v":0},{"$f":"SUM(M268:M274)","v":0},{"$f":"SUM(I268:I274)","v":0},{"$f":"IF(N274>40,N274-40,0)","v":0},{"$f":"IF(P274>Q274,P274,Q274)","v":0}]
[39,"2019-09-23","2019-09-23",null,null,0,0,0,null,null,null,0,""]
[39,"2019-09-24","2019-09-24",null,null,0,0,0,null,null,null,0,""]
[39,"2019-09-25","2019-09-25",null,null,0,0,0,null,null,null,0,""]
[39,"2019-09-26","2019-09-26",null,null,0,0,0,null,null,null,0,""]
[39,"2019-09-27","2019-09-27",null,null,0,0,0,null,null,null,0,""]
[39,"2019-09-28","2019-09-28",null,null,0,null,0,null,null,"za",0,"","Week",null,"OV WEEK","OV DAG","Recup -","Recup +","OV 50%"]
[39,"2019-09-29","2019-09-29",null,null,0,null,0,null,null,"zo",0,"",{"$f":"SUM(L275:L281)","v":0},{"$f":"SUM(H275:H281)","v":0},{"$f":"IF(N281>40,N281-40,0)","v":0},{"$f":"SUM(M275:M281)","v":0},{"$f":"SUM(I275:I281)","v":0},{"$f":"IF(N281>40,N281-40,0)","v":0},{"$f":"IF(P281>Q281,P281,Q281)","v":0}]
[40,"2019-09-30","2019-09-30",null,null,0,0,0,null,null,null,0,""]
[40,"2019-10-01","2019-10-01",null,null,0,0,0,null,null,null,0,""]
[40,"2019-10-02","2019-10-02",null,null,0,0,0,null,null,null,0,""]
[40,"2019-10-03","2019-10-03",null,null,0,0,0,null,null,null,0,""]
[40,"2019-10-04","2019-10-04",null,null,0,0,0,null,null,null,0,""]
[40,"2019-10-05","2019-10-05",null,null,0,null,0,null,null,"za",0,"","Week",null,"OV WEEK","OV DAG","Recup -","Recup +","OV 50%"]
[40,"2019-10-06","2019-10-06",null,null,0,null,0,null,null,"zo",0,"",{"$f":"SUM(L282:L288)","v":0},{"$f":"SUM(H282:H288)","v":0},{"$f":"IF(N288>40,N288-40,0)","v":0},{"$f":"SUM(M282:M288)","v":0},{"$f":"SUM(I282:I288)","v":0},{"$f":"IF(N288>40,N288-40,0)","v":0},{"$f":"IF(P288>Q288,P288,Q288)","v":0}]
[41,"2019-10-07","2019-10-07",null,null,0,0,0,null,null,null,0,""]
[41,"2019-10-08","2019-10-08",null,null,0,0,0,null,null,null,0,""]
[41,"2019-10-09","2019-10-09",null,null,0,0,0,null,null,null,0,""]
[41,"2019-10-10","2019-10-10",null,null,0,0,0,null,null,null,0,""]
[41,"2019-10-11","2019-10-11",null,null,0,0,0,null,null,null,0,""]
[41,"2019-10-12","2019-10-12",null,null,0,null,0,null,null,"za",0,"","Week",null,"OV WEEK","OV DAG","Recup -","Recup +","OV 50%"]
[41,"2019-10-13","2019-10-13",null,null,0,null,0,null,null,"zo",0,"",{"$f":"SUM(L289:L295)","v":0},{"$f":"SUM(H289:H295)","v":0},{"$f":"IF(N295>40,N295-40,0)","v":0},{"$f":"SUM(M289:M295)","v":0},{"$f":"SUM(I289:I295)","v":0},{"$f":"IF(N295>40,N295-40,0)","v":0},{"$f":"IF(P295>Q295,P295,Q295)","v":0}]
[42,"2019-10-14","2019-10-14",null,null,0,0,0,null,null,null,0,""]
[42,"2019-10-15","2019-10-15",null,null,0,0,0,null,null,null,0,""]
[42,"2019-10-16","2019-10-16",null,null,0,0,0,null,null,null,0,""]
[42,"2019-10-17","2019-10-17",null,null,0,0,0,null,null,null,0,""]
[42,"2019-10-18","2019-10-18",null,null,0,0,0,null,null,null,0,""]
[42,"2019-10-19","2019-10-19",null,null,0,null,0,null,null,"za",0,"","Week",null,"OV WEEK","OV DAG","Recup -","Recup +","OV 50%"]
[42,"2019-10-20","2019-10-20",null,null,0,null,0,null,null,"zo",0,"",{"$f":"SUM(L296:L302)","v":0},{"$f":"SUM(H296:H302)","v":0},{"$f":"IF(N302>40,N302-40,0)","v":0},{"$f":"SUM(M296:M302)","v":0},{"$f":"SUM(I296:I302)","v":0},{"$f":"IF(N302>40,N302-40,0)","v":0},{"$f":"IF(P302>Q302,P302,Q302)","v":0}]
[43,"2019-10-21","2019-10-21",null,null,0,0,0,null,null,null,0,""]
[43,"2019-10-22","2019-10-22",null,null,0,0,0,null,null,null,0,""]
[43,"2019-10-23","2019-10-23",null,null,0,0,0,null,null,null,0,""]
[43,"2019-10-24","2019-10-24",null,null,0,0,0,null,null,null,0,""]
[43,"2019-10-25","2019-10-25",null,null,0,0,0,null,null,null,0,""]
[43,"2019-10-26","2019-10-26",null,null,0,null,0,null,null,"za",0,"","Week",null,"OV WEEK","OV DAG","Recup -","Recup +","OV 50%"]
[43,"2019-10-27","2019-10-27",null,null,0,null,0,null,null,"zo",0,"",{"$f":"SUM(L303:L309)","v":0},{"$f":"SUM(H303:H309)","v":0},{"$f":"IF(N309>40,N309-40,0)","v":0},{"$f":"SUM(M303:M309)","v":0},{"$f":"SUM(I303:I309)","v":0},{"$f":"IF(N309>40,N309-40,0)","v":0},{"$f":"IF(P309>Q309,P309,Q309)","v":0}]
[44,"2019-10-28","2019-10-28",null,null,0,0,0,null,null,null,0,""]
[44,"2019-10-29","2019-10-29",null,null,0,0,0,null,null,null,0,""]
[44,"2019-10-30","2019-10-30",null,null,0,0,0,null,null,null,0,""]
[44,"2019-10-31","2019-10-31",null,null,0,0,0,null,null,null,0,""]
[44,"2019-11-01","2019-11-01",null,null,0,0,0,null,7.6,"fd",7.6,""]
[44,"2019-11-02","2019-11-02",null,null,0,null,0,null,null,"za",0,"","Week",null,"OV WEEK","OV DAG","Recup -","Recup +","OV 50%"]
[44,"2019-11-03","2019-11-03",null,null,0,null,0,null,null,"zo",0,"",{"$f":"SUM(L310:L316)","v":7.6},{"$f":"SUM(H310:H316)","v":0},{"$f":"IF(N316>40,N316-40,0)","v":0},{"$f":"SUM(M310:M316)","v":0},{"$f":"SUM(I310:I316)","v":0},{"$f":"IF(N316>40,N316-40,0)","v":0},{"$f":"IF(P316>Q316,P316,Q316)","v":0}]
[45,"2019-11-04","2019-11-04",null,null,0,0,0,null,null,null,0,""]
[45,"2019-11-05","2019-11-05",null,null,0,0,0,null,null,null,0,""]
[45,"2019-11-06","2019-11-06",null,null,0,0,0,null,null,null,0,""]
[45,"2019-11-07","2019-11-07",null,null,0,0,0,null,null,null,0,""]
[45,"2019-11-08","2019-11-08",null,null,0,0,0,null,null,null,0,""]
[45,"2019-11-09","2019-11-09",null,null,0,null,0,null,null,"za",0,"","Week",null,"OV WEEK","OV DAG","Recup -","Recup +","OV 50%"]
[45,"2019-11-10","2019-11-10",null,null,0,null,0,null,null,"zo",0,"",{"$f":"SUM(L317:L323)","v":0},{"$f":"SUM(H317:H323)","v":0},{"$f":"IF(N323>40,N323-40,0)","v":0},{"$f":"SUM(M317:M323)","v":0},{"$f":"SUM(I317:I323)","v":0},{"$f":"IF(N323>40,N323-40,0)","v":0},{"$f":"IF(P323>Q323,P323,Q323)","v":0}]
[46,"2019-11-11","2019-11-11",null,null,0,0,0,null,7.6,"fd",7.6,""]
[46,"2019-11-12","2019-11-12",null,null,0,0,0,null,null,null,0,""]
[46,"2019-11-13","2019-11-13",null,null,0,0,0,null,null,null,0,""]
[46,"2019-11-14","2019-11-14",null,null,0,0,0,null,null,null,0,""]
[46,"2019-11-15","2019-11-15",null,null,0,0,0,null,null,null,0,""]
[46,"2019-11-16","2019-11-16",null,null,0,null,0,null,null,"za",0,{"$f":"IF(L329>9,L329-9,\"\")","v":""},"Week",null,"OV WEEK","OV DAG","Recup -","Recup +","OV 50%"]
[{"$f":"WEEKNUM(C330,21)","v":46},{"$f":"C330","v":"2019-11-17"},"2019-11-17",null,null,{"$f":"(E330-D330)*24","v":0},null,{"$f":"F330-G330","v":0},null,null,"zo",{"$f":"SUM(H330:J330)","v":0},"",{"$f":"SUM(L324:L330)","v":7.6},{"$f":"SUM(H324:H330)","v":0},{"$f":"IF(N330>40,N330-40,0)","v":0},{"$f":"SUM(M324:M330)","v":0},{"$f":"SUM(I324:I330)","v":0},{"$f":"IF(N330>40,N330-40,0)","v":0},{"$f":"IF(P330>Q330,P330,Q330)","v":0}]
[47,"2019-11-18","2019-11-18",null,null,0,{"$f":"IF(F331>=6,0.5,0)","v":0},0,null,null,null,0,""]
[47,"2019-11-19","2019-11-19",null,null,0,0,0,null,null,null,0,""]
[47,"2019-11-20","2019-11-20",null,null,0,0,0,null,null,null,0,""]
[47,"2019-11-21","2019-11-21",null,null,0,0,0,null,null,null,0,""]
[47,"2019-11-22","2019-11-22",null,null,0,0,0,null,null,null,0,""]
[47,"2019-11-23","2019-11-23",null,null,0,null,0,null,null,"za",0,"","Week",null,"OV WEEK","OV DAG","Recup -","Recup +","OV 50%"]
[47,"2019-11-24","2019-11-24",null,null,0,null,0,null,null,"zo",0,"",{"$f":"SUM(L331:L337)","v":0},{"$f":"SUM(H331:H337)","v":0},{"$f":"IF(N337>40,N337-40,0)","v":0},{"$f":"SUM(M331:M337)","v":0},{"$f":"SUM(I331:I337)","v":0},{"$f":"IF(N337>40,N337-40,0)","v":0},{"$f":"IF(P337>Q337,P337,Q337)","v":0}]
[48,"2019-11-25","2019-11-25",null,null,0,0,0,null,null,null,0,""]
[48,"2019-11-26","2019-11-26",null,null,0,0,0,null,null,null,0,""]
[48,"2019-11-27","2019-11-27",null,null,0,0,0,null,null,null,0,""]
[48,"2019-11-28","2019-11-28",null,null,0,0,0,null,null,null,0,""]
[48,"2019-11-29","2019-11-29",null,null,0,0,0,null,null,null,0,""]
[48,"2019-11-30","2019-11-30",null,null,0,null,0,null,null,"za",0,"","Week",null,"OV WEEK","OV DAG","Recup -","Recup +","OV 50%"]
[48,"2019-12-01","2019-12-01",null,null,0,null,0,null,null,"zo",0,"",{"$f":"SUM(L338:L344)","v":0},{"$f":"SUM(H338:H344)","v":0},{"$f":"IF(N344>40,N344-40,0)","v":0},{"$f":"SUM(M338:M344)","v":0},{"$f":"SUM(I338:I344)","v":0},{"$f":"IF(N344>40,N344-40,0)","v":0},{"$f":"IF(P344>Q344,P344,Q344)","v":0}]
[49,"2019-12-02","2019-12-02",null,null,0,0,0,null,null,null,0,""]
[49,"2019-12-03","2019-12-03",null,null,0,0,0,null,null,null,0,""]
[49,"2019-12-04","2019-12-04",null,null,0,0,0,null,null,null,0,""]
[49,"2019-12-05","2019-12-05",null,null,0,0,0,null,null,null,0,""]
[49,"2019-12-06","2019-12-06",null,null,0,0,0,null,null,null,0,""]
[49,"2019-12-07","2019-12-07",null,null,0,null,0,null,null,"za",0,"","Week",null,"OV WEEK","OV DAG","Recup -","Recup +","OV 50%"]
[49,"2019-12-08","2019-12-08",null,null,0,null,0,null,null,"zo",0,"",{"$f":"SUM(L345:L351)","v":0},{"$f":"SUM(H345:H351)","v":0},{"$f":"IF(N351>40,N351-40,0)","v":0},{"$f":"SUM(M345:M351)","v":0},{"$f":"SUM(I345:I351)","v":0},{"$f":"IF(N351>40,N351-40,0)","v":0},{"$f":"IF(P351>Q351,P351,Q351)","v":0}]
[50,"2019-12-09","2019-12-09",null,null,0,0,0,null,null,null,0,""]
[50,"2019-12-10","2019-12-10",null,null,0,0,0,null,null,null,0,""]
[50,"2019-12-11","2019-12-11",null,null,0,0,0,null,null,null,0,""]
[50,"2019-12-12","2019-12-12",null,null,0,0,0,null,null,null,0,""]
[50,"2019-12-13","2019-12-13",null,null,0,0,0,null,null,null,0,""]
[50,"2019-12-14","2019-12-14",null,null,0,null,0,null,null,"za",0,"","Week",null,"OV WEEK","OV DAG","Recup -","Recup +","OV 50%"]
[50,"2019-12-15","2019-12-15",null,null,0,null,0,null,null,"zo",0,"",{"$f":"SUM(L352:L358)","v":0},{"$f":"SUM(H352:H358)","v":0},{"$f":"IF(N358>40,N358-40,0)","v":0},{"$f":"SUM(M352:M358)","v":0},{"$f":"SUM(I352:I358)","v":0},{"$f":"IF(N358>40,N358-40,0)","v":0},{"$f":"IF(P358>Q358,P358,Q358)","v":0}]
[51,"2019-12-16","2019-12-16",null,null,0,0,0,null,null,null,0,""]
[51,"2019-12-17","2019-12-17",null,null,0,0,0,null,null,null,0,""]
[51,"2019-12-18","2019-12-18",null,null,0,0,0,null,null,null,0,""]
[51,"2019-12-19","2019-12-19",null,null,0,0,0,null,null,null,0,""]
[51,"2019-12-20","2019-12-20",null,null,0,0,0,null,null,null,0,""]
[51,"2019-12-21","2019-12-21",null,null,0,null,0,null,null,"za",0,"","Week",null,"OV WEEK","OV DAG","Recup -","Recup +","OV 50%"]
[51,"2019-12-22","2019-12-22",null,null,0,null,0,null,null,"zo",0,"",{"$f":"SUM(L359:L365)","v":0},{"$f":"SUM(H359:H365)","v":0},{"$f":"IF(N365>40,N365-40,0)","v":0},{"$f":"SUM(M359:M365)","v":0},{"$f":"SUM(I359:I365)","v":0},{"$f":"IF(N365>40,N365-40,0)","v":0},{"$f":"IF(P365>Q365,P365,Q365)","v":0}]
[52,"2019-12-23","2019-12-23",null,null,0,0,0,null,null,null,0,""]
[52,"2019-12-24","2019-12-24",null,null,0,0,0,null,null,null,0,""]
[52,"2019-12-25","2019-12-25",null,null,0,0,0,null,7.6,"fd",7.6,""]
[52,"2019-12-26","2019-12-26",null,null,0,0,0,null,null,null,0,""]
[52,"2019-12-27","2019-12-27",null,null,0,0,0,null,null,null,0,""]
[52,"2019-12-28","2019-12-28",null,null,0,null,0,null,null,"za",0,"","Week",null,"OV WEEK","OV DAG","Recup -","Recup +","OV 50%"]
[52,"2019-12-29","2019-12-29",null,null,0,null,0,null,null,"zo",0,"",{"$f":"SUM(L366:L372)","v":7.6},{"$f":"SUM(H366:H372)","v":0},{"$f":"IF(N372>40,N372-40,0)","v":0},{"$f":"SUM(M366:M372)","v":0},{"$f":"SUM(I366:I372)","v":0},{"$f":"IF(N372>40,N372-40,0)","v":0},{"$f":"IF(P372>Q372,P372,Q372)","v":0}]
[1,"2019-12-30","2019-12-30",null,null,0,0,0,null,null,null,0,""]
[1,"2019-12-31","2019-12-31",null,null,0,0,0,null,null,null,0,""]
[1,"2020-01-01","2020-01-01",null,null,0,0,0,null,7.6,"fd",7.6,""]
[1,"2020-01-02","2020-01-02",null,null,0,0,0,null,null,null,0,""]
[1,"2020-01-03","2020-01-03",null,null,0,0,0,null,null,null,0,""]
[1,"2020-01-04","2020-01-04",null,null,0,null,0,null,null,"za",0,"","Week",null,"OV WEEK","OV DAG","Recup -","Recup +","OV 50%"]
[1,"2020-01-05","2020-01-05",null,null,0,null,0,null,null,"zo",0,"",{"$f":"SUM(L373:L379)","v":7.6},{"$f":"SUM(H373:H379)","v":0},{"$f":"IF(N379>40,N379-40,0)","v":0},{"$f":"SUM(M373:M379)","v":0},{"$f":"SUM(I373:I379)","v":0},{"$f":"IF(N379>40,N379-40,0)","v":0},{"$f":"IF(P379>Q379,P379,Q379)","v":0}]

{"sheet":"119","index":22,"n_rows":379,"n_cols":35,"rows_kept":379,"cut":false,"hidden":false,"merged":[[6,21,6,24],[6,25,6,28],[6,29,6,32],[6,33,6,34],[0,1,1,12],[4,21,4,23],[4,25,4,28],[4,29,4,32],[4,33,4,34],[5,21,5,23],[5,25,5,28],[5,29,5,32],[5,33,5,34],[2,21,2,23],[2,25,2,28],[2,29,2,32],[2,33,2,34],[3,21,3,23],[3,25,3,28],[3,29,3,32],[3,33,3,34],[0,21,0,24],[0,25,0,28],[0,29,0,32],[0,33,0,34],[1,21,1,23],[1,25,1,28],[1,29,1,32],[1,33,1,34]]}
["119","Clippeleyr Alain",null,null,null,null,null,null,null,null,null,null,null,null,null,null,null,null,null,null,null,"Soort",null,null,null,"Recht op",null,null,null,"Opgenomen",null,null,null,"Saldo"]
[null,null,null,null,null,null,null,null,null,null,null,null,null,null,null,null,null,null,null,null,null,"ADV-dagen",null,null,"adv",null,null,null,null,{"$f":"(COUNTIF(W$9:AH$39,\"ADV\")+(COUNTIF(W$9:AH$39,\"0,5ADV\"))/2)","v":0},null,null,null,{"$f":"Z2-AD2","v":0}]
[null,null,null,null,null,null,null,null,null,null,null,null,null,null,null,null,null,null,null,null,null,"Vakantie 2019",null,null,"v",null,null,null,null,{"$f":"(COUNTIF(W$9:AH$39,\"V\")+(COUNTIF(W$9:AH$39,\"0,5V\"))/2)","v":0},null,null,null,{"$f":"Z3-AD3","v":0}]
["Opgelet avondwerk ! Van 00:00u tot 00:00u / + 0,00u premie 50%",null,null,null,null,null,null,null,null,null,null,null,null,"Feestdag in weekend 2019",null,null,null,null,"Recup 2018",null,null,"Feestdag 2019",null,null,"f",1,null,null,null,{"$f":"(COUNTIF(W$9:AH$39,\"F\")+(COUNTIF(W$9:AH$39,\"0,5F\"))/2)","v":0},null,null,null,1]
[null,null,null,null,null,null,null,null,null,null,null,null,null,"- nationale feestdag 21/7",null,null,null,null,null,null,null,"Vakantie rest 2018",null,null,"vvj",null,null,null,null,{"$f":"(COUNTIF(W$9:AH$39,\"vvj\")+(COUNTIF(W$9:AH$39,\"0,5vvj\"))/2)","v":0},null,null,null,0]
[null,null,null,null,null,null,null,null,null,null,null,null,null,null,null,null,null,null,"Recup",{"$f":"SUM(S9:S379)-SUM(R9:R379)+T5+T4","v":0},null,"Anciënniteitsdagen",null,null,"a ",null,null,null,null,{"$f":"(COUNTIF(W$9:AH$39,\"A\")+(COUNTIF(W$9:AH$39,\"0,5A\"))/2)","v":0},null,null,null,0]
[null,null,null,null,null,null,null,null,null,null,null,null,null,null,null,null,null,null,null,null,null,"TOTAAL",null,null,null,{"$f":"SUM(Z2:AC6)","v":1},null,null,null,{"$f":"SUM(AD2:AG6)","v":0},null,null,null,{"$f":"SUM(AH2:AI6)","v":1}]
["W","Dag","Datum","Van ","Tot",null,"Pauze","Prestaties","Recup","Andere","Type","Dag","OV DAG","Week","Prestaties","OV WEEK","OV DAG","Rec. -","Rec. +","OV 50%","M",null,"Jan","Feb","Maa","Apr","Mei","Jun","Jul","Aug","Sept","Okt","Nov","Dec"]
[{"$f":"WEEKNUM(C9,21)","v":1},{"$f":"C9","v":"2018-12-31"},"2018-12-31",null,null,{"$f":"(E9-D9)*24","v":0},{"$f":"IF(F9>=6,0.5,0)","v":0},{"$f":"F9-G9","v":0},null,7.6,"OK",{"$f":"SUM(H9:J9)","v":7.6},{"$f":"IF(L9>9,L9-9,\"\")","v":""},"Dag RO van recuplijstje 2018 verwerkt OK!",null,null,null,null,null,null,0,1,{"$f":"K9","v":"OK"},{"$f":"K40","v":0},{"$f":"K68","v":0},{"$f":"K99","v":"zo"},{"$f":"K129","v":0},{"$f":"K160","v":0},{"$f":"K190","v":"zo"},{"$f":"K221","v":0},{"$f":"K252","v":"za"},{"$f":"K282","v":0},{"$f":"K313","v":0},{"$f":"K343","v":"za"},1]
[{"$f":"WEEKNUM(C10,21)","v":1},{"$f":"C10","v":"2019-01-01"},"2019-01-01",null,null,{"$f":"(E10-D10)*24","v":0},{"$f":"IF(F10>=6,0.5,0)","v":0},{"$f":"F10-G10","v":0},null,7.6,"fd",{"$f":"SUM(H10:J10)","v":7.6},"",null,null,null,null,null,null,null,0,2,{"$f":"K10","v":"fd"},{"$f":"K41","v":0},{"$f":"K69","v":0},{"$f":"K100","v":0},{"$f":"K130","v":"fd"},{"$f":"K161","v":"za"},{"$f":"K191","v":0},{"$f":"K222","v":0},{"$f":"K253","v":"zo"},{"$f":"K283","v":0},{"$f":"K314","v":"fd"},{"$f":"K344","v":"zo"},2]
[1,"2019-01-02","2019-01-02",null,null,0,0,0,null,null,null,0,"","Starten met nieuwe oplijsting betreft recupoverzicht in 2019",null,null,null,null,null,null,null,3,0,"za","za",0,0,"zo",0,0,0,0,"za",0,3]
[1,"2019-01-03","2019-01-03",null,null,0,0,0,null,null,null,0,"",null,null,null,null,null,null,null,null,4,0,"zo","zo",0,0,0,0,"za",0,0,"zo",0,4]
[1,"2019-01-04","2019-01-04",null,null,0,0,0,null,null,null,0,"",null,null,null,null,null,null,null,null,5,0,0,0,0,"za",0,0,"zo",0,0,0,{"$f":"K347","v":0},5]
[1,"2019-01-05","2019-01-05",null,null,0,null,0,null,null,"za",0,"","Week",null,"OV WEEK","OV DAG","Recup -","Recup +","OV 50%",null,6,"za",0,0,0,"zo",0,0,0,0,"za",0,0,6]
[1,"2019-01-06","2019-01-06",null,null,0,null,0,null,null,"zo",0,"",{"$f":"SUM(L9:L15)","v":15.2},{"$f":"SUM(H9:H15)","v":0},{"$f":"IF(N15>38,N15-38,0)","v":0},{"$f":"SUM(M9:M15)","v":0},{"$f":"SUM(I9:I15)","v":0},{"$f":"IF(N15>38,N15-38,0)","v":0},{"$f":"IF(P15>Q15,P15,Q15)","v":0},null,7,"zo",0,0,"za",0,0,"za",0,0,"zo",0,0,7]
[2,"2019-01-07","2019-01-07","08:00:00","16:15:00",8.2500000000000018,0.5,7.7500000000000018,null,null,null,7.7500000000000018,"",null,null,null,null,null,null,null,null,8,0,0,0,"zo",0,0,"zo",0,"za",0,0,"za",8]
[2,"2019-01-08","2019-01-08","07:30:00","16:15:00",8.75,0.5,8.25,null,null,null,8.25,"",null,null,null,null,null,null,null,null,9,0,0,0,0,0,"za",0,0,"zo",0,0,"zo",9]
[2,"2019-01-09","2019-01-09","08:00:00","16:15:00",8.2500000000000018,0.5,7.7500000000000018,null,null,null,7.7500000000000018,"",null,null,null,null,null,null,null,null,10,0,"za","za",0,0,"zo",0,0,0,0,"za",0,10]
[2,"2019-01-10","2019-01-10",null,null,0,0,0,null,null,null,0,"",null,null,null,null,null,null,null,null,11,0,"zo","zo",0,0,"fd",0,"za",0,0,"zo",0,11]
[2,"2019-01-11","2019-01-11",null,null,0,0,0,null,null,null,0,"",null,null,null,null,null,null,null,null,12,0,0,0,0,"za",0,0,"zo",0,0,"fd",0,12]
[2,"2019-01-12","2019-01-12",null,null,0,null,0,null,null,"za",0,"","Week",null,"OV WEEK","OV DAG","Recup -","Recup +","OV 50%",null,13,"za",0,0,0,"zo",0,0,0,0,"za",0,0,13]
[2,"2019-01-13","2019-01-13",null,null,0,null,0,null,null,"zo",0,"",{"$f":"SUM(L16:L22)","v":23.75},{"$f":"SUM(H16:H22)","v":23.75},{"$f":"IF(N22>38,N22-38,0)","v":0},{"$f":"SUM(M16:M22)","v":0},{"$f":"SUM(I16:I22)","v":0},{"$f":"IF(N22>38,N22-38,0)","v":0},{"$f":"IF(P22>Q22,P22,Q22)","v":0},null,14,"zo",0,0,"za",0,0,"za",0,0,"zo",0,0,14]
[3,"2019-01-14","2019-01-14",null,null,0,0,0,null,null,null,0,"",null,null,null,null,null,null,null,null,15,0,0,0,"zo",0,0,"zo",0,"za",0,0,"za",15]
[3,"2019-01-15","2019-01-15",null,null,0,0,0,null,null,null,0,"",null,null,null,null,null,null,null,null,16,0,0,0,0,0,"za",0,"fd","zo",0,0,"zo",16]
[3,"2019-01-16","2019-01-16",null,null,0,0,0,null,null,null,0,"",null,null,null,null,null,null,null,null,17,0,"za","za",0,0,"zo",0,0,0,0,"za",0,17]
[3,"2019-01-17","2019-01-17",null,null,0,0,0,null,null,null,0,"",null,null,null,null,null,null,null,null,18,0,"zo","zo",0,0,0,0,"za",0,0,"zo",0,18]
[3,"2019-01-18","2019-01-18",null,null,0,0,0,null,null,null,0,"",null,null,null,null,null,null,null,null,19,0,0,0,0,"za",0,0,"zo",0,0,0,0,19]
[3,"2019-01-19","2019-01-19",null,null,0,null,0,null,null,"za",0,"","Week",null,"OV WEEK","OV DAG","Recup -","Recup +","OV 50%",null,20,"za",0,0,0,"zo",0,0,0,0,"za",0,{"$f":"K362","v":0},20]
[3,"2019-01-20","2019-01-20",null,null,0,null,0,null,null,"zo",0,"",{"$f":"SUM(L23:L29)","v":0},{"$f":"SUM(H23:H29)","v":0},{"$f":"IF(N29>38,N29-38,0)","v":0},{"$f":"SUM(M23:M29)","v":0},{"$f":"SUM(I23:I29)","v":0},{"$f":"IF(N29>38,N29-38,0)","v":0},{"$f":"IF(P29>Q29,P29,Q29)","v":0},null,21,"zo",0,0,"za","fd",0,"za",0,0,"zo",0,0,21]
[4,"2019-01-21","2019-01-21",null,null,0,0,0,null,null,null,0,"",null,null,null,null,null,null,null,null,22,0,0,0,"zo",0,0,"zo",0,"za",0,0,"za",22]
[4,"2019-01-22","2019-01-22",null,null,0,0,0,null,null,null,0,"",null,null,null,null,null,null,null,null,23,0,0,0,"fd",0,"za",0,0,"zo",0,0,"zo",23]
[4,"2019-01-23","2019-01-23",null,null,0,0,0,null,null,null,0,"",null,null,null,null,null,null,null,null,24,0,"za","za",0,0,"zo",0,0,0,0,"za",0,24]
[4,"2019-01-24","2019-01-24",null,null,0,0,0,null,null,null,0,"",null,null,null,null,null,null,null,null,25,0,"zo","zo",0,0,0,0,"za",0,0,"zo",0,25]
[4,"2019-01-25","2019-01-25",null,null,0,0,0,null,null,null,0,"",null,null,null,null,null,null,null,null,26,0,0,0,0,"za",0,0,"zo",0,0,0,"fd",26]
[4,"2019-01-26","2019-01-26",null,null,0,null,0,null,null,"za",0,"","Week",null,"OV WEEK","OV DAG","Recup -","Recup +","OV 50%",null,27,"za",0,0,0,"zo",0,0,0,0,"za",0,0,27]
[4,"2019-01-27","2019-01-27",null,null,0,null,0,null,null,"zo",0,"",{"$f":"SUM(L30:L36)","v":0},{"$f":"SUM(H30:H36)","v":0},{"$f":"IF(N36>38,N36-38,0)","v":0},{"$f":"SUM(M30:M36)","v":0},{"$f":"SUM(I30:I36)","v":0},{"$f":"IF(N36>38,N36-38,0)","v":0},{"$f":"IF(P36>Q36,P36,Q36)","v":0},null,28,"zo",0,0,"za",0,0,"za",0,0,"zo",0,0,28]
[5,"2019-01-28","2019-01-28",null,null,0,0,0,null,null,null,0,"",null,null,null,null,null,null,null,null,29,0,null,0,"zo",0,0,"zo",0,"za",0,0,"za",29]
[5,"2019-01-29","2019-01-29",null,null,0,0,0,null,null,null,0,"",null,null,null,null,null,null,null,null,30,0,null,0,0,0,"za",0,0,"zo",0,0,"zo",30]
[5,"2019-01-30","2019-01-30",null,null,0,0,0,null,null,null,0,"",null,null,null,null,null,null,null,null,31,0,null,"za",null,"fd",null,0,0,null,0,null,0,31]
[5,"2019-01-31","2019-01-31",null,null,0,0,0,null,null,null,0,"",null,null,null,null,null,null,null,null,"WD",23,20,21,22,23,20,23,22,21,23,21,22,{"$f":"SUM(W40:AH40)","v":261}]
[5,"2019-02-01","2019-02-01",null,null,0,0,0,null,null,null,0,""]
[5,"2019-02-02","2019-02-02",null,null,0,null,0,null,null,"za",0,"","Week",null,"OV WEEK","OV DAG","Recup -","Recup +","OV 50%",null,null,"Overzicht recup boven en onder 19 uur ! Vanaf 01/01/2019"]
[5,"2019-02-03","2019-02-03",null,null,0,null,0,null,null,"zo",0,"",{"$f":"SUM(L37:L43)","v":0},{"$f":"SUM(H37:H43)","v":0},{"$f":"IF(N43>38,N43-38,0)","v":0},{"$f":"SUM(M37:M43)","v":0},{"$f":"SUM(I37:I43)","v":0},{"$f":"IF(N43>38,N43-38,0)","v":0},{"$f":"IF(P43>Q43,P43,Q43)","v":0},null,null,"RECUP"]
[6,"2019-02-04","2019-02-04",null,null,0,0,0,null,null,null,0,""]
[6,"2019-02-05","2019-02-05",null,null,0,0,0,null,null,null,0,"",null,null,null,null,null,null,null,null,null,"WK 2",null,4.75]
[6,"2019-02-06","2019-02-06",null,null,0,0,0,null,null,null,0,""]
[6,"2019-02-07","2019-02-07",null,null,0,0,0,null,null,null,0,""]
[6,"2019-02-08","2019-02-08",null,null,0,0,0,null,null,null,0,""]
[6,"2019-02-09","2019-02-09",null,null,0,null,0,null,null,"za",0,"","Week",null,"OV WEEK","OV DAG","Recup -","Recup +","OV 50%"]
[6,"2019-02-10","2019-02-10",null,null,0,null,0,null,null,"zo",0,"",{"$f":"SUM(L44:L50)","v":0},{"$f":"SUM(H44:H50)","v":0},{"$f":"IF(N50>38,N50-38,0)","v":0},{"$f":"SUM(M44:M50)","v":0},{"$f":"SUM(I44:I50)","v":0},{"$f":"IF(N50>38,N50-38,0)","v":0},{"$f":"IF(P50>Q50,P50,Q50)","v":0}]
[7,"2019-02-11","2019-02-11",null,null,0,0,0,null,null,null,0,""]
[7,"2019-02-12","2019-02-12",null,null,0,0,0,null,null,null,0,""]
[7,"2019-02-13","2019-02-13",null,null,0,0,0,null,null,null,0,""]
[7,"2019-02-14","2019-02-14",null,null,0,0,0,null,null,null,0,""]
[7,"2019-02-15","2019-02-15",null,null,0,0,0,null,null,null,0,""]
[7,"2019-02-16","2019-02-16",null,null,0,null,0,null,null,"za",0,"","Week",null,"OV WEEK","OV DAG","Recup -","Recup +","OV 50%"]
[7,"2019-02-17","2019-02-17",null,null,0,null,0,null,null,"zo",0,"",{"$f":"SUM(L51:L57)","v":0},{"$f":"SUM(H51:H57)","v":0},{"$f":"IF(N57>38,N57-38,0)","v":0},{"$f":"SUM(M51:M57)","v":0},{"$f":"SUM(I51:I57)","v":0},{"$f":"IF(N57>38,N57-38,0)","v":0},{"$f":"IF(P57>Q57,P57,Q57)","v":0}]
[8,"2019-02-18","2019-02-18",null,null,0,0,0,null,null,null,0,"",null,null,null,null,null,null,null,null,null,"TT:"]
[8,"2019-02-19","2019-02-19",null,null,0,0,0,null,null,null,0,""]
[8,"2019-02-20","2019-02-20",null,null,0,0,0,null,null,null,0,""]
[8,"2019-02-21","2019-02-21",null,null,0,0,0,null,null,null,0,""]
[8,"2019-02-22","2019-02-22",null,null,0,0,0,null,null,null,0,""]
[8,"2019-02-23","2019-02-23",null,null,0,null,0,null,null,"za",0,"","Week",null,"OV WEEK","OV DAG","Recup -","Recup +","OV 50%"]
[8,"2019-02-24","2019-02-24",null,null,0,null,0,null,null,"zo",0,"",{"$f":"SUM(L58:L64)","v":0},{"$f":"SUM(H58:H64)","v":0},{"$f":"IF(N64>38,N64-38,0)","v":0},{"$f":"SUM(M58:M64)","v":0},{"$f":"SUM(I58:I64)","v":0},{"$f":"IF(N64>38,N64-38,0)","v":0},{"$f":"IF(P64>Q64,P64,Q64)","v":0}]
[9,"2019-02-25","2019-02-25",null,null,0,0,0,null,null,null,0,""]
[9,"2019-02-26","2019-02-26",null,null,0,0,0,null,null,null,0,""]
[9,"2019-02-27","2019-02-27",null,null,0,0,0,null,null,null,0,""]
[9,"2019-02-28","2019-02-28",null,null,0,0,0,null,null,null,0,""]
[9,"2019-03-01","2019-03-01",null,null,0,0,0,null,null,null,0,""]
[9,"2019-03-02","2019-03-02",null,null,0,null,0,null,null,"za",0,"","Week",null,"OV WEEK","OV DAG","Recup -","Recup +","OV 50%"]
[9,"2019-03-03","2019-03-03",null,null,0,null,0,null,null,"zo",0,"",{"$f":"SUM(L65:L71)","v":0},{"$f":"SUM(H65:H71)","v":0},{"$f":"IF(N71>38,N71-38,0)","v":0},{"$f":"SUM(M65:M71)","v":0},{"$f":"SUM(I65:I71)","v":0},{"$f":"IF(N71>38,N71-38,0)","v":0},{"$f":"IF(P71>Q71,P71,Q71)","v":0}]
[10,"2019-03-04","2019-03-04",null,null,0,0,0,null,null,null,0,""]
[10,"2019-03-05","2019-03-05",null,null,0,0,0,null,null,null,0,{"$f":"IF(L73>9,L73-9,\"\")","v":""}]
[{"$f":"WEEKNUM(C74,21)","v":10},{"$f":"C74","v":"2019-03-06"},"2019-03-06",null,null,{"$f":"(E74-D74)*24","v":0},{"$f":"IF(F74>=6,0.5,0)","v":0},{"$f":"F74-G74","v":0},null,null,null,{"$f":"SUM(H74:J74)","v":0},""]
[10,"2019-03-07","2019-03-07",null,null,0,0,0,null,null,null,0,""]
[10,"2019-03-08","2019-03-08",null,null,0,0,0,null,null,null,0,""]
[10,"2019-03-09","2019-03-09",null,null,0,null,0,null,null,"za",0,"","Week",null,"OV WEEK","OV DAG","Recup -","Recup +","OV 50%"]
[10,"2019-03-10","2019-03-10",null,null,0,null,0,null,null,"zo",0,"",{"$f":"SUM(L72:L78)","v":0},{"$f":"SUM(H72:H78)","v":0},{"$f":"IF(N78>38,N78-38,0)","v":0},{"$f":"SUM(M72:M78)","v":0},{"$f":"SUM(I72:I78)","v":0},{"$f":"IF(N78>38,N78-38,0)","v":0},{"$f":"IF(P78>Q78,P78,Q78)","v":0}]
[11,"2019-03-11","2019-03-11",null,null,0,0,0,null,null,null,0,""]
[11,"2019-03-12","2019-03-12",null,null,0,0,0,null,null,null,0,""]
[11,"2019-03-13","2019-03-13",null,null,0,0,0,null,null,null,0,""]
[11,"2019-03-14","2019-03-14",null,null,0,0,0,null,null,null,0,""]
[11,"2019-03-15","2019-03-15",null,null,0,0,0,null,null,null,0,""]
[11,"2019-03-16","2019-03-16",null,null,0,null,0,null,null,"za",0,"","Week",null,"OV WEEK","OV DAG","Recup -","Recup +","OV 50%"]
[11,"2019-03-17","2019-03-17",null,null,0,null,0,null,null,"zo",0,"",{"$f":"SUM(L79:L85)","v":0},{"$f":"SUM(H79:H85)","v":0},{"$f":"IF(N85>38,N85-38,0)","v":0},{"$f":"SUM(M79:M85)","v":0},{"$f":"SUM(I79:I85)","v":0},{"$f":"IF(N85>38,N85-38,0)","v":0},{"$f":"IF(P85>Q85,P85,Q85)","v":0}]
[12,"2019-03-18","2019-03-18",null,null,0,0,0,null,null,null,0,""]
[12,"2019-03-19","2019-03-19",null,null,0,0,0,null,null,null,0,""]
[12,"2019-03-20","2019-03-20",null,null,0,0,0,null,null,null,0,""]
[12,"2019-03-21","2019-03-21",null,null,0,0,0,null,null,null,0,""]
[12,"2019-03-22","2019-03-22",null,null,0,0,0,null,null,null,0,""]
[12,"2019-03-23","2019-03-23",null,null,0,null,0,null,null,"za",0,"","Week",null,"OV WEEK","OV DAG","Recup -","Recup +","OV 50%"]
[12,"2019-03-24","2019-03-24",null,null,0,null,0,null,null,"zo",0,"",{"$f":"SUM(L86:L92)","v":0},{"$f":"SUM(H86:H92)","v":0},{"$f":"IF(N92>38,N92-38,0)","v":0},{"$f":"SUM(M86:M92)","v":0},{"$f":"SUM(I86:I92)","v":0},{"$f":"IF(N92>38,N92-38,0)","v":0},{"$f":"IF(P92>Q92,P92,Q92)","v":0}]
[13,"2019-03-25","2019-03-25",null,null,0,0,0,null,null,null,0,""]
[13,"2019-03-26","2019-03-26",null,null,0,0,0,null,null,null,0,""]
[13,"2019-03-27","2019-03-27",null,null,0,0,0,null,null,null,0,""]
[13,"2019-03-28","2019-03-28",null,null,0,0,0,null,null,null,0,""]
[13,"2019-03-29","2019-03-29",null,null,0,0,0,null,null,null,0,""]
[13,"2019-03-30","2019-03-30",null,null,0,null,0,null,null,"za",0,"","Week",null,"OV WEEK","OV DAG","Recup -","Recup +","OV 50%"]
[13,"2019-03-31","2019-03-31",null,null,0,null,0,null,null,"zo",0,"",{"$f":"SUM(L93:L99)","v":0},{"$f":"SUM(H93:H99)","v":0},{"$f":"IF(N99>38,N99-38,0)","v":0},{"$f":"SUM(M93:M99)","v":0},{"$f":"SUM(I93:I99)","v":0},{"$f":"IF(N99>38,N99-38,0)","v":0},{"$f":"IF(P99>Q99,P99,Q99)","v":0}]
[14,"2019-04-01","2019-04-01",null,null,0,0,0,null,null,null,0,""]
[14,"2019-04-02","2019-04-02",null,null,0,0,0,null,null,null,0,""]
[14,"2019-04-03","2019-04-03",null,null,0,0,0,null,null,null,0,""]
[14,"2019-04-04","2019-04-04",null,null,0,0,0,null,null,null,0,""]
[14,"2019-04-05","2019-04-05",null,null,0,0,0,null,null,null,0,""]
[14,"2019-04-06","2019-04-06",null,null,0,null,0,null,null,"za",0,"","Week",null,"OV WEEK","OV DAG","Recup -","Recup +","OV 50%"]
[14,"2019-04-07","2019-04-07",null,null,0,null,0,null,null,"zo",0,"",{"$f":"SUM(L100:L106)","v":0},{"$f":"SUM(H100:H106)","v":0},{"$f":"IF(N106>38,N106-38,0)","v":0},{"$f":"SUM(M100:M106)","v":0},{"$f":"SUM(I100:I106)","v":0},{"$f":"IF(N106>38,N106-38,0)","v":0},{"$f":"IF(P106>Q106,P106,Q106)","v":0}]
[15,"2019-04-08","2019-04-08",null,null,0,0,0,null,null,null,0,""]
[15,"2019-04-09","2019-04-09",null,null,0,0,0,null,null,null,0,""]
[15,"2019-04-10","2019-04-10",null,null,0,0,0,null,null,null,0,""]
[15,"2019-04-11","2019-04-11",null,null,0,0,0,null,null,null,0,""]
[15,"2019-04-12","2019-04-12",null,null,0,0,0,null,null,null,0,""]
[15,"2019-04-13","2019-04-13",null,null,0,null,0,null,null,"za",0,"","Week",null,"OV WEEK","OV DAG","Recup -","Recup +","OV 50%"]
[15,"2019-04-14","2019-04-14",null,null,0,null,0,null,null,"zo",0,"",{"$f":"SUM(L107:L113)","v":0},{"$f":"SUM(H107:H113)","v":0},{"$f":"IF(N113>38,N113-38,0)","v":0},{"$f":"SUM(M107:M113)","v":0},{"$f":"SUM(I107:I113)","v":0},{"$f":"IF(N113>38,N113-38,0)","v":0},{"$f":"IF(P113>Q113,P113,Q113)","v":0}]
[16,"2019-04-15","2019-04-15",null,null,0,0,0,null,null,null,0,""]
[16,"2019-04-16","2019-04-16",null,null,0,0,0,null,null,null,0,""]
[16,"2019-04-17","2019-04-17",null,null,0,0,0,null,null,null,0,""]
[16,"2019-04-18","2019-04-18",null,null,0,0,0,null,null,null,0,""]
[16,"2019-04-19","2019-04-19",null,null,0,0,0,null,null,null,0,""]
[16,"2019-04-20","2019-04-20",null,null,0,null,0,null,null,"za",0,"","Week",null,"OV WEEK","OV DAG","Recup -","Recup +","OV 50%"]
[16,"2019-04-21","2019-04-21",null,null,0,null,0,null,null,"zo",0,"",{"$f":"SUM(L114:L120)","v":0},{"$f":"SUM(H114:H120)","v":0},{"$f":"IF(N120>38,N120-38,0)","v":0},{"$f":"SUM(M114:M120)","v":0},{"$f":"SUM(I114:I120)","v":0},{"$f":"IF(N120>38,N120-38,0)","v":0},{"$f":"IF(P120>Q120,P120,Q120)","v":0}]
[17,"2019-04-22","2019-04-22",null,null,0,0,0,null,7.6,"fd",7.6,""]
[17,"2019-04-23","2019-04-23",null,null,0,0,0,null,null,null,0,""]
[17,"2019-04-24","2019-04-24",null,null,0,0,0,null,null,null,0,""]
[17,"2019-04-25","2019-04-25",null,null,0,0,0,null,null,null,0,""]
[17,"2019-04-26","2019-04-26",null,null,0,0,0,null,null,null,0,""]
[17,"2019-04-27","2019-04-27",null,null,0,null,0,null,null,"za",0,"","Week",null,"OV WEEK","OV DAG","Recup -","Recup +","OV 50%"]
[17,"2019-04-28","2019-04-28",null,null,0,null,0,null,null,"zo",0,"",{"$f":"SUM(L121:L127)","v":7.6},{"$f":"SUM(H121:H127)","v":0},{"$f":"IF(N127>38,N127-38,0)","v":0},{"$f":"SUM(M121:M127)","v":0},{"$f":"SUM(I121:I127)","v":0},{"$f":"IF(N127>38,N127-38,0)","v":0},{"$f":"IF(P127>Q127,P127,Q127)","v":0}]
[18,"2019-04-29","2019-04-29",null,null,0,0,0,null,null,null,0,""]
[18,"2019-04-30","2019-04-30",null,null,0,0,0,null,null,null,0,""]
[18,"2019-05-01","2019-05-01",null,null,0,0,0,null,7.6,"fd",7.6,""]
[18,"2019-05-02","2019-05-02",null,null,0,0,0,null,null,null,0,""]
[18,"2019-05-03","2019-05-03",null,null,0,0,0,null,null,null,0,""]
[18,"2019-05-04","2019-05-04",null,null,0,null,0,null,null,"za",0,"","Week",null,"OV WEEK","OV DAG","Recup -","Recup +","OV 50%"]
[18,"2019-05-05","2019-05-05",null,null,0,null,0,null,null,"zo",0,"",{"$f":"SUM(L128:L134)","v":7.6},{"$f":"SUM(H128:H134)","v":0},{"$f":"IF(N134>38,N134-38,0)","v":0},{"$f":"SUM(M128:M134)","v":0},{"$f":"SUM(I128:I134)","v":0},{"$f":"IF(N134>38,N134-38,0)","v":0},{"$f":"IF(P134>Q134,P134,Q134)","v":0}]
[19,"2019-05-06","2019-05-06",null,null,0,0,0,null,null,null,0,""]
[19,"2019-05-07","2019-05-07",null,null,0,0,0,null,null,null,0,""]
[19,"2019-05-08","2019-05-08",null,null,0,0,0,null,null,null,0,{"$f":"IF(L137>9,L137-9,\"\")","v":""}]
[{"$f":"WEEKNUM(C138,21)","v":19},{"$f":"C138","v":"2019-05-09"},"2019-05-09",null,null,{"$f":"(E138-D138)*24","v":0},{"$f":"IF(F138>=6,0.5,0)","v":0},{"$f":"F138-G138","v":0},null,null,null,{"$f":"SUM(H138:J138)","v":0},""]
[19,"2019-05-10","2019-05-10",null,null,0,0,0,null,null,null,0,""]
[19,"2019-05-11","2019-05-11",null,null,0,null,0,null,null,"za",0,"","Week",null,"OV WEEK","OV DAG","Recup -","Recup +","OV 50%"]
[19,"2019-05-12","2019-05-12",null,null,0,null,0,null,null,"zo",0,"",{"$f":"SUM(L135:L141)","v":0},{"$f":"SUM(H135:H141)","v":0},{"$f":"IF(N141>38,N141-38,0)","v":0},{"$f":"SUM(M135:M141)","v":0},{"$f":"SUM(I135:I141)","v":0},{"$f":"IF(N141>38,N141-38,0)","v":0},{"$f":"IF(P141>Q141,P141,Q141)","v":0}]
[20,"2019-05-13","2019-05-13",null,null,0,0,0,null,null,null,0,""]
[20,"2019-05-14","2019-05-14",null,null,0,0,0,null,null,null,0,""]
[20,"2019-05-15","2019-05-15",null,null,0,0,0,null,null,null,0,""]
[20,"2019-05-16","2019-05-16",null,null,0,0,0,null,null,null,0,""]
[20,"2019-05-17","2019-05-17",null,null,0,0,0,null,null,null,0,""]
[20,"2019-05-18","2019-05-18",null,null,0,null,0,null,null,"za",0,"","Week",null,"OV WEEK","OV DAG","Recup -","Recup +","OV 50%"]
[20,"2019-05-19","2019-05-19",null,null,0,null,0,null,null,"zo",0,"",{"$f":"SUM(L142:L148)","v":0},{"$f":"SUM(H142:H148)","v":0},{"$f":"IF(N148>38,N148-38,0)","v":0},{"$f":"SUM(M142:M148)","v":0},{"$f":"SUM(I142:I148)","v":0},{"$f":"IF(N148>38,N148-38,0)","v":0},{"$f":"IF(P148>Q148,P148,Q148)","v":0}]
[21,"2019-05-20","2019-05-20",null,null,0,0,0,null,7.6,"fd",7.6,""]
[21,"2019-05-21","2019-05-21",null,null,0,0,0,null,null,null,0,""]
[21,"2019-05-22","2019-05-22",null,null,0,0,0,null,null,null,0,""]
[21,"2019-05-23","2019-05-23",null,null,0,0,0,null,null,null,0,""]
[21,"2019-05-24","2019-05-24",null,null,0,0,0,null,null,null,0,""]
[21,"2019-05-25","2019-05-25",null,null,0,null,0,null,null,"za",0,"","Week",null,"OV WEEK","OV DAG","Recup -","Recup +","OV 50%"]
[21,"2019-05-26","2019-05-26",null,null,0,null,0,null,null,"zo",0,"",{"$f":"SUM(L149:L155)","v":7.6},{"$f":"SUM(H149:H155)","v":0},{"$f":"IF(N155>38,N155-38,0)","v":0},{"$f":"SUM(M149:M155)","v":0},{"$f":"SUM(I149:I155)","v":0},{"$f":"IF(N155>38,N155-38,0)","v":0},{"$f":"IF(P155>Q155,P155,Q155)","v":0}]
[22,"2019-05-27","2019-05-27",null,null,0,0,0,null,null,null,0,""]
[22,"2019-05-28","2019-05-28",null,null,0,0,0,null,null,null,0,""]
[22,"2019-05-29","2019-05-29",null,null,0,0,0,null,null,null,0,""]
[22,"2019-05-30","2019-05-30",null,null,0,0,0,null,7.6,"fd",7.6,""]
[22,"2019-05-31","2019-05-31",null,null,0,0,0,null,null,null,0,""]
[22,"2019-06-01","2019-06-01",null,null,0,null,0,null,null,"za",0,"","Week",null,"OV WEEK","OV DAG","Recup -","Recup +","OV 50%"]
[22,"2019-06-02","2019-06-02",null,null,0,null,0,null,null,"zo",0,"",{"$f":"SUM(L156:L162)","v":7.6},{"$f":"SUM(H156:H162)","v":0},{"$f":"IF(N162>38,N162-38,0)","v":0},{"$f":"SUM(M156:M162)","v":0},{"$f":"SUM(I156:I162)","v":0},{"$f":"IF(N162>38,N162-38,0)","v":0},{"$f":"IF(P162>Q162,P162,Q162)","v":0}]
[23,"2019-06-03","2019-06-03",null,null,0,0,0,null,null,null,0,""]
[23,"2019-06-04","2019-06-04",null,null,0,0,0,null,null,null,0,""]
[23,"2019-06-05","2019-06-05",null,null,0,0,0,null,null,null,0,""]
[23,"2019-06-06","2019-06-06",null,null,0,0,0,null,null,null,0,""]
[23,"2019-06-07","2019-06-07",null,null,0,0,0,null,null,null,0,""]
[23,"2019-06-08","2019-06-08",null,null,0,null,0,null,null,"za",0,"","Week",null,"OV WEEK","OV DAG","Recup -","Recup +","OV 50%"]
[23,"2019-06-09","2019-06-09",null,null,0,null,0,null,null,"zo",0,"",{"$f":"SUM(L163:L169)","v":0},{"$f":"SUM(H163:H169)","v":0},{"$f":"IF(N169>38,N169-38,0)","v":0},{"$f":"SUM(M163:M169)","v":0},{"$f":"SUM(I163:I169)","v":0},{"$f":"IF(N169>38,N169-38,0)","v":0},{"$f":"IF(P169>Q169,P169,Q169)","v":0}]
[24,"2019-06-10","2019-06-10",null,null,0,0,0,null,7.6,"fd",7.6,""]
[24,"2019-06-11","2019-06-11",null,null,0,0,0,null,null,null,0,""]
[24,"2019-06-12","2019-06-12",null,null,0,0,0,null,null,null,0,""]
[24,"2019-06-13","2019-06-13",null,null,0,0,0,null,null,null,0,""]
[24,"2019-06-14","2019-06-14",null,null,0,0,0,null,null,null,0,""]
[24,"2019-06-15","2019-06-15",null,null,0,null,0,null,null,"za",0,"","Week",null,"OV WEEK","OV DAG","Recup -","Recup +","OV 50%"]
[24,"2019-06-16","2019-06-16",null,null,0,null,0,null,null,"zo",0,"",{"$f":"SUM(L170:L176)","v":7.6},{"$f":"SUM(H170:H176)","v":0},{"$f":"IF(N176>38,N176-38,0)","v":0},{"$f":"SUM(M170:M176)","v":0},{"$f":"SUM(I170:I176)","v":0},{"$f":"IF(N176>38,N176-38,0)","v":0},{"$f":"IF(P176>Q176,P176,Q176)","v":0}]
[25,"2019-06-17","2019-06-17",null,null,0,0,0,null,null,null,0,""]
[25,"2019-06-18","2019-06-18",null,null,0,0,0,null,null,null,0,""]
[25,"2019-06-19","2019-06-19",null,null,0,0,0,null,null,null,0,""]
[25,"2019-06-20","2019-06-20",null,null,0,0,0,null,null,null,0,""]
[25,"2019-06-21","2019-06-21",null,null,0,0,0,null,null,null,0,""]
[25,"2019-06-22","2019-06-22",null,null,0,null,0,null,null,"za",0,"","Week",null,"OV WEEK","OV DAG","Recup -","Recup +","OV 50%"]
[25,"2019-06-23","2019-06-23",null,null,0,null,0,null,null,"zo",0,"",{"$f":"SUM(L177:L183)","v":0},{"$f":"SUM(H177:H183)","v":0},{"$f":"IF(N183>38,N183-38,0)","v":0},{"$f":"SUM(M177:M183)","v":0},{"$f":"SUM(I177:I183)","v":0},{"$f":"IF(N183>38,N183-38,0)","v":0},{"$f":"IF(P183>Q183,P183,Q183)","v":0}]
[26,"2019-06-24","2019-06-24",null,null,0,0,0,null,null,null,0,""]
[26,"2019-06-25","2019-06-25",null,null,0,0,0,null,null,null,0,""]
[26,"2019-06-26","2019-06-26",null,null,0,0,0,null,null,null,0,""]
[26,"2019-06-27","2019-06-27",null,null,0,0,0,null,null,null,0,""]
[26,"2019-06-28","2019-06-28",null,null,0,0,0,null,null,null,0,""]
[26,"2019-06-29","2019-06-29",null,null,0,null,0,null,null,"za",0,"","Week",null,"OV WEEK","OV DAG","Recup -","Recup +","OV 50%"]
[26,"2019-06-30","2019-06-30",null,null,0,null,0,null,null,"zo",0,"",{"$f":"SUM(L184:L190)","v":0},{"$f":"SUM(H184:H190)","v":0},{"$f":"IF(N190>38,N190-38,0)","v":0},{"$f":"SUM(M184:M190)","v":0},{"$f":"SUM(I184:I190)","v":0},{"$f":"IF(N190>38,N190-38,0)","v":0},{"$f":"IF(P190>Q190,P190,Q190)","v":0}]
[27,"2019-07-01","2019-07-01",null,null,0,0,0,null,null,null,0,""]
[27,"2019-07-02","2019-07-02",null,null,0,0,0,null,null,null,0,""]
[27,"2019-07-03","2019-07-03",null,null,0,0,0,null,null,null,0,""]
[27,"2019-07-04","2019-07-04",null,null,0,0,0,null,null,null,0,""]
[27,"2019-07-05","2019-07-05",null,null,0,0,0,null,null,null,0,""]
[27,"2019-07-06","2019-07-06",null,null,0,null,0,null,null,"za",0,"","Week",null,"OV WEEK","OV DAG","Recup -","Recup +","OV 50%"]
[27,"2019-07-07","2019-07-07",null,null,0,null,0,null,null,"zo",0,"",{"$f":"SUM(L191:L197)","v":0},{"$f":"SUM(H191:H197)","v":0},{"$f":"IF(N197>38,N197-38,0)","v":0},{"$f":"SUM(M191:M197)","v":0},{"$f":"SUM(I191:I197)","v":0},{"$f":"IF(N197>38,N197-38,0)","v":0},{"$f":"IF(P197>Q197,P197,Q197)","v":0}]
[28,"2019-07-08","2019-07-08",null,null,0,0,0,null,null,null,0,""]
[28,"2019-07-09","2019-07-09",null,null,0,0,0,null,null,null,0,""]
[28,"2019-07-10","2019-07-10",null,null,0,0,0,null,null,null,0,""]
[28,"2019-07-11","2019-07-11",null,null,0,0,0,null,null,null,0,{"$f":"IF(L201>9,L201-9,\"\")","v":""}]
[{"$f":"WEEKNUM(C202,21)","v":28},{"$f":"C202","v":"2019-07-12"},"2019-07-12",null,null,{"$f":"(E202-D202)*24","v":0},{"$f":"IF(F202>=6,0.5,0)","v":0},{"$f":"F202-G202","v":0},null,null,null,{"$f":"SUM(H202:J202)","v":0},""]
[28,"2019-07-13","2019-07-13",null,null,0,null,0,null,null,"za",0,"","Week",null,"OV WEEK","OV DAG","Recup -","Recup +","OV 50%"]
[28,"2019-07-14","2019-07-14",null,null,0,null,0,null,null,"zo",0,"",{"$f":"SUM(L198:L204)","v":0},{"$f":"SUM(H198:H204)","v":0},{"$f":"IF(N204>38,N204-38,0)","v":0},{"$f":"SUM(M198:M204)","v":0},{"$f":"SUM(I198:I204)","v":0},{"$f":"IF(N204>38,N204-38,0)","v":0},{"$f":"IF(P204>Q204,P204,Q204)","v":0}]
[29,"2019-07-15","2019-07-15",null,null,0,0,0,null,null,null,0,""]
[29,"2019-07-16","2019-07-16",null,null,0,0,0,null,null,null,0,""]
[29,"2019-07-17","2019-07-17",null,null,0,0,0,null,null,null,0,""]
[29,"2019-07-18","2019-07-18",null,null,0,0,0,null,null,null,0,""]
[29,"2019-07-19","2019-07-19",null,null,0,0,0,null,null,null,0,""]
[29,"2019-07-20","2019-07-20",null,null,0,null,0,null,null,"za",0,"","Week",null,"OV WEEK","OV DAG","Recup -","Recup +","OV 50%"]
[29,"2019-07-21","2019-07-21",null,null,0,null,0,null,null,"zo",0,"",{"$f":"SUM(L205:L211)","v":0},{"$f":"SUM(H205:H211)","v":0},{"$f":"IF(N211>38,N211-38,0)","v":0},{"$f":"SUM(M205:M211)","v":0},{"$f":"SUM(I205:I211)","v":0},{"$f":"IF(N211>38,N211-38,0)","v":0},{"$f":"IF(P211>Q211,P211,Q211)","v":0}]
[30,"2019-07-22","2019-07-22",null,null,0,0,0,null,null,null,0,""]
[30,"2019-07-23","2019-07-23",null,null,0,0,0,null,null,null,0,""]
[30,"2019-07-24","2019-07-24",null,null,0,0,0,null,null,null,0,""]
[30,"2019-07-25","2019-07-25",null,null,0,0,0,null,null,null,0,""]
[30,"2019-07-26","2019-07-26",null,null,0,0,0,null,null,null,0,""]
[30,"2019-07-27","2019-07-27",null,null,0,null,0,null,null,"za",0,"","Week",null,"OV WEEK","OV DAG","Recup -","Recup +","OV 50%"]
[30,"2019-07-28","2019-07-28",null,null,0,null,0,null,null,"zo",0,"",{"$f":"SUM(L212:L218)","v":0},{"$f":"SUM(H212:H218)","v":0},{"$f":"IF(N218>38,N218-38,0)","v":0},{"$f":"SUM(M212:M218)","v":0},{"$f":"SUM(I212:I218)","v":0},{"$f":"IF(N218>38,N218-38,0)","v":0},{"$f":"IF(P218>Q218,P218,Q218)","v":0}]
[31,"2019-07-29","2019-07-29",null,null,0,0,0,null,null,null,0,""]
[31,"2019-07-30","2019-07-30",null,null,0,0,0,null,null,null,0,""]
[31,"2019-07-31","2019-07-31",null,null,0,0,0,null,null,null,0,""]
[31,"2019-08-01","2019-08-01",null,null,0,0,0,null,null,null,0,""]
[31,"2019-08-02","2019-08-02",null,null,0,0,0,null,null,null,0,""]
[31,"2019-08-03","2019-08-03",null,null,0,null,0,null,null,"za",0,"","Week",null,"OV WEEK","OV DAG","Recup -","Recup +","OV 50%"]
[31,"2019-08-04","2019-08-04",null,null,0,null,0,null,null,"zo",0,"",{"$f":"SUM(L219:L225)","v":0},{"$f":"SUM(H219:H225)","v":0},{"$f":"IF(N225>38,N225-38,0)","v":0},{"$f":"SUM(M219:M225)","v":0},{"$f":"SUM(I219:I225)","v":0},{"$f":"IF(N225>38,N225-38,0)","v":0},{"$f":"IF(P225>Q225,P225,Q225)","v":0}]
[32,"2019-08-05","2019-08-05",null,null,0,0,0,null,null,null,0,""]
[32,"2019-08-06","2019-08-06",null,null,0,0,0,null,null,null,0,""]
[32,"2019-08-07","2019-08-07",null,null,0,0,0,null,null,null,0,""]
[32,"2019-08-08","2019-08-08",null,null,0,0,0,null,null,null,0,""]
[32,"2019-08-09","2019-08-09",null,null,0,0,0,null,null,null,0,""]
[32,"2019-08-10","2019-08-10",null,null,0,null,0,null,null,"za",0,"","Week",null,"OV WEEK","OV DAG","Recup -","Recup +","OV 50%"]
[32,"2019-08-11","2019-08-11",null,null,0,null,0,null,null,"zo",0,"",{"$f":"SUM(L226:L232)","v":0},{"$f":"SUM(H226:H232)","v":0},{"$f":"IF(N232>38,N232-38,0)","v":0},{"$f":"SUM(M226:M232)","v":0},{"$f":"SUM(I226:I232)","v":0},{"$f":"IF(N232>38,N232-38,0)","v":0},{"$f":"IF(P232>Q232,P232,Q232)","v":0}]
[33,"2019-08-12","2019-08-12",null,null,0,0,0,null,null,null,0,""]
[33,"2019-08-13","2019-08-13",null,null,0,0,0,null,null,null,0,""]
[33,"2019-08-14","2019-08-14",null,null,0,0,0,null,null,null,0,""]
[33,"2019-08-15","2019-08-15",null,null,0,0,0,null,7.6,"fd",7.6,""]
[33,"2019-08-16","2019-08-16",null,null,0,0,0,null,null,null,0,""]
[33,"2019-08-17","2019-08-17",null,null,0,null,0,null,null,"za",0,"","Week",null,"OV WEEK","OV DAG","Recup -","Recup +","OV 50%"]
[33,"2019-08-18","2019-08-18",null,null,0,null,0,null,null,"zo",0,"",{"$f":"SUM(L233:L239)","v":7.6},{"$f":"SUM(H233:H239)","v":0},{"$f":"IF(N239>38,N239-38,0)","v":0},{"$f":"SUM(M233:M239)","v":0},{"$f":"SUM(I233:I239)","v":0},{"$f":"IF(N239>38,N239-38,0)","v":0},{"$f":"IF(P239>Q239,P239,Q239)","v":0}]
[34,"2019-08-19","2019-08-19",null,null,0,0,0,null,null,null,0,""]
[34,"2019-08-20","2019-08-20",null,null,0,{"$f":"IF(F241>=6,0.5,0)","v":0},0,null,null,null,0,""]
[34,"2019-08-21","2019-08-21",null,null,0,0,0,null,null,null,0,""]
[34,"2019-08-22","2019-08-22",null,null,0,0,0,null,null,null,0,""]
[34,"2019-08-23","2019-08-23",null,null,0,0,0,null,null,null,0,""]
[34,"2019-08-24","2019-08-24",null,null,0,null,0,null,null,"za",0,"","Week",null,"OV WEEK","OV DAG","Recup -","Recup +","OV 50%"]
[34,"2019-08-25","2019-08-25",null,null,0,null,0,null,null,"zo",0,"",{"$f":"SUM(L240:L246)","v":0},{"$f":"SUM(H240:H246)","v":0},{"$f":"IF(N246>38,N246-38,0)","v":0},{"$f":"SUM(M240:M246)","v":0},{"$f":"SUM(I240:I246)","v":0},{"$f":"IF(N246>38,N246-38,0)","v":0},{"$f":"IF(P246>Q246,P246,Q246)","v":0}]
[35,"2019-08-26","2019-08-26",null,null,0,0,0,null,null,null,0,""]
[35,"2019-08-27","2019-08-27",null,null,0,0,0,null,null,null,0,""]
[35,"2019-08-28","2019-08-28",null,null,0,0,0,null,null,null,0,""]
[35,"2019-08-29","2019-08-29",null,null,0,0,0,null,null,null,0,""]
[35,"2019-08-30","2019-08-30",null,null,0,0,0,null,null,null,0,""]
[35,"2019-08-31","2019-08-31",null,null,0,null,0,null,null,"za",0,"","Week",null,"OV WEEK","OV DAG","Recup -","Recup +","OV 50%"]
[35,"2019-09-01","2019-09-01",null,null,0,null,0,null,null,"zo",0,"",{"$f":"SUM(L247:L253)","v":0},{"$f":"SUM(H247:H253)","v":0},{"$f":"IF(N253>38,N253-38,0)","v":0},{"$f":"SUM(M247:M253)","v":0},{"$f":"SUM(I247:I253)","v":0},{"$f":"IF(N253>38,N253-38,0)","v":0},{"$f":"IF(P253>Q253,P253,Q253)","v":0}]
[36,"2019-09-02","2019-09-02",null,null,0,0,0,null,null,null,0,""]
[36,"2019-09-03","2019-09-03",null,null,0,0,0,null,null,null,0,""]
[36,"2019-09-04","2019-09-04",null,null,0,0,0,null,null,null,0,""]
[36,"2019-09-05","2019-09-05",null,null,0,0,0,null,null,null,0,""]
[36,"2019-09-06","2019-09-06",null,null,0,0,0,null,null,null,0,""]
[36,"2019-09-07","2019-09-07",null,null,0,null,0,null,null,"za",0,"","Week",null,"OV WEEK","OV DAG","Recup -","Recup +","OV 50%"]
[36,"2019-09-08","2019-09-08",null,null,0,null,0,null,null,"zo",0,"",{"$f":"SUM(L254:L260)","v":0},{"$f":"SUM(H254:H260)","v":0},{"$f":"IF(N260>38,N260-38,0)","v":0},{"$f":"SUM(M254:M260)","v":0},{"$f":"SUM(I254:I260)","v":0},{"$f":"IF(N260>38,N260-38,0)","v":0},{"$f":"IF(P260>Q260,P260,Q260)","v":0}]
[37,"2019-09-09","2019-09-09",null,null,0,0,0,null,null,null,0,""]
[37,"2019-09-10","2019-09-10",null,null,0,0,0,null,null,null,0,""]
[37,"2019-09-11","2019-09-11",null,null,0,0,0,null,null,null,0,""]
[37,"2019-09-12","2019-09-12",null,null,0,0,0,null,null,null,0,""]
[37,"2019-09-13","2019-09-13",null,null,0,0,0,null,null,null,0,{"$f":"IF(L265>9,L265-9,\"\")","v":""}]
[{"$f":"WEEKNUM(C266,21)","v":37},{"$f":"C266","v":"2019-09-14"},"2019-09-14",null,null,{"$f":"(E266-D266)*24","v":0},null,{"$f":"F266-G266","v":0},null,null,"za",{"$f":"SUM(H266:J266)","v":0},"","Week",null,"OV WEEK","OV DAG","Recup -","Recup +","OV 50%"]
[37,"2019-09-15","2019-09-15",null,null,0,null,0,null,null,"zo",0,"",{"$f":"SUM(L261:L267)","v":0},{"$f":"SUM(H261:H267)","v":0},{"$f":"IF(N267>38,N267-38,0)","v":0},{"$f":"SUM(M261:M267)","v":0},{"$f":"SUM(I261:I267)","v":0},{"$f":"IF(N267>38,N267-38,0)","v":0},{"$f":"IF(P267>Q267,P267,Q267)","v":0}]
[38,"2019-09-16","2019-09-16",null,null,0,{"$f":"IF(F268>=6,0.5,0)","v":0},0,null,null,null,0,""]
[38,"2019-09-17","2019-09-17",null,null,0,0,0,null,null,null,0,""]
[38,"2019-09-18","2019-09-18",null,null,0,0,0,null,null,null,0,""]
[38,"2019-09-19","2019-09-19",null,null,0,0,0,null,null,null,0,""]
[38,"2019-09-20","2019-09-20",null,null,0,0,0,null,null,null,0,""]
[38,"2019-09-21","2019-09-21",null,null,0,null,0,null,null,"za",0,"","Week",null,"OV WEEK","OV DAG","Recup -","Recup +","OV 50%"]
[38,"2019-09-22","2019-09-22",null,null,0,null,0,null,null,"zo",0,"",{"$f":"SUM(L268:L274)","v":0},{"$f":"SUM(H268:H274)","v":0},{"$f":"IF(N274>38,N274-38,0)","v":0},{"$f":"SUM(M268:M274)","v":0},{"$f":"SUM(I268:I274)","v":0},{"$f":"IF(N274>38,N274-38,0)","v":0},{"$f":"IF(P274>Q274,P274,Q274)","v":0}]
[39,"2019-09-23","2019-09-23",null,null,0,0,0,null,null,null,0,""]
[39,"2019-09-24","2019-09-24",null,null,0,0,0,null,null,null,0,""]
[39,"2019-09-25","2019-09-25",null,null,0,0,0,null,null,null,0,""]
[39,"2019-09-26","2019-09-26",null,null,0,0,0,null,null,null,0,""]
[39,"2019-09-27","2019-09-27",null,null,0,0,0,null,null,null,0,""]
[39,"2019-09-28","2019-09-28",null,null,0,null,0,null,null,"za",0,"","Week",null,"OV WEEK","OV DAG","Recup -","Recup +","OV 50%"]
[39,"2019-09-29","2019-09-29",null,null,0,null,0,null,null,"zo",0,"",{"$f":"SUM(L275:L281)","v":0},{"$f":"SUM(H275:H281)","v":0},{"$f":"IF(N281>38,N281-38,0)","v":0},{"$f":"SUM(M275:M281)","v":0},{"$f":"SUM(I275:I281)","v":0},{"$f":"IF(N281>38,N281-38,0)","v":0},{"$f":"IF(P281>Q281,P281,Q281)","v":0}]
[40,"2019-09-30","2019-09-30",null,null,0,0,0,null,null,null,0,""]
[40,"2019-10-01","2019-10-01",null,null,0,0,0,null,null,null,0,""]
[40,"2019-10-02","2019-10-02",null,null,0,0,0,null,null,null,0,""]
[40,"2019-10-03","2019-10-03",null,null,0,0,0,null,null,null,0,""]
[40,"2019-10-04","2019-10-04",null,null,0,0,0,null,null,null,0,""]
[40,"2019-10-05","2019-10-05",null,null,0,null,0,null,null,"za",0,"","Week",null,"OV WEEK","OV DAG","Recup -","Recup +","OV 50%"]
[40,"2019-10-06","2019-10-06",null,null,0,null,0,null,null,"zo",0,"",{"$f":"SUM(L282:L288)","v":0},{"$f":"SUM(H282:H288)","v":0},{"$f":"IF(N288>38,N288-38,0)","v":0},{"$f":"SUM(M282:M288)","v":0},{"$f":"SUM(I282:I288)","v":0},{"$f":"IF(N288>38,N288-38,0)","v":0},{"$f":"IF(P288>Q288,P288,Q288)","v":0}]
[41,"2019-10-07","2019-10-07",null,null,0,0,0,null,null,null,0,""]
[41,"2019-10-08","2019-10-08",null,null,0,0,0,null,null,null,0,""]
[41,"2019-10-09","2019-10-09",null,null,0,0,0,null,null,null,0,""]
[41,"2019-10-10","2019-10-10",null,null,0,0,0,null,null,null,0,""]
[41,"2019-10-11","2019-10-11",null,null,0,0,0,null,null,null,0,""]
[41,"2019-10-12","2019-10-12",null,null,0,null,0,null,null,"za",0,"","Week",null,"OV WEEK","OV DAG","Recup -","Recup +","OV 50%"]
[41,"2019-10-13","2019-10-13",null,null,0,null,0,null,null,"zo",0,"",{"$f":"SUM(L289:L295)","v":0},{"$f":"SUM(H289:H295)","v":0},{"$f":"IF(N295>38,N295-38,0)","v":0},{"$f":"SUM(M289:M295)","v":0},{"$f":"SUM(I289:I295)","v":0},{"$f":"IF(N295>38,N295-38,0)","v":0},{"$f":"IF(P295>Q295,P295,Q295)","v":0}]
[42,"2019-10-14","2019-10-14",null,null,0,0,0,null,null,null,0,""]
[42,"2019-10-15","2019-10-15",null,null,0,0,0,null,null,null,0,""]
[42,"2019-10-16","2019-10-16",null,null,0,0,0,null,null,null,0,""]
[42,"2019-10-17","2019-10-17",null,null,0,0,0,null,null,null,0,""]
[42,"2019-10-18","2019-10-18",null,null,0,0,0,null,null,null,0,""]
[42,"2019-10-19","2019-10-19",null,null,0,null,0,null,null,"za",0,"","Week",null,"OV WEEK","OV DAG","Recup -","Recup +","OV 50%"]
[42,"2019-10-20","2019-10-20",null,null,0,null,0,null,null,"zo",0,"",{"$f":"SUM(L296:L302)","v":0},{"$f":"SUM(H296:H302)","v":0},{"$f":"IF(N302>38,N302-38,0)","v":0},{"$f":"SUM(M296:M302)","v":0},{"$f":"SUM(I296:I302)","v":0},{"$f":"IF(N302>38,N302-38,0)","v":0},{"$f":"IF(P302>Q302,P302,Q302)","v":0}]
[43,"2019-10-21","2019-10-21",null,null,0,0,0,null,null,null,0,""]
[43,"2019-10-22","2019-10-22",null,null,0,0,0,null,null,null,0,""]
[43,"2019-10-23","2019-10-23",null,null,0,0,0,null,null,null,0,""]
[43,"2019-10-24","2019-10-24",null,null,0,0,0,null,null,null,0,""]
[43,"2019-10-25","2019-10-25",null,null,0,0,0,null,null,null,0,""]
[43,"2019-10-26","2019-10-26",null,null,0,null,0,null,null,"za",0,"","Week",null,"OV WEEK","OV DAG","Recup -","Recup +","OV 50%"]
[43,"2019-10-27","2019-10-27",null,null,0,null,0,null,null,"zo",0,"",{"$f":"SUM(L303:L309)","v":0},{"$f":"SUM(H303:H309)","v":0},{"$f":"IF(N309>38,N309-38,0)","v":0},{"$f":"SUM(M303:M309)","v":0},{"$f":"SUM(I303:I309)","v":0},{"$f":"IF(N309>38,N309-38,0)","v":0},{"$f":"IF(P309>Q309,P309,Q309)","v":0}]
[44,"2019-10-28","2019-10-28",null,null,0,0,0,null,null,null,0,""]
[44,"2019-10-29","2019-10-29",null,null,0,0,0,null,null,null,0,""]
[44,"2019-10-30","2019-10-30",null,null,0,0,0,null,null,null,0,""]
[44,"2019-10-31","2019-10-31",null,null,0,0,0,null,null,null,0,""]
[44,"2019-11-01","2019-11-01",null,null,0,0,0,null,7.6,"fd",7.6,""]
[44,"2019-11-02","2019-11-02",null,null,0,null,0,null,null,"za",0,"","Week",null,"OV WEEK","OV DAG","Recup -","Recup +","OV 50%"]
[44,"2019-11-03","2019-11-03",null,null,0,null,0,null,null,"zo",0,"",{"$f":"SUM(L310:L316)","v":7.6},{"$f":"SUM(H310:H316)","v":0},{"$f":"IF(N316>38,N316-38,0)","v":0},{"$f":"SUM(M310:M316)","v":0},{"$f":"SUM(I310:I316)","v":0},{"$f":"IF(N316>38,N316-38,0)","v":0},{"$f":"IF(P316>Q316,P316,Q316)","v":0}]
[45,"2019-11-04","2019-11-04",null,null,0,0,0,null,null,null,0,""]
[45,"2019-11-05","2019-11-05",null,null,0,0,0,null,null,null,0,""]
[45,"2019-11-06","2019-11-06",null,null,0,0,0,null,null,null,0,""]
[45,"2019-11-07","2019-11-07",null,null,0,0,0,null,null,null,0,""]
[45,"2019-11-08","2019-11-08",null,null,0,0,0,null,null,null,0,""]
[45,"2019-11-09","2019-11-09",null,null,0,null,0,null,null,"za",0,"","Week",null,"OV WEEK","OV DAG","Recup -","Recup +","OV 50%"]
[45,"2019-11-10","2019-11-10",null,null,0,null,0,null,null,"zo",0,"",{"$f":"SUM(L317:L323)","v":0},{"$f":"SUM(H317:H323)","v":0},{"$f":"IF(N323>38,N323-38,0)","v":0},{"$f":"SUM(M317:M323)","v":0},{"$f":"SUM(I317:I323)","v":0},{"$f":"IF(N323>38,N323-38,0)","v":0},{"$f":"IF(P323>Q323,P323,Q323)","v":0}]
[46,"2019-11-11","2019-11-11",null,null,0,0,0,null,7.6,"fd",7.6,""]
[46,"2019-11-12","2019-11-12",null,null,0,0,0,null,null,null,0,""]
[46,"2019-11-13","2019-11-13",null,null,0,0,0,null,null,null,0,""]
[46,"2019-11-14","2019-11-14",null,null,0,0,0,null,null,null,0,""]
[46,"2019-11-15","2019-11-15",null,null,0,0,0,null,null,null,0,""]
[46,"2019-11-16","2019-11-16",null,null,0,null,0,null,null,"za",0,{"$f":"IF(L329>9,L329-9,\"\")","v":""},"Week",null,"OV WEEK","OV DAG","Recup -","Recup +","OV 50%"]
[{"$f":"WEEKNUM(C330,21)","v":46},{"$f":"C330","v":"2019-11-17"},"2019-11-17",null,null,{"$f":"(E330-D330)*24","v":0},null,{"$f":"F330-G330","v":0},null,null,"zo",{"$f":"SUM(H330:J330)","v":0},"",{"$f":"SUM(L324:L330)","v":7.6},{"$f":"SUM(H324:H330)","v":0},{"$f":"IF(N330>38,N330-38,0)","v":0},{"$f":"SUM(M324:M330)","v":0},{"$f":"SUM(I324:I330)","v":0},{"$f":"IF(N330>38,N330-38,0)","v":0},{"$f":"IF(P330>Q330,P330,Q330)","v":0}]
[47,"2019-11-18","2019-11-18",null,null,0,{"$f":"IF(F331>=6,0.5,0)","v":0},0,null,null,null,0,""]
[47,"2019-11-19","2019-11-19",null,null,0,0,0,null,null,null,0,""]
[47,"2019-11-20","2019-11-20",null,null,0,0,0,null,null,null,0,""]
[47,"2019-11-21","2019-11-21",null,null,0,0,0,null,null,null,0,""]
[47,"2019-11-22","2019-11-22",null,null,0,0,0,null,null,null,0,""]
[47,"2019-11-23","2019-11-23",null,null,0,null,0,null,null,"za",0,"","Week",null,"OV WEEK","OV DAG","Recup -","Recup +","OV 50%"]
[47,"2019-11-24","2019-11-24",null,null,0,null,0,null,null,"zo",0,"",{"$f":"SUM(L331:L337)","v":0},{"$f":"SUM(H331:H337)","v":0},{"$f":"IF(N337>38,N337-38,0)","v":0},{"$f":"SUM(M331:M337)","v":0},{"$f":"SUM(I331:I337)","v":0},{"$f":"IF(N337>38,N337-38,0)","v":0},{"$f":"IF(P337>Q337,P337,Q337)","v":0}]
[48,"2019-11-25","2019-11-25",null,null,0,0,0,null,null,null,0,""]
[48,"2019-11-26","2019-11-26",null,null,0,0,0,null,null,null,0,""]
[48,"2019-11-27","2019-11-27",null,null,0,0,0,null,null,null,0,""]
[48,"2019-11-28","2019-11-28",null,null,0,0,0,null,null,null,0,""]
[48,"2019-11-29","2019-11-29",null,null,0,0,0,null,null,null,0,""]
[48,"2019-11-30","2019-11-30",null,null,0,null,0,null,null,"za",0,"","Week",null,"OV WEEK","OV DAG","Recup -","Recup +","OV 50%"]
[48,"2019-12-01","2019-12-01",null,null,0,null,0,null,null,"zo",0,"",{"$f":"SUM(L338:L344)","v":0},{"$f":"SUM(H338:H344)","v":0},{"$f":"IF(N344>38,N344-38,0)","v":0},{"$f":"SUM(M338:M344)","v":0},{"$f":"SUM(I338:I344)","v":0},{"$f":"IF(N344>38,N344-38,0)","v":0},{"$f":"IF(P344>Q344,P344,Q344)","v":0}]
[49,"2019-12-02","2019-12-02",null,null,0,0,0,null,null,null,0,""]
[49,"2019-12-03","2019-12-03",null,null,0,0,0,null,null,null,0,""]
[49,"2019-12-04","2019-12-04",null,null,0,0,0,null,null,null,0,""]
[49,"2019-12-05","2019-12-05",null,null,0,0,0,null,null,null,0,""]
[49,"2019-12-06","2019-12-06",null,null,0,0,0,null,null,null,0,""]
[49,"2019-12-07","2019-12-07",null,null,0,null,0,null,null,"za",0,"","Week",null,"OV WEEK","OV DAG","Recup -","Recup +","OV 50%"]
[49,"2019-12-08","2019-12-08",null,null,0,null,0,null,null,"zo",0,"",{"$f":"SUM(L345:L351)","v":0},{"$f":"SUM(H345:H351)","v":0},{"$f":"IF(N351>38,N351-38,0)","v":0},{"$f":"SUM(M345:M351)","v":0},{"$f":"SUM(I345:I351)","v":0},{"$f":"IF(N351>38,N351-38,0)","v":0},{"$f":"IF(P351>Q351,P351,Q351)","v":0}]
[50,"2019-12-09","2019-12-09",null,null,0,0,0,null,null,null,0,""]
[50,"2019-12-10","2019-12-10",null,null,0,0,0,null,null,null,0,""]
[50,"2019-12-11","2019-12-11",null,null,0,0,0,null,null,null,0,""]
[50,"2019-12-12","2019-12-12",null,null,0,0,0,null,null,null,0,""]
[50,"2019-12-13","2019-12-13",null,null,0,0,0,null,null,null,0,""]
[50,"2019-12-14","2019-12-14",null,null,0,null,0,null,null,"za",0,"","Week",null,"OV WEEK","OV DAG","Recup -","Recup +","OV 50%"]
[50,"2019-12-15","2019-12-15",null,null,0,null,0,null,null,"zo",0,"",{"$f":"SUM(L352:L358)","v":0},{"$f":"SUM(H352:H358)","v":0},{"$f":"IF(N358>38,N358-38,0)","v":0},{"$f":"SUM(M352:M358)","v":0},{"$f":"SUM(I352:I358)","v":0},{"$f":"IF(N358>38,N358-38,0)","v":0},{"$f":"IF(P358>Q358,P358,Q358)","v":0}]
[51,"2019-12-16","2019-12-16",null,null,0,0,0,null,null,null,0,""]
[51,"2019-12-17","2019-12-17",null,null,0,0,0,null,null,null,0,""]
[51,"2019-12-18","2019-12-18",null,null,0,0,0,null,null,null,0,""]
[51,"2019-12-19","2019-12-19",null,null,0,0,0,null,null,null,0,""]
[51,"2019-12-20","2019-12-20",null,null,0,0,0,null,null,null,0,""]
[51,"2019-12-21","2019-12-21",null,null,0,null,0,null,null,"za",0,"","Week",null,"OV WEEK","OV DAG","Recup -","Recup +","OV 50%"]
[51,"2019-12-22","2019-12-22",null,null,0,null,0,null,null,"zo",0,"",{"$f":"SUM(L359:L365)","v":0},{"$f":"SUM(H359:H365)","v":0},{"$f":"IF(N365>38,N365-38,0)","v":0},{"$f":"SUM(M359:M365)","v":0},{"$f":"SUM(I359:I365)","v":0},{"$f":"IF(N365>38,N365-38,0)","v":0},{"$f":"IF(P365>Q365,P365,Q365)","v":0}]
[52,"2019-12-23","2019-12-23",null,null,0,0,0,null,null,null,0,""]
[52,"2019-12-24","2019-12-24",null,null,0,0,0,null,null,null,0,""]
[52,"2019-12-25","2019-12-25",null,null,0,0,0,null,7.6,"fd",7.6,""]
[52,"2019-12-26","2019-12-26",null,null,0,0,0,null,null,null,0,""]
[52,"2019-12-27","2019-12-27",null,null,0,0,0,null,null,null,0,""]
[52,"2019-12-28","2019-12-28",null,null,0,null,0,null,null,"za",0,"","Week",null,"OV WEEK","OV DAG","Recup -","Recup +","OV 50%"]
[52,"2019-12-29","2019-12-29",null,null,0,null,0,null,null,"zo",0,"",{"$f":"SUM(L366:L372)","v":7.6},{"$f":"SUM(H366:H372)","v":0},{"$f":"IF(N372>38,N372-38,0)","v":0},{"$f":"SUM(M366:M372)","v":0},{"$f":"SUM(I366:I372)","v":0},{"$f":"IF(N372>38,N372-38,0)","v":0},{"$f":"IF(P372>Q372,P372,Q372)","v":0}]
[1,"2019-12-30","2019-12-30",null,null,0,0,0,null,null,null,0,""]
[1,"2019-12-31","2019-12-31",null,null,0,0,0,null,null,null,0,""]
[1,"2020-01-01","2020-01-01",null,null,0,0,0,null,7.6,"fd",7.6,""]
[1,"2020-01-02","2020-01-02",null,null,0,0,0,null,null,null,0,""]
[1,"2020-01-03","2020-01-03",null,null,0,0,0,null,null,null,0,""]
[1,"2020-01-04","2020-01-04",null,null,0,null,0,null,null,"za",0,"","Week",null,"OV WEEK","OV DAG","Recup -","Recup +","OV 50%"]
[1,"2020-01-05","2020-01-05",null,null,0,null,0,null,null,"zo",0,"",{"$f":"SUM(L373:L379)","v":7.6},{"$f":"SUM(H373:H379)","v":0},{"$f":"IF(N379>38,N379-38,0)","v":0},{"$f":"SUM(M373:M379)","v":0},{"$f":"SUM(I373:I379)","v":0},{"$f":"IF(N379>38,N379-38,0)","v":0},{"$f":"IF(P379>Q379,P379,Q379)","v":0}]

{"sheet":"124","index":23,"n_rows":379,"n_cols":35,"rows_kept":379,"cut":false,"hidden":false,"merged":[[6,21,6,24],[6,25,6,28],[6,29,6,32],[6,33,6,34],[0,1,1,12],[4,21,4,23],[4,25,4,28],[4,29,4,32],[4,33,4,34],[5,21,5,23],[5,25,5,28],[5,29,5,32],[5,33,5,34],[2,21,2,23],[2,25,2,28],[2,29,2,32],[2,33,2,34],[3,21,3,23],[3,25,3,28],[3,29,3,32],[3,33,3,34],[0,21,0,24],[0,25,0,28],[0,29,0,32],[0,33,0,34],[1,21,1,23],[1,25,1,28],[1,29,1,32],[1,33,1,34]]}
["124","Lips Alain",null,null,null,null,null,null,null,null,null,null,null,null,null,null,null,null,null,null,null,"Soort",null,null,null,"Recht op",null,null,null,"Opgenomen",null,null,null,"Saldo"]
[null,null,null,null,null,null,null,null,null,null,null,null,null,null,null,null,null,null,null,null,null,"ADV-dagen",null,null,"adv",null,null,null,null,{"$f":"(COUNTIF(W$9:AH$39,\"ADV\")+(COUNTIF(W$9:AH$39,\"0,5ADV\"))/2)","v":0},null,null,null,{"$f":"Z2-AD2","v":0}]
[null,null,null,null,null,null,null,null,null,null,null,null,null,null,null,null,null,null,null,null,null,"Vakantie 2019",null,null,"v",null,null,null,null,{"$f":"(COUNTIF(W$9:AH$39,\"V\")+(COUNTIF(W$9:AH$39,\"0,5V\"))/2)","v":0},null,null,null,{"$f":"Z3-AD3","v":0}]
["Opgelet avondwerk ! Van 00:00u tot 00:00u / + 0,00u premie 50%",null,null,null,null,null,null,null,null,null,null,null,null,"Feestdag in weekend 2019",null,null,null,null,"Recup 2018",null,null,"Feestdag 2019",null,null,"f",1,null,null,null,{"$f":"(COUNTIF(W$9:AH$39,\"F\")+(COUNTIF(W$9:AH$39,\"0,5F\"))/2)","v":0},null,null,null,1]
[null,null,null,null,null,null,null,null,null,null,null,null,null,"- nationale feestdag 21/7",null,null,null,null,null,null,null,"Vakantie rest 2018",null,null,"vvj",5,null,null,null,{"$f":"(COUNTIF(W$9:AH$39,\"vvj\")+(COUNTIF(W$9:AH$39,\"0,5vvj\"))/2)","v":0},null,null,null,5]
[null,null,null,null,null,null,null,null,null,null,null,null,null,null,null,null,null,null,"Recup",{"$f":"SUM(S9:S379)-SUM(R9:R379)+T5+T4","v":0},null,"Anciënniteitsdagen",null,null,"a ",null,null,null,null,{"$f":"(COUNTIF(W$9:AH$39,\"A\")+(COUNTIF(W$9:AH$39,\"0,5A\"))/2)","v":0},null,null,null,0]
[null,null,null,null,null,null,null,null,null,null,null,null,null,null,null,null,null,null,null,null,null,"TOTAAL",null,null,null,{"$f":"SUM(Z2:AC6)","v":6},null,null,null,{"$f":"SUM(AD2:AG6)","v":0},null,null,null,{"$f":"SUM(AH2:AI6)","v":6}]
["W","Dag","Datum","Van ","Tot",null,"Pauze","Prestaties","Recup","Andere","Type","Dag","OV DAG","Week","Prestaties","OV WEEK","OV DAG","Rec. -","Rec. +","OV 50%","M",null,"Jan","Feb","Maa","Apr","Mei","Jun","Jul","Aug","Sept","Okt","Nov","Dec"]
[{"$f":"WEEKNUM(C9,21)","v":1},{"$f":"C9","v":"2018-12-31"},"2018-12-31","09:15:00","15:30:00",{"$f":"(E9-D9)*24","v":6.25},{"$f":"IF(F9>=6,0.5,0)","v":0.5},{"$f":"F9-G9","v":5.75},null,null,null,{"$f":"SUM(H9:J9)","v":5.75},{"$f":"IF(L9>9,L9-9,\"\")","v":""},"HB 31/12: gewerkt",null,null,null,null,null,null,null,1,{"$f":"K9","v":0},{"$f":"K40","v":0},{"$f":"K68","v":0},{"$f":"K99","v":"zo"},{"$f":"K129","v":0},{"$f":"K160","v":0},{"$f":"K190","v":"zo"},{"$f":"K221","v":0},{"$f":"K252","v":"za"},{"$f":"K282","v":0},{"$f":"K313","v":0},{"$f":"K343","v":"za"},1]
[{"$f":"WEEKNUM(C10,21)","v":1},{"$f":"C10","v":"2019-01-01"},"2019-01-01",null,null,{"$f":"(E10-D10)*24","v":0},{"$f":"IF(F10>=6,0.5,0)","v":0},{"$f":"F10-G10","v":0},null,7.6,"fd",{"$f":"SUM(H10:J10)","v":7.6},"",null,null,null,null,null,null,null,null,2,{"$f":"K10","v":"fd"},{"$f":"K41","v":0},{"$f":"K69","v":0},{"$f":"K100","v":0},{"$f":"K130","v":"fd"},{"$f":"K161","v":"za"},{"$f":"K191","v":0},{"$f":"K222","v":0},{"$f":"K253","v":"zo"},{"$f":"K283","v":0},{"$f":"K314","v":"fd"},{"$f":"K344","v":"zo"},2]
[1,"2019-01-02","2019-01-02","09:00:00","16:45:00",7.7499999999999991,0.5,7.2499999999999991,null,null,null,7.2499999999999991,"",null,null,null,null,null,null,null,null,3,0,"za","za",0,0,"zo",0,0,0,0,"za",0,3]
[1,"2019-01-03","2019-01-03","08:45:00","15:15:00",6.5,0.5,6,null,null,null,6,"",null,null,null,null,null,null,null,null,4,0,"zo","zo",0,0,0,0,"za",0,0,"zo",0,4]
[1,"2019-01-04","2019-01-04","08:00:00","14:45:00",6.7500000000000018,0.5,6.2500000000000018,null,null,null,6.2500000000000018,"",null,null,null,null,null,null,null,null,5,0,0,0,0,"za",0,0,"zo",0,0,0,{"$f":"K347","v":0},5]
[1,"2019-01-05","2019-01-05",null,null,0,null,0,null,null,"za",0,"","Week",null,"OV WEEK","OV DAG","Recup -","Recup +","OV 50%",null,6,"za",0,0,0,"zo",0,0,0,0,"za",0,0,6]
[1,"2019-01-06","2019-01-06",null,null,0,null,0,null,null,"zo",0,"",{"$f":"SUM(L9:L15)","v":32.85},{"$f":"SUM(H9:H15)","v":25.25},{"$f":"IF(N15>38,N15-38,0)","v":0},{"$f":"SUM(M9:M15)","v":0},{"$f":"SUM(I9:I15)","v":0},{"$f":"IF(N15>38,N15-38,0)","v":0},{"$f":"IF(P15>Q15,P15,Q15)","v":0},null,7,"zo",0,0,"za",0,0,"za",0,0,"zo",0,0,7]
[2,"2019-01-07","2019-01-07",null,null,0,0,0,null,null,null,0,"",null,null,null,null,null,null,null,null,8,0,0,0,"zo",0,0,"zo",0,"za",0,0,"za",8]
[2,"2019-01-08","2019-01-08",null,null,0,0,0,null,null,null,0,"",null,null,null,null,null,null,null,null,9,0,0,0,0,0,"za",0,0,"zo",0,0,"zo",9]
[2,"2019-01-09","2019-01-09",null,null,0,0,0,null,null,null,0,"",null,null,null,null,null,null,null,null,10,0,"za","za",0,0,"zo",0,0,0,0,"za",0,10]
[2,"2019-01-10","2019-01-10",null,null,0,0,0,null,null,null,0,"",null,null,null,null,null,null,null,null,11,0,"zo","zo",0,0,"fd",0,"za",0,0,"zo",0,11]
[2,"2019-01-11","2019-01-11",null,null,0,0,0,null,null,null,0,"",null,null,null,null,null,null,null,null,12,0,0,0,0,"za",0,0,"zo",0,0,"fd",0,12]
[2,"2019-01-12","2019-01-12",null,null,0,null,0,null,null,"za",0,"","Week",null,"OV WEEK","OV DAG","Recup -","Recup +","OV 50%",null,13,"za",0,0,0,"zo",0,0,0,0,"za",0,0,13]
[2,"2019-01-13","2019-01-13",null,null,0,null,0,null,null,"zo",0,"",{"$f":"SUM(L16:L22)","v":0},{"$f":"SUM(H16:H22)","v":0},{"$f":"IF(N22>38,N22-38,0)","v":0},{"$f":"SUM(M16:M22)","v":0},{"$f":"SUM(I16:I22)","v":0},{"$f":"IF(N22>38,N22-38,0)","v":0},{"$f":"IF(P22>Q22,P22,Q22)","v":0},null,14,"zo",0,0,"za",0,0,"za",0,0,"zo",0,0,14]
[3,"2019-01-14","2019-01-14",null,null,0,0,0,null,null,null,0,"",null,null,null,null,null,null,null,null,15,0,0,0,"zo",0,0,"zo",0,"za",0,0,"za",15]
[3,"2019-01-15","2019-01-15",null,null,0,0,0,null,null,null,0,"",null,null,null,null,null,null,null,null,16,0,0,0,0,0,"za",0,"fd","zo",0,0,"zo",16]
[3,"2019-01-16","2019-01-16",null,null,0,0,0,null,null,null,0,"",null,null,null,null,null,null,null,null,17,0,"za","za",0,0,"zo",0,0,0,0,"za",0,17]
[3,"2019-01-17","2019-01-17",null,null,0,0,0,null,null,null,0,"",null,null,null,null,null,null,null,null,18,0,"zo","zo",0,0,0,0,"za",0,0,"zo",0,18]
[3,"2019-01-18","2019-01-18",null,null,0,0,0,null,null,null,0,"",null,null,null,null,null,null,null,null,19,0,0,0,0,"za",0,0,"zo",0,0,0,0,19]
[3,"2019-01-19","2019-01-19",null,null,0,null,0,null,null,"za",0,"","Week",null,"OV WEEK","OV DAG","Recup -","Recup +","OV 50%",null,20,"za",0,0,0,"zo",0,0,0,0,"za",0,{"$f":"K362","v":0},20]
[3,"2019-01-20","2019-01-20",null,null,0,null,0,null,null,"zo",0,"",{"$f":"SUM(L23:L29)","v":0},{"$f":"SUM(H23:H29)","v":0},{"$f":"IF(N29>38,N29-38,0)","v":0},{"$f":"SUM(M23:M29)","v":0},{"$f":"SUM(I23:I29)","v":0},{"$f":"IF(N29>38,N29-38,0)","v":0},{"$f":"IF(P29>Q29,P29,Q29)","v":0},null,21,"zo",0,0,"za","fd",0,"za",0,0,"zo",0,0,21]
[4,"2019-01-21","2019-01-21",null,null,0,0,0,null,null,null,0,"",null,null,null,null,null,null,null,null,22,0,0,0,"zo",0,0,"zo",0,"za",0,0,"za",22]
[4,"2019-01-22","2019-01-22",null,null,0,0,0,null,null,null,0,"",null,null,null,null,null,null,null,null,23,0,0,0,"fd",0,"za",0,0,"zo",0,0,"zo",23]
[4,"2019-01-23","2019-01-23",null,null,0,0,0,null,null,null,0,"",null,null,null,null,null,null,null,null,24,0,"za","za",0,0,"zo",0,0,0,0,"za",0,24]
[4,"2019-01-24","2019-01-24",null,null,0,0,0,null,null,null,0,"",null,null,null,null,null,null,null,null,25,0,"zo","zo",0,0,0,0,"za",0,0,"zo",0,25]
[4,"2019-01-25","2019-01-25",null,null,0,0,0,null,null,null,0,"",null,null,null,null,null,null,null,null,26,0,0,0,0,"za",0,0,"zo",0,0,0,"fd",26]
[4,"2019-01-26","2019-01-26",null,null,0,null,0,null,null,"za",0,"","Week",null,"OV WEEK","OV DAG","Recup -","Recup +","OV 50%",null,27,"za",0,0,0,"zo",0,0,0,0,"za",0,0,27]
[4,"2019-01-27","2019-01-27",null,null,0,null,0,null,null,"zo",0,"",{"$f":"SUM(L30:L36)","v":0},{"$f":"SUM(H30:H36)","v":0},{"$f":"IF(N36>38,N36-38,0)","v":0},{"$f":"SUM(M30:M36)","v":0},{"$f":"SUM(I30:I36)","v":0},{"$f":"IF(N36>38,N36-38,0)","v":0},{"$f":"IF(P36>Q36,P36,Q36)","v":0},null,28,"zo",0,0,"za",0,0,"za",0,0,"zo",0,0,28]
[5,"2019-01-28","2019-01-28",null,null,0,0,0,null,null,null,0,"",null,null,null,null,null,null,null,null,29,0,null,0,"zo",0,0,"zo",0,"za",0,0,"za",29]
[5,"2019-01-29","2019-01-29",null,null,0,0,0,null,null,null,0,"",null,null,null,null,null,null,null,null,30,0,null,0,0,0,"za",0,0,"zo",0,0,"zo",30]
[5,"2019-01-30","2019-01-30",null,null,0,0,0,null,null,null,0,"",null,null,null,null,null,null,null,null,31,0,null,"za",null,"fd",null,0,0,null,0,null,0,31]
[5,"2019-01-31","2019-01-31",null,null,0,0,0,null,null,null,0,"",null,null,null,null,null,null,null,null,"WD",23,20,21,22,23,20,23,22,21,23,21,22,{"$f":"SUM(W40:AH40)","v":261}]
[5,"2019-02-01","2019-02-01",null,null,0,0,0,null,null,null,0,""]
[5,"2019-02-02","2019-02-02",null,null,0,null,0,null,null,"za",0,"","Week",null,"OV WEEK","OV DAG","Recup -","Recup +","OV 50%"]
[5,"2019-02-03","2019-02-03",null,null,0,null,0,null,null,"zo",0,"",{"$f":"SUM(L37:L43)","v":0},{"$f":"SUM(H37:H43)","v":0},{"$f":"IF(N43>38,N43-38,0)","v":0},{"$f":"SUM(M37:M43)","v":0},{"$f":"SUM(I37:I43)","v":0},{"$f":"IF(N43>38,N43-38,0)","v":0},{"$f":"IF(P43>Q43,P43,Q43)","v":0}]
[6,"2019-02-04","2019-02-04",null,null,0,0,0,null,null,null,0,""]
[6,"2019-02-05","2019-02-05",null,null,0,0,0,null,null,null,0,""]
[6,"2019-02-06","2019-02-06",null,null,0,0,0,null,null,null,0,""]
[6,"2019-02-07","2019-02-07",null,null,0,0,0,null,null,null,0,""]
[6,"2019-02-08","2019-02-08",null,null,0,0,0,null,null,null,0,""]
[6,"2019-02-09","2019-02-09",null,null,0,null,0,null,null,"za",0,"","Week",null,"OV WEEK","OV DAG","Recup -","Recup +","OV 50%"]
[6,"2019-02-10","2019-02-10",null,null,0,null,0,null,null,"zo",0,"",{"$f":"SUM(L44:L50)","v":0},{"$f":"SUM(H44:H50)","v":0},{"$f":"IF(N50>38,N50-38,0)","v":0},{"$f":"SUM(M44:M50)","v":0},{"$f":"SUM(I44:I50)","v":0},{"$f":"IF(N50>38,N50-38,0)","v":0},{"$f":"IF(P50>Q50,P50,Q50)","v":0}]
[7,"2019-02-11","2019-02-11",null,null,0,0,0,null,null,null,0,""]
[7,"2019-02-12","2019-02-12",null,null,0,0,0,null,null,null,0,""]
[7,"2019-02-13","2019-02-13",null,null,0,0,0,null,null,null,0,""]
[7,"2019-02-14","2019-02-14",null,null,0,0,0,null,null,null,0,""]
[7,"2019-02-15","2019-02-15",null,null,0,0,0,null,null,null,0,""]
[7,"2019-02-16","2019-02-16",null,null,0,null,0,null,null,"za",0,"","Week",null,"OV WEEK","OV DAG","Recup -","Recup +","OV 50%"]
[7,"2019-02-17","2019-02-17",null,null,0,null,0,null,null,"zo",0,"",{"$f":"SUM(L51:L57)","v":0},{"$f":"SUM(H51:H57)","v":0},{"$f":"IF(N57>38,N57-38,0)","v":0},{"$f":"SUM(M51:M57)","v":0},{"$f":"SUM(I51:I57)","v":0},{"$f":"IF(N57>38,N57-38,0)","v":0},{"$f":"IF(P57>Q57,P57,Q57)","v":0}]
[8,"2019-02-18","2019-02-18",null,null,0,0,0,null,null,null,0,""]
[8,"2019-02-19","2019-02-19",null,null,0,0,0,null,null,null,0,""]
[8,"2019-02-20","2019-02-20",null,null,0,0,0,null,null,null,0,""]
[8,"2019-02-21","2019-02-21",null,null,0,0,0,null,null,null,0,""]
[8,"2019-02-22","2019-02-22",null,null,0,0,0,null,null,null,0,""]
[8,"2019-02-23","2019-02-23",null,null,0,null,0,null,null,"za",0,"","Week",null,"OV WEEK","OV DAG","Recup -","Recup +","OV 50%"]
[8,"2019-02-24","2019-02-24",null,null,0,null,0,null,null,"zo",0,"",{"$f":"SUM(L58:L64)","v":0},{"$f":"SUM(H58:H64)","v":0},{"$f":"IF(N64>38,N64-38,0)","v":0},{"$f":"SUM(M58:M64)","v":0},{"$f":"SUM(I58:I64)","v":0},{"$f":"IF(N64>38,N64-38,0)","v":0},{"$f":"IF(P64>Q64,P64,Q64)","v":0}]
[9,"2019-02-25","2019-02-25",null,null,0,0,0,null,null,null,0,""]
[9,"2019-02-26","2019-02-26",null,null,0,0,0,null,null,null,0,""]
[9,"2019-02-27","2019-02-27",null,null,0,0,0,null,null,null,0,""]
[9,"2019-02-28","2019-02-28",null,null,0,0,0,null,null,null,0,""]
[9,"2019-03-01","2019-03-01",null,null,0,0,0,null,null,null,0,""]
[9,"2019-03-02","2019-03-02",null,null,0,null,0,null,null,"za",0,"","Week",null,"OV WEEK","OV DAG","Recup -","Recup +","OV 50%"]
[9,"2019-03-03","2019-03-03",null,null,0,null,0,null,null,"zo",0,"",{"$f":"SUM(L65:L71)","v":0},{"$f":"SUM(H65:H71)","v":0},{"$f":"IF(N71>38,N71-38,0)","v":0},{"$f":"SUM(M65:M71)","v":0},{"$f":"SUM(I65:I71)","v":0},{"$f":"IF(N71>38,N71-38,0)","v":0},{"$f":"IF(P71>Q71,P71,Q71)","v":0}]
[10,"2019-03-04","2019-03-04",null,null,0,0,0,null,null,null,0,""]
[10,"2019-03-05","2019-03-05",null,null,0,0,0,null,null,null,0,{"$f":"IF(L73>9,L73-9,\"\")","v":""}]
[{"$f":"WEEKNUM(C74,21)","v":10},{"$f":"C74","v":"2019-03-06"},"2019-03-06",null,null,{"$f":"(E74-D74)*24","v":0},{"$f":"IF(F74>=6,0.5,0)","v":0},{"$f":"F74-G74","v":0},null,null,null,{"$f":"SUM(H74:J74)","v":0},""]
[10,"2019-03-07","2019-03-07",null,null,0,0,0,null,null,null,0,""]
[10,"2019-03-08","2019-03-08",null,null,0,0,0,null,null,null,0,""]
[10,"2019-03-09","2019-03-09",null,null,0,null,0,null,null,"za",0,"","Week",null,"OV WEEK","OV DAG","Recup -","Recup +","OV 50%"]
[10,"2019-03-10","2019-03-10",null,null,0,null,0,null,null,"zo",0,"",{"$f":"SUM(L72:L78)","v":0},{"$f":"SUM(H72:H78)","v":0},{"$f":"IF(N78>38,N78-38,0)","v":0},{"$f":"SUM(M72:M78)","v":0},{"$f":"SUM(I72:I78)","v":0},{"$f":"IF(N78>38,N78-38,0)","v":0},{"$f":"IF(P78>Q78,P78,Q78)","v":0}]
[11,"2019-03-11","2019-03-11",null,null,0,0,0,null,null,null,0,""]
[11,"2019-03-12","2019-03-12",null,null,0,0,0,null,null,null,0,""]
[11,"2019-03-13","2019-03-13",null,null,0,0,0,null,null,null,0,""]
[11,"2019-03-14","2019-03-14",null,null,0,0,0,null,null,null,0,""]
[11,"2019-03-15","2019-03-15",null,null,0,0,0,null,null,null,0,""]
[11,"2019-03-16","2019-03-16",null,null,0,null,0,null,null,"za",0,"","Week",null,"OV WEEK","OV DAG","Recup -","Recup +","OV 50%"]
[11,"2019-03-17","2019-03-17",null,null,0,null,0,null,null,"zo",0,"",{"$f":"SUM(L79:L85)","v":0},{"$f":"SUM(H79:H85)","v":0},{"$f":"IF(N85>38,N85-38,0)","v":0},{"$f":"SUM(M79:M85)","v":0},{"$f":"SUM(I79:I85)","v":0},{"$f":"IF(N85>38,N85-38,0)","v":0},{"$f":"IF(P85>Q85,P85,Q85)","v":0}]
[12,"2019-03-18","2019-03-18",null,null,0,0,0,null,null,null,0,""]
[12,"2019-03-19","2019-03-19",null,null,0,0,0,null,null,null,0,""]
[12,"2019-03-20","2019-03-20",null,null,0,0,0,null,null,null,0,""]
[12,"2019-03-21","2019-03-21",null,null,0,0,0,null,null,null,0,""]
[12,"2019-03-22","2019-03-22",null,null,0,0,0,null,null,null,0,""]
[12,"2019-03-23","2019-03-23",null,null,0,null,0,null,null,"za",0,"","Week",null,"OV WEEK","OV DAG","Recup -","Recup +","OV 50%"]
[12,"2019-03-24","2019-03-24",null,null,0,null,0,null,null,"zo",0,"",{"$f":"SUM(L86:L92)","v":0},{"$f":"SUM(H86:H92)","v":0},{"$f":"IF(N92>38,N92-38,0)","v":0},{"$f":"SUM(M86:M92)","v":0},{"$f":"SUM(I86:I92)","v":0},{"$f":"IF(N92>38,N92-38,0)","v":0},{"$f":"IF(P92>Q92,P92,Q92)","v":0}]
[13,"2019-03-25","2019-03-25",null,null,0,0,0,null,null,null,0,""]
[13,"2019-03-26","2019-03-26",null,null,0,0,0,null,null,null,0,""]
[13,"2019-03-27","2019-03-27",null,null,0,0,0,null,null,null,0,""]
[13,"2019-03-28","2019-03-28",null,null,0,0,0,null,null,null,0,""]
[13,"2019-03-29","2019-03-29",null,null,0,0,0,null,null,null,0,""]
[13,"2019-03-30","2019-03-30",null,null,0,null,0,null,null,"za",0,"","Week",null,"OV WEEK","OV DAG","Recup -","Recup +","OV 50%"]
[13,"2019-03-31","2019-03-31",null,null,0,null,0,null,null,"zo",0,"",{"$f":"SUM(L93:L99)","v":0},{"$f":"SUM(H93:H99)","v":0},{"$f":"IF(N99>38,N99-38,0)","v":0},{"$f":"SUM(M93:M99)","v":0},{"$f":"SUM(I93:I99)","v":0},{"$f":"IF(N99>38,N99-38,0)","v":0},{"$f":"IF(P99>Q99,P99,Q99)","v":0}]
[14,"2019-04-01","2019-04-01",null,null,0,0,0,null,null,null,0,""]
[14,"2019-04-02","2019-04-02",null,null,0,0,0,null,null,null,0,""]
[14,"2019-04-03","2019-04-03",null,null,0,0,0,null,null,null,0,""]
[14,"2019-04-04","2019-04-04",null,null,0,0,0,null,null,null,0,""]
[14,"2019-04-05","2019-04-05",null,null,0,0,0,null,null,null,0,""]
[14,"2019-04-06","2019-04-06",null,null,0,null,0,null,null,"za",0,"","Week",null,"OV WEEK","OV DAG","Recup -","Recup +","OV 50%"]
[14,"2019-04-07","2019-04-07",null,null,0,null,0,null,null,"zo",0,"",{"$f":"SUM(L100:L106)","v":0},{"$f":"SUM(H100:H106)","v":0},{"$f":"IF(N106>38,N106-38,0)","v":0},{"$f":"SUM(M100:M106)","v":0},{"$f":"SUM(I100:I106)","v":0},{"$f":"IF(N106>38,N106-38,0)","v":0},{"$f":"IF(P106>Q106,P106,Q106)","v":0}]
[15,"2019-04-08","2019-04-08",null,null,0,0,0,null,null,null,0,""]
[15,"2019-04-09","2019-04-09",null,null,0,0,0,null,null,null,0,""]
[15,"2019-04-10","2019-04-10",null,null,0,0,0,null,null,null,0,""]
[15,"2019-04-11","2019-04-11",null,null,0,0,0,null,null,null,0,""]
[15,"2019-04-12","2019-04-12",null,null,0,0,0,null,null,null,0,""]
[15,"2019-04-13","2019-04-13",null,null,0,null,0,null,null,"za",0,"","Week",null,"OV WEEK","OV DAG","Recup -","Recup +","OV 50%"]
[15,"2019-04-14","2019-04-14",null,null,0,null,0,null,null,"zo",0,"",{"$f":"SUM(L107:L113)","v":0},{"$f":"SUM(H107:H113)","v":0},{"$f":"IF(N113>38,N113-38,0)","v":0},{"$f":"SUM(M107:M113)","v":0},{"$f":"SUM(I107:I113)","v":0},{"$f":"IF(N113>38,N113-38,0)","v":0},{"$f":"IF(P113>Q113,P113,Q113)","v":0}]
[16,"2019-04-15","2019-04-15",null,null,0,0,0,null,null,null,0,""]
[16,"2019-04-16","2019-04-16",null,null,0,0,0,null,null,null,0,""]
[16,"2019-04-17","2019-04-17",null,null,0,0,0,null,null,null,0,""]
[16,"2019-04-18","2019-04-18",null,null,0,0,0,null,null,null,0,""]
[16,"2019-04-19","2019-04-19",null,null,0,0,0,null,null,null,0,""]
[16,"2019-04-20","2019-04-20",null,null,0,null,0,null,null,"za",0,"","Week",null,"OV WEEK","OV DAG","Recup -","Recup +","OV 50%"]
[16,"2019-04-21","2019-04-21",null,null,0,null,0,null,null,"zo",0,"",{"$f":"SUM(L114:L120)","v":0},{"$f":"SUM(H114:H120)","v":0},{"$f":"IF(N120>38,N120-38,0)","v":0},{"$f":"SUM(M114:M120)","v":0},{"$f":"SUM(I114:I120)","v":0},{"$f":"IF(N120>38,N120-38,0)","v":0},{"$f":"IF(P120>Q120,P120,Q120)","v":0}]
[17,"2019-04-22","2019-04-22",null,null,0,0,0,null,7.6,"fd",7.6,""]
[17,"2019-04-23","2019-04-23",null,null,0,0,0,null,null,null,0,""]
[17,"2019-04-24","2019-04-24",null,null,0,0,0,null,null,null,0,""]
[17,"2019-04-25","2019-04-25",null,null,0,0,0,null,null,null,0,""]
[17,"2019-04-26","2019-04-26",null,null,0,0,0,null,null,null,0,""]
[17,"2019-04-27","2019-04-27",null,null,0,null,0,null,null,"za",0,"","Week",null,"OV WEEK","OV DAG","Recup -","Recup +","OV 50%"]
[17,"2019-04-28","2019-04-28",null,null,0,null,0,null,null,"zo",0,"",{"$f":"SUM(L121:L127)","v":7.6},{"$f":"SUM(H121:H127)","v":0},{"$f":"IF(N127>38,N127-38,0)","v":0},{"$f":"SUM(M121:M127)","v":0},{"$f":"SUM(I121:I127)","v":0},{"$f":"IF(N127>38,N127-38,0)","v":0},{"$f":"IF(P127>Q127,P127,Q127)","v":0}]
[18,"2019-04-29","2019-04-29",null,null,0,0,0,null,null,null,0,""]
[18,"2019-04-30","2019-04-30",null,null,0,0,0,null,null,null,0,""]
[18,"2019-05-01","2019-05-01",null,null,0,0,0,null,7.6,"fd",7.6,""]
[18,"2019-05-02","2019-05-02",null,null,0,0,0,null,null,null,0,""]
[18,"2019-05-03","2019-05-03",null,null,0,0,0,null,null,null,0,""]
[18,"2019-05-04","2019-05-04",null,null,0,null,0,null,null,"za",0,"","Week",null,"OV WEEK","OV DAG","Recup -","Recup +","OV 50%"]
[18,"2019-05-05","2019-05-05",null,null,0,null,0,null,null,"zo",0,"",{"$f":"SUM(L128:L134)","v":7.6},{"$f":"SUM(H128:H134)","v":0},{"$f":"IF(N134>38,N134-38,0)","v":0},{"$f":"SUM(M128:M134)","v":0},{"$f":"SUM(I128:I134)","v":0},{"$f":"IF(N134>38,N134-38,0)","v":0},{"$f":"IF(P134>Q134,P134,Q134)","v":0}]
[19,"2019-05-06","2019-05-06",null,null,0,0,0,null,null,null,0,""]
[19,"2019-05-07","2019-05-07",null,null,0,0,0,null,null,null,0,""]
[19,"2019-05-08","2019-05-08",null,null,0,0,0,null,null,null,0,{"$f":"IF(L137>9,L137-9,\"\")","v":""}]
[{"$f":"WEEKNUM(C138,21)","v":19},{"$f":"C138","v":"2019-05-09"},"2019-05-09",null,null,{"$f":"(E138-D138)*24","v":0},{"$f":"IF(F138>=6,0.5,0)","v":0},{"$f":"F138-G138","v":0},null,null,null,{"$f":"SUM(H138:J138)","v":0},""]
[19,"2019-05-10","2019-05-10",null,null,0,0,0,null,null,null,0,""]
[19,"2019-05-11","2019-05-11",null,null,0,null,0,null,null,"za",0,"","Week",null,"OV WEEK","OV DAG","Recup -","Recup +","OV 50%"]
[19,"2019-05-12","2019-05-12",null,null,0,null,0,null,null,"zo",0,"",{"$f":"SUM(L135:L141)","v":0},{"$f":"SUM(H135:H141)","v":0},{"$f":"IF(N141>38,N141-38,0)","v":0},{"$f":"SUM(M135:M141)","v":0},{"$f":"SUM(I135:I141)","v":0},{"$f":"IF(N141>38,N141-38,0)","v":0},{"$f":"IF(P141>Q141,P141,Q141)","v":0}]
[20,"2019-05-13","2019-05-13",null,null,0,0,0,null,null,null,0,""]
[20,"2019-05-14","2019-05-14",null,null,0,0,0,null,null,null,0,""]
[20,"2019-05-15","2019-05-15",null,null,0,0,0,null,null,null,0,""]
[20,"2019-05-16","2019-05-16",null,null,0,0,0,null,null,null,0,""]
[20,"2019-05-17","2019-05-17",null,null,0,0,0,null,null,null,0,""]
[20,"2019-05-18","2019-05-18",null,null,0,null,0,null,null,"za",0,"","Week",null,"OV WEEK","OV DAG","Recup -","Recup +","OV 50%"]
[20,"2019-05-19","2019-05-19",null,null,0,null,0,null,null,"zo",0,"",{"$f":"SUM(L142:L148)","v":0},{"$f":"SUM(H142:H148)","v":0},{"$f":"IF(N148>38,N148-38,0)","v":0},{"$f":"SUM(M142:M148)","v":0},{"$f":"SUM(I142:I148)","v":0},{"$f":"IF(N148>38,N148-38,0)","v":0},{"$f":"IF(P148>Q148,P148,Q148)","v":0}]
[21,"2019-05-20","2019-05-20",null,null,0,0,0,null,7.6,"fd",7.6,""]
[21,"2019-05-21","2019-05-21",null,null,0,0,0,null,null,null,0,""]
[21,"2019-05-22","2019-05-22",null,null,0,0,0,null,null,null,0,""]
[21,"2019-05-23","2019-05-23",null,null,0,0,0,null,null,null,0,""]
[21,"2019-05-24","2019-05-24",null,null,0,0,0,null,null,null,0,""]
[21,"2019-05-25","2019-05-25",null,null,0,null,0,null,null,"za",0,"","Week",null,"OV WEEK","OV DAG","Recup -","Recup +","OV 50%"]
[21,"2019-05-26","2019-05-26",null,null,0,null,0,null,null,"zo",0,"",{"$f":"SUM(L149:L155)","v":7.6},{"$f":"SUM(H149:H155)","v":0},{"$f":"IF(N155>38,N155-38,0)","v":0},{"$f":"SUM(M149:M155)","v":0},{"$f":"SUM(I149:I155)","v":0},{"$f":"IF(N155>38,N155-38,0)","v":0},{"$f":"IF(P155>Q155,P155,Q155)","v":0}]
[22,"2019-05-27","2019-05-27",null,null,0,0,0,null,null,null,0,""]
[22,"2019-05-28","2019-05-28",null,null,0,0,0,null,null,null,0,""]
[22,"2019-05-29","2019-05-29",null,null,0,0,0,null,null,null,0,""]
[22,"2019-05-30","2019-05-30",null,null,0,0,0,null,7.6,"fd",7.6,""]
[22,"2019-05-31","2019-05-31",null,null,0,0,0,null,null,null,0,""]
[22,"2019-06-01","2019-06-01",null,null,0,null,0,null,null,"za",0,"","Week",null,"OV WEEK","OV DAG","Recup -","Recup +","OV 50%"]
[22,"2019-06-02","2019-06-02",null,null,0,null,0,null,null,"zo",0,"",{"$f":"SUM(L156:L162)","v":7.6},{"$f":"SUM(H156:H162)","v":0},{"$f":"IF(N162>38,N162-38,0)","v":0},{"$f":"SUM(M156:M162)","v":0},{"$f":"SUM(I156:I162)","v":0},{"$f":"IF(N162>38,N162-38,0)","v":0},{"$f":"IF(P162>Q162,P162,Q162)","v":0}]
[23,"2019-06-03","2019-06-03",null,null,0,0,0,null,null,null,0,""]
[23,"2019-06-04","2019-06-04",null,null,0,0,0,null,null,null,0,""]
[23,"2019-06-05","2019-06-05",null,null,0,0,0,null,null,null,0,""]
[23,"2019-06-06","2019-06-06",null,null,0,0,0,null,null,null,0,""]
[23,"2019-06-07","2019-06-07",null,null,0,0,0,null,null,null,0,""]
[23,"2019-06-08","2019-06-08",null,null,0,null,0,null,null,"za",0,"","Week",null,"OV WEEK","OV DAG","Recup -","Recup +","OV 50%"]
[23,"2019-06-09","2019-06-09",null,null,0,null,0,null,null,"zo",0,"",{"$f":"SUM(L163:L169)","v":0},{"$f":"SUM(H163:H169)","v":0},{"$f":"IF(N169>38,N169-38,0)","v":0},{"$f":"SUM(M163:M169)","v":0},{"$f":"SUM(I163:I169)","v":0},{"$f":"IF(N169>38,N169-38,0)","v":0},{"$f":"IF(P169>Q169,P169,Q169)","v":0}]
[24,"2019-06-10","2019-06-10",null,null,0,0,0,null,7.6,"fd",7.6,""]
[24,"2019-06-11","2019-06-11",null,null,0,0,0,null,null,null,0,""]
[24,"2019-06-12","2019-06-12",null,null,0,0,0,null,null,null,0,""]
[24,"2019-06-13","2019-06-13",null,null,0,0,0,null,null,null,0,""]
[24,"2019-06-14","2019-06-14",null,null,0,0,0,null,null,null,0,""]
[24,"2019-06-15","2019-06-15",null,null,0,null,0,null,null,"za",0,"","Week",null,"OV WEEK","OV DAG","Recup -","Recup +","OV 50%"]
[24,"2019-06-16","2019-06-16",null,null,0,null,0,null,null,"zo",0,"",{"$f":"SUM(L170:L176)","v":7.6},{"$f":"SUM(H170:H176)","v":0},{"$f":"IF(N176>38,N176-38,0)","v":0},{"$f":"SUM(M170:M176)","v":0},{"$f":"SUM(I170:I176)","v":0},{"$f":"IF(N176>38,N176-38,0)","v":0},{"$f":"IF(P176>Q176,P176,Q176)","v":0}]
[25,"2019-06-17","2019-06-17",null,null,0,0,0,null,null,null,0,""]
[25,"2019-06-18","2019-06-18",null,null,0,0,0,null,null,null,0,""]
[25,"2019-06-19","2019-06-19",null,null,0,0,0,null,null,null,0,""]
[25,"2019-06-20","2019-06-20",null,null,0,0,0,null,null,null,0,""]
[25,"2019-06-21","2019-06-21",null,null,0,0,0,null,null,null,0,""]
[25,"2019-06-22","2019-06-22",null,null,0,null,0,null,null,"za",0,"","Week",null,"OV WEEK","OV DAG","Recup -","Recup +","OV 50%"]
[25,"2019-06-23","2019-06-23",null,null,0,null,0,null,null,"zo",0,"",{"$f":"SUM(L177:L183)","v":0},{"$f":"SUM(H177:H183)","v":0},{"$f":"IF(N183>38,N183-38,0)","v":0},{"$f":"SUM(M177:M183)","v":0},{"$f":"SUM(I177:I183)","v":0},{"$f":"IF(N183>38,N183-38,0)","v":0},{"$f":"IF(P183>Q183,P183,Q183)","v":0}]
[26,"2019-06-24","2019-06-24",null,null,0,0,0,null,null,null,0,""]
[26,"2019-06-25","2019-06-25",null,null,0,0,0,null,null,null,0,""]
[26,"2019-06-26","2019-06-26",null,null,0,0,0,null,null,null,0,""]
[26,"2019-06-27","2019-06-27",null,null,0,0,0,null,null,null,0,""]
[26,"2019-06-28","2019-06-28",null,null,0,0,0,null,null,null,0,""]
[26,"2019-06-29","2019-06-29",null,null,0,null,0,null,null,"za",0,"","Week",null,"OV WEEK","OV DAG","Recup -","Recup +","OV 50%"]
[26,"2019-06-30","2019-06-30",null,null,0,null,0,null,null,"zo",0,"",{"$f":"SUM(L184:L190)","v":0},{"$f":"SUM(H184:H190)","v":0},{"$f":"IF(N190>38,N190-38,0)","v":0},{"$f":"SUM(M184:M190)","v":0},{"$f":"SUM(I184:I190)","v":0},{"$f":"IF(N190>38,N190-38,0)","v":0},{"$f":"IF(P190>Q190,P190,Q190)","v":0}]
[27,"2019-07-01","2019-07-01",null,null,0,0,0,null,null,null,0,""]
[27,"2019-07-02","2019-07-02",null,null,0,0,0,null,null,null,0,""]
[27,"2019-07-03","2019-07-03",null,null,0,0,0,null,null,null,0,""]
[27,"2019-07-04","2019-07-04",null,null,0,0,0,null,null,null,0,""]
[27,"2019-07-05","2019-07-05",null,null,0,0,0,null,null,null,0,""]
[27,"2019-07-06","2019-07-06",null,null,0,null,0,null,null,"za",0,"","Week",null,"OV WEEK","OV DAG","Recup -","Recup +","OV 50%"]
[27,"2019-07-07","2019-07-07",null,null,0,null,0,null,null,"zo",0,"",{"$f":"SUM(L191:L197)","v":0},{"$f":"SUM(H191:H197)","v":0},{"$f":"IF(N197>38,N197-38,0)","v":0},{"$f":"SUM(M191:M197)","v":0},{"$f":"SUM(I191:I197)","v":0},{"$f":"IF(N197>38,N197-38,0)","v":0},{"$f":"IF(P197>Q197,P197,Q197)","v":0}]
[28,"2019-07-08","2019-07-08",null,null,0,0,0,null,null,null,0,""]
[28,"2019-07-09","2019-07-09",null,null,0,0,0,null,null,null,0,""]
[28,"2019-07-10","2019-07-10",null,null,0,0,0,null,null,null,0,""]
[28,"2019-07-11","2019-07-11",null,null,0,0,0,null,null,null,0,{"$f":"IF(L201>9,L201-9,\"\")","v":""}]
[{"$f":"WEEKNUM(C202,21)","v":28},{"$f":"C202","v":"2019-07-12"},"2019-07-12",null,null,{"$f":"(E202-D202)*24","v":0},{"$f":"IF(F202>=6,0.5,0)","v":0},{"$f":"F202-G202","v":0},null,null,null,{"$f":"SUM(H202:J202)","v":0},""]
[28,"2019-07-13","2019-07-13",null,null,0,null,0,null,null,"za",0,"","Week",null,"OV WEEK","OV DAG","Recup -","Recup +","OV 50%"]
[28,"2019-07-14","2019-07-14",null,null,0,null,0,null,null,"zo",0,"",{"$f":"SUM(L198:L204)","v":0},{"$f":"SUM(H198:H204)","v":0},{"$f":"IF(N204>38,N204-38,0)","v":0},{"$f":"SUM(M198:M204)","v":0},{"$f":"SUM(I198:I204)","v":0},{"$f":"IF(N204>38,N204-38,0)","v":0},{"$f":"IF(P204>Q204,P204,Q204)","v":0}]
[29,"2019-07-15","2019-07-15",null,null,0,0,0,null,null,null,0,""]
[29,"2019-07-16","2019-07-16",null,null,0,0,0,null,null,null,0,""]
[29,"2019-07-17","2019-07-17",null,null,0,0,0,null,null,null,0,""]
[29,"2019-07-18","2019-07-18",null,null,0,0,0,null,null,null,0,""]
[29,"2019-07-19","2019-07-19",null,null,0,0,0,null,null,null,0,""]
[29,"2019-07-20","2019-07-20",null,null,0,null,0,null,null,"za",0,"","Week",null,"OV WEEK","OV DAG","Recup -","Recup +","OV 50%"]
[29,"2019-07-21","2019-07-21",null,null,0,null,0,null,null,"zo",0,"",{"$f":"SUM(L205:L211)","v":0},{"$f":"SUM(H205:H211)","v":0},{"$f":"IF(N211>38,N211-38,0)","v":0},{"$f":"SUM(M205:M211)","v":0},{"$f":"SUM(I205:I211)","v":0},{"$f":"IF(N211>38,N211-38,0)","v":0},{"$f":"IF(P211>Q211,P211,Q211)","v":0}]
[30,"2019-07-22","2019-07-22",null,null,0,0,0,null,null,null,0,""]
[30,"2019-07-23","2019-07-23",null,null,0,0,0,null,null,null,0,""]
[30,"2019-07-24","2019-07-24",null,null,0,0,0,null,null,null,0,""]
[30,"2019-07-25","2019-07-25",null,null,0,0,0,null,null,null,0,""]
[30,"2019-07-26","2019-07-26",null,null,0,0,0,null,null,null,0,""]
[30,"2019-07-27","2019-07-27",null,null,0,null,0,null,null,"za",0,"","Week",null,"OV WEEK","OV DAG","Recup -","Recup +","OV 50%"]
[30,"2019-07-28","2019-07-28",null,null,0,null,0,null,null,"zo",0,"",{"$f":"SUM(L212:L218)","v":0},{"$f":"SUM(H212:H218)","v":0},{"$f":"IF(N218>38,N218-38,0)","v":0},{"$f":"SUM(M212:M218)","v":0},{"$f":"SUM(I212:I218)","v":0},{"$f":"IF(N218>38,N218-38,0)","v":0},{"$f":"IF(P218>Q218,P218,Q218)","v":0}]
[31,"2019-07-29","2019-07-29",null,null,0,0,0,null,null,null,0,""]
[31,"2019-07-30","2019-07-30",null,null,0,0,0,null,null,null,0,""]
[31,"2019-07-31","2019-07-31",null,null,0,0,0,null,null,null,0,""]
[31,"2019-08-01","2019-08-01",null,null,0,0,0,null,null,null,0,""]
[31,"2019-08-02","2019-08-02",null,null,0,0,0,null,null,null,0,""]
[31,"2019-08-03","2019-08-03",null,null,0,null,0,null,null,"za",0,"","Week",null,"OV WEEK","OV DAG","Recup -","Recup +","OV 50%"]
[31,"2019-08-04","2019-08-04",null,null,0,null,0,null,null,"zo",0,"",{"$f":"SUM(L219:L225)","v":0},{"$f":"SUM(H219:H225)","v":0},{"$f":"IF(N225>38,N225-38,0)","v":0},{"$f":"SUM(M219:M225)","v":0},{"$f":"SUM(I219:I225)","v":0},{"$f":"IF(N225>38,N225-38,0)","v":0},{"$f":"IF(P225>Q225,P225,Q225)","v":0}]
[32,"2019-08-05","2019-08-05",null,null,0,0,0,null,null,null,0,""]
[32,"2019-08-06","2019-08-06",null,null,0,0,0,null,null,null,0,""]
[32,"2019-08-07","2019-08-07",null,null,0,0,0,null,null,null,0,""]
[32,"2019-08-08","2019-08-08",null,null,0,0,0,null,null,null,0,""]
[32,"2019-08-09","2019-08-09",null,null,0,0,0,null,null,null,0,""]
[32,"2019-08-10","2019-08-10",null,null,0,null,0,null,null,"za",0,"","Week",null,"OV WEEK","OV DAG","Recup -","Recup +","OV 50%"]
[32,"2019-08-11","2019-08-11",null,null,0,null,0,null,null,"zo",0,"",{"$f":"SUM(L226:L232)","v":0},{"$f":"SUM(H226:H232)","v":0},{"$f":"IF(N232>38,N232-38,0)","v":0},{"$f":"SUM(M226:M232)","v":0},{"$f":"SUM(I226:I232)","v":0},{"$f":"IF(N232>38,N232-38,0)","v":0},{"$f":"IF(P232>Q232,P232,Q232)","v":0}]
[33,"2019-08-12","2019-08-12",null,null,0,0,0,null,null,null,0,""]
[33,"2019-08-13","2019-08-13",null,null,0,0,0,null,null,null,0,""]
[33,"2019-08-14","2019-08-14",null,null,0,0,0,null,null,null,0,""]
[33,"2019-08-15","2019-08-15",null,null,0,0,0,null,7.6,"fd",7.6,""]
[33,"2019-08-16","2019-08-16",null,null,0,0,0,null,null,null,0,""]
[33,"2019-08-17","2019-08-17",null,null,0,null,0,null,null,"za",0,"","Week",null,"OV WEEK","OV DAG","Recup -","Recup +","OV 50%"]
[33,"2019-08-18","2019-08-18",null,null,0,null,0,null,null,"zo",0,"",{"$f":"SUM(L233:L239)","v":7.6},{"$f":"SUM(H233:H239)","v":0},{"$f":"IF(N239>38,N239-38,0)","v":0},{"$f":"SUM(M233:M239)","v":0},{"$f":"SUM(I233:I239)","v":0},{"$f":"IF(N239>38,N239-38,0)","v":0},{"$f":"IF(P239>Q239,P239,Q239)","v":0}]
[34,"2019-08-19","2019-08-19",null,null,0,0,0,null,null,null,0,""]
[34,"2019-08-20","2019-08-20",null,null,0,{"$f":"IF(F241>=6,0.5,0)","v":0},0,null,null,null,0,""]
[34,"2019-08-21","2019-08-21",null,null,0,0,0,null,null,null,0,""]
[34,"2019-08-22","2019-08-22",null,null,0,0,0,null,null,null,0,""]
[34,"2019-08-23","2019-08-23",null,null,0,0,0,null,null,null,0,""]
[34,"2019-08-24","2019-08-24",null,null,0,null,0,null,null,"za",0,"","Week",null,"OV WEEK","OV DAG","Recup -","Recup +","OV 50%"]
[34,"2019-08-25","2019-08-25",null,null,0,null,0,null,null,"zo",0,"",{"$f":"SUM(L240:L246)","v":0},{"$f":"SUM(H240:H246)","v":0},{"$f":"IF(N246>38,N246-38,0)","v":0},{"$f":"SUM(M240:M246)","v":0},{"$f":"SUM(I240:I246)","v":0},{"$f":"IF(N246>38,N246-38,0)","v":0},{"$f":"IF(P246>Q246,P246,Q246)","v":0}]
[35,"2019-08-26","2019-08-26",null,null,0,0,0,null,null,null,0,""]
[35,"2019-08-27","2019-08-27",null,null,0,0,0,null,null,null,0,""]
[35,"2019-08-28","2019-08-28",null,null,0,0,0,null,null,null,0,""]
[35,"2019-08-29","2019-08-29",null,null,0,0,0,null,null,null,0,""]
[35,"2019-08-30","2019-08-30",null,null,0,0,0,null,null,null,0,""]
[35,"2019-08-31","2019-08-31",null,null,0,null,0,null,null,"za",0,"","Week",null,"OV WEEK","OV DAG","Recup -","Recup +","OV 50%"]
[35,"2019-09-01","2019-09-01",null,null,0,null,0,null,null,"zo",0,"",{"$f":"SUM(L247:L253)","v":0},{"$f":"SUM(H247:H253)","v":0},{"$f":"IF(N253>38,N253-38,0)","v":0},{"$f":"SUM(M247:M253)","v":0},{"$f":"SUM(I247:I253)","v":0},{"$f":"IF(N253>38,N253-38,0)","v":0},{"$f":"IF(P253>Q253,P253,Q253)","v":0}]
[36,"2019-09-02","2019-09-02",null,null,0,0,0,null,null,null,0,""]
[36,"2019-09-03","2019-09-03",null,null,0,0,0,null,null,null,0,""]
[36,"2019-09-04","2019-09-04",null,null,0,0,0,null,null,null,0,""]
[36,"2019-09-05","2019-09-05",null,null,0,0,0,null,null,null,0,""]
[36,"2019-09-06","2019-09-06",null,null,0,0,0,null,null,null,0,""]
[36,"2019-09-07","2019-09-07",null,null,0,null,0,null,null,"za",0,"","Week",null,"OV WEEK","OV DAG","Recup -","Recup +","OV 50%"]
[36,"2019-09-08","2019-09-08",null,null,0,null,0,null,null,"zo",0,"",{"$f":"SUM(L254:L260)","v":0},{"$f":"SUM(H254:H260)","v":0},{"$f":"IF(N260>38,N260-38,0)","v":0},{"$f":"SUM(M254:M260)","v":0},{"$f":"SUM(I254:I260)","v":0},{"$f":"IF(N260>38,N260-38,0)","v":0},{"$f":"IF(P260>Q260,P260,Q260)","v":0}]
[37,"2019-09-09","2019-09-09",null,null,0,0,0,null,null,null,0,""]
[37,"2019-09-10","2019-09-10",null,null,0,0,0,null,null,null,0,""]
[37,"2019-09-11","2019-09-11",null,null,0,0,0,null,null,null,0,""]
[37,"2019-09-12","2019-09-12",null,null,0,0,0,null,null,null,0,""]
[37,"2019-09-13","2019-09-13",null,null,0,0,0,null,null,null,0,{"$f":"IF(L265>9,L265-9,\"\")","v":""}]
[{"$f":"WEEKNUM(C266,21)","v":37},{"$f":"C266","v":"2019-09-14"},"2019-09-14",null,null,{"$f":"(E266-D266)*24","v":0},null,{"$f":"F266-G266","v":0},null,null,"za",{"$f":"SUM(H266:J266)","v":0},"","Week",null,"OV WEEK","OV DAG","Recup -","Recup +","OV 50%"]
[37,"2019-09-15","2019-09-15",null,null,0,null,0,null,null,"zo",0,"",{"$f":"SUM(L261:L267)","v":0},{"$f":"SUM(H261:H267)","v":0},{"$f":"IF(N267>38,N267-38,0)","v":0},{"$f":"SUM(M261:M267)","v":0},{"$f":"SUM(I261:I267)","v":0},{"$f":"IF(N267>38,N267-38,0)","v":0},{"$f":"IF(P267>Q267,P267,Q267)","v":0}]
[38,"2019-09-16","2019-09-16",null,null,0,{"$f":"IF(F268>=6,0.5,0)","v":0},0,null,null,null,0,""]
[38,"2019-09-17","2019-09-17",null,null,0,0,0,null,null,null,0,""]
[38,"2019-09-18","2019-09-18",null,null,0,0,0,null,null,null,0,""]
[38,"2019-09-19","2019-09-19",null,null,0,0,0,null,null,null,0,""]
[38,"2019-09-20","2019-09-20",null,null,0,0,0,null,null,null,0,""]
[38,"2019-09-21","2019-09-21",null,null,0,null,0,null,null,"za",0,"","Week",null,"OV WEEK","OV DAG","Recup -","Recup +","OV 50%"]
[38,"2019-09-22","2019-09-22",null,null,0,null,0,null,null,"zo",0,"",{"$f":"SUM(L268:L274)","v":0},{"$f":"SUM(H268:H274)","v":0},{"$f":"IF(N274>38,N274-38,0)","v":0},{"$f":"SUM(M268:M274)","v":0},{"$f":"SUM(I268:I274)","v":0},{"$f":"IF(N274>38,N274-38,0)","v":0},{"$f":"IF(P274>Q274,P274,Q274)","v":0}]
[39,"2019-09-23","2019-09-23",null,null,0,0,0,null,null,null,0,""]
[39,"2019-09-24","2019-09-24",null,null,0,0,0,null,null,null,0,""]
[39,"2019-09-25","2019-09-25",null,null,0,0,0,null,null,null,0,""]
[39,"2019-09-26","2019-09-26",null,null,0,0,0,null,null,null,0,""]
[39,"2019-09-27","2019-09-27",null,null,0,0,0,null,null,null,0,""]
[39,"2019-09-28","2019-09-28",null,null,0,null,0,null,null,"za",0,"","Week",null,"OV WEEK","OV DAG","Recup -","Recup +","OV 50%"]
[39,"2019-09-29","2019-09-29",null,null,0,null,0,null,null,"zo",0,"",{"$f":"SUM(L275:L281)","v":0},{"$f":"SUM(H275:H281)","v":0},{"$f":"IF(N281>38,N281-38,0)","v":0},{"$f":"SUM(M275:M281)","v":0},{"$f":"SUM(I275:I281)","v":0},{"$f":"IF(N281>38,N281-38,0)","v":0},{"$f":"IF(P281>Q281,P281,Q281)","v":0}]
[40,"2019-09-30","2019-09-30",null,null,0,0,0,null,null,null,0,""]
[40,"2019-10-01","2019-10-01",null,null,0,0,0,null,null,null,0,""]
[40,"2019-10-02","2019-10-02",null,null,0,0,0,null,null,null,0,""]
[40,"2019-10-03","2019-10-03",null,null,0,0,0,null,null,null,0,""]
[40,"2019-10-04","2019-10-04",null,null,0,0,0,null,null,null,0,""]
[40,"2019-10-05","2019-10-05",null,null,0,null,0,null,null,"za",0,"","Week",null,"OV WEEK","OV DAG","Recup -","Recup +","OV 50%"]
[40,"2019-10-06","2019-10-06",null,null,0,null,0,null,null,"zo",0,"",{"$f":"SUM(L282:L288)","v":0},{"$f":"SUM(H282:H288)","v":0},{"$f":"IF(N288>38,N288-38,0)","v":0},{"$f":"SUM(M282:M288)","v":0},{"$f":"SUM(I282:I288)","v":0},{"$f":"IF(N288>38,N288-38,0)","v":0},{"$f":"IF(P288>Q288,P288,Q288)","v":0}]
[41,"2019-10-07","2019-10-07",null,null,0,0,0,null,null,null,0,""]
[41,"2019-10-08","2019-10-08",null,null,0,0,0,null,null,null,0,""]
[41,"2019-10-09","2019-10-09",null,null,0,0,0,null,null,null,0,""]
[41,"2019-10-10","2019-10-10",null,null,0,0,0,null,null,null,0,""]
[41,"2019-10-11","2019-10-11",null,null,0,0,0,null,null,null,0,""]
[41,"2019-10-12","2019-10-12",null,null,0,null,0,null,null,"za",0,"","Week",null,"OV WEEK","OV DAG","Recup -","Recup +","OV 50%"]
[41,"2019-10-13","2019-10-13",null,null,0,null,0,null,null,"zo",0,"",{"$f":"SUM(L289:L295)","v":0},{"$f":"SUM(H289:H295)","v":0},{"$f":"IF(N295>38,N295-38,0)","v":0},{"$f":"SUM(M289:M295)","v":0},{"$f":"SUM(I289:I295)","v":0},{"$f":"IF(N295>38,N295-38,0)","v":0},{"$f":"IF(P295>Q295,P295,Q295)","v":0}]
[42,"2019-10-14","2019-10-14",null,null,0,0,0,null,null,null,0,""]
[42,"2019-10-15","2019-10-15",null,null,0,0,0,null,null,null,0,""]
[42,"2019-10-16","2019-10-16",null,null,0,0,0,null,null,null,0,""]
[42,"2019-10-17","2019-10-17",null,null,0,0,0,null,null,null,0,""]
[42,"2019-10-18","2019-10-18",null,null,0,0,0,null,null,null,0,""]
[42,"2019-10-19","2019-10-19",null,null,0,null,0,null,null,"za",0,"","Week",null,"OV WEEK","OV DAG","Recup -","Recup +","OV 50%"]
[42,"2019-10-20","2019-10-20",null,null,0,null,0,null,null,"zo",0,"",{"$f":"SUM(L296:L302)","v":0},{"$f":"SUM(H296:H302)","v":0},{"$f":"IF(N302>38,N302-38,0)","v":0},{"$f":"SUM(M296:M302)","v":0},{"$f":"SUM(I296:I302)","v":0},{"$f":"IF(N302>38,N302-38,0)","v":0},{"$f":"IF(P302>Q302,P302,Q302)","v":0}]
[43,"2019-10-21","2019-10-21",null,null,0,0,0,null,null,null,0,""]
[43,"2019-10-22","2019-10-22",null,null,0,0,0,null,null,null,0,""]
[43,"2019-10-23","2019-10-23",null,null,0,0,0,null,null,null,0,""]
[43,"2019-10-24","2019-10-24",null,null,0,0,0,null,null,null,0,""]
[43,"2019-10-25","2019-10-25",null,null,0,0,0,null,null,null,0,""]
[43,"2019-10-26","2019-10-26",null,null,0,null,0,null,null,"za",0,"","Week",null,"OV WEEK","OV DAG","Recup -","Recup +","OV 50%"]
[43,"2019-10-27","2019-10-27",null,null,0,null,0,null,null,"zo",0,"",{"$f":"SUM(L303:L309)","v":0},{"$f":"SUM(H303:H309)","v":0},{"$f":"IF(N309>38,N309-38,0)","v":0},{"$f":"SUM(M303:M309)","v":0},{"$f":"SUM(I303:I309)","v":0},{"$f":"IF(N309>38,N309-38,0)","v":0},{"$f":"IF(P309>Q309,P309,Q309)","v":0}]
[44,"2019-10-28","2019-10-28",null,null,0,0,0,null,null,null,0,""]
[44,"2019-10-29","2019-10-29",null,null,0,0,0,null,null,null,0,""]
[44,"2019-10-30","2019-10-30",null,null,0,0,0,null,null,null,0,""]
[44,"2019-10-31","2019-10-31",null,null,0,0,0,null,null,null,0,""]
[44,"2019-11-01","2019-11-01",null,null,0,0,0,null,7.6,"fd",7.6,""]
[44,"2019-11-02","2019-11-02",null,null,0,null,0,null,null,"za",0,"","Week",null,"OV WEEK","OV DAG","Recup -","Recup +","OV 50%"]
[44,"2019-11-03","2019-11-03",null,null,0,null,0,null,null,"zo",0,"",{"$f":"SUM(L310:L316)","v":7.6},{"$f":"SUM(H310:H316)","v":0},{"$f":"IF(N316>38,N316-38,0)","v":0},{"$f":"SUM(M310:M316)","v":0},{"$f":"SUM(I310:I316)","v":0},{"$f":"IF(N316>38,N316-38,0)","v":0},{"$f":"IF(P316>Q316,P316,Q316)","v":0}]
[45,"2019-11-04","2019-11-04",null,null,0,0,0,null,null,null,0,""]
[45,"2019-11-05","2019-11-05",null,null,0,0,0,null,null,null,0,""]
[45,"2019-11-06","2019-11-06",null,null,0,0,0,null,null,null,0,""]
[45,"2019-11-07","2019-11-07",null,null,0,0,0,null,null,null,0,""]
[45,"2019-11-08","2019-11-08",null,null,0,0,0,null,null,null,0,""]
[45,"2019-11-09","2019-11-09",null,null,0,null,0,null,null,"za",0,"","Week",null,"OV WEEK","OV DAG","Recup -","Recup +","OV 50%"]
[45,"2019-11-10","2019-11-10",null,null,0,null,0,null,null,"zo",0,"",{"$f":"SUM(L317:L323)","v":0},{"$f":"SUM(H317:H323)","v":0},{"$f":"IF(N323>38,N323-38,0)","v":0},{"$f":"SUM(M317:M323)","v":0},{"$f":"SUM(I317:I323)","v":0},{"$f":"IF(N323>38,N323-38,0)","v":0},{"$f":"IF(P323>Q323,P323,Q323)","v":0}]
[46,"2019-11-11","2019-11-11",null,null,0,0,0,null,7.6,"fd",7.6,""]
[46,"2019-11-12","2019-11-12",null,null,0,0,0,null,null,null,0,""]
[46,"2019-11-13","2019-11-13",null,null,0,0,0,null,null,null,0,""]
[46,"2019-11-14","2019-11-14",null,null,0,0,0,null,null,null,0,""]
[46,"2019-11-15","2019-11-15",null,null,0,0,0,null,null,null,0,""]
[46,"2019-11-16","2019-11-16",null,null,0,null,0,null,null,"za",0,{"$f":"IF(L329>9,L329-9,\"\")","v":""},"Week",null,"OV WEEK","OV DAG","Recup -","Recup +","OV 50%"]
[{"$f":"WEEKNUM(C330,21)","v":46},{"$f":"C330","v":"2019-11-17"},"2019-11-17",null,null,{"$f":"(E330-D330)*24","v":0},null,{"$f":"F330-G330","v":0},null,null,"zo",{"$f":"SUM(H330:J330)","v":0},"",{"$f":"SUM(L324:L330)","v":7.6},{"$f":"SUM(H324:H330)","v":0},{"$f":"IF(N330>38,N330-38,0)","v":0},{"$f":"SUM(M324:M330)","v":0},{"$f":"SUM(I324:I330)","v":0},{"$f":"IF(N330>38,N330-38,0)","v":0},{"$f":"IF(P330>Q330,P330,Q330)","v":0}]
[47,"2019-11-18","2019-11-18",null,null,0,{"$f":"IF(F331>=6,0.5,0)","v":0},0,null,null,null,0,""]
[47,"2019-11-19","2019-11-19",null,null,0,0,0,null,null,null,0,""]
[47,"2019-11-20","2019-11-20",null,null,0,0,0,null,null,null,0,""]
[47,"2019-11-21","2019-11-21",null,null,0,0,0,null,null,null,0,""]
[47,"2019-11-22","2019-11-22",null,null,0,0,0,null,null,null,0,""]
[47,"2019-11-23","2019-11-23",null,null,0,null,0,null,null,"za",0,"","Week",null,"OV WEEK","OV DAG","Recup -","Recup +","OV 50%"]
[47,"2019-11-24","2019-11-24",null,null,0,null,0,null,null,"zo",0,"",{"$f":"SUM(L331:L337)","v":0},{"$f":"SUM(H331:H337)","v":0},{"$f":"IF(N337>38,N337-38,0)","v":0},{"$f":"SUM(M331:M337)","v":0},{"$f":"SUM(I331:I337)","v":0},{"$f":"IF(N337>38,N337-38,0)","v":0},{"$f":"IF(P337>Q337,P337,Q337)","v":0}]
[48,"2019-11-25","2019-11-25",null,null,0,0,0,null,null,null,0,""]
[48,"2019-11-26","2019-11-26",null,null,0,0,0,null,null,null,0,""]
[48,"2019-11-27","2019-11-27",null,null,0,0,0,null,null,null,0,""]
[48,"2019-11-28","2019-11-28",null,null,0,0,0,null,null,null,0,""]
[48,"2019-11-29","2019-11-29",null,null,0,0,0,null,null,null,0,""]
[48,"2019-11-30","2019-11-30",null,null,0,null,0,null,null,"za",0,"","Week",null,"OV WEEK","OV DAG","Recup -","Recup +","OV 50%"]
[48,"2019-12-01","2019-12-01",null,null,0,null,0,null,null,"zo",0,"",{"$f":"SUM(L338:L344)","v":0},{"$f":"SUM(H338:H344)","v":0},{"$f":"IF(N344>38,N344-38,0)","v":0},{"$f":"SUM(M338:M344)","v":0},{"$f":"SUM(I338:I344)","v":0},{"$f":"IF(N344>38,N344-38,0)","v":0},{"$f":"IF(P344>Q344,P344,Q344)","v":0}]
[49,"2019-12-02","2019-12-02",null,null,0,0,0,null,null,null,0,""]
[49,"2019-12-03","2019-12-03",null,null,0,0,0,null,null,null,0,""]
[49,"2019-12-04","2019-12-04",null,null,0,0,0,null,null,null,0,""]
[49,"2019-12-05","2019-12-05",null,null,0,0,0,null,null,null,0,""]
[49,"2019-12-06","2019-12-06",null,null,0,0,0,null,null,null,0,""]
[49,"2019-12-07","2019-12-07",null,null,0,null,0,null,null,"za",0,"","Week",null,"OV WEEK","OV DAG","Recup -","Recup +","OV 50%"]
[49,"2019-12-08","2019-12-08",null,null,0,null,0,null,null,"zo",0,"",{"$f":"SUM(L345:L351)","v":0},{"$f":"SUM(H345:H351)","v":0},{"$f":"IF(N351>38,N351-38,0)","v":0},{"$f":"SUM(M345:M351)","v":0},{"$f":"SUM(I345:I351)","v":0},{"$f":"IF(N351>38,N351-38,0)","v":0},{"$f":"IF(P351>Q351,P351,Q351)","v":0}]
[50,"2019-12-09","2019-12-09",null,null,0,0,0,null,null,null,0,""]
[50,"2019-12-10","2019-12-10",null,null,0,0,0,null,null,null,0,""]
[50,"2019-12-11","2019-12-11",null,null,0,0,0,null,null,null,0,""]
[50,"2019-12-12","2019-12-12",null,null,0,0,0,null,null,null,0,""]
[50,"2019-12-13","2019-12-13",null,null,0,0,0,null,null,null,0,""]
[50,"2019-12-14","2019-12-14",null,null,0,null,0,null,null,"za",0,"","Week",null,"OV WEEK","OV DAG","Recup -","Recup +","OV 50%"]
[50,"2019-12-15","2019-12-15",null,null,0,null,0,null,null,"zo",0,"",{"$f":"SUM(L352:L358)","v":0},{"$f":"SUM(H352:H358)","v":0},{"$f":"IF(N358>38,N358-38,0)","v":0},{"$f":"SUM(M352:M358)","v":0},{"$f":"SUM(I352:I358)","v":0},{"$f":"IF(N358>38,N358-38,0)","v":0},{"$f":"IF(P358>Q358,P358,Q358)","v":0}]
[51,"2019-12-16","2019-12-16",null,null,0,0,0,null,null,null,0,""]
[51,"2019-12-17","2019-12-17",null,null,0,0,0,null,null,null,0,""]
[51,"2019-12-18","2019-12-18",null,null,0,0,0,null,null,null,0,""]
[51,"2019-12-19","2019-12-19",null,null,0,0,0,null,null,null,0,""]
[51,"2019-12-20","2019-12-20",null,null,0,0,0,null,null,null,0,""]
[51,"2019-12-21","2019-12-21",null,null,0,null,0,null,null,"za",0,"","Week",null,"OV WEEK","OV DAG","Recup -","Recup +","OV 50%"]
[51,"2019-12-22","2019-12-22",null,null,0,null,0,null,null,"zo",0,"",{"$f":"SUM(L359:L365)","v":0},{"$f":"SUM(H359:H365)","v":0},{"$f":"IF(N365>38,N365-38,0)","v":0},{"$f":"SUM(M359:M365)","v":0},{"$f":"SUM(I359:I365)","v":0},{"$f":"IF(N365>38,N365-38,0)","v":0},{"$f":"IF(P365>Q365,P365,Q365)","v":0}]
[52,"2019-12-23","2019-12-23",null,null,0,0,0,null,null,null,0,""]
[52,"2019-12-24","2019-12-24",null,null,0,0,0,null,null,null,0,""]
[52,"2019-12-25","2019-12-25",null,null,0,0,0,null,7.6,"fd",7.6,""]
[52,"2019-12-26","2019-12-26",null,null,0,0,0,null,null,null,0,""]
[52,"2019-12-27","2019-12-27",null,null,0,0,0,null,null,null,0,""]
[52,"2019-12-28","2019-12-28",null,null,0,null,0,null,null,"za",0,"","Week",null,"OV WEEK","OV DAG","Recup -","Recup +","OV 50%"]
[52,"2019-12-29","2019-12-29",null,null,0,null,0,null,null,"zo",0,"",{"$f":"SUM(L366:L372)","v":7.6},{"$f":"SUM(H366:H372)","v":0},{"$f":"IF(N372>38,N372-38,0)","v":0},{"$f":"SUM(M366:M372)","v":0},{"$f":"SUM(I366:I372)","v":0},{"$f":"IF(N372>38,N372-38,0)","v":0},{"$f":"IF(P372>Q372,P372,Q372)","v":0}]
[1,"2019-12-30","2019-12-30",null,null,0,0,0,null,null,null,0,""]
[1,"2019-12-31","2019-12-31",null,null,0,0,0,null,null,null,0,""]
[1,"2020-01-01","2020-01-01",null,null,0,0,0,null,7.6,"fd",7.6,""]
[1,"2020-01-02","2020-01-02",null,null,0,0,0,null,null,null,0,""]
[1,"2020-01-03","2020-01-03",null,null,0,0,0,null,null,null,0,""]
[1,"2020-01-04","2020-01-04",null,null,0,null,0,null,null,"za",0,"","Week",null,"OV WEEK","OV DAG","Recup -","Recup +","OV 50%"]
[1,"2020-01-05","2020-01-05",null,null,0,null,0,null,null,"zo",0,"",{"$f":"SUM(L373:L379)","v":7.6},{"$f":"SUM(H373:H379)","v":0},{"$f":"IF(N379>38,N379-38,0)","v":0},{"$f":"SUM(M373:M379)","v":0},{"$f":"SUM(I373:I379)","v":0},{"$f":"IF(N379>38,N379-38,0)","v":0},{"$f":"IF(P379>Q379,P379,Q379)","v":0}]

{"sheet":"135","index":24,"n_rows":379,"n_cols":35,"rows_kept":379,"cut":false,"hidden":false,"merged":[[6,21,6,24],[6,25,6,28],[6,29,6,32],[6,33,6,34],[0,1,1,12],[4,21,4,23],[4,25,4,28],[4,29,4,32],[4,33,4,34],[5,21,5,23],[5,25,5,28],[5,29,5,32],[5,33,5,34],[2,21,2,23],[2,25,2,28],[2,29,2,32],[2,33,2,34],[3,21,3,23],[3,25,3,28],[3,29,3,32],[3,33,3,34],[0,21,0,24],[0,25,0,28],[0,29,0,32],[0,33,0,34],[1,21,1,23],[1,25,1,28],[1,29,1,32],[1,33,1,34]]}
["135","De Groof Bruno",null,null,null,null,null,null,null,null,null,null,null,null,null,null,null,null,null,null,null,"Soort",null,null,null,"Recht op",null,null,null,"Opgenomen",null,null,null,"Saldo"]
[null,null,null,null,null,null,null,null,null,null,null,null,null,null,null,null,null,null,null,null,null,"ADV-dagen",null,null,"adv",null,null,null,null,{"$f":"(COUNTIF(W$9:AH$39,\"ADV\")+(COUNTIF(W$9:AH$39,\"0,5ADV\"))/2)","v":0},null,null,null,{"$f":"Z2-AD2","v":0}]
[null,null,null,null,null,null,null,null,null,null,null,null,null,null,null,null,null,null,null,null,null,"Vakantie 2019",null,null,"v",null,null,null,null,{"$f":"(COUNTIF(W$9:AH$39,\"V\")+(COUNTIF(W$9:AH$39,\"0,5V\"))/2)","v":3},null,null,null,{"$f":"Z3-AD3","v":-3}]
[null,null,"40-uren week",null,null,null,null,null,null,null,null,null,null,"Feestdag in weekend 2019",null,null,null,null,"Recup 2018",0.5,null,"Feestdag 2019",null,null,"f",1,null,null,null,{"$f":"(COUNTIF(W$9:AH$39,\"F\")+(COUNTIF(W$9:AH$39,\"0,5F\"))/2)","v":0},null,null,null,1]
[null,null,null,null,null,null,null,null,null,null,null,null,null,"- nationale feestdag 21/7",null,null,null,null,null,null,null,"Vakantie rest 2018",null,null,"vvj",null,null,null,null,{"$f":"(COUNTIF(W$9:AH$39,\"vvj\")+(COUNTIF(W$9:AH$39,\"0,5vvj\"))/2)","v":0},null,null,null,0]
[null,null,null,null,null,null,null,null,null,null,null,null,null,null,null,null,null,null,"Recup",{"$f":"SUM(S9:S379)-SUM(R9:R379)+T5+T4","v":0.5},null,"Anciënniteitsdagen",null,null,"a ",null,null,null,null,{"$f":"(COUNTIF(W$9:AH$39,\"A\")+(COUNTIF(W$9:AH$39,\"0,5A\"))/2)","v":0},null,null,null,0]
[null,null,null,null,null,null,null,null,null,null,null,null,null,null,null,null,null,null,null,null,null,"TOTAAL",null,null,null,{"$f":"SUM(Z2:AC6)","v":1},null,null,null,{"$f":"SUM(AD2:AG6)","v":3},null,null,null,{"$f":"SUM(AH2:AI6)","v":-2}]
["W","Dag","Datum","Van ","Tot",null,"Pauze","Prestaties","Recup","Andere","Type","Dag","OV DAG","Week","Prestaties","OV WEEK","OV DAG","Rec. -","Rec. +","OV 50%","M",null,"Jan","Feb","Maa","Apr","Mei","Jun","Jul","Aug","Sept","Okt","Nov","Dec"]
[{"$f":"WEEKNUM(C9,21)","v":1},{"$f":"C9","v":"2018-12-31"},"2018-12-31",null,null,{"$f":"(E9-D9)*24","v":0},{"$f":"IF(F9>=6,0.5,0)","v":0},{"$f":"F9-G9","v":0},null,8,"OK",{"$f":"SUM(H9:J9)","v":8},{"$f":"IF(L9>9,L9-9,\"\")","v":""},"Dag Verlof 2018 verwerkt OK!",null,null,null,null,null,null,0,1,{"$f":"K9","v":"OK"},{"$f":"K40","v":0},{"$f":"K68","v":0},{"$f":"K99","v":"zo"},{"$f":"K129","v":0},{"$f":"K160","v":0},{"$f":"K190","v":"zo"},{"$f":"K221","v":0},{"$f":"K252","v":"za"},{"$f":"K282","v":0},{"$f":"K313","v":0},{"$f":"K343","v":"za"},1]
[{"$f":"WEEKNUM(C10,21)","v":1},{"$f":"C10","v":"2019-01-01"},"2019-01-01",null,null,{"$f":"(E10-D10)*24","v":0},{"$f":"IF(F10>=6,0.5,0)","v":0},{"$f":"F10-G10","v":0},null,8,"fd",{"$f":"SUM(H10:J10)","v":8},"",null,null,null,null,null,null,null,0,2,{"$f":"K10","v":"fd"},{"$f":"K41","v":0},{"$f":"K69","v":0},{"$f":"K100","v":0},{"$f":"K130","v":"fd"},{"$f":"K161","v":"za"},{"$f":"K191","v":0},{"$f":"K222","v":0},{"$f":"K253","v":"zo"},{"$f":"K283","v":0},{"$f":"K314","v":"fd"},{"$f":"K344","v":"zo"},2]
[1,"2019-01-02","2019-01-02",null,null,0,0,0,null,8,"v",8,"","ET 21/12: Verlofaanvraag 24/12 tem 08/01/2019 goedgekeurd Stephanie R.",null,null,null,null,null,null,null,null,"v","za","za",0,0,"zo",0,0,0,0,"za",0,3]
[1,"2019-01-03","2019-01-03",null,null,0,0,0,null,8,"v",8,"","Navraag: verlof tem 04/01/2019 OK",null,null,null,null,null,null,null,null,"v","zo","zo",0,0,0,0,"za",0,0,"zo",0,4]
[1,"2019-01-04","2019-01-04",null,null,0,0,0,null,8,"v",8,"",null,null,null,null,null,null,null,null,null,"v",0,0,0,"za",0,0,"zo",0,0,0,{"$f":"K347","v":0},5]
[1,"2019-01-05","2019-01-05",null,null,0,null,0,null,null,"za",0,"","Week",null,"OV WEEK","OV DAG","Recup -","Recup +","OV 50%",null,6,"za",0,0,0,"zo",0,0,0,0,"za",0,0,6]
[1,"2019-01-06","2019-01-06",null,null,0,null,0,null,null,"zo",0,"",{"$f":"SUM(L9:L15)","v":40},{"$f":"SUM(H9:H15)","v":0},{"$f":"IF(N15>40,N15-40,0)","v":0},{"$f":"SUM(M9:M15)","v":0},{"$f":"SUM(I9:I15)","v":0},{"$f":"IF(N15>40,N15-40,0)","v":0},{"$f":"IF(P15>Q15,P15,Q15)","v":0},null,7,"zo",0,0,"za",0,0,"za",0,0,"zo",0,0,7]
[2,"2019-01-07","2019-01-07",null,null,0,0,0,null,null,null,0,"",null,null,null,null,null,null,null,null,8,0,0,0,"zo",0,0,"zo",0,"za",0,0,"za",8]
[2,"2019-01-08","2019-01-08",null,null,0,0,0,null,null,null,0,"",null,null,null,null,null,null,null,null,9,0,0,0,0,0,"za",0,0,"zo",0,0,"zo",9]
[2,"2019-01-09","2019-01-09",null,null,0,0,0,null,null,null,0,"",null,null,null,null,null,null,null,null,10,0,"za","za",0,0,"zo",0,0,0,0,"za",0,10]
[2,"2019-01-10","2019-01-10",null,null,0,0,0,null,null,null,0,"",null,null,null,null,null,null,null,null,11,0,"zo","zo",0,0,"fd",0,"za",0,0,"zo",0,11]
[2,"2019-01-11","2019-01-11",null,null,0,0,0,null,null,null,0,"",null,null,null,null,null,null,null,null,12,0,0,0,0,"za",0,0,"zo",0,0,"fd",0,12]
[2,"2019-01-12","2019-01-12",null,null,0,null,0,null,null,"za",0,"","Week",null,"OV WEEK","OV DAG","Recup -","Recup +","OV 50%",null,13,"za",0,0,0,"zo",0,0,0,0,"za",0,0,13]
[2,"2019-01-13","2019-01-13",null,null,0,null,0,null,null,"zo",0,"",{"$f":"SUM(L16:L22)","v":0},{"$f":"SUM(H16:H22)","v":0},{"$f":"IF(N22>40,N22-40,0)","v":0},{"$f":"SUM(M16:M22)","v":0},{"$f":"SUM(I16:I22)","v":0},{"$f":"IF(N22>40,N22-40,0)","v":0},{"$f":"IF(P22>Q22,P22,Q22)","v":0},null,14,"zo",0,0,"za",0,0,"za",0,0,"zo",0,0,14]
[3,"2019-01-14","2019-01-14",null,null,0,0,0,null,null,null,0,"",null,null,null,null,null,null,null,null,15,0,0,0,"zo",0,0,"zo",0,"za",0,0,"za",15]
[3,"2019-01-15","2019-01-15",null,null,0,0,0,null,null,null,0,"",null,null,null,null,null,null,null,null,16,0,0,0,0,0,"za",0,"fd","zo",0,0,"zo",16]
[3,"2019-01-16","2019-01-16",null,null,0,0,0,null,null,null,0,"",null,null,null,null,null,null,null,null,17,0,"za","za",0,0,"zo",0,0,0,0,"za",0,17]
[3,"2019-01-17","2019-01-17",null,null,0,0,0,null,null,null,0,"",null,null,null,null,null,null,null,null,18,0,"zo","zo",0,0,0,0,"za",0,0,"zo",0,18]
[3,"2019-01-18","2019-01-18",null,null,0,0,0,null,null,null,0,"",null,null,null,null,null,null,null,null,19,0,0,0,0,"za",0,0,"zo",0,0,0,0,19]
[3,"2019-01-19","2019-01-19",null,null,0,null,0,null,null,"za",0,"","Week",null,"OV WEEK","OV DAG","Recup -","Recup +","OV 50%",null,20,"za",0,0,0,"zo",0,0,0,0,"za",0,{"$f":"K362","v":0},20]
[3,"2019-01-20","2019-01-20",null,null,0,null,0,null,null,"zo",0,"",{"$f":"SUM(L23:L29)","v":0},{"$f":"SUM(H23:H29)","v":0},{"$f":"IF(N29>40,N29-40,0)","v":0},{"$f":"SUM(M23:M29)","v":0},{"$f":"SUM(I23:I29)","v":0},{"$f":"IF(N29>40,N29-40,0)","v":0},{"$f":"IF(P29>Q29,P29,Q29)","v":0},null,21,"zo",0,0,"za","fd",0,"za",0,0,"zo",0,0,21]
[4,"2019-01-21","2019-01-21",null,null,0,0,0,null,null,null,0,"",null,null,null,null,null,null,null,null,22,0,0,0,"zo",0,0,"zo",0,"za",0,0,"za",22]
[4,"2019-01-22","2019-01-22",null,null,0,0,0,null,null,null,0,"",null,null,null,null,null,null,null,null,23,0,0,0,"fd",0,"za",0,0,"zo",0,0,"zo",23]
[4,"2019-01-23","2019-01-23",null,null,0,0,0,null,null,null,0,"",null,null,null,null,null,null,null,null,24,0,"za","za",0,0,"zo",0,0,0,0,"za",0,24]
[4,"2019-01-24","2019-01-24",null,null,0,0,0,null,null,null,0,"",null,null,null,null,null,null,null,null,25,0,"zo","zo",0,0,0,0,"za",0,0,"zo",0,25]
[4,"2019-01-25","2019-01-25",null,null,0,0,0,null,null,null,0,"",null,null,null,null,null,null,null,null,26,0,0,0,0,"za",0,0,"zo",0,0,0,"fd",26]
[4,"2019-01-26","2019-01-26",null,null,0,null,0,null,null,"za",0,"","Week",null,"OV WEEK","OV DAG","Recup -","Recup +","OV 50%",null,27,"za",0,0,0,"zo",0,0,0,0,"za",0,0,27]
[4,"2019-01-27","2019-01-27",null,null,0,null,0,null,null,"zo",0,"",{"$f":"SUM(L30:L36)","v":0},{"$f":"SUM(H30:H36)","v":0},{"$f":"IF(N36>40,N36-40,0)","v":0},{"$f":"SUM(M30:M36)","v":0},{"$f":"SUM(I30:I36)","v":0},{"$f":"IF(N36>40,N36-40,0)","v":0},{"$f":"IF(P36>Q36,P36,Q36)","v":0},null,28,"zo",0,0,"za",0,0,"za",0,0,"zo",0,0,28]
[5,"2019-01-28","2019-01-28",null,null,0,0,0,null,null,null,0,"",null,null,null,null,null,null,null,null,29,0,null,0,"zo",0,0,"zo",0,"za",0,0,"za",29]
[5,"2019-01-29","2019-01-29",null,null,0,0,0,null,null,null,0,"",null,null,null,null,null,null,null,null,30,0,null,0,0,0,"za",0,0,"zo",0,0,"zo",30]
[5,"2019-01-30","2019-01-30",null,null,0,0,0,null,null,null,0,"",null,null,null,null,null,null,null,null,31,0,null,"za",null,"fd",null,0,0,null,0,null,0,31]
[5,"2019-01-31","2019-01-31",null,null,0,0,0,null,null,null,0,"",null,null,null,null,null,null,null,null,"WD",23,20,21,22,23,20,23,22,21,23,21,22,{"$f":"SUM(W40:AH40)","v":261}]
[5,"2019-02-01","2019-02-01",null,null,0,0,0,null,null,null,0,""]
[5,"2019-02-02","2019-02-02",null,null,0,null,0,null,null,"za",0,"","Week",null,"OV WEEK","OV DAG","Recup -","Recup +","OV 50%"]
[5,"2019-02-03","2019-02-03",null,null,0,null,0,null,null,"zo",0,"",{"$f":"SUM(L37:L43)","v":0},{"$f":"SUM(H37:H43)","v":0},{"$f":"IF(N43>40,N43-40,0)","v":0},{"$f":"SUM(M37:M43)","v":0},{"$f":"SUM(I37:I43)","v":0},{"$f":"IF(N43>40,N43-40,0)","v":0},{"$f":"IF(P43>Q43,P43,Q43)","v":0}]
[6,"2019-02-04","2019-02-04",null,null,0,0,0,null,null,null,0,""]
[6,"2019-02-05","2019-02-05",null,null,0,0,0,null,null,null,0,""]
[6,"2019-02-06","2019-02-06",null,null,0,0,0,null,null,null,0,""]
[6,"2019-02-07","2019-02-07",null,null,0,0,0,null,null,null,0,""]
[6,"2019-02-08","2019-02-08",null,null,0,0,0,null,null,null,0,""]
[6,"2019-02-09","2019-02-09",null,null,0,null,0,null,null,"za",0,"","Week",null,"OV WEEK","OV DAG","Recup -","Recup +","OV 50%"]
[6,"2019-02-10","2019-02-10",null,null,0,null,0,null,null,"zo",0,"",{"$f":"SUM(L44:L50)","v":0},{"$f":"SUM(H44:H50)","v":0},{"$f":"IF(N50>40,N50-40,0)","v":0},{"$f":"SUM(M44:M50)","v":0},{"$f":"SUM(I44:I50)","v":0},{"$f":"IF(N50>40,N50-40,0)","v":0},{"$f":"IF(P50>Q50,P50,Q50)","v":0}]
[7,"2019-02-11","2019-02-11",null,null,0,0,0,null,null,null,0,""]
[7,"2019-02-12","2019-02-12",null,null,0,0,0,null,null,null,0,""]
[7,"2019-02-13","2019-02-13",null,null,0,0,0,null,null,null,0,""]
[7,"2019-02-14","2019-02-14",null,null,0,0,0,null,null,null,0,""]
[7,"2019-02-15","2019-02-15",null,null,0,0,0,null,null,null,0,""]
[7,"2019-02-16","2019-02-16",null,null,0,null,0,null,null,"za",0,"","Week",null,"OV WEEK","OV DAG","Recup -","Recup +","OV 50%"]
[7,"2019-02-17","2019-02-17",null,null,0,null,0,null,null,"zo",0,"",{"$f":"SUM(L51:L57)","v":0},{"$f":"SUM(H51:H57)","v":0},{"$f":"IF(N57>40,N57-40,0)","v":0},{"$f":"SUM(M51:M57)","v":0},{"$f":"SUM(I51:I57)","v":0},{"$f":"IF(N57>40,N57-40,0)","v":0},{"$f":"IF(P57>Q57,P57,Q57)","v":0}]
[8,"2019-02-18","2019-02-18",null,null,0,0,0,null,null,null,0,""]
[8,"2019-02-19","2019-02-19",null,null,0,0,0,null,null,null,0,""]
[8,"2019-02-20","2019-02-20",null,null,0,0,0,null,null,null,0,""]
[8,"2019-02-21","2019-02-21",null,null,0,0,0,null,null,null,0,""]
[8,"2019-02-22","2019-02-22",null,null,0,0,0,null,null,null,0,""]
[8,"2019-02-23","2019-02-23",null,null,0,null,0,null,null,"za",0,"","Week",null,"OV WEEK","OV DAG","Recup -","Recup +","OV 50%"]
[8,"2019-02-24","2019-02-24",null,null,0,null,0,null,null,"zo",0,"",{"$f":"SUM(L58:L64)","v":0},{"$f":"SUM(H58:H64)","v":0},{"$f":"IF(N64>40,N64-40,0)","v":0},{"$f":"SUM(M58:M64)","v":0},{"$f":"SUM(I58:I64)","v":0},{"$f":"IF(N64>40,N64-40,0)","v":0},{"$f":"IF(P64>Q64,P64,Q64)","v":0}]
[9,"2019-02-25","2019-02-25",null,null,0,0,0,null,null,null,0,""]
[9,"2019-02-26","2019-02-26",null,null,0,0,0,null,null,null,0,""]
[9,"2019-02-27","2019-02-27",null,null,0,0,0,null,null,null,0,""]
[9,"2019-02-28","2019-02-28",null,null,0,0,0,null,null,null,0,""]
[9,"2019-03-01","2019-03-01",null,null,0,0,0,null,null,null,0,""]
[9,"2019-03-02","2019-03-02",null,null,0,null,0,null,null,"za",0,"","Week",null,"OV WEEK","OV DAG","Recup -","Recup +","OV 50%"]
[9,"2019-03-03","2019-03-03",null,null,0,null,0,null,null,"zo",0,"",{"$f":"SUM(L65:L71)","v":0},{"$f":"SUM(H65:H71)","v":0},{"$f":"IF(N71>40,N71-40,0)","v":0},{"$f":"SUM(M65:M71)","v":0},{"$f":"SUM(I65:I71)","v":0},{"$f":"IF(N71>40,N71-40,0)","v":0},{"$f":"IF(P71>Q71,P71,Q71)","v":0}]
[10,"2019-03-04","2019-03-04",null,null,0,0,0,null,null,null,0,""]
[10,"2019-03-05","2019-03-05",null,null,0,0,0,null,null,null,0,{"$f":"IF(L73>9,L73-9,\"\")","v":""}]
[{"$f":"WEEKNUM(C74,21)","v":10},{"$f":"C74","v":"2019-03-06"},"2019-03-06",null,null,{"$f":"(E74-D74)*24","v":0},{"$f":"IF(F74>=6,0.5,0)","v":0},{"$f":"F74-G74","v":0},null,null,null,{"$f":"SUM(H74:J74)","v":0},""]
[10,"2019-03-07","2019-03-07",null,null,0,0,0,null,null,null,0,""]
[10,"2019-03-08","2019-03-08",null,null,0,0,0,null,null,null,0,""]
[10,"2019-03-09","2019-03-09",null,null,0,null,0,null,null,"za",0,"","Week",null,"OV WEEK","OV DAG","Recup -","Recup +","OV 50%"]
[10,"2019-03-10","2019-03-10",null,null,0,null,0,null,null,"zo",0,"",{"$f":"SUM(L72:L78)","v":0},{"$f":"SUM(H72:H78)","v":0},{"$f":"IF(N78>40,N78-40,0)","v":0},{"$f":"SUM(M72:M78)","v":0},{"$f":"SUM(I72:I78)","v":0},{"$f":"IF(N78>40,N78-40,0)","v":0},{"$f":"IF(P78>Q78,P78,Q78)","v":0}]
[11,"2019-03-11","2019-03-11",null,null,0,0,0,null,null,null,0,""]
[11,"2019-03-12","2019-03-12",null,null,0,0,0,null,null,null,0,""]
[11,"2019-03-13","2019-03-13",null,null,0,0,0,null,null,null,0,""]
[11,"2019-03-14","2019-03-14",null,null,0,0,0,null,null,null,0,""]
[11,"2019-03-15","2019-03-15",null,null,0,0,0,null,null,null,0,""]
[11,"2019-03-16","2019-03-16",null,null,0,null,0,null,null,"za",0,"","Week",null,"OV WEEK","OV DAG","Recup -","Recup +","OV 50%"]
[11,"2019-03-17","2019-03-17",null,null,0,null,0,null,null,"zo",0,"",{"$f":"SUM(L79:L85)","v":0},{"$f":"SUM(H79:H85)","v":0},{"$f":"IF(N85>40,N85-40,0)","v":0},{"$f":"SUM(M79:M85)","v":0},{"$f":"SUM(I79:I85)","v":0},{"$f":"IF(N85>40,N85-40,0)","v":0},{"$f":"IF(P85>Q85,P85,Q85)","v":0}]
[12,"2019-03-18","2019-03-18",null,null,0,0,0,null,null,null,0,""]
[12,"2019-03-19","2019-03-19",null,null,0,0,0,null,null,null,0,""]
[12,"2019-03-20","2019-03-20",null,null,0,0,0,null,null,null,0,""]
[12,"2019-03-21","2019-03-21",null,null,0,0,0,null,null,null,0,""]
[12,"2019-03-22","2019-03-22",null,null,0,0,0,null,null,null,0,""]
[12,"2019-03-23","2019-03-23",null,null,0,null,0,null,null,"za",0,"","Week",null,"OV WEEK","OV DAG","Recup -","Recup +","OV 50%"]
[12,"2019-03-24","2019-03-24",null,null,0,null,0,null,null,"zo",0,"",{"$f":"SUM(L86:L92)","v":0},{"$f":"SUM(H86:H92)","v":0},{"$f":"IF(N92>40,N92-40,0)","v":0},{"$f":"SUM(M86:M92)","v":0},{"$f":"SUM(I86:I92)","v":0},{"$f":"IF(N92>40,N92-40,0)","v":0},{"$f":"IF(P92>Q92,P92,Q92)","v":0}]
[13,"2019-03-25","2019-03-25",null,null,0,0,0,null,null,null,0,""]
[13,"2019-03-26","2019-03-26",null,null,0,0,0,null,null,null,0,""]
[13,"2019-03-27","2019-03-27",null,null,0,0,0,null,null,null,0,""]
[13,"2019-03-28","2019-03-28",null,null,0,0,0,null,null,null,0,""]
[13,"2019-03-29","2019-03-29",null,null,0,0,0,null,null,null,0,""]
[13,"2019-03-30","2019-03-30",null,null,0,null,0,null,null,"za",0,"","Week",null,"OV WEEK","OV DAG","Recup -","Recup +","OV 50%"]
[13,"2019-03-31","2019-03-31",null,null,0,null,0,null,null,"zo",0,"",{"$f":"SUM(L93:L99)","v":0},{"$f":"SUM(H93:H99)","v":0},{"$f":"IF(N99>40,N99-40,0)","v":0},{"$f":"SUM(M93:M99)","v":0},{"$f":"SUM(I93:I99)","v":0},{"$f":"IF(N99>40,N99-40,0)","v":0},{"$f":"IF(P99>Q99,P99,Q99)","v":0}]
[14,"2019-04-01","2019-04-01",null,null,0,0,0,null,null,null,0,""]
[14,"2019-04-02","2019-04-02",null,null,0,0,0,null,null,null,0,""]
[14,"2019-04-03","2019-04-03",null,null,0,0,0,null,null,null,0,""]
[14,"2019-04-04","2019-04-04",null,null,0,0,0,null,null,null,0,""]
[14,"2019-04-05","2019-04-05",null,null,0,0,0,null,null,null,0,""]
[14,"2019-04-06","2019-04-06",null,null,0,null,0,null,null,"za",0,"","Week",null,"OV WEEK","OV DAG","Recup -","Recup +","OV 50%"]
[14,"2019-04-07","2019-04-07",null,null,0,null,0,null,null,"zo",0,"",{"$f":"SUM(L100:L106)","v":0},{"$f":"SUM(H100:H106)","v":0},{"$f":"IF(N106>40,N106-40,0)","v":0},{"$f":"SUM(M100:M106)","v":0},{"$f":"SUM(I100:I106)","v":0},{"$f":"IF(N106>40,N106-40,0)","v":0},{"$f":"IF(P106>Q106,P106,Q106)","v":0}]
[15,"2019-04-08","2019-04-08",null,null,0,0,0,null,null,null,0,""]
[15,"2019-04-09","2019-04-09",null,null,0,0,0,null,null,null,0,""]
[15,"2019-04-10","2019-04-10",null,null,0,0,0,null,null,null,0,""]
[15,"2019-04-11","2019-04-11",null,null,0,0,0,null,null,null,0,""]
[15,"2019-04-12","2019-04-12",null,null,0,0,0,null,null,null,0,""]
[15,"2019-04-13","2019-04-13",null,null,0,null,0,null,null,"za",0,"","Week",null,"OV WEEK","OV DAG","Recup -","Recup +","OV 50%"]
[15,"2019-04-14","2019-04-14",null,null,0,null,0,null,null,"zo",0,"",{"$f":"SUM(L107:L113)","v":0},{"$f":"SUM(H107:H113)","v":0},{"$f":"IF(N113>40,N113-40,0)","v":0},{"$f":"SUM(M107:M113)","v":0},{"$f":"SUM(I107:I113)","v":0},{"$f":"IF(N113>40,N113-40,0)","v":0},{"$f":"IF(P113>Q113,P113,Q113)","v":0}]
[16,"2019-04-15","2019-04-15",null,null,0,0,0,null,null,null,0,""]
[16,"2019-04-16","2019-04-16",null,null,0,0,0,null,null,null,0,""]
[16,"2019-04-17","2019-04-17",null,null,0,0,0,null,null,null,0,""]
[16,"2019-04-18","2019-04-18",null,null,0,0,0,null,null,null,0,""]
[16,"2019-04-19","2019-04-19",null,null,0,0,0,null,null,null,0,""]
[16,"2019-04-20","2019-04-20",null,null,0,null,0,null,null,"za",0,"","Week",null,"OV WEEK","OV DAG","Recup -","Recup +","OV 50%"]
[16,"2019-04-21","2019-04-21",null,null,0,null,0,null,null,"zo",0,"",{"$f":"SUM(L114:L120)","v":0},{"$f":"SUM(H114:H120)","v":0},{"$f":"IF(N120>40,N120-40,0)","v":0},{"$f":"SUM(M114:M120)","v":0},{"$f":"SUM(I114:I120)","v":0},{"$f":"IF(N120>40,N120-40,0)","v":0},{"$f":"IF(P120>Q120,P120,Q120)","v":0}]
[17,"2019-04-22","2019-04-22",null,null,0,0,0,null,7.6,"fd",7.6,""]
[17,"2019-04-23","2019-04-23",null,null,0,0,0,null,null,null,0,""]
[17,"2019-04-24","2019-04-24",null,null,0,0,0,null,null,null,0,""]
[17,"2019-04-25","2019-04-25",null,null,0,0,0,null,null,null,0,""]
[17,"2019-04-26","2019-04-26",null,null,0,0,0,null,null,null,0,""]
[17,"2019-04-27","2019-04-27",null,null,0,null,0,null,null,"za",0,"","Week",null,"OV WEEK","OV DAG","Recup -","Recup +","OV 50%"]
[17,"2019-04-28","2019-04-28",null,null,0,null,0,null,null,"zo",0,"",{"$f":"SUM(L121:L127)","v":7.6},{"$f":"SUM(H121:H127)","v":0},{"$f":"IF(N127>40,N127-40,0)","v":0},{"$f":"SUM(M121:M127)","v":0},{"$f":"SUM(I121:I127)","v":0},{"$f":"IF(N127>40,N127-40,0)","v":0},{"$f":"IF(P127>Q127,P127,Q127)","v":0}]
[18,"2019-04-29","2019-04-29",null,null,0,0,0,null,null,null,0,""]
[18,"2019-04-30","2019-04-30",null,null,0,0,0,null,null,null,0,""]
[18,"2019-05-01","2019-05-01",null,null,0,0,0,null,7.6,"fd",7.6,""]
[18,"2019-05-02","2019-05-02",null,null,0,0,0,null,null,null,0,""]
[18,"2019-05-03","2019-05-03",null,null,0,0,0,null,null,null,0,""]
[18,"2019-05-04","2019-05-04",null,null,0,null,0,null,null,"za",0,"","Week",null,"OV WEEK","OV DAG","Recup -","Recup +","OV 50%"]
[18,"2019-05-05","2019-05-05",null,null,0,null,0,null,null,"zo",0,"",{"$f":"SUM(L128:L134)","v":7.6},{"$f":"SUM(H128:H134)","v":0},{"$f":"IF(N134>40,N134-40,0)","v":0},{"$f":"SUM(M128:M134)","v":0},{"$f":"SUM(I128:I134)","v":0},{"$f":"IF(N134>40,N134-40,0)","v":0},{"$f":"IF(P134>Q134,P134,Q134)","v":0}]
[19,"2019-05-06","2019-05-06",null,null,0,0,0,null,null,null,0,""]
[19,"2019-05-07","2019-05-07",null,null,0,0,0,null,null,null,0,""]
[19,"2019-05-08","2019-05-08",null,null,0,0,0,null,null,null,0,{"$f":"IF(L137>9,L137-9,\"\")","v":""}]
[{"$f":"WEEKNUM(C138,21)","v":19},{"$f":"C138","v":"2019-05-09"},"2019-05-09",null,null,{"$f":"(E138-D138)*24","v":0},{"$f":"IF(F138>=6,0.5,0)","v":0},{"$f":"F138-G138","v":0},null,null,null,{"$f":"SUM(H138:J138)","v":0},""]
[19,"2019-05-10","2019-05-10",null,null,0,0,0,null,null,null,0,""]
[19,"2019-05-11","2019-05-11",null,null,0,null,0,null,null,"za",0,"","Week",null,"OV WEEK","OV DAG","Recup -","Recup +","OV 50%"]
[19,"2019-05-12","2019-05-12",null,null,0,null,0,null,null,"zo",0,"",{"$f":"SUM(L135:L141)","v":0},{"$f":"SUM(H135:H141)","v":0},{"$f":"IF(N141>40,N141-40,0)","v":0},{"$f":"SUM(M135:M141)","v":0},{"$f":"SUM(I135:I141)","v":0},{"$f":"IF(N141>40,N141-40,0)","v":0},{"$f":"IF(P141>Q141,P141,Q141)","v":0}]
[20,"2019-05-13","2019-05-13",null,null,0,0,0,null,null,null,0,""]
[20,"2019-05-14","2019-05-14",null,null,0,0,0,null,null,null,0,""]
[20,"2019-05-15","2019-05-15",null,null,0,0,0,null,null,null,0,""]
[20,"2019-05-16","2019-05-16",null,null,0,0,0,null,null,null,0,""]
[20,"2019-05-17","2019-05-17",null,null,0,0,0,null,null,null,0,""]
[20,"2019-05-18","2019-05-18",null,null,0,null,0,null,null,"za",0,"","Week",null,"OV WEEK","OV DAG","Recup -","Recup +","OV 50%"]
[20,"2019-05-19","2019-05-19",null,null,0,null,0,null,null,"zo",0,"",{"$f":"SUM(L142:L148)","v":0},{"$f":"SUM(H142:H148)","v":0},{"$f":"IF(N148>40,N148-40,0)","v":0},{"$f":"SUM(M142:M148)","v":0},{"$f":"SUM(I142:I148)","v":0},{"$f":"IF(N148>40,N148-40,0)","v":0},{"$f":"IF(P148>Q148,P148,Q148)","v":0}]
[21,"2019-05-20","2019-05-20",null,null,0,0,0,null,7.6,"fd",7.6,""]
[21,"2019-05-21","2019-05-21",null,null,0,0,0,null,null,null,0,""]
[21,"2019-05-22","2019-05-22",null,null,0,0,0,null,null,null,0,""]
[21,"2019-05-23","2019-05-23",null,null,0,0,0,null,null,null,0,""]
[21,"2019-05-24","2019-05-24",null,null,0,0,0,null,null,null,0,""]
[21,"2019-05-25","2019-05-25",null,null,0,null,0,null,null,"za",0,"","Week",null,"OV WEEK","OV DAG","Recup -","Recup +","OV 50%"]
[21,"2019-05-26","2019-05-26",null,null,0,null,0,null,null,"zo",0,"",{"$f":"SUM(L149:L155)","v":7.6},{"$f":"SUM(H149:H155)","v":0},{"$f":"IF(N155>40,N155-40,0)","v":0},{"$f":"SUM(M149:M155)","v":0},{"$f":"SUM(I149:I155)","v":0},{"$f":"IF(N155>40,N155-40,0)","v":0},{"$f":"IF(P155>Q155,P155,Q155)","v":0}]
[22,"2019-05-27","2019-05-27",null,null,0,0,0,null,null,null,0,""]
[22,"2019-05-28","2019-05-28",null,null,0,0,0,null,null,null,0,""]
[22,"2019-05-29","2019-05-29",null,null,0,0,0,null,null,null,0,""]
[22,"2019-05-30","2019-05-30",null,null,0,0,0,null,7.6,"fd",7.6,""]
[22,"2019-05-31","2019-05-31",null,null,0,0,0,null,null,null,0,""]
[22,"2019-06-01","2019-06-01",null,null,0,null,0,null,null,"za",0,"","Week",null,"OV WEEK","OV DAG","Recup -","Recup +","OV 50%"]
[22,"2019-06-02","2019-06-02",null,null,0,null,0,null,null,"zo",0,"",{"$f":"SUM(L156:L162)","v":7.6},{"$f":"SUM(H156:H162)","v":0},{"$f":"IF(N162>40,N162-40,0)","v":0},{"$f":"SUM(M156:M162)","v":0},{"$f":"SUM(I156:I162)","v":0},{"$f":"IF(N162>40,N162-40,0)","v":0},{"$f":"IF(P162>Q162,P162,Q162)","v":0}]
[23,"2019-06-03","2019-06-03",null,null,0,0,0,null,null,null,0,""]
[23,"2019-06-04","2019-06-04",null,null,0,0,0,null,null,null,0,""]
[23,"2019-06-05","2019-06-05",null,null,0,0,0,null,null,null,0,""]
[23,"2019-06-06","2019-06-06",null,null,0,0,0,null,null,null,0,""]
[23,"2019-06-07","2019-06-07",null,null,0,0,0,null,null,null,0,""]
[23,"2019-06-08","2019-06-08",null,null,0,null,0,null,null,"za",0,"","Week",null,"OV WEEK","OV DAG","Recup -","Recup +","OV 50%"]
[23,"2019-06-09","2019-06-09",null,null,0,null,0,null,null,"zo",0,"",{"$f":"SUM(L163:L169)","v":0},{"$f":"SUM(H163:H169)","v":0},{"$f":"IF(N169>40,N169-40,0)","v":0},{"$f":"SUM(M163:M169)","v":0},{"$f":"SUM(I163:I169)","v":0},{"$f":"IF(N169>40,N169-40,0)","v":0},{"$f":"IF(P169>Q169,P169,Q169)","v":0}]
[24,"2019-06-10","2019-06-10",null,null,0,0,0,null,7.6,"fd",7.6,""]
[24,"2019-06-11","2019-06-11",null,null,0,0,0,null,null,null,0,""]
[24,"2019-06-12","2019-06-12",null,null,0,0,0,null,null,null,0,""]
[24,"2019-06-13","2019-06-13",null,null,0,0,0,null,null,null,0,""]
[24,"2019-06-14","2019-06-14",null,null,0,0,0,null,null,null,0,""]
[24,"2019-06-15","2019-06-15",null,null,0,null,0,null,null,"za",0,"","Week",null,"OV WEEK","OV DAG","Recup -","Recup +","OV 50%"]
[24,"2019-06-16","2019-06-16",null,null,0,null,0,null,null,"zo",0,"",{"$f":"SUM(L170:L176)","v":7.6},{"$f":"SUM(H170:H176)","v":0},{"$f":"IF(N176>40,N176-40,0)","v":0},{"$f":"SUM(M170:M176)","v":0},{"$f":"SUM(I170:I176)","v":0},{"$f":"IF(N176>40,N176-40,0)","v":0},{"$f":"IF(P176>Q176,P176,Q176)","v":0}]
[25,"2019-06-17","2019-06-17",null,null,0,0,0,null,null,null,0,""]
[25,"2019-06-18","2019-06-18",null,null,0,0,0,null,null,null,0,""]
[25,"2019-06-19","2019-06-19",null,null,0,0,0,null,null,null,0,""]
[25,"2019-06-20","2019-06-20",null,null,0,0,0,null,null,null,0,""]
[25,"2019-06-21","2019-06-21",null,null,0,0,0,null,null,null,0,""]
[25,"2019-06-22","2019-06-22",null,null,0,null,0,null,null,"za",0,"","Week",null,"OV WEEK","OV DAG","Recup -","Recup +","OV 50%"]
[25,"2019-06-23","2019-06-23",null,null,0,null,0,null,null,"zo",0,"",{"$f":"SUM(L177:L183)","v":0},{"$f":"SUM(H177:H183)","v":0},{"$f":"IF(N183>40,N183-40,0)","v":0},{"$f":"SUM(M177:M183)","v":0},{"$f":"SUM(I177:I183)","v":0},{"$f":"IF(N183>40,N183-40,0)","v":0},{"$f":"IF(P183>Q183,P183,Q183)","v":0}]
[26,"2019-06-24","2019-06-24",null,null,0,0,0,null,null,null,0,""]
[26,"2019-06-25","2019-06-25",null,null,0,0,0,null,null,null,0,""]
[26,"2019-06-26","2019-06-26",null,null,0,0,0,null,null,null,0,""]
[26,"2019-06-27","2019-06-27",null,null,0,0,0,null,null,null,0,""]
[26,"2019-06-28","2019-06-28",null,null,0,0,0,null,null,null,0,""]
[26,"2019-06-29","2019-06-29",null,null,0,null,0,null,null,"za",0,"","Week",null,"OV WEEK","OV DAG","Recup -","Recup +","OV 50%"]
[26,"2019-06-30","2019-06-30",null,null,0,null,0,null,null,"zo",0,"",{"$f":"SUM(L184:L190)","v":0},{"$f":"SUM(H184:H190)","v":0},{"$f":"IF(N190>40,N190-40,0)","v":0},{"$f":"SUM(M184:M190)","v":0},{"$f":"SUM(I184:I190)","v":0},{"$f":"IF(N190>40,N190-40,0)","v":0},{"$f":"IF(P190>Q190,P190,Q190)","v":0}]
[27,"2019-07-01","2019-07-01",null,null,0,0,0,null,null,null,0,""]
[27,"2019-07-02","2019-07-02",null,null,0,0,0,null,null,null,0,""]
[27,"2019-07-03","2019-07-03",null,null,0,0,0,null,null,null,0,""]
[27,"2019-07-04","2019-07-04",null,null,0,0,0,null,null,null,0,""]
[27,"2019-07-05","2019-07-05",null,null,0,0,0,null,null,null,0,""]
[27,"2019-07-06","2019-07-06",null,null,0,null,0,null,null,"za",0,"","Week",null,"OV WEEK","OV DAG","Recup -","Recup +","OV 50%"]
[27,"2019-07-07","2019-07-07",null,null,0,null,0,null,null,"zo",0,"",{"$f":"SUM(L191:L197)","v":0},{"$f":"SUM(H191:H197)","v":0},{"$f":"IF(N197>40,N197-40,0)","v":0},{"$f":"SUM(M191:M197)","v":0},{"$f":"SUM(I191:I197)","v":0},{"$f":"IF(N197>40,N197-40,0)","v":0},{"$f":"IF(P197>Q197,P197,Q197)","v":0}]
[28,"2019-07-08","2019-07-08",null,null,0,0,0,null,null,null,0,""]
[28,"2019-07-09","2019-07-09",null,null,0,0,0,null,null,null,0,""]
[28,"2019-07-10","2019-07-10",null,null,0,0,0,null,null,null,0,""]
[28,"2019-07-11","2019-07-11",null,null,0,0,0,null,null,null,0,{"$f":"IF(L201>9,L201-9,\"\")","v":""}]
[{"$f":"WEEKNUM(C202,21)","v":28},{"$f":"C202","v":"2019-07-12"},"2019-07-12",null,null,{"$f":"(E202-D202)*24","v":0},{"$f":"IF(F202>=6,0.5,0)","v":0},{"$f":"F202-G202","v":0},null,null,null,{"$f":"SUM(H202:J202)","v":0},""]
[28,"2019-07-13","2019-07-13",null,null,0,null,0,null,null,"za",0,"","Week",null,"OV WEEK","OV DAG","Recup -","Recup +","OV 50%"]
[28,"2019-07-14","2019-07-14",null,null,0,null,0,null,null,"zo",0,"",{"$f":"SUM(L198:L204)","v":0},{"$f":"SUM(H198:H204)","v":0},{"$f":"IF(N204>40,N204-40,0)","v":0},{"$f":"SUM(M198:M204)","v":0},{"$f":"SUM(I198:I204)","v":0},{"$f":"IF(N204>40,N204-40,0)","v":0},{"$f":"IF(P204>Q204,P204,Q204)","v":0}]
[29,"2019-07-15","2019-07-15",null,null,0,0,0,null,null,null,0,""]
[29,"2019-07-16","2019-07-16",null,null,0,0,0,null,null,null,0,""]
[29,"2019-07-17","2019-07-17",null,null,0,0,0,null,null,null,0,""]
[29,"2019-07-18","2019-07-18",null,null,0,0,0,null,null,null,0,""]
[29,"2019-07-19","2019-07-19",null,null,0,0,0,null,null,null,0,""]
[29,"2019-07-20","2019-07-20",null,null,0,null,0,null,null,"za",0,"","Week",null,"OV WEEK","OV DAG","Recup -","Recup +","OV 50%"]
[29,"2019-07-21","2019-07-21",null,null,0,null,0,null,null,"zo",0,"",{"$f":"SUM(L205:L211)","v":0},{"$f":"SUM(H205:H211)","v":0},{"$f":"IF(N211>40,N211-40,0)","v":0},{"$f":"SUM(M205:M211)","v":0},{"$f":"SUM(I205:I211)","v":0},{"$f":"IF(N211>40,N211-40,0)","v":0},{"$f":"IF(P211>Q211,P211,Q211)","v":0}]
[30,"2019-07-22","2019-07-22",null,null,0,0,0,null,null,null,0,""]
[30,"2019-07-23","2019-07-23",null,null,0,0,0,null,null,null,0,""]
[30,"2019-07-24","2019-07-24",null,null,0,0,0,null,null,null,0,""]
[30,"2019-07-25","2019-07-25",null,null,0,0,0,null,null,null,0,""]
[30,"2019-07-26","2019-07-26",null,null,0,0,0,null,null,null,0,""]
[30,"2019-07-27","2019-07-27",null,null,0,null,0,null,null,"za",0,"","Week",null,"OV WEEK","OV DAG","Recup -","Recup +","OV 50%"]
[30,"2019-07-28","2019-07-28",null,null,0,null,0,null,null,"zo",0,"",{"$f":"SUM(L212:L218)","v":0},{"$f":"SUM(H212:H218)","v":0},{"$f":"IF(N218>40,N218-40,0)","v":0},{"$f":"SUM(M212:M218)","v":0},{"$f":"SUM(I212:I218)","v":0},{"$f":"IF(N218>40,N218-40,0)","v":0},{"$f":"IF(P218>Q218,P218,Q218)","v":0}]
[31,"2019-07-29","2019-07-29",null,null,0,0,0,null,null,null,0,""]
[31,"2019-07-30","2019-07-30",null,null,0,0,0,null,null,null,0,""]
[31,"2019-07-31","2019-07-31",null,null,0,0,0,null,null,null,0,""]
[31,"2019-08-01","2019-08-01",null,null,0,0,0,null,null,null,0,""]
[31,"2019-08-02","2019-08-02",null,null,0,0,0,null,null,null,0,""]
[31,"2019-08-03","2019-08-03",null,null,0,null,0,null,null,"za",0,"","Week",null,"OV WEEK","OV DAG","Recup -","Recup +","OV 50%"]
[31,"2019-08-04","2019-08-04",null,null,0,null,0,null,null,"zo",0,"",{"$f":"SUM(L219:L225)","v":0},{"$f":"SUM(H219:H225)","v":0},{"$f":"IF(N225>40,N225-40,0)","v":0},{"$f":"SUM(M219:M225)","v":0},{"$f":"SUM(I219:I225)","v":0},{"$f":"IF(N225>40,N225-40,0)","v":0},{"$f":"IF(P225>Q225,P225,Q225)","v":0}]
[32,"2019-08-05","2019-08-05",null,null,0,0,0,null,null,null,0,""]
[32,"2019-08-06","2019-08-06",null,null,0,0,0,null,null,null,0,""]
[32,"2019-08-07","2019-08-07",null,null,0,0,0,null,null,null,0,""]
[32,"2019-08-08","2019-08-08",null,null,0,0,0,null,null,null,0,""]
[32,"2019-08-09","2019-08-09",null,null,0,0,0,null,null,null,0,""]
[32,"2019-08-10","2019-08-10",null,null,0,null,0,null,null,"za",0,"","Week",null,"OV WEEK","OV DAG","Recup -","Recup +","OV 50%"]
[32,"2019-08-11","2019-08-11",null,null,0,null,0,null,null,"zo",0,"",{"$f":"SUM(L226:L232)","v":0},{"$f":"SUM(H226:H232)","v":0},{"$f":"IF(N232>40,N232-40,0)","v":0},{"$f":"SUM(M226:M232)","v":0},{"$f":"SUM(I226:I232)","v":0},{"$f":"IF(N232>40,N232-40,0)","v":0},{"$f":"IF(P232>Q232,P232,Q232)","v":0}]
[33,"2019-08-12","2019-08-12",null,null,0,0,0,null,null,null,0,""]
[33,"2019-08-13","2019-08-13",null,null,0,0,0,null,null,null,0,""]
[33,"2019-08-14","2019-08-14",null,null,0,0,0,null,null,null,0,""]
[33,"2019-08-15","2019-08-15",null,null,0,0,0,null,7.6,"fd",7.6,""]
[33,"2019-08-16","2019-08-16",null,null,0,0,0,null,null,null,0,""]
[33,"2019-08-17","2019-08-17",null,null,0,null,0,null,null,"za",0,"","Week",null,"OV WEEK","OV DAG","Recup -","Recup +","OV 50%"]
[33,"2019-08-18","2019-08-18",null,null,0,null,0,null,null,"zo",0,"",{"$f":"SUM(L233:L239)","v":7.6},{"$f":"SUM(H233:H239)","v":0},{"$f":"IF(N239>40,N239-40,0)","v":0},{"$f":"SUM(M233:M239)","v":0},{"$f":"SUM(I233:I239)","v":0},{"$f":"IF(N239>40,N239-40,0)","v":0},{"$f":"IF(P239>Q239,P239,Q239)","v":0}]
[34,"2019-08-19","2019-08-19",null,null,0,0,0,null,null,null,0,""]
[34,"2019-08-20","2019-08-20",null,null,0,{"$f":"IF(F241>=6,0.5,0)","v":0},0,null,null,null,0,""]
[34,"2019-08-21","2019-08-21",null,null,0,0,0,null,null,null,0,""]
[34,"2019-08-22","2019-08-22",null,null,0,0,0,null,null,null,0,""]
[34,"2019-08-23","2019-08-23",null,null,0,0,0,null,null,null,0,""]
[34,"2019-08-24","2019-08-24",null,null,0,null,0,null,null,"za",0,"","Week",null,"OV WEEK","OV DAG","Recup -","Recup +","OV 50%"]
[34,"2019-08-25","2019-08-25",null,null,0,null,0,null,null,"zo",0,"",{"$f":"SUM(L240:L246)","v":0},{"$f":"SUM(H240:H246)","v":0},{"$f":"IF(N246>40,N246-40,0)","v":0},{"$f":"SUM(M240:M246)","v":0},{"$f":"SUM(I240:I246)","v":0},{"$f":"IF(N246>40,N246-40,0)","v":0},{"$f":"IF(P246>Q246,P246,Q246)","v":0}]
[35,"2019-08-26","2019-08-26",null,null,0,0,0,null,null,null,0,""]
[35,"2019-08-27","2019-08-27",null,null,0,0,0,null,null,null,0,""]
[35,"2019-08-28","2019-08-28",null,null,0,0,0,null,null,null,0,""]
[35,"2019-08-29","2019-08-29",null,null,0,0,0,null,null,null,0,""]
[35,"2019-08-30","2019-08-30",null,null,0,0,0,null,null,null,0,""]
[35,"2019-08-31","2019-08-31",null,null,0,null,0,null,null,"za",0,"","Week",null,"OV WEEK","OV DAG","Recup -","Recup +","OV 50%"]
[35,"2019-09-01","2019-09-01",null,null,0,null,0,null,null,"zo",0,"",{"$f":"SUM(L247:L253)","v":0},{"$f":"SUM(H247:H253)","v":0},{"$f":"IF(N253>40,N253-40,0)","v":0},{"$f":"SUM(M247:M253)","v":0},{"$f":"SUM(I247:I253)","v":0},{"$f":"IF(N253>40,N253-40,0)","v":0},{"$f":"IF(P253>Q253,P253,Q253)","v":0}]
[36,"2019-09-02","2019-09-02",null,null,0,0,0,null,null,null,0,""]
[36,"2019-09-03","2019-09-03",null,null,0,0,0,null,null,null,0,""]
[36,"2019-09-04","2019-09-04",null,null,0,0,0,null,null,null,0,""]
[36,"2019-09-05","2019-09-05",null,null,0,0,0,null,null,null,0,""]
[36,"2019-09-06","2019-09-06",null,null,0,0,0,null,null,null,0,""]
[36,"2019-09-07","2019-09-07",null,null,0,null,0,null,null,"za",0,"","Week",null,"OV WEEK","OV DAG","Recup -","Recup +","OV 50%"]
[36,"2019-09-08","2019-09-08",null,null,0,null,0,null,null,"zo",0,"",{"$f":"SUM(L254:L260)","v":0},{"$f":"SUM(H254:H260)","v":0},{"$f":"IF(N260>40,N260-40,0)","v":0},{"$f":"SUM(M254:M260)","v":0},{"$f":"SUM(I254:I260)","v":0},{"$f":"IF(N260>40,N260-40,0)","v":0},{"$f":"IF(P260>Q260,P260,Q260)","v":0}]
[37,"2019-09-09","2019-09-09",null,null,0,0,0,null,null,null,0,""]
[37,"2019-09-10","2019-09-10",null,null,0,0,0,null,null,null,0,""]
[37,"2019-09-11","2019-09-11",null,null,0,0,0,null,null,null,0,""]
[37,"2019-09-12","2019-09-12",null,null,0,0,0,null,null,null,0,""]
[37,"2019-09-13","2019-09-13",null,null,0,0,0,null,null,null,0,{"$f":"IF(L265>9,L265-9,\"\")","v":""}]
[{"$f":"WEEKNUM(C266,21)","v":37},{"$f":"C266","v":"2019-09-14"},"2019-09-14",null,null,{"$f":"(E266-D266)*24","v":0},null,{"$f":"F266-G266","v":0},null,null,"za",{"$f":"SUM(H266:J266)","v":0},"","Week",null,"OV WEEK","OV DAG","Recup -","Recup +","OV 50%"]
[37,"2019-09-15","2019-09-15",null,null,0,null,0,null,null,"zo",0,"",{"$f":"SUM(L261:L267)","v":0},{"$f":"SUM(H261:H267)","v":0},{"$f":"IF(N267>40,N267-40,0)","v":0},{"$f":"SUM(M261:M267)","v":0},{"$f":"SUM(I261:I267)","v":0},{"$f":"IF(N267>40,N267-40,0)","v":0},{"$f":"IF(P267>Q267,P267,Q267)","v":0}]
[38,"2019-09-16","2019-09-16",null,null,0,{"$f":"IF(F268>=6,0.5,0)","v":0},0,null,null,null,0,""]
[38,"2019-09-17","2019-09-17",null,null,0,0,0,null,null,null,0,""]
[38,"2019-09-18","2019-09-18",null,null,0,0,0,null,null,null,0,""]
[38,"2019-09-19","2019-09-19",null,null,0,0,0,null,null,null,0,""]
[38,"2019-09-20","2019-09-20",null,null,0,0,0,null,null,null,0,""]
[38,"2019-09-21","2019-09-21",null,null,0,null,0,null,null,"za",0,"","Week",null,"OV WEEK","OV DAG","Recup -","Recup +","OV 50%"]
[38,"2019-09-22","2019-09-22",null,null,0,null,0,null,null,"zo",0,"",{"$f":"SUM(L268:L274)","v":0},{"$f":"SUM(H268:H274)","v":0},{"$f":"IF(N274>40,N274-40,0)","v":0},{"$f":"SUM(M268:M274)","v":0},{"$f":"SUM(I268:I274)","v":0},{"$f":"IF(N274>40,N274-40,0)","v":0},{"$f":"IF(P274>Q274,P274,Q274)","v":0}]
[39,"2019-09-23","2019-09-23",null,null,0,0,0,null,null,null,0,""]
[39,"2019-09-24","2019-09-24",null,null,0,0,0,null,null,null,0,""]
[39,"2019-09-25","2019-09-25",null,null,0,0,0,null,null,null,0,""]
[39,"2019-09-26","2019-09-26",null,null,0,0,0,null,null,null,0,""]
[39,"2019-09-27","2019-09-27",null,null,0,0,0,null,null,null,0,""]
[39,"2019-09-28","2019-09-28",null,null,0,null,0,null,null,"za",0,"","Week",null,"OV WEEK","OV DAG","Recup -","Recup +","OV 50%"]
[39,"2019-09-29","2019-09-29",null,null,0,null,0,null,null,"zo",0,"",{"$f":"SUM(L275:L281)","v":0},{"$f":"SUM(H275:H281)","v":0},{"$f":"IF(N281>40,N281-40,0)","v":0},{"$f":"SUM(M275:M281)","v":0},{"$f":"SUM(I275:I281)","v":0},{"$f":"IF(N281>40,N281-40,0)","v":0},{"$f":"IF(P281>Q281,P281,Q281)","v":0}]
[40,"2019-09-30","2019-09-30",null,null,0,0,0,null,null,null,0,""]
[40,"2019-10-01","2019-10-01",null,null,0,0,0,null,null,null,0,""]
[40,"2019-10-02","2019-10-02",null,null,0,0,0,null,null,null,0,""]
[40,"2019-10-03","2019-10-03",null,null,0,0,0,null,null,null,0,""]
[40,"2019-10-04","2019-10-04",null,null,0,0,0,null,null,null,0,""]
[40,"2019-10-05","2019-10-05",null,null,0,null,0,null,null,"za",0,"","Week",null,"OV WEEK","OV DAG","Recup -","Recup +","OV 50%"]
[40,"2019-10-06","2019-10-06",null,null,0,null,0,null,null,"zo",0,"",{"$f":"SUM(L282:L288)","v":0},{"$f":"SUM(H282:H288)","v":0},{"$f":"IF(N288>40,N288-40,0)","v":0},{"$f":"SUM(M282:M288)","v":0},{"$f":"SUM(I282:I288)","v":0},{"$f":"IF(N288>40,N288-40,0)","v":0},{"$f":"IF(P288>Q288,P288,Q288)","v":0}]
[41,"2019-10-07","2019-10-07",null,null,0,0,0,null,null,null,0,""]
[41,"2019-10-08","2019-10-08",null,null,0,0,0,null,null,null,0,""]
[41,"2019-10-09","2019-10-09",null,null,0,0,0,null,null,null,0,""]
[41,"2019-10-10","2019-10-10",null,null,0,0,0,null,null,null,0,""]
[41,"2019-10-11","2019-10-11",null,null,0,0,0,null,null,null,0,""]
[41,"2019-10-12","2019-10-12",null,null,0,null,0,null,null,"za",0,"","Week",null,"OV WEEK","OV DAG","Recup -","Recup +","OV 50%"]
[41,"2019-10-13","2019-10-13",null,null,0,null,0,null,null,"zo",0,"",{"$f":"SUM(L289:L295)","v":0},{"$f":"SUM(H289:H295)","v":0},{"$f":"IF(N295>40,N295-40,0)","v":0},{"$f":"SUM(M289:M295)","v":0},{"$f":"SUM(I289:I295)","v":0},{"$f":"IF(N295>40,N295-40,0)","v":0},{"$f":"IF(P295>Q295,P295,Q295)","v":0}]
[42,"2019-10-14","2019-10-14",null,null,0,0,0,null,null,null,0,""]
[42,"2019-10-15","2019-10-15",null,null,0,0,0,null,null,null,0,""]
[42,"2019-10-16","2019-10-16",null,null,0,0,0,null,null,null,0,""]
[42,"2019-10-17","2019-10-17",null,null,0,0,0,null,null,null,0,""]
[42,"2019-10-18","2019-10-18",null,null,0,0,0,null,null,null,0,""]
[42,"2019-10-19","2019-10-19",null,null,0,null,0,null,null,"za",0,"","Week",null,"OV WEEK","OV DAG","Recup -","Recup +","OV 50%"]
[42,"2019-10-20","2019-10-20",null,null,0,null,0,null,null,"zo",0,"",{"$f":"SUM(L296:L302)","v":0},{"$f":"SUM(H296:H302)","v":0},{"$f":"IF(N302>40,N302-40,0)","v":0},{"$f":"SUM(M296:M302)","v":0},{"$f":"SUM(I296:I302)","v":0},{"$f":"IF(N302>40,N302-40,0)","v":0},{"$f":"IF(P302>Q302,P302,Q302)","v":0}]
[43,"2019-10-21","2019-10-21",null,null,0,0,0,null,null,null,0,""]
[43,"2019-10-22","2019-10-22",null,null,0,0,0,null,null,null,0,""]
[43,"2019-10-23","2019-10-23",null,null,0,0,0,null,null,null,0,""]
[43,"2019-10-24","2019-10-24",null,null,0,0,0,null,null,null,0,""]
[43,"2019-10-25","2019-10-25",null,null,0,0,0,null,null,null,0,""]
[43,"2019-10-26","2019-10-26",null,null,0,null,0,null,null,"za",0,"","Week",null,"OV WEEK","OV DAG","Recup -","Recup +","OV 50%"]
[43,"2019-10-27","2019-10-27",null,null,0,null,0,null,null,"zo",0,"",{"$f":"SUM(L303:L309)","v":0},{"$f":"SUM(H303:H309)","v":0},{"$f":"IF(N309>40,N309-40,0)","v":0},{"$f":"SUM(M303:M309)","v":0},{"$f":"SUM(I303:I309)","v":0},{"$f":"IF(N309>40,N309-40,0)","v":0},{"$f":"IF(P309>Q309,P309,Q309)","v":0}]
[44,"2019-10-28","2019-10-28",null,null,0,0,0,null,null,null,0,""]
[44,"2019-10-29","2019-10-29",null,null,0,0,0,null,null,null,0,""]
[44,"2019-10-30","2019-10-30",null,null,0,0,0,null,null,null,0,""]
[44,"2019-10-31","2019-10-31",null,null,0,0,0,null,null,null,0,""]
[44,"2019-11-01","2019-11-01",null,null,0,0,0,null,7.6,"fd",7.6,""]
[44,"2019-11-02","2019-11-02",null,null,0,null,0,null,null,"za",0,"","Week",null,"OV WEEK","OV DAG","Recup -","Recup +","OV 50%"]
[44,"2019-11-03","2019-11-03",null,null,0,null,0,null,null,"zo",0,"",{"$f":"SUM(L310:L316)","v":7.6},{"$f":"SUM(H310:H316)","v":0},{"$f":"IF(N316>40,N316-40,0)","v":0},{"$f":"SUM(M310:M316)","v":0},{"$f":"SUM(I310:I316)","v":0},{"$f":"IF(N316>40,N316-40,0)","v":0},{"$f":"IF(P316>Q316,P316,Q316)","v":0}]
[45,"2019-11-04","2019-11-04",null,null,0,0,0,null,null,null,0,""]
[45,"2019-11-05","2019-11-05",null,null,0,0,0,null,null,null,0,""]
[45,"2019-11-06","2019-11-06",null,null,0,0,0,null,null,null,0,""]
[45,"2019-11-07","2019-11-07",null,null,0,0,0,null,null,null,0,""]
[45,"2019-11-08","2019-11-08",null,null,0,0,0,null,null,null,0,""]
[45,"2019-11-09","2019-11-09",null,null,0,null,0,null,null,"za",0,"","Week",null,"OV WEEK","OV DAG","Recup -","Recup +","OV 50%"]
[45,"2019-11-10","2019-11-10",null,null,0,null,0,null,null,"zo",0,"",{"$f":"SUM(L317:L323)","v":0},{"$f":"SUM(H317:H323)","v":0},{"$f":"IF(N323>40,N323-40,0)","v":0},{"$f":"SUM(M317:M323)","v":0},{"$f":"SUM(I317:I323)","v":0},{"$f":"IF(N323>40,N323-40,0)","v":0},{"$f":"IF(P323>Q323,P323,Q323)","v":0}]
[46,"2019-11-11","2019-11-11",null,null,0,0,0,null,7.6,"fd",7.6,""]
[46,"2019-11-12","2019-11-12",null,null,0,0,0,null,null,null,0,""]
[46,"2019-11-13","2019-11-13",null,null,0,0,0,null,null,null,0,""]
[46,"2019-11-14","2019-11-14",null,null,0,0,0,null,null,null,0,""]
[46,"2019-11-15","2019-11-15",null,null,0,0,0,null,null,null,0,""]
[46,"2019-11-16","2019-11-16",null,null,0,null,0,null,null,"za",0,{"$f":"IF(L329>9,L329-9,\"\")","v":""},"Week",null,"OV WEEK","OV DAG","Recup -","Recup +","OV 50%"]
[{"$f":"WEEKNUM(C330,21)","v":46},{"$f":"C330","v":"2019-11-17"},"2019-11-17",null,null,{"$f":"(E330-D330)*24","v":0},null,{"$f":"F330-G330","v":0},null,null,"zo",{"$f":"SUM(H330:J330)","v":0},"",{"$f":"SUM(L324:L330)","v":7.6},{"$f":"SUM(H324:H330)","v":0},{"$f":"IF(N330>40,N330-40,0)","v":0},{"$f":"SUM(M324:M330)","v":0},{"$f":"SUM(I324:I330)","v":0},{"$f":"IF(N330>40,N330-40,0)","v":0},{"$f":"IF(P330>Q330,P330,Q330)","v":0}]
[47,"2019-11-18","2019-11-18",null,null,0,{"$f":"IF(F331>=6,0.5,0)","v":0},0,null,null,null,0,""]
[47,"2019-11-19","2019-11-19",null,null,0,0,0,null,null,null,0,""]
[47,"2019-11-20","2019-11-20",null,null,0,0,0,null,null,null,0,""]
[47,"2019-11-21","2019-11-21",null,null,0,0,0,null,null,null,0,""]
[47,"2019-11-22","2019-11-22",null,null,0,0,0,null,null,null,0,""]
[47,"2019-11-23","2019-11-23",null,null,0,null,0,null,null,"za",0,"","Week",null,"OV WEEK","OV DAG","Recup -","Recup +","OV 50%"]
[47,"2019-11-24","2019-11-24",null,null,0,null,0,null,null,"zo",0,"",{"$f":"SUM(L331:L337)","v":0},{"$f":"SUM(H331:H337)","v":0},{"$f":"IF(N337>40,N337-40,0)","v":0},{"$f":"SUM(M331:M337)","v":0},{"$f":"SUM(I331:I337)","v":0},{"$f":"IF(N337>40,N337-40,0)","v":0},{"$f":"IF(P337>Q337,P337,Q337)","v":0}]
[48,"2019-11-25","2019-11-25",null,null,0,0,0,null,null,null,0,""]
[48,"2019-11-26","2019-11-26",null,null,0,0,0,null,null,null,0,""]
[48,"2019-11-27","2019-11-27",null,null,0,0,0,null,null,null,0,""]
[48,"2019-11-28","2019-11-28",null,null,0,0,0,null,null,null,0,""]
[48,"2019-11-29","2019-11-29",null,null,0,0,0,null,null,null,0,""]
[48,"2019-11-30","2019-11-30",null,null,0,null,0,null,null,"za",0,"","Week",null,"OV WEEK","OV DAG","Recup -","Recup +","OV 50%"]
[48,"2019-12-01","2019-12-01",null,null,0,null,0,null,null,"zo",0,"",{"$f":"SUM(L338:L344)","v":0},{"$f":"SUM(H338:H344)","v":0},{"$f":"IF(N344>40,N344-40,0)","v":0},{"$f":"SUM(M338:M344)","v":0},{"$f":"SUM(I338:I344)","v":0},{"$f":"IF(N344>40,N344-40,0)","v":0},{"$f":"IF(P344>Q344,P344,Q344)","v":0}]
[49,"2019-12-02","2019-12-02",null,null,0,0,0,null,null,null,0,""]
[49,"2019-12-03","2019-12-03",null,null,0,0,0,null,null,null,0,""]
[49,"2019-12-04","2019-12-04",null,null,0,0,0,null,null,null,0,""]
[49,"2019-12-05","2019-12-05",null,null,0,0,0,null,null,null,0,""]
[49,"2019-12-06","2019-12-06",null,null,0,0,0,null,null,null,0,""]
[49,"2019-12-07","2019-12-07",null,null,0,null,0,null,null,"za",0,"","Week",null,"OV WEEK","OV DAG","Recup -","Recup +","OV 50%"]
[49,"2019-12-08","2019-12-08",null,null,0,null,0,null,null,"zo",0,"",{"$f":"SUM(L345:L351)","v":0},{"$f":"SUM(H345:H351)","v":0},{"$f":"IF(N351>40,N351-40,0)","v":0},{"$f":"SUM(M345:M351)","v":0},{"$f":"SUM(I345:I351)","v":0},{"$f":"IF(N351>40,N351-40,0)","v":0},{"$f":"IF(P351>Q351,P351,Q351)","v":0}]
[50,"2019-12-09","2019-12-09",null,null,0,0,0,null,null,null,0,""]
[50,"2019-12-10","2019-12-10",null,null,0,0,0,null,null,null,0,""]
[50,"2019-12-11","2019-12-11",null,null,0,0,0,null,null,null,0,""]
[50,"2019-12-12","2019-12-12",null,null,0,0,0,null,null,null,0,""]
[50,"2019-12-13","2019-12-13",null,null,0,0,0,null,null,null,0,""]
[50,"2019-12-14","2019-12-14",null,null,0,null,0,null,null,"za",0,"","Week",null,"OV WEEK","OV DAG","Recup -","Recup +","OV 50%"]
[50,"2019-12-15","2019-12-15",null,null,0,null,0,null,null,"zo",0,"",{"$f":"SUM(L352:L358)","v":0},{"$f":"SUM(H352:H358)","v":0},{"$f":"IF(N358>40,N358-40,0)","v":0},{"$f":"SUM(M352:M358)","v":0},{"$f":"SUM(I352:I358)","v":0},{"$f":"IF(N358>40,N358-40,0)","v":0},{"$f":"IF(P358>Q358,P358,Q358)","v":0}]
[51,"2019-12-16","2019-12-16",null,null,0,0,0,null,null,null,0,""]
[51,"2019-12-17","2019-12-17",null,null,0,0,0,null,null,null,0,""]
[51,"2019-12-18","2019-12-18",null,null,0,0,0,null,null,null,0,""]
[51,"2019-12-19","2019-12-19",null,null,0,0,0,null,null,null,0,""]
[51,"2019-12-20","2019-12-20",null,null,0,0,0,null,null,null,0,""]
[51,"2019-12-21","2019-12-21",null,null,0,null,0,null,null,"za",0,"","Week",null,"OV WEEK","OV DAG","Recup -","Recup +","OV 50%"]
[51,"2019-12-22","2019-12-22",null,null,0,null,0,null,null,"zo",0,"",{"$f":"SUM(L359:L365)","v":0},{"$f":"SUM(H359:H365)","v":0},{"$f":"IF(N365>40,N365-40,0)","v":0},{"$f":"SUM(M359:M365)","v":0},{"$f":"SUM(I359:I365)","v":0},{"$f":"IF(N365>40,N365-40,0)","v":0},{"$f":"IF(P365>Q365,P365,Q365)","v":0}]
[52,"2019-12-23","2019-12-23",null,null,0,0,0,null,null,null,0,""]
[52,"2019-12-24","2019-12-24",null,null,0,0,0,null,null,null,0,""]
[52,"2019-12-25","2019-12-25",null,null,0,0,0,null,7.6,"fd",7.6,""]
[52,"2019-12-26","2019-12-26",null,null,0,0,0,null,null,null,0,""]
[52,"2019-12-27","2019-12-27",null,null,0,0,0,null,null,null,0,""]
[52,"2019-12-28","2019-12-28",null,null,0,null,0,null,null,"za",0,"","Week",null,"OV WEEK","OV DAG","Recup -","Recup +","OV 50%"]
[52,"2019-12-29","2019-12-29",null,null,0,null,0,null,null,"zo",0,"",{"$f":"SUM(L366:L372)","v":7.6},{"$f":"SUM(H366:H372)","v":0},{"$f":"IF(N372>40,N372-40,0)","v":0},{"$f":"SUM(M366:M372)","v":0},{"$f":"SUM(I366:I372)","v":0},{"$f":"IF(N372>40,N372-40,0)","v":0},{"$f":"IF(P372>Q372,P372,Q372)","v":0}]
[1,"2019-12-30","2019-12-30",null,null,0,0,0,null,null,null,0,""]
[1,"2019-12-31","2019-12-31",null,null,0,0,0,null,null,null,0,""]
[1,"2020-01-01","2020-01-01",null,null,0,0,0,null,7.6,"fd",7.6,""]
[1,"2020-01-02","2020-01-02",null,null,0,0,0,null,null,null,0,""]
[1,"2020-01-03","2020-01-03",null,null,0,0,0,null,null,null,0,""]
[1,"2020-01-04","2020-01-04",null,null,0,null,0,null,null,"za",0,"","Week",null,"OV WEEK","OV DAG","Recup -","Recup +","OV 50%"]
[1,"2020-01-05","2020-01-05",null,null,0,null,0,null,null,"zo",0,"",{"$f":"SUM(L373:L379)","v":7.6},{"$f":"SUM(H373:H379)","v":0},{"$f":"IF(N379>40,N379-40,0)","v":0},{"$f":"SUM(M373:M379)","v":0},{"$f":"SUM(I373:I379)","v":0},{"$f":"IF(N379>40,N379-40,0)","v":0},{"$f":"IF(P379>Q379,P379,Q379)","v":0}]

{"sheet":"141","index":25,"n_rows":379,"n_cols":35,"rows_kept":379,"cut":false,"hidden":false,"merged":[[0,1,1,12],[0,21,0,24],[0,25,0,28],[0,29,0,32],[0,33,0,34],[1,21,1,23],[1,25,1,28],[1,29,1,32],[1,33,1,34],[2,21,2,23],[2,25,2,28],[2,29,2,32],[2,33,2,34],[3,21,3,23],[3,25,3,28],[3,29,3,32],[3,33,3,34],[6,21,6,24],[6,25,6,28],[6,29,6,32],[6,33,6,34],[4,21,4,23],[4,25,4,28],[4,29,4,32],[4,33,4,34],[5,21,5,23],[5,25,5,28],[5,29,5,32],[5,33,5,34]]}
["141","Patrick Asselberghs",null,null,null,null,null,null,null,null,null,null,null,null,null,null,null,null,null,null,null,"Soort",null,null,null,"Recht op",null,null,null,"Opgenomen",null,null,null,"Saldo"]
[null,null,null,null,null,null,null,null,null,null,null,null,null,null,null,null,null,null,null,null,null,"ADV-dagen",null,null,"adv",null,null,null,null,{"$f":"(COUNTIF(W$9:AH$39,\"ADV\")+(COUNTIF(W$9:AH$39,\"0,5ADV\"))/2)","v":0},null,null,null,{"$f":"Z2-AD2","v":0}]
[null,null,null,null,null,null,null,null,null,null,null,null,null,null,null,null,null,null,null,null,null,"Vakantie 2019",null,null,"v",null,null,null,null,{"$f":"(COUNTIF(W$9:AH$39,\"V\")+(COUNTIF(W$9:AH$39,\"0,5V\"))/2)","v":0},null,null,null,{"$f":"Z3-AD3","v":0}]
["Opgelet avondwerk ! Van 00:00u tot 00:00u / + 0,00u premie 50%",null,null,null,null,null,null,null,null,null,null,null,null,"Feestdag in weekend 2019",null,null,null,null,"Recup 2018",null,null,"Feestdag 2019",null,null,"f",1,null,null,null,{"$f":"(COUNTIF(W$9:AH$39,\"F\")+(COUNTIF(W$9:AH$39,\"0,5F\"))/2)","v":0},null,null,null,1]
[null,null,null,null,null,null,null,null,null,null,null,null,null,"- nationale feestdag 21/7",null,null,null,null,null,null,null,"Vakantie rest 2018",null,null,"vvj",null,null,null,null,{"$f":"(COUNTIF(W$9:AH$39,\"vvj\")+(COUNTIF(W$9:AH$39,\"0,5vvj\"))/2)","v":0},null,null,null,0]
[null,null,null,null,null,null,null,null,null,null,null,null,null,null,null,null,null,null,"Recup",{"$f":"SUM(S9:S379)-SUM(R9:R379)+T5+T4","v":1.4500000000000028},null,"Anciënniteitsdagen",null,null,"a ",null,null,null,null,{"$f":"(COUNTIF(W$9:AH$39,\"A\")+(COUNTIF(W$9:AH$39,\"0,5A\"))/2)","v":0},null,null,null,0]
[null,null,null,null,null,null,null,null,null,null,null,null,null,null,null,null,null,null,null,null,null,"TOTAAL",null,null,null,{"$f":"SUM(Z2:AC6)","v":1},null,null,null,{"$f":"SUM(AD2:AG6)","v":0},null,null,null,{"$f":"SUM(AH2:AI6)","v":1}]
["W","Dag","Datum","Van ","Tot",null,"Pauze","Prestaties","Recup","Andere","Type","Dag","OV DAG","Week","Prestaties","OV WEEK","OV DAG","Rec. -","Rec. +","OV 50%","M",null,"Jan","Feb","Maa","Apr","Mei","Jun","Jul","Aug","Sept","Okt","Nov","Dec"]
[{"$f":"WEEKNUM(C9,21)","v":1},{"$f":"C9","v":"2018-12-31"},"2018-12-31",null,null,{"$f":"(E9-D9)*24","v":0},{"$f":"IF(F9>=6,0.5,0)","v":0},{"$f":"F9-G9","v":0},null,7.6,"GA",{"$f":"SUM(H9:J9)","v":7.6},{"$f":"IF(L9>9,L9-9,\"\")","v":""},"Dag GA in 2018 reeds verwerkt OK",null,null,null,null,null,null,0,1,{"$f":"K9","v":"GA"},{"$f":"K40","v":0},{"$f":"K68","v":0},{"$f":"K99","v":"zo"},{"$f":"K129","v":0},{"$f":"K160","v":0},{"$f":"K190","v":"zo"},{"$f":"K221","v":0},{"$f":"K252","v":"za"},{"$f":"K282","v":0},{"$f":"K313","v":0},{"$f":"K343","v":"za"},1]
[{"$f":"WEEKNUM(C10,21)","v":1},{"$f":"C10","v":"2019-01-01"},"2019-01-01",null,null,{"$f":"(E10-D10)*24","v":0},{"$f":"IF(F10>=6,0.5,0)","v":0},{"$f":"F10-G10","v":0},null,7.6,"fd",{"$f":"SUM(H10:J10)","v":7.6},"","ET 26/12 nagevraagd bij dorien wat we invullen, verlofrechten?",null,null,null,null,null,null,0,2,{"$f":"K10","v":"fd"},{"$f":"K41","v":0},{"$f":"K69","v":0},{"$f":"K100","v":0},{"$f":"K130","v":"fd"},{"$f":"K161","v":"za"},{"$f":"K191","v":0},{"$f":"K222","v":0},{"$f":"K253","v":"zo"},{"$f":"K283","v":0},{"$f":"K314","v":"fd"},{"$f":"K344","v":"zo"},2]
[1,"2019-01-02","2019-01-02","09:00:00","17:45:00",8.75,0.5,8.25,null,null,null,8.25,"","08/01/19: Doe maar voorlppig GA/ kunnen nadien nog wijzigen wanneer we rechten kennen.",null,null,null,null,null,null,null,3,0,"za","za",0,0,"zo",0,0,0,0,"za",0,3]
[1,"2019-01-03","2019-01-03","09:00:00","17:45:00",8.75,0.5,8.25,null,null,null,8.25,"",null,null,null,null,null,null,null,null,4,0,"zo","zo",0,0,0,0,"za",0,0,"zo",0,4]
[1,"2019-01-04","2019-01-04","09:00:00","17:15:00",8.25,0.5,7.75,null,null,null,7.75,"",null,null,null,null,null,null,null,null,5,0,0,0,0,"za",0,0,"zo",0,0,0,{"$f":"K347","v":0},5]
[1,"2019-01-05","2019-01-05",null,null,0,null,0,null,null,"za",0,"","Week",null,"OV WEEK","OV DAG","Recup -","Recup +","OV 50%",null,6,"za",0,0,0,"zo",0,0,0,0,"za",0,0,6]
[1,"2019-01-06","2019-01-06",null,null,0,null,0,null,null,"zo",0,"",{"$f":"SUM(L9:L15)","v":39.450000000000003},{"$f":"SUM(H9:H15)","v":24.25},{"$f":"IF(N15>38,N15-38,0)","v":1.4500000000000028},{"$f":"SUM(M9:M15)","v":0},{"$f":"SUM(I9:I15)","v":0},{"$f":"IF(N15>38,N15-38,0)","v":1.4500000000000028},{"$f":"IF(P15>Q15,P15,Q15)","v":1.4500000000000028},null,7,"zo",0,0,"za",0,0,"za",0,0,"zo",0,0,7]
[2,"2019-01-07","2019-01-07",null,null,0,0,0,null,null,null,0,"",null,null,null,null,null,null,null,null,8,0,0,0,"zo",0,0,"zo",0,"za",0,0,"za",8]
[2,"2019-01-08","2019-01-08",null,null,0,0,0,null,null,null,0,"",null,null,null,null,null,null,null,null,9,0,0,0,0,0,"za",0,0,"zo",0,0,"zo",9]
[2,"2019-01-09","2019-01-09",null,null,0,0,0,null,null,null,0,"",null,null,null,null,null,null,null,null,10,0,"za","za",0,0,"zo",0,0,0,0,"za",0,10]
[2,"2019-01-10","2019-01-10",null,null,0,0,0,null,null,null,0,"",null,null,null,null,null,null,null,null,11,0,"zo","zo",0,0,"fd",0,"za",0,0,"zo",0,11]
[2,"2019-01-11","2019-01-11",null,null,0,0,0,null,null,null,0,"",null,null,null,null,null,null,null,null,12,0,0,0,0,"za",0,0,"zo",0,0,"fd",0,12]
[2,"2019-01-12","2019-01-12",null,null,0,null,0,null,null,"za",0,"","Week",null,"OV WEEK","OV DAG","Recup -","Recup +","OV 50%",null,13,"za",0,0,0,"zo",0,0,0,0,"za",0,0,13]
[2,"2019-01-13","2019-01-13",null,null,0,null,0,null,null,"zo",0,"",{"$f":"SUM(L16:L22)","v":0},{"$f":"SUM(H16:H22)","v":0},{"$f":"IF(N22>38,N22-38,0)","v":0},{"$f":"SUM(M16:M22)","v":0},{"$f":"SUM(I16:I22)","v":0},{"$f":"IF(N22>38,N22-38,0)","v":0},{"$f":"IF(P22>Q22,P22,Q22)","v":0},null,14,"zo",0,0,"za",0,0,"za",0,0,"zo",0,0,14]
[3,"2019-01-14","2019-01-14",null,null,0,0,0,null,null,null,0,"",null,null,null,null,null,null,null,null,15,0,0,0,"zo",0,0,"zo",0,"za",0,0,"za",15]
[3,"2019-01-15","2019-01-15",null,null,0,0,0,null,null,null,0,"",null,null,null,null,null,null,null,null,16,0,0,0,0,0,"za",0,"fd","zo",0,0,"zo",16]
[3,"2019-01-16","2019-01-16",null,null,0,0,0,null,null,null,0,"",null,null,null,null,null,null,null,null,17,0,"za","za",0,0,"zo",0,0,0,0,"za",0,17]
[3,"2019-01-17","2019-01-17",null,null,0,0,0,null,null,null,0,"",null,null,null,null,null,null,null,null,18,0,"zo","zo",0,0,0,0,"za",0,0,"zo",0,18]
[3,"2019-01-18","2019-01-18",null,null,0,0,0,null,null,null,0,"",null,null,null,null,null,null,null,null,19,0,0,0,0,"za",0,0,"zo",0,0,0,0,19]
[3,"2019-01-19","2019-01-19",null,null,0,null,0,null,null,"za",0,"","Week",null,"OV WEEK","OV DAG","Recup -","Recup +","OV 50%",null,20,"za",0,0,0,"zo",0,0,0,0,"za",0,{"$f":"K362","v":0},20]
[3,"2019-01-20","2019-01-20",null,null,0,null,0,null,null,"zo",0,"",{"$f":"SUM(L23:L29)","v":0},{"$f":"SUM(H23:H29)","v":0},{"$f":"IF(N29>38,N29-38,0)","v":0},{"$f":"SUM(M23:M29)","v":0},{"$f":"SUM(I23:I29)","v":0},{"$f":"IF(N29>38,N29-38,0)","v":0},{"$f":"IF(P29>Q29,P29,Q29)","v":0},null,21,"zo",0,0,"za","fd",0,"za",0,0,"zo",0,0,21]
[4,"2019-01-21","2019-01-21",null,null,0,0,0,null,null,null,0,"",null,null,null,null,null,null,null,null,22,0,0,0,"zo",0,0,"zo",0,"za",0,0,"za",22]
[4,"2019-01-22","2019-01-22",null,null,0,0,0,null,null,null,0,"",null,null,null,null,null,null,null,null,23,0,0,0,"fd",0,"za",0,0,"zo",0,0,"zo",23]
[4,"2019-01-23","2019-01-23",null,null,0,0,0,null,null,null,0,"",null,null,null,null,null,null,null,null,24,0,"za","za",0,0,"zo",0,0,0,0,"za",0,24]
[4,"2019-01-24","2019-01-24",null,null,0,0,0,null,null,null,0,"",null,null,null,null,null,null,null,null,25,0,"zo","zo",0,0,0,0,"za",0,0,"zo",0,25]
[4,"2019-01-25","2019-01-25",null,null,0,0,0,null,null,null,0,"",null,null,null,null,null,null,null,null,26,0,0,0,0,"za",0,0,"zo",0,0,0,"fd",26]
[4,"2019-01-26","2019-01-26",null,null,0,null,0,null,null,"za",0,"","Week",null,"OV WEEK","OV DAG","Recup -","Recup +","OV 50%",null,27,"za",0,0,0,"zo",0,0,0,0,"za",0,0,27]
[4,"2019-01-27","2019-01-27",null,null,0,null,0,null,null,"zo",0,"",{"$f":"SUM(L30:L36)","v":0},{"$f":"SUM(H30:H36)","v":0},{"$f":"IF(N36>38,N36-38,0)","v":0},{"$f":"SUM(M30:M36)","v":0},{"$f":"SUM(I30:I36)","v":0},{"$f":"IF(N36>38,N36-38,0)","v":0},{"$f":"IF(P36>Q36,P36,Q36)","v":0},null,28,"zo",0,0,"za",0,0,"za",0,0,"zo",0,0,28]
[5,"2019-01-28","2019-01-28",null,null,0,0,0,null,null,null,0,"",null,null,null,null,null,null,null,null,29,0,null,0,"zo",0,0,"zo",0,"za",0,0,"za",29]
[5,"2019-01-29","2019-01-29",null,null,0,0,0,null,null,null,0,"",null,null,null,null,null,null,null,null,30,0,null,0,0,0,"za",0,0,"zo",0,0,"zo",30]
[5,"2019-01-30","2019-01-30",null,null,0,0,0,null,null,null,0,"",null,null,null,null,null,null,null,null,31,0,null,"za",null,"fd",null,0,0,null,0,null,0,31]
[5,"2019-01-31","2019-01-31",null,null,0,0,0,null,null,null,0,"",null,null,null,null,null,null,null,null,"WD",23,20,21,22,23,20,23,22,21,23,21,22,{"$f":"SUM(W40:AH40)","v":261}]
[5,"2019-02-01","2019-02-01",null,null,0,0,0,null,null,null,0,""]
[5,"2019-02-02","2019-02-02",null,null,0,null,0,null,null,"za",0,"","Week",null,"OV WEEK","OV DAG","Recup -","Recup +","OV 50%"]
[5,"2019-02-03","2019-02-03",null,null,0,null,0,null,null,"zo",0,"",{"$f":"SUM(L37:L43)","v":0},{"$f":"SUM(H37:H43)","v":0},{"$f":"IF(N43>38,N43-38,0)","v":0},{"$f":"SUM(M37:M43)","v":0},{"$f":"SUM(I37:I43)","v":0},{"$f":"IF(N43>38,N43-38,0)","v":0},{"$f":"IF(P43>Q43,P43,Q43)","v":0}]
[6,"2019-02-04","2019-02-04",null,null,0,0,0,null,null,null,0,""]
[6,"2019-02-05","2019-02-05",null,null,0,0,0,null,null,null,0,""]
[6,"2019-02-06","2019-02-06",null,null,0,0,0,null,null,null,0,""]
[6,"2019-02-07","2019-02-07",null,null,0,0,0,null,null,null,0,""]
[6,"2019-02-08","2019-02-08",null,null,0,0,0,null,null,null,0,""]
[6,"2019-02-09","2019-02-09",null,null,0,null,0,null,null,"za",0,"","Week",null,"OV WEEK","OV DAG","Recup -","Recup +","OV 50%"]
[6,"2019-02-10","2019-02-10",null,null,0,null,0,null,null,"zo",0,"",{"$f":"SUM(L44:L50)","v":0},{"$f":"SUM(H44:H50)","v":0},{"$f":"IF(N50>38,N50-38,0)","v":0},{"$f":"SUM(M44:M50)","v":0},{"$f":"SUM(I44:I50)","v":0},{"$f":"IF(N50>38,N50-38,0)","v":0},{"$f":"IF(P50>Q50,P50,Q50)","v":0}]
[7,"2019-02-11","2019-02-11",null,null,0,0,0,null,null,null,0,""]
[7,"2019-02-12","2019-02-12",null,null,0,0,0,null,null,null,0,""]
[7,"2019-02-13","2019-02-13",null,null,0,0,0,null,null,null,0,""]
[7,"2019-02-14","2019-02-14",null,null,0,0,0,null,null,null,0,""]
[7,"2019-02-15","2019-02-15",null,null,0,0,0,null,null,null,0,""]
[7,"2019-02-16","2019-02-16",null,null,0,null,0,null,null,"za",0,"","Week",null,"OV WEEK","OV DAG","Recup -","Recup +","OV 50%"]
[7,"2019-02-17","2019-02-17",null,null,0,null,0,null,null,"zo",0,"",{"$f":"SUM(L51:L57)","v":0},{"$f":"SUM(H51:H57)","v":0},{"$f":"IF(N57>38,N57-38,0)","v":0},{"$f":"SUM(M51:M57)","v":0},{"$f":"SUM(I51:I57)","v":0},{"$f":"IF(N57>38,N57-38,0)","v":0},{"$f":"IF(P57>Q57,P57,Q57)","v":0}]
[8,"2019-02-18","2019-02-18",null,null,0,0,0,null,null,null,0,""]
[8,"2019-02-19","2019-02-19",null,null,0,0,0,null,null,null,0,""]
[8,"2019-02-20","2019-02-20",null,null,0,0,0,null,null,null,0,""]
[8,"2019-02-21","2019-02-21",null,null,0,0,0,null,null,null,0,""]
[8,"2019-02-22","2019-02-22",null,null,0,0,0,null,null,null,0,""]
[8,"2019-02-23","2019-02-23",null,null,0,null,0,null,null,"za",0,"","Week",null,"OV WEEK","OV DAG","Recup -","Recup +","OV 50%"]
[8,"2019-02-24","2019-02-24",null,null,0,null,0,null,null,"zo",0,"",{"$f":"SUM(L58:L64)","v":0},{"$f":"SUM(H58:H64)","v":0},{"$f":"IF(N64>38,N64-38,0)","v":0},{"$f":"SUM(M58:M64)","v":0},{"$f":"SUM(I58:I64)","v":0},{"$f":"IF(N64>38,N64-38,0)","v":0},{"$f":"IF(P64>Q64,P64,Q64)","v":0}]
[9,"2019-02-25","2019-02-25",null,null,0,0,0,null,null,null,0,""]
[9,"2019-02-26","2019-02-26",null,null,0,0,0,null,null,null,0,""]
[9,"2019-02-27","2019-02-27",null,null,0,0,0,null,null,null,0,""]
[9,"2019-02-28","2019-02-28",null,null,0,0,0,null,null,null,0,""]
[9,"2019-03-01","2019-03-01",null,null,0,0,0,null,null,null,0,""]
[9,"2019-03-02","2019-03-02",null,null,0,null,0,null,null,"za",0,"","Week",null,"OV WEEK","OV DAG","Recup -","Recup +","OV 50%"]
[9,"2019-03-03","2019-03-03",null,null,0,null,0,null,null,"zo",0,"",{"$f":"SUM(L65:L71)","v":0},{"$f":"SUM(H65:H71)","v":0},{"$f":"IF(N71>38,N71-38,0)","v":0},{"$f":"SUM(M65:M71)","v":0},{"$f":"SUM(I65:I71)","v":0},{"$f":"IF(N71>38,N71-38,0)","v":0},{"$f":"IF(P71>Q71,P71,Q71)","v":0}]
[10,"2019-03-04","2019-03-04",null,null,0,0,0,null,null,null,0,""]
[10,"2019-03-05","2019-03-05",null,null,0,0,0,null,null,null,0,{"$f":"IF(L73>9,L73-9,\"\")","v":""}]
[{"$f":"WEEKNUM(C74,21)","v":10},{"$f":"C74","v":"2019-03-06"},"2019-03-06",null,null,{"$f":"(E74-D74)*24","v":0},{"$f":"IF(F74>=6,0.5,0)","v":0},{"$f":"F74-G74","v":0},null,null,null,{"$f":"SUM(H74:J74)","v":0},""]
[10,"2019-03-07","2019-03-07",null,null,0,0,0,null,null,null,0,""]
[10,"2019-03-08","2019-03-08",null,null,0,0,0,null,null,null,0,""]
[10,"2019-03-09","2019-03-09",null,null,0,null,0,null,null,"za",0,"","Week",null,"OV WEEK","OV DAG","Recup -","Recup +","OV 50%"]
[10,"2019-03-10","2019-03-10",null,null,0,null,0,null,null,"zo",0,"",{"$f":"SUM(L72:L78)","v":0},{"$f":"SUM(H72:H78)","v":0},{"$f":"IF(N78>38,N78-38,0)","v":0},{"$f":"SUM(M72:M78)","v":0},{"$f":"SUM(I72:I78)","v":0},{"$f":"IF(N78>38,N78-38,0)","v":0},{"$f":"IF(P78>Q78,P78,Q78)","v":0}]
[11,"2019-03-11","2019-03-11",null,null,0,0,0,null,null,null,0,""]
[11,"2019-03-12","2019-03-12",null,null,0,0,0,null,null,null,0,""]
[11,"2019-03-13","2019-03-13",null,null,0,0,0,null,null,null,0,""]
[11,"2019-03-14","2019-03-14",null,null,0,0,0,null,null,null,0,""]
[11,"2019-03-15","2019-03-15",null,null,0,0,0,null,null,null,0,""]
[11,"2019-03-16","2019-03-16",null,null,0,null,0,null,null,"za",0,"","Week",null,"OV WEEK","OV DAG","Recup -","Recup +","OV 50%"]
[11,"2019-03-17","2019-03-17",null,null,0,null,0,null,null,"zo",0,"",{"$f":"SUM(L79:L85)","v":0},{"$f":"SUM(H79:H85)","v":0},{"$f":"IF(N85>38,N85-38,0)","v":0},{"$f":"SUM(M79:M85)","v":0},{"$f":"SUM(I79:I85)","v":0},{"$f":"IF(N85>38,N85-38,0)","v":0},{"$f":"IF(P85>Q85,P85,Q85)","v":0}]
[12,"2019-03-18","2019-03-18",null,null,0,0,0,null,null,null,0,""]
[12,"2019-03-19","2019-03-19",null,null,0,0,0,null,null,null,0,""]
[12,"2019-03-20","2019-03-20",null,null,0,0,0,null,null,null,0,""]
[12,"2019-03-21","2019-03-21",null,null,0,0,0,null,null,null,0,""]
[12,"2019-03-22","2019-03-22",null,null,0,0,0,null,null,null,0,""]
[12,"2019-03-23","2019-03-23",null,null,0,null,0,null,null,"za",0,"","Week",null,"OV WEEK","OV DAG","Recup -","Recup +","OV 50%"]
[12,"2019-03-24","2019-03-24",null,null,0,null,0,null,null,"zo",0,"",{"$f":"SUM(L86:L92)","v":0},{"$f":"SUM(H86:H92)","v":0},{"$f":"IF(N92>38,N92-38,0)","v":0},{"$f":"SUM(M86:M92)","v":0},{"$f":"SUM(I86:I92)","v":0},{"$f":"IF(N92>38,N92-38,0)","v":0},{"$f":"IF(P92>Q92,P92,Q92)","v":0}]
[13,"2019-03-25","2019-03-25",null,null,0,0,0,null,null,null,0,""]
[13,"2019-03-26","2019-03-26",null,null,0,0,0,null,null,null,0,""]
[13,"2019-03-27","2019-03-27",null,null,0,0,0,null,null,null,0,""]
[13,"2019-03-28","2019-03-28",null,null,0,0,0,null,null,null,0,""]
[13,"2019-03-29","2019-03-29",null,null,0,0,0,null,null,null,0,""]
[13,"2019-03-30","2019-03-30",null,null,0,null,0,null,null,"za",0,"","Week",null,"OV WEEK","OV DAG","Recup -","Recup +","OV 50%"]
[13,"2019-03-31","2019-03-31",null,null,0,null,0,null,null,"zo",0,"",{"$f":"SUM(L93:L99)","v":0},{"$f":"SUM(H93:H99)","v":0},{"$f":"IF(N99>38,N99-38,0)","v":0},{"$f":"SUM(M93:M99)","v":0},{"$f":"SUM(I93:I99)","v":0},{"$f":"IF(N99>38,N99-38,0)","v":0},{"$f":"IF(P99>Q99,P99,Q99)","v":0}]
[14,"2019-04-01","2019-04-01",null,null,0,0,0,null,null,null,0,""]
[14,"2019-04-02","2019-04-02",null,null,0,0,0,null,null,null,0,""]
[14,"2019-04-03","2019-04-03",null,null,0,0,0,null,null,null,0,""]
[14,"2019-04-04","2019-04-04",null,null,0,0,0,null,null,null,0,""]
[14,"2019-04-05","2019-04-05",null,null,0,0,0,null,null,null,0,""]
[14,"2019-04-06","2019-04-06",null,null,0,null,0,null,null,"za",0,"","Week",null,"OV WEEK","OV DAG","Recup -","Recup +","OV 50%"]
[14,"2019-04-07","2019-04-07",null,null,0,null,0,null,null,"zo",0,"",{"$f":"SUM(L100:L106)","v":0},{"$f":"SUM(H100:H106)","v":0},{"$f":"IF(N106>38,N106-38,0)","v":0},{"$f":"SUM(M100:M106)","v":0},{"$f":"SUM(I100:I106)","v":0},{"$f":"IF(N106>38,N106-38,0)","v":0},{"$f":"IF(P106>Q106,P106,Q106)","v":0}]
[15,"2019-04-08","2019-04-08",null,null,0,0,0,null,null,null,0,""]
[15,"2019-04-09","2019-04-09",null,null,0,0,0,null,null,null,0,""]
[15,"2019-04-10","2019-04-10",null,null,0,0,0,null,null,null,0,""]
[15,"2019-04-11","2019-04-11",null,null,0,0,0,null,null,null,0,""]
[15,"2019-04-12","2019-04-12",null,null,0,0,0,null,null,null,0,""]
[15,"2019-04-13","2019-04-13",null,null,0,null,0,null,null,"za",0,"","Week",null,"OV WEEK","OV DAG","Recup -","Recup +","OV 50%"]
[15,"2019-04-14","2019-04-14",null,null,0,null,0,null,null,"zo",0,"",{"$f":"SUM(L107:L113)","v":0},{"$f":"SUM(H107:H113)","v":0},{"$f":"IF(N113>38,N113-38,0)","v":0},{"$f":"SUM(M107:M113)","v":0},{"$f":"SUM(I107:I113)","v":0},{"$f":"IF(N113>38,N113-38,0)","v":0},{"$f":"IF(P113>Q113,P113,Q113)","v":0}]
[16,"2019-04-15","2019-04-15",null,null,0,0,0,null,null,null,0,""]
[16,"2019-04-16","2019-04-16",null,null,0,0,0,null,null,null,0,""]
[16,"2019-04-17","2019-04-17",null,null,0,0,0,null,null,null,0,""]
[16,"2019-04-18","2019-04-18",null,null,0,0,0,null,null,null,0,""]
[16,"2019-04-19","2019-04-19",null,null,0,0,0,null,null,null,0,""]
[16,"2019-04-20","2019-04-20",null,null,0,null,0,null,null,"za",0,"","Week",null,"OV WEEK","OV DAG","Recup -","Recup +","OV 50%"]
[16,"2019-04-21","2019-04-21",null,null,0,null,0,null,null,"zo",0,"",{"$f":"SUM(L114:L120)","v":0},{"$f":"SUM(H114:H120)","v":0},{"$f":"IF(N120>38,N120-38,0)","v":0},{"$f":"SUM(M114:M120)","v":0},{"$f":"SUM(I114:I120)","v":0},{"$f":"IF(N120>38,N120-38,0)","v":0},{"$f":"IF(P120>Q120,P120,Q120)","v":0}]
[17,"2019-04-22","2019-04-22",null,null,0,0,0,null,7.6,"fd",7.6,""]
[17,"2019-04-23","2019-04-23",null,null,0,0,0,null,null,null,0,""]
[17,"2019-04-24","2019-04-24",null,null,0,0,0,null,null,null,0,""]
[17,"2019-04-25","2019-04-25",null,null,0,0,0,null,null,null,0,""]
[17,"2019-04-26","2019-04-26",null,null,0,0,0,null,null,null,0,""]
[17,"2019-04-27","2019-04-27",null,null,0,null,0,null,null,"za",0,"","Week",null,"OV WEEK","OV DAG","Recup -","Recup +","OV 50%"]
[17,"2019-04-28","2019-04-28",null,null,0,null,0,null,null,"zo",0,"",{"$f":"SUM(L121:L127)","v":7.6},{"$f":"SUM(H121:H127)","v":0},{"$f":"IF(N127>38,N127-38,0)","v":0},{"$f":"SUM(M121:M127)","v":0},{"$f":"SUM(I121:I127)","v":0},{"$f":"IF(N127>38,N127-38,0)","v":0},{"$f":"IF(P127>Q127,P127,Q127)","v":0}]
[18,"2019-04-29","2019-04-29",null,null,0,0,0,null,null,null,0,""]
[18,"2019-04-30","2019-04-30",null,null,0,0,0,null,null,null,0,""]
[18,"2019-05-01","2019-05-01",null,null,0,0,0,null,7.6,"fd",7.6,""]
[18,"2019-05-02","2019-05-02",null,null,0,0,0,null,null,null,0,""]
[18,"2019-05-03","2019-05-03",null,null,0,0,0,null,null,null,0,""]
[18,"2019-05-04","2019-05-04",null,null,0,null,0,null,null,"za",0,"","Week",null,"OV WEEK","OV DAG","Recup -","Recup +","OV 50%"]
[18,"2019-05-05","2019-05-05",null,null,0,null,0,null,null,"zo",0,"",{"$f":"SUM(L128:L134)","v":7.6},{"$f":"SUM(H128:H134)","v":0},{"$f":"IF(N134>38,N134-38,0)","v":0},{"$f":"SUM(M128:M134)","v":0},{"$f":"SUM(I128:I134)","v":0},{"$f":"IF(N134>38,N134-38,0)","v":0},{"$f":"IF(P134>Q134,P134,Q134)","v":0}]
[19,"2019-05-06","2019-05-06",null,null,0,0,0,null,null,null,0,""]
[19,"2019-05-07","2019-05-07",null,null,0,0,0,null,null,null,0,""]
[19,"2019-05-08","2019-05-08",null,null,0,0,0,null,null,null,0,{"$f":"IF(L137>9,L137-9,\"\")","v":""}]
[{"$f":"WEEKNUM(C138,21)","v":19},{"$f":"C138","v":"2019-05-09"},"2019-05-09",null,null,{"$f":"(E138-D138)*24","v":0},{"$f":"IF(F138>=6,0.5,0)","v":0},{"$f":"F138-G138","v":0},null,null,null,{"$f":"SUM(H138:J138)","v":0},""]
[19,"2019-05-10","2019-05-10",null,null,0,0,0,null,null,null,0,""]
[19,"2019-05-11","2019-05-11",null,null,0,null,0,null,null,"za",0,"","Week",null,"OV WEEK","OV DAG","Recup -","Recup +","OV 50%"]
[19,"2019-05-12","2019-05-12",null,null,0,null,0,null,null,"zo",0,"",{"$f":"SUM(L135:L141)","v":0},{"$f":"SUM(H135:H141)","v":0},{"$f":"IF(N141>38,N141-38,0)","v":0},{"$f":"SUM(M135:M141)","v":0},{"$f":"SUM(I135:I141)","v":0},{"$f":"IF(N141>38,N141-38,0)","v":0},{"$f":"IF(P141>Q141,P141,Q141)","v":0}]
[20,"2019-05-13","2019-05-13",null,null,0,0,0,null,null,null,0,""]
[20,"2019-05-14","2019-05-14",null,null,0,0,0,null,null,null,0,""]
[20,"2019-05-15","2019-05-15",null,null,0,0,0,null,null,null,0,""]
[20,"2019-05-16","2019-05-16",null,null,0,0,0,null,null,null,0,""]
[20,"2019-05-17","2019-05-17",null,null,0,0,0,null,null,null,0,""]
[20,"2019-05-18","2019-05-18",null,null,0,null,0,null,null,"za",0,"","Week",null,"OV WEEK","OV DAG","Recup -","Recup +","OV 50%"]
[20,"2019-05-19","2019-05-19",null,null,0,null,0,null,null,"zo",0,"",{"$f":"SUM(L142:L148)","v":0},{"$f":"SUM(H142:H148)","v":0},{"$f":"IF(N148>38,N148-38,0)","v":0},{"$f":"SUM(M142:M148)","v":0},{"$f":"SUM(I142:I148)","v":0},{"$f":"IF(N148>38,N148-38,0)","v":0},{"$f":"IF(P148>Q148,P148,Q148)","v":0}]
[21,"2019-05-20","2019-05-20",null,null,0,0,0,null,7.6,"fd",7.6,""]
[21,"2019-05-21","2019-05-21",null,null,0,0,0,null,null,null,0,""]
[21,"2019-05-22","2019-05-22",null,null,0,0,0,null,null,null,0,""]
[21,"2019-05-23","2019-05-23",null,null,0,0,0,null,null,null,0,""]
[21,"2019-05-24","2019-05-24",null,null,0,0,0,null,null,null,0,""]
[21,"2019-05-25","2019-05-25",null,null,0,null,0,null,null,"za",0,"","Week",null,"OV WEEK","OV DAG","Recup -","Recup +","OV 50%"]
[21,"2019-05-26","2019-05-26",null,null,0,null,0,null,null,"zo",0,"",{"$f":"SUM(L149:L155)","v":7.6},{"$f":"SUM(H149:H155)","v":0},{"$f":"IF(N155>38,N155-38,0)","v":0},{"$f":"SUM(M149:M155)","v":0},{"$f":"SUM(I149:I155)","v":0},{"$f":"IF(N155>38,N155-38,0)","v":0},{"$f":"IF(P155>Q155,P155,Q155)","v":0}]
[22,"2019-05-27","2019-05-27",null,null,0,0,0,null,null,null,0,""]
[22,"2019-05-28","2019-05-28",null,null,0,0,0,null,null,null,0,""]
[22,"2019-05-29","2019-05-29",null,null,0,0,0,null,null,null,0,""]
[22,"2019-05-30","2019-05-30",null,null,0,0,0,null,7.6,"fd",7.6,""]
[22,"2019-05-31","2019-05-31",null,null,0,0,0,null,null,null,0,""]
[22,"2019-06-01","2019-06-01",null,null,0,null,0,null,null,"za",0,"","Week",null,"OV WEEK","OV DAG","Recup -","Recup +","OV 50%"]
[22,"2019-06-02","2019-06-02",null,null,0,null,0,null,null,"zo",0,"",{"$f":"SUM(L156:L162)","v":7.6},{"$f":"SUM(H156:H162)","v":0},{"$f":"IF(N162>38,N162-38,0)","v":0},{"$f":"SUM(M156:M162)","v":0},{"$f":"SUM(I156:I162)","v":0},{"$f":"IF(N162>38,N162-38,0)","v":0},{"$f":"IF(P162>Q162,P162,Q162)","v":0}]
[23,"2019-06-03","2019-06-03",null,null,0,0,0,null,null,null,0,""]
[23,"2019-06-04","2019-06-04",null,null,0,0,0,null,null,null,0,""]
[23,"2019-06-05","2019-06-05",null,null,0,0,0,null,null,null,0,""]
[23,"2019-06-06","2019-06-06",null,null,0,0,0,null,null,null,0,""]
[23,"2019-06-07","2019-06-07",null,null,0,0,0,null,null,null,0,""]
[23,"2019-06-08","2019-06-08",null,null,0,null,0,null,null,"za",0,"","Week",null,"OV WEEK","OV DAG","Recup -","Recup +","OV 50%"]
[23,"2019-06-09","2019-06-09",null,null,0,null,0,null,null,"zo",0,"",{"$f":"SUM(L163:L169)","v":0},{"$f":"SUM(H163:H169)","v":0},{"$f":"IF(N169>38,N169-38,0)","v":0},{"$f":"SUM(M163:M169)","v":0},{"$f":"SUM(I163:I169)","v":0},{"$f":"IF(N169>38,N169-38,0)","v":0},{"$f":"IF(P169>Q169,P169,Q169)","v":0}]
[24,"2019-06-10","2019-06-10",null,null,0,0,0,null,7.6,"fd",7.6,""]
[24,"2019-06-11","2019-06-11",null,null,0,0,0,null,null,null,0,""]
[24,"2019-06-12","2019-06-12",null,null,0,0,0,null,null,null,0,""]
[24,"2019-06-13","2019-06-13",null,null,0,0,0,null,null,null,0,""]
[24,"2019-06-14","2019-06-14",null,null,0,0,0,null,null,null,0,""]
[24,"2019-06-15","2019-06-15",null,null,0,null,0,null,null,"za",0,"","Week",null,"OV WEEK","OV DAG","Recup -","Recup +","OV 50%"]
[24,"2019-06-16","2019-06-16",null,null,0,null,0,null,null,"zo",0,"",{"$f":"SUM(L170:L176)","v":7.6},{"$f":"SUM(H170:H176)","v":0},{"$f":"IF(N176>38,N176-38,0)","v":0},{"$f":"SUM(M170:M176)","v":0},{"$f":"SUM(I170:I176)","v":0},{"$f":"IF(N176>38,N176-38,0)","v":0},{"$f":"IF(P176>Q176,P176,Q176)","v":0}]
[25,"2019-06-17","2019-06-17",null,null,0,0,0,null,null,null,0,""]
[25,"2019-06-18","2019-06-18",null,null,0,0,0,null,null,null,0,""]
[25,"2019-06-19","2019-06-19",null,null,0,0,0,null,null,null,0,""]
[25,"2019-06-20","2019-06-20",null,null,0,0,0,null,null,null,0,""]
[25,"2019-06-21","2019-06-21",null,null,0,0,0,null,null,null,0,""]
[25,"2019-06-22","2019-06-22",null,null,0,null,0,null,null,"za",0,"","Week",null,"OV WEEK","OV DAG","Recup -","Recup +","OV 50%"]
[25,"2019-06-23","2019-06-23",null,null,0,null,0,null,null,"zo",0,"",{"$f":"SUM(L177:L183)","v":0},{"$f":"SUM(H177:H183)","v":0},{"$f":"IF(N183>38,N183-38,0)","v":0},{"$f":"SUM(M177:M183)","v":0},{"$f":"SUM(I177:I183)","v":0},{"$f":"IF(N183>38,N183-38,0)","v":0},{"$f":"IF(P183>Q183,P183,Q183)","v":0}]
[26,"2019-06-24","2019-06-24",null,null,0,0,0,null,null,null,0,""]
[26,"2019-06-25","2019-06-25",null,null,0,0,0,null,null,null,0,""]
[26,"2019-06-26","2019-06-26",null,null,0,0,0,null,null,null,0,""]
[26,"2019-06-27","2019-06-27",null,null,0,0,0,null,null,null,0,""]
[26,"2019-06-28","2019-06-28",null,null,0,0,0,null,null,null,0,""]
[26,"2019-06-29","2019-06-29",null,null,0,null,0,null,null,"za",0,"","Week",null,"OV WEEK","OV DAG","Recup -","Recup +","OV 50%"]
[26,"2019-06-30","2019-06-30",null,null,0,null,0,null,null,"zo",0,"",{"$f":"SUM(L184:L190)","v":0},{"$f":"SUM(H184:H190)","v":0},{"$f":"IF(N190>38,N190-38,0)","v":0},{"$f":"SUM(M184:M190)","v":0},{"$f":"SUM(I184:I190)","v":0},{"$f":"IF(N190>38,N190-38,0)","v":0},{"$f":"IF(P190>Q190,P190,Q190)","v":0}]
[27,"2019-07-01","2019-07-01",null,null,0,0,0,null,null,null,0,""]
[27,"2019-07-02","2019-07-02",null,null,0,0,0,null,null,null,0,""]
[27,"2019-07-03","2019-07-03",null,null,0,0,0,null,null,null,0,""]
[27,"2019-07-04","2019-07-04",null,null,0,0,0,null,null,null,0,""]
[27,"2019-07-05","2019-07-05",null,null,0,0,0,null,null,null,0,""]
[27,"2019-07-06","2019-07-06",null,null,0,null,0,null,null,"za",0,"","Week",null,"OV WEEK","OV DAG","Recup -","Recup +","OV 50%"]
[27,"2019-07-07","2019-07-07",null,null,0,null,0,null,null,"zo",0,"",{"$f":"SUM(L191:L197)","v":0},{"$f":"SUM(H191:H197)","v":0},{"$f":"IF(N197>38,N197-38,0)","v":0},{"$f":"SUM(M191:M197)","v":0},{"$f":"SUM(I191:I197)","v":0},{"$f":"IF(N197>38,N197-38,0)","v":0},{"$f":"IF(P197>Q197,P197,Q197)","v":0}]
[28,"2019-07-08","2019-07-08",null,null,0,0,0,null,null,null,0,""]
[28,"2019-07-09","2019-07-09",null,null,0,0,0,null,null,null,0,""]
[28,"2019-07-10","2019-07-10",null,null,0,0,0,null,null,null,0,""]
[28,"2019-07-11","2019-07-11",null,null,0,0,0,null,null,null,0,{"$f":"IF(L201>9,L201-9,\"\")","v":""}]
[{"$f":"WEEKNUM(C202,21)","v":28},{"$f":"C202","v":"2019-07-12"},"2019-07-12",null,null,{"$f":"(E202-D202)*24","v":0},{"$f":"IF(F202>=6,0.5,0)","v":0},{"$f":"F202-G202","v":0},null,null,null,{"$f":"SUM(H202:J202)","v":0},""]
[28,"2019-07-13","2019-07-13",null,null,0,null,0,null,null,"za",0,"","Week",null,"OV WEEK","OV DAG","Recup -","Recup +","OV 50%"]
[28,"2019-07-14","2019-07-14",null,null,0,null,0,null,null,"zo",0,"",{"$f":"SUM(L198:L204)","v":0},{"$f":"SUM(H198:H204)","v":0},{"$f":"IF(N204>38,N204-38,0)","v":0},{"$f":"SUM(M198:M204)","v":0},{"$f":"SUM(I198:I204)","v":0},{"$f":"IF(N204>38,N204-38,0)","v":0},{"$f":"IF(P204>Q204,P204,Q204)","v":0}]
[29,"2019-07-15","2019-07-15",null,null,0,0,0,null,null,null,0,""]
[29,"2019-07-16","2019-07-16",null,null,0,0,0,null,null,null,0,""]
[29,"2019-07-17","2019-07-17",null,null,0,0,0,null,null,null,0,""]
[29,"2019-07-18","2019-07-18",null,null,0,0,0,null,null,null,0,""]
[29,"2019-07-19","2019-07-19",null,null,0,0,0,null,null,null,0,""]
[29,"2019-07-20","2019-07-20",null,null,0,null,0,null,null,"za",0,"","Week",null,"OV WEEK","OV DAG","Recup -","Recup +","OV 50%"]
[29,"2019-07-21","2019-07-21",null,null,0,null,0,null,null,"zo",0,"",{"$f":"SUM(L205:L211)","v":0},{"$f":"SUM(H205:H211)","v":0},{"$f":"IF(N211>38,N211-38,0)","v":0},{"$f":"SUM(M205:M211)","v":0},{"$f":"SUM(I205:I211)","v":0},{"$f":"IF(N211>38,N211-38,0)","v":0},{"$f":"IF(P211>Q211,P211,Q211)","v":0}]
[30,"2019-07-22","2019-07-22",null,null,0,0,0,null,null,null,0,""]
[30,"2019-07-23","2019-07-23",null,null,0,0,0,null,null,null,0,""]
[30,"2019-07-24","2019-07-24",null,null,0,0,0,null,null,null,0,""]
[30,"2019-07-25","2019-07-25",null,null,0,0,0,null,null,null,0,""]
[30,"2019-07-26","2019-07-26",null,null,0,0,0,null,null,null,0,""]
[30,"2019-07-27","2019-07-27",null,null,0,null,0,null,null,"za",0,"","Week",null,"OV WEEK","OV DAG","Recup -","Recup +","OV 50%"]
[30,"2019-07-28","2019-07-28",null,null,0,null,0,null,null,"zo",0,"",{"$f":"SUM(L212:L218)","v":0},{"$f":"SUM(H212:H218)","v":0},{"$f":"IF(N218>38,N218-38,0)","v":0},{"$f":"SUM(M212:M218)","v":0},{"$f":"SUM(I212:I218)","v":0},{"$f":"IF(N218>38,N218-38,0)","v":0},{"$f":"IF(P218>Q218,P218,Q218)","v":0}]
[31,"2019-07-29","2019-07-29",null,null,0,0,0,null,null,null,0,""]
[31,"2019-07-30","2019-07-30",null,null,0,0,0,null,null,null,0,""]
[31,"2019-07-31","2019-07-31",null,null,0,0,0,null,null,null,0,""]
[31,"2019-08-01","2019-08-01",null,null,0,0,0,null,null,null,0,""]
[31,"2019-08-02","2019-08-02",null,null,0,0,0,null,null,null,0,""]
[31,"2019-08-03","2019-08-03",null,null,0,null,0,null,null,"za",0,"","Week",null,"OV WEEK","OV DAG","Recup -","Recup +","OV 50%"]
[31,"2019-08-04","2019-08-04",null,null,0,null,0,null,null,"zo",0,"",{"$f":"SUM(L219:L225)","v":0},{"$f":"SUM(H219:H225)","v":0},{"$f":"IF(N225>38,N225-38,0)","v":0},{"$f":"SUM(M219:M225)","v":0},{"$f":"SUM(I219:I225)","v":0},{"$f":"IF(N225>38,N225-38,0)","v":0},{"$f":"IF(P225>Q225,P225,Q225)","v":0}]
[32,"2019-08-05","2019-08-05",null,null,0,0,0,null,null,null,0,""]
[32,"2019-08-06","2019-08-06",null,null,0,0,0,null,null,null,0,""]
[32,"2019-08-07","2019-08-07",null,null,0,0,0,null,null,null,0,""]
[32,"2019-08-08","2019-08-08",null,null,0,0,0,null,null,null,0,""]
[32,"2019-08-09","2019-08-09",null,null,0,0,0,null,null,null,0,""]
[32,"2019-08-10","2019-08-10",null,null,0,null,0,null,null,"za",0,"","Week",null,"OV WEEK","OV DAG","Recup -","Recup +","OV 50%"]
[32,"2019-08-11","2019-08-11",null,null,0,null,0,null,null,"zo",0,"",{"$f":"SUM(L226:L232)","v":0},{"$f":"SUM(H226:H232)","v":0},{"$f":"IF(N232>38,N232-38,0)","v":0},{"$f":"SUM(M226:M232)","v":0},{"$f":"SUM(I226:I232)","v":0},{"$f":"IF(N232>38,N232-38,0)","v":0},{"$f":"IF(P232>Q232,P232,Q232)","v":0}]
[33,"2019-08-12","2019-08-12",null,null,0,0,0,null,null,null,0,""]
[33,"2019-08-13","2019-08-13",null,null,0,0,0,null,null,null,0,""]
[33,"2019-08-14","2019-08-14",null,null,0,0,0,null,null,null,0,""]
[33,"2019-08-15","2019-08-15",null,null,0,0,0,null,7.6,"fd",7.6,""]
[33,"2019-08-16","2019-08-16",null,null,0,0,0,null,null,null,0,""]
[33,"2019-08-17","2019-08-17",null,null,0,null,0,null,null,"za",0,"","Week",null,"OV WEEK","OV DAG","Recup -","Recup +","OV 50%"]
[33,"2019-08-18","2019-08-18",null,null,0,null,0,null,null,"zo",0,"",{"$f":"SUM(L233:L239)","v":7.6},{"$f":"SUM(H233:H239)","v":0},{"$f":"IF(N239>38,N239-38,0)","v":0},{"$f":"SUM(M233:M239)","v":0},{"$f":"SUM(I233:I239)","v":0},{"$f":"IF(N239>38,N239-38,0)","v":0},{"$f":"IF(P239>Q239,P239,Q239)","v":0}]
[34,"2019-08-19","2019-08-19",null,null,0,0,0,null,null,null,0,""]
[34,"2019-08-20","2019-08-20",null,null,0,{"$f":"IF(F241>=6,0.5,0)","v":0},0,null,null,null,0,""]
[34,"2019-08-21","2019-08-21",null,null,0,0,0,null,null,null,0,""]
[34,"2019-08-22","2019-08-22",null,null,0,0,0,null,null,null,0,""]
[34,"2019-08-23","2019-08-23",null,null,0,0,0,null,null,null,0,""]
[34,"2019-08-24","2019-08-24",null,null,0,null,0,null,null,"za",0,"","Week",null,"OV WEEK","OV DAG","Recup -","Recup +","OV 50%"]
[34,"2019-08-25","2019-08-25",null,null,0,null,0,null,null,"zo",0,"",{"$f":"SUM(L240:L246)","v":0},{"$f":"SUM(H240:H246)","v":0},{"$f":"IF(N246>38,N246-38,0)","v":0},{"$f":"SUM(M240:M246)","v":0},{"$f":"SUM(I240:I246)","v":0},{"$f":"IF(N246>38,N246-38,0)","v":0},{"$f":"IF(P246>Q246,P246,Q246)","v":0}]
[35,"2019-08-26","2019-08-26",null,null,0,0,0,null,null,null,0,""]
[35,"2019-08-27","2019-08-27",null,null,0,0,0,null,null,null,0,""]
[35,"2019-08-28","2019-08-28",null,null,0,0,0,null,null,null,0,""]
[35,"2019-08-29","2019-08-29",null,null,0,0,0,null,null,null,0,""]
[35,"2019-08-30","2019-08-30",null,null,0,0,0,null,null,null,0,""]
[35,"2019-08-31","2019-08-31",null,null,0,null,0,null,null,"za",0,"","Week",null,"OV WEEK","OV DAG","Recup -","Recup +","OV 50%"]
[35,"2019-09-01","2019-09-01",null,null,0,null,0,null,null,"zo",0,"",{"$f":"SUM(L247:L253)","v":0},{"$f":"SUM(H247:H253)","v":0},{"$f":"IF(N253>38,N253-38,0)","v":0},{"$f":"SUM(M247:M253)","v":0},{"$f":"SUM(I247:I253)","v":0},{"$f":"IF(N253>38,N253-38,0)","v":0},{"$f":"IF(P253>Q253,P253,Q253)","v":0}]
[36,"2019-09-02","2019-09-02",null,null,0,0,0,null,null,null,0,""]
[36,"2019-09-03","2019-09-03",null,null,0,0,0,null,null,null,0,""]
[36,"2019-09-04","2019-09-04",null,null,0,0,0,null,null,null,0,""]
[36,"2019-09-05","2019-09-05",null,null,0,0,0,null,null,null,0,""]
[36,"2019-09-06","2019-09-06",null,null,0,0,0,null,null,null,0,""]
[36,"2019-09-07","2019-09-07",null,null,0,null,0,null,null,"za",0,"","Week",null,"OV WEEK","OV DAG","Recup -","Recup +","OV 50%"]
[36,"2019-09-08","2019-09-08",null,null,0,null,0,null,null,"zo",0,"",{"$f":"SUM(L254:L260)","v":0},{"$f":"SUM(H254:H260)","v":0},{"$f":"IF(N260>38,N260-38,0)","v":0},{"$f":"SUM(M254:M260)","v":0},{"$f":"SUM(I254:I260)","v":0},{"$f":"IF(N260>38,N260-38,0)","v":0},{"$f":"IF(P260>Q260,P260,Q260)","v":0}]
[37,"2019-09-09","2019-09-09",null,null,0,0,0,null,null,null,0,""]
[37,"2019-09-10","2019-09-10",null,null,0,0,0,null,null,null,0,""]
[37,"2019-09-11","2019-09-11",null,null,0,0,0,null,null,null,0,""]
[37,"2019-09-12","2019-09-12",null,null,0,0,0,null,null,null,0,""]
[37,"2019-09-13","2019-09-13",null,null,0,0,0,null,null,null,0,{"$f":"IF(L265>9,L265-9,\"\")","v":""}]
[{"$f":"WEEKNUM(C266,21)","v":37},{"$f":"C266","v":"2019-09-14"},"2019-09-14",null,null,{"$f":"(E266-D266)*24","v":0},null,{"$f":"F266-G266","v":0},null,null,"za",{"$f":"SUM(H266:J266)","v":0},"","Week",null,"OV WEEK","OV DAG","Recup -","Recup +","OV 50%"]
[37,"2019-09-15","2019-09-15",null,null,0,null,0,null,null,"zo",0,"",{"$f":"SUM(L261:L267)","v":0},{"$f":"SUM(H261:H267)","v":0},{"$f":"IF(N267>38,N267-38,0)","v":0},{"$f":"SUM(M261:M267)","v":0},{"$f":"SUM(I261:I267)","v":0},{"$f":"IF(N267>38,N267-38,0)","v":0},{"$f":"IF(P267>Q267,P267,Q267)","v":0}]
[38,"2019-09-16","2019-09-16",null,null,0,{"$f":"IF(F268>=6,0.5,0)","v":0},0,null,null,null,0,""]
[38,"2019-09-17","2019-09-17",null,null,0,0,0,null,null,null,0,""]
[38,"2019-09-18","2019-09-18",null,null,0,0,0,null,null,null,0,""]
[38,"2019-09-19","2019-09-19",null,null,0,0,0,null,null,null,0,""]
[38,"2019-09-20","2019-09-20",null,null,0,0,0,null,null,null,0,""]
[38,"2019-09-21","2019-09-21",null,null,0,null,0,null,null,"za",0,"","Week",null,"OV WEEK","OV DAG","Recup -","Recup +","OV 50%"]
[38,"2019-09-22","2019-09-22",null,null,0,null,0,null,null,"zo",0,"",{"$f":"SUM(L268:L274)","v":0},{"$f":"SUM(H268:H274)","v":0},{"$f":"IF(N274>38,N274-38,0)","v":0},{"$f":"SUM(M268:M274)","v":0},{"$f":"SUM(I268:I274)","v":0},{"$f":"IF(N274>38,N274-38,0)","v":0},{"$f":"IF(P274>Q274,P274,Q274)","v":0}]
[39,"2019-09-23","2019-09-23",null,null,0,0,0,null,null,null,0,""]
[39,"2019-09-24","2019-09-24",null,null,0,0,0,null,null,null,0,""]
[39,"2019-09-25","2019-09-25",null,null,0,0,0,null,null,null,0,""]
[39,"2019-09-26","2019-09-26",null,null,0,0,0,null,null,null,0,""]
[39,"2019-09-27","2019-09-27",null,null,0,0,0,null,null,null,0,""]
[39,"2019-09-28","2019-09-28",null,null,0,null,0,null,null,"za",0,"","Week",null,"OV WEEK","OV DAG","Recup -","Recup +","OV 50%"]
[39,"2019-09-29","2019-09-29",null,null,0,null,0,null,null,"zo",0,"",{"$f":"SUM(L275:L281)","v":0},{"$f":"SUM(H275:H281)","v":0},{"$f":"IF(N281>38,N281-38,0)","v":0},{"$f":"SUM(M275:M281)","v":0},{"$f":"SUM(I275:I281)","v":0},{"$f":"IF(N281>38,N281-38,0)","v":0},{"$f":"IF(P281>Q281,P281,Q281)","v":0}]
[40,"2019-09-30","2019-09-30",null,null,0,0,0,null,null,null,0,""]
[40,"2019-10-01","2019-10-01",null,null,0,0,0,null,null,null,0,""]
[40,"2019-10-02","2019-10-02",null,null,0,0,0,null,null,null,0,""]
[40,"2019-10-03","2019-10-03",null,null,0,0,0,null,null,null,0,""]
[40,"2019-10-04","2019-10-04",null,null,0,0,0,null,null,null,0,""]
[40,"2019-10-05","2019-10-05",null,null,0,null,0,null,null,"za",0,"","Week",null,"OV WEEK","OV DAG","Recup -","Recup +","OV 50%"]
[40,"2019-10-06","2019-10-06",null,null,0,null,0,null,null,"zo",0,"",{"$f":"SUM(L282:L288)","v":0},{"$f":"SUM(H282:H288)","v":0},{"$f":"IF(N288>38,N288-38,0)","v":0},{"$f":"SUM(M282:M288)","v":0},{"$f":"SUM(I282:I288)","v":0},{"$f":"IF(N288>38,N288-38,0)","v":0},{"$f":"IF(P288>Q288,P288,Q288)","v":0}]
[41,"2019-10-07","2019-10-07",null,null,0,0,0,null,null,null,0,""]
[41,"2019-10-08","2019-10-08",null,null,0,0,0,null,null,null,0,""]
[41,"2019-10-09","2019-10-09",null,null,0,0,0,null,null,null,0,""]
[41,"2019-10-10","2019-10-10",null,null,0,0,0,null,null,null,0,""]
[41,"2019-10-11","2019-10-11",null,null,0,0,0,null,null,null,0,""]
[41,"2019-10-12","2019-10-12",null,null,0,null,0,null,null,"za",0,"","Week",null,"OV WEEK","OV DAG","Recup -","Recup +","OV 50%"]
[41,"2019-10-13","2019-10-13",null,null,0,null,0,null,null,"zo",0,"",{"$f":"SUM(L289:L295)","v":0},{"$f":"SUM(H289:H295)","v":0},{"$f":"IF(N295>38,N295-38,0)","v":0},{"$f":"SUM(M289:M295)","v":0},{"$f":"SUM(I289:I295)","v":0},{"$f":"IF(N295>38,N295-38,0)","v":0},{"$f":"IF(P295>Q295,P295,Q295)","v":0}]
[42,"2019-10-14","2019-10-14",null,null,0,0,0,null,null,null,0,""]
[42,"2019-10-15","2019-10-15",null,null,0,0,0,null,null,null,0,""]
[42,"2019-10-16","2019-10-16",null,null,0,0,0,null,null,null,0,""]
[42,"2019-10-17","2019-10-17",null,null,0,0,0,null,null,null,0,""]
[42,"2019-10-18","2019-10-18",null,null,0,0,0,null,null,null,0,""]
[42,"2019-10-19","2019-10-19",null,null,0,null,0,null,null,"za",0,"","Week",null,"OV WEEK","OV DAG","Recup -","Recup +","OV 50%"]
[42,"2019-10-20","2019-10-20",null,null,0,null,0,null,null,"zo",0,"",{"$f":"SUM(L296:L302)","v":0},{"$f":"SUM(H296:H302)","v":0},{"$f":"IF(N302>38,N302-38,0)","v":0},{"$f":"SUM(M296:M302)","v":0},{"$f":"SUM(I296:I302)","v":0},{"$f":"IF(N302>38,N302-38,0)","v":0},{"$f":"IF(P302>Q302,P302,Q302)","v":0}]
[43,"2019-10-21","2019-10-21",null,null,0,0,0,null,null,null,0,""]
[43,"2019-10-22","2019-10-22",null,null,0,0,0,null,null,null,0,""]
[43,"2019-10-23","2019-10-23",null,null,0,0,0,null,null,null,0,""]
[43,"2019-10-24","2019-10-24",null,null,0,0,0,null,null,null,0,""]
[43,"2019-10-25","2019-10-25",null,null,0,0,0,null,null,null,0,""]
[43,"2019-10-26","2019-10-26",null,null,0,null,0,null,null,"za",0,"","Week",null,"OV WEEK","OV DAG","Recup -","Recup +","OV 50%"]
[43,"2019-10-27","2019-10-27",null,null,0,null,0,null,null,"zo",0,"",{"$f":"SUM(L303:L309)","v":0},{"$f":"SUM(H303:H309)","v":0},{"$f":"IF(N309>38,N309-38,0)","v":0},{"$f":"SUM(M303:M309)","v":0},{"$f":"SUM(I303:I309)","v":0},{"$f":"IF(N309>38,N309-38,0)","v":0},{"$f":"IF(P309>Q309,P309,Q309)","v":0}]
[44,"2019-10-28","2019-10-28",null,null,0,0,0,null,null,null,0,""]
[44,"2019-10-29","2019-10-29",null,null,0,0,0,null,null,null,0,""]
[44,"2019-10-30","2019-10-30",null,null,0,0,0,null,null,null,0,""]
[44,"2019-10-31","2019-10-31",null,null,0,0,0,null,null,null,0,""]
[44,"2019-11-01","2019-11-01",null,null,0,0,0,null,7.6,"fd",7.6,""]
[44,"2019-11-02","2019-11-02",null,null,0,null,0,null,null,"za",0,"","Week",null,"OV WEEK","OV DAG","Recup -","Recup +","OV 50%"]
[44,"2019-11-03","2019-11-03",null,null,0,null,0,null,null,"zo",0,"",{"$f":"SUM(L310:L316)","v":7.6},{"$f":"SUM(H310:H316)","v":0},{"$f":"IF(N316>38,N316-38,0)","v":0},{"$f":"SUM(M310:M316)","v":0},{"$f":"SUM(I310:I316)","v":0},{"$f":"IF(N316>38,N316-38,0)","v":0},{"$f":"IF(P316>Q316,P316,Q316)","v":0}]
[45,"2019-11-04","2019-11-04",null,null,0,0,0,null,null,null,0,""]
[45,"2019-11-05","2019-11-05",null,null,0,0,0,null,null,null,0,""]
[45,"2019-11-06","2019-11-06",null,null,0,0,0,null,null,null,0,""]
[45,"2019-11-07","2019-11-07",null,null,0,0,0,null,null,null,0,""]
[45,"2019-11-08","2019-11-08",null,null,0,0,0,null,null,null,0,""]
[45,"2019-11-09","2019-11-09",null,null,0,null,0,null,null,"za",0,"","Week",null,"OV WEEK","OV DAG","Recup -","Recup +","OV 50%"]
[45,"2019-11-10","2019-11-10",null,null,0,null,0,null,null,"zo",0,"",{"$f":"SUM(L317:L323)","v":0},{"$f":"SUM(H317:H323)","v":0},{"$f":"IF(N323>38,N323-38,0)","v":0},{"$f":"SUM(M317:M323)","v":0},{"$f":"SUM(I317:I323)","v":0},{"$f":"IF(N323>38,N323-38,0)","v":0},{"$f":"IF(P323>Q323,P323,Q323)","v":0}]
[46,"2019-11-11","2019-11-11",null,null,0,0,0,null,7.6,"fd",7.6,""]
[46,"2019-11-12","2019-11-12",null,null,0,0,0,null,null,null,0,""]
[46,"2019-11-13","2019-11-13",null,null,0,0,0,null,null,null,0,""]
[46,"2019-11-14","2019-11-14",null,null,0,0,0,null,null,null,0,""]
[46,"2019-11-15","2019-11-15",null,null,0,0,0,null,null,null,0,""]
[46,"2019-11-16","2019-11-16",null,null,0,null,0,null,null,"za",0,{"$f":"IF(L329>9,L329-9,\"\")","v":""},"Week",null,"OV WEEK","OV DAG","Recup -","Recup +","OV 50%"]
[{"$f":"WEEKNUM(C330,21)","v":46},{"$f":"C330","v":"2019-11-17"},"2019-11-17",null,null,{"$f":"(E330-D330)*24","v":0},null,{"$f":"F330-G330","v":0},null,null,"zo",{"$f":"SUM(H330:J330)","v":0},"",{"$f":"SUM(L324:L330)","v":7.6},{"$f":"SUM(H324:H330)","v":0},{"$f":"IF(N330>38,N330-38,0)","v":0},{"$f":"SUM(M324:M330)","v":0},{"$f":"SUM(I324:I330)","v":0},{"$f":"IF(N330>38,N330-38,0)","v":0},{"$f":"IF(P330>Q330,P330,Q330)","v":0}]
[47,"2019-11-18","2019-11-18",null,null,0,{"$f":"IF(F331>=6,0.5,0)","v":0},0,null,null,null,0,""]
[47,"2019-11-19","2019-11-19",null,null,0,0,0,null,null,null,0,""]
[47,"2019-11-20","2019-11-20",null,null,0,0,0,null,null,null,0,""]
[47,"2019-11-21","2019-11-21",null,null,0,0,0,null,null,null,0,""]
[47,"2019-11-22","2019-11-22",null,null,0,0,0,null,null,null,0,""]
[47,"2019-11-23","2019-11-23",null,null,0,null,0,null,null,"za",0,"","Week",null,"OV WEEK","OV DAG","Recup -","Recup +","OV 50%"]
[47,"2019-11-24","2019-11-24",null,null,0,null,0,null,null,"zo",0,"",{"$f":"SUM(L331:L337)","v":0},{"$f":"SUM(H331:H337)","v":0},{"$f":"IF(N337>38,N337-38,0)","v":0},{"$f":"SUM(M331:M337)","v":0},{"$f":"SUM(I331:I337)","v":0},{"$f":"IF(N337>38,N337-38,0)","v":0},{"$f":"IF(P337>Q337,P337,Q337)","v":0}]
[48,"2019-11-25","2019-11-25",null,null,0,0,0,null,null,null,0,""]
[48,"2019-11-26","2019-11-26",null,null,0,0,0,null,null,null,0,""]
[48,"2019-11-27","2019-11-27",null,null,0,0,0,null,null,null,0,""]
[48,"2019-11-28","2019-11-28",null,null,0,0,0,null,null,null,0,""]
[48,"2019-11-29","2019-11-29",null,null,0,0,0,null,null,null,0,""]
[48,"2019-11-30","2019-11-30",null,null,0,null,0,null,null,"za",0,"","Week",null,"OV WEEK","OV DAG","Recup -","Recup +","OV 50%"]
[48,"2019-12-01","2019-12-01",null,null,0,null,0,null,null,"zo",0,"",{"$f":"SUM(L338:L344)","v":0},{"$f":"SUM(H338:H344)","v":0},{"$f":"IF(N344>38,N344-38,0)","v":0},{"$f":"SUM(M338:M344)","v":0},{"$f":"SUM(I338:I344)","v":0},{"$f":"IF(N344>38,N344-38,0)","v":0},{"$f":"IF(P344>Q344,P344,Q344)","v":0}]
[49,"2019-12-02","2019-12-02",null,null,0,0,0,null,null,null,0,""]
[49,"2019-12-03","2019-12-03",null,null,0,0,0,null,null,null,0,""]
[49,"2019-12-04","2019-12-04",null,null,0,0,0,null,null,null,0,""]
[49,"2019-12-05","2019-12-05",null,null,0,0,0,null,null,null,0,""]
[49,"2019-12-06","2019-12-06",null,null,0,0,0,null,null,null,0,""]
[49,"2019-12-07","2019-12-07",null,null,0,null,0,null,null,"za",0,"","Week",null,"OV WEEK","OV DAG","Recup -","Recup +","OV 50%"]
[49,"2019-12-08","2019-12-08",null,null,0,null,0,null,null,"zo",0,"",{"$f":"SUM(L345:L351)","v":0},{"$f":"SUM(H345:H351)","v":0},{"$f":"IF(N351>38,N351-38,0)","v":0},{"$f":"SUM(M345:M351)","v":0},{"$f":"SUM(I345:I351)","v":0},{"$f":"IF(N351>38,N351-38,0)","v":0},{"$f":"IF(P351>Q351,P351,Q351)","v":0}]
[50,"2019-12-09","2019-12-09",null,null,0,0,0,null,null,null,0,""]
[50,"2019-12-10","2019-12-10",null,null,0,0,0,null,null,null,0,""]
[50,"2019-12-11","2019-12-11",null,null,0,0,0,null,null,null,0,""]
[50,"2019-12-12","2019-12-12",null,null,0,0,0,null,null,null,0,""]
[50,"2019-12-13","2019-12-13",null,null,0,0,0,null,null,null,0,""]
[50,"2019-12-14","2019-12-14",null,null,0,null,0,null,null,"za",0,"","Week",null,"OV WEEK","OV DAG","Recup -","Recup +","OV 50%"]
[50,"2019-12-15","2019-12-15",null,null,0,null,0,null,null,"zo",0,"",{"$f":"SUM(L352:L358)","v":0},{"$f":"SUM(H352:H358)","v":0},{"$f":"IF(N358>38,N358-38,0)","v":0},{"$f":"SUM(M352:M358)","v":0},{"$f":"SUM(I352:I358)","v":0},{"$f":"IF(N358>38,N358-38,0)","v":0},{"$f":"IF(P358>Q358,P358,Q358)","v":0}]
[51,"2019-12-16","2019-12-16",null,null,0,0,0,null,null,null,0,""]
[51,"2019-12-17","2019-12-17",null,null,0,0,0,null,null,null,0,""]
[51,"2019-12-18","2019-12-18",null,null,0,0,0,null,null,null,0,""]
[51,"2019-12-19","2019-12-19",null,null,0,0,0,null,null,null,0,""]
[51,"2019-12-20","2019-12-20",null,null,0,0,0,null,null,null,0,""]
[51,"2019-12-21","2019-12-21",null,null,0,null,0,null,null,"za",0,"","Week",null,"OV WEEK","OV DAG","Recup -","Recup +","OV 50%"]
[51,"2019-12-22","2019-12-22",null,null,0,null,0,null,null,"zo",0,"",{"$f":"SUM(L359:L365)","v":0},{"$f":"SUM(H359:H365)","v":0},{"$f":"IF(N365>38,N365-38,0)","v":0},{"$f":"SUM(M359:M365)","v":0},{"$f":"SUM(I359:I365)","v":0},{"$f":"IF(N365>38,N365-38,0)","v":0},{"$f":"IF(P365>Q365,P365,Q365)","v":0}]
[52,"2019-12-23","2019-12-23",null,null,0,0,0,null,null,null,0,""]
[52,"2019-12-24","2019-12-24",null,null,0,0,0,null,null,null,0,""]
[52,"2019-12-25","2019-12-25",null,null,0,0,0,null,7.6,"fd",7.6,""]
[52,"2019-12-26","2019-12-26",null,null,0,0,0,null,null,null,0,""]
[52,"2019-12-27","2019-12-27",null,null,0,0,0,null,null,null,0,""]
[52,"2019-12-28","2019-12-28",null,null,0,null,0,null,null,"za",0,"","Week",null,"OV WEEK","OV DAG","Recup -","Recup +","OV 50%"]
[52,"2019-12-29","2019-12-29",null,null,0,null,0,null,null,"zo",0,"",{"$f":"SUM(L366:L372)","v":7.6},{"$f":"SUM(H366:H372)","v":0},{"$f":"IF(N372>38,N372-38,0)","v":0},{"$f":"SUM(M366:M372)","v":0},{"$f":"SUM(I366:I372)","v":0},{"$f":"IF(N372>38,N372-38,0)","v":0},{"$f":"IF(P372>Q372,P372,Q372)","v":0}]
[1,"2019-12-30","2019-12-30",null,null,0,0,0,null,null,null,0,""]
[1,"2019-12-31","2019-12-31",null,null,0,0,0,null,null,null,0,""]
[1,"2020-01-01","2020-01-01",null,null,0,0,0,null,7.6,"fd",7.6,""]
[1,"2020-01-02","2020-01-02",null,null,0,0,0,null,null,null,0,""]
[1,"2020-01-03","2020-01-03",null,null,0,0,0,null,null,null,0,""]
[1,"2020-01-04","2020-01-04",null,null,0,null,0,null,null,"za",0,"","Week",null,"OV WEEK","OV DAG","Recup -","Recup +","OV 50%"]
[1,"2020-01-05","2020-01-05",null,null,0,null,0,null,null,"zo",0,"",{"$f":"SUM(L373:L379)","v":7.6},{"$f":"SUM(H373:H379)","v":0},{"$f":"IF(N379>38,N379-38,0)","v":0},{"$f":"SUM(M373:M379)","v":0},{"$f":"SUM(I373:I379)","v":0},{"$f":"IF(N379>38,N379-38,0)","v":0},{"$f":"IF(P379>Q379,P379,Q379)","v":0}]

{"sheet":"142","index":26,"n_rows":379,"n_cols":35,"rows_kept":379,"cut":false,"hidden":false,"merged":[[6,21,6,24],[6,25,6,28],[6,29,6,32],[6,33,6,34],[4,21,4,23],[4,25,4,28],[4,29,4,32],[4,33,4,34],[5,21,5,23],[5,25,5,28],[5,29,5,32],[5,33,5,34],[2,21,2,23],[2,25,2,28],[2,29,2,32],[2,33,2,34],[3,21,3,23],[3,25,3,28],[3,29,3,32],[3,33,3,34],[0,1,1,12],[0,21,0,24],[0,25,0,28],[0,29,0,32],[0,33,0,34],[1,21,1,23],[1,25,1,28],[1,29,1,32],[1,33,1,34]]}
["142","Eddy Vandormael",null,null,null,null,null,null,null,null,null,null,null,null,null,null,null,null,null,null,null,"Soort",null,null,null,"Recht op",null,null,null,"Opgenomen",null,null,null,"Saldo"]
[null,null,null,null,null,null,null,null,null,null,null,null,null,null,null,null,null,null,null,null,null,"ADV-dagen",null,null,"adv",null,null,null,null,{"$f":"(COUNTIF(W$9:AH$39,\"ADV\")+(COUNTIF(W$9:AH$39,\"0,5ADV\"))/2)","v":0},null,null,null,{"$f":"Z2-AD2","v":0}]
[null,null,null,null,null,null,null,null,null,null,null,null,null,null,null,null,null,null,null,null,null,"Vakantie 2019",null,null,"v",null,null,null,null,{"$f":"(COUNTIF(W$9:AH$39,\"V\")+(COUNTIF(W$9:AH$39,\"0,5V\"))/2)","v":0},null,null,null,{"$f":"Z3-AD3","v":0}]
["Opgelet avondwerk ! Van 00:00u tot 00:00u / + 0,00u premie 50%",null,null,null,null,null,null,null,null,null,null,null,null,"Feestdag in weekend 2019",null,null,null,null,"Recup 2018",null,null,"Feestdag 2019",null,null,"f",1,null,null,null,{"$f":"(COUNTIF(W$9:AH$39,\"F\")+(COUNTIF(W$9:AH$39,\"0,5F\"))/2)","v":0},null,null,null,1]
[null,null,null,null,null,null,null,null,null,null,null,null,null,"- nationale feestdag 21/7",null,null,null,null,null,null,null,"Vakantie rest 2018",null,null,"vvj",null,null,null,null,{"$f":"(COUNTIF(W$9:AH$39,\"vvj\")+(COUNTIF(W$9:AH$39,\"0,5vvj\"))/2)","v":0},null,null,null,0]
[null,null,null,null,null,null,null,null,null,null,null,null,null,null,null,null,null,null,"Recup",{"$f":"SUM(S9:S379)-SUM(R9:R379)+T5+T4","v":0},null,"Anciënniteitsdagen",null,null,"a ",null,null,null,null,{"$f":"(COUNTIF(W$9:AH$39,\"A\")+(COUNTIF(W$9:AH$39,\"0,5A\"))/2)","v":0},null,null,null,0]
[null,null,null,null,null,null,null,null,null,null,null,null,null,null,null,null,null,null,null,null,null,"TOTAAL",null,null,null,{"$f":"SUM(Z2:AC6)","v":1},null,null,null,{"$f":"SUM(AD2:AG6)","v":0},null,null,null,{"$f":"SUM(AH2:AI6)","v":1}]
["W","Dag","Datum","Van ","Tot",null,"Pauze","Prestaties","Recup","Andere","Type","Dag","OV DAG","Week","Prestaties","OV WEEK","OV DAG","Rec. -","Rec. +","OV 50%","M",null,"Jan","Feb","Maa","Apr","Mei","Jun","Jul","Aug","Sept","Okt","Nov","Dec"]
[{"$f":"WEEKNUM(C9,21)","v":1},{"$f":"C9","v":"2018-12-31"},"2018-12-31",null,null,{"$f":"(E9-D9)*24","v":0},{"$f":"IF(F9>=6,0.5,0)","v":0},{"$f":"F9-G9","v":0},null,null,null,{"$f":"SUM(H9:J9)","v":0},{"$f":"IF(L9>9,L9-9,\"\")","v":""},null,null,null,null,null,null,null,null,1,{"$f":"K9","v":0},{"$f":"K40","v":0},{"$f":"K68","v":0},{"$f":"K99","v":"zo"},{"$f":"K129","v":0},{"$f":"K160","v":0},{"$f":"K190","v":"zo"},{"$f":"K221","v":0},{"$f":"K252","v":"za"},{"$f":"K282","v":0},{"$f":"K313","v":0},{"$f":"K343","v":"za"},1]
[{"$f":"WEEKNUM(C10,21)","v":1},{"$f":"C10","v":"2019-01-01"},"2019-01-01",null,null,{"$f":"(E10-D10)*24","v":0},{"$f":"IF(F10>=6,0.5,0)","v":0},{"$f":"F10-G10","v":0},null,7.6,"fd",{"$f":"SUM(H10:J10)","v":7.6},"",null,null,null,null,null,null,null,null,2,{"$f":"K10","v":"fd"},{"$f":"K41","v":0},{"$f":"K69","v":0},{"$f":"K100","v":0},{"$f":"K130","v":"fd"},{"$f":"K161","v":"za"},{"$f":"K191","v":0},{"$f":"K222","v":0},{"$f":"K253","v":"zo"},{"$f":"K283","v":0},{"$f":"K314","v":"fd"},{"$f":"K344","v":"zo"},2]
[1,"2019-01-02","2019-01-02","08:00:00","09:00:00",1.0000000000000004,0,1.0000000000000004,null,null,null,1.0000000000000004,"","HB 31/12/18: IN DIENST",null,null,null,null,null,null,null,3,0,"za","za",0,0,"zo",0,0,0,0,"za",0,3]
[1,"2019-01-03","2019-01-03","07:00:00","15:30:00",8.5,0.5,8,null,null,null,8,"",null,null,null,null,null,null,null,null,4,0,"zo","zo",0,0,0,0,"za",0,0,"zo",0,4]
[1,"2019-01-04","2019-01-04","07:00:00","15:30:00",8.5,0.5,8,null,null,null,8,"",null,null,null,null,null,null,null,null,5,0,0,0,0,"za",0,0,"zo",0,0,0,{"$f":"K347","v":0},5]
[1,"2019-01-05","2019-01-05",null,null,0,null,0,null,null,"za",0,"","Week",null,"OV WEEK","OV DAG","Recup -","Recup +","OV 50%",null,6,"za",0,0,0,"zo",0,0,0,0,"za",0,0,6]
[1,"2019-01-06","2019-01-06",null,null,0,null,0,null,null,"zo",0,"",{"$f":"SUM(L9:L15)","v":24.6},{"$f":"SUM(H9:H15)","v":17},{"$f":"IF(N15>38,N15-38,0)","v":0},{"$f":"SUM(M9:M15)","v":0},{"$f":"SUM(I9:I15)","v":0},{"$f":"IF(N15>38,N15-38,0)","v":0},{"$f":"IF(P15>Q15,P15,Q15)","v":0},null,7,"zo",0,0,"za",0,0,"za",0,0,"zo",0,0,7]
[2,"2019-01-07","2019-01-07",null,null,0,0,0,null,null,null,0,"",null,null,null,null,null,null,null,null,8,0,0,0,"zo",0,0,"zo",0,"za",0,0,"za",8]
[2,"2019-01-08","2019-01-08",null,null,0,0,0,null,null,null,0,"",null,null,null,null,null,null,null,null,9,0,0,0,0,0,"za",0,0,"zo",0,0,"zo",9]
[2,"2019-01-09","2019-01-09",null,null,0,0,0,null,null,null,0,"",null,null,null,null,null,null,null,null,10,0,"za","za",0,0,"zo",0,0,0,0,"za",0,10]
[2,"2019-01-10","2019-01-10",null,null,0,0,0,null,null,null,0,"",null,null,null,null,null,null,null,null,11,0,"zo","zo",0,0,"fd",0,"za",0,0,"zo",0,11]
[2,"2019-01-11","2019-01-11",null,null,0,0,0,null,null,null,0,"",null,null,null,null,null,null,null,null,12,0,0,0,0,"za",0,0,"zo",0,0,"fd",0,12]
[2,"2019-01-12","2019-01-12",null,null,0,null,0,null,null,"za",0,"","Week",null,"OV WEEK","OV DAG","Recup -","Recup +","OV 50%",null,13,"za",0,0,0,"zo",0,0,0,0,"za",0,0,13]
[2,"2019-01-13","2019-01-13",null,null,0,null,0,null,null,"zo",0,"",{"$f":"SUM(L16:L22)","v":0},{"$f":"SUM(H16:H22)","v":0},{"$f":"IF(N22>38,N22-38,0)","v":0},{"$f":"SUM(M16:M22)","v":0},{"$f":"SUM(I16:I22)","v":0},{"$f":"IF(N22>38,N22-38,0)","v":0},{"$f":"IF(P22>Q22,P22,Q22)","v":0},null,14,"zo",0,0,"za",0,0,"za",0,0,"zo",0,0,14]
[3,"2019-01-14","2019-01-14",null,null,0,0,0,null,null,null,0,"",null,null,null,null,null,null,null,null,15,0,0,0,"zo",0,0,"zo",0,"za",0,0,"za",15]
[3,"2019-01-15","2019-01-15",null,null,0,0,0,null,null,null,0,"",null,null,null,null,null,null,null,null,16,0,0,0,0,0,"za",0,"fd","zo",0,0,"zo",16]
[3,"2019-01-16","2019-01-16",null,null,0,0,0,null,null,null,0,"",null,null,null,null,null,null,null,null,17,0,"za","za",0,0,"zo",0,0,0,0,"za",0,17]
[3,"2019-01-17","2019-01-17",null,null,0,0,0,null,null,null,0,"",null,null,null,null,null,null,null,null,18,0,"zo","zo",0,0,0,0,"za",0,0,"zo",0,18]
[3,"2019-01-18","2019-01-18",null,null,0,0,0,null,null,null,0,"",null,null,null,null,null,null,null,null,19,0,0,0,0,"za",0,0,"zo",0,0,0,0,19]
[3,"2019-01-19","2019-01-19",null,null,0,null,0,null,null,"za",0,"","Week",null,"OV WEEK","OV DAG","Recup -","Recup +","OV 50%",null,20,"za",0,0,0,"zo",0,0,0,0,"za",0,{"$f":"K362","v":0},20]
[3,"2019-01-20","2019-01-20",null,null,0,null,0,null,null,"zo",0,"",{"$f":"SUM(L23:L29)","v":0},{"$f":"SUM(H23:H29)","v":0},{"$f":"IF(N29>38,N29-38,0)","v":0},{"$f":"SUM(M23:M29)","v":0},{"$f":"SUM(I23:I29)","v":0},{"$f":"IF(N29>38,N29-38,0)","v":0},{"$f":"IF(P29>Q29,P29,Q29)","v":0},null,21,"zo",0,0,"za","fd",0,"za",0,0,"zo",0,0,21]
[4,"2019-01-21","2019-01-21",null,null,0,0,0,null,null,null,0,"",null,null,null,null,null,null,null,null,22,0,0,0,"zo",0,0,"zo",0,"za",0,0,"za",22]
[4,"2019-01-22","2019-01-22",null,null,0,0,0,null,null,null,0,"",null,null,null,null,null,null,null,null,23,0,0,0,"fd",0,"za",0,0,"zo",0,0,"zo",23]
[4,"2019-01-23","2019-01-23",null,null,0,0,0,null,null,null,0,"",null,null,null,null,null,null,null,null,24,0,"za","za",0,0,"zo",0,0,0,0,"za",0,24]
[4,"2019-01-24","2019-01-24",null,null,0,0,0,null,null,null,0,"",null,null,null,null,null,null,null,null,25,0,"zo","zo",0,0,0,0,"za",0,0,"zo",0,25]
[4,"2019-01-25","2019-01-25",null,null,0,0,0,null,null,null,0,"",null,null,null,null,null,null,null,null,26,0,0,0,0,"za",0,0,"zo",0,0,0,"fd",26]
[4,"2019-01-26","2019-01-26",null,null,0,null,0,null,null,"za",0,"","Week",null,"OV WEEK","OV DAG","Recup -","Recup +","OV 50%",null,27,"za",0,0,0,"zo",0,0,0,0,"za",0,0,27]
[4,"2019-01-27","2019-01-27",null,null,0,null,0,null,null,"zo",0,"",{"$f":"SUM(L30:L36)","v":0},{"$f":"SUM(H30:H36)","v":0},{"$f":"IF(N36>38,N36-38,0)","v":0},{"$f":"SUM(M30:M36)","v":0},{"$f":"SUM(I30:I36)","v":0},{"$f":"IF(N36>38,N36-38,0)","v":0},{"$f":"IF(P36>Q36,P36,Q36)","v":0},null,28,"zo",0,0,"za",0,0,"za",0,0,"zo",0,0,28]
[5,"2019-01-28","2019-01-28",null,null,0,0,0,null,null,null,0,"",null,null,null,null,null,null,null,null,29,0,null,0,"zo",0,0,"zo",0,"za",0,0,"za",29]
[5,"2019-01-29","2019-01-29",null,null,0,0,0,null,null,null,0,"",null,null,null,null,null,null,null,null,30,0,null,0,0,0,"za",0,0,"zo",0,0,"zo",30]
[5,"2019-01-30","2019-01-30",null,null,0,0,0,null,null,null,0,"",null,null,null,null,null,null,null,null,31,0,null,"za",null,"fd",null,0,0,null,0,null,0,31]
[5,"2019-01-31","2019-01-31",null,null,0,0,0,null,null,null,0,"",null,null,null,null,null,null,null,null,"WD",23,20,21,22,23,20,23,22,21,23,21,22,{"$f":"SUM(W40:AH40)","v":261}]
[5,"2019-02-01","2019-02-01",null,null,0,0,0,null,null,null,0,""]
[5,"2019-02-02","2019-02-02",null,null,0,null,0,null,null,"za",0,"","Week",null,"OV WEEK","OV DAG","Recup -","Recup +","OV 50%"]
[5,"2019-02-03","2019-02-03",null,null,0,null,0,null,null,"zo",0,"",{"$f":"SUM(L37:L43)","v":0},{"$f":"SUM(H37:H43)","v":0},{"$f":"IF(N43>38,N43-38,0)","v":0},{"$f":"SUM(M37:M43)","v":0},{"$f":"SUM(I37:I43)","v":0},{"$f":"IF(N43>38,N43-38,0)","v":0},{"$f":"IF(P43>Q43,P43,Q43)","v":0}]
[6,"2019-02-04","2019-02-04",null,null,0,0,0,null,null,null,0,""]
[6,"2019-02-05","2019-02-05",null,null,0,0,0,null,null,null,0,""]
[6,"2019-02-06","2019-02-06",null,null,0,0,0,null,null,null,0,""]
[6,"2019-02-07","2019-02-07",null,null,0,0,0,null,null,null,0,""]
[6,"2019-02-08","2019-02-08",null,null,0,0,0,null,null,null,0,""]
[6,"2019-02-09","2019-02-09",null,null,0,null,0,null,null,"za",0,"","Week",null,"OV WEEK","OV DAG","Recup -","Recup +","OV 50%"]
[6,"2019-02-10","2019-02-10",null,null,0,null,0,null,null,"zo",0,"",{"$f":"SUM(L44:L50)","v":0},{"$f":"SUM(H44:H50)","v":0},{"$f":"IF(N50>38,N50-38,0)","v":0},{"$f":"SUM(M44:M50)","v":0},{"$f":"SUM(I44:I50)","v":0},{"$f":"IF(N50>38,N50-38,0)","v":0},{"$f":"IF(P50>Q50,P50,Q50)","v":0}]
[7,"2019-02-11","2019-02-11",null,null,0,0,0,null,null,null,0,""]
[7,"2019-02-12","2019-02-12",null,null,0,0,0,null,null,null,0,""]
[7,"2019-02-13","2019-02-13",null,null,0,0,0,null,null,null,0,""]
[7,"2019-02-14","2019-02-14",null,null,0,0,0,null,null,null,0,""]
[7,"2019-02-15","2019-02-15",null,null,0,0,0,null,null,null,0,""]
[7,"2019-02-16","2019-02-16",null,null,0,null,0,null,null,"za",0,"","Week",null,"OV WEEK","OV DAG","Recup -","Recup +","OV 50%"]
[7,"2019-02-17","2019-02-17",null,null,0,null,0,null,null,"zo",0,"",{"$f":"SUM(L51:L57)","v":0},{"$f":"SUM(H51:H57)","v":0},{"$f":"IF(N57>38,N57-38,0)","v":0},{"$f":"SUM(M51:M57)","v":0},{"$f":"SUM(I51:I57)","v":0},{"$f":"IF(N57>38,N57-38,0)","v":0},{"$f":"IF(P57>Q57,P57,Q57)","v":0}]
[8,"2019-02-18","2019-02-18",null,null,0,0,0,null,null,null,0,""]
[8,"2019-02-19","2019-02-19",null,null,0,0,0,null,null,null,0,""]
[8,"2019-02-20","2019-02-20",null,null,0,0,0,null,null,null,0,""]
[8,"2019-02-21","2019-02-21",null,null,0,0,0,null,null,null,0,""]
[8,"2019-02-22","2019-02-22",null,null,0,0,0,null,null,null,0,""]
[8,"2019-02-23","2019-02-23",null,null,0,null,0,null,null,"za",0,"","Week",null,"OV WEEK","OV DAG","Recup -","Recup +","OV 50%"]
[8,"2019-02-24","2019-02-24",null,null,0,null,0,null,null,"zo",0,"",{"$f":"SUM(L58:L64)","v":0},{"$f":"SUM(H58:H64)","v":0},{"$f":"IF(N64>38,N64-38,0)","v":0},{"$f":"SUM(M58:M64)","v":0},{"$f":"SUM(I58:I64)","v":0},{"$f":"IF(N64>38,N64-38,0)","v":0},{"$f":"IF(P64>Q64,P64,Q64)","v":0}]
[9,"2019-02-25","2019-02-25",null,null,0,0,0,null,null,null,0,""]
[9,"2019-02-26","2019-02-26",null,null,0,0,0,null,null,null,0,""]
[9,"2019-02-27","2019-02-27",null,null,0,0,0,null,null,null,0,""]
[9,"2019-02-28","2019-02-28",null,null,0,0,0,null,null,null,0,""]
[9,"2019-03-01","2019-03-01",null,null,0,0,0,null,null,null,0,""]
[9,"2019-03-02","2019-03-02",null,null,0,null,0,null,null,"za",0,"","Week",null,"OV WEEK","OV DAG","Recup -","Recup +","OV 50%"]
[9,"2019-03-03","2019-03-03",null,null,0,null,0,null,null,"zo",0,"",{"$f":"SUM(L65:L71)","v":0},{"$f":"SUM(H65:H71)","v":0},{"$f":"IF(N71>38,N71-38,0)","v":0},{"$f":"SUM(M65:M71)","v":0},{"$f":"SUM(I65:I71)","v":0},{"$f":"IF(N71>38,N71-38,0)","v":0},{"$f":"IF(P71>Q71,P71,Q71)","v":0}]
[10,"2019-03-04","2019-03-04",null,null,0,0,0,null,null,null,0,""]
[10,"2019-03-05","2019-03-05",null,null,0,0,0,null,null,null,0,{"$f":"IF(L73>9,L73-9,\"\")","v":""}]
[{"$f":"WEEKNUM(C74,21)","v":10},{"$f":"C74","v":"2019-03-06"},"2019-03-06",null,null,{"$f":"(E74-D74)*24","v":0},{"$f":"IF(F74>=6,0.5,0)","v":0},{"$f":"F74-G74","v":0},null,null,null,{"$f":"SUM(H74:J74)","v":0},""]
[10,"2019-03-07","2019-03-07",null,null,0,0,0,null,null,null,0,""]
[10,"2019-03-08","2019-03-08",null,null,0,0,0,null,null,null,0,""]
[10,"2019-03-09","2019-03-09",null,null,0,null,0,null,null,"za",0,"","Week",null,"OV WEEK","OV DAG","Recup -","Recup +","OV 50%"]
[10,"2019-03-10","2019-03-10",null,null,0,null,0,null,null,"zo",0,"",{"$f":"SUM(L72:L78)","v":0},{"$f":"SUM(H72:H78)","v":0},{"$f":"IF(N78>38,N78-38,0)","v":0},{"$f":"SUM(M72:M78)","v":0},{"$f":"SUM(I72:I78)","v":0},{"$f":"IF(N78>38,N78-38,0)","v":0},{"$f":"IF(P78>Q78,P78,Q78)","v":0}]
[11,"2019-03-11","2019-03-11",null,null,0,0,0,null,null,null,0,""]
[11,"2019-03-12","2019-03-12",null,null,0,0,0,null,null,null,0,""]
[11,"2019-03-13","2019-03-13",null,null,0,0,0,null,null,null,0,""]
[11,"2019-03-14","2019-03-14",null,null,0,0,0,null,null,null,0,""]
[11,"2019-03-15","2019-03-15",null,null,0,0,0,null,null,null,0,""]
[11,"2019-03-16","2019-03-16",null,null,0,null,0,null,null,"za",0,"","Week",null,"OV WEEK","OV DAG","Recup -","Recup +","OV 50%"]
[11,"2019-03-17","2019-03-17",null,null,0,null,0,null,null,"zo",0,"",{"$f":"SUM(L79:L85)","v":0},{"$f":"SUM(H79:H85)","v":0},{"$f":"IF(N85>38,N85-38,0)","v":0},{"$f":"SUM(M79:M85)","v":0},{"$f":"SUM(I79:I85)","v":0},{"$f":"IF(N85>38,N85-38,0)","v":0},{"$f":"IF(P85>Q85,P85,Q85)","v":0}]
[12,"2019-03-18","2019-03-18",null,null,0,0,0,null,null,null,0,""]
[12,"2019-03-19","2019-03-19",null,null,0,0,0,null,null,null,0,""]
[12,"2019-03-20","2019-03-20",null,null,0,0,0,null,null,null,0,""]
[12,"2019-03-21","2019-03-21",null,null,0,0,0,null,null,null,0,""]
[12,"2019-03-22","2019-03-22",null,null,0,0,0,null,null,null,0,""]
[12,"2019-03-23","2019-03-23",null,null,0,null,0,null,null,"za",0,"","Week",null,"OV WEEK","OV DAG","Recup -","Recup +","OV 50%"]
[12,"2019-03-24","2019-03-24",null,null,0,null,0,null,null,"zo",0,"",{"$f":"SUM(L86:L92)","v":0},{"$f":"SUM(H86:H92)","v":0},{"$f":"IF(N92>38,N92-38,0)","v":0},{"$f":"SUM(M86:M92)","v":0},{"$f":"SUM(I86:I92)","v":0},{"$f":"IF(N92>38,N92-38,0)","v":0},{"$f":"IF(P92>Q92,P92,Q92)","v":0}]
[13,"2019-03-25","2019-03-25",null,null,0,0,0,null,null,null,0,""]
[13,"2019-03-26","2019-03-26",null,null,0,0,0,null,null,null,0,""]
[13,"2019-03-27","2019-03-27",null,null,0,0,0,null,null,null,0,""]
[13,"2019-03-28","2019-03-28",null,null,0,0,0,null,null,null,0,""]
[13,"2019-03-29","2019-03-29",null,null,0,0,0,null,null,null,0,""]
[13,"2019-03-30","2019-03-30",null,null,0,null,0,null,null,"za",0,"","Week",null,"OV WEEK","OV DAG","Recup -","Recup +","OV 50%"]
[13,"2019-03-31","2019-03-31",null,null,0,null,0,null,null,"zo",0,"",{"$f":"SUM(L93:L99)","v":0},{"$f":"SUM(H93:H99)","v":0},{"$f":"IF(N99>38,N99-38,0)","v":0},{"$f":"SUM(M93:M99)","v":0},{"$f":"SUM(I93:I99)","v":0},{"$f":"IF(N99>38,N99-38,0)","v":0},{"$f":"IF(P99>Q99,P99,Q99)","v":0}]
[14,"2019-04-01","2019-04-01",null,null,0,0,0,null,null,null,0,""]
[14,"2019-04-02","2019-04-02",null,null,0,0,0,null,null,null,0,""]
[14,"2019-04-03","2019-04-03",null,null,0,0,0,null,null,null,0,""]
[14,"2019-04-04","2019-04-04",null,null,0,0,0,null,null,null,0,""]
[14,"2019-04-05","2019-04-05",null,null,0,0,0,null,null,null,0,""]
[14,"2019-04-06","2019-04-06",null,null,0,null,0,null,null,"za",0,"","Week",null,"OV WEEK","OV DAG","Recup -","Recup +","OV 50%"]
[14,"2019-04-07","2019-04-07",null,null,0,null,0,null,null,"zo",0,"",{"$f":"SUM(L100:L106)","v":0},{"$f":"SUM(H100:H106)","v":0},{"$f":"IF(N106>38,N106-38,0)","v":0},{"$f":"SUM(M100:M106)","v":0},{"$f":"SUM(I100:I106)","v":0},{"$f":"IF(N106>38,N106-38,0)","v":0},{"$f":"IF(P106>Q106,P106,Q106)","v":0}]
[15,"2019-04-08","2019-04-08",null,null,0,0,0,null,null,null,0,""]
[15,"2019-04-09","2019-04-09",null,null,0,0,0,null,null,null,0,""]
[15,"2019-04-10","2019-04-10",null,null,0,0,0,null,null,null,0,""]
[15,"2019-04-11","2019-04-11",null,null,0,0,0,null,null,null,0,""]
[15,"2019-04-12","2019-04-12",null,null,0,0,0,null,null,null,0,""]
[15,"2019-04-13","2019-04-13",null,null,0,null,0,null,null,"za",0,"","Week",null,"OV WEEK","OV DAG","Recup -","Recup +","OV 50%"]
[15,"2019-04-14","2019-04-14",null,null,0,null,0,null,null,"zo",0,"",{"$f":"SUM(L107:L113)","v":0},{"$f":"SUM(H107:H113)","v":0},{"$f":"IF(N113>38,N113-38,0)","v":0},{"$f":"SUM(M107:M113)","v":0},{"$f":"SUM(I107:I113)","v":0},{"$f":"IF(N113>38,N113-38,0)","v":0},{"$f":"IF(P113>Q113,P113,Q113)","v":0}]
[16,"2019-04-15","2019-04-15",null,null,0,0,0,null,null,null,0,""]
[16,"2019-04-16","2019-04-16",null,null,0,0,0,null,null,null,0,""]
[16,"2019-04-17","2019-04-17",null,null,0,0,0,null,null,null,0,""]
[16,"2019-04-18","2019-04-18",null,null,0,0,0,null,null,null,0,""]
[16,"2019-04-19","2019-04-19",null,null,0,0,0,null,null,null,0,""]
[16,"2019-04-20","2019-04-20",null,null,0,null,0,null,null,"za",0,"","Week",null,"OV WEEK","OV DAG","Recup -","Recup +","OV 50%"]
[16,"2019-04-21","2019-04-21",null,null,0,null,0,null,null,"zo",0,"",{"$f":"SUM(L114:L120)","v":0},{"$f":"SUM(H114:H120)","v":0},{"$f":"IF(N120>38,N120-38,0)","v":0},{"$f":"SUM(M114:M120)","v":0},{"$f":"SUM(I114:I120)","v":0},{"$f":"IF(N120>38,N120-38,0)","v":0},{"$f":"IF(P120>Q120,P120,Q120)","v":0}]
[17,"2019-04-22","2019-04-22",null,null,0,0,0,null,7.6,"fd",7.6,""]
[17,"2019-04-23","2019-04-23",null,null,0,0,0,null,null,null,0,""]
[17,"2019-04-24","2019-04-24",null,null,0,0,0,null,null,null,0,""]
[17,"2019-04-25","2019-04-25",null,null,0,0,0,null,null,null,0,""]
[17,"2019-04-26","2019-04-26",null,null,0,0,0,null,null,null,0,""]
[17,"2019-04-27","2019-04-27",null,null,0,null,0,null,null,"za",0,"","Week",null,"OV WEEK","OV DAG","Recup -","Recup +","OV 50%"]
[17,"2019-04-28","2019-04-28",null,null,0,null,0,null,null,"zo",0,"",{"$f":"SUM(L121:L127)","v":7.6},{"$f":"SUM(H121:H127)","v":0},{"$f":"IF(N127>38,N127-38,0)","v":0},{"$f":"SUM(M121:M127)","v":0},{"$f":"SUM(I121:I127)","v":0},{"$f":"IF(N127>38,N127-38,0)","v":0},{"$f":"IF(P127>Q127,P127,Q127)","v":0}]
[18,"2019-04-29","2019-04-29",null,null,0,0,0,null,null,null,0,""]
[18,"2019-04-30","2019-04-30",null,null,0,0,0,null,null,null,0,""]
[18,"2019-05-01","2019-05-01",null,null,0,0,0,null,7.6,"fd",7.6,""]
[18,"2019-05-02","2019-05-02",null,null,0,0,0,null,null,null,0,""]
[18,"2019-05-03","2019-05-03",null,null,0,0,0,null,null,null,0,""]
[18,"2019-05-04","2019-05-04",null,null,0,null,0,null,null,"za",0,"","Week",null,"OV WEEK","OV DAG","Recup -","Recup +","OV 50%"]
[18,"2019-05-05","2019-05-05",null,null,0,null,0,null,null,"zo",0,"",{"$f":"SUM(L128:L134)","v":7.6},{"$f":"SUM(H128:H134)","v":0},{"$f":"IF(N134>38,N134-38,0)","v":0},{"$f":"SUM(M128:M134)","v":0},{"$f":"SUM(I128:I134)","v":0},{"$f":"IF(N134>38,N134-38,0)","v":0},{"$f":"IF(P134>Q134,P134,Q134)","v":0}]
[19,"2019-05-06","2019-05-06",null,null,0,0,0,null,null,null,0,""]
[19,"2019-05-07","2019-05-07",null,null,0,0,0,null,null,null,0,""]
[19,"2019-05-08","2019-05-08",null,null,0,0,0,null,null,null,0,{"$f":"IF(L137>9,L137-9,\"\")","v":""}]
[{"$f":"WEEKNUM(C138,21)","v":19},{"$f":"C138","v":"2019-05-09"},"2019-05-09",null,null,{"$f":"(E138-D138)*24","v":0},{"$f":"IF(F138>=6,0.5,0)","v":0},{"$f":"F138-G138","v":0},null,null,null,{"$f":"SUM(H138:J138)","v":0},""]
[19,"2019-05-10","2019-05-10",null,null,0,0,0,null,null,null,0,""]
[19,"2019-05-11","2019-05-11",null,null,0,null,0,null,null,"za",0,"","Week",null,"OV WEEK","OV DAG","Recup -","Recup +","OV 50%"]
[19,"2019-05-12","2019-05-12",null,null,0,null,0,null,null,"zo",0,"",{"$f":"SUM(L135:L141)","v":0},{"$f":"SUM(H135:H141)","v":0},{"$f":"IF(N141>38,N141-38,0)","v":0},{"$f":"SUM(M135:M141)","v":0},{"$f":"SUM(I135:I141)","v":0},{"$f":"IF(N141>38,N141-38,0)","v":0},{"$f":"IF(P141>Q141,P141,Q141)","v":0}]
[20,"2019-05-13","2019-05-13",null,null,0,0,0,null,null,null,0,""]
[20,"2019-05-14","2019-05-14",null,null,0,0,0,null,null,null,0,""]
[20,"2019-05-15","2019-05-15",null,null,0,0,0,null,null,null,0,""]
[20,"2019-05-16","2019-05-16",null,null,0,0,0,null,null,null,0,""]
[20,"2019-05-17","2019-05-17",null,null,0,0,0,null,null,null,0,""]
[20,"2019-05-18","2019-05-18",null,null,0,null,0,null,null,"za",0,"","Week",null,"OV WEEK","OV DAG","Recup -","Recup +","OV 50%"]
[20,"2019-05-19","2019-05-19",null,null,0,null,0,null,null,"zo",0,"",{"$f":"SUM(L142:L148)","v":0},{"$f":"SUM(H142:H148)","v":0},{"$f":"IF(N148>38,N148-38,0)","v":0},{"$f":"SUM(M142:M148)","v":0},{"$f":"SUM(I142:I148)","v":0},{"$f":"IF(N148>38,N148-38,0)","v":0},{"$f":"IF(P148>Q148,P148,Q148)","v":0}]
[21,"2019-05-20","2019-05-20",null,null,0,0,0,null,7.6,"fd",7.6,""]
[21,"2019-05-21","2019-05-21",null,null,0,0,0,null,null,null,0,""]
[21,"2019-05-22","2019-05-22",null,null,0,0,0,null,null,null,0,""]
[21,"2019-05-23","2019-05-23",null,null,0,0,0,null,null,null,0,""]
[21,"2019-05-24","2019-05-24",null,null,0,0,0,null,null,null,0,""]
[21,"2019-05-25","2019-05-25",null,null,0,null,0,null,null,"za",0,"","Week",null,"OV WEEK","OV DAG","Recup -","Recup +","OV 50%"]
[21,"2019-05-26","2019-05-26",null,null,0,null,0,null,null,"zo",0,"",{"$f":"SUM(L149:L155)","v":7.6},{"$f":"SUM(H149:H155)","v":0},{"$f":"IF(N155>38,N155-38,0)","v":0},{"$f":"SUM(M149:M155)","v":0},{"$f":"SUM(I149:I155)","v":0},{"$f":"IF(N155>38,N155-38,0)","v":0},{"$f":"IF(P155>Q155,P155,Q155)","v":0}]
[22,"2019-05-27","2019-05-27",null,null,0,0,0,null,null,null,0,""]
[22,"2019-05-28","2019-05-28",null,null,0,0,0,null,null,null,0,""]
[22,"2019-05-29","2019-05-29",null,null,0,0,0,null,null,null,0,""]
[22,"2019-05-30","2019-05-30",null,null,0,0,0,null,7.6,"fd",7.6,""]
[22,"2019-05-31","2019-05-31",null,null,0,0,0,null,null,null,0,""]
[22,"2019-06-01","2019-06-01",null,null,0,null,0,null,null,"za",0,"","Week",null,"OV WEEK","OV DAG","Recup -","Recup +","OV 50%"]
[22,"2019-06-02","2019-06-02",null,null,0,null,0,null,null,"zo",0,"",{"$f":"SUM(L156:L162)","v":7.6},{"$f":"SUM(H156:H162)","v":0},{"$f":"IF(N162>38,N162-38,0)","v":0},{"$f":"SUM(M156:M162)","v":0},{"$f":"SUM(I156:I162)","v":0},{"$f":"IF(N162>38,N162-38,0)","v":0},{"$f":"IF(P162>Q162,P162,Q162)","v":0}]
[23,"2019-06-03","2019-06-03",null,null,0,0,0,null,null,null,0,""]
[23,"2019-06-04","2019-06-04",null,null,0,0,0,null,null,null,0,""]
[23,"2019-06-05","2019-06-05",null,null,0,0,0,null,null,null,0,""]
[23,"2019-06-06","2019-06-06",null,null,0,0,0,null,null,null,0,""]
[23,"2019-06-07","2019-06-07",null,null,0,0,0,null,null,null,0,""]
[23,"2019-06-08","2019-06-08",null,null,0,null,0,null,null,"za",0,"","Week",null,"OV WEEK","OV DAG","Recup -","Recup +","OV 50%"]
[23,"2019-06-09","2019-06-09",null,null,0,null,0,null,null,"zo",0,"",{"$f":"SUM(L163:L169)","v":0},{"$f":"SUM(H163:H169)","v":0},{"$f":"IF(N169>38,N169-38,0)","v":0},{"$f":"SUM(M163:M169)","v":0},{"$f":"SUM(I163:I169)","v":0},{"$f":"IF(N169>38,N169-38,0)","v":0},{"$f":"IF(P169>Q169,P169,Q169)","v":0}]
[24,"2019-06-10","2019-06-10",null,null,0,0,0,null,7.6,"fd",7.6,""]
[24,"2019-06-11","2019-06-11",null,null,0,0,0,null,null,null,0,""]
[24,"2019-06-12","2019-06-12",null,null,0,0,0,null,null,null,0,""]
[24,"2019-06-13","2019-06-13",null,null,0,0,0,null,null,null,0,""]
[24,"2019-06-14","2019-06-14",null,null,0,0,0,null,null,null,0,""]
[24,"2019-06-15","2019-06-15",null,null,0,null,0,null,null,"za",0,"","Week",null,"OV WEEK","OV DAG","Recup -","Recup +","OV 50%"]
[24,"2019-06-16","2019-06-16",null,null,0,null,0,null,null,"zo",0,"",{"$f":"SUM(L170:L176)","v":7.6},{"$f":"SUM(H170:H176)","v":0},{"$f":"IF(N176>38,N176-38,0)","v":0},{"$f":"SUM(M170:M176)","v":0},{"$f":"SUM(I170:I176)","v":0},{"$f":"IF(N176>38,N176-38,0)","v":0},{"$f":"IF(P176>Q176,P176,Q176)","v":0}]
[25,"2019-06-17","2019-06-17",null,null,0,0,0,null,null,null,0,""]
[25,"2019-06-18","2019-06-18",null,null,0,0,0,null,null,null,0,""]
[25,"2019-06-19","2019-06-19",null,null,0,0,0,null,null,null,0,""]
[25,"2019-06-20","2019-06-20",null,null,0,0,0,null,null,null,0,""]
[25,"2019-06-21","2019-06-21",null,null,0,0,0,null,null,null,0,""]
[25,"2019-06-22","2019-06-22",null,null,0,null,0,null,null,"za",0,"","Week",null,"OV WEEK","OV DAG","Recup -","Recup +","OV 50%"]
[25,"2019-06-23","2019-06-23",null,null,0,null,0,null,null,"zo",0,"",{"$f":"SUM(L177:L183)","v":0},{"$f":"SUM(H177:H183)","v":0},{"$f":"IF(N183>38,N183-38,0)","v":0},{"$f":"SUM(M177:M183)","v":0},{"$f":"SUM(I177:I183)","v":0},{"$f":"IF(N183>38,N183-38,0)","v":0},{"$f":"IF(P183>Q183,P183,Q183)","v":0}]
[26,"2019-06-24","2019-06-24",null,null,0,0,0,null,null,null,0,""]
[26,"2019-06-25","2019-06-25",null,null,0,0,0,null,null,null,0,""]
[26,"2019-06-26","2019-06-26",null,null,0,0,0,null,null,null,0,""]
[26,"2019-06-27","2019-06-27",null,null,0,0,0,null,null,null,0,""]
[26,"2019-06-28","2019-06-28",null,null,0,0,0,null,null,null,0,""]
[26,"2019-06-29","2019-06-29",null,null,0,null,0,null,null,"za",0,"","Week",null,"OV WEEK","OV DAG","Recup -","Recup +","OV 50%"]
[26,"2019-06-30","2019-06-30",null,null,0,null,0,null,null,"zo",0,"",{"$f":"SUM(L184:L190)","v":0},{"$f":"SUM(H184:H190)","v":0},{"$f":"IF(N190>38,N190-38,0)","v":0},{"$f":"SUM(M184:M190)","v":0},{"$f":"SUM(I184:I190)","v":0},{"$f":"IF(N190>38,N190-38,0)","v":0},{"$f":"IF(P190>Q190,P190,Q190)","v":0}]
[27,"2019-07-01","2019-07-01",null,null,0,0,0,null,null,null,0,""]
[27,"2019-07-02","2019-07-02",null,null,0,0,0,null,null,null,0,""]
[27,"2019-07-03","2019-07-03",null,null,0,0,0,null,null,null,0,""]
[27,"2019-07-04","2019-07-04",null,null,0,0,0,null,null,null,0,""]
[27,"2019-07-05","2019-07-05",null,null,0,0,0,null,null,null,0,""]
[27,"2019-07-06","2019-07-06",null,null,0,null,0,null,null,"za",0,"","Week",null,"OV WEEK","OV DAG","Recup -","Recup +","OV 50%"]
[27,"2019-07-07","2019-07-07",null,null,0,null,0,null,null,"zo",0,"",{"$f":"SUM(L191:L197)","v":0},{"$f":"SUM(H191:H197)","v":0},{"$f":"IF(N197>38,N197-38,0)","v":0},{"$f":"SUM(M191:M197)","v":0},{"$f":"SUM(I191:I197)","v":0},{"$f":"IF(N197>38,N197-38,0)","v":0},{"$f":"IF(P197>Q197,P197,Q197)","v":0}]
[28,"2019-07-08","2019-07-08",null,null,0,0,0,null,null,null,0,""]
[28,"2019-07-09","2019-07-09",null,null,0,0,0,null,null,null,0,""]
[28,"2019-07-10","2019-07-10",null,null,0,0,0,null,null,null,0,""]
[28,"2019-07-11","2019-07-11",null,null,0,0,0,null,null,null,0,{"$f":"IF(L201>9,L201-9,\"\")","v":""}]
[{"$f":"WEEKNUM(C202,21)","v":28},{"$f":"C202","v":"2019-07-12"},"2019-07-12",null,null,{"$f":"(E202-D202)*24","v":0},{"$f":"IF(F202>=6,0.5,0)","v":0},{"$f":"F202-G202","v":0},null,null,null,{"$f":"SUM(H202:J202)","v":0},""]
[28,"2019-07-13","2019-07-13",null,null,0,null,0,null,null,"za",0,"","Week",null,"OV WEEK","OV DAG","Recup -","Recup +","OV 50%"]
[28,"2019-07-14","2019-07-14",null,null,0,null,0,null,null,"zo",0,"",{"$f":"SUM(L198:L204)","v":0},{"$f":"SUM(H198:H204)","v":0},{"$f":"IF(N204>38,N204-38,0)","v":0},{"$f":"SUM(M198:M204)","v":0},{"$f":"SUM(I198:I204)","v":0},{"$f":"IF(N204>38,N204-38,0)","v":0},{"$f":"IF(P204>Q204,P204,Q204)","v":0}]
[29,"2019-07-15","2019-07-15",null,null,0,0,0,null,null,null,0,""]
[29,"2019-07-16","2019-07-16",null,null,0,0,0,null,null,null,0,""]
[29,"2019-07-17","2019-07-17",null,null,0,0,0,null,null,null,0,""]
[29,"2019-07-18","2019-07-18",null,null,0,0,0,null,null,null,0,""]
[29,"2019-07-19","2019-07-19",null,null,0,0,0,null,null,null,0,""]
[29,"2019-07-20","2019-07-20",null,null,0,null,0,null,null,"za",0,"","Week",null,"OV WEEK","OV DAG","Recup -","Recup +","OV 50%"]
[29,"2019-07-21","2019-07-21",null,null,0,null,0,null,null,"zo",0,"",{"$f":"SUM(L205:L211)","v":0},{"$f":"SUM(H205:H211)","v":0},{"$f":"IF(N211>38,N211-38,0)","v":0},{"$f":"SUM(M205:M211)","v":0},{"$f":"SUM(I205:I211)","v":0},{"$f":"IF(N211>38,N211-38,0)","v":0},{"$f":"IF(P211>Q211,P211,Q211)","v":0}]
[30,"2019-07-22","2019-07-22",null,null,0,0,0,null,null,null,0,""]
[30,"2019-07-23","2019-07-23",null,null,0,0,0,null,null,null,0,""]
[30,"2019-07-24","2019-07-24",null,null,0,0,0,null,null,null,0,""]
[30,"2019-07-25","2019-07-25",null,null,0,0,0,null,null,null,0,""]
[30,"2019-07-26","2019-07-26",null,null,0,0,0,null,null,null,0,""]
[30,"2019-07-27","2019-07-27",null,null,0,null,0,null,null,"za",0,"","Week",null,"OV WEEK","OV DAG","Recup -","Recup +","OV 50%"]
[30,"2019-07-28","2019-07-28",null,null,0,null,0,null,null,"zo",0,"",{"$f":"SUM(L212:L218)","v":0},{"$f":"SUM(H212:H218)","v":0},{"$f":"IF(N218>38,N218-38,0)","v":0},{"$f":"SUM(M212:M218)","v":0},{"$f":"SUM(I212:I218)","v":0},{"$f":"IF(N218>38,N218-38,0)","v":0},{"$f":"IF(P218>Q218,P218,Q218)","v":0}]
[31,"2019-07-29","2019-07-29",null,null,0,0,0,null,null,null,0,""]
[31,"2019-07-30","2019-07-30",null,null,0,0,0,null,null,null,0,""]
[31,"2019-07-31","2019-07-31",null,null,0,0,0,null,null,null,0,""]
[31,"2019-08-01","2019-08-01",null,null,0,0,0,null,null,null,0,""]
[31,"2019-08-02","2019-08-02",null,null,0,0,0,null,null,null,0,""]
[31,"2019-08-03","2019-08-03",null,null,0,null,0,null,null,"za",0,"","Week",null,"OV WEEK","OV DAG","Recup -","Recup +","OV 50%"]
[31,"2019-08-04","2019-08-04",null,null,0,null,0,null,null,"zo",0,"",{"$f":"SUM(L219:L225)","v":0},{"$f":"SUM(H219:H225)","v":0},{"$f":"IF(N225>38,N225-38,0)","v":0},{"$f":"SUM(M219:M225)","v":0},{"$f":"SUM(I219:I225)","v":0},{"$f":"IF(N225>38,N225-38,0)","v":0},{"$f":"IF(P225>Q225,P225,Q225)","v":0}]
[32,"2019-08-05","2019-08-05",null,null,0,0,0,null,null,null,0,""]
[32,"2019-08-06","2019-08-06",null,null,0,0,0,null,null,null,0,""]
[32,"2019-08-07","2019-08-07",null,null,0,0,0,null,null,null,0,""]
[32,"2019-08-08","2019-08-08",null,null,0,0,0,null,null,null,0,""]
[32,"2019-08-09","2019-08-09",null,null,0,0,0,null,null,null,0,""]
[32,"2019-08-10","2019-08-10",null,null,0,null,0,null,null,"za",0,"","Week",null,"OV WEEK","OV DAG","Recup -","Recup +","OV 50%"]
[32,"2019-08-11","2019-08-11",null,null,0,null,0,null,null,"zo",0,"",{"$f":"SUM(L226:L232)","v":0},{"$f":"SUM(H226:H232)","v":0},{"$f":"IF(N232>38,N232-38,0)","v":0},{"$f":"SUM(M226:M232)","v":0},{"$f":"SUM(I226:I232)","v":0},{"$f":"IF(N232>38,N232-38,0)","v":0},{"$f":"IF(P232>Q232,P232,Q232)","v":0}]
[33,"2019-08-12","2019-08-12",null,null,0,0,0,null,null,null,0,""]
[33,"2019-08-13","2019-08-13",null,null,0,0,0,null,null,null,0,""]
[33,"2019-08-14","2019-08-14",null,null,0,0,0,null,null,null,0,""]
[33,"2019-08-15","2019-08-15",null,null,0,0,0,null,7.6,"fd",7.6,""]
[33,"2019-08-16","2019-08-16",null,null,0,0,0,null,null,null,0,""]
[33,"2019-08-17","2019-08-17",null,null,0,null,0,null,null,"za",0,"","Week",null,"OV WEEK","OV DAG","Recup -","Recup +","OV 50%"]
[33,"2019-08-18","2019-08-18",null,null,0,null,0,null,null,"zo",0,"",{"$f":"SUM(L233:L239)","v":7.6},{"$f":"SUM(H233:H239)","v":0},{"$f":"IF(N239>38,N239-38,0)","v":0},{"$f":"SUM(M233:M239)","v":0},{"$f":"SUM(I233:I239)","v":0},{"$f":"IF(N239>38,N239-38,0)","v":0},{"$f":"IF(P239>Q239,P239,Q239)","v":0}]
[34,"2019-08-19","2019-08-19",null,null,0,0,0,null,null,null,0,""]
[34,"2019-08-20","2019-08-20",null,null,0,{"$f":"IF(F241>=6,0.5,0)","v":0},0,null,null,null,0,""]
[34,"2019-08-21","2019-08-21",null,null,0,0,0,null,null,null,0,""]
[34,"2019-08-22","2019-08-22",null,null,0,0,0,null,null,null,0,""]
[34,"2019-08-23","2019-08-23",null,null,0,0,0,null,null,null,0,""]
[34,"2019-08-24","2019-08-24",null,null,0,null,0,null,null,"za",0,"","Week",null,"OV WEEK","OV DAG","Recup -","Recup +","OV 50%"]
[34,"2019-08-25","2019-08-25",null,null,0,null,0,null,null,"zo",0,"",{"$f":"SUM(L240:L246)","v":0},{"$f":"SUM(H240:H246)","v":0},{"$f":"IF(N246>38,N246-38,0)","v":0},{"$f":"SUM(M240:M246)","v":0},{"$f":"SUM(I240:I246)","v":0},{"$f":"IF(N246>38,N246-38,0)","v":0},{"$f":"IF(P246>Q246,P246,Q246)","v":0}]
[35,"2019-08-26","2019-08-26",null,null,0,0,0,null,null,null,0,""]
[35,"2019-08-27","2019-08-27",null,null,0,0,0,null,null,null,0,""]
[35,"2019-08-28","2019-08-28",null,null,0,0,0,null,null,null,0,""]
[35,"2019-08-29","2019-08-29",null,null,0,0,0,null,null,null,0,""]
[35,"2019-08-30","2019-08-30",null,null,0,0,0,null,null,null,0,""]
[35,"2019-08-31","2019-08-31",null,null,0,null,0,null,null,"za",0,"","Week",null,"OV WEEK","OV DAG","Recup -","Recup +","OV 50%"]
[35,"2019-09-01","2019-09-01",null,null,0,null,0,null,null,"zo",0,"",{"$f":"SUM(L247:L253)","v":0},{"$f":"SUM(H247:H253)","v":0},{"$f":"IF(N253>38,N253-38,0)","v":0},{"$f":"SUM(M247:M253)","v":0},{"$f":"SUM(I247:I253)","v":0},{"$f":"IF(N253>38,N253-38,0)","v":0},{"$f":"IF(P253>Q253,P253,Q253)","v":0}]
[36,"2019-09-02","2019-09-02",null,null,0,0,0,null,null,null,0,""]
[36,"2019-09-03","2019-09-03",null,null,0,0,0,null,null,null,0,""]
[36,"2019-09-04","2019-09-04",null,null,0,0,0,null,null,null,0,""]
[36,"2019-09-05","2019-09-05",null,null,0,0,0,null,null,null,0,""]
[36,"2019-09-06","2019-09-06",null,null,0,0,0,null,null,null,0,""]
[36,"2019-09-07","2019-09-07",null,null,0,null,0,null,null,"za",0,"","Week",null,"OV WEEK","OV DAG","Recup -","Recup +","OV 50%"]
[36,"2019-09-08","2019-09-08",null,null,0,null,0,null,null,"zo",0,"",{"$f":"SUM(L254:L260)","v":0},{"$f":"SUM(H254:H260)","v":0},{"$f":"IF(N260>38,N260-38,0)","v":0},{"$f":"SUM(M254:M260)","v":0},{"$f":"SUM(I254:I260)","v":0},{"$f":"IF(N260>38,N260-38,0)","v":0},{"$f":"IF(P260>Q260,P260,Q260)","v":0}]
[37,"2019-09-09","2019-09-09",null,null,0,0,0,null,null,null,0,""]
[37,"2019-09-10","2019-09-10",null,null,0,0,0,null,null,null,0,""]
[37,"2019-09-11","2019-09-11",null,null,0,0,0,null,null,null,0,""]
[37,"2019-09-12","2019-09-12",null,null,0,0,0,null,null,null,0,""]
[37,"2019-09-13","2019-09-13",null,null,0,0,0,null,null,null,0,{"$f":"IF(L265>9,L265-9,\"\")","v":""}]
[{"$f":"WEEKNUM(C266,21)","v":37},{"$f":"C266","v":"2019-09-14"},"2019-09-14",null,null,{"$f":"(E266-D266)*24","v":0},null,{"$f":"F266-G266","v":0},null,null,"za",{"$f":"SUM(H266:J266)","v":0},"","Week",null,"OV WEEK","OV DAG","Recup -","Recup +","OV 50%"]
[37,"2019-09-15","2019-09-15",null,null,0,null,0,null,null,"zo",0,"",{"$f":"SUM(L261:L267)","v":0},{"$f":"SUM(H261:H267)","v":0},{"$f":"IF(N267>38,N267-38,0)","v":0},{"$f":"SUM(M261:M267)","v":0},{"$f":"SUM(I261:I267)","v":0},{"$f":"IF(N267>38,N267-38,0)","v":0},{"$f":"IF(P267>Q267,P267,Q267)","v":0}]
[38,"2019-09-16","2019-09-16",null,null,0,{"$f":"IF(F268>=6,0.5,0)","v":0},0,null,null,null,0,""]
[38,"2019-09-17","2019-09-17",null,null,0,0,0,null,null,null,0,""]
[38,"2019-09-18","2019-09-18",null,null,0,0,0,null,null,null,0,""]
[38,"2019-09-19","2019-09-19",null,null,0,0,0,null,null,null,0,""]
[38,"2019-09-20","2019-09-20",null,null,0,0,0,null,null,null,0,""]
[38,"2019-09-21","2019-09-21",null,null,0,null,0,null,null,"za",0,"","Week",null,"OV WEEK","OV DAG","Recup -","Recup +","OV 50%"]
[38,"2019-09-22","2019-09-22",null,null,0,null,0,null,null,"zo",0,"",{"$f":"SUM(L268:L274)","v":0},{"$f":"SUM(H268:H274)","v":0},{"$f":"IF(N274>38,N274-38,0)","v":0},{"$f":"SUM(M268:M274)","v":0},{"$f":"SUM(I268:I274)","v":0},{"$f":"IF(N274>38,N274-38,0)","v":0},{"$f":"IF(P274>Q274,P274,Q274)","v":0}]
[39,"2019-09-23","2019-09-23",null,null,0,0,0,null,null,null,0,""]
[39,"2019-09-24","2019-09-24",null,null,0,0,0,null,null,null,0,""]
[39,"2019-09-25","2019-09-25",null,null,0,0,0,null,null,null,0,""]
[39,"2019-09-26","2019-09-26",null,null,0,0,0,null,null,null,0,""]
[39,"2019-09-27","2019-09-27",null,null,0,0,0,null,null,null,0,""]
[39,"2019-09-28","2019-09-28",null,null,0,null,0,null,null,"za",0,"","Week",null,"OV WEEK","OV DAG","Recup -","Recup +","OV 50%"]
[39,"2019-09-29","2019-09-29",null,null,0,null,0,null,null,"zo",0,"",{"$f":"SUM(L275:L281)","v":0},{"$f":"SUM(H275:H281)","v":0},{"$f":"IF(N281>38,N281-38,0)","v":0},{"$f":"SUM(M275:M281)","v":0},{"$f":"SUM(I275:I281)","v":0},{"$f":"IF(N281>38,N281-38,0)","v":0},{"$f":"IF(P281>Q281,P281,Q281)","v":0}]
[40,"2019-09-30","2019-09-30",null,null,0,0,0,null,null,null,0,""]
[40,"2019-10-01","2019-10-01",null,null,0,0,0,null,null,null,0,""]
[40,"2019-10-02","2019-10-02",null,null,0,0,0,null,null,null,0,""]
[40,"2019-10-03","2019-10-03",null,null,0,0,0,null,null,null,0,""]
[40,"2019-10-04","2019-10-04",null,null,0,0,0,null,null,null,0,""]
[40,"2019-10-05","2019-10-05",null,null,0,null,0,null,null,"za",0,"","Week",null,"OV WEEK","OV DAG","Recup -","Recup +","OV 50%"]
[40,"2019-10-06","2019-10-06",null,null,0,null,0,null,null,"zo",0,"",{"$f":"SUM(L282:L288)","v":0},{"$f":"SUM(H282:H288)","v":0},{"$f":"IF(N288>38,N288-38,0)","v":0},{"$f":"SUM(M282:M288)","v":0},{"$f":"SUM(I282:I288)","v":0},{"$f":"IF(N288>38,N288-38,0)","v":0},{"$f":"IF(P288>Q288,P288,Q288)","v":0}]
[41,"2019-10-07","2019-10-07",null,null,0,0,0,null,null,null,0,""]
[41,"2019-10-08","2019-10-08",null,null,0,0,0,null,null,null,0,""]
[41,"2019-10-09","2019-10-09",null,null,0,0,0,null,null,null,0,""]
[41,"2019-10-10","2019-10-10",null,null,0,0,0,null,null,null,0,""]
[41,"2019-10-11","2019-10-11",null,null,0,0,0,null,null,null,0,""]
[41,"2019-10-12","2019-10-12",null,null,0,null,0,null,null,"za",0,"","Week",null,"OV WEEK","OV DAG","Recup -","Recup +","OV 50%"]
[41,"2019-10-13","2019-10-13",null,null,0,null,0,null,null,"zo",0,"",{"$f":"SUM(L289:L295)","v":0},{"$f":"SUM(H289:H295)","v":0},{"$f":"IF(N295>38,N295-38,0)","v":0},{"$f":"SUM(M289:M295)","v":0},{"$f":"SUM(I289:I295)","v":0},{"$f":"IF(N295>38,N295-38,0)","v":0},{"$f":"IF(P295>Q295,P295,Q295)","v":0}]
[42,"2019-10-14","2019-10-14",null,null,0,0,0,null,null,null,0,""]
[42,"2019-10-15","2019-10-15",null,null,0,0,0,null,null,null,0,""]
[42,"2019-10-16","2019-10-16",null,null,0,0,0,null,null,null,0,""]
[42,"2019-10-17","2019-10-17",null,null,0,0,0,null,null,null,0,""]
[42,"2019-10-18","2019-10-18",null,null,0,0,0,null,null,null,0,""]
[42,"2019-10-19","2019-10-19",null,null,0,null,0,null,null,"za",0,"","Week",null,"OV WEEK","OV DAG","Recup -","Recup +","OV 50%"]
[42,"2019-10-20","2019-10-20",null,null,0,null,0,null,null,"zo",0,"",{"$f":"SUM(L296:L302)","v":0},{"$f":"SUM(H296:H302)","v":0},{"$f":"IF(N302>38,N302-38,0)","v":0},{"$f":"SUM(M296:M302)","v":0},{"$f":"SUM(I296:I302)","v":0},{"$f":"IF(N302>38,N302-38,0)","v":0},{"$f":"IF(P302>Q302,P302,Q302)","v":0}]
[43,"2019-10-21","2019-10-21",null,null,0,0,0,null,null,null,0,""]
[43,"2019-10-22","2019-10-22",null,null,0,0,0,null,null,null,0,""]
[43,"2019-10-23","2019-10-23",null,null,0,0,0,null,null,null,0,""]
[43,"2019-10-24","2019-10-24",null,null,0,0,0,null,null,null,0,""]
[43,"2019-10-25","2019-10-25",null,null,0,0,0,null,null,null,0,""]
[43,"2019-10-26","2019-10-26",null,null,0,null,0,null,null,"za",0,"","Week",null,"OV WEEK","OV DAG","Recup -","Recup +","OV 50%"]
[43,"2019-10-27","2019-10-27",null,null,0,null,0,null,null,"zo",0,"",{"$f":"SUM(L303:L309)","v":0},{"$f":"SUM(H303:H309)","v":0},{"$f":"IF(N309>38,N309-38,0)","v":0},{"$f":"SUM(M303:M309)","v":0},{"$f":"SUM(I303:I309)","v":0},{"$f":"IF(N309>38,N309-38,0)","v":0},{"$f":"IF(P309>Q309,P309,Q309)","v":0}]
[44,"2019-10-28","2019-10-28",null,null,0,0,0,null,null,null,0,""]
[44,"2019-10-29","2019-10-29",null,null,0,0,0,null,null,null,0,""]
[44,"2019-10-30","2019-10-30",null,null,0,0,0,null,null,null,0,""]
[44,"2019-10-31","2019-10-31",null,null,0,0,0,null,null,null,0,""]
[44,"2019-11-01","2019-11-01",null,null,0,0,0,null,7.6,"fd",7.6,""]
[44,"2019-11-02","2019-11-02",null,null,0,null,0,null,null,"za",0,"","Week",null,"OV WEEK","OV DAG","Recup -","Recup +","OV 50%"]
[44,"2019-11-03","2019-11-03",null,null,0,null,0,null,null,"zo",0,"",{"$f":"SUM(L310:L316)","v":7.6},{"$f":"SUM(H310:H316)","v":0},{"$f":"IF(N316>38,N316-38,0)","v":0},{"$f":"SUM(M310:M316)","v":0},{"$f":"SUM(I310:I316)","v":0},{"$f":"IF(N316>38,N316-38,0)","v":0},{"$f":"IF(P316>Q316,P316,Q316)","v":0}]
[45,"2019-11-04","2019-11-04",null,null,0,0,0,null,null,null,0,""]
[45,"2019-11-05","2019-11-05",null,null,0,0,0,null,null,null,0,""]
[45,"2019-11-06","2019-11-06",null,null,0,0,0,null,null,null,0,""]
[45,"2019-11-07","2019-11-07",null,null,0,0,0,null,null,null,0,""]
[45,"2019-11-08","2019-11-08",null,null,0,0,0,null,null,null,0,""]
[45,"2019-11-09","2019-11-09",null,null,0,null,0,null,null,"za",0,"","Week",null,"OV WEEK","OV DAG","Recup -","Recup +","OV 50%"]
[45,"2019-11-10","2019-11-10",null,null,0,null,0,null,null,"zo",0,"",{"$f":"SUM(L317:L323)","v":0},{"$f":"SUM(H317:H323)","v":0},{"$f":"IF(N323>38,N323-38,0)","v":0},{"$f":"SUM(M317:M323)","v":0},{"$f":"SUM(I317:I323)","v":0},{"$f":"IF(N323>38,N323-38,0)","v":0},{"$f":"IF(P323>Q323,P323,Q323)","v":0}]
[46,"2019-11-11","2019-11-11",null,null,0,0,0,null,7.6,"fd",7.6,""]
[46,"2019-11-12","2019-11-12",null,null,0,0,0,null,null,null,0,""]
[46,"2019-11-13","2019-11-13",null,null,0,0,0,null,null,null,0,""]
[46,"2019-11-14","2019-11-14",null,null,0,0,0,null,null,null,0,""]
[46,"2019-11-15","2019-11-15",null,null,0,0,0,null,null,null,0,""]
[46,"2019-11-16","2019-11-16",null,null,0,null,0,null,null,"za",0,{"$f":"IF(L329>9,L329-9,\"\")","v":""},"Week",null,"OV WEEK","OV DAG","Recup -","Recup +","OV 50%"]
[{"$f":"WEEKNUM(C330,21)","v":46},{"$f":"C330","v":"2019-11-17"},"2019-11-17",null,null,{"$f":"(E330-D330)*24","v":0},null,{"$f":"F330-G330","v":0},null,null,"zo",{"$f":"SUM(H330:J330)","v":0},"",{"$f":"SUM(L324:L330)","v":7.6},{"$f":"SUM(H324:H330)","v":0},{"$f":"IF(N330>38,N330-38,0)","v":0},{"$f":"SUM(M324:M330)","v":0},{"$f":"SUM(I324:I330)","v":0},{"$f":"IF(N330>38,N330-38,0)","v":0},{"$f":"IF(P330>Q330,P330,Q330)","v":0}]
[47,"2019-11-18","2019-11-18",null,null,0,{"$f":"IF(F331>=6,0.5,0)","v":0},0,null,null,null,0,""]
[47,"2019-11-19","2019-11-19",null,null,0,0,0,null,null,null,0,""]
[47,"2019-11-20","2019-11-20",null,null,0,0,0,null,null,null,0,""]
[47,"2019-11-21","2019-11-21",null,null,0,0,0,null,null,null,0,""]
[47,"2019-11-22","2019-11-22",null,null,0,0,0,null,null,null,0,""]
[47,"2019-11-23","2019-11-23",null,null,0,null,0,null,null,"za",0,"","Week",null,"OV WEEK","OV DAG","Recup -","Recup +","OV 50%"]
[47,"2019-11-24","2019-11-24",null,null,0,null,0,null,null,"zo",0,"",{"$f":"SUM(L331:L337)","v":0},{"$f":"SUM(H331:H337)","v":0},{"$f":"IF(N337>38,N337-38,0)","v":0},{"$f":"SUM(M331:M337)","v":0},{"$f":"SUM(I331:I337)","v":0},{"$f":"IF(N337>38,N337-38,0)","v":0},{"$f":"IF(P337>Q337,P337,Q337)","v":0}]
[48,"2019-11-25","2019-11-25",null,null,0,0,0,null,null,null,0,""]
[48,"2019-11-26","2019-11-26",null,null,0,0,0,null,null,null,0,""]
[48,"2019-11-27","2019-11-27",null,null,0,0,0,null,null,null,0,""]
[48,"2019-11-28","2019-11-28",null,null,0,0,0,null,null,null,0,""]
[48,"2019-11-29","2019-11-29",null,null,0,0,0,null,null,null,0,""]
[48,"2019-11-30","2019-11-30",null,null,0,null,0,null,null,"za",0,"","Week",null,"OV WEEK","OV DAG","Recup -","Recup +","OV 50%"]
[48,"2019-12-01","2019-12-01",null,null,0,null,0,null,null,"zo",0,"",{"$f":"SUM(L338:L344)","v":0},{"$f":"SUM(H338:H344)","v":0},{"$f":"IF(N344>38,N344-38,0)","v":0},{"$f":"SUM(M338:M344)","v":0},{"$f":"SUM(I338:I344)","v":0},{"$f":"IF(N344>38,N344-38,0)","v":0},{"$f":"IF(P344>Q344,P344,Q344)","v":0}]
[49,"2019-12-02","2019-12-02",null,null,0,0,0,null,null,null,0,""]
[49,"2019-12-03","2019-12-03",null,null,0,0,0,null,null,null,0,""]
[49,"2019-12-04","2019-12-04",null,null,0,0,0,null,null,null,0,""]
[49,"2019-12-05","2019-12-05",null,null,0,0,0,null,null,null,0,""]
[49,"2019-12-06","2019-12-06",null,null,0,0,0,null,null,null,0,""]
[49,"2019-12-07","2019-12-07",null,null,0,null,0,null,null,"za",0,"","Week",null,"OV WEEK","OV DAG","Recup -","Recup +","OV 50%"]
[49,"2019-12-08","2019-12-08",null,null,0,null,0,null,null,"zo",0,"",{"$f":"SUM(L345:L351)","v":0},{"$f":"SUM(H345:H351)","v":0},{"$f":"IF(N351>38,N351-38,0)","v":0},{"$f":"SUM(M345:M351)","v":0},{"$f":"SUM(I345:I351)","v":0},{"$f":"IF(N351>38,N351-38,0)","v":0},{"$f":"IF(P351>Q351,P351,Q351)","v":0}]
[50,"2019-12-09","2019-12-09",null,null,0,0,0,null,null,null,0,""]
[50,"2019-12-10","2019-12-10",null,null,0,0,0,null,null,null,0,""]
[50,"2019-12-11","2019-12-11",null,null,0,0,0,null,null,null,0,""]
[50,"2019-12-12","2019-12-12",null,null,0,0,0,null,null,null,0,""]
[50,"2019-12-13","2019-12-13",null,null,0,0,0,null,null,null,0,""]
[50,"2019-12-14","2019-12-14",null,null,0,null,0,null,null,"za",0,"","Week",null,"OV WEEK","OV DAG","Recup -","Recup +","OV 50%"]
[50,"2019-12-15","2019-12-15",null,null,0,null,0,null,null,"zo",0,"",{"$f":"SUM(L352:L358)","v":0},{"$f":"SUM(H352:H358)","v":0},{"$f":"IF(N358>38,N358-38,0)","v":0},{"$f":"SUM(M352:M358)","v":0},{"$f":"SUM(I352:I358)","v":0},{"$f":"IF(N358>38,N358-38,0)","v":0},{"$f":"IF(P358>Q358,P358,Q358)","v":0}]
[51,"2019-12-16","2019-12-16",null,null,0,0,0,null,null,null,0,""]
[51,"2019-12-17","2019-12-17",null,null,0,0,0,null,null,null,0,""]
[51,"2019-12-18","2019-12-18",null,null,0,0,0,null,null,null,0,""]
[51,"2019-12-19","2019-12-19",null,null,0,0,0,null,null,null,0,""]
[51,"2019-12-20","2019-12-20",null,null,0,0,0,null,null,null,0,""]
[51,"2019-12-21","2019-12-21",null,null,0,null,0,null,null,"za",0,"","Week",null,"OV WEEK","OV DAG","Recup -","Recup +","OV 50%"]
[51,"2019-12-22","2019-12-22",null,null,0,null,0,null,null,"zo",0,"",{"$f":"SUM(L359:L365)","v":0},{"$f":"SUM(H359:H365)","v":0},{"$f":"IF(N365>38,N365-38,0)","v":0},{"$f":"SUM(M359:M365)","v":0},{"$f":"SUM(I359:I365)","v":0},{"$f":"IF(N365>38,N365-38,0)","v":0},{"$f":"IF(P365>Q365,P365,Q365)","v":0}]
[52,"2019-12-23","2019-12-23",null,null,0,0,0,null,null,null,0,""]
[52,"2019-12-24","2019-12-24",null,null,0,0,0,null,null,null,0,""]
[52,"2019-12-25","2019-12-25",null,null,0,0,0,null,7.6,"fd",7.6,""]
[52,"2019-12-26","2019-12-26",null,null,0,0,0,null,null,null,0,""]
[52,"2019-12-27","2019-12-27",null,null,0,0,0,null,null,null,0,""]
[52,"2019-12-28","2019-12-28",null,null,0,null,0,null,null,"za",0,"","Week",null,"OV WEEK","OV DAG","Recup -","Recup +","OV 50%"]
[52,"2019-12-29","2019-12-29",null,null,0,null,0,null,null,"zo",0,"",{"$f":"SUM(L366:L372)","v":7.6},{"$f":"SUM(H366:H372)","v":0},{"$f":"IF(N372>38,N372-38,0)","v":0},{"$f":"SUM(M366:M372)","v":0},{"$f":"SUM(I366:I372)","v":0},{"$f":"IF(N372>38,N372-38,0)","v":0},{"$f":"IF(P372>Q372,P372,Q372)","v":0}]
[1,"2019-12-30","2019-12-30",null,null,0,0,0,null,null,null,0,""]
[1,"2019-12-31","2019-12-31",null,null,0,0,0,null,null,null,0,""]
[1,"2020-01-01","2020-01-01",null,null,0,0,0,null,7.6,"fd",7.6,""]
[1,"2020-01-02","2020-01-02",null,null,0,0,0,null,null,null,0,""]
[1,"2020-01-03","2020-01-03",null,null,0,0,0,null,null,null,0,""]
[1,"2020-01-04","2020-01-04",null,null,0,null,0,null,null,"za",0,"","Week",null,"OV WEEK","OV DAG","Recup -","Recup +","OV 50%"]
[1,"2020-01-05","2020-01-05",null,null,0,null,0,null,null,"zo",0,"",{"$f":"SUM(L373:L379)","v":7.6},{"$f":"SUM(H373:H379)","v":0},{"$f":"IF(N379>38,N379-38,0)","v":0},{"$f":"SUM(M373:M379)","v":0},{"$f":"SUM(I373:I379)","v":0},{"$f":"IF(N379>38,N379-38,0)","v":0},{"$f":"IF(P379>Q379,P379,Q379)","v":0}]

{"sheet":"het probleem","index":27,"n_rows":18,"n_cols":2,"rows_kept":18,"cut":false,"hidden":false,"merged":[]}
[]
[null,"M'n probleem stelt zich op tabblad 'Overuren' en 'Overz.'"]
[]
[null,"Bij het tabblad 'Overuren' zijn er 2 problemen. In kolom B heb ik telkens de inhoud van cel T6 nodig van de verschillende tabbladen (de tabbladen zijn benoemd naar de personeelsnummers 9 = technieker A, 17 = technieker B,...)."]
[]
[null,"Ik krijg die formule niet doorgetrokken. Formule indirect te gebruiken? Die formule is voor mij Chinees."]
[]
[]
[]
[null,"Tweede probleem, in de kolommen D tem BC moet er ook elke keer naar dezeflde cellen verwezen worden van het corresponderende tabblad."]
[]
[null,"HIer komt per week hun weektotaal (gewerkte uren) te staan."]
[]
[null,"Dit bevindt zich op elke tabblad in dezelfde cellen (N15, N22, N29,...). Zowel naar rechts al naar onder doortrekken geeft niet het gewenste resultaat."]
[]
[null,"  ﻿"]
[]
[null,"Het probleem bij het tabblad 'Overz.' wordt misschien opgelost als bovengenoemde problemen al verholpen kunnen worden, dus dat laat ik nog even achterwege."]