{"text_format":"1","workbook":"xlsx","n_sheets":8,"sheets":["Home","klant","Blad1","Type Data","Data","DMS","Sheet2","Sheet3"],"not_rendered":{"charts":0,"images":5,"macros":1,"external_links":0,"defined_names":0,"comments":0,"pivot_tables":0},"unopened":[],"bounds":{"document_bytes":16777216,"sheet_cells":100000,"rows_first":2000,"rows_last":500,"rows_between":2000,"halvings":0,"cell_chars":16384,"cell_head_chars":4096},"cells_cut":0,"cells_raw":0,"read":"whole","date_system":"1900"}

{"sheet":"Home","index":0,"n_rows":2,"n_cols":6,"rows_kept":2,"cut":false,"hidden":false,"merged":[]}
[null,null,null,null,"OM"]
[null,null,null,null,null,{"$f":"TODAY()","v":"2019-02-05"}]

{"sheet":"klant","index":1,"n_rows":127,"n_cols":1,"rows_kept":127,"cut":false,"hidden":false,"merged":[]}
["Allaert - Devos"]
["Angelique Tant"]
["Anne Marie"]
["Anneleen Beckers"]
["Anne-Marie Criel"]
["Anniemarie Standaert"]
["Barbe - Van Dijck"]
["Bois d'Enghien - Van Acker"]
["Boudry Wouter"]
["Broekaert Jurgen"]
["Bruno De Clercq"]
["Cansse Gerda"]
["Cardon - Claerboudt"]
["Cheng Kwok-Kwan"]
["Christiana De Keyser "]
["Christine Nieuwenhuyse"]
["Christophe Vangemeersch"]
["Cloet Evelyne"]
["Daniel Coppens"]
["Danny Sagaert"]
["Darragas Sam"]
["David Cappelle"]
["De Decker Bert"]
["De Meester - De Preester"]
["De Pessemier - De Groote"]
["De Poorter - Peeters"]
["De potter - Duy Carrion"]
["De Potter Maarten"]
["De Smaele Mike"]
["De Smet Jan"]
["Decaluwé - De Waen"]
["Decouttere - Tudor"]
["Dedeyne Mieke"]
["Denecker Mike"]
["Denis Vanheirreweghe"]
["Depaemelaere - Haelters"]
["Desmet - D'Hoop"]
["Dhaene Willemijn"]
["D'Hooge Wim"]
["Dierckx Sebbe"]
["Dieter Aerens"]
["Drieghe Youri"]
["Dupont - Verhellen"]
["Eerdekens - Yassukovich"]
["El-Batouili - Bonne"]
["Fonck - De Lathauwer"]
["Fouquet - Vanmeirhaeghe"]
["Francine Vanhoorelbeke"]
["Goeminne - Van Den Meersschaut"]
["Grandblaise - Van Tomme"]
["Hassler - De Leeuw"]
["Herreman Tim"]
["Hilde Josephy"]
["Himpe Maria"]
["Hoebeke - Van den Dooren"]
["Isabelle Labarcque"]
["Jacobs - Van Nieuwenhove"]
["Johan Deloof"]
["Jolien Bouckaert"]
["Jolien Verheust"]
["Jorge Verheust"]
["Jurgen Debacker"]
["Jurgen Lippens"]
["Katrien Slos"]
["Kelly Vermeersch"]
["Kurt Van de Gehuchte"]
["Labis Nathalie"]
["Lafarque Nathalie"]
["Mahy - Nolf"]
["Marc Desmet"]
["Marc Mathieu"]
["Marie-Ange Dhoop"]
["Meersschaert - Coesens"]
["Moonens Johan"]
["Moonens Linda"]
["Nzielet - Colman"]
["Pauwels - Vandenbogaerde"]
["Peleman - Leriche"]
["Peter Groeninck"]
["Petruska Verbeke"]
["Porrez Margreet"]
["Porrez Marian"]
["Roger Vanden Buverie"]
["Roman - De Paemeleire"]
["Rosita De Wispelaere"]
["Scheepers - Danieli"]
["Schenck Liliane"]
["Sharon Vanheirreweghe"]
["Snauwaert - Snauwaert"]
["Stephan Verheust"]
["Suys - Latoir"]
["Terryn Carmen"]
["Thienpont - Baffrooy"]
["Thomas - Coopman"]
["Thomas Ghislain"]
["Thomas-Vermeulen & Co Bvba"]
["Uytterhaegen Stéphanie"]
["Van Acker - Tunesi"]
["Van Beneden - Maria Roca"]
["Van Coppenholle Geert"]
["Van Den Abeele - Vercauteren"]
["Van Der Stricht - Diependaele"]
["Van Gansberghe - Van Durme"]
["Van Herpe - Callewaert"]
["Van Mol - Vandenbempt"]
["Van Nieuwenborgh - Ecarnot"]
["Van Poucke - Gunst"]
["Van Severen - Gallopyn"]
["Vanden Abeele - Kabirian"]
["Vandenberghe - Clarysse"]
["Vandenbossche - De bleeker"]
["Vanhessche - Leyman"]
["Vanhouteghem Christophe"]
["Vanhoutte - Verheecke"]
["Vanquickenborne Tom"]
["Vercaemer - Deconinck"]
["Vercaemer Kris"]
["Vercaemer Thijs"]
["Vermeersch - Wanseele"]
["Vermeulen Kathleen"]
["Vermeulen Olivier"]
["Vervaet Amaryllis"]
["Vincke - Vandepoele"]
["VME Residentie Capri"]
["Wesley Vannieuwenborgh"]
["Wouter Deloof"]
["Thomas Delphine"]

{"sheet":"Blad1","index":2,"n_rows":855,"n_cols":2,"rows_kept":855,"cut":false,"hidden":false,"merged":[]}
[{"$f":"klant!A2","v":"Angelique Tant"},163883]
[{"$f":"klant!A3","v":"Anne Marie"},594275]
[{"$f":"klant!A4","v":"Anneleen Beckers"},537266]
[{"$f":"klant!A5","v":"Anne-Marie Criel"},324773]
[{"$f":"klant!A6","v":"Anniemarie Standaert"},715944]
[{"$f":"klant!A7","v":"Barbe - Van Dijck"},412277]
[{"$f":"klant!A8","v":"Bois d'Enghien - Van Acker"},727714]
[{"$f":"klant!A9","v":"Boudry Wouter"},713475]
[{"$f":"klant!A10","v":"Broekaert Jurgen"},654535]
[{"$f":"klant!A11","v":"Bruno De Clercq"},393495]
[{"$f":"klant!A12","v":"Cansse Gerda"},334178]
[{"$f":"klant!A13","v":"Cardon - Claerboudt"},573138]
[{"$f":"klant!A14","v":"Cheng Kwok-Kwan"},456631]
[{"$f":"klant!A15","v":"Christiana De Keyser "},151745]
[{"$f":"klant!A16","v":"Christine Nieuwenhuyse"},331831]
[{"$f":"klant!A17","v":"Christophe Vangemeersch"},653313]
[{"$f":"klant!A18","v":"Cloet Evelyne"},261799]
[{"$f":"klant!A19","v":"Daniel Coppens"},473115]
[{"$f":"klant!A20","v":"Danny Sagaert"},136142]
[{"$f":"klant!A21","v":"Darragas Sam"},476716]
[{"$f":"klant!A22","v":"David Cappelle"},512365]
[{"$f":"klant!A23","v":"De Decker Bert"},374947]
[{"$f":"klant!A24","v":"De Meester - De Preester"},844349]
[{"$f":"klant!A25","v":"De Pessemier - De Groote"},412731]
[{"$f":"klant!A26","v":"De Poorter - Peeters"},687156]
[{"$f":"klant!A27","v":"De potter - Duy Carrion"},943667]
[{"$f":"klant!A28","v":"De Potter Maarten"},965669]
[{"$f":"klant!A29","v":"De Smaele Mike"},344361]
[{"$f":"klant!A30","v":"De Smet Jan"},471974]
[{"$f":"klant!A31","v":"Decaluwé - De Waen"},749697]
[{"$f":"klant!A32","v":"Decouttere - Tudor"},791548]
[{"$f":"klant!A33","v":"Dedeyne Mieke"},148485]
[{"$f":"klant!A34","v":"Denecker Mike"},568344]
[{"$f":"klant!A35","v":"Denis Vanheirreweghe"},778358]
[{"$f":"klant!A36","v":"Depaemelaere - Haelters"},138777]
[{"$f":"klant!A37","v":"Desmet - D'Hoop"},959971]
[{"$f":"klant!A38","v":"Dhaene Willemijn"},966351]
[{"$f":"klant!A39","v":"D'Hooge Wim"},325188]
[{"$f":"klant!A40","v":"Dierckx Sebbe"},929792]
[{"$f":"klant!A41","v":"Dieter Aerens"},965664]
[{"$f":"klant!A42","v":"Drieghe Youri"},599722]
[{"$f":"klant!A43","v":"Dupont - Verhellen"},339221]
[{"$f":"klant!A44","v":"Eerdekens - Yassukovich"},972481]
[{"$f":"klant!A45","v":"El-Batouili - Bonne"},451993]
[{"$f":"klant!A46","v":"Fonck - De Lathauwer"},818214]
[{"$f":"klant!A47","v":"Fouquet - Vanmeirhaeghe"},437281]
[{"$f":"klant!A48","v":"Francine Vanhoorelbeke"},111851]
[{"$f":"klant!A49","v":"Goeminne - Van Den Meersschaut"},367926]
[{"$f":"klant!A50","v":"Grandblaise - Van Tomme"},319727]
[{"$f":"klant!A51","v":"Hassler - De Leeuw"},544667]
[{"$f":"klant!A52","v":"Herreman Tim"},577412]
[{"$f":"klant!A53","v":"Hilde Josephy"},452212]
[{"$f":"klant!A54","v":"Himpe Maria"},755376]
[{"$f":"klant!A55","v":"Hoebeke - Van den Dooren"},562434]
[{"$f":"klant!A56","v":"Isabelle Labarcque"},775616]
[{"$f":"klant!A57","v":"Jacobs - Van Nieuwenhove"},182942]
[{"$f":"klant!A58","v":"Johan Deloof"},418289]
[{"$f":"klant!A59","v":"Jolien Bouckaert"},343631]
[{"$f":"klant!A60","v":"Jolien Verheust"},241859]
[{"$f":"klant!A61","v":"Jorge Verheust"},871123]
[{"$f":"klant!A62","v":"Jurgen Debacker"},468892]
[{"$f":"klant!A63","v":"Jurgen Lippens"},335961]
[{"$f":"klant!A64","v":"Katrien Slos"},679799]
[{"$f":"klant!A65","v":"Kelly Vermeersch"},597342]
[{"$f":"klant!A66","v":"Kurt Van de Gehuchte"},293994]
[{"$f":"klant!A67","v":"Labis Nathalie"},628896]
[{"$f":"klant!A68","v":"Lafarque Nathalie"},836291]
[{"$f":"klant!A69","v":"Mahy - Nolf"},955181]
[{"$f":"klant!A70","v":"Marc Desmet"},953128]
[{"$f":"klant!A71","v":"Marc Mathieu"},431559]
[{"$f":"klant!A72","v":"Marie-Ange Dhoop"},341425]
[{"$f":"klant!A73","v":"Meersschaert - Coesens"},251151]
[{"$f":"klant!A74","v":"Moonens Johan"},669328]
[{"$f":"klant!A75","v":"Moonens Linda"},481133]
[{"$f":"klant!A76","v":"Nzielet - Colman"},587179]
[{"$f":"klant!A77","v":"Pauwels - Vandenbogaerde"},582516]
[{"$f":"klant!A78","v":"Peleman - Leriche"},991889]
[{"$f":"klant!A79","v":"Peter Groeninck"},782453]
[{"$f":"klant!A80","v":"Petruska Verbeke"},295832]
[{"$f":"klant!A81","v":"Porrez Margreet"},411395]
[{"$f":"klant!A82","v":"Porrez Marian"},272363]
[{"$f":"klant!A83","v":"Roger Vanden Buverie"},243578]
[{"$f":"klant!A84","v":"Roman - De Paemeleire"},738925]
[{"$f":"klant!A85","v":"Rosita De Wispelaere"},436118]
[{"$f":"klant!A86","v":"Scheepers - Danieli"},319628]
[{"$f":"klant!A87","v":"Schenck Liliane"},234517]
[{"$f":"klant!A88","v":"Sharon Vanheirreweghe"},728857]
[{"$f":"klant!A89","v":"Snauwaert - Snauwaert"},999868]
[{"$f":"klant!A90","v":"Stephan Verheust"},875773]
[{"$f":"klant!A91","v":"Suys - Latoir"},247687]
[{"$f":"klant!A92","v":"Terryn Carmen"},223117]
[{"$f":"klant!A93","v":"Thienpont - Baffrooy"},347543]
[{"$f":"klant!A94","v":"Thomas - Coopman"},837195]
[{"$f":"klant!A95","v":"Thomas Ghislain"},662882]
[{"$f":"klant!A96","v":"Thomas-Vermeulen & Co Bvba"},769182]
[{"$f":"klant!A97","v":"Uytterhaegen Stéphanie"},571362]
[{"$f":"klant!A98","v":"Van Acker - Tunesi"},523114]
[{"$f":"klant!A99","v":"Van Beneden - Maria Roca"},355272]
[{"$f":"klant!A100","v":"Van Coppenholle Geert"},647324]
[{"$f":"klant!A101","v":"Van Den Abeele - Vercauteren"},296546]
[{"$f":"klant!A102","v":"Van Der Stricht - Diependaele"},248637]
[{"$f":"klant!A103","v":"Van Gansberghe - Van Durme"},812798]
[{"$f":"klant!A104","v":"Van Herpe - Callewaert"},477532]
[{"$f":"klant!A105","v":"Van Mol - Vandenbempt"},334546]
[{"$f":"klant!A106","v":"Van Nieuwenborgh - Ecarnot"},944683]
[{"$f":"klant!A107","v":"Van Poucke - Gunst"},392978]
[{"$f":"klant!A108","v":"Van Severen - Gallopyn"},913295]
[{"$f":"klant!A109","v":"Vanden Abeele - Kabirian"},565557]
[{"$f":"klant!A110","v":"Vandenberghe - Clarysse"},521661]
[{"$f":"klant!A111","v":"Vandenbossche - De bleeker"},326931]
[{"$f":"klant!A112","v":"Vanhessche - Leyman"},752753]
[{"$f":"klant!A113","v":"Vanhouteghem Christophe"},461432]
[{"$f":"klant!A114","v":"Vanhoutte - Verheecke"},583791]
[{"$f":"klant!A115","v":"Vanquickenborne Tom"},988671]
[{"$f":"klant!A116","v":"Vercaemer - Deconinck"},597278]
[{"$f":"klant!A117","v":"Vercaemer Kris"},789745]
[{"$f":"klant!A118","v":"Vercaemer Thijs"},431425]
[{"$f":"klant!A119","v":"Vermeersch - Wanseele"},128638]
[{"$f":"klant!A120","v":"Vermeulen Kathleen"},813749]
[{"$f":"klant!A121","v":"Vermeulen Olivier"},761755]
[{"$f":"klant!A122","v":"Vervaet Amaryllis"},789193]
[{"$f":"klant!A123","v":"Vincke - Vandepoele"},273766]
[{"$f":"klant!A124","v":"VME Residentie Capri"},289776]
[{"$f":"klant!A125","v":"Wesley Vannieuwenborgh"},274168]
[{"$f":"klant!A126","v":"Wouter Deloof"},659797]
[{"$f":"klant!A127","v":"Thomas Delphine"},971617]
[{"$f":"klant!A128","v":0},321404]
[{"$f":"klant!A129","v":0},680416]
[{"$f":"klant!A130","v":0},973979]
[{"$f":"klant!A131","v":0},764614]
[{"$f":"klant!A132","v":0},443141]
[{"$f":"klant!A133","v":0},981594]
[{"$f":"klant!A134","v":0},395092]
[{"$f":"klant!A135","v":0},987356]
[{"$f":"klant!A136","v":0},907818]
[{"$f":"klant!A137","v":0},556979]
[{"$f":"klant!A138","v":0},756543]
[{"$f":"klant!A139","v":0},274802]
[{"$f":"klant!A140","v":0},158614]
[{"$f":"klant!A141","v":0},452162]
[{"$f":"klant!A142","v":0},887479]
[{"$f":"klant!A143","v":0},874328]
[{"$f":"klant!A144","v":0},100452]
[{"$f":"klant!A145","v":0},675538]
[{"$f":"klant!A146","v":0},501084]
[{"$f":"klant!A147","v":0},856559]
[{"$f":"klant!A148","v":0},138791]
[{"$f":"klant!A149","v":0},497480]
[{"$f":"klant!A150","v":0},119432]
[{"$f":"klant!A151","v":0},815019]
[{"$f":"klant!A152","v":0},985713]
[{"$f":"klant!A153","v":0},893150]
[{"$f":"klant!A154","v":0},816526]
[{"$f":"klant!A155","v":0},436762]
[{"$f":"klant!A156","v":0},989189]
[{"$f":"klant!A157","v":0},900654]
[{"$f":"klant!A158","v":0},926614]
[{"$f":"klant!A159","v":0},366334]
[{"$f":"klant!A160","v":0},162878]
[{"$f":"klant!A161","v":0},972554]
[{"$f":"klant!A162","v":0},719672]
[{"$f":"klant!A163","v":0},408508]
[{"$f":"klant!A164","v":0},243886]
[{"$f":"klant!A165","v":0},987792]
[{"$f":"klant!A166","v":0},142371]
[{"$f":"klant!A167","v":0},930156]
[{"$f":"klant!A168","v":0},146388]
[{"$f":"klant!A169","v":0},528473]
[{"$f":"klant!A170","v":0},569324]
[{"$f":"klant!A171","v":0},452477]
[{"$f":"klant!A172","v":0},765608]
[{"$f":"klant!A173","v":0},723575]
[{"$f":"klant!A174","v":0},114297]
[{"$f":"klant!A175","v":0},153488]
[{"$f":"klant!A176","v":0},160734]
[{"$f":"klant!A177","v":0},526150]
[{"$f":"klant!A178","v":0},646587]
[{"$f":"klant!A179","v":0},949632]
[{"$f":"klant!A180","v":0},227189]
[{"$f":"klant!A181","v":0},618537]
[{"$f":"klant!A182","v":0},140693]
[{"$f":"klant!A183","v":0},834375]
[{"$f":"klant!A184","v":0},373352]
[{"$f":"klant!A185","v":0},778862]
[{"$f":"klant!A186","v":0},783772]
[{"$f":"klant!A187","v":0},728417]
[{"$f":"klant!A188","v":0},738926]
[{"$f":"klant!A189","v":0},738751]
[{"$f":"klant!A190","v":0},301489]
[{"$f":"klant!A191","v":0},392748]
[{"$f":"klant!A192","v":0},529625]
[{"$f":"klant!A193","v":0},938694]
[{"$f":"klant!A194","v":0},200627]
[{"$f":"klant!A195","v":0},785949]
[{"$f":"klant!A196","v":0},474827]
[{"$f":"klant!A197","v":0},939434]
[{"$f":"klant!A198","v":0},273171]
[{"$f":"klant!A199","v":0},598631]
[{"$f":"klant!A200","v":0},309410]
[{"$f":"klant!A201","v":0},226972]
[{"$f":"klant!A202","v":0},241385]
[{"$f":"klant!A203","v":0},591998]
[{"$f":"klant!A204","v":0},421906]
[{"$f":"klant!A205","v":0},977236]
[{"$f":"klant!A206","v":0},620826]
[{"$f":"klant!A207","v":0},704142]
[{"$f":"klant!A208","v":0},807386]
[{"$f":"klant!A209","v":0},531244]
[{"$f":"klant!A210","v":0},409579]
[{"$f":"klant!A211","v":0},800581]
[{"$f":"klant!A212","v":0},600235]
[{"$f":"klant!A213","v":0},798934]
[{"$f":"klant!A214","v":0},774810]
[{"$f":"klant!A215","v":0},895478]
[{"$f":"klant!A216","v":0},403614]
[{"$f":"klant!A217","v":0},774062]
[{"$f":"klant!A218","v":0},161274]
[{"$f":"klant!A219","v":0},958903]
[{"$f":"klant!A220","v":0},658061]
[{"$f":"klant!A221","v":0},435186]
[{"$f":"klant!A222","v":0},866233]
[{"$f":"klant!A223","v":0},828012]
[{"$f":"klant!A224","v":0},691661]
[{"$f":"klant!A225","v":0},278314]
[{"$f":"klant!A226","v":0},119759]
[{"$f":"klant!A227","v":0},485734]
[{"$f":"klant!A228","v":0},963688]
[{"$f":"klant!A229","v":0},537741]
[{"$f":"klant!A230","v":0},520012]
[{"$f":"klant!A231","v":0},609705]
[{"$f":"klant!A232","v":0},780485]
[{"$f":"klant!A233","v":0},252173]
[{"$f":"klant!A234","v":0},303313]
[{"$f":"klant!A235","v":0},397015]
[{"$f":"klant!A236","v":0},424446]
[{"$f":"klant!A237","v":0},581123]
[{"$f":"klant!A238","v":0},621844]
[{"$f":"klant!A239","v":0},207165]
[{"$f":"klant!A240","v":0},189711]
[{"$f":"klant!A241","v":0},306940]
[{"$f":"klant!A242","v":0},960286]
[{"$f":"klant!A243","v":0},655422]
[{"$f":"klant!A244","v":0},124987]
[{"$f":"klant!A245","v":0},299365]
[{"$f":"klant!A246","v":0},995467]
[{"$f":"klant!A247","v":0},476522]
[{"$f":"klant!A248","v":0},418901]
[{"$f":"klant!A249","v":0},889611]
[{"$f":"klant!A250","v":0},707996]
[{"$f":"klant!A251","v":0},420855]
[{"$f":"klant!A252","v":0},415713]
[{"$f":"klant!A253","v":0},734070]
[{"$f":"klant!A254","v":0},407497]
[{"$f":"klant!A255","v":0},809964]
[{"$f":"klant!A256","v":0},911125]
[{"$f":"klant!A257","v":0},938841]
[{"$f":"klant!A258","v":0},724108]
[{"$f":"klant!A259","v":0},866529]
[{"$f":"klant!A260","v":0},633139]
[{"$f":"klant!A261","v":0},993001]
[{"$f":"klant!A262","v":0},957708]
[{"$f":"klant!A263","v":0},560563]
[{"$f":"klant!A264","v":0},406001]
[{"$f":"klant!A265","v":0},895217]
[{"$f":"klant!A266","v":0},869074]
[{"$f":"klant!A267","v":0},279905]
[{"$f":"klant!A268","v":0},695142]
[{"$f":"klant!A269","v":0},215829]
[{"$f":"klant!A270","v":0},371773]
[{"$f":"klant!A271","v":0},344596]
[{"$f":"klant!A272","v":0},562186]
[{"$f":"klant!A273","v":0},127905]
[{"$f":"klant!A274","v":0},307731]
[{"$f":"klant!A275","v":0},603014]
[{"$f":"klant!A276","v":0},711140]
[{"$f":"klant!A277","v":0},716090]
[{"$f":"klant!A278","v":0},557280]
[{"$f":"klant!A279","v":0},936232]
[{"$f":"klant!A280","v":0},357616]
[{"$f":"klant!A281","v":0},450771]
[{"$f":"klant!A282","v":0},525775]
[{"$f":"klant!A283","v":0},143094]
[{"$f":"klant!A284","v":0},315708]
[{"$f":"klant!A285","v":0},115719]
[{"$f":"klant!A286","v":0},754933]
[{"$f":"klant!A287","v":0},674142]
[{"$f":"klant!A288","v":0},900795]
[{"$f":"klant!A289","v":0},731583]
[{"$f":"klant!A290","v":0},258021]
[{"$f":"klant!A291","v":0},197071]
[{"$f":"klant!A292","v":0},712310]
[{"$f":"klant!A293","v":0},333735]
[{"$f":"klant!A294","v":0},914987]
[{"$f":"klant!A295","v":0},541363]
[{"$f":"klant!A296","v":0},944635]
[{"$f":"klant!A297","v":0},477151]
[{"$f":"klant!A298","v":0},775854]
[{"$f":"klant!A299","v":0},405649]
[{"$f":"klant!A300","v":0},441664]
[{"$f":"klant!A301","v":0},104189]
[{"$f":"klant!A302","v":0},416417]
[{"$f":"klant!A303","v":0},671876]
[{"$f":"klant!A304","v":0},706360]
[{"$f":"klant!A305","v":0},766947]
[{"$f":"klant!A306","v":0},508041]
[{"$f":"klant!A307","v":0},883419]
[{"$f":"klant!A308","v":0},809642]
[{"$f":"klant!A309","v":0},858693]
[{"$f":"klant!A310","v":0},957451]
[{"$f":"klant!A311","v":0},310036]
[{"$f":"klant!A312","v":0},220715]
[{"$f":"klant!A313","v":0},100678]
[{"$f":"klant!A314","v":0},333236]
[{"$f":"klant!A315","v":0},571888]
[{"$f":"klant!A316","v":0},415409]
[{"$f":"klant!A317","v":0},866927]
[{"$f":"klant!A318","v":0},127851]
[{"$f":"klant!A319","v":0},867055]
[{"$f":"klant!A320","v":0},223729]
[{"$f":"klant!A321","v":0},257057]
[{"$f":"klant!A322","v":0},918814]
[{"$f":"klant!A323","v":0},619083]
[{"$f":"klant!A324","v":0},852470]
[{"$f":"klant!A325","v":0},434880]
[{"$f":"klant!A326","v":0},121024]
[{"$f":"klant!A327","v":0},191770]
[{"$f":"klant!A328","v":0},576356]
[{"$f":"klant!A329","v":0},364963]
[{"$f":"klant!A330","v":0},123677]
[{"$f":"klant!A331","v":0},223487]
[{"$f":"klant!A332","v":0},371099]
[{"$f":"klant!A333","v":0},187534]
[{"$f":"klant!A334","v":0},126054]
[{"$f":"klant!A335","v":0},359315]
[{"$f":"klant!A336","v":0},979931]
[{"$f":"klant!A337","v":0},568895]
[{"$f":"klant!A338","v":0},154928]
[{"$f":"klant!A339","v":0},976434]
[{"$f":"klant!A340","v":0},104388]
[{"$f":"klant!A341","v":0},431600]
[{"$f":"klant!A342","v":0},554201]
[{"$f":"klant!A343","v":0},649188]
[{"$f":"klant!A344","v":0},541594]
[{"$f":"klant!A345","v":0},315130]
[{"$f":"klant!A346","v":0},916972]
[{"$f":"klant!A347","v":0},231252]
[{"$f":"klant!A348","v":0},481493]
[{"$f":"klant!A349","v":0},909745]
[{"$f":"klant!A350","v":0},360116]
[{"$f":"klant!A351","v":0},373834]
[{"$f":"klant!A352","v":0},356879]
[{"$f":"klant!A353","v":0},182343]
[{"$f":"klant!A354","v":0},191849]
[{"$f":"klant!A355","v":0},342518]
[{"$f":"klant!A356","v":0},530141]
[{"$f":"klant!A357","v":0},124302]
[{"$f":"klant!A358","v":0},186240]
[{"$f":"klant!A359","v":0},497019]
[{"$f":"klant!A360","v":0},883274]
[{"$f":"klant!A361","v":0},416739]
[{"$f":"klant!A362","v":0},629509]
[{"$f":"klant!A363","v":0},955908]
[{"$f":"klant!A364","v":0},881403]
[{"$f":"klant!A365","v":0},162489]
[{"$f":"klant!A366","v":0},107675]
[{"$f":"klant!A367","v":0},921736]
[{"$f":"klant!A368","v":0},188553]
[{"$f":"klant!A369","v":0},891798]
[{"$f":"klant!A370","v":0},691442]
[{"$f":"klant!A371","v":0},777531]
[{"$f":"klant!A372","v":0},674015]
[{"$f":"klant!A373","v":0},958090]
[{"$f":"klant!A374","v":0},290676]
[{"$f":"klant!A375","v":0},665717]
[{"$f":"klant!A376","v":0},881621]
[{"$f":"klant!A377","v":0},946374]
[{"$f":"klant!A378","v":0},677914]
[{"$f":"klant!A379","v":0},699965]
[{"$f":"klant!A380","v":0},890004]
[{"$f":"klant!A381","v":0},922257]
[{"$f":"klant!A382","v":0},971070]
[{"$f":"klant!A383","v":0},239563]
[{"$f":"klant!A384","v":0},876246]
[{"$f":"klant!A385","v":0},147456]
[{"$f":"klant!A386","v":0},624041]
[{"$f":"klant!A387","v":0},277630]
[{"$f":"klant!A388","v":0},472815]
[{"$f":"klant!A389","v":0},858543]
[{"$f":"klant!A390","v":0},589574]
[{"$f":"klant!A391","v":0},114556]
[{"$f":"klant!A392","v":0},506292]
[{"$f":"klant!A393","v":0},315888]
[{"$f":"klant!A394","v":0},704024]
[{"$f":"klant!A395","v":0},293165]
[{"$f":"klant!A396","v":0},221472]
[{"$f":"klant!A397","v":0},116867]
[{"$f":"klant!A398","v":0},855059]
[{"$f":"klant!A399","v":0},931244]
[{"$f":"klant!A400","v":0},376830]
[{"$f":"klant!A401","v":0},918559]
[{"$f":"klant!A402","v":0},474383]
[{"$f":"klant!A403","v":0},852373]
[{"$f":"klant!A404","v":0},893659]
[{"$f":"klant!A405","v":0},728389]
[{"$f":"klant!A406","v":0},899775]
[{"$f":"klant!A407","v":0},250063]
[{"$f":"klant!A408","v":0},140981]
[{"$f":"klant!A409","v":0},294163]
[{"$f":"klant!A410","v":0},420318]
[{"$f":"klant!A411","v":0},876309]
[{"$f":"klant!A412","v":0},263235]
[{"$f":"klant!A413","v":0},895652]
[{"$f":"klant!A414","v":0},537868]
[{"$f":"klant!A415","v":0},756154]
[{"$f":"klant!A416","v":0},298678]
[{"$f":"klant!A417","v":0},724367]
[{"$f":"klant!A418","v":0},960486]
[{"$f":"klant!A419","v":0},816682]
[{"$f":"klant!A420","v":0},306290]
[{"$f":"klant!A421","v":0},770571]
[{"$f":"klant!A422","v":0},615692]
[{"$f":"klant!A423","v":0},137043]
[{"$f":"klant!A424","v":0},811213]
[{"$f":"klant!A425","v":0},113965]
[{"$f":"klant!A426","v":0},216878]
[{"$f":"klant!A427","v":0},974323]
[{"$f":"klant!A428","v":0},564534]
[{"$f":"klant!A429","v":0},423819]
[{"$f":"klant!A430","v":0},307603]
[{"$f":"klant!A431","v":0},449460]
[{"$f":"klant!A432","v":0},858489]
[{"$f":"klant!A433","v":0},179154]
[{"$f":"klant!A434","v":0},718944]
[{"$f":"klant!A435","v":0},168470]
[{"$f":"klant!A436","v":0},669995]
[{"$f":"klant!A437","v":0},200500]
[{"$f":"klant!A438","v":0},523862]
[{"$f":"klant!A439","v":0},934707]
[{"$f":"klant!A440","v":0},598686]
[{"$f":"klant!A441","v":0},919859]
[{"$f":"klant!A442","v":0},809441]
[{"$f":"klant!A443","v":0},548521]
[{"$f":"klant!A444","v":0},283694]
[{"$f":"klant!A445","v":0},657464]
[{"$f":"klant!A446","v":0},104000]
[{"$f":"klant!A447","v":0},661568]
[{"$f":"klant!A448","v":0},446017]
[{"$f":"klant!A449","v":0},320305]
[{"$f":"klant!A450","v":0},212504]
[{"$f":"klant!A451","v":0},234876]
[{"$f":"klant!A452","v":0},499141]
[{"$f":"klant!A453","v":0},930684]
[{"$f":"klant!A454","v":0},957804]
[{"$f":"klant!A455","v":0},294739]
[{"$f":"klant!A456","v":0},533906]
[{"$f":"klant!A457","v":0},208165]
[{"$f":"klant!A458","v":0},930699]
[{"$f":"klant!A459","v":0},815017]
[{"$f":"klant!A460","v":0},260435]
[{"$f":"klant!A461","v":0},330520]
[{"$f":"klant!A462","v":0},483667]
[{"$f":"klant!A463","v":0},686687]
[{"$f":"klant!A464","v":0},588832]
[{"$f":"klant!A465","v":0},988551]
[{"$f":"klant!A466","v":0},622171]
[{"$f":"klant!A467","v":0},121642]
[{"$f":"klant!A468","v":0},450294]
[{"$f":"klant!A469","v":0},751614]
[{"$f":"klant!A470","v":0},894457]
[{"$f":"klant!A471","v":0},344724]
[{"$f":"klant!A472","v":0},794970]
[{"$f":"klant!A473","v":0},654449]
[{"$f":"klant!A474","v":0},326011]
[{"$f":"klant!A475","v":0},202447]
[{"$f":"klant!A476","v":0},156035]
[{"$f":"klant!A477","v":0},474358]
[{"$f":"klant!A478","v":0},539679]
[{"$f":"klant!A479","v":0},697066]
[{"$f":"klant!A480","v":0},394463]
[{"$f":"klant!A481","v":0},621075]
[{"$f":"klant!A482","v":0},419167]
[{"$f":"klant!A483","v":0},485772]
[{"$f":"klant!A484","v":0},389425]
[{"$f":"klant!A485","v":0},978963]
[{"$f":"klant!A486","v":0},839473]
[{"$f":"klant!A487","v":0},853246]
[{"$f":"klant!A488","v":0},626514]
[{"$f":"klant!A489","v":0},356494]
[{"$f":"klant!A490","v":0},925658]
[{"$f":"klant!A491","v":0},279427]
[{"$f":"klant!A492","v":0},494673]
[{"$f":"klant!A493","v":0},214973]
[{"$f":"klant!A494","v":0},261335]
[{"$f":"klant!A495","v":0},156264]
[{"$f":"klant!A496","v":0},466152]
[{"$f":"klant!A497","v":0},181364]
[{"$f":"klant!A498","v":0},338682]
[{"$f":"klant!A499","v":0},391642]
[{"$f":"klant!A500","v":0},398686]
[{"$f":"klant!A501","v":0},395615]
[{"$f":"klant!A502","v":0},842863]
[{"$f":"klant!A503","v":0},536795]
[{"$f":"klant!A504","v":0},612414]
[{"$f":"klant!A505","v":0},981678]
[{"$f":"klant!A506","v":0},883494]
[{"$f":"klant!A507","v":0},229275]
[{"$f":"klant!A508","v":0},968713]
[{"$f":"klant!A509","v":0},885333]
[{"$f":"klant!A510","v":0},341223]
[{"$f":"klant!A511","v":0},478313]
[{"$f":"klant!A512","v":0},362825]
[{"$f":"klant!A513","v":0},296364]
[{"$f":"klant!A514","v":0},973281]
[{"$f":"klant!A515","v":0},897848]
[{"$f":"klant!A516","v":0},785951]
[{"$f":"klant!A517","v":0},175889]
[{"$f":"klant!A518","v":0},166867]
[{"$f":"klant!A519","v":0},491388]
[{"$f":"klant!A520","v":0},226471]
[{"$f":"klant!A521","v":0},486321]
[{"$f":"klant!A522","v":0},157725]
[{"$f":"klant!A523","v":0},588845]
[{"$f":"klant!A524","v":0},287143]
[{"$f":"klant!A525","v":0},226247]
[{"$f":"klant!A526","v":0},113695]
[{"$f":"klant!A527","v":0},151138]
[{"$f":"klant!A528","v":0},674166]
[{"$f":"klant!A529","v":0},496696]
[{"$f":"klant!A530","v":0},633155]
[{"$f":"klant!A531","v":0},929393]
[{"$f":"klant!A532","v":0},148527]
[{"$f":"klant!A533","v":0},814112]
[{"$f":"klant!A534","v":0},791723]
[{"$f":"klant!A535","v":0},718172]
[{"$f":"klant!A536","v":0},416172]
[{"$f":"klant!A537","v":0},211379]
[{"$f":"klant!A538","v":0},999351]
[{"$f":"klant!A539","v":0},258498]
[{"$f":"klant!A540","v":0},561137]
[{"$f":"klant!A541","v":0},124115]
[{"$f":"klant!A542","v":0},586153]
[{"$f":"klant!A543","v":0},513354]
[{"$f":"klant!A544","v":0},817316]
[{"$f":"klant!A545","v":0},886248]
[{"$f":"klant!A546","v":0},622712]
[{"$f":"klant!A547","v":0},965759]
[{"$f":"klant!A548","v":0},489593]
[{"$f":"klant!A549","v":0},897311]
[{"$f":"klant!A550","v":0},434372]
[{"$f":"klant!A551","v":0},381238]
[{"$f":"klant!A552","v":0},866613]
[{"$f":"klant!A553","v":0},856449]
[{"$f":"klant!A554","v":0},514423]
[{"$f":"klant!A555","v":0},875315]
[{"$f":"klant!A556","v":0},256494]
[{"$f":"klant!A557","v":0},452518]
[{"$f":"klant!A558","v":0},925938]
[{"$f":"klant!A559","v":0},244271]
[{"$f":"klant!A560","v":0},364347]
[{"$f":"klant!A561","v":0},536387]
[{"$f":"klant!A562","v":0},497384]
[{"$f":"klant!A563","v":0},592663]
[{"$f":"klant!A564","v":0},866412]
[{"$f":"klant!A565","v":0},629889]
[{"$f":"klant!A566","v":0},469995]
[{"$f":"klant!A567","v":0},531784]
[{"$f":"klant!A568","v":0},161317]
[{"$f":"klant!A569","v":0},712917]
[{"$f":"klant!A570","v":0},144845]
[{"$f":"klant!A571","v":0},549375]
[{"$f":"klant!A572","v":0},989572]
[{"$f":"klant!A573","v":0},349794]
[{"$f":"klant!A574","v":0},253642]
[{"$f":"klant!A575","v":0},827929]
[{"$f":"klant!A576","v":0},175364]
[{"$f":"klant!A577","v":0},375128]
[{"$f":"klant!A578","v":0},819258]
[{"$f":"klant!A579","v":0},493989]
[{"$f":"klant!A580","v":0},861792]
[{"$f":"klant!A581","v":0},831868]
[{"$f":"klant!A582","v":0},916187]
[{"$f":"klant!A583","v":0},168375]
[{"$f":"klant!A584","v":0},632463]
[{"$f":"klant!A585","v":0},772599]
[{"$f":"klant!A586","v":0},129744]
[{"$f":"klant!A587","v":0},793125]
[{"$f":"klant!A588","v":0},569638]
[{"$f":"klant!A589","v":0},896923]
[{"$f":"klant!A590","v":0},297275]
[{"$f":"klant!A591","v":0},151616]
[{"$f":"klant!A592","v":0},731648]
[{"$f":"klant!A593","v":0},688981]
[{"$f":"klant!A594","v":0},499562]
[{"$f":"klant!A595","v":0},446331]
[{"$f":"klant!A596","v":0},488541]
[{"$f":"klant!A597","v":0},821868]
[{"$f":"klant!A598","v":0},561587]
[{"$f":"klant!A599","v":0},937363]
[{"$f":"klant!A600","v":0},694391]
[{"$f":"klant!A601","v":0},285133]
[{"$f":"klant!A602","v":0},385327]
[{"$f":"klant!A603","v":0},292548]
[{"$f":"klant!A604","v":0},291766]
[{"$f":"klant!A605","v":0},597547]
[{"$f":"klant!A606","v":0},546911]
[{"$f":"klant!A607","v":0},873461]
[{"$f":"klant!A608","v":0},283137]
[{"$f":"klant!A609","v":0},366898]
[{"$f":"klant!A610","v":0},816967]
[{"$f":"klant!A611","v":0},463693]
[{"$f":"klant!A612","v":0},999711]
[{"$f":"klant!A613","v":0},286762]
[{"$f":"klant!A614","v":0},916439]
[{"$f":"klant!A615","v":0},446738]
[{"$f":"klant!A616","v":0},791297]
[{"$f":"klant!A617","v":0},827971]
[{"$f":"klant!A618","v":0},861948]
[{"$f":"klant!A619","v":0},112475]
[{"$f":"klant!A620","v":0},933863]
[{"$f":"klant!A621","v":0},683995]
[{"$f":"klant!A622","v":0},562298]
[{"$f":"klant!A623","v":0},911593]
[{"$f":"klant!A624","v":0},158987]
[{"$f":"klant!A625","v":0},722995]
[{"$f":"klant!A626","v":0},772473]
[{"$f":"klant!A627","v":0},613221]
[{"$f":"klant!A628","v":0},516229]
[{"$f":"klant!A629","v":0},929932]
[{"$f":"klant!A630","v":0},167654]
[{"$f":"klant!A631","v":0},634797]
[{"$f":"klant!A632","v":0},568623]
[{"$f":"klant!A633","v":0},944718]
[{"$f":"klant!A634","v":0},327937]
[{"$f":"klant!A635","v":0},764988]
[{"$f":"klant!A636","v":0},972813]
[{"$f":"klant!A637","v":0},243261]
[{"$f":"klant!A638","v":0},492867]
[{"$f":"klant!A639","v":0},578989]
[{"$f":"klant!A640","v":0},749346]
[{"$f":"klant!A641","v":0},959345]
[{"$f":"klant!A642","v":0},213392]
[{"$f":"klant!A643","v":0},398369]
[{"$f":"klant!A644","v":0},833547]
[{"$f":"klant!A645","v":0},944971]
[{"$f":"klant!A646","v":0},482237]
[{"$f":"klant!A647","v":0},271617]
[{"$f":"klant!A648","v":0},246722]
[{"$f":"klant!A649","v":0},761363]
[{"$f":"klant!A650","v":0},169454]
[{"$f":"klant!A651","v":0},746913]
[{"$f":"klant!A652","v":0},256617]
[{"$f":"klant!A653","v":0},659269]
[{"$f":"klant!A654","v":0},473797]
[{"$f":"klant!A655","v":0},515836]
[{"$f":"klant!A656","v":0},863267]
[{"$f":"klant!A657","v":0},972626]
[{"$f":"klant!A658","v":0},959913]
[{"$f":"klant!A659","v":0},482189]
[{"$f":"klant!A660","v":0},515322]
[{"$f":"klant!A661","v":0},587368]
[{"$f":"klant!A662","v":0},358745]
[{"$f":"klant!A663","v":0},948455]
[{"$f":"klant!A664","v":0},636822]
[{"$f":"klant!A665","v":0},198575]
[{"$f":"klant!A666","v":0},789318]
[{"$f":"klant!A667","v":0},324971]
[{"$f":"klant!A668","v":0},447252]
[{"$f":"klant!A669","v":0},478881]
[{"$f":"klant!A670","v":0},165315]
[{"$f":"klant!A671","v":0},279537]
[{"$f":"klant!A672","v":0},968887]
[{"$f":"klant!A673","v":0},823617]
[{"$f":"klant!A674","v":0},193471]
[{"$f":"klant!A675","v":0},946883]
[{"$f":"klant!A676","v":0},628911]
[{"$f":"klant!A677","v":0},897885]
[{"$f":"klant!A678","v":0},937567]
[{"$f":"klant!A679","v":0},351629]
[{"$f":"klant!A680","v":0},226952]
[{"$f":"klant!A681","v":0},579965]
[{"$f":"klant!A682","v":0},662652]
[{"$f":"klant!A683","v":0},765738]
[{"$f":"klant!A684","v":0},427159]
[{"$f":"klant!A685","v":0},355149]
[{"$f":"klant!A686","v":0},465834]
[{"$f":"klant!A687","v":0},981627]
[{"$f":"klant!A688","v":0},257542]
[{"$f":"klant!A689","v":0},833466]
[{"$f":"klant!A690","v":0},446614]
[{"$f":"klant!A691","v":0},139625]
[{"$f":"klant!A692","v":0},626427]
[{"$f":"klant!A693","v":0},226593]
[{"$f":"klant!A694","v":0},241486]
[{"$f":"klant!A695","v":0},949775]
[{"$f":"klant!A696","v":0},923834]
[{"$f":"klant!A697","v":0},616827]
[{"$f":"klant!A698","v":0},281178]
[{"$f":"klant!A699","v":0},413979]
[{"$f":"klant!A700","v":0},852845]
[{"$f":"klant!A701","v":0},585773]
[{"$f":"klant!A702","v":0},214455]
[{"$f":"klant!A703","v":0},767174]
[{"$f":"klant!A704","v":0},375161]
[{"$f":"klant!A705","v":0},495698]
[{"$f":"klant!A706","v":0},757183]
[{"$f":"klant!A707","v":0},352187]
[{"$f":"klant!A708","v":0},336463]
[{"$f":"klant!A709","v":0},377872]
[{"$f":"klant!A710","v":0},184444]
[{"$f":"klant!A711","v":0},877899]
[{"$f":"klant!A712","v":0},639286]
[{"$f":"klant!A713","v":0},532832]
[{"$f":"klant!A714","v":0},398651]
[{"$f":"klant!A715","v":0},974292]
[{"$f":"klant!A716","v":0},719647]
[{"$f":"klant!A717","v":0},842716]
[{"$f":"klant!A718","v":0},491562]
[{"$f":"klant!A719","v":0},486915]
[{"$f":"klant!A720","v":0},963356]
[{"$f":"klant!A721","v":0},841484]
[{"$f":"klant!A722","v":0},591817]
[{"$f":"klant!A723","v":0},853476]
[{"$f":"klant!A724","v":0},673596]
[{"$f":"klant!A725","v":0},248924]
[{"$f":"klant!A726","v":0},972986]
[{"$f":"klant!A727","v":0},168447]
[{"$f":"klant!A728","v":0},759433]
[{"$f":"klant!A729","v":0},989586]
[{"$f":"klant!A730","v":0},367811]
[{"$f":"klant!A731","v":0},541967]
[{"$f":"klant!A732","v":0},187965]
[{"$f":"klant!A733","v":0},211878]
[{"$f":"klant!A734","v":0},922776]
[{"$f":"klant!A735","v":0},777594]
[{"$f":"klant!A736","v":0},928554]
[{"$f":"klant!A737","v":0},189397]
[{"$f":"klant!A738","v":0},662723]
[{"$f":"klant!A739","v":0},122915]
[{"$f":"klant!A740","v":0},423894]
[{"$f":"klant!A741","v":0},838187]
[{"$f":"klant!A742","v":0},876725]
[{"$f":"klant!A743","v":0},763679]
[{"$f":"klant!A744","v":0},862381]
[{"$f":"klant!A745","v":0},526246]
[{"$f":"klant!A746","v":0},161861]
[{"$f":"klant!A747","v":0},596629]
[{"$f":"klant!A748","v":0},263283]
[{"$f":"klant!A749","v":0},222691]
[{"$f":"klant!A750","v":0},123135]
[{"$f":"klant!A751","v":0},432149]
[{"$f":"klant!A752","v":0},986979]
[{"$f":"klant!A753","v":0},384484]
[{"$f":"klant!A754","v":0},734352]
[{"$f":"klant!A755","v":0},362977]
[{"$f":"klant!A756","v":0},218373]
[{"$f":"klant!A757","v":0},185381]
[{"$f":"klant!A758","v":0},946524]
[{"$f":"klant!A759","v":0},534785]
[{"$f":"klant!A760","v":0},324333]
[{"$f":"klant!A761","v":0},538413]
[{"$f":"klant!A762","v":0},135813]
[{"$f":"klant!A763","v":0},524591]
[{"$f":"klant!A764","v":0},555599]
[{"$f":"klant!A765","v":0},523915]
[{"$f":"klant!A766","v":0},147962]
[{"$f":"klant!A767","v":0},381364]
[{"$f":"klant!A768","v":0},198331]
[{"$f":"klant!A769","v":0},991719]
[{"$f":"klant!A770","v":0},987599]
[{"$f":"klant!A771","v":0},928763]
[{"$f":"klant!A772","v":0},433971]
[{"$f":"klant!A773","v":0},477996]
[{"$f":"klant!A774","v":0},745723]
[{"$f":"klant!A775","v":0},756739]
[{"$f":"klant!A776","v":0},927194]
[{"$f":"klant!A777","v":0},948674]
[{"$f":"klant!A778","v":0},776777]
[{"$f":"klant!A779","v":0},943162]
[{"$f":"klant!A780","v":0},141392]
[{"$f":"klant!A781","v":0},683182]
[{"$f":"klant!A782","v":0},712483]
[{"$f":"klant!A783","v":0},434477]
[{"$f":"klant!A784","v":0},331931]
[{"$f":"klant!A785","v":0},696864]
[{"$f":"klant!A786","v":0},244143]
[{"$f":"klant!A787","v":0},268932]
[{"$f":"klant!A788","v":0},615286]
[{"$f":"klant!A789","v":0},771597]
[{"$f":"klant!A790","v":0},335715]
[{"$f":"klant!A791","v":0},439695]
[{"$f":"klant!A792","v":0},492545]
[{"$f":"klant!A793","v":0},569146]
[{"$f":"klant!A794","v":0},749556]
[{"$f":"klant!A795","v":0},435776]
[{"$f":"klant!A796","v":0},119988]
[{"$f":"klant!A797","v":0},994637]
[{"$f":"klant!A798","v":0},166244]
[{"$f":"klant!A799","v":0},954191]
[{"$f":"klant!A800","v":0},742228]
[{"$f":"klant!A801","v":0},889782]
[{"$f":"klant!A802","v":0},848933]
[{"$f":"klant!A803","v":0},381367]
[{"$f":"klant!A804","v":0},775854]
[{"$f":"klant!A805","v":0},445161]
[{"$f":"klant!A806","v":0},463318]
[{"$f":"klant!A807","v":0},783994]
[{"$f":"klant!A808","v":0},962867]
[{"$f":"klant!A809","v":0},981147]
[{"$f":"klant!A810","v":0},612361]
[{"$f":"klant!A811","v":0},834788]
[{"$f":"klant!A812","v":0},776245]
[{"$f":"klant!A813","v":0},449596]
[{"$f":"klant!A814","v":0},653973]
[{"$f":"klant!A815","v":0},537373]
[{"$f":"klant!A816","v":0},358219]
[{"$f":"klant!A817","v":0},335363]
[{"$f":"klant!A818","v":0},275242]
[{"$f":"klant!A819","v":0},946497]
[{"$f":"klant!A820","v":0},353975]
[{"$f":"klant!A821","v":0},291941]
[{"$f":"klant!A822","v":0},872542]
[{"$f":"klant!A823","v":0},866862]
[{"$f":"klant!A824","v":0},444282]
[{"$f":"klant!A825","v":0},946931]
[{"$f":"klant!A826","v":0},365371]
[{"$f":"klant!A827","v":0},948593]
[{"$f":"klant!A828","v":0},548545]
[{"$f":"klant!A829","v":0},679693]
[{"$f":"klant!A830","v":0},629691]
[{"$f":"klant!A831","v":0},797933]
[{"$f":"klant!A832","v":0},741284]
[{"$f":"klant!A833","v":0},717537]
[{"$f":"klant!A834","v":0},691276]
[{"$f":"klant!A835","v":0},625213]
[{"$f":"klant!A836","v":0},858973]
[{"$f":"klant!A837","v":0},656773]
[{"$f":"klant!A838","v":0},517251]
[{"$f":"klant!A839","v":0},257226]
[{"$f":"klant!A840","v":0},642523]
[{"$f":"klant!A841","v":0},817232]
[{"$f":"klant!A842","v":0},469352]
[{"$f":"klant!A843","v":0},483994]
[{"$f":"klant!A844","v":0},811179]
[{"$f":"klant!A845","v":0},298853]
[{"$f":"klant!A846","v":0},241627]
[{"$f":"klant!A847","v":0},782684]
[{"$f":"klant!A848","v":0},314524]
[{"$f":"klant!A849","v":0},551585]
[{"$f":"klant!A850","v":0},369167]
[{"$f":"klant!A851","v":0},739654]
[{"$f":"klant!A852","v":0},663948]
[{"$f":"klant!A853","v":0},266315]
[{"$f":"klant!A854","v":0},961989]
[{"$f":"klant!A855","v":0},385119]
[{"$f":"klant!A856","v":0},138649]

{"sheet":"Type Data","index":3,"n_rows":3002,"n_cols":16,"rows_kept":3002,"cut":false,"hidden":false,"merged":[]}
["Briefwisseling","B","Aankoopfactuur voertuig","AFV",6695927726,"Verzekeringen",null,null,"POLISGROEP VERZEKERINGEN",null,"Afi-Esca",202,null,null,".pdf","JA"]
["Kredieten","K","Aanrijdingsformulier","AF",4743744864,"Schade",null,null,"---- AANSPRAKELIJKHEID ----",null,"AG Insurance",65,null,null,".jpeg"]
["Schade","S","Aanslagbiljet personenbelasting","ABP",8943666558,"Kredieten",null,null,"ABR",null,"Allianz",32,null,null,".doc"]
["Verzekeringen","V","Aanvraag inschrijving voertuig","AIV",4935686276,"Verzekeringen",null,null,"ALLE RISICO",null,"Alpha Insurance SA",57]
[null,null,"Aanvraag opening giro rekening","AOG",4262386659,"Kredieten",null,null,"BA GEZIN",null,"AMMA",207]
[null,null,"Aanvraag tot uibetaling van een schijf","ATUS",5982429799,"Kredieten",null,null,"BA MEDISCH-PARAMEDISCH",null,"AXA Bank",16]
[null,null,"Acceptatieformulier klant VDK","AKV",4269525923,"Kredieten",null,null,"BA ONDERNEMING",null,"AXA Verzekeringen",19]
[null,null,"Actuele openstaande schuld","AOS",5365855922,"Kredieten",null,null,"BA ONDERWIJZER",null,"Baloise Insurance",71]
[null,null,"Aflossingstabel","AFL",5882298742,"Kredieten",null,null,"BA WONING",null,"Bâloise Vie Luxembourg",204]
[null,null,"Afrekening krediet bank","AKB",9248746653,"Kredieten",null,null,"OBJECTIEVE BA BRAND-ONTPLOFFING",null,"Cardif",20]
[null,null,"Akkoord brief polis","ABP",7486939867,"Verzekeringen",null,null,null,null,"Creafin",201]
[null,null,"Akte Overdracht Loon","AOL",5539897727,"Kredieten",null,null,"---- BIJSTAND ----",null,"Credimo",78]
[null,null,"Algemeen begeleidend schrijven","ABS",4263772867,"Kredieten",null,null,"RECHTSBIJSTAND",null,"Crédit foncier",1]
[null,null,"Algemene Voorwaarden","AV",4237698948,"Kredieten",null,null,"REISBIJSTAND",null,"DAS",124]
[null,null,"Arbeidscontract","AC",7889983453,"Kredieten",null,null,null,null,"Delta Lloyd Life",23]
[null,null,"Attest bank vervroegde terugbetaling","ABBT",8862458976,"Kredieten",null,null,"---- HOSPITALISATIE ----",null,"DKV",62]
[null,null,"Attest Nationale kredietmaatschappij","NBB",5959954722,"Kredieten",null,null,"INDIVIDUEEL",null,"Elantis",11]
[null,null,"Attest Schadeverleden","ASV",2679875938,"Kredieten",null,null,"GROEP",null,"Ergo Life",75]
[null,null,"Attest schrapping krediet","ASK",5423955985,"Kredieten",null,null,null,null,"Ethias",58]
[null,null,"Begeleidend schrijven polis","BSP",9559978588,"Verzekeringen",null,null,"---- LICHAMELIJKE SCHADE ----",null,"Europ Assistance",203]
[null,null,"Bericht schrapping voertuig","BSV",2346849596,"Verzekeringen",null,null,"ARBEIDSONGEVALLEN",null,"Fidea",76]
[null,null,"Bericht wijziging tussenpersoon","mandaat",9222743649,"Verzekeringen",null,null,"COLLECTIEVE ONGEVALLEN",null,"Fortis/Demetris",10]
[null,null,"Betaalde Alimentatievergoedingen","BAV",6254254367,"Kredieten",null,null,"GEWAARBORGD INKOMEN",null,"Generali Belgium",66]
[null,null,"Betaling Dossierkost","BD",7453347446,"Kredieten",null,null,"HUISPERSONEEL",null,"Jean Verheyen Member AXA",211]
[null,null,"Betalingsattest hypothecaire lening","BHL",2355794943,"Kredieten",null,null,"PRIVE ONGEVALLEN",null,"Krefima",31]
[null,null,"Bevestiging Afspraak","AB",8243363372,"Kredieten",null,null,null,null,"Nell",125]
[null,null,"Bewijs Eigen Middelen","BEM",9487285932,"Kredieten",null,null,"---- ONGEVALLEN AUTO ----",null,"optimco",150]
[null,null,"Bewijs vervroegde terugbetaling krediet","BVTK",6422859627,"Kredieten",null,null,"OMNIUM",null,"Pel",196]
[null,null,"Bijkomende informatie Krediet","BIK",6935922555,"Kredieten",null,null,"TWEEWIELER",null,"Recordbank",34]
[null,null,"Bijvoegsel van aanhechting (leven)","BVA",5475299742,"Kredieten",null,null,"VOERTUIG",null,"Triodos",123]
[null,null,"Bijzondere Voorwaarden (Kredieten)","BV",4846759484,"Kredieten",null,null,null,null,"V.D.K. Spaarbank",33]
[null,null,"Bijzondere Voorwaarden (Verzekeringen)","BV",8565982926,"Verzekeringen",null,null,"---- ONGEVALLEN VRIJE TIJD ----",null,"Vivium",73]
[null,null,"Briefwisseling Cliënt - maatschappij","BWCM",8859227365,"Briefwisseling",null,null,"CARAVINNING",null,"Za Insurance",72]
[null,null,"Briefwisseling Kantoor - Cliënt","BWKC",5546378967,"Briefwisseling",null,null,"PLEZIERVAARTUIGEN",null,"Aedes (AXA)",2]
[null,null,"Briefwisseling Kantoor - maatschappij","BWKM",4586224354,"Briefwisseling",null,null,null,null,"Belfius Bank",13]
[null,null,"Briefwisseling maatschappij - cliënt","BWMC",6253789649,"Briefwisseling",null,null,"---- RISICO ----"]
[null,null,"Briefwisseling maatschappij - Kantoor","BWMK",4577238999,"Briefwisseling",null,null,"SCHULDSALDO"]
[null,null,"Briefwisseling maatschappij - Kredietinstelling","BWMH",3335998423,"Briefwisseling"]
[null,null,"Briefwisseling tegenpartij ==> Cliënt","BWTK",7582493488,"Briefwisseling",null,null,"---- TAK 21 / 23 / 26 ----"]
[null,null,"BTW-formulier (Kredieten)","BTW",3972793623,"Kredieten",null,null,"LEVENSVERZEKERING"]
[null,null,"BTW-formulier (Schade)","BTW",4665325438,"Schade",null,null,"LIJFRENTEN"]
[null,null,"BTW-formulier (Verzekeringen)","BTW",4567667356,"Verzekeringen",null,null,"PENSIOENVERZEKERING"]
[null,null,"Constante Premie / commissie borderel","CB",5598937878,"Verzekeringen",null,null,"SPAARVERZEKERING"]
[null,null,"Echtscheidingsovereenkomst","EOT",6754776458,"Kredieten"]
[null,null,"Eerverklarinf 'staat voertuig'","ESV",6523464274,"Verzekeringen"]
[null,null,"Europees gestandariseert informatieblad","EGI",3866499346,"Kredieten"]
[null,null,"Exploitatierekening zelfstandige","ERZ",6576879827,"Kredieten"]
[null,null,"Familis dossier (Ag insurance)","BVF",5836673722,"Verzekeringen"]
[null,null,"Financiële positionering","FP",8657442572,"Kredieten"]
[null,null,"Fiscaal Basisattest","FB",2323677839,"Kredieten"]
[null,null,"Fiscaal basisattest leven","FBL",8769266456,"Kredieten"]
[null,null,"Fiscale simulatie ","FSI",5962592349,"Kredieten"]
[null,null,"Foto's van de woning (Kredieten)","FW",7427497492,"Kredieten"]
[null,null,"Foto's van de woning (Schade)","FW",4588946395,"Schade"]
[null,null,"Foto's van de woning (Verzekeringen)","FW",8946423893,"Verzekeringen"]
[null,null,"Gelijkvormigheidsattest (voertuig)","GVA-V",5733266774,"Verzekeringen"]
[null,null,"Getuigschrift arbeidsongeschiktheid (Kredieten)","GAO",6879396846,"Kredieten"]
[null,null,"Getuigschrift arbeidsongeschiktheid (verzekeringen)","GAO",2229737788,"Verzekeringen"]
[null,null,"Gezinsplan (Baloise)","BVG",3497885736,"Verzekeringen"]
[null,null,"Gezinssamenstelling","GS",7729848953,"Kredieten"]
[null,null,"Groene kaart","GK",5684784547,"Verzekeringen"]
[null,null,"Huur uitgaven","HU",2823376883,"Kredieten"]
[null,null,"Huurcontract Voor Woonhuis","HC",4356274549,"Kredieten"]
[null,null,"Huurinkomsten","HI",5856587889,"Kredieten"]
[null,null,"Hypothecair bijvoegsel brand","HBB",6932546266,"Kredieten"]
[null,null,"Hypothecair bijvoegsel brand - aanvraag","HBBA",9525762655,"Kredieten"]
[null,null,"Identificatieformulier","IDF",3823354582,"Kredieten"]
[null,null,"Identiteitsgegevens (Kredieten)","ID",3753899865,"Kredieten"]
[null,null,"Identiteitsgegevens (Schade)","ID",7829959878,"Schade"]
[null,null,"Identiteitsgegevens (Verzekeringen)","ID",5468582357,"Verzekeringen"]
[null,null,"Informatiefiche (niet)leven ","InfL",4469685438,"Verzekeringen"]
[null,null,"Inkomstengetuigschrift","IG",7392524334,"Kredieten"]
[null,null,"Inning maatschappij / Afrekening vergoeding","AV",4845844823,"Verzekeringen"]
[null,null,"Inschrijvingsbewijs DIV","DIV",8557433777,"Verzekeringen"]
[null,null,"Instructiebrief kredietaanbod","IBK",2868244795,"Kredieten"]
[null,null,"Juridisch advies","JUR",4985632329,"Kredieten"]
[null,null,"Kentekenbewijs voertuig","KBV",8862628697,"Verzekeringen"]
[null,null,"Kinderbijslag","KB",5958668332,"Kredieten"]
[null,null,"Klantenfiche","KL",8297588983,"Kredieten"]
[null,null,"kostenraming Architect Verbouwing","RAV",5495859867,"Kredieten"]
[null,null,"kostenraming Klant Verbouwing","RKV",8393586493,"Kredieten"]
[null,null,"Kredietaanvraag","AHC",9433642368,"Kredieten"]
[null,null,"Kwitantie / vervaldagbericht","KWIT",2524898758,"Verzekeringen"]
[null,null,"Loonfiche","LF",8625283863,"Kredieten"]
[null,null,"Maaltijdcheque","MC",7378337263,"Kredieten"]
[null,null,"Mailing aangifte schade <== Cliënt","MASKM",2782922666,"Briefwisseling"]
[null,null,"Mailing aangifte schade ==> maatschappij","MASKM",8367764689,"Briefwisseling"]
[null,null,"Mailing Cliënt - Kantoor","MCK",9822228794,"Briefwisseling"]
[null,null,"Mailing Kantoor - Client","MKC",6422242649,"Briefwisseling"]
[null,null,"Mailing kantoor - maatschappij","MKM",2889239353,"Briefwisseling"]
[null,null,"Mailing maatschappij - kantoor","MMK",9242679486,"Briefwisseling"]
[null,null,"Mandaat SEPA Europese Domiciliëring (kredieten)","MSED",2653846539,"Kredieten"]
[null,null,"Mandaat SEPA Europese Domiciliëring (verzekeringen)","MSED",2328425482,"Verzekeringen"]
[null,null,"Medische vragenlijst","MV",5596725289,"Verzekeringen"]
[null,null,"Notariële aankoopakte","AK",4773444523,"Kredieten"]
[null,null,"Notariële aankoopakte (ontwerp)","AK-O",8795368837,"Kredieten"]
[null,null,"Notariële afrekening krediet","NAK",5864835626,"Kredieten"]
[null,null,"Notariële huwelijkscontract","NHC",3475292898,"Kredieten"]
[null,null,"Notariële kredietakte","KA",5834569333,"Kredieten"]
[null,null,"Notariële kredietakte (ontwerp)","NKA-O",8862494582,"Kredieten"]
[null,null,"Notariële mandaatakte","NMA",6596523829,"Kredieten"]
[null,null,"Notariële overdracht Krediet","NOK",2488462943,"Kredieten"]
[null,null,"Notariële verkoopakte","VK",6578568447,"Kredieten"]
[null,null,"Notities","Notities",6942536378,"Kredieten"]
[null,null,"Offerte (schade)","OFF",8855799735,"Schade"]
[null,null,"Offerte verbouwing woning","OFF",9682823532,"Kredieten"]
[null,null,"Offerte woningverzekering (kredietaanvraag)","OFF",6389273787,"Verzekeringen"]
[null,null,"ontvangen alimentatievergoedingen","OAV",8483975929,"Kredieten"]
[null,null,"Opzeggen van een verzekering contract","Opzeg",2743534633,"Verzekeringen"]
[null,null,"Overzicht van ingave contract (AXA)","OIC",8652837659,"Verzekeringen"]
[null,null,"Overzicht voorschotten","OV",9565824328,"Kredieten"]
[null,null,"Rijbewijs","RB",9545275243,"Verzekeringen"]
[null,null,"Samenvattting Dossier","SD",6367392534,"Kredieten"]
[null,null,"Schade foto's","PIC",6653845638,"Verzekeringen"]
[null,null,"Schadeaangifte formulier auto","SAFA",6926489375,"Verzekeringen"]
[null,null,"Schattingsverslag","SV",4927955644,"Kredieten"]
[null,null,"Simulatie verzekering","SIM",5793283995,"Kredieten"]
[null,null,"Stappenplan Brand verzekeringen","SB",6537592434,"Kredieten"]
[null,null,"Stedenbouwkundige vergunning","SBV",5925659692,"Kredieten"]
[null,null,"Tariefblad","TF",3235498855,"Kredieten"]
[null,null,"Tarificatie","TARIF",5534748898,"Kredieten"]
[null,null,"Tewerkstellingsattest","TWA",6747435888,"Kredieten"]
[null,null,"Trouwboek","TB",4363846486,"Kredieten"]
[null,null,"Uitkeringen Arbeidsonderbreking","UAO",7958273782,"Kredieten"]
[null,null,"Uitkeringen invaliditeit","RUI",4647359847,"Kredieten"]
[null,null,"Uitkeringen Werkloosheidsvergoeding","RUW",7326896267,"Kredieten"]
[null,null,"Uitkeringen Ziekte","RUZ",5297485733,"Kredieten"]
[null,null,"Uitlezing identiteitskaart","EID",6357747895,"Kredieten"]
[null,null,"Uitlezing identiteitskaart","EID",2838632374,"Verzekeringen"]
[null,null,"Uittreksel bevolkingsregister","UB",3923549899,"Kredieten"]
[null,null,"Vergoedingskwitantie","VKWIT",6949368578,"Verzekeringen"]
[null,null,"Verklaring rijervaring","VR",3663962489,"Verzekeringen"]
[null,null,"Verklaring wettelijk samenwonendheid","VWS",2852445645,"Kredieten"]
[null,null,"Verkoopsovereenkomst aankoop eigen woning","VOA",4296524789,"Kredieten"]
[null,null,"Verkoopsovereenkomst verkoop eigen woning ","VOV",9363292962,"Kredieten"]
[null,null,"Volmacht aan derde GIRO","VADG",6752446857,"Kredieten"]
[null,null,"Voorblad record","VB",2947822546,"Kredieten"]
[null,null,"Voorstel","Voorstel",3699547686,"Verzekeringen"]
[null,null,"Wijziging / bijvoegsel polis","WP-BV",4443346266,"Verzekeringen"]
[null,null,"Wijziging van adres","WVA",3646367425,"Kredieten"]
[null,null,"Wijziging van adres","WVA",8259298236,"Verzekeringen"]
[null,null,"Wilsuitrdukking_orgaandonor","WILORG",2727868665,"Verzekeringen"]
[null,null,null,null,2276454275]
[null,null,null,null,4357945972]
[null,null,null,null,4654349782]
[null,null,null,null,3499484849]
[null,null,null,null,8733656798]
[null,null,null,null,6893247965]
[null,null,null,null,4899742433]
[null,null,null,null,9998857982]
[null,null,null,null,3486386835]
[null,null,null,null,7483278568]
[null,null,null,null,8623653853]
[null,null,null,null,9422558592]
[null,null,null,null,7249357446]
[null,null,null,null,9227535868]
[null,null,null,null,9993588982]
[null,null,null,null,9556679559]
[null,null,null,null,6935439328]
[null,null,null,null,4743847236]
[null,null,null,null,9964896567]
[null,null,null,null,7248889854]
[null,null,null,null,2896564644]
[null,null,null,null,6953677972]
[null,null,null,null,6647835834]
[null,null,null,null,3395964592]
[null,null,null,null,6785729838]
[null,null,null,null,7233846396]
[null,null,null,null,8554396645]
[null,null,null,null,4747979322]
[null,null,null,null,3774723872]
[null,null,null,null,3388242636]
[null,null,null,null,3279635964]
[null,null,null,null,7454859373]
[null,null,null,null,9698559455]
[null,null,null,null,6945388748]
[null,null,null,null,8775863472]
[null,null,null,null,3376435926]
[null,null,null,null,3584736428]
[null,null,null,null,3337945676]
[null,null,null,null,8268944866]
[null,null,null,null,6285825596]
[null,null,null,null,7744265927]
[null,null,null,null,7376925527]
[null,null,null,null,4275495635]
[null,null,null,null,7454563297]
[null,null,null,null,2398432253]
[null,null,null,null,6356925845]
[null,null,null,null,3988755978]
[null,null,null,null,8662927389]
[null,null,null,null,7783272665]
[null,null,null,null,8695484547]
[null,null,null,null,8227664983]
[null,null,null,null,5979835483]
[null,null,null,null,4898739763]
[null,null,null,null,6353794952]
[null,null,null,null,5675232277]
[null,null,null,null,7739443635]
[null,null,null,null,9724572236]
[null,null,null,null,7634278752]
[null,null,null,null,8686852265]
[null,null,null,null,6952896758]
[null,null,null,null,8559938746]
[null,null,null,null,6265958449]
[null,null,null,null,9737595526]
[null,null,null,null,5642372565]
[null,null,null,null,5756282427]
[null,null,null,null,3932598878]
[null,null,null,null,3568977242]
[null,null,null,null,4724758589]
[null,null,null,null,8699257973]
[null,null,null,null,2254326693]
[null,null,null,null,8572248783]
[null,null,null,null,6255874223]
[null,null,null,null,3683288645]
[null,null,null,null,2397379288]
[null,null,null,null,4892965235]
[null,null,null,null,5945833686]
[null,null,null,null,6289285294]
[null,null,null,null,6758959643]
[null,null,null,null,3298364885]
[null,null,null,null,3554594722]
[null,null,null,null,3333937742]
[null,null,null,null,5496965798]
[null,null,null,null,2224836986]
[null,null,null,null,9857882642]
[null,null,null,null,5625557875]
[null,null,null,null,5849927647]
[null,null,null,null,5988487569]
[null,null,null,null,5296479967]
[null,null,null,null,8545267847]
[null,null,null,null,4845755697]
[null,null,null,null,7833266258]
[null,null,null,null,3254359973]
[null,null,null,null,7788366554]
[null,null,null,null,6878956994]
[null,null,null,null,8377359234]
[null,null,null,null,2839846394]
[null,null,null,null,4953587373]
[null,null,null,null,4934538465]
[null,null,null,null,3389928263]
[null,null,null,null,9976226399]
[null,null,null,null,3487277222]
[null,null,null,null,6354942265]
[null,null,null,null,9483332867]
[null,null,null,null,6622778739]
[null,null,null,null,4577989642]
[null,null,null,null,4876892449]
[null,null,null,null,3995949639]
[null,null,null,null,6954292442]
[null,null,null,null,3357385629]
[null,null,null,null,9536498886]
[null,null,null,null,6984572334]
[null,null,null,null,7342562479]
[null,null,null,null,6769285656]
[null,null,null,null,2737652489]
[null,null,null,null,8357675772]
[null,null,null,null,6724386492]
[null,null,null,null,9662784259]
[null,null,null,null,5356865925]
[null,null,null,null,3588888484]
[null,null,null,null,6879994243]
[null,null,null,null,9697946664]
[null,null,null,null,5743386547]
[null,null,null,null,9543776935]
[null,null,null,null,9456878645]
[null,null,null,null,2546669874]
[null,null,null,null,7669637229]
[null,null,null,null,9566934263]
[null,null,null,null,3368649586]
[null,null,null,null,3286777877]
[null,null,null,null,3468488987]
[null,null,null,null,6228479224]
[null,null,null,null,6249358993]
[null,null,null,null,8626625889]
[null,null,null,null,2658237743]
[null,null,null,null,8763559854]
[null,null,null,null,4339729672]
[null,null,null,null,3337838473]
[null,null,null,null,3492726574]
[null,null,null,null,8938946789]
[null,null,null,null,7597746664]
[null,null,null,null,7847343496]
[null,null,null,null,6429655537]
[null,null,null,null,4968625798]
[null,null,null,null,6327267972]
[null,null,null,null,6773574582]
[null,null,null,null,5928735923]
[null,null,null,null,5872253648]
[null,null,null,null,6924692639]
[null,null,null,null,5996545493]
[null,null,null,null,2739927923]
[null,null,null,null,8873295384]
[null,null,null,null,6477594337]
[null,null,null,null,5897396773]
[null,null,null,null,8278772966]
[null,null,null,null,3739678623]
[null,null,null,null,3948477652]
[null,null,null,null,6826898862]
[null,null,null,null,2766648226]
[null,null,null,null,6228374643]
[null,null,null,null,5432376459]
[null,null,null,null,2543476953]
[null,null,null,null,5873268352]
[null,null,null,null,6435978569]
[null,null,null,null,5454426768]
[null,null,null,null,4323944636]
[null,null,null,null,4885386929]
[null,null,null,null,7862869659]
[null,null,null,null,8463265655]
[null,null,null,null,2537835769]
[null,null,null,null,8642979373]
[null,null,null,null,4458674746]
[null,null,null,null,9464625553]
[null,null,null,null,3239962794]
[null,null,null,null,7433986988]
[null,null,null,null,5246855249]
[null,null,null,null,4393753936]
[null,null,null,null,5429365254]
[null,null,null,null,9965786694]
[null,null,null,null,2269839356]
[null,null,null,null,6354575988]
[null,null,null,null,3639862363]
[null,null,null,null,6894583674]
[null,null,null,null,4926943823]
[null,null,null,null,5384956899]
[null,null,null,null,4737359957]
[null,null,null,null,5589382447]
[null,null,null,null,2963755386]
[null,null,null,null,9235649967]
[null,null,null,null,5275572937]
[null,null,null,null,5766445633]
[null,null,null,null,6862483694]
[null,null,null,null,8466287444]
[null,null,null,null,2453535777]
[null,null,null,null,7573353777]
[null,null,null,null,9566836682]
[null,null,null,null,6874363856]
[null,null,null,null,6223748524]
[null,null,null,null,3678737644]
[null,null,null,null,6798758794]
[null,null,null,null,2465569585]
[null,null,null,null,2649829237]
[null,null,null,null,4755787759]
[null,null,null,null,3579959374]
[null,null,null,null,7584573747]
[null,null,null,null,7626838876]
[null,null,null,null,6982428632]
[null,null,null,null,3692833995]
[null,null,null,null,5972999663]
[null,null,null,null,7477945827]
[null,null,null,null,5643655662]
[null,null,null,null,5857866238]
[null,null,null,null,7652344753]
[null,null,null,null,3754977424]
[null,null,null,null,8864448373]
[null,null,null,null,7924245588]
[null,null,null,null,7865497753]
[null,null,null,null,5786369365]
[null,null,null,null,5787534545]
[null,null,null,null,9252568244]
[null,null,null,null,3457734452]
[null,null,null,null,3252476769]
[null,null,null,null,8367762979]
[null,null,null,null,7355698357]
[null,null,null,null,2629446458]
[null,null,null,null,4893282892]
[null,null,null,null,3762862272]
[null,null,null,null,4577569927]
[null,null,null,null,6777728282]
[null,null,null,null,6865543385]
[null,null,null,null,5757283386]
[null,null,null,null,4453769786]
[null,null,null,null,4487695226]
[null,null,null,null,3266736629]
[null,null,null,null,6966366962]
[null,null,null,null,5434847688]
[null,null,null,null,8364847384]
[null,null,null,null,2295964529]
[null,null,null,null,7269833657]
[null,null,null,null,7673884352]
[null,null,null,null,5593749448]
[null,null,null,null,5866727324]
[null,null,null,null,6799836755]
[null,null,null,null,7885575557]
[null,null,null,null,7463793764]
[null,null,null,null,6852535367]
[null,null,null,null,2288929423]
[null,null,null,null,2824747499]
[null,null,null,null,8687363243]
[null,null,null,null,7985748844]
[null,null,null,null,2467362476]
[null,null,null,null,8556829385]
[null,null,null,null,2364433723]
[null,null,null,null,6865635677]
[null,null,null,null,5733869976]
[null,null,null,null,8257989899]
[null,null,null,null,3523642493]
[null,null,null,null,4488564336]
[null,null,null,null,5542489589]
[null,null,null,null,4273355543]
[null,null,null,null,3232872439]
[null,null,null,null,2243952684]
[null,null,null,null,4636657372]
[null,null,null,null,2896637462]
[null,null,null,null,7482923285]
[null,null,null,null,5667492526]
[null,null,null,null,8559345634]
[null,null,null,null,4478364446]
[null,null,null,null,7566259452]
[null,null,null,null,9759489363]
[null,null,null,null,4683484428]
[null,null,null,null,5773329945]
[null,null,null,null,3329867658]
[null,null,null,null,2724725268]
[null,null,null,null,6237833936]
[null,null,null,null,4464449724]
[null,null,null,null,9948644247]
[null,null,null,null,3662432948]
[null,null,null,null,4367973696]
[null,null,null,null,8675283862]
[null,null,null,null,4843788755]
[null,null,null,null,8773598747]
[null,null,null,null,8654349246]
[null,null,null,null,7786295224]
[null,null,null,null,5268465239]
[null,null,null,null,4782392837]
[null,null,null,null,4365263579]
[null,null,null,null,6436423264]
[null,null,null,null,4935923773]
[null,null,null,null,7244638295]
[null,null,null,null,4725367398]
[null,null,null,null,3357435634]
[null,null,null,null,6435954777]
[null,null,null,null,6853995986]
[null,null,null,null,8254623726]
[null,null,null,null,6855949448]
[null,null,null,null,9875874926]
[null,null,null,null,4943754942]
[null,null,null,null,7253457896]
[null,null,null,null,9963883655]
[null,null,null,null,3783277936]
[null,null,null,null,9239868859]
[null,null,null,null,9395983955]
[null,null,null,null,6688464363]
[null,null,null,null,7542927697]
[null,null,null,null,5697487633]
[null,null,null,null,6769538557]
[null,null,null,null,6355436539]
[null,null,null,null,4722774276]
[null,null,null,null,4832542324]
[null,null,null,null,9248538563]
[null,null,null,null,6686829428]
[null,null,null,null,2783734554]
[null,null,null,null,6725737296]
[null,null,null,null,8767622693]
[null,null,null,null,8885747255]
[null,null,null,null,2556787979]
[null,null,null,null,4368469932]
[null,null,null,null,3982335847]
[null,null,null,null,3874775992]
[null,null,null,null,4499378769]
[null,null,null,null,2989792663]
[null,null,null,null,3732423375]
[null,null,null,null,3256655755]
[null,null,null,null,8267836824]
[null,null,null,null,2686552398]
[null,null,null,null,5244256624]
[null,null,null,null,4633875644]
[null,null,null,null,9298479786]
[null,null,null,null,5575825944]
[null,null,null,null,7473344566]
[null,null,null,null,2343553289]
[null,null,null,null,2464369298]
[null,null,null,null,9525897958]
[null,null,null,null,3654772466]
[null,null,null,null,7784729545]
[null,null,null,null,8732265356]
[null,null,null,null,3359435376]
[null,null,null,null,8684633367]
[null,null,null,null,9732427269]
[null,null,null,null,5643636537]
[null,null,null,null,9594365993]
[null,null,null,null,3894948383]
[null,null,null,null,2343493874]
[null,null,null,null,5982956444]
[null,null,null,null,6739532674]
[null,null,null,null,2563382828]
[null,null,null,null,2732233682]
[null,null,null,null,6287694285]
[null,null,null,null,4425254533]
[null,null,null,null,7652224234]
[null,null,null,null,6342965427]
[null,null,null,null,2977943599]
[null,null,null,null,4463945967]
[null,null,null,null,3747633757]
[null,null,null,null,7672383235]
[null,null,null,null,7232949634]
[null,null,null,null,7478593549]
[null,null,null,null,4932539668]
[null,null,null,null,4474657683]
[null,null,null,null,7859947553]
[null,null,null,null,9543633493]
[null,null,null,null,4695793249]
[null,null,null,null,9782563846]
[null,null,null,null,9899256654]
[null,null,null,null,9986677449]
[null,null,null,null,9625487228]
[null,null,null,null,7653569489]
[null,null,null,null,6846882264]
[null,null,null,null,3596484326]
[null,null,null,null,8594937989]
[null,null,null,null,6486896929]
[null,null,null,null,9498857684]
[null,null,null,null,2967837973]
[null,null,null,null,5966238443]
[null,null,null,null,8323557843]
[null,null,null,null,3453269254]
[null,null,null,null,8922883873]
[null,null,null,null,3427589634]
[null,null,null,null,5759879283]
[null,null,null,null,8424623474]
[null,null,null,null,7563322539]
[null,null,null,null,4765583385]
[null,null,null,null,2657936942]
[null,null,null,null,2957987939]
[null,null,null,null,2649568728]
[null,null,null,null,4326284379]
[null,null,null,null,3555283727]
[null,null,null,null,2994939493]
[null,null,null,null,8366744792]
[null,null,null,null,4972758327]
[null,null,null,null,3775572898]
[null,null,null,null,7554235792]
[null,null,null,null,4396556793]
[null,null,null,null,7233782557]
[null,null,null,null,3466778683]
[null,null,null,null,7922548579]
[null,null,null,null,2864758833]
[null,null,null,null,3924357756]
[null,null,null,null,8822988846]
[null,null,null,null,9874539355]
[null,null,null,null,2563659562]
[null,null,null,null,6589346328]
[null,null,null,null,7425349995]
[null,null,null,null,3643998286]
[null,null,null,null,2652328476]
[null,null,null,null,7682225966]
[null,null,null,null,5364982733]
[null,null,null,null,3965258888]
[null,null,null,null,4225528589]
[null,null,null,null,2955643947]
[null,null,null,null,2648638387]
[null,null,null,null,9442566658]
[null,null,null,null,8723673243]
[null,null,null,null,4857572465]
[null,null,null,null,6838422636]
[null,null,null,null,5858554642]
[null,null,null,null,6443479432]
[null,null,null,null,2434877538]
[null,null,null,null,8528326753]
[null,null,null,null,8363639656]
[null,null,null,null,9799784876]
[null,null,null,null,2423489299]
[null,null,null,null,9966269574]
[null,null,null,null,9758588383]
[null,null,null,null,9844863347]
[null,null,null,null,6459265963]
[null,null,null,null,5872936947]
[null,null,null,null,7782532674]
[null,null,null,null,5667374875]
[null,null,null,null,4849589297]
[null,null,null,null,9978674228]
[null,null,null,null,4766242865]
[null,null,null,null,7674238593]
[null,null,null,null,3287444995]
[null,null,null,null,8643843734]
[null,null,null,null,9724585367]
[null,null,null,null,8699346467]
[null,null,null,null,2756992754]
[null,null,null,null,7772869828]
[null,null,null,null,5794836762]
[null,null,null,null,4693392585]
[null,null,null,null,5352395247]
[null,null,null,null,2458899948]
[null,null,null,null,3747539358]
[null,null,null,null,2674223952]
[null,null,null,null,9795582327]
[null,null,null,null,7422268995]
[null,null,null,null,3446736975]
[null,null,null,null,9994664958]
[null,null,null,null,3895387895]
[null,null,null,null,3629596824]
[null,null,null,null,4773826988]
[null,null,null,null,3575829338]
[null,null,null,null,6622568924]
[null,null,null,null,4545892583]
[null,null,null,null,6462229785]
[null,null,null,null,6645757356]
[null,null,null,null,5578862789]
[null,null,null,null,5886542769]
[null,null,null,null,5447386279]
[null,null,null,null,9284923643]
[null,null,null,null,8786358575]
[null,null,null,null,5249688496]
[null,null,null,null,9363956886]
[null,null,null,null,5722638645]
[null,null,null,null,5873995529]
[null,null,null,null,5456387227]
[null,null,null,null,3227675728]
[null,null,null,null,2996882779]
[null,null,null,null,8934459853]
[null,null,null,null,8447552488]
[null,null,null,null,4957284869]
[null,null,null,null,5667442287]
[null,null,null,null,5236886699]
[null,null,null,null,5324345253]
[null,null,null,null,3898735732]
[null,null,null,null,4756245822]
[null,null,null,null,4283576972]
[null,null,null,null,4249458682]
[null,null,null,null,5758628484]
[null,null,null,null,7352366653]
[null,null,null,null,8399949535]
[null,null,null,null,2842946385]
[null,null,null,null,9427596622]
[null,null,null,null,6563423258]
[null,null,null,null,5923924496]
[null,null,null,null,4764523994]
[null,null,null,null,4578357285]
[null,null,null,null,7923277386]
[null,null,null,null,3225682989]
[null,null,null,null,8999879825]
[null,null,null,null,6587866264]
[null,null,null,null,5977282726]
[null,null,null,null,6985577323]
[null,null,null,null,3368765887]
[null,null,null,null,5278777293]
[null,null,null,null,4574848889]
[null,null,null,null,3573395893]
[null,null,null,null,8937747975]
[null,null,null,null,2882829234]
[null,null,null,null,5467457356]
[null,null,null,null,9763458539]
[null,null,null,null,9733643245]
[null,null,null,null,6429283887]
[null,null,null,null,5824333777]
[null,null,null,null,2583964975]
[null,null,null,null,6779228986]
[null,null,null,null,6284348928]
[null,null,null,null,8955285737]
[null,null,null,null,3434792444]
[null,null,null,null,3563224479]
[null,null,null,null,3268334448]
[null,null,null,null,2689259559]
[null,null,null,null,6395895975]
[null,null,null,null,5536585399]
[null,null,null,null,3634726545]
[null,null,null,null,2793943874]
[null,null,null,null,5845935789]
[null,null,null,null,3757575367]
[null,null,null,null,3743687266]
[null,null,null,null,8542643839]
[null,null,null,null,9978945255]
[null,null,null,null,9842778452]
[null,null,null,null,5295963466]
[null,null,null,null,6734844342]
[null,null,null,null,2944569738]
[null,null,null,null,3248343692]
[null,null,null,null,8336946777]
[null,null,null,null,9593746757]
[null,null,null,null,5635658757]
[null,null,null,null,7682384284]
[null,null,null,null,4343346738]
[null,null,null,null,5763986497]
[null,null,null,null,8467642423]
[null,null,null,null,8385936389]
[null,null,null,null,5573293247]
[null,null,null,null,2879598937]
[null,null,null,null,2672953448]
[null,null,null,null,7477722499]
[null,null,null,null,2632937546]
[null,null,null,null,3565832554]
[null,null,null,null,9239929585]
[null,null,null,null,9228684854]
[null,null,null,null,6883983252]
[null,null,null,null,9887997987]
[null,null,null,null,7598229622]
[null,null,null,null,9764342386]
[null,null,null,null,8764862768]
[null,null,null,null,7666946482]
[null,null,null,null,3377588488]
[null,null,null,null,4687895689]
[null,null,null,null,8245244554]
[null,null,null,null,2842238566]
[null,null,null,null,4777647486]
[null,null,null,null,7865287463]
[null,null,null,null,3529389737]
[null,null,null,null,7552948383]
[null,null,null,null,3349894457]
[null,null,null,null,4826779239]
[null,null,null,null,4645733383]
[null,null,null,null,9856733246]
[null,null,null,null,6423448394]
[null,null,null,null,7366428963]
[null,null,null,null,8764929295]
[null,null,null,null,6286367992]
[null,null,null,null,8825745456]
[null,null,null,null,7563475626]
[null,null,null,null,8339742383]
[null,null,null,null,2898847972]
[null,null,null,null,5722375945]
[null,null,null,null,2248592495]
[null,null,null,null,8455355323]
[null,null,null,null,2747593679]
[null,null,null,null,7672628635]
[null,null,null,null,3472289279]
[null,null,null,null,5368837352]
[null,null,null,null,6586853489]
[null,null,null,null,7562559684]
[null,null,null,null,7588665387]
[null,null,null,null,5272333935]
[null,null,null,null,3279465676]
[null,null,null,null,4222784758]
[null,null,null,null,5385973684]
[null,null,null,null,2573226624]
[null,null,null,null,7385637584]
[null,null,null,null,6684527525]
[null,null,null,null,4485747853]
[null,null,null,null,6282844488]
[null,null,null,null,7253745698]
[null,null,null,null,7626789867]
[null,null,null,null,5254284436]
[null,null,null,null,5785339434]
[null,null,null,null,4456296962]
[null,null,null,null,6545658556]
[null,null,null,null,9424564993]
[null,null,null,null,9754492768]
[null,null,null,null,7953597999]
[null,null,null,null,8498294678]
[null,null,null,null,8235392865]
[null,null,null,null,5456974788]
[null,null,null,null,3848689878]
[null,null,null,null,7362535877]
[null,null,null,null,7433336493]
[null,null,null,null,3888537765]
[null,null,null,null,5835823324]
[null,null,null,null,6467392328]
[null,null,null,null,2468479946]
[null,null,null,null,8499383866]
[null,null,null,null,7337976563]
[null,null,null,null,5254424383]
[null,null,null,null,3577499544]
[null,null,null,null,9863679585]
[null,null,null,null,3839847994]
[null,null,null,null,3725477793]
[null,null,null,null,5729326286]
[null,null,null,null,2667965842]
[null,null,null,null,2576462979]
[null,null,null,null,6955663362]
[null,null,null,null,6793995726]
[null,null,null,null,3894334559]
[null,null,null,null,6745987769]
[null,null,null,null,3566948463]
[null,null,null,null,6566448455]
[null,null,null,null,7994843854]
[null,null,null,null,9674435377]
[null,null,null,null,3892537677]
[null,null,null,null,7636355727]
[null,null,null,null,2883485224]
[null,null,null,null,3373752336]
[null,null,null,null,6846349763]
[null,null,null,null,3934648945]
[null,null,null,null,7627693294]
[null,null,null,null,3382477339]
[null,null,null,null,7477658978]
[null,null,null,null,9342596239]
[null,null,null,null,7982963526]
[null,null,null,null,4625373959]
[null,null,null,null,7248626424]
[null,null,null,null,8362296799]
[null,null,null,null,2697737665]
[null,null,null,null,2474587676]
[null,null,null,null,4642848894]
[null,null,null,null,3793227973]
[null,null,null,null,3675279472]
[null,null,null,null,4362663995]
[null,null,null,null,5444539952]
[null,null,null,null,2979323337]
[null,null,null,null,6746639589]
[null,null,null,null,5248745749]
[null,null,null,null,4649898888]
[null,null,null,null,9979974783]
[null,null,null,null,8385655378]
[null,null,null,null,8246494742]
[null,null,null,null,2453753438]
[null,null,null,null,6879889339]
[null,null,null,null,3267999932]
[null,null,null,null,4225983857]
[null,null,null,null,7957579874]
[null,null,null,null,4488235434]
[null,null,null,null,6269534743]
[null,null,null,null,4955672365]
[null,null,null,null,7958546226]
[null,null,null,null,6782338795]
[null,null,null,null,9556453392]
[null,null,null,null,8892394957]
[null,null,null,null,6346434684]
[null,null,null,null,9276389278]
[null,null,null,null,8727278266]
[null,null,null,null,9756227358]
[null,null,null,null,3359442284]
[null,null,null,null,4678548754]
[null,null,null,null,9845496993]
[null,null,null,null,6452946499]
[null,null,null,null,8794946223]
[null,null,null,null,9628678438]
[null,null,null,null,9993737995]
[null,null,null,null,9284333532]
[null,null,null,null,9447356928]
[null,null,null,null,3279283425]
[null,null,null,null,2922536823]
[null,null,null,null,5892436746]
[null,null,null,null,4892746653]
[null,null,null,null,2294987443]
[null,null,null,null,4688622455]
[null,null,null,null,7843396294]
[null,null,null,null,4344979889]
[null,null,null,null,3924848952]
[null,null,null,null,6967722252]
[null,null,null,null,4878399583]
[null,null,null,null,5237763844]
[null,null,null,null,5557799283]
[null,null,null,null,8734627437]
[null,null,null,null,8435473859]
[null,null,null,null,3349466984]
[null,null,null,null,7328656366]
[null,null,null,null,8829568996]
[null,null,null,null,6896748993]
[null,null,null,null,6939773674]
[null,null,null,null,9935975579]
[null,null,null,null,8974796334]
[null,null,null,null,2769747377]
[null,null,null,null,2798574278]
[null,null,null,null,4782656988]
[null,null,null,null,2357296597]
[null,null,null,null,3548838342]
[null,null,null,null,3973642684]
[null,null,null,null,4983398773]
[null,null,null,null,5338679458]
[null,null,null,null,2237657232]
[null,null,null,null,3927447782]
[null,null,null,null,5524888796]
[null,null,null,null,4923422947]
[null,null,null,null,3663284562]
[null,null,null,null,5654285726]
[null,null,null,null,8495723666]
[null,null,null,null,7524857663]
[null,null,null,null,5835253763]
[null,null,null,null,9394223267]
[null,null,null,null,5557594825]
[null,null,null,null,8276766343]
[null,null,null,null,6875647886]
[null,null,null,null,4224532987]
[null,null,null,null,9342584573]
[null,null,null,null,6846735696]
[null,null,null,null,3822828748]
[null,null,null,null,9552922242]
[null,null,null,null,3987323352]
[null,null,null,null,6426883329]
[null,null,null,null,2456958788]
[null,null,null,null,5586968259]
[null,null,null,null,7928369634]
[null,null,null,null,8954643864]
[null,null,null,null,6433752273]
[null,null,null,null,5793693939]
[null,null,null,null,9732359452]
[null,null,null,null,7682334964]
[null,null,null,null,3592424228]
[null,null,null,null,6866668597]
[null,null,null,null,7895297724]
[null,null,null,null,7657763382]
[null,null,null,null,9832253543]
[null,null,null,null,3753292753]
[null,null,null,null,3549448692]
[null,null,null,null,7395688294]
[null,null,null,null,3985336935]
[null,null,null,null,8873473848]
[null,null,null,null,4945655773]
[null,null,null,null,7457946989]
[null,null,null,null,4355263863]
[null,null,null,null,9782245939]
[null,null,null,null,8576675728]
[null,null,null,null,6368637367]
[null,null,null,null,2965598359]
[null,null,null,null,4944567729]
[null,null,null,null,2273857834]
[null,null,null,null,9376629786]
[null,null,null,null,6325485736]
[null,null,null,null,4485658787]
[null,null,null,null,8437485236]
[null,null,null,null,6944945262]
[null,null,null,null,4587384828]
[null,null,null,null,4859559867]
[null,null,null,null,2364589836]
[null,null,null,null,2834696452]
[null,null,null,null,8222499447]
[null,null,null,null,3769333663]
[null,null,null,null,7737237975]
[null,null,null,null,3526545444]
[null,null,null,null,5328245894]
[null,null,null,null,5466837674]
[null,null,null,null,4324957828]
[null,null,null,null,2932583562]
[null,null,null,null,5675958258]
[null,null,null,null,2962783227]
[null,null,null,null,7257834686]
[null,null,null,null,7657577352]
[null,null,null,null,2677365398]
[null,null,null,null,7944527379]
[null,null,null,null,5624576434]
[null,null,null,null,9833958689]
[null,null,null,null,3632245934]
[null,null,null,null,9625756659]
[null,null,null,null,4473889249]
[null,null,null,null,6638337482]
[null,null,null,null,7434849684]
[null,null,null,null,6697332488]
[null,null,null,null,3475498333]
[null,null,null,null,8486499935]
[null,null,null,null,3539395983]
[null,null,null,null,2392695568]
[null,null,null,null,8825938963]
[null,null,null,null,9247234825]
[null,null,null,null,4958889364]
[null,null,null,null,6967372659]
[null,null,null,null,4636882942]
[null,null,null,null,8356259668]
[null,null,null,null,7363277247]
[null,null,null,null,8527324877]
[null,null,null,null,3943486775]
[null,null,null,null,7383828447]
[null,null,null,null,5336336658]
[null,null,null,null,6782242967]
[null,null,null,null,8825258567]
[null,null,null,null,4567677244]
[null,null,null,null,5389988777]
[null,null,null,null,6247369976]
[null,null,null,null,2675296487]
[null,null,null,null,7449926757]
[null,null,null,null,2687726555]
[null,null,null,null,7552597288]
[null,null,null,null,9292349886]
[null,null,null,null,6687848794]
[null,null,null,null,8296754496]
[null,null,null,null,4696887652]
[null,null,null,null,4755659529]
[null,null,null,null,5735364855]
[null,null,null,null,8923954577]
[null,null,null,null,6464969582]
[null,null,null,null,9349847733]
[null,null,null,null,2328492367]
[null,null,null,null,9443327432]
[null,null,null,null,8898694327]
[null,null,null,null,8344566367]
[null,null,null,null,6965982863]
[null,null,null,null,9498456246]
[null,null,null,null,2295856532]
[null,null,null,null,9552668877]
[null,null,null,null,5236482787]
[null,null,null,null,4832448863]
[null,null,null,null,6358788734]
[null,null,null,null,6352629544]
[null,null,null,null,3743593747]
[null,null,null,null,8394584937]
[null,null,null,null,8476357958]
[null,null,null,null,7665864733]
[null,null,null,null,3226892763]
[null,null,null,null,9297546574]
[null,null,null,null,3466449956]
[null,null,null,null,7267698243]
[null,null,null,null,8986565492]
[null,null,null,null,2968839464]
[null,null,null,null,6399452767]
[null,null,null,null,2757823679]
[null,null,null,null,5929564695]
[null,null,null,null,6557484368]
[null,null,null,null,7668636264]
[null,null,null,null,5925675736]
[null,null,null,null,3285768322]
[null,null,null,null,7669297756]
[null,null,null,null,4249789963]
[null,null,null,null,4353938439]
[null,null,null,null,4885766877]
[null,null,null,null,6594854687]
[null,null,null,null,2294942352]
[null,null,null,null,6424488233]
[null,null,null,null,9427393953]
[null,null,null,null,5529844367]
[null,null,null,null,7279354596]
[null,null,null,null,5583489994]
[null,null,null,null,3664483965]
[null,null,null,null,6762538256]
[null,null,null,null,2958322678]
[null,null,null,null,8535249348]
[null,null,null,null,9667923467]
[null,null,null,null,8579683474]
[null,null,null,null,5536923243]
[null,null,null,null,2454636352]
[null,null,null,null,4378869748]
[null,null,null,null,2482523469]
[null,null,null,null,3636658738]
[null,null,null,null,2434893535]
[null,null,null,null,8937949788]
[null,null,null,null,5428948479]
[null,null,null,null,6894922599]
[null,null,null,null,4436426867]
[null,null,null,null,3593624256]
[null,null,null,null,4659494733]
[null,null,null,null,6344345363]
[null,null,null,null,3533785935]
[null,null,null,null,2366326826]
[null,null,null,null,9274356848]
[null,null,null,null,8835466778]
[null,null,null,null,2782789663]
[null,null,null,null,4887443496]
[null,null,null,null,5667727949]
[null,null,null,null,7629525992]
[null,null,null,null,2783686275]
[null,null,null,null,8458297924]
[null,null,null,null,4799688829]
[null,null,null,null,5252763242]
[null,null,null,null,5797373423]
[null,null,null,null,5292759327]
[null,null,null,null,2625399323]
[null,null,null,null,8573567364]
[null,null,null,null,5339867787]
[null,null,null,null,3472933357]
[null,null,null,null,9583828556]
[null,null,null,null,3494938387]
[null,null,null,null,7776275555]
[null,null,null,null,5332467872]
[null,null,null,null,7542637834]
[null,null,null,null,8688238849]
[null,null,null,null,7252876662]
[null,null,null,null,7529834997]
[null,null,null,null,7352637897]
[null,null,null,null,8867366598]
[null,null,null,null,9923544977]
[null,null,null,null,7582523444]
[null,null,null,null,5382794544]
[null,null,null,null,9737379827]
[null,null,null,null,2398852895]
[null,null,null,null,6952479257]
[null,null,null,null,4586435629]
[null,null,null,null,3975234635]
[null,null,null,null,8363687293]
[null,null,null,null,2575789646]
[null,null,null,null,9254648277]
[null,null,null,null,5257693836]
[null,null,null,null,5659325849]
[null,null,null,null,3753685298]
[null,null,null,null,3992955946]
[null,null,null,null,9446726285]
[null,null,null,null,9663758985]
[null,null,null,null,8296972844]
[null,null,null,null,6755552536]
[null,null,null,null,6923697755]
[null,null,null,null,4276545684]
[null,null,null,null,7743345652]
[null,null,null,null,5739558442]
[null,null,null,null,7282859238]
[null,null,null,null,3476654558]
[null,null,null,null,4474462539]
[null,null,null,null,6422834283]
[null,null,null,null,5863556748]
[null,null,null,null,4499927256]
[null,null,null,null,6455665549]
[null,null,null,null,2264976737]
[null,null,null,null,7392966425]
[null,null,null,null,6377889889]
[null,null,null,null,7845982635]
[null,null,null,null,8423783379]
[null,null,null,null,9299758576]
[null,null,null,null,4739896239]
[null,null,null,null,4299968793]
[null,null,null,null,8784374695]
[null,null,null,null,7223893386]
[null,null,null,null,9293697786]
[null,null,null,null,4854852392]
[null,null,null,null,7226663923]
[null,null,null,null,7544632775]
[null,null,null,null,5483848334]
[null,null,null,null,3965867743]
[null,null,null,null,2526452387]
[null,null,null,null,4227525323]
[null,null,null,null,7292954623]
[null,null,null,null,3866672974]
[null,null,null,null,6882399366]
[null,null,null,null,2333649643]
[null,null,null,null,7333248438]
[null,null,null,null,4663393925]
[null,null,null,null,5528559445]
[null,null,null,null,4827584763]
[null,null,null,null,9782464573]
[null,null,null,null,5237758788]
[null,null,null,null,5789765962]
[null,null,null,null,2798693265]
[null,null,null,null,4322363847]
[null,null,null,null,9269384825]
[null,null,null,null,3344374878]
[null,null,null,null,9684733369]
[null,null,null,null,5262896992]
[null,null,null,null,5933728967]
[null,null,null,null,3275353425]
[null,null,null,null,4886332224]
[null,null,null,null,5238335524]
[null,null,null,null,2686486642]
[null,null,null,null,8365746336]
[null,null,null,null,7764283437]
[null,null,null,null,7679398624]
[null,null,null,null,6627658576]
[null,null,null,null,7779352286]
[null,null,null,null,4378277883]
[null,null,null,null,9939724593]
[null,null,null,null,2593228267]
[null,null,null,null,7229226524]
[null,null,null,null,5998633666]
[null,null,null,null,8625667323]
[null,null,null,null,3895329495]
[null,null,null,null,6656237264]
[null,null,null,null,6243328585]
[null,null,null,null,9787774973]
[null,null,null,null,8524257988]
[null,null,null,null,3393925224]
[null,null,null,null,4868454328]
[null,null,null,null,6895788847]
[null,null,null,null,2965652532]
[null,null,null,null,5266932639]
[null,null,null,null,7593686387]
[null,null,null,null,7332743942]
[null,null,null,null,8748842725]
[null,null,null,null,6434624882]
[null,null,null,null,5724373727]
[null,null,null,null,5338845985]
[null,null,null,null,9645635535]
[null,null,null,null,8597589573]
[null,null,null,null,8973578277]
[null,null,null,null,4492253276]
[null,null,null,null,7958337568]
[null,null,null,null,9939266233]
[null,null,null,null,3447825642]
[null,null,null,null,6432453926]
[null,null,null,null,8432736792]
[null,null,null,null,5278297858]
[null,null,null,null,4522532983]
[null,null,null,null,4437968387]
[null,null,null,null,2632467346]
[null,null,null,null,3776386862]
[null,null,null,null,2262242528]
[null,null,null,null,6579365662]
[null,null,null,null,3774598522]
[null,null,null,null,9579846654]
[null,null,null,null,3469889324]
[null,null,null,null,5962973937]
[null,null,null,null,2788756654]
[null,null,null,null,4348694723]
[null,null,null,null,9833459399]
[null,null,null,null,4523399938]
[null,null,null,null,4748595537]
[null,null,null,null,8727778767]
[null,null,null,null,9793627949]
[null,null,null,null,7248652492]
[null,null,null,null,7962823828]
[null,null,null,null,2745675625]
[null,null,null,null,4296247645]
[null,null,null,null,7443524955]
[null,null,null,null,3446277353]
[null,null,null,null,6955889738]
[null,null,null,null,9966667656]
[null,null,null,null,7928235683]
[null,null,null,null,9366426825]
[null,null,null,null,3389294355]
[null,null,null,null,3392742726]
[null,null,null,null,4345899764]
[null,null,null,null,2475462755]
[null,null,null,null,9679929785]
[null,null,null,null,4826688267]
[null,null,null,null,4487894966]
[null,null,null,null,6624892564]
[null,null,null,null,7498836255]
[null,null,null,null,2854353599]
[null,null,null,null,7999376897]
[null,null,null,null,5839575732]
[null,null,null,null,4698337684]
[null,null,null,null,8679977578]
[null,null,null,null,3878859968]
[null,null,null,null,9426884868]
[null,null,null,null,9893487353]
[null,null,null,null,7343987485]
[null,null,null,null,3966976854]
[null,null,null,null,3298465292]
[null,null,null,null,4286497236]
[null,null,null,null,7894736967]
[null,null,null,null,5299565992]
[null,null,null,null,6537678683]
[null,null,null,null,8227866746]
[null,null,null,null,9568734342]
[null,null,null,null,5685849438]
[null,null,null,null,9385734699]
[null,null,null,null,4785597958]
[null,null,null,null,3882997826]
[null,null,null,null,9246798284]
[null,null,null,null,4328764663]
[null,null,null,null,6845572892]
[null,null,null,null,4598555586]
[null,null,null,null,5694289667]
[null,null,null,null,5757559974]
[null,null,null,null,8738923476]
[null,null,null,null,8563633439]
[null,null,null,null,7934369763]
[null,null,null,null,6693653866]
[null,null,null,null,7973922847]
[null,null,null,null,9826925695]
[null,null,null,null,2674967422]
[null,null,null,null,2864597823]
[null,null,null,null,8694724528]
[null,null,null,null,5256653473]
[null,null,null,null,8538523467]
[null,null,null,null,4967455632]
[null,null,null,null,6839659727]
[null,null,null,null,6674869426]
[null,null,null,null,3323796334]
[null,null,null,null,8289739929]
[null,null,null,null,4264539446]
[null,null,null,null,6483478273]
[null,null,null,null,7675934369]
[null,null,null,null,2924834887]
[null,null,null,null,7259234628]
[null,null,null,null,6889432435]
[null,null,null,null,5239239743]
[null,null,null,null,7697783939]
[null,null,null,null,3558858354]
[null,null,null,null,8687627394]
[null,null,null,null,5482462352]
[null,null,null,null,3487966459]
[null,null,null,null,8557586875]
[null,null,null,null,2687645768]
[null,null,null,null,2593984455]
[null,null,null,null,4744822689]
[null,null,null,null,8849775342]
[null,null,null,null,8627842836]
[null,null,null,null,3348646392]
[null,null,null,null,4552253589]
[null,null,null,null,8622998258]
[null,null,null,null,3687963356]
[null,null,null,null,6573694889]
[null,null,null,null,8934947565]
[null,null,null,null,2388738999]
[null,null,null,null,3659682784]
[null,null,null,null,4634332622]
[null,null,null,null,3829523882]
[null,null,null,null,6258886723]
[null,null,null,null,4372947557]
[null,null,null,null,9747879428]
[null,null,null,null,9875598543]
[null,null,null,null,3552233485]
[null,null,null,null,3825586592]
[null,null,null,null,7577228439]
[null,null,null,null,3484335992]
[null,null,null,null,7526823995]
[null,null,null,null,9525523228]
[null,null,null,null,4342293779]
[null,null,null,null,4374897392]
[null,null,null,null,5239674942]
[null,null,null,null,9246398898]
[null,null,null,null,5373338445]
[null,null,null,null,3436438449]
[null,null,null,null,5735867278]
[null,null,null,null,8764424384]
[null,null,null,null,8592433349]
[null,null,null,null,6685794576]
[null,null,null,null,8989949579]
[null,null,null,null,8768533349]
[null,null,null,null,7795692724]
[null,null,null,null,4685992642]
[null,null,null,null,5653535633]
[null,null,null,null,3928935822]
[null,null,null,null,9397766268]
[null,null,null,null,7827463498]
[null,null,null,null,3995735869]
[null,null,null,null,2238967822]
[null,null,null,null,3642793475]
[null,null,null,null,7537663984]
[null,null,null,null,7739257923]
[null,null,null,null,9495398526]
[null,null,null,null,9284247578]
[null,null,null,null,5628892882]
[null,null,null,null,6376325827]
[null,null,null,null,2826738482]
[null,null,null,null,4495937444]
[null,null,null,null,8446827524]
[null,null,null,null,9997792364]
[null,null,null,null,3922599385]
[null,null,null,null,2738444666]
[null,null,null,null,5882653226]
[null,null,null,null,7574975247]
[null,null,null,null,9472789969]
[null,null,null,null,9644987453]
[null,null,null,null,3234674694]
[null,null,null,null,3988459464]
[null,null,null,null,4766526922]
[null,null,null,null,5872375332]
[null,null,null,null,7975642834]
[null,null,null,null,3969995462]
[null,null,null,null,5433989836]
[null,null,null,null,9982636439]
[null,null,null,null,7582255486]
[null,null,null,null,2326345985]
[null,null,null,null,2528265359]
[null,null,null,null,4679885845]
[null,null,null,null,7279357294]
[null,null,null,null,7278698649]
[null,null,null,null,5849228476]
[null,null,null,null,3447556254]
[null,null,null,null,3343362785]
[null,null,null,null,9853393858]
[null,null,null,null,9865669649]
[null,null,null,null,7759283782]
[null,null,null,null,9326562595]
[null,null,null,null,3434389446]
[null,null,null,null,6292498794]
[null,null,null,null,7799739884]
[null,null,null,null,6836922355]
[null,null,null,null,6363447939]
[null,null,null,null,4772597436]
[null,null,null,null,5736262428]
[null,null,null,null,8898872363]
[null,null,null,null,4275445885]
[null,null,null,null,7767422554]
[null,null,null,null,4559377326]
[null,null,null,null,7338852898]
[null,null,null,null,4566675836]
[null,null,null,null,8746594959]
[null,null,null,null,9474225576]
[null,null,null,null,6897548347]
[null,null,null,null,6936389559]
[null,null,null,null,4473288522]
[null,null,null,null,9796293853]
[null,null,null,null,6222495345]
[null,null,null,null,7835335594]
[null,null,null,null,6576548883]
[null,null,null,null,4788274328]
[null,null,null,null,6927933482]
[null,null,null,null,4748867637]
[null,null,null,null,5596562724]
[null,null,null,null,4899252248]
[null,null,null,null,2538695229]
[null,null,null,null,8936627498]
[null,null,null,null,9627229583]
[null,null,null,null,9952666447]
[null,null,null,null,8288637553]
[null,null,null,null,5655399433]
[null,null,null,null,8933659234]
[null,null,null,null,7488487659]
[null,null,null,null,7242272368]
[null,null,null,null,6983643947]
[null,null,null,null,9477873879]
[null,null,null,null,4384859262]
[null,null,null,null,9982464726]
[null,null,null,null,3446683249]
[null,null,null,null,9555398369]
[null,null,null,null,6378443866]
[null,null,null,null,2683427329]
[null,null,null,null,6747249973]
[null,null,null,null,9689927859]
[null,null,null,null,3684573259]
[null,null,null,null,7735747756]
[null,null,null,null,8465283944]
[null,null,null,null,8297855452]
[null,null,null,null,6422937834]
[null,null,null,null,8257588455]
[null,null,null,null,7555464552]
[null,null,null,null,5797394489]
[null,null,null,null,2828594334]
[null,null,null,null,7856765522]
[null,null,null,null,4468425785]
[null,null,null,null,6563759732]
[null,null,null,null,7322542598]
[null,null,null,null,3343389394]
[null,null,null,null,5753583668]
[null,null,null,null,4756275557]
[null,null,null,null,2645376938]
[null,null,null,null,9785929798]
[null,null,null,null,2994776456]
[null,null,null,null,5763558493]
[null,null,null,null,7449254896]
[null,null,null,null,9224969999]
[null,null,null,null,5424579585]
[null,null,null,null,4826252275]
[null,null,null,null,7688394442]
[null,null,null,null,5936296696]
[null,null,null,null,4335969792]
[null,null,null,null,4694653473]
[null,null,null,null,7758279339]
[null,null,null,null,8395574348]
[null,null,null,null,7848525383]
[null,null,null,null,5249768228]
[null,null,null,null,3893444646]
[null,null,null,null,7342652634]
[null,null,null,null,5664284755]
[null,null,null,null,7328879263]
[null,null,null,null,6348273334]
[null,null,null,null,4857837556]
[null,null,null,null,3435834276]
[null,null,null,null,7863674434]
[null,null,null,null,9947494758]
[null,null,null,null,5456798448]
[null,null,null,null,7833375648]
[null,null,null,null,2956596896]
[null,null,null,null,5922852427]
[null,null,null,null,7459564895]
[null,null,null,null,6574328378]
[null,null,null,null,5732977362]
[null,null,null,null,9486299943]
[null,null,null,null,3434235542]
[null,null,null,null,9475284426]
[null,null,null,null,7654262462]
[null,null,null,null,7695895326]
[null,null,null,null,9963233859]
[null,null,null,null,7845437676]
[null,null,null,null,7449284477]
[null,null,null,null,4443742272]
[null,null,null,null,8576687984]
[null,null,null,null,9636658766]
[null,null,null,null,2637322786]
[null,null,null,null,8239854284]
[null,null,null,null,6792566759]
[null,null,null,null,8235488867]
[null,null,null,null,9439287474]
[null,null,null,null,9769835942]
[null,null,null,null,9355437589]
[null,null,null,null,8284529377]
[null,null,null,null,2623784575]
[null,null,null,null,7872783493]
[null,null,null,null,5743822855]
[null,null,null,null,6324292554]
[null,null,null,null,2647458525]
[null,null,null,null,4837534657]
[null,null,null,null,8872567999]
[null,null,null,null,5888324822]
[null,null,null,null,5792427825]
[null,null,null,null,3837988528]
[null,null,null,null,2559533373]
[null,null,null,null,7599248738]
[null,null,null,null,4259394292]
[null,null,null,null,5679357895]
[null,null,null,null,5736445523]
[null,null,null,null,7547586823]
[null,null,null,null,2657936547]
[null,null,null,null,2744933675]
[null,null,null,null,5482688758]
[null,null,null,null,5359228357]
[null,null,null,null,5789445744]
[null,null,null,null,7562935996]
[null,null,null,null,6468282867]
[null,null,null,null,7484796953]
[null,null,null,null,7858969274]
[null,null,null,null,4778772947]
[null,null,null,null,7624697226]
[null,null,null,null,3656364756]
[null,null,null,null,8638545596]
[null,null,null,null,5635494987]
[null,null,null,null,2599969988]
[null,null,null,null,9328242746]
[null,null,null,null,9798892583]
[null,null,null,null,8668465676]
[null,null,null,null,4438973736]
[null,null,null,null,3357674633]
[null,null,null,null,7249686485]
[null,null,null,null,7324548685]
[null,null,null,null,7376449733]
[null,null,null,null,6632978269]
[null,null,null,null,5548329863]
[null,null,null,null,5552272692]
[null,null,null,null,9768286472]
[null,null,null,null,2459887469]
[null,null,null,null,4794972427]
[null,null,null,null,6546423788]
[null,null,null,null,7554958375]
[null,null,null,null,6462464637]
[null,null,null,null,9642922378]
[null,null,null,null,5254688825]
[null,null,null,null,4837439738]
[null,null,null,null,4346652249]
[null,null,null,null,3823543697]
[null,null,null,null,7995667765]
[null,null,null,null,5847683533]
[null,null,null,null,6559888523]
[null,null,null,null,6798962844]
[null,null,null,null,8898578756]
[null,null,null,null,2997847843]
[null,null,null,null,3455424665]
[null,null,null,null,5522845782]
[null,null,null,null,2855482984]
[null,null,null,null,6938297399]
[null,null,null,null,3496589375]
[null,null,null,null,5237662947]
[null,null,null,null,4623596843]
[null,null,null,null,4543236732]
[null,null,null,null,9446394377]
[null,null,null,null,5268985243]
[null,null,null,null,3973752934]
[null,null,null,null,4999678833]
[null,null,null,null,2544638364]
[null,null,null,null,8855352999]
[null,null,null,null,7956878757]
[null,null,null,null,4574465784]
[null,null,null,null,2375744396]
[null,null,null,null,6265428247]
[null,null,null,null,7764493769]
[null,null,null,null,6729244246]
[null,null,null,null,4354988723]
[null,null,null,null,3685374633]
[null,null,null,null,2445384352]
[null,null,null,null,9628555557]
[null,null,null,null,9427842277]
[null,null,null,null,5334848465]
[null,null,null,null,9626773585]
[null,null,null,null,8374728797]
[null,null,null,null,3259877688]
[null,null,null,null,6422228239]
[null,null,null,null,2826379257]
[null,null,null,null,2257772378]
[null,null,null,null,8637525438]
[null,null,null,null,6884869633]
[null,null,null,null,4827523475]
[null,null,null,null,4298837488]
[null,null,null,null,8524995483]
[null,null,null,null,6423839273]
[null,null,null,null,6839787898]
[null,null,null,null,6824635725]
[null,null,null,null,4656483374]
[null,null,null,null,7277877978]
[null,null,null,null,9599299758]
[null,null,null,null,5279857265]
[null,null,null,null,9884778483]
[null,null,null,null,6377866863]
[null,null,null,null,3954264278]
[null,null,null,null,5335286689]
[null,null,null,null,8575946392]
[null,null,null,null,7646226855]
[null,null,null,null,3972888875]
[null,null,null,null,3952256432]
[null,null,null,null,9357438699]
[null,null,null,null,7623485944]
[null,null,null,null,2363958549]
[null,null,null,null,6582587363]
[null,null,null,null,9564295238]
[null,null,null,null,6938784638]
[null,null,null,null,8697837823]
[null,null,null,null,7595729663]
[null,null,null,null,3428268446]
[null,null,null,null,9687554348]
[null,null,null,null,8268262932]
[null,null,null,null,4982688467]
[null,null,null,null,5994366864]
[null,null,null,null,8487997763]
[null,null,null,null,5974443396]
[null,null,null,null,2955887533]
[null,null,null,null,7637736759]
[null,null,null,null,9358876265]
[null,null,null,null,5657992753]
[null,null,null,null,3538297949]
[null,null,null,null,6955367493]
[null,null,null,null,9379348857]
[null,null,null,null,6722772746]
[null,null,null,null,3787838386]
[null,null,null,null,4973629869]
[null,null,null,null,6365373368]
[null,null,null,null,5587824255]
[null,null,null,null,2883543342]
[null,null,null,null,3877858537]
[null,null,null,null,5528365676]
[null,null,null,null,2952254592]
[null,null,null,null,6496589736]
[null,null,null,null,9377886649]
[null,null,null,null,2464394438]
[null,null,null,null,3244788899]
[null,null,null,null,7275439757]
[null,null,null,null,7245375685]
[null,null,null,null,2324942356]
[null,null,null,null,2529696468]
[null,null,null,null,5267432639]
[null,null,null,null,7496565823]
[null,null,null,null,4334892473]
[null,null,null,null,6495647888]
[null,null,null,null,3898264469]
[null,null,null,null,2486659624]
[null,null,null,null,6243628283]
[null,null,null,null,7388276873]
[null,null,null,null,8854327529]
[null,null,null,null,7545487953]
[null,null,null,null,3272649438]
[null,null,null,null,9358898565]
[null,null,null,null,9598532863]
[null,null,null,null,9745732649]
[null,null,null,null,9786755876]
[null,null,null,null,6538885884]
[null,null,null,null,7422886663]
[null,null,null,null,9597478738]
[null,null,null,null,9952669952]
[null,null,null,null,6792678595]
[null,null,null,null,5934599465]
[null,null,null,null,5665392499]
[null,null,null,null,8672642352]
[null,null,null,null,4978442597]
[null,null,null,null,4234322434]
[null,null,null,null,6363356323]
[null,null,null,null,5369329288]
[null,null,null,null,5893662238]
[null,null,null,null,5435922333]
[null,null,null,null,8578476467]
[null,null,null,null,7727964636]
[null,null,null,null,3845336522]
[null,null,null,null,2925364659]
[null,null,null,null,6787658993]
[null,null,null,null,5476683923]
[null,null,null,null,8647868977]
[null,null,null,null,2856257729]
[null,null,null,null,3879796276]
[null,null,null,null,4776276473]
[null,null,null,null,6463432443]
[null,null,null,null,6922574477]
[null,null,null,null,8388688432]
[null,null,null,null,4527654454]
[null,null,null,null,4644673685]
[null,null,null,null,3553228932]
[null,null,null,null,9383437528]
[null,null,null,null,5948799598]
[null,null,null,null,9665584743]
[null,null,null,null,6687857838]
[null,null,null,null,5297394622]
[null,null,null,null,3399464767]
[null,null,null,null,4729789372]
[null,null,null,null,6293734286]
[null,null,null,null,6353375767]
[null,null,null,null,7676557273]
[null,null,null,null,3533587863]
[null,null,null,null,6776683535]
[null,null,null,null,6327394997]
[null,null,null,null,2587722359]
[null,null,null,null,4994675946]
[null,null,null,null,7776237659]
[null,null,null,null,8728459457]
[null,null,null,null,5263733579]
[null,null,null,null,8533665349]
[null,null,null,null,2585232342]
[null,null,null,null,8333722352]
[null,null,null,null,8796367754]
[null,null,null,null,7324666642]
[null,null,null,null,7226265434]
[null,null,null,null,2585246628]
[null,null,null,null,9852493462]
[null,null,null,null,8349693489]
[null,null,null,null,6496565249]
[null,null,null,null,4936959939]
[null,null,null,null,8627495358]
[null,null,null,null,9538378574]
[null,null,null,null,8882329964]
[null,null,null,null,6392884897]
[null,null,null,null,4988287355]
[null,null,null,null,7293277433]
[null,null,null,null,8642264696]
[null,null,null,null,8875493769]
[null,null,null,null,8545925288]
[null,null,null,null,8468569753]
[null,null,null,null,2273533378]
[null,null,null,null,3359427643]
[null,null,null,null,3932569687]
[null,null,null,null,6875446546]
[null,null,null,null,8496978565]
[null,null,null,null,9465333359]
[null,null,null,null,6664565855]
[null,null,null,null,6494743553]
[null,null,null,null,7948749633]
[null,null,null,null,8933564324]
[null,null,null,null,8643356477]
[null,null,null,null,9479463449]
[null,null,null,null,6646922759]
[null,null,null,null,9493257449]
[null,null,null,null,3439328727]
[null,null,null,null,6426548463]
[null,null,null,null,9386862984]
[null,null,null,null,5487468282]
[null,null,null,null,8734866966]
[null,null,null,null,8353285449]
[null,null,null,null,5456946793]
[null,null,null,null,5339994737]
[null,null,null,null,4674899942]
[null,null,null,null,5872365985]
[null,null,null,null,6287225644]
[null,null,null,null,9884932922]
[null,null,null,null,9379554755]
[null,null,null,null,6324636742]
[null,null,null,null,3993728434]
[null,null,null,null,8758753657]
[null,null,null,null,9676552732]
[null,null,null,null,3382727592]
[null,null,null,null,2579427369]
[null,null,null,null,8553324283]
[null,null,null,null,3938797688]
[null,null,null,null,2772734952]
[null,null,null,null,9629598248]
[null,null,null,null,8569779453]
[null,null,null,null,2759865975]
[null,null,null,null,3264458472]
[null,null,null,null,6439479967]
[null,null,null,null,4854796496]
[null,null,null,null,2286558574]
[null,null,null,null,5963687462]
[null,null,null,null,4699432789]
[null,null,null,null,2793237947]
[null,null,null,null,6927424234]
[null,null,null,null,6277795732]
[null,null,null,null,5649889257]
[null,null,null,null,7246964999]
[null,null,null,null,7979272496]
[null,null,null,null,2466865437]
[null,null,null,null,3263727957]
[null,null,null,null,3383735326]
[null,null,null,null,5596743372]
[null,null,null,null,4788498287]
[null,null,null,null,9875498766]
[null,null,null,null,4597847588]
[null,null,null,null,2798247728]
[null,null,null,null,6754852582]
[null,null,null,null,6685785955]
[null,null,null,null,5475787897]
[null,null,null,null,7944825969]
[null,null,null,null,6649968393]
[null,null,null,null,7329879833]
[null,null,null,null,7376372747]
[null,null,null,null,7344364778]
[null,null,null,null,6279879832]
[null,null,null,null,3485556279]
[null,null,null,null,3863365635]
[null,null,null,null,3454364375]
[null,null,null,null,7888248968]
[null,null,null,null,6884559943]
[null,null,null,null,4289324279]
[null,null,null,null,2283777998]
[null,null,null,null,7878877727]
[null,null,null,null,8795336977]
[null,null,null,null,8422638628]
[null,null,null,null,5738873883]
[null,null,null,null,3328474695]
[null,null,null,null,7892767363]
[null,null,null,null,9583965576]
[null,null,null,null,7733425362]
[null,null,null,null,5484958578]
[null,null,null,null,7767987822]
[null,null,null,null,7994564233]
[null,null,null,null,4938896947]
[null,null,null,null,5443743656]
[null,null,null,null,8994479675]
[null,null,null,null,5995773573]
[null,null,null,null,4835784478]
[null,null,null,null,9769965832]
[null,null,null,null,2397972425]
[null,null,null,null,5472267938]
[null,null,null,null,4949756729]
[null,null,null,null,3925838293]
[null,null,null,null,8546382962]
[null,null,null,null,7233792867]
[null,null,null,null,9328753588]
[null,null,null,null,6546935572]
[null,null,null,null,7739656736]
[null,null,null,null,2622645455]
[null,null,null,null,9359789729]
[null,null,null,null,2495486358]
[null,null,null,null,7756899298]
[null,null,null,null,8469438354]
[null,null,null,null,6852257885]
[null,null,null,null,6892739979]
[null,null,null,null,4727325589]
[null,null,null,null,2674842566]
[null,null,null,null,6576735599]
[null,null,null,null,3362399332]
[null,null,null,null,8636497275]
[null,null,null,null,8823847482]
[null,null,null,null,5298535995]
[null,null,null,null,2285568794]
[null,null,null,null,6893694695]
[null,null,null,null,9999366672]
[null,null,null,null,4626838858]
[null,null,null,null,4822974694]
[null,null,null,null,5935224346]
[null,null,null,null,9857367675]
[null,null,null,null,2768679249]
[null,null,null,null,7397998972]
[null,null,null,null,9748254896]
[null,null,null,null,3289775353]
[null,null,null,null,3868549755]
[null,null,null,null,7662962333]
[null,null,null,null,7537572966]
[null,null,null,null,5655997638]
[null,null,null,null,6665385796]
[null,null,null,null,2532355525]
[null,null,null,null,8349898582]
[null,null,null,null,9459933638]
[null,null,null,null,4586954523]
[null,null,null,null,7253683664]
[null,null,null,null,2922392872]
[null,null,null,null,3466337873]
[null,null,null,null,7294868463]
[null,null,null,null,9585498787]
[null,null,null,null,4247579488]
[null,null,null,null,5635894796]
[null,null,null,null,2746922759]
[null,null,null,null,5282548928]
[null,null,null,null,2543448328]
[null,null,null,null,2862946438]
[null,null,null,null,4465248435]
[null,null,null,null,5653995668]
[null,null,null,null,6985388334]
[null,null,null,null,6655533473]
[null,null,null,null,4968346768]
[null,null,null,null,9429222682]
[null,null,null,null,3329298362]
[null,null,null,null,3376873655]
[null,null,null,null,4276966646]
[null,null,null,null,2248963487]
[null,null,null,null,5958745479]
[null,null,null,null,4976396894]
[null,null,null,null,5933258737]
[null,null,null,null,9457847626]
[null,null,null,null,3282386555]
[null,null,null,null,6757948852]
[null,null,null,null,4859433335]
[null,null,null,null,3889537846]
[null,null,null,null,4267342928]
[null,null,null,null,3626463899]
[null,null,null,null,5252283835]
[null,null,null,null,9529869388]
[null,null,null,null,7823363268]
[null,null,null,null,3938396275]
[null,null,null,null,5542729553]
[null,null,null,null,6836598866]
[null,null,null,null,6243286863]
[null,null,null,null,5348999454]
[null,null,null,null,6567353996]
[null,null,null,null,5787823585]
[null,null,null,null,6234447875]
[null,null,null,null,5892777762]
[null,null,null,null,6799227359]
[null,null,null,null,8739469723]
[null,null,null,null,3745749689]
[null,null,null,null,4228999364]
[null,null,null,null,4824234429]
[null,null,null,null,9566264494]
[null,null,null,null,2596588285]
[null,null,null,null,8436328557]
[null,null,null,null,4393399555]
[null,null,null,null,9422894629]
[null,null,null,null,4459573932]
[null,null,null,null,8382478432]
[null,null,null,null,3885572266]
[null,null,null,null,6542938486]
[null,null,null,null,9299548926]
[null,null,null,null,9378859776]
[null,null,null,null,5274535329]
[null,null,null,null,7555969377]
[null,null,null,null,9745684382]
[null,null,null,null,7972386474]
[null,null,null,null,5492856974]
[null,null,null,null,5575725859]
[null,null,null,null,2937858377]
[null,null,null,null,4447654942]
[null,null,null,null,6786268824]
[null,null,null,null,2575344223]
[null,null,null,null,6878536364]
[null,null,null,null,3878287225]
[null,null,null,null,5724629367]
[null,null,null,null,7658496352]
[null,null,null,null,7558542666]
[null,null,null,null,7253963556]
[null,null,null,null,3675697734]
[null,null,null,null,5687699725]
[null,null,null,null,6984744393]
[null,null,null,null,8226467485]
[null,null,null,null,4949499223]
[null,null,null,null,3288932572]
[null,null,null,null,9946746577]
[null,null,null,null,4697364625]
[null,null,null,null,3357834622]
[null,null,null,null,6586542476]
[null,null,null,null,7885543928]
[null,null,null,null,7722675667]
[null,null,null,null,8233343934]
[null,null,null,null,9593685373]
[null,null,null,null,4924592552]
[null,null,null,null,8966832952]
[null,null,null,null,2384384849]
[null,null,null,null,6337444796]
[null,null,null,null,2888878793]
[null,null,null,null,8239696799]
[null,null,null,null,7792768944]
[null,null,null,null,6849283626]
[null,null,null,null,5932783866]
[null,null,null,null,4698456897]
[null,null,null,null,6962553985]
[null,null,null,null,7684664278]
[null,null,null,null,3348865549]
[null,null,null,null,6873375453]
[null,null,null,null,6575375223]
[null,null,null,null,7946448884]
[null,null,null,null,5878532393]
[null,null,null,null,4837722448]
[null,null,null,null,7269579786]
[null,null,null,null,4524526744]
[null,null,null,null,3274284627]
[null,null,null,null,2494863635]
[null,null,null,null,8457529943]
[null,null,null,null,2398828342]
[null,null,null,null,8875477384]
[null,null,null,null,9834626657]
[null,null,null,null,9364384723]
[null,null,null,null,6395793492]
[null,null,null,null,9992343342]
[null,null,null,null,2494626685]
[null,null,null,null,4295465476]
[null,null,null,null,7758699758]
[null,null,null,null,2973368977]
[null,null,null,null,2367872422]
[null,null,null,null,4592275298]
[null,null,null,null,5763999642]
[null,null,null,null,4979787588]
[null,null,null,null,5223978278]
[null,null,null,null,4565325732]
[null,null,null,null,3692778789]
[null,null,null,null,2429999636]
[null,null,null,null,6455486894]
[null,null,null,null,2885694523]
[null,null,null,null,7269876254]
[null,null,null,null,6927684573]
[null,null,null,null,5582358484]
[null,null,null,null,6627554838]
[null,null,null,null,6323653343]
[null,null,null,null,5327248356]
[null,null,null,null,8694383424]
[null,null,null,null,2759862726]
[null,null,null,null,6537327694]
[null,null,null,null,4386457884]
[null,null,null,null,7343637427]
[null,null,null,null,7988633656]
[null,null,null,null,6479632232]
[null,null,null,null,8548337275]
[null,null,null,null,3683379665]
[null,null,null,null,6262874793]
[null,null,null,null,6486489493]
[null,null,null,null,5556424747]
[null,null,null,null,8376864862]
[null,null,null,null,9873869344]
[null,null,null,null,9279685376]
[null,null,null,null,5788696647]
[null,null,null,null,3273743638]
[null,null,null,null,3555259779]
[null,null,null,null,8662462695]
[null,null,null,null,6948299545]
[null,null,null,null,7224368755]
[null,null,null,null,5723979736]
[null,null,null,null,4458896356]
[null,null,null,null,8964343446]
[null,null,null,null,6584835395]
[null,null,null,null,9352539749]
[null,null,null,null,3296976938]
[null,null,null,null,9386639777]
[null,null,null,null,2924286744]
[null,null,null,null,7638687753]
[null,null,null,null,8374478599]
[null,null,null,null,2329398239]
[null,null,null,null,2378997959]
[null,null,null,null,7363942792]
[null,null,null,null,5993738844]
[null,null,null,null,5322288976]
[null,null,null,null,4896872722]
[null,null,null,null,7492658429]
[null,null,null,null,3552344247]
[null,null,null,null,4669724963]
[null,null,null,null,3888579969]
[null,null,null,null,6897992629]
[null,null,null,null,8895254489]
[null,null,null,null,5986964438]
[null,null,null,null,7539499752]
[null,null,null,null,3555677576]
[null,null,null,null,8724975626]
[null,null,null,null,6382932838]
[null,null,null,null,2529224829]
[null,null,null,null,6628852843]
[]
[]
[null,null,null,null,3874227685]
[null,null,null,null,5462447457]
[null,null,null,null,4434235656]
[null,null,null,null,9437952785]
[null,null,null,null,6269682695]
[null,null,null,null,2966588529]
[null,null,null,null,3548534747]
[null,null,null,null,4576796883]
[null,null,null,null,9242624383]
[null,null,null,null,2385338627]
[null,null,null,null,6572299452]
[null,null,null,null,7252949958]
[null,null,null,null,8444779735]
[null,null,null,null,6298275859]
[null,null,null,null,7669783647]
[null,null,null,null,4492468836]
[null,null,null,null,5492299292]
[null,null,null,null,2876884323]
[null,null,null,null,7246795634]
[null,null,null,null,4227242636]
[null,null,null,null,3767643568]
[null,null,null,null,4459884847]
[null,null,null,null,3756276879]
[null,null,null,null,8624362465]
[null,null,null,null,7532643245]
[null,null,null,null,2428543927]
[null,null,null,null,7256656653]
[null,null,null,null,3283375972]
[null,null,null,null,9784724275]
[null,null,null,null,6748443959]
[null,null,null,null,2654736977]
[null,null,null,null,4739582866]
[null,null,null,null,3257377247]
[null,null,null,null,9296692786]
[null,null,null,null,6693649882]
[null,null,null,null,8643475593]
[null,null,null,null,7669396292]
[null,null,null,null,6996976296]
[null,null,null,null,4765377564]
[null,null,null,null,8277929589]
[null,null,null,null,3848979857]
[null,null,null,null,2467984698]
[null,null,null,null,2944737464]
[null,null,null,null,2227878753]
[null,null,null,null,6639839239]
[null,null,null,null,6996529575]
[null,null,null,null,8688346293]
[null,null,null,null,8886282723]
[null,null,null,null,8985396387]
[null,null,null,null,7797447269]
[null,null,null,null,9447665477]
[null,null,null,null,5249558863]
[null,null,null,null,8838327738]
[null,null,null,null,6565839769]
[null,null,null,null,9967285564]
[null,null,null,null,3675232558]
[null,null,null,null,9822339877]
[null,null,null,null,8542287275]
[null,null,null,null,8573388734]
[null,null,null,null,5865224522]
[null,null,null,null,2722975952]
[null,null,null,null,2684266398]
[null,null,null,null,5684383753]
[null,null,null,null,9849458676]
[null,null,null,null,3788437878]
[null,null,null,null,3246938798]
[null,null,null,null,4553938794]
[null,null,null,null,7979822856]
[null,null,null,null,7993832383]
[null,null,null,null,7356536974]
[null,null,null,null,7735693276]
[null,null,null,null,9399823479]
[null,null,null,null,3933788743]
[null,null,null,null,6847979524]
[null,null,null,null,8879954642]
[null,null,null,null,6424893952]
[null,null,null,null,9956243789]
[null,null,null,null,6639546863]
[null,null,null,null,7459437564]
[null,null,null,null,3398455638]
[null,null,null,null,5387236542]
[null,null,null,null,5475939958]
[null,null,null,null,2644527679]
[null,null,null,null,6458942597]
[null,null,null,null,9555293582]
[null,null,null,null,8255564493]
[null,null,null,null,3528486786]
[null,null,null,null,7897434563]
[null,null,null,null,2849582657]
[null,null,null,null,5956387454]
[null,null,null,null,6532458538]
[null,null,null,null,3278799997]
[null,null,null,null,3699369398]
[null,null,null,null,8982343847]
[null,null,null,null,3633678528]
[null,null,null,null,6598245842]
[null,null,null,null,9998989879]
[null,null,null,null,7649432379]
[null,null,null,null,4343938738]
[null,null,null,null,4243645979]
[null,null,null,null,6974747386]
[null,null,null,null,2393592563]
[null,null,null,null,7277332373]
[null,null,null,null,5426766575]
[null,null,null,null,6672264538]
[null,null,null,null,4282495779]
[null,null,null,null,9274485379]
[null,null,null,null,2724342522]
[null,null,null,null,3389577294]
[null,null,null,null,6374947872]
[null,null,null,null,5276583557]
[null,null,null,null,2673484359]
[null,null,null,null,3484693448]
[null,null,null,null,7997227849]
[null,null,null,null,6587566454]
[null,null,null,null,3659497989]
[null,null,null,null,7669586367]
[null,null,null,null,9434277529]
[null,null,null,null,6596982628]
[null,null,null,null,3434242734]
[null,null,null,null,3994386277]
[null,null,null,null,2422975946]
[null,null,null,null,9979492253]
[null,null,null,null,4345776572]
[null,null,null,null,8326739259]
[null,null,null,null,6225584972]
[null,null,null,null,9486527566]
[null,null,null,null,9573526763]
[null,null,null,null,9955548475]
[null,null,null,null,2264493698]
[null,null,null,null,6866748588]
[null,null,null,null,4729326837]
[null,null,null,null,7243489933]
[null,null,null,null,5322938548]
[null,null,null,null,8998457654]
[null,null,null,null,9928664322]
[null,null,null,null,3788844363]
[null,null,null,null,3576796986]
[null,null,null,null,2233735935]
[null,null,null,null,2329342632]
[null,null,null,null,4562753985]
[null,null,null,null,5974975595]
[null,null,null,null,4694967667]
[null,null,null,null,2797837646]
[null,null,null,null,3689573282]
[null,null,null,null,6342827527]
[null,null,null,null,8778549257]
[null,null,null,null,4785399845]
[null,null,null,null,8455987994]
[null,null,null,null,2729838285]
[null,null,null,null,5287728678]
[null,null,null,null,8878437932]
[null,null,null,null,4334828556]
[null,null,null,null,3898785858]
[null,null,null,null,6372849642]
[null,null,null,null,4664688979]
[null,null,null,null,9954396489]
[null,null,null,null,6734574226]
[null,null,null,null,3296462887]
[null,null,null,null,8284655673]
[null,null,null,null,5633289693]
[null,null,null,null,9832853679]
[null,null,null,null,9225356899]
[null,null,null,null,7225595342]
[null,null,null,null,4564433564]
[null,null,null,null,9592789556]
[null,null,null,null,4457682499]
[null,null,null,null,7642442584]
[null,null,null,null,3784857269]
[null,null,null,null,5525485594]
[null,null,null,null,8832884939]
[null,null,null,null,8235543959]
[null,null,null,null,8228535642]
[null,null,null,null,5569787766]
[null,null,null,null,4264835699]
[null,null,null,null,9979377396]
[null,null,null,null,4739357527]
[null,null,null,null,9932469298]
[null,null,null,null,4952666365]
[null,null,null,null,6738259479]
[null,null,null,null,5846675382]
[null,null,null,null,8745599747]
[null,null,null,null,3384454896]
[null,null,null,null,9624825247]
[null,null,null,null,8223228754]
[null,null,null,null,3886598584]
[null,null,null,null,2964722788]
[null,null,null,null,4672389953]
[null,null,null,null,4563683468]
[null,null,null,null,4694756464]
[null,null,null,null,6539958733]
[null,null,null,null,4698238683]
[null,null,null,null,9682754856]
[null,null,null,null,4775954269]
[null,null,null,null,6498592937]
[null,null,null,null,3556882676]
[null,null,null,null,3837428459]
[null,null,null,null,4496693465]
[null,null,null,null,6382823657]
[null,null,null,null,9696688799]
[null,null,null,null,8669544363]
[null,null,null,null,5823384725]
[null,null,null,null,4795885772]
[null,null,null,null,8755359537]
[null,null,null,null,8727827528]
[null,null,null,null,3793982334]
[null,null,null,null,5327849595]
[null,null,null,null,8662837743]
[null,null,null,null,7997328323]
[null,null,null,null,7792557455]
[null,null,null,null,6225439677]
[null,null,null,null,5335849848]
[null,null,null,null,5745223299]
[null,null,null,null,8359648433]
[null,null,null,null,3936289252]
[null,null,null,null,7257382875]
[null,null,null,null,9275933444]
[null,null,null,null,4327958292]
[null,null,null,null,9355527749]
[null,null,null,null,5594885377]
[null,null,null,null,7965228889]
[null,null,null,null,4633696227]
[null,null,null,null,2437477828]
[null,null,null,null,8652444227]
[null,null,null,null,5927472663]
[null,null,null,null,8775274537]
[null,null,null,null,7784794866]
[null,null,null,null,9893675384]
[null,null,null,null,9542788397]
[null,null,null,null,2585567734]
[null,null,null,null,9743864824]
[null,null,null,null,9829454267]
[null,null,null,null,2279757449]
[null,null,null,null,8739269778]
[null,null,null,null,5978886468]
[null,null,null,null,8275292393]
[null,null,null,null,6386369599]
[null,null,null,null,5423673338]
[null,null,null,null,6357684233]
[null,null,null,null,8638586958]
[null,null,null,null,2353257239]
[null,null,null,null,3279644585]
[null,null,null,null,7585732229]
[null,null,null,null,9935489262]
[null,null,null,null,3522578299]
[null,null,null,null,8895362987]
[null,null,null,null,5779996488]
[null,null,null,null,3592462334]
[null,null,null,null,5865633434]
[null,null,null,null,9487857565]
[null,null,null,null,8267696936]
[null,null,null,null,9586222554]
[null,null,null,null,6559886275]
[null,null,null,null,8478893928]
[null,null,null,null,3324668437]
[null,null,null,null,4246582762]
[null,null,null,null,5735248338]
[null,null,null,null,2665959493]
[null,null,null,null,5299699855]
[null,null,null,null,6345598363]
[null,null,null,null,5864495789]
[null,null,null,null,5823653688]
[null,null,null,null,2536975468]
[null,null,null,null,9887236859]
[null,null,null,null,3328225876]
[null,null,null,null,4642225634]
[null,null,null,null,6749782822]
[null,null,null,null,5824634767]
[null,null,null,null,8259375345]
[null,null,null,null,7299958255]
[null,null,null,null,9329723597]
[null,null,null,null,9755244447]
[null,null,null,null,5372744849]
[null,null,null,null,4647234566]
[null,null,null,null,3372965358]
[null,null,null,null,2636723547]
[null,null,null,null,2286358597]
[null,null,null,null,6597833896]
[null,null,null,null,5323698674]
[null,null,null,null,5538567933]
[null,null,null,null,4773763254]
[null,null,null,null,2722873754]
[null,null,null,null,2596367793]
[null,null,null,null,9857824792]
[null,null,null,null,8452396622]
[null,null,null,null,4442292425]
[null,null,null,null,8384935859]
[null,null,null,null,7847796865]
[null,null,null,null,4922273655]
[null,null,null,null,9858589992]
[null,null,null,null,2488234526]
[null,null,null,null,2937632927]
[null,null,null,null,5674976262]
[null,null,null,null,8253395654]
[null,null,null,null,9556284576]
[null,null,null,null,8679559447]
[null,null,null,null,3843233992]
[null,null,null,null,3226658447]
[null,null,null,null,4424546785]
[null,null,null,null,5676387247]
[null,null,null,null,7324243524]
[null,null,null,null,7535793292]
[null,null,null,null,5697425474]
[null,null,null,null,9542823334]
[null,null,null,null,3229658484]
[null,null,null,null,6324697569]
[null,null,null,null,2525826583]
[null,null,null,null,3793245324]
[null,null,null,null,5875977272]
[null,null,null,null,6394689253]
[null,null,null,null,8435336339]
[null,null,null,null,5598267389]
[null,null,null,null,3743442884]
[null,null,null,null,5729635462]
[null,null,null,null,7849448225]
[null,null,null,null,8472795658]
[null,null,null,null,9569789838]
[null,null,null,null,4374923426]
[null,null,null,null,4723283257]
[null,null,null,null,6474284837]
[null,null,null,null,2325783638]
[null,null,null,null,7895632285]
[null,null,null,null,3763348272]
[null,null,null,null,8569845672]
[null,null,null,null,4923293392]
[null,null,null,null,6245474286]
[null,null,null,null,9696764547]
[null,null,null,null,5857944438]
[null,null,null,null,7339559343]
[null,null,null,null,4249652854]
[null,null,null,null,8652869657]
[null,null,null,null,7954934927]
[null,null,null,null,4573759338]
[null,null,null,null,5754555399]
[null,null,null,null,2824645963]
[null,null,null,null,3576378982]
[null,null,null,null,7878895879]
[null,null,null,null,3835289282]
[null,null,null,null,6524447945]
[null,null,null,null,8868622393]
[null,null,null,null,6243979755]
[null,null,null,null,6445435553]
[null,null,null,null,9643434253]
[null,null,null,null,5762575943]
[null,null,null,null,5424764954]
[null,null,null,null,4572448965]
[null,null,null,null,5923742336]
[null,null,null,null,9768574847]
[null,null,null,null,7569639675]
[null,null,null,null,5757772825]
[null,null,null,null,2676367624]
[null,null,null,null,3996778936]
[null,null,null,null,2542298966]
[null,null,null,null,5895494435]
[null,null,null,null,5676953383]
[null,null,null,null,2678765376]
[null,null,null,null,4962833526]
[null,null,null,null,4422858984]
[null,null,null,null,3856247463]
[null,null,null,null,2863672877]
[null,null,null,null,3979698525]
[null,null,null,null,5429497888]
[null,null,null,null,3683387322]
[null,null,null,null,4858632963]
[null,null,null,null,3559265975]
[null,null,null,null,4958252786]
[null,null,null,null,7942288486]
[null,null,null,null,7642977498]
[null,null,null,null,5592356994]
[null,null,null,null,8628843487]
[null,null,null,null,2462645239]
[null,null,null,null,4636274657]
[null,null,null,null,7762343976]
[null,null,null,null,2995957229]
[null,null,null,null,7884735843]
[null,null,null,null,5698378892]
[null,null,null,null,8289247595]
[null,null,null,null,5265877639]
[null,null,null,null,6724437748]
[null,null,null,null,9795475733]
[null,null,null,null,8228363226]
[null,null,null,null,9759428432]
[null,null,null,null,3677797984]
[null,null,null,null,4623354777]
[null,null,null,null,7785529394]
[null,null,null,null,9764669833]
[null,null,null,null,2939974437]
[null,null,null,null,9974294868]
[null,null,null,null,3632268278]
[null,null,null,null,4656764724]
[null,null,null,null,3767298298]
[null,null,null,null,6893663832]
[null,null,null,null,3894953893]
[null,null,null,null,7497434563]
[null,null,null,null,6672939693]
[null,null,null,null,6368439426]
[null,null,null,null,9845578292]
[null,null,null,null,6259936332]
[null,null,null,null,4939876894]
[null,null,null,null,5355966934]
[null,null,null,null,3574389466]
[null,null,null,null,2582444626]
[null,null,null,null,2779245462]
[null,null,null,null,3922973948]
[null,null,null,null,3369846937]
[null,null,null,null,5722283645]
[null,null,null,null,6739484483]
[null,null,null,null,5753586352]
[null,null,null,null,3426687528]
[null,null,null,null,4536765839]
[null,null,null,null,6653234879]
[null,null,null,null,4776558967]
[null,null,null,null,3443296756]
[null,null,null,null,4433675494]
[null,null,null,null,5677224583]
[null,null,null,null,9276595766]
[null,null,null,null,3855263355]
[null,null,null,null,4995947574]
[null,null,null,null,6565266825]
[null,null,null,null,6729445784]
[null,null,null,null,8789465469]
[null,null,null,null,7487336763]
[null,null,null,null,7766494338]
[null,null,null,null,4883222223]
[null,null,null,null,9834758236]
[null,null,null,null,6289828645]
[null,null,null,null,5897229844]
[null,null,null,null,2325677633]
[null,null,null,null,9569324763]
[null,null,null,null,6698875344]
[null,null,null,null,8477767246]
[null,null,null,null,5282725824]
[null,null,null,null,8682686796]
[null,null,null,null,4658586428]
[null,null,null,null,7825857538]
[null,null,null,null,4686435288]
[null,null,null,null,7927623284]
[null,null,null,null,3552429877]
[null,null,null,null,5563244259]
[null,null,null,null,8893526429]
[null,null,null,null,7399689729]
[null,null,null,null,9989764734]
[null,null,null,null,9996874796]
[null,null,null,null,9562925252]
[null,null,null,null,9933676242]
[null,null,null,null,9469988779]
[null,null,null,null,7429322686]
[null,null,null,null,8692575652]
[null,null,null,null,5648256825]
[null,null,null,null,2386632352]
[null,null,null,null,4663753383]
[null,null,null,null,9842279273]
[null,null,null,null,5236538855]
[null,null,null,null,8787478393]
[null,null,null,null,9883749827]
[null,null,null,null,5326949954]
[null,null,null,null,7562675868]
[null,null,null,null,4266558628]
[null,null,null,null,9328839353]
[null,null,null,null,4565583736]
[null,null,null,null,2589379967]
[null,null,null,null,5942949256]
[null,null,null,null,5922283879]
[null,null,null,null,9794583949]
[null,null,null,null,9958653899]
[null,null,null,null,8495632633]
[null,null,null,null,4822662989]
[null,null,null,null,3846498457]
[null,null,null,null,8779243756]
[null,null,null,null,4622922496]
[null,null,null,null,3522994757]
[null,null,null,null,2669733644]
[null,null,null,null,4827396729]
[null,null,null,null,8579768774]
[null,null,null,null,3279475749]
[null,null,null,null,9899843883]
[null,null,null,null,3766534537]
[null,null,null,null,7373853252]
[null,null,null,null,2927345343]
[null,null,null,null,2727367358]
[null,null,null,null,8785867837]
[null,null,null,null,9492339363]
[null,null,null,null,6936988374]
[null,null,null,null,8895976837]
[null,null,null,null,2484962588]
[null,null,null,null,9763445677]
[null,null,null,null,4649355846]
[null,null,null,null,4438444599]
[null,null,null,null,8283664829]
[null,null,null,null,7724349424]
[null,null,null,null,9729968764]
[null,null,null,null,6643666392]
[null,null,null,null,2649288826]
[null,null,null,null,2244464894]
[null,null,null,null,7674479497]
[null,null,null,null,3323783996]
[null,null,null,null,3482278982]
[null,null,null,null,2977282627]
[null,null,null,null,7545228554]
[null,null,null,null,8344364727]
[null,null,null,null,6587427685]
[null,null,null,null,4727869377]
[null,null,null,null,7958238895]
[null,null,null,null,8279427424]
[null,null,null,null,9864365857]
[null,null,null,null,9343285562]
[null,null,null,null,7986652564]
[null,null,null,null,9452878297]
[null,null,null,null,2666529792]
[null,null,null,null,8784986754]
[null,null,null,null,3733522553]
[null,null,null,null,3868727894]
[null,null,null,null,5856978247]
[null,null,null,null,9836688466]
[null,null,null,null,4758326898]
[null,null,null,null,2932624573]
[null,null,null,null,3263557436]
[null,null,null,null,6383378384]
[null,null,null,null,9977587974]
[null,null,null,null,7726228455]
[null,null,null,null,7646279433]
[null,null,null,null,2452563896]
[null,null,null,null,9934685675]
[null,null,null,null,3396696949]
[null,null,null,null,3437638427]
[null,null,null,null,8548629236]
[null,null,null,null,2582755635]
[null,null,null,null,4462994498]
[null,null,null,null,3287988763]
[null,null,null,null,8543362478]
[null,null,null,null,8333458273]
[null,null,null,null,8685935783]
[null,null,null,null,8385232424]
[null,null,null,null,8844988743]
[null,null,null,null,9598529648]
[null,null,null,null,7264743866]
[null,null,null,null,4559555587]
[null,null,null,null,5744635665]
[null,null,null,null,2768229934]
[null,null,null,null,5235283593]
[null,null,null,null,2539994242]
[null,null,null,null,8398623876]
[null,null,null,null,5495646774]
[null,null,null,null,4259476898]
[null,null,null,null,8942257654]
[null,null,null,null,3297635949]
[null,null,null,null,7877845825]
[null,null,null,null,5839633452]
[null,null,null,null,9698773383]
[null,null,null,null,4744243765]
[null,null,null,null,5569852788]
[null,null,null,null,4868449238]
[null,null,null,null,8866972578]
[null,null,null,null,7286972844]
[null,null,null,null,3577925635]
[null,null,null,null,4265987452]
[null,null,null,null,7932367594]
[null,null,null,null,3856335688]
[null,null,null,null,5678247466]
[null,null,null,null,3378877366]
[null,null,null,null,3455667767]
[null,null,null,null,3928872272]
[null,null,null,null,3266368977]
[null,null,null,null,7967793696]
[null,null,null,null,6252775278]
[null,null,null,null,6833295889]
[null,null,null,null,8387823798]
[null,null,null,null,4496243592]
[null,null,null,null,3268775637]
[null,null,null,null,8575683738]
[null,null,null,null,6786477927]
[null,null,null,null,4256233754]
[null,null,null,null,9822987672]
[null,null,null,null,7576857927]
[null,null,null,null,7578345999]
[null,null,null,null,7328275372]
[null,null,null,null,5759622388]
[null,null,null,null,2246735654]
[null,null,null,null,8767444723]
[null,null,null,null,5232787868]
[null,null,null,null,2674429262]
[null,null,null,null,2694787533]
[null,null,null,null,4284255554]
[null,null,null,null,5988926938]
[null,null,null,null,3644693755]
[null,null,null,null,9749795847]
[null,null,null,null,9256887962]
[null,null,null,null,6326875283]
[null,null,null,null,3955237322]
[null,null,null,null,5597496869]
[null,null,null,null,2233975492]
[null,null,null,null,3964575982]
[null,null,null,null,7499466929]
[null,null,null,null,4369456877]
[null,null,null,null,7984983966]
[null,null,null,null,4279633938]
[null,null,null,null,6883946475]
[null,null,null,null,2379348546]
[null,null,null,null,9764929986]
[null,null,null,null,2327529746]
[null,null,null,null,2666968393]
[null,null,null,null,7882735366]
[null,null,null,null,6469975962]
[null,null,null,null,5396745963]
[null,null,null,null,8733628629]
[null,null,null,null,4858269675]
[null,null,null,null,2668356443]
[null,null,null,null,4366335832]
[null,null,null,null,2263332977]
[null,null,null,null,2579974245]
[null,null,null,null,4494763264]
[null,null,null,null,4993854956]
[null,null,null,null,4922886745]
[null,null,null,null,3323567768]
[null,null,null,null,4726529349]
[null,null,null,null,9576589283]
[null,null,null,null,6699337748]
[null,null,null,null,4537466428]
[null,null,null,null,9374294257]
[null,null,null,null,2489582632]
[null,null,null,null,5832387732]
[null,null,null,null,5987926452]
[null,null,null,null,2958497675]
[null,null,null,null,6549483343]
[null,null,null,null,6844783675]
[null,null,null,null,9985472492]
[null,null,null,null,6465864247]
[null,null,null,null,8237224346]
[null,null,null,null,3873394474]
[null,null,null,null,4294773725]
[null,null,null,null,7372269473]
[null,null,null,null,6429554445]
[null,null,null,null,7823246247]
[null,null,null,null,4337975632]
[null,null,null,null,3842733252]
[null,null,null,null,6956447328]
[null,null,null,null,6276496265]
[null,null,null,null,4332688255]
[null,null,null,null,8266758446]
[null,null,null,null,3532627896]
[null,null,null,null,3953896858]
[null,null,null,null,6799359353]
[null,null,null,null,4599785364]
[null,null,null,null,7462266947]
[null,null,null,null,8694374243]
[null,null,null,null,7777965957]
[null,null,null,null,5378986879]
[null,null,null,null,4737644277]
[null,null,null,null,7857789942]
[null,null,null,null,9893524392]
[null,null,null,null,5432967248]
[null,null,null,null,5898778557]
[null,null,null,null,2374323492]
[null,null,null,null,3557355829]
[null,null,null,null,6988354754]
[null,null,null,null,8227599664]
[null,null,null,null,4328245855]
[null,null,null,null,7355388363]
[null,null,null,null,6645473345]
[null,null,null,null,4857688635]
[null,null,null,null,2687275784]
[null,null,null,null,6895295453]
[null,null,null,null,8454335526]
[null,null,null,null,7367972852]
[null,null,null,null,6225869666]
[null,null,null,null,8566945295]
[null,null,null,null,5663969972]
[null,null,null,null,4937992999]
[null,null,null,null,7726358683]
[null,null,null,null,8777766552]
[null,null,null,null,9426696932]
[null,null,null,null,4745758339]
[null,null,null,null,8973982739]
[null,null,null,null,6777776244]
[null,null,null,null,5839934575]
[null,null,null,null,5796876626]
[null,null,null,null,5393396829]
[null,null,null,null,8895654545]
[null,null,null,null,9533983994]
[null,null,null,null,5284644838]
[null,null,null,null,5223683386]
[null,null,null,null,9645666259]
[null,null,null,null,4962876959]
[null,null,null,null,6737347798]
[null,null,null,null,7893753797]
[null,null,null,null,5723873634]
[null,null,null,null,4945853252]
[null,null,null,null,3329532948]
[null,null,null,null,4355455875]
[null,null,null,null,8868642627]
[null,null,null,null,4834937264]
[null,null,null,null,4542542668]
[null,null,null,null,8688453987]
[null,null,null,null,3263728388]
[null,null,null,null,8283236869]
[null,null,null,null,8676892259]
[null,null,null,null,3838462947]
[null,null,null,null,9555353549]
[null,null,null,null,7547474689]
[null,null,null,null,7365763548]
[null,null,null,null,8368448364]
[null,null,null,null,2549254443]
[null,null,null,null,2636277465]
[null,null,null,null,2374259565]
[null,null,null,null,7459889494]
[null,null,null,null,4977497434]
[null,null,null,null,2439488888]
[null,null,null,null,5878264769]
[null,null,null,null,2235862588]
[null,null,null,null,9334694949]
[null,null,null,null,7676429438]
[null,null,null,null,6658377338]
[null,null,null,null,8373634872]
[null,null,null,null,2373326653]
[null,null,null,null,7664625792]
[null,null,null,null,8326393738]
[null,null,null,null,7568847724]
[null,null,null,null,3445426287]
[null,null,null,null,2592244553]
[null,null,null,null,8896937349]
[null,null,null,null,7726858475]
[null,null,null,null,9526257342]
[null,null,null,null,9597595744]
[null,null,null,null,8527469443]
[null,null,null,null,3565979337]
[null,null,null,null,7482539267]
[null,null,null,null,6975852227]
[null,null,null,null,7236259954]
[null,null,null,null,4469785399]
[null,null,null,null,7449932838]
[null,null,null,null,9958262662]
[null,null,null,null,2432628556]
[null,null,null,null,9979456322]
[null,null,null,null,8245633372]
[null,null,null,null,7463249344]
[null,null,null,null,3239534852]
[null,null,null,null,9677565945]
[null,null,null,null,8854935464]
[null,null,null,null,6936383658]
[null,null,null,null,8657689499]
[null,null,null,null,7887426365]
[null,null,null,null,3936654465]
[null,null,null,null,3555496348]
[null,null,null,null,4223525399]
[null,null,null,null,4734387557]
[null,null,null,null,5679734666]
[null,null,null,null,9364356353]
[null,null,null,null,4728794327]
[null,null,null,null,3422675653]
[null,null,null,null,6539988345]
[null,null,null,null,5394482586]
[null,null,null,null,9862372239]
[null,null,null,null,4225869943]
[null,null,null,null,9553277665]
[null,null,null,null,8384374473]
[null,null,null,null,7395299622]
[null,null,null,null,7236268263]
[null,null,null,null,3842926652]
[null,null,null,null,6342697693]
[null,null,null,null,6983573647]
[null,null,null,null,2492796946]
[null,null,null,null,3558388724]
[null,null,null,null,5998589223]
[null,null,null,null,9244855855]
[null,null,null,null,9588545558]
[null,null,null,null,2992688567]
[null,null,null,null,3598928299]
[null,null,null,null,9389859553]
[null,null,null,null,2664448426]
[null,null,null,null,8674229897]
[null,null,null,null,4692667947]
[null,null,null,null,9276427359]
[null,null,null,null,9768753595]
[null,null,null,null,6759556682]
[null,null,null,null,5632434777]
[null,null,null,null,8999799242]
[null,null,null,null,7674923684]
[null,null,null,null,8375579523]
[null,null,null,null,2865668373]
[null,null,null,null,8772645529]
[null,null,null,null,5663583482]
[null,null,null,null,8552494485]
[null,null,null,null,7954363864]
[null,null,null,null,9666896398]
[null,null,null,null,9359573848]
[null,null,null,null,9282396369]
[null,null,null,null,9269623685]
[null,null,null,null,7655358673]
[null,null,null,null,7323584972]
[null,null,null,null,2689245789]
[null,null,null,null,6464778585]
[null,null,null,null,7383459996]
[null,null,null,null,9732844772]
[null,null,null,null,9563428344]
[null,null,null,null,3596322265]
[null,null,null,null,7864883288]
[null,null,null,null,3777897377]
[null,null,null,null,5257288946]
[null,null,null,null,5655386797]
[null,null,null,null,5667397347]
[null,null,null,null,2473487533]
[null,null,null,null,9627498896]
[null,null,null,null,4466634723]
[null,null,null,null,3576354457]
[null,null,null,null,9625635734]
[null,null,null,null,8337448696]
[null,null,null,null,6732642844]
[null,null,null,null,2969222725]
[null,null,null,null,8967429578]
[null,null,null,null,8279629494]
[null,null,null,null,4237237856]
[null,null,null,null,9367746643]
[null,null,null,null,8537599258]
[null,null,null,null,2269623985]
[null,null,null,null,6228958276]
[null,null,null,null,2933888668]
[null,null,null,null,8234546979]
[null,null,null,null,6839885556]
[null,null,null,null,6269249993]
[null,null,null,null,7365586529]
[null,null,null,null,3256464286]
[null,null,null,null,4496722672]
[null,null,null,null,9492443458]
[null,null,null,null,6457787947]
[null,null,null,null,3865876652]
[null,null,null,null,6425288328]
[null,null,null,null,8428263647]
[null,null,null,null,9969983269]
[null,null,null,null,8536853362]
[null,null,null,null,6462287525]
[null,null,null,null,2378862247]
[null,null,null,null,9238224386]
[null,null,null,null,4695984576]
[null,null,null,null,3768734798]
[null,null,null,null,5796253248]
[null,null,null,null,4248927646]
[null,null,null,null,3648852257]
[null,null,null,null,8585986387]
[null,null,null,null,3973964934]
[null,null,null,null,5939593848]
[null,null,null,null,6722227293]
[null,null,null,null,5722643287]
[null,null,null,null,7489846566]
[null,null,null,null,9953269766]
[null,null,null,null,9565354544]
[null,null,null,null,4937835723]
[null,null,null,null,4669832866]
[null,null,null,null,9979422886]
[null,null,null,null,5447498537]
[null,null,null,null,7272389877]
[null,null,null,null,9259785566]
[null,null,null,null,5242897939]
[null,null,null,null,2223572964]
[null,null,null,null,5368748282]
[null,null,null,null,5633525365]
[null,null,null,null,5893382489]
[null,null,null,null,9954624448]
[null,null,null,null,8487575999]
[null,null,null,null,7744828972]
[null,null,null,null,3864548549]
[null,null,null,null,6995937884]
[null,null,null,null,2453955867]
[null,null,null,null,3399397563]
[null,null,null,null,7544975352]
[null,null,null,null,3649234587]
[null,null,null,null,9494346299]
[null,null,null,null,9843632284]
[null,null,null,null,8452965999]
[null,null,null,null,4366322875]
[null,null,null,null,9869263869]
[null,null,null,null,8748937528]
[null,null,null,null,3775332937]
[null,null,null,null,2652547622]
[null,null,null,null,6623486643]
[null,null,null,null,9223627597]
[null,null,null,null,2958344655]
[null,null,null,null,4625247286]
[null,null,null,null,6979289424]
[null,null,null,null,7565473532]
[null,null,null,null,5943986974]
[null,null,null,null,5394897342]
[null,null,null,null,3648964684]
[null,null,null,null,6768343858]
[null,null,null,null,8648537696]
[null,null,null,null,5996372535]
[null,null,null,null,5379858275]
[null,null,null,null,8794376839]
[null,null,null,null,7934547745]
[null,null,null,null,5569689254]
[null,null,null,null,9527969533]
[null,null,null,null,6995269739]
[null,null,null,null,7672256743]
[null,null,null,null,9569774433]
[null,null,null,null,5768969334]
[null,null,null,null,7973756968]
[null,null,null,null,9425268759]
[null,null,null,null,3589298783]
[null,null,null,null,6267744382]
[null,null,null,null,7486578342]
[null,null,null,null,9664829736]
[null,null,null,null,8845856754]
[null,null,null,null,3348223497]
[null,null,null,null,5548298274]
[null,null,null,null,5362597966]
[null,null,null,null,9842597749]
[null,null,null,null,8899498638]
[null,null,null,null,2875767933]
[null,null,null,null,4826222588]
[null,null,null,null,9528582224]
[null,null,null,null,6894656363]
[null,null,null,null,6257784939]
[null,null,null,null,8895268832]
[null,null,null,null,5445249482]
[null,null,null,null,6453796464]
[null,null,null,null,2562389985]
[null,null,null,null,2243665393]
[null,null,null,null,7493633825]
[null,null,null,null,2427373357]
[null,null,null,null,5574258772]
[null,null,null,null,4299229299]
[null,null,null,null,7837567586]
[null,null,null,null,3842383992]
[null,null,null,null,8884553383]
[null,null,null,null,7737585253]
[null,null,null,null,5963332452]
[null,null,null,null,3936888364]
[null,null,null,null,3736592625]
[null,null,null,null,4687977424]
[null,null,null,null,6533788972]
[null,null,null,null,4472952576]
[null,null,null,null,9628895482]
[null,null,null,null,8557485482]
[null,null,null,null,4253729728]
[null,null,null,null,2753269824]
[null,null,null,null,9644285624]
[null,null,null,null,4535333655]
[null,null,null,null,3833485238]
[null,null,null,null,5527735882]
[null,null,null,null,5876659352]
[null,null,null,null,7337582729]
[null,null,null,null,8596742246]
[null,null,null,null,8248554939]
[null,null,null,null,9275236852]
[null,null,null,null,8287744498]
[null,null,null,null,6478797277]
[null,null,null,null,8739874767]
[null,null,null,null,6289556946]
[null,null,null,null,4273499932]
[null,null,null,null,9654843229]
[null,null,null,null,2369629436]
[null,null,null,null,4679236937]
[null,null,null,null,4766439662]
[null,null,null,null,5579442397]
[null,null,null,null,3967547933]
[null,null,null,null,8578976257]
[null,null,null,null,6774576562]
[null,null,null,null,3877434336]
[null,null,null,null,9544497426]
[null,null,null,null,4923579276]
[null,null,null,null,7698374625]
[null,null,null,null,9544623469]
[null,null,null,null,5299525993]
[null,null,null,null,3756745558]
[null,null,null,null,3662647738]
[null,null,null,null,3383948535]
[null,null,null,null,4855729879]
[null,null,null,null,2262334925]
[null,null,null,null,3864624467]
[null,null,null,null,7744744498]
[null,null,null,null,4638343246]
[null,null,null,null,8845599974]
[null,null,null,null,8926774775]
[null,null,null,null,3833354529]
[null,null,null,null,9964532655]
[null,null,null,null,4735898658]
[null,null,null,null,9392338867]
[null,null,null,null,8693476762]
[null,null,null,null,2556399588]
[null,null,null,null,3759479752]
[null,null,null,null,7847376276]
[null,null,null,null,7637898624]
[null,null,null,null,7534258226]
[null,null,null,null,6388668523]
[null,null,null,null,8422755779]
[null,null,null,null,9424875977]
[null,null,null,null,6867825295]
[null,null,null,null,2657549464]
[null,null,null,null,8956348298]
[null,null,null,null,8859938658]
[null,null,null,null,6872647786]
[null,null,null,null,8987255359]
[null,null,null,null,3237326224]
[null,null,null,null,7454957888]
[null,null,null,null,7636356578]
[null,null,null,null,9874747363]
[null,null,null,null,9852558463]
[null,null,null,null,2497478434]
[null,null,null,null,5385767736]
[null,null,null,null,2467885979]
[null,null,null,null,4623536566]

{"sheet":"Data","index":4,"n_rows":853,"n_cols":5,"rows_kept":853,"cut":false,"hidden":false,"merged":[]}
["KLANT","Type document","Dossiernummer","DATUM","Bestand"]
["De Potter Dimitri","Aankoopfactuur voertuig",123,"2000-01-01",".pdf"]
["testpersoon"]
["testpersoon 2"]
["testpersoon 3"]
[]
[]
[]
[]
[]
[]
[]
[]
[]
[]
[]
[]
[]
[]
[]
[]
[]
[]
[]
[]
[]
[]
[]
[]
[]
[]
[]
[]
[]
[]
[]
[]
[]
[]
[]
[]
[]
[]
[]
[]
[]
[]
[]
[]
[]
[]
[]
[]
[]
[]
[]
[]
[]
[]
[]
[]
[]
[]
[]
[]
[]
[]
[]
[]
[]
[]
[]
[]
[]
[]
[]
[]
[]
[]
[]
[]
[]
[]
[]
[]
[]
[]
[]
[]
[]
[]
[]
[]
[]
[]
[]
[]
[]
[]
[]
[]
[]
[]
[]
[]
[]
[]
[]
[]
[]
[]
[]
[]
[]
[]
[]
[]
[]
[]
[]
[]
[]
[]
[]
[]
[]
[]
[]
[]
[]
[]
[]
[]
[]
[]
[]
[]
[]
[]
[]
[]
[]
[]
[]
[]
[]
[]
[]
[]
[]
[]
[]
[]
[]
[]
[]
[]
[]
[]
[]
[]
[]
[]
[]
[]
[]
[]
[]
[]
[]
[]
[]
[]
[]
[]
[]
[]
[]
[]
[]
[]
[]
[]
[]
[]
[]
[]
[]
[]
[]
[]
[]
[]
[]
[]
[]
[]
[]
[]
[]
[]
[]
[]
[]
[]
[]
[]
[]
[]
[]
[]
[]
[]
[]
[]
[]
[]
[]
[]
[]
[]
[]
[]
[]
[]
[]
[]
[]
[]
[]
[]
[]
[]
[]
[]
[]
[]
[]
[]
[]
[]
[]
[]
[]
[]
[]
[]
[]
[]
[]
[]
[]
[]
[]
[]
[]
[]
[]
[]
[]
[]
[]
[]
[]
[]
[]
[]
[]
[]
[]
[]
[]
[]
[]
[]
[]
[]
[]
[]
[]
[]
[]
[]
[]
[]
[]
[]
[]
[]
[]
[]
[]
[]
[]
[]
[]
[]
[]
[]
[]
[]
[]
[]
[]
[]
[]
[]
[]
[]
[]
[]
[]
[]
[]
[]
[]
[]
[]
[]
[]
[]
[]
[]
[]
[]
[]
[]
[]
[]
[]
[]
[]
[]
[]
[]
[]
[]
[]
[]
[]
[]
[]
[]
[]
[]
[]
[]
[]
[]
[]
[]
[]
[]
[]
[]
[]
[]
[]
[]
[]
[]
[]
[]
[]
[]
[]
[]
[]
[]
[]
[]
[]
[]
[]
[]
[]
[]
[]
[]
[]
[]
[]
[]
[]
[]
[]
[]
[]
[]
[]
[]
[]
[]
[]
[]
[]
[]
[]
[]
[]
[]
[]
[]
[]
[]
[]
[]
[]
[]
[]
[]
[]
[]
[]
[]
[]
[]
[]
[]
[]
[]
[]
[]
[]
[]
[]
[]
[]
[]
[]
[]
[]
[]
[]
[]
[]
[]
[]
[]
[]
[]
[]
[]
[]
[]
[]
[]
[]
[]
[]
[]
[]
[]
[]
[]
[]
[]
[]
[]
[]
[]
[]
[]
[]
[]
[]
[]
[]
[]
[]
[]
[]
[]
[]
[]
[]
[]
[]
[]
[]
[]
[]
[]
[]
[]
[]
[]
[]
[]
[]
[]
[]
[]
[]
[]
[]
[]
[]
[]
[]
[]
[]
[]
[]
[]
[]
[]
[]
[]
[]
[]
[]
[]
[]
[]
[]
[]
[]
[]
[]
[]
[]
[]
[]
[]
[]
[]
[]
[]
[]
[]
[]
[]
[]
[]
[]
[]
[]
[]
[]
[]
[]
[]
[]
[]
[]
[]
[]
[]
[]
[]
[]
[]
[]
[]
[]
[]
[]
[]
[]
[]
[]
[]
[]
[]
[]
[]
[]
[]
[]
[]
[]
[]
[]
[]
[]
[]
[]
[]
[]
[]
[]
[]
[]
[]
[]
[]
[]
[]
[]
[]
[]
[]
[]
[]
[]
[]
[]
[]
[]
[]
[]
[]
[]
[]
[]
[]
[]
[]
[]
[]
[]
[]
[]
[]
[]
[]
[]
[]
[]
[]
[]
[]
[]
[]
[]
[]
[]
[]
[]
[]
[]
[]
[]
[]
[]
[]
[]
[]
[]
[]
[]
[]
[]
[]
[]
[]
[]
[]
[]
[]
[]
[]
[]
[]
[]
[]
[]
[]
[]
[]
[]
[]
[]
[]
[]
[]
[]
[]
[]
[]
[]
[]
[]
[]
[]
[]
[]
[]
[]
[]
[]
[]
[]
[]
[]
[]
[]
[]
[]
[]
[]
[]
[]
[]
[]
[]
[]
[]
[]
[]
[]
[]
[]
[]
[]
[]
[]
[]
[]
[]
[]
[]
[]
[]
[]
[]
[]
[]
[]
[]
[]
[]
[]
[]
[]
[]
[]
[]
[]
[]
[]
[]
[]
[]
[]
[]
[]
[]
[]
[]
[]
[]
[]
[]
[]
[]
[]
[]
[]
[]
[]
[]
[]
[]
[]
[]
[]
[]
[]
[]
[]
[]
[]
[]
[]
[]
[]
[]
[]
[]
[]
[]
[]
[]
[]
[]
[]
[]
[]
[]
[]
[]
[]
[]
[]
[]
[]
[]
[]
[]
[]
[]
[]
[]
[]
[]
[]
[]
[]
[]
[]
[]
[]
[]
[]
[]
[]
[]
[]
[]
[]
[]
[]
[]
[]
[]
[]
[]
[]
[]
[]
[]
[]
[]
[]
[]
[]
[]
[]
[]
[]
[]
[]
[]
[]
[]
[]
[]
[]
[]
[]
[]
[]
[]
[]
[]
[]
[]
[]
[]
[]
["aqqq"]

{"sheet":"DMS","index":5,"n_rows":11,"n_cols":11,"rows_kept":11,"cut":false,"hidden":false,"merged":[]}
["KLANT","ID","Type","Type document","REFERTE","Dossiernummer","DATUM","Code","Code2","Bestand","Bestandsnaam"]
[{"$f":"Data!A2","v":"De Potter Dimitri"},111111,"VERZEKERINGEN",{"$f":"Data!B2","v":"Aankoopfactuur voertuig"},"abc123",132435,{"$f":"Data!D2+IF(Data!D2=0,Data!D2,0)","v":"2000-01-01"},"k","af",{"$f":"Data!E2","v":".pdf"}]
[{"$f":"Data!A3","v":"testpersoon"},111111,"VERZEKERINGEN","testdocument","abc124",12344,"2001-01-01","k","af",".pdf"]
[{"$f":"Data!A4","v":"testpersoon 2"},"habahab","VERZEKERINGEN","testdocument","abc125",4363565,"2001-01-01","k","af",".pdf"]
[{"$f":"Data!A5","v":"testpersoon 3"},"habahab","VERZEKERINGEN","testdocument","abc126",4363565,"2001-01-01","k","af",".pdf"]
["De Potter Dimitri 1","habahab","VERZEKERINGEN","testdocument","abc127",4363565,"2001-01-01","k","af",".pdf"]
["De Potter Dimitri 2","habahab","VERZEKERINGEN","testdocument","abc128",4363565,"2001-01-01","k","af",".pdf"]
["De Potter Dimitri 3","habahab","VERZEKERINGEN","testdocument","abc129",4363565,"2001-01-01","k","af",".pdf"]
["De Potter Dimitri 4","habahab","VERZEKERINGEN","testdocument","abc130",4363565,"2001-01-01","k","af",".pdf"]
["De Potter Dimitri 5","habahab","VERZEKERINGEN","testdocument","abc131",4363565,"2001-01-01","k","af",".pdf"]
[{"$f":"Data!A11","v":0}]

{"sheet":"Sheet2","index":6,"n_rows":1,"n_cols":10,"rows_kept":1,"cut":false,"hidden":true,"merged":[]}
[null,null,null,null,null,null,null,null,null,"OM"]

{"sheet":"Sheet3","index":7,"n_rows":1,"n_cols":10,"rows_kept":1,"cut":false,"hidden":true,"merged":[]}
[null,null,null,null,null,null,null,null,null,"OM"]