{"text_format":"1","workbook":"xlsx","n_sheets":29,"sheets":["Hoofdmenu","Invulblad","Standpoule","1","2","3","4","5","6","7","8","9","10","11","12","13","14","15","16","17","18","19","20","21","Uitslagen ","Totaal punten","Rijders F1","Reglement","RL"],"not_rendered":{"charts":0,"images":32,"macros":1,"external_links":0,"defined_names":44,"comments":0,"pivot_tables":0},"unopened":[],"bounds":{"document_bytes":16777216,"sheet_cells":100000,"rows_first":2000,"rows_last":500,"rows_between":2000,"halvings":0,"cell_chars":16384,"cell_head_chars":4096},"cells_cut":0,"cells_raw":0,"read":"whole","date_system":"1900"}

{"sheet":"Hoofdmenu","index":0,"n_rows":33,"n_cols":11,"rows_kept":33,"cut":false,"hidden":false,"merged":[]}
[]
[]
[]
[]
[null,null,null,null,null,null,null,null,"F1 2019 Kalender"]
[null,null,null,null,null,null,null,null,"Datum ","Race ","Locatie "]
[]
[null,null,null,null,null,null,null,"Race"]
[null,null,null,null,null,null,null,1,"2019-03-17","GP van Australie","Albert Park, Melbourne"]
[null,null,null,null,null,null,null,2,"2019-03-31","GP van Bahrein","Bahrain International Circuit, Sakhir"]
[null,null,null,null,null,null,null,3,"2019-04-14","GP van China","Shanghai International Circuit, Jiading"]
[null,null,null,null,null,null,null,4,"2019-04-28","GP van Azerbeidzjan","Baku City Circuit, Bakoe"]
[null,null,null,null,null,null,null,5,"2019-05-12","GP van Spanje","Circuit de Barcelona-Catalunya, Montmeló"]
[null,null,null,null,null,null,null,6,"2019-05-26","GP van Monaco","Circuit de Monaco, Monte Carlo"]
[null,null,null,null,null,null,null,7,"2019-06-09","GP van Canada","Circuit Gilles Villeneuve, Montreal"]
[null,null,null,null,null,null,null,8,"2019-06-23","GP van Frankrijk","Circuit Paul Ricard, Le Castellet"]
[null,null,null,null,null,null,null,9,"2019-06-30","GP van Oostenrijk","Red Bull Ring, Spielberg"]
[null,null,null,null,null,null,null,10,"2019-07-14","GP van Groot-Brittannië","Silverstone Circuit, Silverstone"]
[null,null,null,null,null,null,null,11,"2019-07-28","GP van Duitsland","Hockenheimring, Hockenheim"]
[null,null,null,null,null,null,null,12,"2019-08-04","GP van Hongarije","Hungaroring, Mogyoród"]
[null,null,null,null,null,null,null,13,"2019-09-01","GP van België","Circuit Spa-Francorchamps, Francorchamps"]
[null,null,null,null,null,null,null,14,"2019-09-08","GP van Italië","Autodromo Nazionale Monza, Monza"]
[null,null,null,null,null,null,null,15,"2019-09-22","GP van Singapore","Marina Bay Street Circuit, Singapore"]
[null,null,null,null,null,null,null,16,"2019-09-29","GP van Rusland","Sochi Autodrom, Sotsji"]
[null,null,null,null,null,null,null,17,"2019-10-13","GP van Japan","Suzuka International Racing Course, Suzuka"]
[null,null,null,null,null,null,null,18,"2019-10-27","GP van Mexico","Autódromo Hermanos Rodríguez, Mexico-Stad"]
[null,null,null,null,null,null,null,19,"2019-11-03","GP van de Verenigde Staten","Circuit of the Americas, Travis County, Texas"]
[null,null,null,null,null,null,null,20,"2019-11-17","GP van Brazilië","Autódromo de Interlagos José Carlos Pace, Cidade Dutra"]
[null,null,null,null,null,null,null,21,"2019-12-01","GP van Abu Dhabi","Yas Marina Circuit, Yas"]
[]
[]
[]
[null,null,null,null,null,null,null,null,"R.langhorst © 2019 versie 1.4"]

{"sheet":"Invulblad","index":1,"n_rows":30,"n_cols":19,"rows_kept":30,"cut":false,"hidden":false,"merged":[]}
[]
[]
[]
[]
[]
[]
[]
[]
[null,null,null,null,null,null,null,"GP Australie"]
[]
[null,null,null,null,null,null,null,"Voorspelling"]
[]
[null,null,null,null,null,null,1]
[null,null,null,null,null,null,2]
[null,null,null,null,null,null,3]
[null,null,null,null,null,null,4]
[null,null,null,null,null,null,5]
[null,null,null,null,null,null,6]
[null,null,null,null,null,null,7]
[null,null,null,null,null,null,8]
[null,null,null,null,null,null,9]
[null,null,null,null,null,null,10]
[]
[null,null,null,null,null,null,"Pole"]
[]
[]
[]
[]
[]
[null,null,null,null,null,null,null,null,null,null,null,null,null,null,null,null,null,null," "]

{"sheet":"Standpoule","index":2,"n_rows":28,"n_cols":17,"rows_kept":28,"cut":false,"hidden":false,"merged":[]}
[]
[null,null,null,null,null,null,null,null,"GP","Bahrein"]
[]
[null,null,null,null,null,null,1,{"$f":"'Totaal punten'!B5","v":"deelnemer 1"},null,{"$f":"'Totaal punten'!D5","v":0},null,null,null,1,{"$f":"'Uitslagen '!B39","v":"Valtteri Bottas"},{"$f":"'Uitslagen '!X81","v":26}]
[null,null,null,null,null,null,2,{"$f":"'Totaal punten'!B6","v":"deelnemer 2"},null,{"$f":"'Totaal punten'!D6","v":0},null,null,null,2,{"$f":"'Uitslagen '!B31","v":"Lewis Hamilton"},{"$f":"'Uitslagen '!X73","v":18}]
[null,null,null,null,null,null,3,{"$f":"'Totaal punten'!B10","v":"deelnemer 6"},null,{"$f":"'Totaal punten'!D7","v":0},null,null,null,3,{"$f":"'Uitslagen '!B32","v":"Max Verstappen"},{"$f":"'Uitslagen '!X74","v":15}]
[null,null,null,null,null,null,4,{"$f":"'Totaal punten'!B11","v":"deelnemer 7"},null,{"$f":"'Totaal punten'!D8","v":0},null,null,null,4,{"$f":"'Uitslagen '!B37","v":"Sebastian Vettel"},{"$f":"'Uitslagen '!X79","v":12}]
[null,null,null,null,null,null,5,{"$f":"'Totaal punten'!B12","v":"deelnemer 8"},null,{"$f":"'Totaal punten'!D9","v":0},null,null,null,5,{"$f":"'Uitslagen '!B23","v":"Charles Leclerc"},{"$f":"'Uitslagen '!X65","v":10}]
[null,null,null,null,null,null,6,{"$f":"'Totaal punten'!B9","v":"deelnemer 5"},null,{"$f":"'Totaal punten'!D10","v":0},null,null,null,6,{"$f":"'Uitslagen '!B27","v":"Kevin Magnussen"},{"$f":"'Uitslagen '!X69","v":8}]
[null,null,null,null,null,null,7,{"$f":"'Totaal punten'!B7","v":"deelnemer 3"},null,{"$f":"'Totaal punten'!D11","v":0},null,null,null,7,{"$f":"'Uitslagen '!B33","v":"Nico Hülkenberg"},{"$f":"'Uitslagen '!X75","v":6}]
[null,null,null,null,null,null,8,{"$f":"'Totaal punten'!B8","v":"deelnemer 4"},null,{"$f":"'Totaal punten'!D12","v":0},null,null,null,8,{"$f":"'Uitslagen '!B28","v":"Kimi Räikkönen"},{"$f":"'Uitslagen '!X70","v":4}]
[null,null,null,null,null,null,9,{"$f":"'Totaal punten'!B13","v":"deelnemer 9"},null,{"$f":"'Totaal punten'!D13","v":0},null,null,null,9,{"$f":"'Uitslagen '!B29","v":"Lance Stroll"},{"$f":"'Uitslagen '!X71","v":2}]
[null,null,null,null,null,null,null,null,null,null,null,null,null,10,{"$f":"'Uitslagen '!B25","v":"Daniil Kvjat"},{"$f":"'Uitslagen '!X67","v":1}]
[null,null,null,null,null,null,null,null,null,null,null,null,null,11,{"$f":"'Uitslagen '!B20","v":"Antonio Giovinazzi"},{"$f":"'Uitslagen '!X62","v":0}]
[null,null,null,null,null,null,null,null,null,null,null,null,null,12,{"$f":"'Uitslagen '!B21","v":"Alex Albon"},{"$f":"'Uitslagen '!X63","v":0}]
[null,null,null,null,null,null,null,null,null,null,null,null,null,13,{"$f":"'Uitslagen '!B22","v":"Carlos Sainz jr"},{"$f":"'Uitslagen '!X64","v":0}]
[null,null,null,null,null,null,null,null,null,null,null,null,null,14,{"$f":"'Uitslagen '!B24","v":"Daniel Ricciardo"},{"$f":"'Uitslagen '!X66","v":0}]
[null,null,null,null,null,null,null,"Stand Poule na"," GP",{"$f":"J2","v":"Bahrein"},null,null,null,15,{"$f":"'Uitslagen '!B26","v":"George Russell"},{"$f":"'Uitslagen '!X68","v":0}]
[null,null,null,null,null,null,null,null,null,null,null,null,null,16,{"$f":"'Uitslagen '!B30","v":"Lando Norris"},{"$f":"'Uitslagen '!X72","v":0}]
[null,null,null,null,null,null,1,{"$f":"'Totaal punten'!B5","v":"deelnemer 1"},null,{"$f":"'Totaal punten'!Y5","v":40},90,null,null,17,{"$f":"'Uitslagen '!B34","v":"Pierre Gasly"},{"$f":"'Uitslagen '!X76","v":0}]
[null,null,null,null,null,null,2,{"$f":"'Totaal punten'!B6","v":"deelnemer 2"},null,{"$f":"'Totaal punten'!Y6","v":30},60,null,null,18,{"$f":"'Uitslagen '!B35","v":"Robert Kubica"},{"$f":"'Uitslagen '!X77","v":0}]
[null,null,null,null,null,null,3,{"$f":"'Totaal punten'!B10","v":"deelnemer 6"},null,{"$f":"'Totaal punten'!Y10","v":30},30,null,null,19,{"$f":"'Uitslagen '!B36","v":"Romain Grosjean"},{"$f":"'Uitslagen '!X78","v":0}]
[null,null,null,null,null,null,4,{"$f":"'Totaal punten'!B11","v":"deelnemer 7"},null,{"$f":"'Totaal punten'!Y11","v":30},null,null,null,20,{"$f":"'Uitslagen '!B38","v":"Sergio Perez"},{"$f":"'Uitslagen '!X80","v":0}]
[null,null,null,null,null,null,5,{"$f":"'Totaal punten'!B12","v":"deelnemer 8"},null,{"$f":"'Totaal punten'!Y12","v":30},null,null,null,null,null,null,{"$f":"'Uitslagen '!X35","v":0}]
[null,null,null,null,null,null,6,{"$f":"'Totaal punten'!B9","v":"deelnemer 5"},null,{"$f":"'Totaal punten'!Y9","v":20}]
[null,null,null,null,null,null,7,{"$f":"'Totaal punten'!B7","v":"deelnemer 3"},null,{"$f":"'Totaal punten'!Y7","v":15}]
[null,null,null,null,null,null,8,{"$f":"'Totaal punten'!B8","v":"deelnemer 4"},null,{"$f":"'Totaal punten'!Y8","v":10}]
[null,null,null,null,null,null,9,{"$f":"'Totaal punten'!B13","v":"deelnemer 9"},null,{"$f":"'Totaal punten'!Y13","v":0}]

{"sheet":"1","index":3,"n_rows":23,"n_cols":27,"rows_kept":23,"cut":false,"hidden":false,"merged":[]}
[]
[]
[null,null,"GrandPrix"]
[null,null,"Australië",null,null,null,null,null,null,null,null,null,null,null,null,null,null,null,null,null,null,null,"UITSLAG"]
[]
[null,null,"deelnemer 1",null,"deelnemer 2",null,"deelnemer 3",null,"deelnemer 4",null,"deelnemer 5",null,"deelnemer 6",null,"deelnemer 7",null,"deelnemer 8",null,"deelnemer 9",null,null,null,{"$f":"C4","v":"Australië"},null,"Pnt"]
[null,null,null,"pnt",null,"pnt",null,"pnt",null,"pnt",null,"pnt",null,"pnt",null,"pnt",null,"pnt",null,"pnt",null,null,{"$f":"Hoofdmenu!I9","v":"2019-03-17"}]
[null,1,"Sebastian Vettel",{"$f":"IF(AND($W$8=C8,$W$8<>\"E9<>\"),$Y8,0)","v":0},"Sebastian Vettel",{"$f":"IF(AND($W$8=E8,$W$8<>\"g9<>\"),$Y8,0)","v":0},"Sebastian Vettel",{"$f":"IF(AND($W$8=G8,$W$8<>\"g9<>\"),$Y8,0)","v":0},"Sebastian Vettel",{"$f":"IF(AND($W$8=I8,$W$8<>\"k9<>\"),$Y8,0)","v":0},"Sebastian Vettel",{"$f":"IF(AND($W$8=K8,$W$8<>\"m9<>\"),$Y8,0)","v":0},"Sebastian Vettel",{"$f":"IF(AND($W$8=M8,$W$8<>\"o9<>\"),$Y8,0)","v":0},"Sebastian Vettel",{"$f":"IF(AND($W$8=O8,$W$8<>\"o9<>\"),$Y8,0)","v":0},"Sebastian Vettel",{"$f":"IF(AND($W$8=Q8,$W$8<>\"o9<>\"),$Y8,0)","v":0},"Sebastian Vettel",{"$f":"IF(AND($W$8=S8,$W$8<>\"o9<>\"),$Y8,0)","v":0},null,1,"Valtteri Bottas",null,10,null,25]
[null,2,"Lewis Hamilton",{"$f":"IF(AND($W$9=C9,$W$8<>\"E9<>\"),$Y9,0)","v":10},"Lewis Hamilton",{"$f":"IF(AND($W$9=E9,$W$8<>\"g9<>\"),$Y9,0)","v":10},"Charles Leclerc",{"$f":"IF(AND($W$9=G9,$W$8<>\"g9<>\"),$Y9,0)","v":0},"Charles Leclerc",{"$f":"IF(AND($W$9=I9,$W$8<>\"k9<>\"),$Y9,0)","v":0},"Lewis Hamilton",{"$f":"IF(AND($W$9=K9,$W$8<>\"m9<>\"),$Y9,0)","v":10},"Lewis Hamilton",{"$f":"IF(AND($W$9=M9,$W$8<>\"o9<>\"),$Y9,0)","v":10},"Lewis Hamilton",{"$f":"IF(AND($W$9=O9,$W$8<>\"o9<>\"),$Y9,0)","v":10},"Lewis Hamilton",{"$f":"IF(AND($W$9=Q9,$W$8<>\"o9<>\"),$Y9,0)","v":10},"Max Verstappen",{"$f":"IF(AND($W$9=S9,$W$8<>\"o9<>\"),$Y9,0)","v":0},null,2,"Lewis Hamilton",null,10,null,18]
[null,3,"Max Verstappen",{"$f":"IF(AND($W$10=C10,$W$8<>\"E9<>\"),$Y10,0)","v":10},"Max Verstappen",{"$f":"IF(AND($W$10=E10,$W$8<>\"g9<>\"),$Y10,0)","v":10},"Lewis Hamilton",{"$f":"IF(AND($W$10=G10,$W$8<>\"g9<>\"),$Y10,0)","v":0},"Max Verstappen",{"$f":"IF(AND($W$10=I10,$W$8<>\"k9<>\"),$Y10,0)","v":10},"Max Verstappen",{"$f":"IF(AND($W$10=K10,$W$8<>\"m9<>\"),$Y10,0)","v":10},"Max Verstappen",{"$f":"IF(AND($W$10=M10,$W$8<>\"o9<>\"),$Y10,0)","v":10},"Max Verstappen",{"$f":"IF(AND($W$10=O10,$W$8<>\"o9<>\"),$Y10,0)","v":10},"Max Verstappen",{"$f":"IF(AND($W$10=Q10,$W$8<>\"o9<>\"),$Y10,0)","v":10},"Charles Leclerc",{"$f":"IF(AND($W$10=S10,$W$8<>\"o9<>\"),$Y10,0)","v":0},null,3,"Max Verstappen",null,10,null,15]
[null,4,"Valtteri Bottas",{"$f":"IF(AND($W$11=C11,$W$8<>\"E9<>\"),$Y11,0)","v":0},"Charles Leclerc",{"$f":"IF(AND($W$11=E11,$W$8<>\"g9<>\"),$Y11,0)","v":0},"Max Verstappen",{"$f":"IF(AND($W$11=G11,$W$8<>\"g9<>\"),$Y11,0)","v":0},"Lewis Hamilton",{"$f":"IF(AND($W$11=I11,$W$8<>\"k9<>\"),$Y11,0)","v":0},"Charles Leclerc",{"$f":"IF(AND($W$11=K11,$W$8<>\"m9<>\"),$Y11,0)","v":0},"Valtteri Bottas",{"$f":"IF(AND($W$11=M11,$W$8<>\"o9<>\"),$Y11,0)","v":0},"Valtteri Bottas",{"$f":"IF(AND($W$11=O11,$W$8<>\"o9<>\"),$Y11,0)","v":0},"Valtteri Bottas",{"$f":"IF(AND($W$11=Q11,$W$8<>\"o9<>\"),$Y11,0)","v":0},"Lewis Hamilton",{"$f":"IF(AND($W$11=S11,$W$8<>\"o9<>\"),$Y11,0)","v":0},null,4,"Sebastian Vettel",null,10,null,12]
[null,5,"Charles Leclerc",{"$f":"IF(AND($W$12=C12,$W$8<>\"E9<>\"),$Y12,0)","v":10},"Valtteri Bottas",{"$f":"IF(AND($W$12=E12,$W$8<>\"g9<>\"),$Y12,0)","v":0},"Valtteri Bottas",{"$f":"IF(AND($W$12=G12,$W$8<>\"g9<>\"),$Y12,0)","v":0},"Valtteri Bottas",{"$f":"IF(AND($W$12=I12,$W$8<>\"k9<>\"),$Y12,0)","v":0},"Valtteri Bottas",{"$f":"IF(AND($W$12=K12,$W$8<>\"m9<>\"),$Y12,0)","v":0},"Charles Leclerc",{"$f":"IF(AND($W$12=M12,$W$8<>\"o9<>\"),$Y12,0)","v":10},"Charles Leclerc",{"$f":"IF(AND($W$12=O12,$W$8<>\"o9<>\"),$Y12,0)","v":10},"Charles Leclerc",{"$f":"IF(AND($W$12=Q12,$W$8<>\"o9<>\"),$Y12,0)","v":10},"Valtteri Bottas",{"$f":"IF(AND($W$12=S12,$W$8<>\"o9<>\"),$Y12,0)","v":0},null,5,"Charles Leclerc",null,10,null,10]
[null,6,"Pierre Gasly",{"$f":"IF(AND($W$13=C13,$W$8<>\"E9<>\"),$Y13,0)","v":0},"Pierre Gasly",{"$f":"IF(AND($W$13=E13,$W$8<>\"g9<>\"),$Y13,0)","v":0},"Daniel Ricciardo",{"$f":"IF(AND($W$13=G13,$W$8<>\"g9<>\"),$Y13,0)","v":0},"Pierre Gasly",{"$f":"IF(AND($W$13=I13,$W$8<>\"k9<>\"),$Y13,0)","v":0},"Pierre Gasly",{"$f":"IF(AND($W$13=K13,$W$8<>\"m9<>\"),$Y13,0)","v":0},"Nico Hülkenberg",{"$f":"IF(AND($W$13=M13,$W$8<>\"o9<>\"),$Y13,0)","v":0},"Daniel Ricciardo",{"$f":"IF(AND($W$13=O13,$W$8<>\"o9<>\"),$Y13,0)","v":0},"Daniel Ricciardo",{"$f":"IF(AND($W$13=Q13,$W$8<>\"o9<>\"),$Y13,0)","v":0},"Kimi Räikkönen",{"$f":"IF(AND($W$13=S13,$W$8<>\"o9<>\"),$Y13,0)","v":0},null,6,"Kevin Magnussen",null,10,null,8]
[null,7,"Nico Hülkenberg",{"$f":"IF(AND($W$14=C14,$W$8<>\"E9<>\"),$Y14,0)","v":10},"Sergio Perez",{"$f":"IF(AND($W$14=E14,$W$8<>\"g9<>\"),$Y14,0)","v":0},"Pierre Gasly",{"$f":"IF(AND($W$14=G14,$W$8<>\"g9<>\"),$Y14,0)","v":0},"Kevin Magnussen",{"$f":"IF(AND($W$14=I14,$W$8<>\"k9<>\"),$Y14,0)","v":0},"Kevin Magnussen",{"$f":"IF(AND($W$14=K14,$W$8<>\"m9<>\"),$Y14,0)","v":0},"Daniel Ricciardo",{"$f":"IF(AND($W$14=M14,$W$8<>\"o9<>\"),$Y14,0)","v":0},"Sergio Perez",{"$f":"IF(AND($W$14=O14,$W$8<>\"o9<>\"),$Y14,0)","v":0},"Pierre Gasly",{"$f":"IF(AND($W$14=Q14,$W$8<>\"o9<>\"),$Y14,0)","v":0},"Daniel Ricciardo",{"$f":"IF(AND($W$14=S14,$W$8<>\"o9<>\"),$Y14,0)","v":0},null,7,"Nico Hülkenberg",null,10,null,6]
[null,8,"Carlos Sainz jr",{"$f":"IF(AND($W$15=C15,$W$8<>\"E9<>\"),$Y15,0)","v":0},"Daniel Ricciardo",{"$f":"IF(AND($W$15=E15,$W$8<>\"g9<>\"),$Y15,0)","v":0},"Kimi Räikkönen",{"$f":"IF(AND($W$15=G15,$W$8<>\"g9<>\"),$Y15,0)","v":10},"Daniel Ricciardo",{"$f":"IF(AND($W$15=I15,$W$8<>\"k9<>\"),$Y15,0)","v":0},"Daniel Ricciardo",{"$f":"IF(AND($W$15=K15,$W$8<>\"m9<>\"),$Y15,0)","v":0},"Pierre Gasly",{"$f":"IF(AND($W$15=M15,$W$8<>\"o9<>\"),$Y15,0)","v":0},"Daniil Kvjat",{"$f":"IF(AND($W$15=O15,$W$8<>\"o9<>\"),$Y15,0)","v":0},"Kevin Magnussen",{"$f":"IF(AND($W$15=Q15,$W$8<>\"o9<>\"),$Y15,0)","v":0},"Nico Hülkenberg",{"$f":"IF(AND($W$15=S15,$W$8<>\"o9<>\"),$Y15,0)","v":0},null,8,"Kimi Räikkönen",null,10,null,4]
[null,9,"Daniel Ricciardo",{"$f":"IF(AND($W$16=C16,$W$8<>\"E9<>\"),$Y16,0)","v":0},"Lance Stroll",{"$f":"IF(AND($W$16=E16,$W$8<>\"g9<>\"),$Y16,0)","v":10},"Kevin Magnussen",{"$f":"IF(AND($W$16=G16,$W$8<>\"g9<>\"),$Y16,0)","v":0},"Romain Grosjean",{"$f":"IF(AND($W$16=I16,$W$8<>\"k9<>\"),$Y16,0)","v":0},"Nico Hülkenberg",{"$f":"IF(AND($W$16=K16,$W$8<>\"m9<>\"),$Y16,0)","v":0},"Romain Grosjean",{"$f":"IF(AND($W$16=M16,$W$8<>\"o9<>\"),$Y16,0)","v":0},"Kimi Räikkönen",{"$f":"IF(AND($W$16=O16,$W$8<>\"o9<>\"),$Y16,0)","v":0},"Nico Hülkenberg",{"$f":"IF(AND($W$16=Q16,$W$8<>\"o9<>\"),$Y16,0)","v":0},"Kevin Magnussen",{"$f":"IF(AND($W$16=S16,$W$8<>\"o9<>\"),$Y16,0)","v":0},null,9,"Lance Stroll",null,10,null,2]
[null,10,"Romain Grosjean",{"$f":"IF(AND($W$17=C17,$W$8<>\"E9<>\"),$Y17,0)","v":0},"Kimi Räikkönen",{"$f":"IF(AND($W$17=E17,$W$8<>\"g9<>\"),$Y17,0)","v":0},"Carlos Sainz jr",{"$f":"IF(AND($W$17=G17,$W$8<>\"g9<>\"),$Y17,0)","v":0},"Sergio Perez",{"$f":"IF(AND($W$17=I17,$W$8<>\"k9<>\"),$Y17,0)","v":0},"Romain Grosjean",{"$f":"IF(AND($W$17=K17,$W$8<>\"m9<>\"),$Y17,0)","v":0},"Kevin Magnussen",{"$f":"IF(AND($W$17=M17,$W$8<>\"o9<>\"),$Y17,0)","v":0},"Lance Stroll",{"$f":"IF(AND($W$17=O17,$W$8<>\"o9<>\"),$Y17,0)","v":0},"Kimi Räikkönen",{"$f":"IF(AND($W$17=Q17,$W$8<>\"o9<>\"),$Y17,0)","v":0},"Pierre Gasly",{"$f":"IF(AND($W$17=S17,$W$8<>\"o9<>\"),$Y17,0)","v":0},null,10,"Daniil Kvjat",null,10,null,1]
[]
[null,"Pole","Sebastian Vettel",{"$f":"IF(AND($W$19=C19,$W$8<>\"g9<>\"),$Y19,0)","v":0},"Sebastian Vettel",{"$f":"IF(AND($W$19=E19,$W$8<>\"g9<>\"),$Y19,0)","v":0},"Lewis Hamilton",{"$f":"IF(AND($W$19=G19,$W$8<>\"g9<>\"),$Y19,0)","v":5},"Sebastian Vettel",{"$f":"IF(AND($W$19=I19,$W$8<>\"k9<>\"),$Y19,0)","v":0},"Sebastian Vettel",{"$f":"IF(AND($W$19=K19,$W$8<>\"m9<>\"),$Y19,0)","v":0},"Sebastian Vettel",{"$f":"IF(AND($W$19=M19,$W$8<>\"o9<>\"),$Y19,0)","v":0},"Sebastian Vettel",{"$f":"IF(AND($W$19=O19,$W$8<>\"o9<>\"),$Y19,0)","v":0},"Sebastian Vettel",{"$f":"IF(AND($W$19=Q19,$W$8<>\"o9<>\"),$Y19,0)","v":0},"Sebastian Vettel",{"$f":"IF(AND($W$19=S19,$W$8<>\"o9<>\"),$Y19,0)","v":0},null,"Pole","Lewis Hamilton",null,5]
[]
[null,null,"Totaal punten",{"$f":"SUM(D8:D17)+D19","v":40},null,{"$f":"SUM(F8:F17)+F19","v":30},null,{"$f":"SUM(H8:H17)+H19","v":15},null,{"$f":"SUM(J8:J17)+J19","v":10},null,{"$f":"SUM(L8:L17)+L19","v":20},null,{"$f":"SUM(N8:N17)+N19","v":30},null,{"$f":"SUM(P8:P17)+P19","v":30},null,{"$f":"SUM(R8:R17)+R19","v":30},null,{"$f":"SUM(T8:T17)+T19","v":0},null,null,"Punten"]
[]
[null,null,null,null,null,null,null,null,null,null,null,null,null,null,null,null,null,null,null,null,null,"Snel","Valtteri Bottas",null,null,null,1]

{"sheet":"2","index":4,"n_rows":23,"n_cols":27,"rows_kept":23,"cut":false,"hidden":false,"merged":[]}
[]
[]
[null,null,"GrandPrix"]
[null,null,"Bahrein",null,null,null,null,null,null,null,null,null,null,null,null,null,null,null,null,null,null,null,"UITSLAG"]
[]
[null,null,"Raimond Langhorst",null,"deelnemer 2",null,"deelnemer 3",null,"deelnemer 4",null,"deelnemer 5",null,"deelnemer 6",null,"deelnemer 7",null,"deelnemer 8",null,"deelnemer 9",null,null,null,{"$f":"C4","v":"Bahrein"},null,"Pnt"]
[null,null,null,"pnt",null,"pnt",null,"pnt",null,"pnt",null,"pnt",null,"pnt",null,"pnt",null,"pnt",null,"pnt",null,null,{"$f":"Hoofdmenu!I10","v":"2019-03-31"}]
[null,1,null,{"$f":"IF(AND($W$8=C8,$W$8<>\"E9<>\"),$Y8,0)","v":0},null,{"$f":"IF(AND($W$8=E8,$W$8<>\"g9<>\"),$Y8,0)","v":0},null,{"$f":"IF(AND($W$8=G8,$W$8<>\"g9<>\"),$Y8,0)","v":0},null,{"$f":"IF(AND($W$8=I8,$W$8<>\"k9<>\"),$Y8,0)","v":0},null,{"$f":"IF(AND($W$8=K8,$W$8<>\"m9<>\"),$Y8,0)","v":0},null,{"$f":"IF(AND($W$8=M8,$W$8<>\"o9<>\"),$Y8,0)","v":0},null,{"$f":"IF(AND($W$8=O8,$W$8<>\"o9<>\"),$Y8,0)","v":0},null,{"$f":"IF(AND($W$8=Q8,$W$8<>\"o9<>\"),$Y8,0)","v":0},null,{"$f":"IF(AND($W$8=S8,$W$8<>\"o9<>\"),$Y8,0)","v":0},null,1,"------------",null,10,null,25]
[null,2,null,{"$f":"IF(AND($W$9=C9,$W$8<>\"E9<>\"),$Y9,0)","v":0},null,{"$f":"IF(AND($W$9=E9,$W$8<>\"g9<>\"),$Y9,0)","v":0},null,{"$f":"IF(AND($W$9=G9,$W$8<>\"g9<>\"),$Y9,0)","v":0},null,{"$f":"IF(AND($W$9=I9,$W$8<>\"k9<>\"),$Y9,0)","v":0},null,{"$f":"IF(AND($W$9=K9,$W$8<>\"m9<>\"),$Y9,0)","v":0},null,{"$f":"IF(AND($W$9=M9,$W$8<>\"o9<>\"),$Y9,0)","v":0},null,{"$f":"IF(AND($W$9=O9,$W$8<>\"o9<>\"),$Y9,0)","v":0},null,{"$f":"IF(AND($W$9=Q9,$W$8<>\"o9<>\"),$Y9,0)","v":0},null,{"$f":"IF(AND($W$9=S9,$W$8<>\"o9<>\"),$Y9,0)","v":0},null,2,"------------",null,10,null,18]
[null,3,null,{"$f":"IF(AND($W$10=C10,$W$8<>\"E9<>\"),$Y10,0)","v":0},null,{"$f":"IF(AND($W$10=E10,$W$8<>\"g9<>\"),$Y10,0)","v":0},null,{"$f":"IF(AND($W$10=G10,$W$8<>\"g9<>\"),$Y10,0)","v":0},null,{"$f":"IF(AND($W$10=I10,$W$8<>\"k9<>\"),$Y10,0)","v":0},null,{"$f":"IF(AND($W$10=K10,$W$8<>\"m9<>\"),$Y10,0)","v":0},null,{"$f":"IF(AND($W$10=M10,$W$8<>\"o9<>\"),$Y10,0)","v":0},null,{"$f":"IF(AND($W$10=O10,$W$8<>\"o9<>\"),$Y10,0)","v":0},null,{"$f":"IF(AND($W$10=Q10,$W$8<>\"o9<>\"),$Y10,0)","v":0},null,{"$f":"IF(AND($W$10=S10,$W$8<>\"o9<>\"),$Y10,0)","v":0},null,3,"------------",null,10,null,15]
[null,4,null,{"$f":"IF(AND($W$11=C11,$W$8<>\"E9<>\"),$Y11,0)","v":0},null,{"$f":"IF(AND($W$11=E11,$W$8<>\"g9<>\"),$Y11,0)","v":0},null,{"$f":"IF(AND($W$11=G11,$W$8<>\"g9<>\"),$Y11,0)","v":0},null,{"$f":"IF(AND($W$11=I11,$W$8<>\"k9<>\"),$Y11,0)","v":0},null,{"$f":"IF(AND($W$11=K11,$W$8<>\"m9<>\"),$Y11,0)","v":0},null,{"$f":"IF(AND($W$11=M11,$W$8<>\"o9<>\"),$Y11,0)","v":0},null,{"$f":"IF(AND($W$11=O11,$W$8<>\"o9<>\"),$Y11,0)","v":0},null,{"$f":"IF(AND($W$11=Q11,$W$8<>\"o9<>\"),$Y11,0)","v":0},null,{"$f":"IF(AND($W$11=S11,$W$8<>\"o9<>\"),$Y11,0)","v":0},null,4,"------------",null,10,null,12]
[null,5,null,{"$f":"IF(AND($W$12=C12,$W$8<>\"E9<>\"),$Y12,0)","v":0},null,{"$f":"IF(AND($W$12=E12,$W$8<>\"g9<>\"),$Y12,0)","v":0},null,{"$f":"IF(AND($W$12=G12,$W$8<>\"g9<>\"),$Y12,0)","v":0},null,{"$f":"IF(AND($W$12=I12,$W$8<>\"k9<>\"),$Y12,0)","v":0},null,{"$f":"IF(AND($W$12=K12,$W$8<>\"m9<>\"),$Y12,0)","v":0},null,{"$f":"IF(AND($W$12=M12,$W$8<>\"o9<>\"),$Y12,0)","v":0},null,{"$f":"IF(AND($W$12=O12,$W$8<>\"o9<>\"),$Y12,0)","v":0},null,{"$f":"IF(AND($W$12=Q12,$W$8<>\"o9<>\"),$Y12,0)","v":0},null,{"$f":"IF(AND($W$12=S12,$W$8<>\"o9<>\"),$Y12,0)","v":0},null,5,"------------",null,10,null,10]
[null,6,null,{"$f":"IF(AND($W$13=C13,$W$8<>\"E9<>\"),$Y13,0)","v":0},null,{"$f":"IF(AND($W$13=E13,$W$8<>\"g9<>\"),$Y13,0)","v":0},null,{"$f":"IF(AND($W$13=G13,$W$8<>\"g9<>\"),$Y13,0)","v":0},null,{"$f":"IF(AND($W$13=I13,$W$8<>\"k9<>\"),$Y13,0)","v":0},null,{"$f":"IF(AND($W$13=K13,$W$8<>\"m9<>\"),$Y13,0)","v":0},null,{"$f":"IF(AND($W$13=M13,$W$8<>\"o9<>\"),$Y13,0)","v":0},null,{"$f":"IF(AND($W$13=O13,$W$8<>\"o9<>\"),$Y13,0)","v":0},null,{"$f":"IF(AND($W$13=Q13,$W$8<>\"o9<>\"),$Y13,0)","v":0},null,{"$f":"IF(AND($W$13=S13,$W$8<>\"o9<>\"),$Y13,0)","v":0},null,6,"------------",null,10,null,8]
[null,7,null,{"$f":"IF(AND($W$14=C14,$W$8<>\"E9<>\"),$Y14,0)","v":0},null,{"$f":"IF(AND($W$14=E14,$W$8<>\"g9<>\"),$Y14,0)","v":0},null,{"$f":"IF(AND($W$14=G14,$W$8<>\"g9<>\"),$Y14,0)","v":0},null,{"$f":"IF(AND($W$14=I14,$W$8<>\"k9<>\"),$Y14,0)","v":0},null,{"$f":"IF(AND($W$14=K14,$W$8<>\"m9<>\"),$Y14,0)","v":0},null,{"$f":"IF(AND($W$14=M14,$W$8<>\"o9<>\"),$Y14,0)","v":0},null,{"$f":"IF(AND($W$14=O14,$W$8<>\"o9<>\"),$Y14,0)","v":0},null,{"$f":"IF(AND($W$14=Q14,$W$8<>\"o9<>\"),$Y14,0)","v":0},null,{"$f":"IF(AND($W$14=S14,$W$8<>\"o9<>\"),$Y14,0)","v":0},null,7,"------------",null,10,null,6]
[null,8,null,{"$f":"IF(AND($W$15=C15,$W$8<>\"E9<>\"),$Y15,0)","v":0},null,{"$f":"IF(AND($W$15=E15,$W$8<>\"g9<>\"),$Y15,0)","v":0},null,{"$f":"IF(AND($W$15=G15,$W$8<>\"g9<>\"),$Y15,0)","v":0},null,{"$f":"IF(AND($W$15=I15,$W$8<>\"k9<>\"),$Y15,0)","v":0},null,{"$f":"IF(AND($W$15=K15,$W$8<>\"m9<>\"),$Y15,0)","v":0},null,{"$f":"IF(AND($W$15=M15,$W$8<>\"o9<>\"),$Y15,0)","v":0},null,{"$f":"IF(AND($W$15=O15,$W$8<>\"o9<>\"),$Y15,0)","v":0},null,{"$f":"IF(AND($W$15=Q15,$W$8<>\"o9<>\"),$Y15,0)","v":0},null,{"$f":"IF(AND($W$15=S15,$W$8<>\"o9<>\"),$Y15,0)","v":0},null,8,"------------",null,10,null,4]
[null,9,null,{"$f":"IF(AND($W$16=C16,$W$8<>\"E9<>\"),$Y16,0)","v":0},null,{"$f":"IF(AND($W$16=E16,$W$8<>\"g9<>\"),$Y16,0)","v":0},null,{"$f":"IF(AND($W$16=G16,$W$8<>\"g9<>\"),$Y16,0)","v":0},null,{"$f":"IF(AND($W$16=I16,$W$8<>\"k9<>\"),$Y16,0)","v":0},null,{"$f":"IF(AND($W$16=K16,$W$8<>\"m9<>\"),$Y16,0)","v":0},null,{"$f":"IF(AND($W$16=M16,$W$8<>\"o9<>\"),$Y16,0)","v":0},null,{"$f":"IF(AND($W$16=O16,$W$8<>\"o9<>\"),$Y16,0)","v":0},null,{"$f":"IF(AND($W$16=Q16,$W$8<>\"o9<>\"),$Y16,0)","v":0},null,{"$f":"IF(AND($W$16=S16,$W$8<>\"o9<>\"),$Y16,0)","v":0},null,9,"------------",null,10,null,2]
[null,10,null,{"$f":"IF(AND($W$17=C17,$W$8<>\"E9<>\"),$Y17,0)","v":0},null,{"$f":"IF(AND($W$17=E17,$W$8<>\"g9<>\"),$Y17,0)","v":0},null,{"$f":"IF(AND($W$17=G17,$W$8<>\"g9<>\"),$Y17,0)","v":0},null,{"$f":"IF(AND($W$17=I17,$W$8<>\"k9<>\"),$Y17,0)","v":0},null,{"$f":"IF(AND($W$17=K17,$W$8<>\"m9<>\"),$Y17,0)","v":0},null,{"$f":"IF(AND($W$17=M17,$W$8<>\"o9<>\"),$Y17,0)","v":0},null,{"$f":"IF(AND($W$17=O17,$W$8<>\"o9<>\"),$Y17,0)","v":0},null,{"$f":"IF(AND($W$17=Q17,$W$8<>\"o9<>\"),$Y17,0)","v":0},null,{"$f":"IF(AND($W$17=S17,$W$8<>\"o9<>\"),$Y17,0)","v":0},null,10,"------------",null,10,null,1]
[]
[null,"Pole",null,{"$f":"IF(AND($W$19=C19,$W$8<>\"g9<>\"),$Y19,0)","v":0},null,null,null,null,null,null,null,null,null,null,null,null,null,null,null,{"$f":"IF(AND($W$19=S19,$W$8<>\"o9<>\"),$Y19,0)","v":0},null,"Pole","------------",null,5]
[]
[null,null,"Totaal punten",{"$f":"SUM(D8:D17)+D19","v":0},null,{"$f":"SUM(F8:F17)+F19","v":0},null,{"$f":"SUM(H8:H17)+H19","v":0},null,{"$f":"SUM(J8:J17)+J19","v":0},null,{"$f":"SUM(L8:L17)+L19","v":0},null,{"$f":"SUM(N8:N17)+N19","v":0},null,{"$f":"SUM(P8:P17)+P19","v":0},null,{"$f":"SUM(R8:R17)+R19","v":0},null,{"$f":"SUM(T8:T17)+T19","v":0},null,null,"Punten"]
[]
[null,null,null,null,null,null,null,null,null,null,null,null,null,null,null,null,null,null,null,null,null,"Snel","------------",null,null,null,1]

{"sheet":"3","index":5,"n_rows":23,"n_cols":27,"rows_kept":23,"cut":false,"hidden":false,"merged":[]}
[]
[]
[null,null,"GrandPrix"]
[null,null,"China",null,null,null,null,null,null,null,null,null,null,null,null,null,null,null,null,null,null,null,"UITSLAG"]
[]
[null,null,"Raimond Langhorst",null,"deelnemer 2",null,"deelnemer 3",null,"deelnemer 4",null,"deelnemer 5",null,"deelnemer 6",null,"deelnemer 7",null,"deelnemer 8",null,"deelnemer 9",null,null,null,{"$f":"C4","v":"China"},null,"Pnt"]
[null,null,null,"pnt",null,"pnt",null,"pnt",null,"pnt",null,"pnt",null,"pnt",null,"pnt",null,"pnt",null,"pnt",null,null,{"$f":"Hoofdmenu!I11","v":"2019-04-14"}]
[null,1,null,{"$f":"IF(AND($W$8=C8,$W$8<>\"E9<>\"),$Y8,0)","v":0},null,{"$f":"IF(AND($W$8=E8,$W$8<>\"g9<>\"),$Y8,0)","v":0},null,{"$f":"IF(AND($W$8=G8,$W$8<>\"g9<>\"),$Y8,0)","v":0},null,{"$f":"IF(AND($W$8=I8,$W$8<>\"k9<>\"),$Y8,0)","v":0},null,{"$f":"IF(AND($W$8=K8,$W$8<>\"m9<>\"),$Y8,0)","v":0},null,{"$f":"IF(AND($W$8=M8,$W$8<>\"o9<>\"),$Y8,0)","v":0},null,{"$f":"IF(AND($W$8=O8,$W$8<>\"o9<>\"),$Y8,0)","v":0},null,{"$f":"IF(AND($W$8=Q8,$W$8<>\"o9<>\"),$Y8,0)","v":0},null,{"$f":"IF(AND($W$8=S8,$W$8<>\"o9<>\"),$Y8,0)","v":0},null,1,"------------",null,10,null,25]
[null,2,null,{"$f":"IF(AND($W$9=C9,$W$8<>\"E9<>\"),$Y9,0)","v":0},null,{"$f":"IF(AND($W$9=E9,$W$8<>\"g9<>\"),$Y9,0)","v":0},null,{"$f":"IF(AND($W$9=G9,$W$8<>\"g9<>\"),$Y9,0)","v":0},null,{"$f":"IF(AND($W$9=I9,$W$8<>\"k9<>\"),$Y9,0)","v":0},null,{"$f":"IF(AND($W$9=K9,$W$8<>\"m9<>\"),$Y9,0)","v":0},null,{"$f":"IF(AND($W$9=M9,$W$8<>\"o9<>\"),$Y9,0)","v":0},null,{"$f":"IF(AND($W$9=O9,$W$8<>\"o9<>\"),$Y9,0)","v":0},null,{"$f":"IF(AND($W$9=Q9,$W$8<>\"o9<>\"),$Y9,0)","v":0},null,{"$f":"IF(AND($W$9=S9,$W$8<>\"o9<>\"),$Y9,0)","v":0},null,2,"------------",null,10,null,18]
[null,3,null,{"$f":"IF(AND($W$10=C10,$W$8<>\"E9<>\"),$Y10,0)","v":0},null,{"$f":"IF(AND($W$10=E10,$W$8<>\"g9<>\"),$Y10,0)","v":0},null,{"$f":"IF(AND($W$10=G10,$W$8<>\"g9<>\"),$Y10,0)","v":0},null,{"$f":"IF(AND($W$10=I10,$W$8<>\"k9<>\"),$Y10,0)","v":0},null,{"$f":"IF(AND($W$10=K10,$W$8<>\"m9<>\"),$Y10,0)","v":0},null,{"$f":"IF(AND($W$10=M10,$W$8<>\"o9<>\"),$Y10,0)","v":0},null,{"$f":"IF(AND($W$10=O10,$W$8<>\"o9<>\"),$Y10,0)","v":0},null,{"$f":"IF(AND($W$10=Q10,$W$8<>\"o9<>\"),$Y10,0)","v":0},null,{"$f":"IF(AND($W$10=S10,$W$8<>\"o9<>\"),$Y10,0)","v":0},null,3,"------------",null,10,null,15]
[null,4,null,{"$f":"IF(AND($W$11=C11,$W$8<>\"E9<>\"),$Y11,0)","v":0},null,{"$f":"IF(AND($W$11=E11,$W$8<>\"g9<>\"),$Y11,0)","v":0},null,{"$f":"IF(AND($W$11=G11,$W$8<>\"g9<>\"),$Y11,0)","v":0},null,{"$f":"IF(AND($W$11=I11,$W$8<>\"k9<>\"),$Y11,0)","v":0},null,{"$f":"IF(AND($W$11=K11,$W$8<>\"m9<>\"),$Y11,0)","v":0},null,{"$f":"IF(AND($W$11=M11,$W$8<>\"o9<>\"),$Y11,0)","v":0},null,{"$f":"IF(AND($W$11=O11,$W$8<>\"o9<>\"),$Y11,0)","v":0},null,{"$f":"IF(AND($W$11=Q11,$W$8<>\"o9<>\"),$Y11,0)","v":0},null,{"$f":"IF(AND($W$11=S11,$W$8<>\"o9<>\"),$Y11,0)","v":0},null,4,"------------",null,10,null,12]
[null,5,null,{"$f":"IF(AND($W$12=C12,$W$8<>\"E9<>\"),$Y12,0)","v":0},null,{"$f":"IF(AND($W$12=E12,$W$8<>\"g9<>\"),$Y12,0)","v":0},null,{"$f":"IF(AND($W$12=G12,$W$8<>\"g9<>\"),$Y12,0)","v":0},null,{"$f":"IF(AND($W$12=I12,$W$8<>\"k9<>\"),$Y12,0)","v":0},null,{"$f":"IF(AND($W$12=K12,$W$8<>\"m9<>\"),$Y12,0)","v":0},null,{"$f":"IF(AND($W$12=M12,$W$8<>\"o9<>\"),$Y12,0)","v":0},null,{"$f":"IF(AND($W$12=O12,$W$8<>\"o9<>\"),$Y12,0)","v":0},null,{"$f":"IF(AND($W$12=Q12,$W$8<>\"o9<>\"),$Y12,0)","v":0},null,{"$f":"IF(AND($W$12=S12,$W$8<>\"o9<>\"),$Y12,0)","v":0},null,5,"------------",null,10,null,10]
[null,6,null,{"$f":"IF(AND($W$13=C13,$W$8<>\"E9<>\"),$Y13,0)","v":0},null,{"$f":"IF(AND($W$13=E13,$W$8<>\"g9<>\"),$Y13,0)","v":0},null,{"$f":"IF(AND($W$13=G13,$W$8<>\"g9<>\"),$Y13,0)","v":0},null,{"$f":"IF(AND($W$13=I13,$W$8<>\"k9<>\"),$Y13,0)","v":0},null,{"$f":"IF(AND($W$13=K13,$W$8<>\"m9<>\"),$Y13,0)","v":0},null,{"$f":"IF(AND($W$13=M13,$W$8<>\"o9<>\"),$Y13,0)","v":0},null,{"$f":"IF(AND($W$13=O13,$W$8<>\"o9<>\"),$Y13,0)","v":0},null,{"$f":"IF(AND($W$13=Q13,$W$8<>\"o9<>\"),$Y13,0)","v":0},null,{"$f":"IF(AND($W$13=S13,$W$8<>\"o9<>\"),$Y13,0)","v":0},null,6,"------------",null,10,null,8]
[null,7,null,{"$f":"IF(AND($W$14=C14,$W$8<>\"E9<>\"),$Y14,0)","v":0},null,{"$f":"IF(AND($W$14=E14,$W$8<>\"g9<>\"),$Y14,0)","v":0},null,{"$f":"IF(AND($W$14=G14,$W$8<>\"g9<>\"),$Y14,0)","v":0},null,{"$f":"IF(AND($W$14=I14,$W$8<>\"k9<>\"),$Y14,0)","v":0},null,{"$f":"IF(AND($W$14=K14,$W$8<>\"m9<>\"),$Y14,0)","v":0},null,{"$f":"IF(AND($W$14=M14,$W$8<>\"o9<>\"),$Y14,0)","v":0},null,{"$f":"IF(AND($W$14=O14,$W$8<>\"o9<>\"),$Y14,0)","v":0},null,{"$f":"IF(AND($W$14=Q14,$W$8<>\"o9<>\"),$Y14,0)","v":0},null,{"$f":"IF(AND($W$14=S14,$W$8<>\"o9<>\"),$Y14,0)","v":0},null,7,"------------",null,10,null,6]
[null,8,null,{"$f":"IF(AND($W$15=C15,$W$8<>\"E9<>\"),$Y15,0)","v":0},null,{"$f":"IF(AND($W$15=E15,$W$8<>\"g9<>\"),$Y15,0)","v":0},null,{"$f":"IF(AND($W$15=G15,$W$8<>\"g9<>\"),$Y15,0)","v":0},null,{"$f":"IF(AND($W$15=I15,$W$8<>\"k9<>\"),$Y15,0)","v":0},null,{"$f":"IF(AND($W$15=K15,$W$8<>\"m9<>\"),$Y15,0)","v":0},null,{"$f":"IF(AND($W$15=M15,$W$8<>\"o9<>\"),$Y15,0)","v":0},null,{"$f":"IF(AND($W$15=O15,$W$8<>\"o9<>\"),$Y15,0)","v":0},null,{"$f":"IF(AND($W$15=Q15,$W$8<>\"o9<>\"),$Y15,0)","v":0},null,{"$f":"IF(AND($W$15=S15,$W$8<>\"o9<>\"),$Y15,0)","v":0},null,8,"------------",null,10,null,4]
[null,9,null,{"$f":"IF(AND($W$16=C16,$W$8<>\"E9<>\"),$Y16,0)","v":0},null,{"$f":"IF(AND($W$16=E16,$W$8<>\"g9<>\"),$Y16,0)","v":0},null,{"$f":"IF(AND($W$16=G16,$W$8<>\"g9<>\"),$Y16,0)","v":0},null,{"$f":"IF(AND($W$16=I16,$W$8<>\"k9<>\"),$Y16,0)","v":0},null,{"$f":"IF(AND($W$16=K16,$W$8<>\"m9<>\"),$Y16,0)","v":0},null,{"$f":"IF(AND($W$16=M16,$W$8<>\"o9<>\"),$Y16,0)","v":0},null,{"$f":"IF(AND($W$16=O16,$W$8<>\"o9<>\"),$Y16,0)","v":0},null,{"$f":"IF(AND($W$16=Q16,$W$8<>\"o9<>\"),$Y16,0)","v":0},null,{"$f":"IF(AND($W$16=S16,$W$8<>\"o9<>\"),$Y16,0)","v":0},null,9,"------------",null,10,null,2]
[null,10,null,{"$f":"IF(AND($W$17=C17,$W$8<>\"E9<>\"),$Y17,0)","v":0},null,{"$f":"IF(AND($W$17=E17,$W$8<>\"g9<>\"),$Y17,0)","v":0},null,{"$f":"IF(AND($W$17=G17,$W$8<>\"g9<>\"),$Y17,0)","v":0},null,{"$f":"IF(AND($W$17=I17,$W$8<>\"k9<>\"),$Y17,0)","v":0},null,{"$f":"IF(AND($W$17=K17,$W$8<>\"m9<>\"),$Y17,0)","v":0},null,{"$f":"IF(AND($W$17=M17,$W$8<>\"o9<>\"),$Y17,0)","v":0},null,{"$f":"IF(AND($W$17=O17,$W$8<>\"o9<>\"),$Y17,0)","v":0},null,{"$f":"IF(AND($W$17=Q17,$W$8<>\"o9<>\"),$Y17,0)","v":0},null,{"$f":"IF(AND($W$17=S17,$W$8<>\"o9<>\"),$Y17,0)","v":0},null,10,"------------",null,10,null,1]
[]
[null,"Pole",null,{"$f":"IF(AND($W$19=C19,$W$8<>\"g9<>\"),$Y19,0)","v":0},null,null,null,null,null,null,null,null,null,null,null,null,null,null,null,{"$f":"IF(AND($W$19=S19,$W$8<>\"o9<>\"),$Y19,0)","v":0},null,"Pole","------------",null,5]
[]
[null,null,"Totaal punten",{"$f":"SUM(D8:D17)+D19","v":0},null,{"$f":"SUM(F8:F17)+F19","v":0},null,{"$f":"SUM(H8:H17)+H19","v":0},null,{"$f":"SUM(J8:J17)+J19","v":0},null,{"$f":"SUM(L8:L17)+L19","v":0},null,{"$f":"SUM(N8:N17)+N19","v":0},null,{"$f":"SUM(P8:P17)+P19","v":0},null,{"$f":"SUM(R8:R17)+R19","v":0},null,{"$f":"SUM(T8:T17)+T19","v":0},null,null,"Punten"]
[]
[null,null,null,null,null,null,null,null,null,null,null,null,null,null,null,null,null,null,null,null,null,"Snel","------------",null,null,null,1]

{"sheet":"4","index":6,"n_rows":23,"n_cols":27,"rows_kept":23,"cut":false,"hidden":false,"merged":[]}
[]
[]
[null,null,"GrandPrix"]
[null,null,"Azerbeidzjan",null,null,null,null,null,null,null,null,null,null,null,null,null,null,null,null,null,null,null,"UITSLAG"]
[]
[null,null,"Raimond Langhorst",null,"deelnemer 2",null,"deelnemer 3",null,"deelnemer 4",null,"deelnemer 5",null,"deelnemer 6",null,"deelnemer 7",null,"deelnemer 8",null,"deelnemer 9",null,null,null,{"$f":"C4","v":"Azerbeidzjan"},null,"Pnt"]
[null,null,null,"pnt",null,"pnt",null,"pnt",null,"pnt",null,"pnt",null,"pnt",null,"pnt",null,"pnt",null,"pnt",null,null,{"$f":"Hoofdmenu!I12","v":"2019-04-28"}]
[null,1,null,{"$f":"IF(AND($W$8=C8,$W$8<>\"E9<>\"),$Y8,0)","v":0},null,{"$f":"IF(AND($W$8=E8,$W$8<>\"g9<>\"),$Y8,0)","v":0},null,{"$f":"IF(AND($W$8=G8,$W$8<>\"g9<>\"),$Y8,0)","v":0},null,{"$f":"IF(AND($W$8=I8,$W$8<>\"k9<>\"),$Y8,0)","v":0},null,{"$f":"IF(AND($W$8=K8,$W$8<>\"m9<>\"),$Y8,0)","v":0},null,{"$f":"IF(AND($W$8=M8,$W$8<>\"o9<>\"),$Y8,0)","v":0},null,{"$f":"IF(AND($W$8=O8,$W$8<>\"o9<>\"),$Y8,0)","v":0},null,{"$f":"IF(AND($W$8=Q8,$W$8<>\"o9<>\"),$Y8,0)","v":0},null,{"$f":"IF(AND($W$8=S8,$W$8<>\"o9<>\"),$Y8,0)","v":0},null,1,"------------",null,10,null,25]
[null,2,null,{"$f":"IF(AND($W$9=C9,$W$8<>\"E9<>\"),$Y9,0)","v":0},null,{"$f":"IF(AND($W$9=E9,$W$8<>\"g9<>\"),$Y9,0)","v":0},null,{"$f":"IF(AND($W$9=G9,$W$8<>\"g9<>\"),$Y9,0)","v":0},null,{"$f":"IF(AND($W$9=I9,$W$8<>\"k9<>\"),$Y9,0)","v":0},null,{"$f":"IF(AND($W$9=K9,$W$8<>\"m9<>\"),$Y9,0)","v":0},null,{"$f":"IF(AND($W$9=M9,$W$8<>\"o9<>\"),$Y9,0)","v":0},null,{"$f":"IF(AND($W$9=O9,$W$8<>\"o9<>\"),$Y9,0)","v":0},null,{"$f":"IF(AND($W$9=Q9,$W$8<>\"o9<>\"),$Y9,0)","v":0},null,{"$f":"IF(AND($W$9=S9,$W$8<>\"o9<>\"),$Y9,0)","v":0},null,2,"------------",null,10,null,18]
[null,3,null,{"$f":"IF(AND($W$10=C10,$W$8<>\"E9<>\"),$Y10,0)","v":0},null,{"$f":"IF(AND($W$10=E10,$W$8<>\"g9<>\"),$Y10,0)","v":0},null,{"$f":"IF(AND($W$10=G10,$W$8<>\"g9<>\"),$Y10,0)","v":0},null,{"$f":"IF(AND($W$10=I10,$W$8<>\"k9<>\"),$Y10,0)","v":0},null,{"$f":"IF(AND($W$10=K10,$W$8<>\"m9<>\"),$Y10,0)","v":0},null,{"$f":"IF(AND($W$10=M10,$W$8<>\"o9<>\"),$Y10,0)","v":0},null,{"$f":"IF(AND($W$10=O10,$W$8<>\"o9<>\"),$Y10,0)","v":0},null,{"$f":"IF(AND($W$10=Q10,$W$8<>\"o9<>\"),$Y10,0)","v":0},null,{"$f":"IF(AND($W$10=S10,$W$8<>\"o9<>\"),$Y10,0)","v":0},null,3,"------------",null,10,null,15]
[null,4,null,{"$f":"IF(AND($W$11=C11,$W$8<>\"E9<>\"),$Y11,0)","v":0},null,{"$f":"IF(AND($W$11=E11,$W$8<>\"g9<>\"),$Y11,0)","v":0},null,{"$f":"IF(AND($W$11=G11,$W$8<>\"g9<>\"),$Y11,0)","v":0},null,{"$f":"IF(AND($W$11=I11,$W$8<>\"k9<>\"),$Y11,0)","v":0},null,{"$f":"IF(AND($W$11=K11,$W$8<>\"m9<>\"),$Y11,0)","v":0},null,{"$f":"IF(AND($W$11=M11,$W$8<>\"o9<>\"),$Y11,0)","v":0},null,{"$f":"IF(AND($W$11=O11,$W$8<>\"o9<>\"),$Y11,0)","v":0},null,{"$f":"IF(AND($W$11=Q11,$W$8<>\"o9<>\"),$Y11,0)","v":0},null,{"$f":"IF(AND($W$11=S11,$W$8<>\"o9<>\"),$Y11,0)","v":0},null,4,"------------",null,10,null,12]
[null,5,null,{"$f":"IF(AND($W$12=C12,$W$8<>\"E9<>\"),$Y12,0)","v":0},null,{"$f":"IF(AND($W$12=E12,$W$8<>\"g9<>\"),$Y12,0)","v":0},null,{"$f":"IF(AND($W$12=G12,$W$8<>\"g9<>\"),$Y12,0)","v":0},null,{"$f":"IF(AND($W$12=I12,$W$8<>\"k9<>\"),$Y12,0)","v":0},null,{"$f":"IF(AND($W$12=K12,$W$8<>\"m9<>\"),$Y12,0)","v":0},null,{"$f":"IF(AND($W$12=M12,$W$8<>\"o9<>\"),$Y12,0)","v":0},null,{"$f":"IF(AND($W$12=O12,$W$8<>\"o9<>\"),$Y12,0)","v":0},null,{"$f":"IF(AND($W$12=Q12,$W$8<>\"o9<>\"),$Y12,0)","v":0},null,{"$f":"IF(AND($W$12=S12,$W$8<>\"o9<>\"),$Y12,0)","v":0},null,5,"------------",null,10,null,10]
[null,6,null,{"$f":"IF(AND($W$13=C13,$W$8<>\"E9<>\"),$Y13,0)","v":0},null,{"$f":"IF(AND($W$13=E13,$W$8<>\"g9<>\"),$Y13,0)","v":0},null,{"$f":"IF(AND($W$13=G13,$W$8<>\"g9<>\"),$Y13,0)","v":0},null,{"$f":"IF(AND($W$13=I13,$W$8<>\"k9<>\"),$Y13,0)","v":0},null,{"$f":"IF(AND($W$13=K13,$W$8<>\"m9<>\"),$Y13,0)","v":0},null,{"$f":"IF(AND($W$13=M13,$W$8<>\"o9<>\"),$Y13,0)","v":0},null,{"$f":"IF(AND($W$13=O13,$W$8<>\"o9<>\"),$Y13,0)","v":0},null,{"$f":"IF(AND($W$13=Q13,$W$8<>\"o9<>\"),$Y13,0)","v":0},null,{"$f":"IF(AND($W$13=S13,$W$8<>\"o9<>\"),$Y13,0)","v":0},null,6,"------------",null,10,null,8]
[null,7,null,{"$f":"IF(AND($W$14=C14,$W$8<>\"E9<>\"),$Y14,0)","v":0},null,{"$f":"IF(AND($W$14=E14,$W$8<>\"g9<>\"),$Y14,0)","v":0},null,{"$f":"IF(AND($W$14=G14,$W$8<>\"g9<>\"),$Y14,0)","v":0},null,{"$f":"IF(AND($W$14=I14,$W$8<>\"k9<>\"),$Y14,0)","v":0},null,{"$f":"IF(AND($W$14=K14,$W$8<>\"m9<>\"),$Y14,0)","v":0},null,{"$f":"IF(AND($W$14=M14,$W$8<>\"o9<>\"),$Y14,0)","v":0},null,{"$f":"IF(AND($W$14=O14,$W$8<>\"o9<>\"),$Y14,0)","v":0},null,{"$f":"IF(AND($W$14=Q14,$W$8<>\"o9<>\"),$Y14,0)","v":0},null,{"$f":"IF(AND($W$14=S14,$W$8<>\"o9<>\"),$Y14,0)","v":0},null,7,"------------",null,10,null,6]
[null,8,null,{"$f":"IF(AND($W$15=C15,$W$8<>\"E9<>\"),$Y15,0)","v":0},null,{"$f":"IF(AND($W$15=E15,$W$8<>\"g9<>\"),$Y15,0)","v":0},null,{"$f":"IF(AND($W$15=G15,$W$8<>\"g9<>\"),$Y15,0)","v":0},null,{"$f":"IF(AND($W$15=I15,$W$8<>\"k9<>\"),$Y15,0)","v":0},null,{"$f":"IF(AND($W$15=K15,$W$8<>\"m9<>\"),$Y15,0)","v":0},null,{"$f":"IF(AND($W$15=M15,$W$8<>\"o9<>\"),$Y15,0)","v":0},null,{"$f":"IF(AND($W$15=O15,$W$8<>\"o9<>\"),$Y15,0)","v":0},null,{"$f":"IF(AND($W$15=Q15,$W$8<>\"o9<>\"),$Y15,0)","v":0},null,{"$f":"IF(AND($W$15=S15,$W$8<>\"o9<>\"),$Y15,0)","v":0},null,8,"------------",null,10,null,4]
[null,9,null,{"$f":"IF(AND($W$16=C16,$W$8<>\"E9<>\"),$Y16,0)","v":0},null,{"$f":"IF(AND($W$16=E16,$W$8<>\"g9<>\"),$Y16,0)","v":0},null,{"$f":"IF(AND($W$16=G16,$W$8<>\"g9<>\"),$Y16,0)","v":0},null,{"$f":"IF(AND($W$16=I16,$W$8<>\"k9<>\"),$Y16,0)","v":0},null,{"$f":"IF(AND($W$16=K16,$W$8<>\"m9<>\"),$Y16,0)","v":0},null,{"$f":"IF(AND($W$16=M16,$W$8<>\"o9<>\"),$Y16,0)","v":0},null,{"$f":"IF(AND($W$16=O16,$W$8<>\"o9<>\"),$Y16,0)","v":0},null,{"$f":"IF(AND($W$16=Q16,$W$8<>\"o9<>\"),$Y16,0)","v":0},null,{"$f":"IF(AND($W$16=S16,$W$8<>\"o9<>\"),$Y16,0)","v":0},null,9,"------------",null,10,null,2]
[null,10,null,{"$f":"IF(AND($W$17=C17,$W$8<>\"E9<>\"),$Y17,0)","v":0},null,{"$f":"IF(AND($W$17=E17,$W$8<>\"g9<>\"),$Y17,0)","v":0},null,{"$f":"IF(AND($W$17=G17,$W$8<>\"g9<>\"),$Y17,0)","v":0},null,{"$f":"IF(AND($W$17=I17,$W$8<>\"k9<>\"),$Y17,0)","v":0},null,{"$f":"IF(AND($W$17=K17,$W$8<>\"m9<>\"),$Y17,0)","v":0},null,{"$f":"IF(AND($W$17=M17,$W$8<>\"o9<>\"),$Y17,0)","v":0},null,{"$f":"IF(AND($W$17=O17,$W$8<>\"o9<>\"),$Y17,0)","v":0},null,{"$f":"IF(AND($W$17=Q17,$W$8<>\"o9<>\"),$Y17,0)","v":0},null,{"$f":"IF(AND($W$17=S17,$W$8<>\"o9<>\"),$Y17,0)","v":0},null,10,"------------",null,10,null,1]
[]
[null,"Pole",null,{"$f":"IF(AND($W$19=C19,$W$8<>\"g9<>\"),$Y19,0)","v":0},null,null,null,null,null,null,null,null,null,null,null,null,null,null,null,{"$f":"IF(AND($W$19=S19,$W$8<>\"o9<>\"),$Y19,0)","v":0},null,"Pole","------------",null,5]
[]
[null,null,"Totaal punten",{"$f":"SUM(D8:D17)+D19","v":0},null,{"$f":"SUM(F8:F17)+F19","v":0},null,{"$f":"SUM(H8:H17)+H19","v":0},null,{"$f":"SUM(J8:J17)+J19","v":0},null,{"$f":"SUM(L8:L17)+L19","v":0},null,{"$f":"SUM(N8:N17)+N19","v":0},null,{"$f":"SUM(P8:P17)+P19","v":0},null,{"$f":"SUM(R8:R17)+R19","v":0},null,{"$f":"SUM(T8:T17)+T19","v":0},null,null,"Punten"]
[]
[null,null,null,null,null,null,null,null,null,null,null,null,null,null,null,null,null,null,null,null,null,"Snel","------------",null,null,null,1]

{"sheet":"5","index":7,"n_rows":23,"n_cols":27,"rows_kept":23,"cut":false,"hidden":false,"merged":[]}
[]
[]
[null,null,"GrandPrix"]
[null,null," Spanje",null,null,null,null,null,null,null,null,null,null,null,null,null,null,null,null,null,null,null,"UITSLAG"]
[]
[null,null,"Raimond Langhorst",null,"deelnemer 2",null,"deelnemer 3",null,"deelnemer 4",null,"deelnemer 5",null,"deelnemer 6",null,"deelnemer 7",null,"deelnemer 8",null,"deelnemer 9",null,null,null,{"$f":"C4","v":" Spanje"},null,"Pnt"]
[null,null,null,"pnt",null,"pnt",null,"pnt",null,"pnt",null,"pnt",null,"pnt",null,"pnt",null,"pnt",null,"pnt",null,null,{"$f":"Hoofdmenu!I13","v":"2019-05-12"}]
[null,1,null,{"$f":"IF(AND($W$8=C8,$W$8<>\"E9<>\"),$Y8,0)","v":0},null,{"$f":"IF(AND($W$8=E8,$W$8<>\"g9<>\"),$Y8,0)","v":0},null,{"$f":"IF(AND($W$8=G8,$W$8<>\"g9<>\"),$Y8,0)","v":0},null,{"$f":"IF(AND($W$8=I8,$W$8<>\"k9<>\"),$Y8,0)","v":0},null,{"$f":"IF(AND($W$8=K8,$W$8<>\"m9<>\"),$Y8,0)","v":0},null,{"$f":"IF(AND($W$8=M8,$W$8<>\"o9<>\"),$Y8,0)","v":0},null,{"$f":"IF(AND($W$8=O8,$W$8<>\"o9<>\"),$Y8,0)","v":0},null,{"$f":"IF(AND($W$8=Q8,$W$8<>\"o9<>\"),$Y8,0)","v":0},null,{"$f":"IF(AND($W$8=S8,$W$8<>\"o9<>\"),$Y8,0)","v":0},null,1,"------------",null,10,null,25]
[null,2,null,{"$f":"IF(AND($W$9=C9,$W$8<>\"E9<>\"),$Y9,0)","v":0},null,{"$f":"IF(AND($W$9=E9,$W$8<>\"g9<>\"),$Y9,0)","v":0},null,{"$f":"IF(AND($W$9=G9,$W$8<>\"g9<>\"),$Y9,0)","v":0},null,{"$f":"IF(AND($W$9=I9,$W$8<>\"k9<>\"),$Y9,0)","v":0},null,{"$f":"IF(AND($W$9=K9,$W$8<>\"m9<>\"),$Y9,0)","v":0},null,{"$f":"IF(AND($W$9=M9,$W$8<>\"o9<>\"),$Y9,0)","v":0},null,{"$f":"IF(AND($W$9=O9,$W$8<>\"o9<>\"),$Y9,0)","v":0},null,{"$f":"IF(AND($W$9=Q9,$W$8<>\"o9<>\"),$Y9,0)","v":0},null,{"$f":"IF(AND($W$9=S9,$W$8<>\"o9<>\"),$Y9,0)","v":0},null,2,"------------",null,10,null,18]
[null,3,null,{"$f":"IF(AND($W$10=C10,$W$8<>\"E9<>\"),$Y10,0)","v":0},null,{"$f":"IF(AND($W$10=E10,$W$8<>\"g9<>\"),$Y10,0)","v":0},null,{"$f":"IF(AND($W$10=G10,$W$8<>\"g9<>\"),$Y10,0)","v":0},null,{"$f":"IF(AND($W$10=I10,$W$8<>\"k9<>\"),$Y10,0)","v":0},null,{"$f":"IF(AND($W$10=K10,$W$8<>\"m9<>\"),$Y10,0)","v":0},null,{"$f":"IF(AND($W$10=M10,$W$8<>\"o9<>\"),$Y10,0)","v":0},null,{"$f":"IF(AND($W$10=O10,$W$8<>\"o9<>\"),$Y10,0)","v":0},null,{"$f":"IF(AND($W$10=Q10,$W$8<>\"o9<>\"),$Y10,0)","v":0},null,{"$f":"IF(AND($W$10=S10,$W$8<>\"o9<>\"),$Y10,0)","v":0},null,3,"------------",null,10,null,15]
[null,4,null,{"$f":"IF(AND($W$11=C11,$W$8<>\"E9<>\"),$Y11,0)","v":0},null,{"$f":"IF(AND($W$11=E11,$W$8<>\"g9<>\"),$Y11,0)","v":0},null,{"$f":"IF(AND($W$11=G11,$W$8<>\"g9<>\"),$Y11,0)","v":0},null,{"$f":"IF(AND($W$11=I11,$W$8<>\"k9<>\"),$Y11,0)","v":0},null,{"$f":"IF(AND($W$11=K11,$W$8<>\"m9<>\"),$Y11,0)","v":0},null,{"$f":"IF(AND($W$11=M11,$W$8<>\"o9<>\"),$Y11,0)","v":0},null,{"$f":"IF(AND($W$11=O11,$W$8<>\"o9<>\"),$Y11,0)","v":0},null,{"$f":"IF(AND($W$11=Q11,$W$8<>\"o9<>\"),$Y11,0)","v":0},null,{"$f":"IF(AND($W$11=S11,$W$8<>\"o9<>\"),$Y11,0)","v":0},null,4,"------------",null,10,null,12]
[null,5,null,{"$f":"IF(AND($W$12=C12,$W$8<>\"E9<>\"),$Y12,0)","v":0},null,{"$f":"IF(AND($W$12=E12,$W$8<>\"g9<>\"),$Y12,0)","v":0},null,{"$f":"IF(AND($W$12=G12,$W$8<>\"g9<>\"),$Y12,0)","v":0},null,{"$f":"IF(AND($W$12=I12,$W$8<>\"k9<>\"),$Y12,0)","v":0},null,{"$f":"IF(AND($W$12=K12,$W$8<>\"m9<>\"),$Y12,0)","v":0},null,{"$f":"IF(AND($W$12=M12,$W$8<>\"o9<>\"),$Y12,0)","v":0},null,{"$f":"IF(AND($W$12=O12,$W$8<>\"o9<>\"),$Y12,0)","v":0},null,{"$f":"IF(AND($W$12=Q12,$W$8<>\"o9<>\"),$Y12,0)","v":0},null,{"$f":"IF(AND($W$12=S12,$W$8<>\"o9<>\"),$Y12,0)","v":0},null,5,"------------",null,10,null,10]
[null,6,null,{"$f":"IF(AND($W$13=C13,$W$8<>\"E9<>\"),$Y13,0)","v":0},null,{"$f":"IF(AND($W$13=E13,$W$8<>\"g9<>\"),$Y13,0)","v":0},null,{"$f":"IF(AND($W$13=G13,$W$8<>\"g9<>\"),$Y13,0)","v":0},null,{"$f":"IF(AND($W$13=I13,$W$8<>\"k9<>\"),$Y13,0)","v":0},null,{"$f":"IF(AND($W$13=K13,$W$8<>\"m9<>\"),$Y13,0)","v":0},null,{"$f":"IF(AND($W$13=M13,$W$8<>\"o9<>\"),$Y13,0)","v":0},null,{"$f":"IF(AND($W$13=O13,$W$8<>\"o9<>\"),$Y13,0)","v":0},null,{"$f":"IF(AND($W$13=Q13,$W$8<>\"o9<>\"),$Y13,0)","v":0},null,{"$f":"IF(AND($W$13=S13,$W$8<>\"o9<>\"),$Y13,0)","v":0},null,6,"------------",null,10,null,8]
[null,7,null,{"$f":"IF(AND($W$14=C14,$W$8<>\"E9<>\"),$Y14,0)","v":0},null,{"$f":"IF(AND($W$14=E14,$W$8<>\"g9<>\"),$Y14,0)","v":0},null,{"$f":"IF(AND($W$14=G14,$W$8<>\"g9<>\"),$Y14,0)","v":0},null,{"$f":"IF(AND($W$14=I14,$W$8<>\"k9<>\"),$Y14,0)","v":0},null,{"$f":"IF(AND($W$14=K14,$W$8<>\"m9<>\"),$Y14,0)","v":0},null,{"$f":"IF(AND($W$14=M14,$W$8<>\"o9<>\"),$Y14,0)","v":0},null,{"$f":"IF(AND($W$14=O14,$W$8<>\"o9<>\"),$Y14,0)","v":0},null,{"$f":"IF(AND($W$14=Q14,$W$8<>\"o9<>\"),$Y14,0)","v":0},null,{"$f":"IF(AND($W$14=S14,$W$8<>\"o9<>\"),$Y14,0)","v":0},null,7,"------------",null,10,null,6]
[null,8,null,{"$f":"IF(AND($W$15=C15,$W$8<>\"E9<>\"),$Y15,0)","v":0},null,{"$f":"IF(AND($W$15=E15,$W$8<>\"g9<>\"),$Y15,0)","v":0},null,{"$f":"IF(AND($W$15=G15,$W$8<>\"g9<>\"),$Y15,0)","v":0},null,{"$f":"IF(AND($W$15=I15,$W$8<>\"k9<>\"),$Y15,0)","v":0},null,{"$f":"IF(AND($W$15=K15,$W$8<>\"m9<>\"),$Y15,0)","v":0},null,{"$f":"IF(AND($W$15=M15,$W$8<>\"o9<>\"),$Y15,0)","v":0},null,{"$f":"IF(AND($W$15=O15,$W$8<>\"o9<>\"),$Y15,0)","v":0},null,{"$f":"IF(AND($W$15=Q15,$W$8<>\"o9<>\"),$Y15,0)","v":0},null,{"$f":"IF(AND($W$15=S15,$W$8<>\"o9<>\"),$Y15,0)","v":0},null,8,"------------",null,10,null,4]
[null,9,null,{"$f":"IF(AND($W$16=C16,$W$8<>\"E9<>\"),$Y16,0)","v":0},null,{"$f":"IF(AND($W$16=E16,$W$8<>\"g9<>\"),$Y16,0)","v":0},null,{"$f":"IF(AND($W$16=G16,$W$8<>\"g9<>\"),$Y16,0)","v":0},null,{"$f":"IF(AND($W$16=I16,$W$8<>\"k9<>\"),$Y16,0)","v":0},null,{"$f":"IF(AND($W$16=K16,$W$8<>\"m9<>\"),$Y16,0)","v":0},null,{"$f":"IF(AND($W$16=M16,$W$8<>\"o9<>\"),$Y16,0)","v":0},null,{"$f":"IF(AND($W$16=O16,$W$8<>\"o9<>\"),$Y16,0)","v":0},null,{"$f":"IF(AND($W$16=Q16,$W$8<>\"o9<>\"),$Y16,0)","v":0},null,{"$f":"IF(AND($W$16=S16,$W$8<>\"o9<>\"),$Y16,0)","v":0},null,9,"------------",null,10,null,2]
[null,10,null,{"$f":"IF(AND($W$17=C17,$W$8<>\"E9<>\"),$Y17,0)","v":0},null,{"$f":"IF(AND($W$17=E17,$W$8<>\"g9<>\"),$Y17,0)","v":0},null,{"$f":"IF(AND($W$17=G17,$W$8<>\"g9<>\"),$Y17,0)","v":0},null,{"$f":"IF(AND($W$17=I17,$W$8<>\"k9<>\"),$Y17,0)","v":0},null,{"$f":"IF(AND($W$17=K17,$W$8<>\"m9<>\"),$Y17,0)","v":0},null,{"$f":"IF(AND($W$17=M17,$W$8<>\"o9<>\"),$Y17,0)","v":0},null,{"$f":"IF(AND($W$17=O17,$W$8<>\"o9<>\"),$Y17,0)","v":0},null,{"$f":"IF(AND($W$17=Q17,$W$8<>\"o9<>\"),$Y17,0)","v":0},null,{"$f":"IF(AND($W$17=S17,$W$8<>\"o9<>\"),$Y17,0)","v":0},null,10,"------------",null,10,null,1]
[]
[null,"Pole",null,{"$f":"IF(AND($W$19=C19,$W$8<>\"g9<>\"),$Y19,0)","v":0},null,null,null,null,null,null,null,null,null,null,null,null,null,null,null,{"$f":"IF(AND($W$19=S19,$W$8<>\"o9<>\"),$Y19,0)","v":0},null,"Pole","------------",null,5]
[]
[null,null,"Totaal punten",{"$f":"SUM(D8:D17)+D19","v":0},null,{"$f":"SUM(F8:F17)+F19","v":0},null,{"$f":"SUM(H8:H17)+H19","v":0},null,{"$f":"SUM(J8:J17)+J19","v":0},null,{"$f":"SUM(L8:L17)+L19","v":0},null,{"$f":"SUM(N8:N17)+N19","v":0},null,{"$f":"SUM(P8:P17)+P19","v":0},null,{"$f":"SUM(R8:R17)+R19","v":0},null,{"$f":"SUM(T8:T17)+T19","v":0},null,null,"Punten"]
[]
[null,null,null,null,null,null,null,null,null,null,null,null,null,null,null,null,null,null,null,null,null,"Snel","------------",null,null,null,1]

{"sheet":"6","index":8,"n_rows":23,"n_cols":27,"rows_kept":23,"cut":false,"hidden":false,"merged":[]}
[]
[]
[null,null,"GrandPrix"]
[null,null,"Monaco",null,null,null,null,null,null,null,null,null,null,null,null,null,null,null,null,null,null,null,"UITSLAG"]
[]
[null,null,"Raimond Langhorst",null,"deelnemer 2",null,"deelnemer 3",null,"deelnemer 4",null,"deelnemer 5",null,"deelnemer 6",null,"deelnemer 7",null,"deelnemer 8",null,"deelnemer 9",null,null,null,{"$f":"C4","v":"Monaco"},null,"Pnt"]
[null,null,null,"pnt",null,"pnt",null,"pnt",null,"pnt",null,"pnt",null,"pnt",null,"pnt",null,"pnt",null,"pnt",null,null,{"$f":"Hoofdmenu!I14","v":"2019-05-26"}]
[null,1,null,{"$f":"IF(AND($W$8=C8,$W$8<>\"E9<>\"),$Y8,0)","v":0},null,{"$f":"IF(AND($W$8=E8,$W$8<>\"g9<>\"),$Y8,0)","v":0},null,{"$f":"IF(AND($W$8=G8,$W$8<>\"g9<>\"),$Y8,0)","v":0},null,{"$f":"IF(AND($W$8=I8,$W$8<>\"k9<>\"),$Y8,0)","v":0},null,{"$f":"IF(AND($W$8=K8,$W$8<>\"m9<>\"),$Y8,0)","v":0},null,{"$f":"IF(AND($W$8=M8,$W$8<>\"o9<>\"),$Y8,0)","v":0},null,{"$f":"IF(AND($W$8=O8,$W$8<>\"o9<>\"),$Y8,0)","v":0},null,{"$f":"IF(AND($W$8=Q8,$W$8<>\"o9<>\"),$Y8,0)","v":0},null,{"$f":"IF(AND($W$8=S8,$W$8<>\"o9<>\"),$Y8,0)","v":0},null,1,"------------",null,10,null,25]
[null,2,null,{"$f":"IF(AND($W$9=C9,$W$8<>\"E9<>\"),$Y9,0)","v":0},null,{"$f":"IF(AND($W$9=E9,$W$8<>\"g9<>\"),$Y9,0)","v":0},null,{"$f":"IF(AND($W$9=G9,$W$8<>\"g9<>\"),$Y9,0)","v":0},null,{"$f":"IF(AND($W$9=I9,$W$8<>\"k9<>\"),$Y9,0)","v":0},null,{"$f":"IF(AND($W$9=K9,$W$8<>\"m9<>\"),$Y9,0)","v":0},null,{"$f":"IF(AND($W$9=M9,$W$8<>\"o9<>\"),$Y9,0)","v":0},null,{"$f":"IF(AND($W$9=O9,$W$8<>\"o9<>\"),$Y9,0)","v":0},null,{"$f":"IF(AND($W$9=Q9,$W$8<>\"o9<>\"),$Y9,0)","v":0},null,{"$f":"IF(AND($W$9=S9,$W$8<>\"o9<>\"),$Y9,0)","v":0},null,2,"------------",null,10,null,18]
[null,3,null,{"$f":"IF(AND($W$10=C10,$W$8<>\"E9<>\"),$Y10,0)","v":0},null,{"$f":"IF(AND($W$10=E10,$W$8<>\"g9<>\"),$Y10,0)","v":0},null,{"$f":"IF(AND($W$10=G10,$W$8<>\"g9<>\"),$Y10,0)","v":0},null,{"$f":"IF(AND($W$10=I10,$W$8<>\"k9<>\"),$Y10,0)","v":0},null,{"$f":"IF(AND($W$10=K10,$W$8<>\"m9<>\"),$Y10,0)","v":0},null,{"$f":"IF(AND($W$10=M10,$W$8<>\"o9<>\"),$Y10,0)","v":0},null,{"$f":"IF(AND($W$10=O10,$W$8<>\"o9<>\"),$Y10,0)","v":0},null,{"$f":"IF(AND($W$10=Q10,$W$8<>\"o9<>\"),$Y10,0)","v":0},null,{"$f":"IF(AND($W$10=S10,$W$8<>\"o9<>\"),$Y10,0)","v":0},null,3,"------------",null,10,null,15]
[null,4,null,{"$f":"IF(AND($W$11=C11,$W$8<>\"E9<>\"),$Y11,0)","v":0},null,{"$f":"IF(AND($W$11=E11,$W$8<>\"g9<>\"),$Y11,0)","v":0},null,{"$f":"IF(AND($W$11=G11,$W$8<>\"g9<>\"),$Y11,0)","v":0},null,{"$f":"IF(AND($W$11=I11,$W$8<>\"k9<>\"),$Y11,0)","v":0},null,{"$f":"IF(AND($W$11=K11,$W$8<>\"m9<>\"),$Y11,0)","v":0},null,{"$f":"IF(AND($W$11=M11,$W$8<>\"o9<>\"),$Y11,0)","v":0},null,{"$f":"IF(AND($W$11=O11,$W$8<>\"o9<>\"),$Y11,0)","v":0},null,{"$f":"IF(AND($W$11=Q11,$W$8<>\"o9<>\"),$Y11,0)","v":0},null,{"$f":"IF(AND($W$11=S11,$W$8<>\"o9<>\"),$Y11,0)","v":0},null,4,"------------",null,10,null,12]
[null,5,null,{"$f":"IF(AND($W$12=C12,$W$8<>\"E9<>\"),$Y12,0)","v":0},null,{"$f":"IF(AND($W$12=E12,$W$8<>\"g9<>\"),$Y12,0)","v":0},null,{"$f":"IF(AND($W$12=G12,$W$8<>\"g9<>\"),$Y12,0)","v":0},null,{"$f":"IF(AND($W$12=I12,$W$8<>\"k9<>\"),$Y12,0)","v":0},null,{"$f":"IF(AND($W$12=K12,$W$8<>\"m9<>\"),$Y12,0)","v":0},null,{"$f":"IF(AND($W$12=M12,$W$8<>\"o9<>\"),$Y12,0)","v":0},null,{"$f":"IF(AND($W$12=O12,$W$8<>\"o9<>\"),$Y12,0)","v":0},null,{"$f":"IF(AND($W$12=Q12,$W$8<>\"o9<>\"),$Y12,0)","v":0},null,{"$f":"IF(AND($W$12=S12,$W$8<>\"o9<>\"),$Y12,0)","v":0},null,5,"------------",null,10,null,10]
[null,6,null,{"$f":"IF(AND($W$13=C13,$W$8<>\"E9<>\"),$Y13,0)","v":0},null,{"$f":"IF(AND($W$13=E13,$W$8<>\"g9<>\"),$Y13,0)","v":0},null,{"$f":"IF(AND($W$13=G13,$W$8<>\"g9<>\"),$Y13,0)","v":0},null,{"$f":"IF(AND($W$13=I13,$W$8<>\"k9<>\"),$Y13,0)","v":0},null,{"$f":"IF(AND($W$13=K13,$W$8<>\"m9<>\"),$Y13,0)","v":0},null,{"$f":"IF(AND($W$13=M13,$W$8<>\"o9<>\"),$Y13,0)","v":0},null,{"$f":"IF(AND($W$13=O13,$W$8<>\"o9<>\"),$Y13,0)","v":0},null,{"$f":"IF(AND($W$13=Q13,$W$8<>\"o9<>\"),$Y13,0)","v":0},null,{"$f":"IF(AND($W$13=S13,$W$8<>\"o9<>\"),$Y13,0)","v":0},null,6,"------------",null,10,null,8]
[null,7,null,{"$f":"IF(AND($W$14=C14,$W$8<>\"E9<>\"),$Y14,0)","v":0},null,{"$f":"IF(AND($W$14=E14,$W$8<>\"g9<>\"),$Y14,0)","v":0},null,{"$f":"IF(AND($W$14=G14,$W$8<>\"g9<>\"),$Y14,0)","v":0},null,{"$f":"IF(AND($W$14=I14,$W$8<>\"k9<>\"),$Y14,0)","v":0},null,{"$f":"IF(AND($W$14=K14,$W$8<>\"m9<>\"),$Y14,0)","v":0},null,{"$f":"IF(AND($W$14=M14,$W$8<>\"o9<>\"),$Y14,0)","v":0},null,{"$f":"IF(AND($W$14=O14,$W$8<>\"o9<>\"),$Y14,0)","v":0},null,{"$f":"IF(AND($W$14=Q14,$W$8<>\"o9<>\"),$Y14,0)","v":0},null,{"$f":"IF(AND($W$14=S14,$W$8<>\"o9<>\"),$Y14,0)","v":0},null,7,"------------",null,10,null,6]
[null,8,null,{"$f":"IF(AND($W$15=C15,$W$8<>\"E9<>\"),$Y15,0)","v":0},null,{"$f":"IF(AND($W$15=E15,$W$8<>\"g9<>\"),$Y15,0)","v":0},null,{"$f":"IF(AND($W$15=G15,$W$8<>\"g9<>\"),$Y15,0)","v":0},null,{"$f":"IF(AND($W$15=I15,$W$8<>\"k9<>\"),$Y15,0)","v":0},null,{"$f":"IF(AND($W$15=K15,$W$8<>\"m9<>\"),$Y15,0)","v":0},null,{"$f":"IF(AND($W$15=M15,$W$8<>\"o9<>\"),$Y15,0)","v":0},null,{"$f":"IF(AND($W$15=O15,$W$8<>\"o9<>\"),$Y15,0)","v":0},null,{"$f":"IF(AND($W$15=Q15,$W$8<>\"o9<>\"),$Y15,0)","v":0},null,{"$f":"IF(AND($W$15=S15,$W$8<>\"o9<>\"),$Y15,0)","v":0},null,8,"------------",null,10,null,4]
[null,9,null,{"$f":"IF(AND($W$16=C16,$W$8<>\"E9<>\"),$Y16,0)","v":0},null,{"$f":"IF(AND($W$16=E16,$W$8<>\"g9<>\"),$Y16,0)","v":0},null,{"$f":"IF(AND($W$16=G16,$W$8<>\"g9<>\"),$Y16,0)","v":0},null,{"$f":"IF(AND($W$16=I16,$W$8<>\"k9<>\"),$Y16,0)","v":0},null,{"$f":"IF(AND($W$16=K16,$W$8<>\"m9<>\"),$Y16,0)","v":0},null,{"$f":"IF(AND($W$16=M16,$W$8<>\"o9<>\"),$Y16,0)","v":0},null,{"$f":"IF(AND($W$16=O16,$W$8<>\"o9<>\"),$Y16,0)","v":0},null,{"$f":"IF(AND($W$16=Q16,$W$8<>\"o9<>\"),$Y16,0)","v":0},null,{"$f":"IF(AND($W$16=S16,$W$8<>\"o9<>\"),$Y16,0)","v":0},null,9,"------------",null,10,null,2]
[null,10,null,{"$f":"IF(AND($W$17=C17,$W$8<>\"E9<>\"),$Y17,0)","v":0},null,{"$f":"IF(AND($W$17=E17,$W$8<>\"g9<>\"),$Y17,0)","v":0},null,{"$f":"IF(AND($W$17=G17,$W$8<>\"g9<>\"),$Y17,0)","v":0},null,{"$f":"IF(AND($W$17=I17,$W$8<>\"k9<>\"),$Y17,0)","v":0},null,{"$f":"IF(AND($W$17=K17,$W$8<>\"m9<>\"),$Y17,0)","v":0},null,{"$f":"IF(AND($W$17=M17,$W$8<>\"o9<>\"),$Y17,0)","v":0},null,{"$f":"IF(AND($W$17=O17,$W$8<>\"o9<>\"),$Y17,0)","v":0},null,{"$f":"IF(AND($W$17=Q17,$W$8<>\"o9<>\"),$Y17,0)","v":0},null,{"$f":"IF(AND($W$17=S17,$W$8<>\"o9<>\"),$Y17,0)","v":0},null,10,"------------",null,10,null,1]
[]
[null,"Pole",null,{"$f":"IF(AND($W$19=C19,$W$8<>\"g9<>\"),$Y19,0)","v":0},null,null,null,null,null,null,null,null,null,null,null,null,null,null,null,{"$f":"IF(AND($W$19=S19,$W$8<>\"o9<>\"),$Y19,0)","v":0},null,"Pole","------------",null,5]
[]
[null,null,"Totaal punten",{"$f":"SUM(D8:D17)+D19","v":0},null,{"$f":"SUM(F8:F17)+F19","v":0},null,{"$f":"SUM(H8:H17)+H19","v":0},null,{"$f":"SUM(J8:J17)+J19","v":0},null,{"$f":"SUM(L8:L17)+L19","v":0},null,{"$f":"SUM(N8:N17)+N19","v":0},null,{"$f":"SUM(P8:P17)+P19","v":0},null,{"$f":"SUM(R8:R17)+R19","v":0},null,{"$f":"SUM(T8:T17)+T19","v":0},null,null,"Punten"]
[]
[null,null,null,null,null,null,null,null,null,null,null,null,null,null,null,null,null,null,null,null,null,"Snel","------------",null,null,null,1]

{"sheet":"7","index":9,"n_rows":23,"n_cols":27,"rows_kept":23,"cut":false,"hidden":false,"merged":[]}
[]
[]
[null,null,"GrandPrix"]
[null,null,"Canada",null,null,null,null,null,null,null,null,null,null,null,null,null,null,null,null,null,null,null,"UITSLAG"]
[]
[null,null,"Raimond Langhorst",null,"deelnemer 2",null,"deelnemer 3",null,"deelnemer 4",null,"deelnemer 5",null,"deelnemer 6",null,"deelnemer 7",null,"deelnemer 8",null,"deelnemer 9",null,null,null,{"$f":"C4","v":"Canada"},null,"Pnt"]
[null,null,null,"pnt",null,"pnt",null,"pnt",null,"pnt",null,"pnt",null,"pnt",null,"pnt",null,"pnt",null,"pnt",null,null,{"$f":"Hoofdmenu!I15","v":"2019-06-09"}]
[null,1,null,{"$f":"IF(AND($W$8=C8,$W$8<>\"E9<>\"),$Y8,0)","v":0},null,{"$f":"IF(AND($W$8=E8,$W$8<>\"g9<>\"),$Y8,0)","v":0},null,{"$f":"IF(AND($W$8=G8,$W$8<>\"g9<>\"),$Y8,0)","v":0},null,{"$f":"IF(AND($W$8=I8,$W$8<>\"k9<>\"),$Y8,0)","v":0},null,{"$f":"IF(AND($W$8=K8,$W$8<>\"m9<>\"),$Y8,0)","v":0},null,{"$f":"IF(AND($W$8=M8,$W$8<>\"o9<>\"),$Y8,0)","v":0},null,{"$f":"IF(AND($W$8=O8,$W$8<>\"o9<>\"),$Y8,0)","v":0},null,{"$f":"IF(AND($W$8=Q8,$W$8<>\"o9<>\"),$Y8,0)","v":0},null,{"$f":"IF(AND($W$8=S8,$W$8<>\"o9<>\"),$Y8,0)","v":0},null,1,"------------",null,10,null,25]
[null,2,null,{"$f":"IF(AND($W$9=C9,$W$8<>\"E9<>\"),$Y9,0)","v":0},null,{"$f":"IF(AND($W$9=E9,$W$8<>\"g9<>\"),$Y9,0)","v":0},null,{"$f":"IF(AND($W$9=G9,$W$8<>\"g9<>\"),$Y9,0)","v":0},null,{"$f":"IF(AND($W$9=I9,$W$8<>\"k9<>\"),$Y9,0)","v":0},null,{"$f":"IF(AND($W$9=K9,$W$8<>\"m9<>\"),$Y9,0)","v":0},null,{"$f":"IF(AND($W$9=M9,$W$8<>\"o9<>\"),$Y9,0)","v":0},null,{"$f":"IF(AND($W$9=O9,$W$8<>\"o9<>\"),$Y9,0)","v":0},null,{"$f":"IF(AND($W$9=Q9,$W$8<>\"o9<>\"),$Y9,0)","v":0},null,{"$f":"IF(AND($W$9=S9,$W$8<>\"o9<>\"),$Y9,0)","v":0},null,2,"------------",null,10,null,18]
[null,3,null,{"$f":"IF(AND($W$10=C10,$W$8<>\"E9<>\"),$Y10,0)","v":0},null,{"$f":"IF(AND($W$10=E10,$W$8<>\"g9<>\"),$Y10,0)","v":0},null,{"$f":"IF(AND($W$10=G10,$W$8<>\"g9<>\"),$Y10,0)","v":0},null,{"$f":"IF(AND($W$10=I10,$W$8<>\"k9<>\"),$Y10,0)","v":0},null,{"$f":"IF(AND($W$10=K10,$W$8<>\"m9<>\"),$Y10,0)","v":0},null,{"$f":"IF(AND($W$10=M10,$W$8<>\"o9<>\"),$Y10,0)","v":0},null,{"$f":"IF(AND($W$10=O10,$W$8<>\"o9<>\"),$Y10,0)","v":0},null,{"$f":"IF(AND($W$10=Q10,$W$8<>\"o9<>\"),$Y10,0)","v":0},null,{"$f":"IF(AND($W$10=S10,$W$8<>\"o9<>\"),$Y10,0)","v":0},null,3,"------------",null,10,null,15]
[null,4,null,{"$f":"IF(AND($W$11=C11,$W$8<>\"E9<>\"),$Y11,0)","v":0},null,{"$f":"IF(AND($W$11=E11,$W$8<>\"g9<>\"),$Y11,0)","v":0},null,{"$f":"IF(AND($W$11=G11,$W$8<>\"g9<>\"),$Y11,0)","v":0},null,{"$f":"IF(AND($W$11=I11,$W$8<>\"k9<>\"),$Y11,0)","v":0},null,{"$f":"IF(AND($W$11=K11,$W$8<>\"m9<>\"),$Y11,0)","v":0},null,{"$f":"IF(AND($W$11=M11,$W$8<>\"o9<>\"),$Y11,0)","v":0},null,{"$f":"IF(AND($W$11=O11,$W$8<>\"o9<>\"),$Y11,0)","v":0},null,{"$f":"IF(AND($W$11=Q11,$W$8<>\"o9<>\"),$Y11,0)","v":0},null,{"$f":"IF(AND($W$11=S11,$W$8<>\"o9<>\"),$Y11,0)","v":0},null,4,"------------",null,10,null,12]
[null,5,null,{"$f":"IF(AND($W$12=C12,$W$8<>\"E9<>\"),$Y12,0)","v":0},null,{"$f":"IF(AND($W$12=E12,$W$8<>\"g9<>\"),$Y12,0)","v":0},null,{"$f":"IF(AND($W$12=G12,$W$8<>\"g9<>\"),$Y12,0)","v":0},null,{"$f":"IF(AND($W$12=I12,$W$8<>\"k9<>\"),$Y12,0)","v":0},null,{"$f":"IF(AND($W$12=K12,$W$8<>\"m9<>\"),$Y12,0)","v":0},null,{"$f":"IF(AND($W$12=M12,$W$8<>\"o9<>\"),$Y12,0)","v":0},null,{"$f":"IF(AND($W$12=O12,$W$8<>\"o9<>\"),$Y12,0)","v":0},null,{"$f":"IF(AND($W$12=Q12,$W$8<>\"o9<>\"),$Y12,0)","v":0},null,{"$f":"IF(AND($W$12=S12,$W$8<>\"o9<>\"),$Y12,0)","v":0},null,5,"------------",null,10,null,10]
[null,6,null,{"$f":"IF(AND($W$13=C13,$W$8<>\"E9<>\"),$Y13,0)","v":0},null,{"$f":"IF(AND($W$13=E13,$W$8<>\"g9<>\"),$Y13,0)","v":0},null,{"$f":"IF(AND($W$13=G13,$W$8<>\"g9<>\"),$Y13,0)","v":0},null,{"$f":"IF(AND($W$13=I13,$W$8<>\"k9<>\"),$Y13,0)","v":0},null,{"$f":"IF(AND($W$13=K13,$W$8<>\"m9<>\"),$Y13,0)","v":0},null,{"$f":"IF(AND($W$13=M13,$W$8<>\"o9<>\"),$Y13,0)","v":0},null,{"$f":"IF(AND($W$13=O13,$W$8<>\"o9<>\"),$Y13,0)","v":0},null,{"$f":"IF(AND($W$13=Q13,$W$8<>\"o9<>\"),$Y13,0)","v":0},null,{"$f":"IF(AND($W$13=S13,$W$8<>\"o9<>\"),$Y13,0)","v":0},null,6,"------------",null,10,null,8]
[null,7,null,{"$f":"IF(AND($W$14=C14,$W$8<>\"E9<>\"),$Y14,0)","v":0},null,{"$f":"IF(AND($W$14=E14,$W$8<>\"g9<>\"),$Y14,0)","v":0},null,{"$f":"IF(AND($W$14=G14,$W$8<>\"g9<>\"),$Y14,0)","v":0},null,{"$f":"IF(AND($W$14=I14,$W$8<>\"k9<>\"),$Y14,0)","v":0},null,{"$f":"IF(AND($W$14=K14,$W$8<>\"m9<>\"),$Y14,0)","v":0},null,{"$f":"IF(AND($W$14=M14,$W$8<>\"o9<>\"),$Y14,0)","v":0},null,{"$f":"IF(AND($W$14=O14,$W$8<>\"o9<>\"),$Y14,0)","v":0},null,{"$f":"IF(AND($W$14=Q14,$W$8<>\"o9<>\"),$Y14,0)","v":0},null,{"$f":"IF(AND($W$14=S14,$W$8<>\"o9<>\"),$Y14,0)","v":0},null,7,"------------",null,10,null,6]
[null,8,null,{"$f":"IF(AND($W$15=C15,$W$8<>\"E9<>\"),$Y15,0)","v":0},null,{"$f":"IF(AND($W$15=E15,$W$8<>\"g9<>\"),$Y15,0)","v":0},null,{"$f":"IF(AND($W$15=G15,$W$8<>\"g9<>\"),$Y15,0)","v":0},null,{"$f":"IF(AND($W$15=I15,$W$8<>\"k9<>\"),$Y15,0)","v":0},null,{"$f":"IF(AND($W$15=K15,$W$8<>\"m9<>\"),$Y15,0)","v":0},null,{"$f":"IF(AND($W$15=M15,$W$8<>\"o9<>\"),$Y15,0)","v":0},null,{"$f":"IF(AND($W$15=O15,$W$8<>\"o9<>\"),$Y15,0)","v":0},null,{"$f":"IF(AND($W$15=Q15,$W$8<>\"o9<>\"),$Y15,0)","v":0},null,{"$f":"IF(AND($W$15=S15,$W$8<>\"o9<>\"),$Y15,0)","v":0},null,8,"------------",null,10,null,4]
[null,9,null,{"$f":"IF(AND($W$16=C16,$W$8<>\"E9<>\"),$Y16,0)","v":0},null,{"$f":"IF(AND($W$16=E16,$W$8<>\"g9<>\"),$Y16,0)","v":0},null,{"$f":"IF(AND($W$16=G16,$W$8<>\"g9<>\"),$Y16,0)","v":0},null,{"$f":"IF(AND($W$16=I16,$W$8<>\"k9<>\"),$Y16,0)","v":0},null,{"$f":"IF(AND($W$16=K16,$W$8<>\"m9<>\"),$Y16,0)","v":0},null,{"$f":"IF(AND($W$16=M16,$W$8<>\"o9<>\"),$Y16,0)","v":0},null,{"$f":"IF(AND($W$16=O16,$W$8<>\"o9<>\"),$Y16,0)","v":0},null,{"$f":"IF(AND($W$16=Q16,$W$8<>\"o9<>\"),$Y16,0)","v":0},null,{"$f":"IF(AND($W$16=S16,$W$8<>\"o9<>\"),$Y16,0)","v":0},null,9,"------------",null,10,null,2]
[null,10,null,{"$f":"IF(AND($W$17=C17,$W$8<>\"E9<>\"),$Y17,0)","v":0},null,{"$f":"IF(AND($W$17=E17,$W$8<>\"g9<>\"),$Y17,0)","v":0},null,{"$f":"IF(AND($W$17=G17,$W$8<>\"g9<>\"),$Y17,0)","v":0},null,{"$f":"IF(AND($W$17=I17,$W$8<>\"k9<>\"),$Y17,0)","v":0},null,{"$f":"IF(AND($W$17=K17,$W$8<>\"m9<>\"),$Y17,0)","v":0},null,{"$f":"IF(AND($W$17=M17,$W$8<>\"o9<>\"),$Y17,0)","v":0},null,{"$f":"IF(AND($W$17=O17,$W$8<>\"o9<>\"),$Y17,0)","v":0},null,{"$f":"IF(AND($W$17=Q17,$W$8<>\"o9<>\"),$Y17,0)","v":0},null,{"$f":"IF(AND($W$17=S17,$W$8<>\"o9<>\"),$Y17,0)","v":0},null,10,"------------",null,10,null,1]
[]
[null,"Pole",null,{"$f":"IF(AND($W$19=C19,$W$8<>\"g9<>\"),$Y19,0)","v":0},null,null,null,null,null,null,null,null,null,null,null,null,null,null,null,{"$f":"IF(AND($W$19=S19,$W$8<>\"o9<>\"),$Y19,0)","v":0},null,"Pole","------------",null,5]
[]
[null,null,"Totaal punten",{"$f":"SUM(D8:D17)+D19","v":0},null,{"$f":"SUM(F8:F17)+F19","v":0},null,{"$f":"SUM(H8:H17)+H19","v":0},null,{"$f":"SUM(J8:J17)+J19","v":0},null,{"$f":"SUM(L8:L17)+L19","v":0},null,{"$f":"SUM(N8:N17)+N19","v":0},null,{"$f":"SUM(P8:P17)+P19","v":0},null,{"$f":"SUM(R8:R17)+R19","v":0},null,{"$f":"SUM(T8:T17)+T19","v":0},null,null,"Punten"]
[]
[null,null,null,null,null,null,null,null,null,null,null,null,null,null,null,null,null,null,null,null,null,"Snel","------------",null,null,null,1]

{"sheet":"8","index":10,"n_rows":23,"n_cols":27,"rows_kept":23,"cut":false,"hidden":false,"merged":[]}
[]
[]
[null,null,"GrandPrix"]
[null,null,"Frankrijk",null,null,null,null,null,null,null,null,null,null,null,null,null,null,null,null,null,null,null,"UITSLAG"]
[]
[null,null,"Raimond Langhorst",null,"deelnemer 2",null,"deelnemer 3",null,"deelnemer 4",null,"deelnemer 5",null,"deelnemer 6",null,"deelnemer 7",null,"deelnemer 8",null,"deelnemer 9",null,null,null,{"$f":"C4","v":"Frankrijk"},null,"Pnt"]
[null,null,null,"pnt",null,"pnt",null,"pnt",null,"pnt",null,"pnt",null,"pnt",null,"pnt",null,"pnt",null,"pnt",null,null,{"$f":"Hoofdmenu!I16","v":"2019-06-23"}]
[null,1,null,{"$f":"IF(AND($W$8=C8,$W$8<>\"E9<>\"),$Y8,0)","v":0},null,{"$f":"IF(AND($W$8=E8,$W$8<>\"g9<>\"),$Y8,0)","v":0},null,{"$f":"IF(AND($W$8=G8,$W$8<>\"g9<>\"),$Y8,0)","v":0},null,{"$f":"IF(AND($W$8=I8,$W$8<>\"k9<>\"),$Y8,0)","v":0},null,{"$f":"IF(AND($W$8=K8,$W$8<>\"m9<>\"),$Y8,0)","v":0},null,{"$f":"IF(AND($W$8=M8,$W$8<>\"o9<>\"),$Y8,0)","v":0},null,{"$f":"IF(AND($W$8=O8,$W$8<>\"o9<>\"),$Y8,0)","v":0},null,{"$f":"IF(AND($W$8=Q8,$W$8<>\"o9<>\"),$Y8,0)","v":0},null,{"$f":"IF(AND($W$8=S8,$W$8<>\"o9<>\"),$Y8,0)","v":0},null,1,"------------",null,10,null,25]
[null,2,null,{"$f":"IF(AND($W$9=C9,$W$8<>\"E9<>\"),$Y9,0)","v":0},null,{"$f":"IF(AND($W$9=E9,$W$8<>\"g9<>\"),$Y9,0)","v":0},null,{"$f":"IF(AND($W$9=G9,$W$8<>\"g9<>\"),$Y9,0)","v":0},null,{"$f":"IF(AND($W$9=I9,$W$8<>\"k9<>\"),$Y9,0)","v":0},null,{"$f":"IF(AND($W$9=K9,$W$8<>\"m9<>\"),$Y9,0)","v":0},null,{"$f":"IF(AND($W$9=M9,$W$8<>\"o9<>\"),$Y9,0)","v":0},null,{"$f":"IF(AND($W$9=O9,$W$8<>\"o9<>\"),$Y9,0)","v":0},null,{"$f":"IF(AND($W$9=Q9,$W$8<>\"o9<>\"),$Y9,0)","v":0},null,{"$f":"IF(AND($W$9=S9,$W$8<>\"o9<>\"),$Y9,0)","v":0},null,2,"------------",null,10,null,18]
[null,3,null,{"$f":"IF(AND($W$10=C10,$W$8<>\"E9<>\"),$Y10,0)","v":0},null,{"$f":"IF(AND($W$10=E10,$W$8<>\"g9<>\"),$Y10,0)","v":0},null,{"$f":"IF(AND($W$10=G10,$W$8<>\"g9<>\"),$Y10,0)","v":0},null,{"$f":"IF(AND($W$10=I10,$W$8<>\"k9<>\"),$Y10,0)","v":0},null,{"$f":"IF(AND($W$10=K10,$W$8<>\"m9<>\"),$Y10,0)","v":0},null,{"$f":"IF(AND($W$10=M10,$W$8<>\"o9<>\"),$Y10,0)","v":0},null,{"$f":"IF(AND($W$10=O10,$W$8<>\"o9<>\"),$Y10,0)","v":0},null,{"$f":"IF(AND($W$10=Q10,$W$8<>\"o9<>\"),$Y10,0)","v":0},null,{"$f":"IF(AND($W$10=S10,$W$8<>\"o9<>\"),$Y10,0)","v":0},null,3,"------------",null,10,null,15]
[null,4,null,{"$f":"IF(AND($W$11=C11,$W$8<>\"E9<>\"),$Y11,0)","v":0},null,{"$f":"IF(AND($W$11=E11,$W$8<>\"g9<>\"),$Y11,0)","v":0},null,{"$f":"IF(AND($W$11=G11,$W$8<>\"g9<>\"),$Y11,0)","v":0},null,{"$f":"IF(AND($W$11=I11,$W$8<>\"k9<>\"),$Y11,0)","v":0},null,{"$f":"IF(AND($W$11=K11,$W$8<>\"m9<>\"),$Y11,0)","v":0},null,{"$f":"IF(AND($W$11=M11,$W$8<>\"o9<>\"),$Y11,0)","v":0},null,{"$f":"IF(AND($W$11=O11,$W$8<>\"o9<>\"),$Y11,0)","v":0},null,{"$f":"IF(AND($W$11=Q11,$W$8<>\"o9<>\"),$Y11,0)","v":0},null,{"$f":"IF(AND($W$11=S11,$W$8<>\"o9<>\"),$Y11,0)","v":0},null,4,"------------",null,10,null,12]
[null,5,null,{"$f":"IF(AND($W$12=C12,$W$8<>\"E9<>\"),$Y12,0)","v":0},null,{"$f":"IF(AND($W$12=E12,$W$8<>\"g9<>\"),$Y12,0)","v":0},null,{"$f":"IF(AND($W$12=G12,$W$8<>\"g9<>\"),$Y12,0)","v":0},null,{"$f":"IF(AND($W$12=I12,$W$8<>\"k9<>\"),$Y12,0)","v":0},null,{"$f":"IF(AND($W$12=K12,$W$8<>\"m9<>\"),$Y12,0)","v":0},null,{"$f":"IF(AND($W$12=M12,$W$8<>\"o9<>\"),$Y12,0)","v":0},null,{"$f":"IF(AND($W$12=O12,$W$8<>\"o9<>\"),$Y12,0)","v":0},null,{"$f":"IF(AND($W$12=Q12,$W$8<>\"o9<>\"),$Y12,0)","v":0},null,{"$f":"IF(AND($W$12=S12,$W$8<>\"o9<>\"),$Y12,0)","v":0},null,5,"------------",null,10,null,10]
[null,6,null,{"$f":"IF(AND($W$13=C13,$W$8<>\"E9<>\"),$Y13,0)","v":0},null,{"$f":"IF(AND($W$13=E13,$W$8<>\"g9<>\"),$Y13,0)","v":0},null,{"$f":"IF(AND($W$13=G13,$W$8<>\"g9<>\"),$Y13,0)","v":0},null,{"$f":"IF(AND($W$13=I13,$W$8<>\"k9<>\"),$Y13,0)","v":0},null,{"$f":"IF(AND($W$13=K13,$W$8<>\"m9<>\"),$Y13,0)","v":0},null,{"$f":"IF(AND($W$13=M13,$W$8<>\"o9<>\"),$Y13,0)","v":0},null,{"$f":"IF(AND($W$13=O13,$W$8<>\"o9<>\"),$Y13,0)","v":0},null,{"$f":"IF(AND($W$13=Q13,$W$8<>\"o9<>\"),$Y13,0)","v":0},null,{"$f":"IF(AND($W$13=S13,$W$8<>\"o9<>\"),$Y13,0)","v":0},null,6,"------------",null,10,null,8]
[null,7,null,{"$f":"IF(AND($W$14=C14,$W$8<>\"E9<>\"),$Y14,0)","v":0},null,{"$f":"IF(AND($W$14=E14,$W$8<>\"g9<>\"),$Y14,0)","v":0},null,{"$f":"IF(AND($W$14=G14,$W$8<>\"g9<>\"),$Y14,0)","v":0},null,{"$f":"IF(AND($W$14=I14,$W$8<>\"k9<>\"),$Y14,0)","v":0},null,{"$f":"IF(AND($W$14=K14,$W$8<>\"m9<>\"),$Y14,0)","v":0},null,{"$f":"IF(AND($W$14=M14,$W$8<>\"o9<>\"),$Y14,0)","v":0},null,{"$f":"IF(AND($W$14=O14,$W$8<>\"o9<>\"),$Y14,0)","v":0},null,{"$f":"IF(AND($W$14=Q14,$W$8<>\"o9<>\"),$Y14,0)","v":0},null,{"$f":"IF(AND($W$14=S14,$W$8<>\"o9<>\"),$Y14,0)","v":0},null,7,"------------",null,10,null,6]
[null,8,null,{"$f":"IF(AND($W$15=C15,$W$8<>\"E9<>\"),$Y15,0)","v":0},null,{"$f":"IF(AND($W$15=E15,$W$8<>\"g9<>\"),$Y15,0)","v":0},null,{"$f":"IF(AND($W$15=G15,$W$8<>\"g9<>\"),$Y15,0)","v":0},null,{"$f":"IF(AND($W$15=I15,$W$8<>\"k9<>\"),$Y15,0)","v":0},null,{"$f":"IF(AND($W$15=K15,$W$8<>\"m9<>\"),$Y15,0)","v":0},null,{"$f":"IF(AND($W$15=M15,$W$8<>\"o9<>\"),$Y15,0)","v":0},null,{"$f":"IF(AND($W$15=O15,$W$8<>\"o9<>\"),$Y15,0)","v":0},null,{"$f":"IF(AND($W$15=Q15,$W$8<>\"o9<>\"),$Y15,0)","v":0},null,{"$f":"IF(AND($W$15=S15,$W$8<>\"o9<>\"),$Y15,0)","v":0},null,8,"------------",null,10,null,4]
[null,9,null,{"$f":"IF(AND($W$16=C16,$W$8<>\"E9<>\"),$Y16,0)","v":0},null,{"$f":"IF(AND($W$16=E16,$W$8<>\"g9<>\"),$Y16,0)","v":0},null,{"$f":"IF(AND($W$16=G16,$W$8<>\"g9<>\"),$Y16,0)","v":0},null,{"$f":"IF(AND($W$16=I16,$W$8<>\"k9<>\"),$Y16,0)","v":0},null,{"$f":"IF(AND($W$16=K16,$W$8<>\"m9<>\"),$Y16,0)","v":0},null,{"$f":"IF(AND($W$16=M16,$W$8<>\"o9<>\"),$Y16,0)","v":0},null,{"$f":"IF(AND($W$16=O16,$W$8<>\"o9<>\"),$Y16,0)","v":0},null,{"$f":"IF(AND($W$16=Q16,$W$8<>\"o9<>\"),$Y16,0)","v":0},null,{"$f":"IF(AND($W$16=S16,$W$8<>\"o9<>\"),$Y16,0)","v":0},null,9,"------------",null,10,null,2]
[null,10,null,{"$f":"IF(AND($W$17=C17,$W$8<>\"E9<>\"),$Y17,0)","v":0},null,{"$f":"IF(AND($W$17=E17,$W$8<>\"g9<>\"),$Y17,0)","v":0},null,{"$f":"IF(AND($W$17=G17,$W$8<>\"g9<>\"),$Y17,0)","v":0},null,{"$f":"IF(AND($W$17=I17,$W$8<>\"k9<>\"),$Y17,0)","v":0},null,{"$f":"IF(AND($W$17=K17,$W$8<>\"m9<>\"),$Y17,0)","v":0},null,{"$f":"IF(AND($W$17=M17,$W$8<>\"o9<>\"),$Y17,0)","v":0},null,{"$f":"IF(AND($W$17=O17,$W$8<>\"o9<>\"),$Y17,0)","v":0},null,{"$f":"IF(AND($W$17=Q17,$W$8<>\"o9<>\"),$Y17,0)","v":0},null,{"$f":"IF(AND($W$17=S17,$W$8<>\"o9<>\"),$Y17,0)","v":0},null,10,"------------",null,10,null,1]
[]
[null,"Pole",null,{"$f":"IF(AND($W$19=C19,$W$8<>\"g9<>\"),$Y19,0)","v":0},null,null,null,null,null,null,null,null,null,null,null,null,null,null,null,{"$f":"IF(AND($W$19=S19,$W$8<>\"o9<>\"),$Y19,0)","v":0},null,"Pole","------------",null,5]
[]
[null,null,"Totaal punten",{"$f":"SUM(D8:D17)+D19","v":0},null,{"$f":"SUM(F8:F17)+F19","v":0},null,{"$f":"SUM(H8:H17)+H19","v":0},null,{"$f":"SUM(J8:J17)+J19","v":0},null,{"$f":"SUM(L8:L17)+L19","v":0},null,{"$f":"SUM(N8:N17)+N19","v":0},null,{"$f":"SUM(P8:P17)+P19","v":0},null,{"$f":"SUM(R8:R17)+R19","v":0},null,{"$f":"SUM(T8:T17)+T19","v":0},null,null,"Punten"]
[]
[null,null,null,null,null,null,null,null,null,null,null,null,null,null,null,null,null,null,null,null,null,"Snel","------------",null,null,null,1]

{"sheet":"9","index":11,"n_rows":23,"n_cols":27,"rows_kept":23,"cut":false,"hidden":false,"merged":[]}
[]
[]
[null,null,"GrandPrix"]
[null,null,"Oostenrijk",null,null,null,null,null,null,null,null,null,null,null,null,null,null,null,null,null,null,null,"UITSLAG"]
[]
[null,null,"Raimond Langhorst",null,"deelnemer 2",null,"deelnemer 3",null,"deelnemer 4",null,"deelnemer 5",null,"deelnemer 6",null,"deelnemer 7",null,"deelnemer 8",null,"deelnemer 9",null,null,null,{"$f":"C4","v":"Oostenrijk"},null,"Pnt"]
[null,null,null,"pnt",null,"pnt",null,"pnt",null,"pnt",null,"pnt",null,"pnt",null,"pnt",null,"pnt",null,"pnt",null,null,{"$f":"Hoofdmenu!I17","v":"2019-06-30"}]
[null,1,null,{"$f":"IF(AND($W$8=C8,$W$8<>\"E9<>\"),$Y8,0)","v":0},null,{"$f":"IF(AND($W$8=E8,$W$8<>\"g9<>\"),$Y8,0)","v":0},null,{"$f":"IF(AND($W$8=G8,$W$8<>\"g9<>\"),$Y8,0)","v":0},null,{"$f":"IF(AND($W$8=I8,$W$8<>\"k9<>\"),$Y8,0)","v":0},null,{"$f":"IF(AND($W$8=K8,$W$8<>\"m9<>\"),$Y8,0)","v":0},null,{"$f":"IF(AND($W$8=M8,$W$8<>\"o9<>\"),$Y8,0)","v":0},null,{"$f":"IF(AND($W$8=O8,$W$8<>\"o9<>\"),$Y8,0)","v":0},null,{"$f":"IF(AND($W$8=Q8,$W$8<>\"o9<>\"),$Y8,0)","v":0},null,{"$f":"IF(AND($W$8=S8,$W$8<>\"o9<>\"),$Y8,0)","v":0},null,1,"------------",null,10,null,25]
[null,2,null,{"$f":"IF(AND($W$9=C9,$W$8<>\"E9<>\"),$Y9,0)","v":0},null,{"$f":"IF(AND($W$9=E9,$W$8<>\"g9<>\"),$Y9,0)","v":0},null,{"$f":"IF(AND($W$9=G9,$W$8<>\"g9<>\"),$Y9,0)","v":0},null,{"$f":"IF(AND($W$9=I9,$W$8<>\"k9<>\"),$Y9,0)","v":0},null,{"$f":"IF(AND($W$9=K9,$W$8<>\"m9<>\"),$Y9,0)","v":0},null,{"$f":"IF(AND($W$9=M9,$W$8<>\"o9<>\"),$Y9,0)","v":0},null,{"$f":"IF(AND($W$9=O9,$W$8<>\"o9<>\"),$Y9,0)","v":0},null,{"$f":"IF(AND($W$9=Q9,$W$8<>\"o9<>\"),$Y9,0)","v":0},null,{"$f":"IF(AND($W$9=S9,$W$8<>\"o9<>\"),$Y9,0)","v":0},null,2,"------------",null,10,null,18]
[null,3,null,{"$f":"IF(AND($W$10=C10,$W$8<>\"E9<>\"),$Y10,0)","v":0},null,{"$f":"IF(AND($W$10=E10,$W$8<>\"g9<>\"),$Y10,0)","v":0},null,{"$f":"IF(AND($W$10=G10,$W$8<>\"g9<>\"),$Y10,0)","v":0},null,{"$f":"IF(AND($W$10=I10,$W$8<>\"k9<>\"),$Y10,0)","v":0},null,{"$f":"IF(AND($W$10=K10,$W$8<>\"m9<>\"),$Y10,0)","v":0},null,{"$f":"IF(AND($W$10=M10,$W$8<>\"o9<>\"),$Y10,0)","v":0},null,{"$f":"IF(AND($W$10=O10,$W$8<>\"o9<>\"),$Y10,0)","v":0},null,{"$f":"IF(AND($W$10=Q10,$W$8<>\"o9<>\"),$Y10,0)","v":0},null,{"$f":"IF(AND($W$10=S10,$W$8<>\"o9<>\"),$Y10,0)","v":0},null,3,"------------",null,10,null,15]
[null,4,null,{"$f":"IF(AND($W$11=C11,$W$8<>\"E9<>\"),$Y11,0)","v":0},null,{"$f":"IF(AND($W$11=E11,$W$8<>\"g9<>\"),$Y11,0)","v":0},null,{"$f":"IF(AND($W$11=G11,$W$8<>\"g9<>\"),$Y11,0)","v":0},null,{"$f":"IF(AND($W$11=I11,$W$8<>\"k9<>\"),$Y11,0)","v":0},null,{"$f":"IF(AND($W$11=K11,$W$8<>\"m9<>\"),$Y11,0)","v":0},null,{"$f":"IF(AND($W$11=M11,$W$8<>\"o9<>\"),$Y11,0)","v":0},null,{"$f":"IF(AND($W$11=O11,$W$8<>\"o9<>\"),$Y11,0)","v":0},null,{"$f":"IF(AND($W$11=Q11,$W$8<>\"o9<>\"),$Y11,0)","v":0},null,{"$f":"IF(AND($W$11=S11,$W$8<>\"o9<>\"),$Y11,0)","v":0},null,4,"------------",null,10,null,12]
[null,5,null,{"$f":"IF(AND($W$12=C12,$W$8<>\"E9<>\"),$Y12,0)","v":0},null,{"$f":"IF(AND($W$12=E12,$W$8<>\"g9<>\"),$Y12,0)","v":0},null,{"$f":"IF(AND($W$12=G12,$W$8<>\"g9<>\"),$Y12,0)","v":0},null,{"$f":"IF(AND($W$12=I12,$W$8<>\"k9<>\"),$Y12,0)","v":0},null,{"$f":"IF(AND($W$12=K12,$W$8<>\"m9<>\"),$Y12,0)","v":0},null,{"$f":"IF(AND($W$12=M12,$W$8<>\"o9<>\"),$Y12,0)","v":0},null,{"$f":"IF(AND($W$12=O12,$W$8<>\"o9<>\"),$Y12,0)","v":0},null,{"$f":"IF(AND($W$12=Q12,$W$8<>\"o9<>\"),$Y12,0)","v":0},null,{"$f":"IF(AND($W$12=S12,$W$8<>\"o9<>\"),$Y12,0)","v":0},null,5,"------------",null,10,null,10]
[null,6,null,{"$f":"IF(AND($W$13=C13,$W$8<>\"E9<>\"),$Y13,0)","v":0},null,{"$f":"IF(AND($W$13=E13,$W$8<>\"g9<>\"),$Y13,0)","v":0},null,{"$f":"IF(AND($W$13=G13,$W$8<>\"g9<>\"),$Y13,0)","v":0},null,{"$f":"IF(AND($W$13=I13,$W$8<>\"k9<>\"),$Y13,0)","v":0},null,{"$f":"IF(AND($W$13=K13,$W$8<>\"m9<>\"),$Y13,0)","v":0},null,{"$f":"IF(AND($W$13=M13,$W$8<>\"o9<>\"),$Y13,0)","v":0},null,{"$f":"IF(AND($W$13=O13,$W$8<>\"o9<>\"),$Y13,0)","v":0},null,{"$f":"IF(AND($W$13=Q13,$W$8<>\"o9<>\"),$Y13,0)","v":0},null,{"$f":"IF(AND($W$13=S13,$W$8<>\"o9<>\"),$Y13,0)","v":0},null,6,"------------",null,10,null,8]
[null,7,null,{"$f":"IF(AND($W$14=C14,$W$8<>\"E9<>\"),$Y14,0)","v":0},null,{"$f":"IF(AND($W$14=E14,$W$8<>\"g9<>\"),$Y14,0)","v":0},null,{"$f":"IF(AND($W$14=G14,$W$8<>\"g9<>\"),$Y14,0)","v":0},null,{"$f":"IF(AND($W$14=I14,$W$8<>\"k9<>\"),$Y14,0)","v":0},null,{"$f":"IF(AND($W$14=K14,$W$8<>\"m9<>\"),$Y14,0)","v":0},null,{"$f":"IF(AND($W$14=M14,$W$8<>\"o9<>\"),$Y14,0)","v":0},null,{"$f":"IF(AND($W$14=O14,$W$8<>\"o9<>\"),$Y14,0)","v":0},null,{"$f":"IF(AND($W$14=Q14,$W$8<>\"o9<>\"),$Y14,0)","v":0},null,{"$f":"IF(AND($W$14=S14,$W$8<>\"o9<>\"),$Y14,0)","v":0},null,7,"------------",null,10,null,6]
[null,8,null,{"$f":"IF(AND($W$15=C15,$W$8<>\"E9<>\"),$Y15,0)","v":0},null,{"$f":"IF(AND($W$15=E15,$W$8<>\"g9<>\"),$Y15,0)","v":0},null,{"$f":"IF(AND($W$15=G15,$W$8<>\"g9<>\"),$Y15,0)","v":0},null,{"$f":"IF(AND($W$15=I15,$W$8<>\"k9<>\"),$Y15,0)","v":0},null,{"$f":"IF(AND($W$15=K15,$W$8<>\"m9<>\"),$Y15,0)","v":0},null,{"$f":"IF(AND($W$15=M15,$W$8<>\"o9<>\"),$Y15,0)","v":0},null,{"$f":"IF(AND($W$15=O15,$W$8<>\"o9<>\"),$Y15,0)","v":0},null,{"$f":"IF(AND($W$15=Q15,$W$8<>\"o9<>\"),$Y15,0)","v":0},null,{"$f":"IF(AND($W$15=S15,$W$8<>\"o9<>\"),$Y15,0)","v":0},null,8,"------------",null,10,null,4]
[null,9,null,{"$f":"IF(AND($W$16=C16,$W$8<>\"E9<>\"),$Y16,0)","v":0},null,{"$f":"IF(AND($W$16=E16,$W$8<>\"g9<>\"),$Y16,0)","v":0},null,{"$f":"IF(AND($W$16=G16,$W$8<>\"g9<>\"),$Y16,0)","v":0},null,{"$f":"IF(AND($W$16=I16,$W$8<>\"k9<>\"),$Y16,0)","v":0},null,{"$f":"IF(AND($W$16=K16,$W$8<>\"m9<>\"),$Y16,0)","v":0},null,{"$f":"IF(AND($W$16=M16,$W$8<>\"o9<>\"),$Y16,0)","v":0},null,{"$f":"IF(AND($W$16=O16,$W$8<>\"o9<>\"),$Y16,0)","v":0},null,{"$f":"IF(AND($W$16=Q16,$W$8<>\"o9<>\"),$Y16,0)","v":0},null,{"$f":"IF(AND($W$16=S16,$W$8<>\"o9<>\"),$Y16,0)","v":0},null,9,"------------",null,10,null,2]
[null,10,null,{"$f":"IF(AND($W$17=C17,$W$8<>\"E9<>\"),$Y17,0)","v":0},null,{"$f":"IF(AND($W$17=E17,$W$8<>\"g9<>\"),$Y17,0)","v":0},null,{"$f":"IF(AND($W$17=G17,$W$8<>\"g9<>\"),$Y17,0)","v":0},null,{"$f":"IF(AND($W$17=I17,$W$8<>\"k9<>\"),$Y17,0)","v":0},null,{"$f":"IF(AND($W$17=K17,$W$8<>\"m9<>\"),$Y17,0)","v":0},null,{"$f":"IF(AND($W$17=M17,$W$8<>\"o9<>\"),$Y17,0)","v":0},null,{"$f":"IF(AND($W$17=O17,$W$8<>\"o9<>\"),$Y17,0)","v":0},null,{"$f":"IF(AND($W$17=Q17,$W$8<>\"o9<>\"),$Y17,0)","v":0},null,{"$f":"IF(AND($W$17=S17,$W$8<>\"o9<>\"),$Y17,0)","v":0},null,10,"------------",null,10,null,1]
[]
[null,"Pole",null,{"$f":"IF(AND($W$19=C19,$W$8<>\"g9<>\"),$Y19,0)","v":0},null,null,null,null,null,null,null,null,null,null,null,null,null,null,null,{"$f":"IF(AND($W$19=S19,$W$8<>\"o9<>\"),$Y19,0)","v":0},null,"Pole","------------",null,5]
[]
[null,null,"Totaal punten",{"$f":"SUM(D8:D17)+D19","v":0},null,{"$f":"SUM(F8:F17)+F19","v":0},null,{"$f":"SUM(H8:H17)+H19","v":0},null,{"$f":"SUM(J8:J17)+J19","v":0},null,{"$f":"SUM(L8:L17)+L19","v":0},null,{"$f":"SUM(N8:N17)+N19","v":0},null,{"$f":"SUM(P8:P17)+P19","v":0},null,{"$f":"SUM(R8:R17)+R19","v":0},null,{"$f":"SUM(T8:T17)+T19","v":0},null,null,"Punten"]
[]
[null,null,null,null,null,null,null,null,null,null,null,null,null,null,null,null,null,null,null,null,null,"Snel","------------",null,null,null,1]

{"sheet":"10","index":12,"n_rows":23,"n_cols":27,"rows_kept":23,"cut":false,"hidden":false,"merged":[]}
[]
[]
[null,null,"GrandPrix"]
[null,null,"Groot-Brittannië",null,null,null,null,null,null,null,null,null,null,null,null,null,null,null,null,null,null,null,"UITSLAG"]
[]
[null,null,"Raimond Langhorst",null,"deelnemer 2",null,"deelnemer 3",null,"deelnemer 4",null,"deelnemer 5",null,"deelnemer 6",null,"deelnemer 7",null,"deelnemer 8",null,"deelnemer 9",null,null,null,{"$f":"C4","v":"Groot-Brittannië"},null,"Pnt"]
[null,null,null,"pnt",null,"pnt",null,"pnt",null,"pnt",null,"pnt",null,"pnt",null,"pnt",null,"pnt",null,"pnt",null,null,{"$f":"Hoofdmenu!I18","v":"2019-07-14"}]
[null,1,null,{"$f":"IF(AND($W$8=C8,$W$8<>\"E9<>\"),$Y8,0)","v":0},null,{"$f":"IF(AND($W$8=E8,$W$8<>\"g9<>\"),$Y8,0)","v":0},null,{"$f":"IF(AND($W$8=G8,$W$8<>\"g9<>\"),$Y8,0)","v":0},null,{"$f":"IF(AND($W$8=I8,$W$8<>\"k9<>\"),$Y8,0)","v":0},null,{"$f":"IF(AND($W$8=K8,$W$8<>\"m9<>\"),$Y8,0)","v":0},null,{"$f":"IF(AND($W$8=M8,$W$8<>\"o9<>\"),$Y8,0)","v":0},null,{"$f":"IF(AND($W$8=O8,$W$8<>\"o9<>\"),$Y8,0)","v":0},null,{"$f":"IF(AND($W$8=Q8,$W$8<>\"o9<>\"),$Y8,0)","v":0},null,{"$f":"IF(AND($W$8=S8,$W$8<>\"o9<>\"),$Y8,0)","v":0},null,1,"------------",null,10,null,25]
[null,2,null,{"$f":"IF(AND($W$9=C9,$W$8<>\"E9<>\"),$Y9,0)","v":0},null,{"$f":"IF(AND($W$9=E9,$W$8<>\"g9<>\"),$Y9,0)","v":0},null,{"$f":"IF(AND($W$9=G9,$W$8<>\"g9<>\"),$Y9,0)","v":0},null,{"$f":"IF(AND($W$9=I9,$W$8<>\"k9<>\"),$Y9,0)","v":0},null,{"$f":"IF(AND($W$9=K9,$W$8<>\"m9<>\"),$Y9,0)","v":0},null,{"$f":"IF(AND($W$9=M9,$W$8<>\"o9<>\"),$Y9,0)","v":0},null,{"$f":"IF(AND($W$9=O9,$W$8<>\"o9<>\"),$Y9,0)","v":0},null,{"$f":"IF(AND($W$9=Q9,$W$8<>\"o9<>\"),$Y9,0)","v":0},null,{"$f":"IF(AND($W$9=S9,$W$8<>\"o9<>\"),$Y9,0)","v":0},null,2,"------------",null,10,null,18]
[null,3,null,{"$f":"IF(AND($W$10=C10,$W$8<>\"E9<>\"),$Y10,0)","v":0},null,{"$f":"IF(AND($W$10=E10,$W$8<>\"g9<>\"),$Y10,0)","v":0},null,{"$f":"IF(AND($W$10=G10,$W$8<>\"g9<>\"),$Y10,0)","v":0},null,{"$f":"IF(AND($W$10=I10,$W$8<>\"k9<>\"),$Y10,0)","v":0},null,{"$f":"IF(AND($W$10=K10,$W$8<>\"m9<>\"),$Y10,0)","v":0},null,{"$f":"IF(AND($W$10=M10,$W$8<>\"o9<>\"),$Y10,0)","v":0},null,{"$f":"IF(AND($W$10=O10,$W$8<>\"o9<>\"),$Y10,0)","v":0},null,{"$f":"IF(AND($W$10=Q10,$W$8<>\"o9<>\"),$Y10,0)","v":0},null,{"$f":"IF(AND($W$10=S10,$W$8<>\"o9<>\"),$Y10,0)","v":0},null,3,"------------",null,10,null,15]
[null,4,null,{"$f":"IF(AND($W$11=C11,$W$8<>\"E9<>\"),$Y11,0)","v":0},null,{"$f":"IF(AND($W$11=E11,$W$8<>\"g9<>\"),$Y11,0)","v":0},null,{"$f":"IF(AND($W$11=G11,$W$8<>\"g9<>\"),$Y11,0)","v":0},null,{"$f":"IF(AND($W$11=I11,$W$8<>\"k9<>\"),$Y11,0)","v":0},null,{"$f":"IF(AND($W$11=K11,$W$8<>\"m9<>\"),$Y11,0)","v":0},null,{"$f":"IF(AND($W$11=M11,$W$8<>\"o9<>\"),$Y11,0)","v":0},null,{"$f":"IF(AND($W$11=O11,$W$8<>\"o9<>\"),$Y11,0)","v":0},null,{"$f":"IF(AND($W$11=Q11,$W$8<>\"o9<>\"),$Y11,0)","v":0},null,{"$f":"IF(AND($W$11=S11,$W$8<>\"o9<>\"),$Y11,0)","v":0},null,4,"------------",null,10,null,12]
[null,5,null,{"$f":"IF(AND($W$12=C12,$W$8<>\"E9<>\"),$Y12,0)","v":0},null,{"$f":"IF(AND($W$12=E12,$W$8<>\"g9<>\"),$Y12,0)","v":0},null,{"$f":"IF(AND($W$12=G12,$W$8<>\"g9<>\"),$Y12,0)","v":0},null,{"$f":"IF(AND($W$12=I12,$W$8<>\"k9<>\"),$Y12,0)","v":0},null,{"$f":"IF(AND($W$12=K12,$W$8<>\"m9<>\"),$Y12,0)","v":0},null,{"$f":"IF(AND($W$12=M12,$W$8<>\"o9<>\"),$Y12,0)","v":0},null,{"$f":"IF(AND($W$12=O12,$W$8<>\"o9<>\"),$Y12,0)","v":0},null,{"$f":"IF(AND($W$12=Q12,$W$8<>\"o9<>\"),$Y12,0)","v":0},null,{"$f":"IF(AND($W$12=S12,$W$8<>\"o9<>\"),$Y12,0)","v":0},null,5,"------------",null,10,null,10]
[null,6,null,{"$f":"IF(AND($W$13=C13,$W$8<>\"E9<>\"),$Y13,0)","v":0},null,{"$f":"IF(AND($W$13=E13,$W$8<>\"g9<>\"),$Y13,0)","v":0},null,{"$f":"IF(AND($W$13=G13,$W$8<>\"g9<>\"),$Y13,0)","v":0},null,{"$f":"IF(AND($W$13=I13,$W$8<>\"k9<>\"),$Y13,0)","v":0},null,{"$f":"IF(AND($W$13=K13,$W$8<>\"m9<>\"),$Y13,0)","v":0},null,{"$f":"IF(AND($W$13=M13,$W$8<>\"o9<>\"),$Y13,0)","v":0},null,{"$f":"IF(AND($W$13=O13,$W$8<>\"o9<>\"),$Y13,0)","v":0},null,{"$f":"IF(AND($W$13=Q13,$W$8<>\"o9<>\"),$Y13,0)","v":0},null,{"$f":"IF(AND($W$13=S13,$W$8<>\"o9<>\"),$Y13,0)","v":0},null,6,"------------",null,10,null,8]
[null,7,null,{"$f":"IF(AND($W$14=C14,$W$8<>\"E9<>\"),$Y14,0)","v":0},null,{"$f":"IF(AND($W$14=E14,$W$8<>\"g9<>\"),$Y14,0)","v":0},null,{"$f":"IF(AND($W$14=G14,$W$8<>\"g9<>\"),$Y14,0)","v":0},null,{"$f":"IF(AND($W$14=I14,$W$8<>\"k9<>\"),$Y14,0)","v":0},null,{"$f":"IF(AND($W$14=K14,$W$8<>\"m9<>\"),$Y14,0)","v":0},null,{"$f":"IF(AND($W$14=M14,$W$8<>\"o9<>\"),$Y14,0)","v":0},null,{"$f":"IF(AND($W$14=O14,$W$8<>\"o9<>\"),$Y14,0)","v":0},null,{"$f":"IF(AND($W$14=Q14,$W$8<>\"o9<>\"),$Y14,0)","v":0},null,{"$f":"IF(AND($W$14=S14,$W$8<>\"o9<>\"),$Y14,0)","v":0},null,7,"------------",null,10,null,6]
[null,8,null,{"$f":"IF(AND($W$15=C15,$W$8<>\"E9<>\"),$Y15,0)","v":0},null,{"$f":"IF(AND($W$15=E15,$W$8<>\"g9<>\"),$Y15,0)","v":0},null,{"$f":"IF(AND($W$15=G15,$W$8<>\"g9<>\"),$Y15,0)","v":0},null,{"$f":"IF(AND($W$15=I15,$W$8<>\"k9<>\"),$Y15,0)","v":0},null,{"$f":"IF(AND($W$15=K15,$W$8<>\"m9<>\"),$Y15,0)","v":0},null,{"$f":"IF(AND($W$15=M15,$W$8<>\"o9<>\"),$Y15,0)","v":0},null,{"$f":"IF(AND($W$15=O15,$W$8<>\"o9<>\"),$Y15,0)","v":0},null,{"$f":"IF(AND($W$15=Q15,$W$8<>\"o9<>\"),$Y15,0)","v":0},null,{"$f":"IF(AND($W$15=S15,$W$8<>\"o9<>\"),$Y15,0)","v":0},null,8,"------------",null,10,null,4]
[null,9,null,{"$f":"IF(AND($W$16=C16,$W$8<>\"E9<>\"),$Y16,0)","v":0},null,{"$f":"IF(AND($W$16=E16,$W$8<>\"g9<>\"),$Y16,0)","v":0},null,{"$f":"IF(AND($W$16=G16,$W$8<>\"g9<>\"),$Y16,0)","v":0},null,{"$f":"IF(AND($W$16=I16,$W$8<>\"k9<>\"),$Y16,0)","v":0},null,{"$f":"IF(AND($W$16=K16,$W$8<>\"m9<>\"),$Y16,0)","v":0},null,{"$f":"IF(AND($W$16=M16,$W$8<>\"o9<>\"),$Y16,0)","v":0},null,{"$f":"IF(AND($W$16=O16,$W$8<>\"o9<>\"),$Y16,0)","v":0},null,{"$f":"IF(AND($W$16=Q16,$W$8<>\"o9<>\"),$Y16,0)","v":0},null,{"$f":"IF(AND($W$16=S16,$W$8<>\"o9<>\"),$Y16,0)","v":0},null,9,"------------",null,10,null,2]
[null,10,null,{"$f":"IF(AND($W$17=C17,$W$8<>\"E9<>\"),$Y17,0)","v":0},null,{"$f":"IF(AND($W$17=E17,$W$8<>\"g9<>\"),$Y17,0)","v":0},null,{"$f":"IF(AND($W$17=G17,$W$8<>\"g9<>\"),$Y17,0)","v":0},null,{"$f":"IF(AND($W$17=I17,$W$8<>\"k9<>\"),$Y17,0)","v":0},null,{"$f":"IF(AND($W$17=K17,$W$8<>\"m9<>\"),$Y17,0)","v":0},null,{"$f":"IF(AND($W$17=M17,$W$8<>\"o9<>\"),$Y17,0)","v":0},null,{"$f":"IF(AND($W$17=O17,$W$8<>\"o9<>\"),$Y17,0)","v":0},null,{"$f":"IF(AND($W$17=Q17,$W$8<>\"o9<>\"),$Y17,0)","v":0},null,{"$f":"IF(AND($W$17=S17,$W$8<>\"o9<>\"),$Y17,0)","v":0},null,10,"------------",null,10,null,1]
[]
[null,"Pole",null,{"$f":"IF(AND($W$19=C19,$W$8<>\"g9<>\"),$Y19,0)","v":0},null,null,null,null,null,null,null,null,null,null,null,null,null,null,null,{"$f":"IF(AND($W$19=S19,$W$8<>\"o9<>\"),$Y19,0)","v":0},null,"Pole","------------",null,5]
[]
[null,null,"Totaal punten",{"$f":"SUM(D8:D17)+D19","v":0},null,{"$f":"SUM(F8:F17)+F19","v":0},null,{"$f":"SUM(H8:H17)+H19","v":0},null,{"$f":"SUM(J8:J17)+J19","v":0},null,{"$f":"SUM(L8:L17)+L19","v":0},null,{"$f":"SUM(N8:N17)+N19","v":0},null,{"$f":"SUM(P8:P17)+P19","v":0},null,{"$f":"SUM(R8:R17)+R19","v":0},null,{"$f":"SUM(T8:T17)+T19","v":0},null,null,"Punten"]
[]
[null,null,null,null,null,null,null,null,null,null,null,null,null,null,null,null,null,null,null,null,null,"Snel","------------",null,null,null,1]

{"sheet":"11","index":13,"n_rows":23,"n_cols":27,"rows_kept":23,"cut":false,"hidden":false,"merged":[]}
[]
[]
[null,null,"GrandPrix"]
[null,null,"Duitsland",null,null,null,null,null,null,null,null,null,null,null,null,null,null,null,null,null,null,null,"UITSLAG"]
[]
[null,null,"Raimond Langhorst",null,"deelnemer 2",null,"deelnemer 3",null,"deelnemer 4",null,"deelnemer 5",null,"deelnemer 6",null,"deelnemer 7",null,"deelnemer 8",null,"deelnemer 9",null,null,null,{"$f":"C4","v":"Duitsland"},null,"Pnt"]
[null,null,null,"pnt",null,"pnt",null,"pnt",null,"pnt",null,"pnt",null,"pnt",null,"pnt",null,"pnt",null,"pnt",null,null,{"$f":"Hoofdmenu!I19","v":"2019-07-28"}]
[null,1,null,{"$f":"IF(AND($W$8=C8,$W$8<>\"E9<>\"),$Y8,0)","v":0},null,{"$f":"IF(AND($W$8=E8,$W$8<>\"g9<>\"),$Y8,0)","v":0},null,{"$f":"IF(AND($W$8=G8,$W$8<>\"g9<>\"),$Y8,0)","v":0},null,{"$f":"IF(AND($W$8=I8,$W$8<>\"k9<>\"),$Y8,0)","v":0},null,{"$f":"IF(AND($W$8=K8,$W$8<>\"m9<>\"),$Y8,0)","v":0},null,{"$f":"IF(AND($W$8=M8,$W$8<>\"o9<>\"),$Y8,0)","v":0},null,{"$f":"IF(AND($W$8=O8,$W$8<>\"o9<>\"),$Y8,0)","v":0},null,{"$f":"IF(AND($W$8=Q8,$W$8<>\"o9<>\"),$Y8,0)","v":0},null,{"$f":"IF(AND($W$8=S8,$W$8<>\"o9<>\"),$Y8,0)","v":0},null,1,"------------",null,10,null,25]
[null,2,null,{"$f":"IF(AND($W$9=C9,$W$8<>\"E9<>\"),$Y9,0)","v":0},null,{"$f":"IF(AND($W$9=E9,$W$8<>\"g9<>\"),$Y9,0)","v":0},null,{"$f":"IF(AND($W$9=G9,$W$8<>\"g9<>\"),$Y9,0)","v":0},null,{"$f":"IF(AND($W$9=I9,$W$8<>\"k9<>\"),$Y9,0)","v":0},null,{"$f":"IF(AND($W$9=K9,$W$8<>\"m9<>\"),$Y9,0)","v":0},null,{"$f":"IF(AND($W$9=M9,$W$8<>\"o9<>\"),$Y9,0)","v":0},null,{"$f":"IF(AND($W$9=O9,$W$8<>\"o9<>\"),$Y9,0)","v":0},null,{"$f":"IF(AND($W$9=Q9,$W$8<>\"o9<>\"),$Y9,0)","v":0},null,{"$f":"IF(AND($W$9=S9,$W$8<>\"o9<>\"),$Y9,0)","v":0},null,2,"------------",null,10,null,18]
[null,3,null,{"$f":"IF(AND($W$10=C10,$W$8<>\"E9<>\"),$Y10,0)","v":0},null,{"$f":"IF(AND($W$10=E10,$W$8<>\"g9<>\"),$Y10,0)","v":0},null,{"$f":"IF(AND($W$10=G10,$W$8<>\"g9<>\"),$Y10,0)","v":0},null,{"$f":"IF(AND($W$10=I10,$W$8<>\"k9<>\"),$Y10,0)","v":0},null,{"$f":"IF(AND($W$10=K10,$W$8<>\"m9<>\"),$Y10,0)","v":0},null,{"$f":"IF(AND($W$10=M10,$W$8<>\"o9<>\"),$Y10,0)","v":0},null,{"$f":"IF(AND($W$10=O10,$W$8<>\"o9<>\"),$Y10,0)","v":0},null,{"$f":"IF(AND($W$10=Q10,$W$8<>\"o9<>\"),$Y10,0)","v":0},null,{"$f":"IF(AND($W$10=S10,$W$8<>\"o9<>\"),$Y10,0)","v":0},null,3,"------------",null,10,null,15]
[null,4,null,{"$f":"IF(AND($W$11=C11,$W$8<>\"E9<>\"),$Y11,0)","v":0},null,{"$f":"IF(AND($W$11=E11,$W$8<>\"g9<>\"),$Y11,0)","v":0},null,{"$f":"IF(AND($W$11=G11,$W$8<>\"g9<>\"),$Y11,0)","v":0},null,{"$f":"IF(AND($W$11=I11,$W$8<>\"k9<>\"),$Y11,0)","v":0},null,{"$f":"IF(AND($W$11=K11,$W$8<>\"m9<>\"),$Y11,0)","v":0},null,{"$f":"IF(AND($W$11=M11,$W$8<>\"o9<>\"),$Y11,0)","v":0},null,{"$f":"IF(AND($W$11=O11,$W$8<>\"o9<>\"),$Y11,0)","v":0},null,{"$f":"IF(AND($W$11=Q11,$W$8<>\"o9<>\"),$Y11,0)","v":0},null,{"$f":"IF(AND($W$11=S11,$W$8<>\"o9<>\"),$Y11,0)","v":0},null,4,"------------",null,10,null,12]
[null,5,null,{"$f":"IF(AND($W$12=C12,$W$8<>\"E9<>\"),$Y12,0)","v":0},null,{"$f":"IF(AND($W$12=E12,$W$8<>\"g9<>\"),$Y12,0)","v":0},null,{"$f":"IF(AND($W$12=G12,$W$8<>\"g9<>\"),$Y12,0)","v":0},null,{"$f":"IF(AND($W$12=I12,$W$8<>\"k9<>\"),$Y12,0)","v":0},null,{"$f":"IF(AND($W$12=K12,$W$8<>\"m9<>\"),$Y12,0)","v":0},null,{"$f":"IF(AND($W$12=M12,$W$8<>\"o9<>\"),$Y12,0)","v":0},null,{"$f":"IF(AND($W$12=O12,$W$8<>\"o9<>\"),$Y12,0)","v":0},null,{"$f":"IF(AND($W$12=Q12,$W$8<>\"o9<>\"),$Y12,0)","v":0},null,{"$f":"IF(AND($W$12=S12,$W$8<>\"o9<>\"),$Y12,0)","v":0},null,5,"------------",null,10,null,10]
[null,6,null,{"$f":"IF(AND($W$13=C13,$W$8<>\"E9<>\"),$Y13,0)","v":0},null,{"$f":"IF(AND($W$13=E13,$W$8<>\"g9<>\"),$Y13,0)","v":0},null,{"$f":"IF(AND($W$13=G13,$W$8<>\"g9<>\"),$Y13,0)","v":0},null,{"$f":"IF(AND($W$13=I13,$W$8<>\"k9<>\"),$Y13,0)","v":0},null,{"$f":"IF(AND($W$13=K13,$W$8<>\"m9<>\"),$Y13,0)","v":0},null,{"$f":"IF(AND($W$13=M13,$W$8<>\"o9<>\"),$Y13,0)","v":0},null,{"$f":"IF(AND($W$13=O13,$W$8<>\"o9<>\"),$Y13,0)","v":0},null,{"$f":"IF(AND($W$13=Q13,$W$8<>\"o9<>\"),$Y13,0)","v":0},null,{"$f":"IF(AND($W$13=S13,$W$8<>\"o9<>\"),$Y13,0)","v":0},null,6,"------------",null,10,null,8]
[null,7,null,{"$f":"IF(AND($W$14=C14,$W$8<>\"E9<>\"),$Y14,0)","v":0},null,{"$f":"IF(AND($W$14=E14,$W$8<>\"g9<>\"),$Y14,0)","v":0},null,{"$f":"IF(AND($W$14=G14,$W$8<>\"g9<>\"),$Y14,0)","v":0},null,{"$f":"IF(AND($W$14=I14,$W$8<>\"k9<>\"),$Y14,0)","v":0},null,{"$f":"IF(AND($W$14=K14,$W$8<>\"m9<>\"),$Y14,0)","v":0},null,{"$f":"IF(AND($W$14=M14,$W$8<>\"o9<>\"),$Y14,0)","v":0},null,{"$f":"IF(AND($W$14=O14,$W$8<>\"o9<>\"),$Y14,0)","v":0},null,{"$f":"IF(AND($W$14=Q14,$W$8<>\"o9<>\"),$Y14,0)","v":0},null,{"$f":"IF(AND($W$14=S14,$W$8<>\"o9<>\"),$Y14,0)","v":0},null,7,"------------",null,10,null,6]
[null,8,null,{"$f":"IF(AND($W$15=C15,$W$8<>\"E9<>\"),$Y15,0)","v":0},null,{"$f":"IF(AND($W$15=E15,$W$8<>\"g9<>\"),$Y15,0)","v":0},null,{"$f":"IF(AND($W$15=G15,$W$8<>\"g9<>\"),$Y15,0)","v":0},null,{"$f":"IF(AND($W$15=I15,$W$8<>\"k9<>\"),$Y15,0)","v":0},null,{"$f":"IF(AND($W$15=K15,$W$8<>\"m9<>\"),$Y15,0)","v":0},null,{"$f":"IF(AND($W$15=M15,$W$8<>\"o9<>\"),$Y15,0)","v":0},null,{"$f":"IF(AND($W$15=O15,$W$8<>\"o9<>\"),$Y15,0)","v":0},null,{"$f":"IF(AND($W$15=Q15,$W$8<>\"o9<>\"),$Y15,0)","v":0},null,{"$f":"IF(AND($W$15=S15,$W$8<>\"o9<>\"),$Y15,0)","v":0},null,8,"------------",null,10,null,4]
[null,9,null,{"$f":"IF(AND($W$16=C16,$W$8<>\"E9<>\"),$Y16,0)","v":0},null,{"$f":"IF(AND($W$16=E16,$W$8<>\"g9<>\"),$Y16,0)","v":0},null,{"$f":"IF(AND($W$16=G16,$W$8<>\"g9<>\"),$Y16,0)","v":0},null,{"$f":"IF(AND($W$16=I16,$W$8<>\"k9<>\"),$Y16,0)","v":0},null,{"$f":"IF(AND($W$16=K16,$W$8<>\"m9<>\"),$Y16,0)","v":0},null,{"$f":"IF(AND($W$16=M16,$W$8<>\"o9<>\"),$Y16,0)","v":0},null,{"$f":"IF(AND($W$16=O16,$W$8<>\"o9<>\"),$Y16,0)","v":0},null,{"$f":"IF(AND($W$16=Q16,$W$8<>\"o9<>\"),$Y16,0)","v":0},null,{"$f":"IF(AND($W$16=S16,$W$8<>\"o9<>\"),$Y16,0)","v":0},null,9,"------------",null,10,null,2]
[null,10,null,{"$f":"IF(AND($W$17=C17,$W$8<>\"E9<>\"),$Y17,0)","v":0},null,{"$f":"IF(AND($W$17=E17,$W$8<>\"g9<>\"),$Y17,0)","v":0},null,{"$f":"IF(AND($W$17=G17,$W$8<>\"g9<>\"),$Y17,0)","v":0},null,{"$f":"IF(AND($W$17=I17,$W$8<>\"k9<>\"),$Y17,0)","v":0},null,{"$f":"IF(AND($W$17=K17,$W$8<>\"m9<>\"),$Y17,0)","v":0},null,{"$f":"IF(AND($W$17=M17,$W$8<>\"o9<>\"),$Y17,0)","v":0},null,{"$f":"IF(AND($W$17=O17,$W$8<>\"o9<>\"),$Y17,0)","v":0},null,{"$f":"IF(AND($W$17=Q17,$W$8<>\"o9<>\"),$Y17,0)","v":0},null,{"$f":"IF(AND($W$17=S17,$W$8<>\"o9<>\"),$Y17,0)","v":0},null,10,"------------",null,10,null,1]
[]
[null,"Pole",null,{"$f":"IF(AND($W$19=C19,$W$8<>\"g9<>\"),$Y19,0)","v":0},null,null,null,null,null,null,null,null,null,null,null,null,null,null,null,{"$f":"IF(AND($W$19=S19,$W$8<>\"o9<>\"),$Y19,0)","v":0},null,"Pole","------------",null,5]
[]
[null,null,"Totaal punten",{"$f":"SUM(D8:D17)+D19","v":0},null,{"$f":"SUM(F8:F17)+F19","v":0},null,{"$f":"SUM(H8:H17)+H19","v":0},null,{"$f":"SUM(J8:J17)+J19","v":0},null,{"$f":"SUM(L8:L17)+L19","v":0},null,{"$f":"SUM(N8:N17)+N19","v":0},null,{"$f":"SUM(P8:P17)+P19","v":0},null,{"$f":"SUM(R8:R17)+R19","v":0},null,{"$f":"SUM(T8:T17)+T19","v":0},null,null,"Punten"]
[]
[null,null,null,null,null,null,null,null,null,null,null,null,null,null,null,null,null,null,null,null,null,"Snel","------------",null,null,null,1]

{"sheet":"12","index":14,"n_rows":23,"n_cols":27,"rows_kept":23,"cut":false,"hidden":false,"merged":[]}
[]
[]
[null,null,"GrandPrix"]
[null,null,"Hongarije",null,null,null,null,null,null,null,null,null,null,null,null,null,null,null,null,null,null,null,"UITSLAG"]
[]
[null,null,"Raimond Langhorst",null,"deelnemer 2",null,"deelnemer 3",null,"deelnemer 4",null,"deelnemer 5",null,"deelnemer 6",null,"deelnemer 7",null,"deelnemer 8",null,"deelnemer 9",null,null,null,{"$f":"C4","v":"Hongarije"},null,"Pnt"]
[null,null,null,"pnt",null,"pnt",null,"pnt",null,"pnt",null,"pnt",null,"pnt",null,"pnt",null,"pnt",null,"pnt",null,null,{"$f":"Hoofdmenu!I20","v":"2019-08-04"}]
[null,1,null,{"$f":"IF(AND($W$8=C8,$W$8<>\"E9<>\"),$Y8,0)","v":0},null,{"$f":"IF(AND($W$8=E8,$W$8<>\"g9<>\"),$Y8,0)","v":0},null,{"$f":"IF(AND($W$8=G8,$W$8<>\"g9<>\"),$Y8,0)","v":0},null,{"$f":"IF(AND($W$8=I8,$W$8<>\"k9<>\"),$Y8,0)","v":0},null,{"$f":"IF(AND($W$8=K8,$W$8<>\"m9<>\"),$Y8,0)","v":0},null,{"$f":"IF(AND($W$8=M8,$W$8<>\"o9<>\"),$Y8,0)","v":0},null,{"$f":"IF(AND($W$8=O8,$W$8<>\"o9<>\"),$Y8,0)","v":0},null,{"$f":"IF(AND($W$8=Q8,$W$8<>\"o9<>\"),$Y8,0)","v":0},null,{"$f":"IF(AND($W$8=S8,$W$8<>\"o9<>\"),$Y8,0)","v":0},null,1,"------------",null,10,null,25]
[null,2,null,{"$f":"IF(AND($W$9=C9,$W$8<>\"E9<>\"),$Y9,0)","v":0},null,{"$f":"IF(AND($W$9=E9,$W$8<>\"g9<>\"),$Y9,0)","v":0},null,{"$f":"IF(AND($W$9=G9,$W$8<>\"g9<>\"),$Y9,0)","v":0},null,{"$f":"IF(AND($W$9=I9,$W$8<>\"k9<>\"),$Y9,0)","v":0},null,{"$f":"IF(AND($W$9=K9,$W$8<>\"m9<>\"),$Y9,0)","v":0},null,{"$f":"IF(AND($W$9=M9,$W$8<>\"o9<>\"),$Y9,0)","v":0},null,{"$f":"IF(AND($W$9=O9,$W$8<>\"o9<>\"),$Y9,0)","v":0},null,{"$f":"IF(AND($W$9=Q9,$W$8<>\"o9<>\"),$Y9,0)","v":0},null,{"$f":"IF(AND($W$9=S9,$W$8<>\"o9<>\"),$Y9,0)","v":0},null,2,"------------",null,10,null,18]
[null,3,null,{"$f":"IF(AND($W$10=C10,$W$8<>\"E9<>\"),$Y10,0)","v":0},null,{"$f":"IF(AND($W$10=E10,$W$8<>\"g9<>\"),$Y10,0)","v":0},null,{"$f":"IF(AND($W$10=G10,$W$8<>\"g9<>\"),$Y10,0)","v":0},null,{"$f":"IF(AND($W$10=I10,$W$8<>\"k9<>\"),$Y10,0)","v":0},null,{"$f":"IF(AND($W$10=K10,$W$8<>\"m9<>\"),$Y10,0)","v":0},null,{"$f":"IF(AND($W$10=M10,$W$8<>\"o9<>\"),$Y10,0)","v":0},null,{"$f":"IF(AND($W$10=O10,$W$8<>\"o9<>\"),$Y10,0)","v":0},null,{"$f":"IF(AND($W$10=Q10,$W$8<>\"o9<>\"),$Y10,0)","v":0},null,{"$f":"IF(AND($W$10=S10,$W$8<>\"o9<>\"),$Y10,0)","v":0},null,3,"------------",null,10,null,15]
[null,4,null,{"$f":"IF(AND($W$11=C11,$W$8<>\"E9<>\"),$Y11,0)","v":0},null,{"$f":"IF(AND($W$11=E11,$W$8<>\"g9<>\"),$Y11,0)","v":0},null,{"$f":"IF(AND($W$11=G11,$W$8<>\"g9<>\"),$Y11,0)","v":0},null,{"$f":"IF(AND($W$11=I11,$W$8<>\"k9<>\"),$Y11,0)","v":0},null,{"$f":"IF(AND($W$11=K11,$W$8<>\"m9<>\"),$Y11,0)","v":0},null,{"$f":"IF(AND($W$11=M11,$W$8<>\"o9<>\"),$Y11,0)","v":0},null,{"$f":"IF(AND($W$11=O11,$W$8<>\"o9<>\"),$Y11,0)","v":0},null,{"$f":"IF(AND($W$11=Q11,$W$8<>\"o9<>\"),$Y11,0)","v":0},null,{"$f":"IF(AND($W$11=S11,$W$8<>\"o9<>\"),$Y11,0)","v":0},null,4,"------------",null,10,null,12]
[null,5,null,{"$f":"IF(AND($W$12=C12,$W$8<>\"E9<>\"),$Y12,0)","v":0},null,{"$f":"IF(AND($W$12=E12,$W$8<>\"g9<>\"),$Y12,0)","v":0},null,{"$f":"IF(AND($W$12=G12,$W$8<>\"g9<>\"),$Y12,0)","v":0},null,{"$f":"IF(AND($W$12=I12,$W$8<>\"k9<>\"),$Y12,0)","v":0},null,{"$f":"IF(AND($W$12=K12,$W$8<>\"m9<>\"),$Y12,0)","v":0},null,{"$f":"IF(AND($W$12=M12,$W$8<>\"o9<>\"),$Y12,0)","v":0},null,{"$f":"IF(AND($W$12=O12,$W$8<>\"o9<>\"),$Y12,0)","v":0},null,{"$f":"IF(AND($W$12=Q12,$W$8<>\"o9<>\"),$Y12,0)","v":0},null,{"$f":"IF(AND($W$12=S12,$W$8<>\"o9<>\"),$Y12,0)","v":0},null,5,"------------",null,10,null,10]
[null,6,null,{"$f":"IF(AND($W$13=C13,$W$8<>\"E9<>\"),$Y13,0)","v":0},null,{"$f":"IF(AND($W$13=E13,$W$8<>\"g9<>\"),$Y13,0)","v":0},null,{"$f":"IF(AND($W$13=G13,$W$8<>\"g9<>\"),$Y13,0)","v":0},null,{"$f":"IF(AND($W$13=I13,$W$8<>\"k9<>\"),$Y13,0)","v":0},null,{"$f":"IF(AND($W$13=K13,$W$8<>\"m9<>\"),$Y13,0)","v":0},null,{"$f":"IF(AND($W$13=M13,$W$8<>\"o9<>\"),$Y13,0)","v":0},null,{"$f":"IF(AND($W$13=O13,$W$8<>\"o9<>\"),$Y13,0)","v":0},null,{"$f":"IF(AND($W$13=Q13,$W$8<>\"o9<>\"),$Y13,0)","v":0},null,{"$f":"IF(AND($W$13=S13,$W$8<>\"o9<>\"),$Y13,0)","v":0},null,6,"------------",null,10,null,8]
[null,7,null,{"$f":"IF(AND($W$14=C14,$W$8<>\"E9<>\"),$Y14,0)","v":0},null,{"$f":"IF(AND($W$14=E14,$W$8<>\"g9<>\"),$Y14,0)","v":0},null,{"$f":"IF(AND($W$14=G14,$W$8<>\"g9<>\"),$Y14,0)","v":0},null,{"$f":"IF(AND($W$14=I14,$W$8<>\"k9<>\"),$Y14,0)","v":0},null,{"$f":"IF(AND($W$14=K14,$W$8<>\"m9<>\"),$Y14,0)","v":0},null,{"$f":"IF(AND($W$14=M14,$W$8<>\"o9<>\"),$Y14,0)","v":0},null,{"$f":"IF(AND($W$14=O14,$W$8<>\"o9<>\"),$Y14,0)","v":0},null,{"$f":"IF(AND($W$14=Q14,$W$8<>\"o9<>\"),$Y14,0)","v":0},null,{"$f":"IF(AND($W$14=S14,$W$8<>\"o9<>\"),$Y14,0)","v":0},null,7,"------------",null,10,null,6]
[null,8,null,{"$f":"IF(AND($W$15=C15,$W$8<>\"E9<>\"),$Y15,0)","v":0},null,{"$f":"IF(AND($W$15=E15,$W$8<>\"g9<>\"),$Y15,0)","v":0},null,{"$f":"IF(AND($W$15=G15,$W$8<>\"g9<>\"),$Y15,0)","v":0},null,{"$f":"IF(AND($W$15=I15,$W$8<>\"k9<>\"),$Y15,0)","v":0},null,{"$f":"IF(AND($W$15=K15,$W$8<>\"m9<>\"),$Y15,0)","v":0},null,{"$f":"IF(AND($W$15=M15,$W$8<>\"o9<>\"),$Y15,0)","v":0},null,{"$f":"IF(AND($W$15=O15,$W$8<>\"o9<>\"),$Y15,0)","v":0},null,{"$f":"IF(AND($W$15=Q15,$W$8<>\"o9<>\"),$Y15,0)","v":0},null,{"$f":"IF(AND($W$15=S15,$W$8<>\"o9<>\"),$Y15,0)","v":0},null,8,"------------",null,10,null,4]
[null,9,null,{"$f":"IF(AND($W$16=C16,$W$8<>\"E9<>\"),$Y16,0)","v":0},null,{"$f":"IF(AND($W$16=E16,$W$8<>\"g9<>\"),$Y16,0)","v":0},null,{"$f":"IF(AND($W$16=G16,$W$8<>\"g9<>\"),$Y16,0)","v":0},null,{"$f":"IF(AND($W$16=I16,$W$8<>\"k9<>\"),$Y16,0)","v":0},null,{"$f":"IF(AND($W$16=K16,$W$8<>\"m9<>\"),$Y16,0)","v":0},null,{"$f":"IF(AND($W$16=M16,$W$8<>\"o9<>\"),$Y16,0)","v":0},null,{"$f":"IF(AND($W$16=O16,$W$8<>\"o9<>\"),$Y16,0)","v":0},null,{"$f":"IF(AND($W$16=Q16,$W$8<>\"o9<>\"),$Y16,0)","v":0},null,{"$f":"IF(AND($W$16=S16,$W$8<>\"o9<>\"),$Y16,0)","v":0},null,9,"------------",null,10,null,2]
[null,10,null,{"$f":"IF(AND($W$17=C17,$W$8<>\"E9<>\"),$Y17,0)","v":0},null,{"$f":"IF(AND($W$17=E17,$W$8<>\"g9<>\"),$Y17,0)","v":0},null,{"$f":"IF(AND($W$17=G17,$W$8<>\"g9<>\"),$Y17,0)","v":0},null,{"$f":"IF(AND($W$17=I17,$W$8<>\"k9<>\"),$Y17,0)","v":0},null,{"$f":"IF(AND($W$17=K17,$W$8<>\"m9<>\"),$Y17,0)","v":0},null,{"$f":"IF(AND($W$17=M17,$W$8<>\"o9<>\"),$Y17,0)","v":0},null,{"$f":"IF(AND($W$17=O17,$W$8<>\"o9<>\"),$Y17,0)","v":0},null,{"$f":"IF(AND($W$17=Q17,$W$8<>\"o9<>\"),$Y17,0)","v":0},null,{"$f":"IF(AND($W$17=S17,$W$8<>\"o9<>\"),$Y17,0)","v":0},null,10,"------------",null,10,null,1]
[]
[null,"Pole",null,{"$f":"IF(AND($W$19=C19,$W$8<>\"g9<>\"),$Y19,0)","v":0},null,null,null,null,null,null,null,null,null,null,null,null,null,null,null,{"$f":"IF(AND($W$19=S19,$W$8<>\"o9<>\"),$Y19,0)","v":0},null,"Pole","------------",null,5]
[]
[null,null,"Totaal punten",{"$f":"SUM(D8:D17)+D19","v":0},null,{"$f":"SUM(F8:F17)+F19","v":0},null,{"$f":"SUM(H8:H17)+H19","v":0},null,{"$f":"SUM(J8:J17)+J19","v":0},null,{"$f":"SUM(L8:L17)+L19","v":0},null,{"$f":"SUM(N8:N17)+N19","v":0},null,{"$f":"SUM(P8:P17)+P19","v":0},null,{"$f":"SUM(R8:R17)+R19","v":0},null,{"$f":"SUM(T8:T17)+T19","v":0},null,null,"Punten"]
[]
[null,null,null,null,null,null,null,null,null,null,null,null,null,null,null,null,null,null,null,null,null,"Snel","------------",null,null,null,1]

{"sheet":"13","index":15,"n_rows":23,"n_cols":27,"rows_kept":23,"cut":false,"hidden":false,"merged":[]}
[]
[]
[null,null,"GrandPrix"]
[null,null,"Belgie",null,null,null,null,null,null,null,null,null,null,null,null,null,null,null,null,null,null,null,"UITSLAG"]
[]
[null,null,"Raimond Langhorst",null,"deelnemer 2",null,"deelnemer 3",null,"deelnemer 4",null,"deelnemer 5",null,"deelnemer 6",null,"deelnemer 7",null,"deelnemer 8",null,"deelnemer 9",null,null,null,{"$f":"C4","v":"Belgie"},null,"Pnt"]
[null,null,null,"pnt",null,"pnt",null,"pnt",null,"pnt",null,"pnt",null,"pnt",null,"pnt",null,"pnt",null,"pnt",null,null,{"$f":"Hoofdmenu!I21","v":"2019-09-01"}]
[null,1,null,{"$f":"IF(AND($W$8=C8,$W$8<>\"E9<>\"),$Y8,0)","v":0},null,{"$f":"IF(AND($W$8=E8,$W$8<>\"g9<>\"),$Y8,0)","v":0},null,{"$f":"IF(AND($W$8=G8,$W$8<>\"g9<>\"),$Y8,0)","v":0},null,{"$f":"IF(AND($W$8=I8,$W$8<>\"k9<>\"),$Y8,0)","v":0},null,{"$f":"IF(AND($W$8=K8,$W$8<>\"m9<>\"),$Y8,0)","v":0},null,{"$f":"IF(AND($W$8=M8,$W$8<>\"o9<>\"),$Y8,0)","v":0},null,{"$f":"IF(AND($W$8=O8,$W$8<>\"o9<>\"),$Y8,0)","v":0},null,{"$f":"IF(AND($W$8=Q8,$W$8<>\"o9<>\"),$Y8,0)","v":0},null,{"$f":"IF(AND($W$8=S8,$W$8<>\"o9<>\"),$Y8,0)","v":0},null,1,"------------",null,10,null,25]
[null,2,null,{"$f":"IF(AND($W$9=C9,$W$8<>\"E9<>\"),$Y9,0)","v":0},null,{"$f":"IF(AND($W$9=E9,$W$8<>\"g9<>\"),$Y9,0)","v":0},null,{"$f":"IF(AND($W$9=G9,$W$8<>\"g9<>\"),$Y9,0)","v":0},null,{"$f":"IF(AND($W$9=I9,$W$8<>\"k9<>\"),$Y9,0)","v":0},null,{"$f":"IF(AND($W$9=K9,$W$8<>\"m9<>\"),$Y9,0)","v":0},null,{"$f":"IF(AND($W$9=M9,$W$8<>\"o9<>\"),$Y9,0)","v":0},null,{"$f":"IF(AND($W$9=O9,$W$8<>\"o9<>\"),$Y9,0)","v":0},null,{"$f":"IF(AND($W$9=Q9,$W$8<>\"o9<>\"),$Y9,0)","v":0},null,{"$f":"IF(AND($W$9=S9,$W$8<>\"o9<>\"),$Y9,0)","v":0},null,2,"------------",null,10,null,18]
[null,3,null,{"$f":"IF(AND($W$10=C10,$W$8<>\"E9<>\"),$Y10,0)","v":0},null,{"$f":"IF(AND($W$10=E10,$W$8<>\"g9<>\"),$Y10,0)","v":0},null,{"$f":"IF(AND($W$10=G10,$W$8<>\"g9<>\"),$Y10,0)","v":0},null,{"$f":"IF(AND($W$10=I10,$W$8<>\"k9<>\"),$Y10,0)","v":0},null,{"$f":"IF(AND($W$10=K10,$W$8<>\"m9<>\"),$Y10,0)","v":0},null,{"$f":"IF(AND($W$10=M10,$W$8<>\"o9<>\"),$Y10,0)","v":0},null,{"$f":"IF(AND($W$10=O10,$W$8<>\"o9<>\"),$Y10,0)","v":0},null,{"$f":"IF(AND($W$10=Q10,$W$8<>\"o9<>\"),$Y10,0)","v":0},null,{"$f":"IF(AND($W$10=S10,$W$8<>\"o9<>\"),$Y10,0)","v":0},null,3,"------------",null,10,null,15]
[null,4,null,{"$f":"IF(AND($W$11=C11,$W$8<>\"E9<>\"),$Y11,0)","v":0},null,{"$f":"IF(AND($W$11=E11,$W$8<>\"g9<>\"),$Y11,0)","v":0},null,{"$f":"IF(AND($W$11=G11,$W$8<>\"g9<>\"),$Y11,0)","v":0},null,{"$f":"IF(AND($W$11=I11,$W$8<>\"k9<>\"),$Y11,0)","v":0},null,{"$f":"IF(AND($W$11=K11,$W$8<>\"m9<>\"),$Y11,0)","v":0},null,{"$f":"IF(AND($W$11=M11,$W$8<>\"o9<>\"),$Y11,0)","v":0},null,{"$f":"IF(AND($W$11=O11,$W$8<>\"o9<>\"),$Y11,0)","v":0},null,{"$f":"IF(AND($W$11=Q11,$W$8<>\"o9<>\"),$Y11,0)","v":0},null,{"$f":"IF(AND($W$11=S11,$W$8<>\"o9<>\"),$Y11,0)","v":0},null,4,"------------",null,10,null,12]
[null,5,null,{"$f":"IF(AND($W$12=C12,$W$8<>\"E9<>\"),$Y12,0)","v":0},null,{"$f":"IF(AND($W$12=E12,$W$8<>\"g9<>\"),$Y12,0)","v":0},null,{"$f":"IF(AND($W$12=G12,$W$8<>\"g9<>\"),$Y12,0)","v":0},null,{"$f":"IF(AND($W$12=I12,$W$8<>\"k9<>\"),$Y12,0)","v":0},null,{"$f":"IF(AND($W$12=K12,$W$8<>\"m9<>\"),$Y12,0)","v":0},null,{"$f":"IF(AND($W$12=M12,$W$8<>\"o9<>\"),$Y12,0)","v":0},null,{"$f":"IF(AND($W$12=O12,$W$8<>\"o9<>\"),$Y12,0)","v":0},null,{"$f":"IF(AND($W$12=Q12,$W$8<>\"o9<>\"),$Y12,0)","v":0},null,{"$f":"IF(AND($W$12=S12,$W$8<>\"o9<>\"),$Y12,0)","v":0},null,5,"------------",null,10,null,10]
[null,6,null,{"$f":"IF(AND($W$13=C13,$W$8<>\"E9<>\"),$Y13,0)","v":0},null,{"$f":"IF(AND($W$13=E13,$W$8<>\"g9<>\"),$Y13,0)","v":0},null,{"$f":"IF(AND($W$13=G13,$W$8<>\"g9<>\"),$Y13,0)","v":0},null,{"$f":"IF(AND($W$13=I13,$W$8<>\"k9<>\"),$Y13,0)","v":0},null,{"$f":"IF(AND($W$13=K13,$W$8<>\"m9<>\"),$Y13,0)","v":0},null,{"$f":"IF(AND($W$13=M13,$W$8<>\"o9<>\"),$Y13,0)","v":0},null,{"$f":"IF(AND($W$13=O13,$W$8<>\"o9<>\"),$Y13,0)","v":0},null,{"$f":"IF(AND($W$13=Q13,$W$8<>\"o9<>\"),$Y13,0)","v":0},null,{"$f":"IF(AND($W$13=S13,$W$8<>\"o9<>\"),$Y13,0)","v":0},null,6,"------------",null,10,null,8]
[null,7,null,{"$f":"IF(AND($W$14=C14,$W$8<>\"E9<>\"),$Y14,0)","v":0},null,{"$f":"IF(AND($W$14=E14,$W$8<>\"g9<>\"),$Y14,0)","v":0},null,{"$f":"IF(AND($W$14=G14,$W$8<>\"g9<>\"),$Y14,0)","v":0},null,{"$f":"IF(AND($W$14=I14,$W$8<>\"k9<>\"),$Y14,0)","v":0},null,{"$f":"IF(AND($W$14=K14,$W$8<>\"m9<>\"),$Y14,0)","v":0},null,{"$f":"IF(AND($W$14=M14,$W$8<>\"o9<>\"),$Y14,0)","v":0},null,{"$f":"IF(AND($W$14=O14,$W$8<>\"o9<>\"),$Y14,0)","v":0},null,{"$f":"IF(AND($W$14=Q14,$W$8<>\"o9<>\"),$Y14,0)","v":0},null,{"$f":"IF(AND($W$14=S14,$W$8<>\"o9<>\"),$Y14,0)","v":0},null,7,"------------",null,10,null,6]
[null,8,null,{"$f":"IF(AND($W$15=C15,$W$8<>\"E9<>\"),$Y15,0)","v":0},null,{"$f":"IF(AND($W$15=E15,$W$8<>\"g9<>\"),$Y15,0)","v":0},null,{"$f":"IF(AND($W$15=G15,$W$8<>\"g9<>\"),$Y15,0)","v":0},null,{"$f":"IF(AND($W$15=I15,$W$8<>\"k9<>\"),$Y15,0)","v":0},null,{"$f":"IF(AND($W$15=K15,$W$8<>\"m9<>\"),$Y15,0)","v":0},null,{"$f":"IF(AND($W$15=M15,$W$8<>\"o9<>\"),$Y15,0)","v":0},null,{"$f":"IF(AND($W$15=O15,$W$8<>\"o9<>\"),$Y15,0)","v":0},null,{"$f":"IF(AND($W$15=Q15,$W$8<>\"o9<>\"),$Y15,0)","v":0},null,{"$f":"IF(AND($W$15=S15,$W$8<>\"o9<>\"),$Y15,0)","v":0},null,8,"------------",null,10,null,4]
[null,9,null,{"$f":"IF(AND($W$16=C16,$W$8<>\"E9<>\"),$Y16,0)","v":0},null,{"$f":"IF(AND($W$16=E16,$W$8<>\"g9<>\"),$Y16,0)","v":0},null,{"$f":"IF(AND($W$16=G16,$W$8<>\"g9<>\"),$Y16,0)","v":0},null,{"$f":"IF(AND($W$16=I16,$W$8<>\"k9<>\"),$Y16,0)","v":0},null,{"$f":"IF(AND($W$16=K16,$W$8<>\"m9<>\"),$Y16,0)","v":0},null,{"$f":"IF(AND($W$16=M16,$W$8<>\"o9<>\"),$Y16,0)","v":0},null,{"$f":"IF(AND($W$16=O16,$W$8<>\"o9<>\"),$Y16,0)","v":0},null,{"$f":"IF(AND($W$16=Q16,$W$8<>\"o9<>\"),$Y16,0)","v":0},null,{"$f":"IF(AND($W$16=S16,$W$8<>\"o9<>\"),$Y16,0)","v":0},null,9,"------------",null,10,null,2]
[null,10,null,{"$f":"IF(AND($W$17=C17,$W$8<>\"E9<>\"),$Y17,0)","v":0},null,{"$f":"IF(AND($W$17=E17,$W$8<>\"g9<>\"),$Y17,0)","v":0},null,{"$f":"IF(AND($W$17=G17,$W$8<>\"g9<>\"),$Y17,0)","v":0},null,{"$f":"IF(AND($W$17=I17,$W$8<>\"k9<>\"),$Y17,0)","v":0},null,{"$f":"IF(AND($W$17=K17,$W$8<>\"m9<>\"),$Y17,0)","v":0},null,{"$f":"IF(AND($W$17=M17,$W$8<>\"o9<>\"),$Y17,0)","v":0},null,{"$f":"IF(AND($W$17=O17,$W$8<>\"o9<>\"),$Y17,0)","v":0},null,{"$f":"IF(AND($W$17=Q17,$W$8<>\"o9<>\"),$Y17,0)","v":0},null,{"$f":"IF(AND($W$17=S17,$W$8<>\"o9<>\"),$Y17,0)","v":0},null,10,"------------",null,10,null,1]
[]
[null,"Pole",null,{"$f":"IF(AND($W$19=C19,$W$8<>\"g9<>\"),$Y19,0)","v":0},null,null,null,null,null,null,null,null,null,null,null,null,null,null,null,{"$f":"IF(AND($W$19=S19,$W$8<>\"o9<>\"),$Y19,0)","v":0},null,"Pole","------------",null,5]
[]
[null,null,"Totaal punten",{"$f":"SUM(D8:D17)+D19","v":0},null,{"$f":"SUM(F8:F17)+F19","v":0},null,{"$f":"SUM(H8:H17)+H19","v":0},null,{"$f":"SUM(J8:J17)+J19","v":0},null,{"$f":"SUM(L8:L17)+L19","v":0},null,{"$f":"SUM(N8:N17)+N19","v":0},null,{"$f":"SUM(P8:P17)+P19","v":0},null,{"$f":"SUM(R8:R17)+R19","v":0},null,{"$f":"SUM(T8:T17)+T19","v":0},null,null,"Punten"]
[]
[null,null,null,null,null,null,null,null,null,null,null,null,null,null,null,null,null,null,null,null,null,"Snel","------------",null,null,null,1]

{"sheet":"14","index":16,"n_rows":23,"n_cols":27,"rows_kept":23,"cut":false,"hidden":false,"merged":[]}
[]
[]
[null,null,"GrandPrix"]
[null,null,"Italie",null,null,null,null,null,null,null,null,null,null,null,null,null,null,null,null,null,null,null,"UITSLAG"]
[]
[null,null,"Raimond Langhorst",null,"deelnemer 2",null,"deelnemer 3",null,"deelnemer 4",null,"deelnemer 5",null,"deelnemer 6",null,"deelnemer 7",null,"deelnemer 8",null,"deelnemer 9",null,null,null,{"$f":"C4","v":"Italie"},null,"Pnt"]
[null,null,null,"pnt",null,"pnt",null,"pnt",null,"pnt",null,"pnt",null,"pnt",null,"pnt",null,"pnt",null,"pnt",null,null,{"$f":"Hoofdmenu!I22","v":"2019-09-08"}]
[null,1,null,{"$f":"IF(AND($W$8=C8,$W$8<>\"E9<>\"),$Y8,0)","v":0},null,{"$f":"IF(AND($W$8=E8,$W$8<>\"g9<>\"),$Y8,0)","v":0},null,{"$f":"IF(AND($W$8=G8,$W$8<>\"g9<>\"),$Y8,0)","v":0},null,{"$f":"IF(AND($W$8=I8,$W$8<>\"k9<>\"),$Y8,0)","v":0},null,{"$f":"IF(AND($W$8=K8,$W$8<>\"m9<>\"),$Y8,0)","v":0},null,{"$f":"IF(AND($W$8=M8,$W$8<>\"o9<>\"),$Y8,0)","v":0},null,{"$f":"IF(AND($W$8=O8,$W$8<>\"o9<>\"),$Y8,0)","v":0},null,{"$f":"IF(AND($W$8=Q8,$W$8<>\"o9<>\"),$Y8,0)","v":0},null,{"$f":"IF(AND($W$8=S8,$W$8<>\"o9<>\"),$Y8,0)","v":0},null,1,"------------",null,10,null,25]
[null,2,null,{"$f":"IF(AND($W$9=C9,$W$8<>\"E9<>\"),$Y9,0)","v":0},null,{"$f":"IF(AND($W$9=E9,$W$8<>\"g9<>\"),$Y9,0)","v":0},null,{"$f":"IF(AND($W$9=G9,$W$8<>\"g9<>\"),$Y9,0)","v":0},null,{"$f":"IF(AND($W$9=I9,$W$8<>\"k9<>\"),$Y9,0)","v":0},null,{"$f":"IF(AND($W$9=K9,$W$8<>\"m9<>\"),$Y9,0)","v":0},null,{"$f":"IF(AND($W$9=M9,$W$8<>\"o9<>\"),$Y9,0)","v":0},null,{"$f":"IF(AND($W$9=O9,$W$8<>\"o9<>\"),$Y9,0)","v":0},null,{"$f":"IF(AND($W$9=Q9,$W$8<>\"o9<>\"),$Y9,0)","v":0},null,{"$f":"IF(AND($W$9=S9,$W$8<>\"o9<>\"),$Y9,0)","v":0},null,2,"------------",null,10,null,18]
[null,3,null,{"$f":"IF(AND($W$10=C10,$W$8<>\"E9<>\"),$Y10,0)","v":0},null,{"$f":"IF(AND($W$10=E10,$W$8<>\"g9<>\"),$Y10,0)","v":0},null,{"$f":"IF(AND($W$10=G10,$W$8<>\"g9<>\"),$Y10,0)","v":0},null,{"$f":"IF(AND($W$10=I10,$W$8<>\"k9<>\"),$Y10,0)","v":0},null,{"$f":"IF(AND($W$10=K10,$W$8<>\"m9<>\"),$Y10,0)","v":0},null,{"$f":"IF(AND($W$10=M10,$W$8<>\"o9<>\"),$Y10,0)","v":0},null,{"$f":"IF(AND($W$10=O10,$W$8<>\"o9<>\"),$Y10,0)","v":0},null,{"$f":"IF(AND($W$10=Q10,$W$8<>\"o9<>\"),$Y10,0)","v":0},null,{"$f":"IF(AND($W$10=S10,$W$8<>\"o9<>\"),$Y10,0)","v":0},null,3,"------------",null,10,null,15]
[null,4,null,{"$f":"IF(AND($W$11=C11,$W$8<>\"E9<>\"),$Y11,0)","v":0},null,{"$f":"IF(AND($W$11=E11,$W$8<>\"g9<>\"),$Y11,0)","v":0},null,{"$f":"IF(AND($W$11=G11,$W$8<>\"g9<>\"),$Y11,0)","v":0},null,{"$f":"IF(AND($W$11=I11,$W$8<>\"k9<>\"),$Y11,0)","v":0},null,{"$f":"IF(AND($W$11=K11,$W$8<>\"m9<>\"),$Y11,0)","v":0},null,{"$f":"IF(AND($W$11=M11,$W$8<>\"o9<>\"),$Y11,0)","v":0},null,{"$f":"IF(AND($W$11=O11,$W$8<>\"o9<>\"),$Y11,0)","v":0},null,{"$f":"IF(AND($W$11=Q11,$W$8<>\"o9<>\"),$Y11,0)","v":0},null,{"$f":"IF(AND($W$11=S11,$W$8<>\"o9<>\"),$Y11,0)","v":0},null,4,"------------",null,10,null,12]
[null,5,null,{"$f":"IF(AND($W$12=C12,$W$8<>\"E9<>\"),$Y12,0)","v":0},null,{"$f":"IF(AND($W$12=E12,$W$8<>\"g9<>\"),$Y12,0)","v":0},null,{"$f":"IF(AND($W$12=G12,$W$8<>\"g9<>\"),$Y12,0)","v":0},null,{"$f":"IF(AND($W$12=I12,$W$8<>\"k9<>\"),$Y12,0)","v":0},null,{"$f":"IF(AND($W$12=K12,$W$8<>\"m9<>\"),$Y12,0)","v":0},null,{"$f":"IF(AND($W$12=M12,$W$8<>\"o9<>\"),$Y12,0)","v":0},null,{"$f":"IF(AND($W$12=O12,$W$8<>\"o9<>\"),$Y12,0)","v":0},null,{"$f":"IF(AND($W$12=Q12,$W$8<>\"o9<>\"),$Y12,0)","v":0},null,{"$f":"IF(AND($W$12=S12,$W$8<>\"o9<>\"),$Y12,0)","v":0},null,5,"------------",null,10,null,10]
[null,6,null,{"$f":"IF(AND($W$13=C13,$W$8<>\"E9<>\"),$Y13,0)","v":0},null,{"$f":"IF(AND($W$13=E13,$W$8<>\"g9<>\"),$Y13,0)","v":0},null,{"$f":"IF(AND($W$13=G13,$W$8<>\"g9<>\"),$Y13,0)","v":0},null,{"$f":"IF(AND($W$13=I13,$W$8<>\"k9<>\"),$Y13,0)","v":0},null,{"$f":"IF(AND($W$13=K13,$W$8<>\"m9<>\"),$Y13,0)","v":0},null,{"$f":"IF(AND($W$13=M13,$W$8<>\"o9<>\"),$Y13,0)","v":0},null,{"$f":"IF(AND($W$13=O13,$W$8<>\"o9<>\"),$Y13,0)","v":0},null,{"$f":"IF(AND($W$13=Q13,$W$8<>\"o9<>\"),$Y13,0)","v":0},null,{"$f":"IF(AND($W$13=S13,$W$8<>\"o9<>\"),$Y13,0)","v":0},null,6,"------------",null,10,null,8]
[null,7,null,{"$f":"IF(AND($W$14=C14,$W$8<>\"E9<>\"),$Y14,0)","v":0},null,{"$f":"IF(AND($W$14=E14,$W$8<>\"g9<>\"),$Y14,0)","v":0},null,{"$f":"IF(AND($W$14=G14,$W$8<>\"g9<>\"),$Y14,0)","v":0},null,{"$f":"IF(AND($W$14=I14,$W$8<>\"k9<>\"),$Y14,0)","v":0},null,{"$f":"IF(AND($W$14=K14,$W$8<>\"m9<>\"),$Y14,0)","v":0},null,{"$f":"IF(AND($W$14=M14,$W$8<>\"o9<>\"),$Y14,0)","v":0},null,{"$f":"IF(AND($W$14=O14,$W$8<>\"o9<>\"),$Y14,0)","v":0},null,{"$f":"IF(AND($W$14=Q14,$W$8<>\"o9<>\"),$Y14,0)","v":0},null,{"$f":"IF(AND($W$14=S14,$W$8<>\"o9<>\"),$Y14,0)","v":0},null,7,"------------",null,10,null,6]
[null,8,null,{"$f":"IF(AND($W$15=C15,$W$8<>\"E9<>\"),$Y15,0)","v":0},null,{"$f":"IF(AND($W$15=E15,$W$8<>\"g9<>\"),$Y15,0)","v":0},null,{"$f":"IF(AND($W$15=G15,$W$8<>\"g9<>\"),$Y15,0)","v":0},null,{"$f":"IF(AND($W$15=I15,$W$8<>\"k9<>\"),$Y15,0)","v":0},null,{"$f":"IF(AND($W$15=K15,$W$8<>\"m9<>\"),$Y15,0)","v":0},null,{"$f":"IF(AND($W$15=M15,$W$8<>\"o9<>\"),$Y15,0)","v":0},null,{"$f":"IF(AND($W$15=O15,$W$8<>\"o9<>\"),$Y15,0)","v":0},null,{"$f":"IF(AND($W$15=Q15,$W$8<>\"o9<>\"),$Y15,0)","v":0},null,{"$f":"IF(AND($W$15=S15,$W$8<>\"o9<>\"),$Y15,0)","v":0},null,8,"------------",null,10,null,4]
[null,9,null,{"$f":"IF(AND($W$16=C16,$W$8<>\"E9<>\"),$Y16,0)","v":0},null,{"$f":"IF(AND($W$16=E16,$W$8<>\"g9<>\"),$Y16,0)","v":0},null,{"$f":"IF(AND($W$16=G16,$W$8<>\"g9<>\"),$Y16,0)","v":0},null,{"$f":"IF(AND($W$16=I16,$W$8<>\"k9<>\"),$Y16,0)","v":0},null,{"$f":"IF(AND($W$16=K16,$W$8<>\"m9<>\"),$Y16,0)","v":0},null,{"$f":"IF(AND($W$16=M16,$W$8<>\"o9<>\"),$Y16,0)","v":0},null,{"$f":"IF(AND($W$16=O16,$W$8<>\"o9<>\"),$Y16,0)","v":0},null,{"$f":"IF(AND($W$16=Q16,$W$8<>\"o9<>\"),$Y16,0)","v":0},null,{"$f":"IF(AND($W$16=S16,$W$8<>\"o9<>\"),$Y16,0)","v":0},null,9,"------------",null,10,null,2]
[null,10,null,{"$f":"IF(AND($W$17=C17,$W$8<>\"E9<>\"),$Y17,0)","v":0},null,{"$f":"IF(AND($W$17=E17,$W$8<>\"g9<>\"),$Y17,0)","v":0},null,{"$f":"IF(AND($W$17=G17,$W$8<>\"g9<>\"),$Y17,0)","v":0},null,{"$f":"IF(AND($W$17=I17,$W$8<>\"k9<>\"),$Y17,0)","v":0},null,{"$f":"IF(AND($W$17=K17,$W$8<>\"m9<>\"),$Y17,0)","v":0},null,{"$f":"IF(AND($W$17=M17,$W$8<>\"o9<>\"),$Y17,0)","v":0},null,{"$f":"IF(AND($W$17=O17,$W$8<>\"o9<>\"),$Y17,0)","v":0},null,{"$f":"IF(AND($W$17=Q17,$W$8<>\"o9<>\"),$Y17,0)","v":0},null,{"$f":"IF(AND($W$17=S17,$W$8<>\"o9<>\"),$Y17,0)","v":0},null,10,"------------",null,10,null,1]
[]
[null,"Pole",null,{"$f":"IF(AND($W$19=C19,$W$8<>\"g9<>\"),$Y19,0)","v":0},null,null,null,null,null,null,null,null,null,null,null,null,null,null,null,{"$f":"IF(AND($W$19=S19,$W$8<>\"o9<>\"),$Y19,0)","v":0},null,"Pole","------------",null,5]
[]
[null,null,"Totaal punten",{"$f":"SUM(D8:D17)+D19","v":0},null,{"$f":"SUM(F8:F17)+F19","v":0},null,{"$f":"SUM(H8:H17)+H19","v":0},null,{"$f":"SUM(J8:J17)+J19","v":0},null,{"$f":"SUM(L8:L17)+L19","v":0},null,{"$f":"SUM(N8:N17)+N19","v":0},null,{"$f":"SUM(P8:P17)+P19","v":0},null,{"$f":"SUM(R8:R17)+R19","v":0},null,{"$f":"SUM(T8:T17)+T19","v":0},null,null,"Punten"]
[]
[null,null,null,null,null,null,null,null,null,null,null,null,null,null,null,null,null,null,null,null,null,"Snel","------------",null,null,null,1]

{"sheet":"15","index":17,"n_rows":23,"n_cols":27,"rows_kept":23,"cut":false,"hidden":false,"merged":[]}
[]
[]
[null,null,"GrandPrix"]
[null,null,"Singapore",null,null,null,null,null,null,null,null,null,null,null,null,null,null,null,null,null,null,null,"UITSLAG"]
[]
[null,null,"Raimond Langhorst",null,"deelnemer 2",null,"deelnemer 3",null,"deelnemer 4",null,"deelnemer 5",null,"deelnemer 6",null,"deelnemer 7",null,"deelnemer 8",null,"deelnemer 9",null,null,null,{"$f":"C4","v":"Singapore"},null,"Pnt"]
[null,null,null,"pnt",null,"pnt",null,"pnt",null,"pnt",null,"pnt",null,"pnt",null,"pnt",null,"pnt",null,"pnt",null,null,{"$f":"Hoofdmenu!I23","v":"2019-09-22"}]
[null,1,null,{"$f":"IF(AND($W$8=C8,$W$8<>\"E9<>\"),$Y8,0)","v":0},null,{"$f":"IF(AND($W$8=E8,$W$8<>\"g9<>\"),$Y8,0)","v":0},null,{"$f":"IF(AND($W$8=G8,$W$8<>\"g9<>\"),$Y8,0)","v":0},null,{"$f":"IF(AND($W$8=I8,$W$8<>\"k9<>\"),$Y8,0)","v":0},null,{"$f":"IF(AND($W$8=K8,$W$8<>\"m9<>\"),$Y8,0)","v":0},null,{"$f":"IF(AND($W$8=M8,$W$8<>\"o9<>\"),$Y8,0)","v":0},null,{"$f":"IF(AND($W$8=O8,$W$8<>\"o9<>\"),$Y8,0)","v":0},null,{"$f":"IF(AND($W$8=Q8,$W$8<>\"o9<>\"),$Y8,0)","v":0},null,{"$f":"IF(AND($W$8=S8,$W$8<>\"o9<>\"),$Y8,0)","v":0},null,1,"------------",null,10,null,25]
[null,2,null,{"$f":"IF(AND($W$9=C9,$W$8<>\"E9<>\"),$Y9,0)","v":0},null,{"$f":"IF(AND($W$9=E9,$W$8<>\"g9<>\"),$Y9,0)","v":0},null,{"$f":"IF(AND($W$9=G9,$W$8<>\"g9<>\"),$Y9,0)","v":0},null,{"$f":"IF(AND($W$9=I9,$W$8<>\"k9<>\"),$Y9,0)","v":0},null,{"$f":"IF(AND($W$9=K9,$W$8<>\"m9<>\"),$Y9,0)","v":0},null,{"$f":"IF(AND($W$9=M9,$W$8<>\"o9<>\"),$Y9,0)","v":0},null,{"$f":"IF(AND($W$9=O9,$W$8<>\"o9<>\"),$Y9,0)","v":0},null,{"$f":"IF(AND($W$9=Q9,$W$8<>\"o9<>\"),$Y9,0)","v":0},null,{"$f":"IF(AND($W$9=S9,$W$8<>\"o9<>\"),$Y9,0)","v":0},null,2,"------------",null,10,null,18]
[null,3,null,{"$f":"IF(AND($W$10=C10,$W$8<>\"E9<>\"),$Y10,0)","v":0},null,{"$f":"IF(AND($W$10=E10,$W$8<>\"g9<>\"),$Y10,0)","v":0},null,{"$f":"IF(AND($W$10=G10,$W$8<>\"g9<>\"),$Y10,0)","v":0},null,{"$f":"IF(AND($W$10=I10,$W$8<>\"k9<>\"),$Y10,0)","v":0},null,{"$f":"IF(AND($W$10=K10,$W$8<>\"m9<>\"),$Y10,0)","v":0},null,{"$f":"IF(AND($W$10=M10,$W$8<>\"o9<>\"),$Y10,0)","v":0},null,{"$f":"IF(AND($W$10=O10,$W$8<>\"o9<>\"),$Y10,0)","v":0},null,{"$f":"IF(AND($W$10=Q10,$W$8<>\"o9<>\"),$Y10,0)","v":0},null,{"$f":"IF(AND($W$10=S10,$W$8<>\"o9<>\"),$Y10,0)","v":0},null,3,"------------",null,10,null,15]
[null,4,null,{"$f":"IF(AND($W$11=C11,$W$8<>\"E9<>\"),$Y11,0)","v":0},null,{"$f":"IF(AND($W$11=E11,$W$8<>\"g9<>\"),$Y11,0)","v":0},null,{"$f":"IF(AND($W$11=G11,$W$8<>\"g9<>\"),$Y11,0)","v":0},null,{"$f":"IF(AND($W$11=I11,$W$8<>\"k9<>\"),$Y11,0)","v":0},null,{"$f":"IF(AND($W$11=K11,$W$8<>\"m9<>\"),$Y11,0)","v":0},null,{"$f":"IF(AND($W$11=M11,$W$8<>\"o9<>\"),$Y11,0)","v":0},null,{"$f":"IF(AND($W$11=O11,$W$8<>\"o9<>\"),$Y11,0)","v":0},null,{"$f":"IF(AND($W$11=Q11,$W$8<>\"o9<>\"),$Y11,0)","v":0},null,{"$f":"IF(AND($W$11=S11,$W$8<>\"o9<>\"),$Y11,0)","v":0},null,4,"------------",null,10,null,12]
[null,5,null,{"$f":"IF(AND($W$12=C12,$W$8<>\"E9<>\"),$Y12,0)","v":0},null,{"$f":"IF(AND($W$12=E12,$W$8<>\"g9<>\"),$Y12,0)","v":0},null,{"$f":"IF(AND($W$12=G12,$W$8<>\"g9<>\"),$Y12,0)","v":0},null,{"$f":"IF(AND($W$12=I12,$W$8<>\"k9<>\"),$Y12,0)","v":0},null,{"$f":"IF(AND($W$12=K12,$W$8<>\"m9<>\"),$Y12,0)","v":0},null,{"$f":"IF(AND($W$12=M12,$W$8<>\"o9<>\"),$Y12,0)","v":0},null,{"$f":"IF(AND($W$12=O12,$W$8<>\"o9<>\"),$Y12,0)","v":0},null,{"$f":"IF(AND($W$12=Q12,$W$8<>\"o9<>\"),$Y12,0)","v":0},null,{"$f":"IF(AND($W$12=S12,$W$8<>\"o9<>\"),$Y12,0)","v":0},null,5,"------------",null,10,null,10]
[null,6,null,{"$f":"IF(AND($W$13=C13,$W$8<>\"E9<>\"),$Y13,0)","v":0},null,{"$f":"IF(AND($W$13=E13,$W$8<>\"g9<>\"),$Y13,0)","v":0},null,{"$f":"IF(AND($W$13=G13,$W$8<>\"g9<>\"),$Y13,0)","v":0},null,{"$f":"IF(AND($W$13=I13,$W$8<>\"k9<>\"),$Y13,0)","v":0},null,{"$f":"IF(AND($W$13=K13,$W$8<>\"m9<>\"),$Y13,0)","v":0},null,{"$f":"IF(AND($W$13=M13,$W$8<>\"o9<>\"),$Y13,0)","v":0},null,{"$f":"IF(AND($W$13=O13,$W$8<>\"o9<>\"),$Y13,0)","v":0},null,{"$f":"IF(AND($W$13=Q13,$W$8<>\"o9<>\"),$Y13,0)","v":0},null,{"$f":"IF(AND($W$13=S13,$W$8<>\"o9<>\"),$Y13,0)","v":0},null,6,"------------",null,10,null,8]
[null,7,null,{"$f":"IF(AND($W$14=C14,$W$8<>\"E9<>\"),$Y14,0)","v":0},null,{"$f":"IF(AND($W$14=E14,$W$8<>\"g9<>\"),$Y14,0)","v":0},null,{"$f":"IF(AND($W$14=G14,$W$8<>\"g9<>\"),$Y14,0)","v":0},null,{"$f":"IF(AND($W$14=I14,$W$8<>\"k9<>\"),$Y14,0)","v":0},null,{"$f":"IF(AND($W$14=K14,$W$8<>\"m9<>\"),$Y14,0)","v":0},null,{"$f":"IF(AND($W$14=M14,$W$8<>\"o9<>\"),$Y14,0)","v":0},null,{"$f":"IF(AND($W$14=O14,$W$8<>\"o9<>\"),$Y14,0)","v":0},null,{"$f":"IF(AND($W$14=Q14,$W$8<>\"o9<>\"),$Y14,0)","v":0},null,{"$f":"IF(AND($W$14=S14,$W$8<>\"o9<>\"),$Y14,0)","v":0},null,7,"------------",null,10,null,6]
[null,8,null,{"$f":"IF(AND($W$15=C15,$W$8<>\"E9<>\"),$Y15,0)","v":0},null,{"$f":"IF(AND($W$15=E15,$W$8<>\"g9<>\"),$Y15,0)","v":0},null,{"$f":"IF(AND($W$15=G15,$W$8<>\"g9<>\"),$Y15,0)","v":0},null,{"$f":"IF(AND($W$15=I15,$W$8<>\"k9<>\"),$Y15,0)","v":0},null,{"$f":"IF(AND($W$15=K15,$W$8<>\"m9<>\"),$Y15,0)","v":0},null,{"$f":"IF(AND($W$15=M15,$W$8<>\"o9<>\"),$Y15,0)","v":0},null,{"$f":"IF(AND($W$15=O15,$W$8<>\"o9<>\"),$Y15,0)","v":0},null,{"$f":"IF(AND($W$15=Q15,$W$8<>\"o9<>\"),$Y15,0)","v":0},null,{"$f":"IF(AND($W$15=S15,$W$8<>\"o9<>\"),$Y15,0)","v":0},null,8,"------------",null,10,null,4]
[null,9,null,{"$f":"IF(AND($W$16=C16,$W$8<>\"E9<>\"),$Y16,0)","v":0},null,{"$f":"IF(AND($W$16=E16,$W$8<>\"g9<>\"),$Y16,0)","v":0},null,{"$f":"IF(AND($W$16=G16,$W$8<>\"g9<>\"),$Y16,0)","v":0},null,{"$f":"IF(AND($W$16=I16,$W$8<>\"k9<>\"),$Y16,0)","v":0},null,{"$f":"IF(AND($W$16=K16,$W$8<>\"m9<>\"),$Y16,0)","v":0},null,{"$f":"IF(AND($W$16=M16,$W$8<>\"o9<>\"),$Y16,0)","v":0},null,{"$f":"IF(AND($W$16=O16,$W$8<>\"o9<>\"),$Y16,0)","v":0},null,{"$f":"IF(AND($W$16=Q16,$W$8<>\"o9<>\"),$Y16,0)","v":0},null,{"$f":"IF(AND($W$16=S16,$W$8<>\"o9<>\"),$Y16,0)","v":0},null,9,"------------",null,10,null,2]
[null,10,null,{"$f":"IF(AND($W$17=C17,$W$8<>\"E9<>\"),$Y17,0)","v":0},null,{"$f":"IF(AND($W$17=E17,$W$8<>\"g9<>\"),$Y17,0)","v":0},null,{"$f":"IF(AND($W$17=G17,$W$8<>\"g9<>\"),$Y17,0)","v":0},null,{"$f":"IF(AND($W$17=I17,$W$8<>\"k9<>\"),$Y17,0)","v":0},null,{"$f":"IF(AND($W$17=K17,$W$8<>\"m9<>\"),$Y17,0)","v":0},null,{"$f":"IF(AND($W$17=M17,$W$8<>\"o9<>\"),$Y17,0)","v":0},null,{"$f":"IF(AND($W$17=O17,$W$8<>\"o9<>\"),$Y17,0)","v":0},null,{"$f":"IF(AND($W$17=Q17,$W$8<>\"o9<>\"),$Y17,0)","v":0},null,{"$f":"IF(AND($W$17=S17,$W$8<>\"o9<>\"),$Y17,0)","v":0},null,10,"------------",null,10,null,1]
[]
[null,"Pole",null,{"$f":"IF(AND($W$19=C19,$W$8<>\"g9<>\"),$Y19,0)","v":0},null,null,null,null,null,null,null,null,null,null,null,null,null,null,null,{"$f":"IF(AND($W$19=S19,$W$8<>\"o9<>\"),$Y19,0)","v":0},null,"Pole","------------",null,5]
[]
[null,null,"Totaal punten",{"$f":"SUM(D8:D17)+D19","v":0},null,{"$f":"SUM(F8:F17)+F19","v":0},null,{"$f":"SUM(H8:H17)+H19","v":0},null,{"$f":"SUM(J8:J17)+J19","v":0},null,{"$f":"SUM(L8:L17)+L19","v":0},null,{"$f":"SUM(N8:N17)+N19","v":0},null,{"$f":"SUM(P8:P17)+P19","v":0},null,{"$f":"SUM(R8:R17)+R19","v":0},null,{"$f":"SUM(T8:T17)+T19","v":0},null,null,"Punten"]
[]
[null,null,null,null,null,null,null,null,null,null,null,null,null,null,null,null,null,null,null,null,null,"Snel","------------",null,null,null,1]

{"sheet":"16","index":18,"n_rows":23,"n_cols":27,"rows_kept":23,"cut":false,"hidden":false,"merged":[]}
[]
[]
[null,null,"GrandPrix"]
[null,null,"Rusland",null,null,null,null,null,null,null,null,null,null,null,null,null,null,null,null,null,null,null,"UITSLAG"]
[]
[null,null,"Raimond Langhorst",null,"deelnemer 2",null,"deelnemer 3",null,"deelnemer 4",null,"deelnemer 5",null,"deelnemer 6",null,"deelnemer 7",null,"deelnemer 8",null,"deelnemer 9",null,null,null,{"$f":"C4","v":"Rusland"},null,"Pnt"]
[null,null,null,"pnt",null,"pnt",null,"pnt",null,"pnt",null,"pnt",null,"pnt",null,"pnt",null,"pnt",null,"pnt",null,null,{"$f":"Hoofdmenu!I24","v":"2019-09-29"}]
[null,1,null,{"$f":"IF(AND($W$8=C8,$W$8<>\"E9<>\"),$Y8,0)","v":0},null,{"$f":"IF(AND($W$8=E8,$W$8<>\"g9<>\"),$Y8,0)","v":0},null,{"$f":"IF(AND($W$8=G8,$W$8<>\"g9<>\"),$Y8,0)","v":0},null,{"$f":"IF(AND($W$8=I8,$W$8<>\"k9<>\"),$Y8,0)","v":0},null,{"$f":"IF(AND($W$8=K8,$W$8<>\"m9<>\"),$Y8,0)","v":0},null,{"$f":"IF(AND($W$8=M8,$W$8<>\"o9<>\"),$Y8,0)","v":0},null,{"$f":"IF(AND($W$8=O8,$W$8<>\"o9<>\"),$Y8,0)","v":0},null,{"$f":"IF(AND($W$8=Q8,$W$8<>\"o9<>\"),$Y8,0)","v":0},null,{"$f":"IF(AND($W$8=S8,$W$8<>\"o9<>\"),$Y8,0)","v":0},null,1,"------------",null,10,null,25]
[null,2,null,{"$f":"IF(AND($W$9=C9,$W$8<>\"E9<>\"),$Y9,0)","v":0},null,{"$f":"IF(AND($W$9=E9,$W$8<>\"g9<>\"),$Y9,0)","v":0},null,{"$f":"IF(AND($W$9=G9,$W$8<>\"g9<>\"),$Y9,0)","v":0},null,{"$f":"IF(AND($W$9=I9,$W$8<>\"k9<>\"),$Y9,0)","v":0},null,{"$f":"IF(AND($W$9=K9,$W$8<>\"m9<>\"),$Y9,0)","v":0},null,{"$f":"IF(AND($W$9=M9,$W$8<>\"o9<>\"),$Y9,0)","v":0},null,{"$f":"IF(AND($W$9=O9,$W$8<>\"o9<>\"),$Y9,0)","v":0},null,{"$f":"IF(AND($W$9=Q9,$W$8<>\"o9<>\"),$Y9,0)","v":0},null,{"$f":"IF(AND($W$9=S9,$W$8<>\"o9<>\"),$Y9,0)","v":0},null,2,"------------",null,10,null,18]
[null,3,null,{"$f":"IF(AND($W$10=C10,$W$8<>\"E9<>\"),$Y10,0)","v":0},null,{"$f":"IF(AND($W$10=E10,$W$8<>\"g9<>\"),$Y10,0)","v":0},null,{"$f":"IF(AND($W$10=G10,$W$8<>\"g9<>\"),$Y10,0)","v":0},null,{"$f":"IF(AND($W$10=I10,$W$8<>\"k9<>\"),$Y10,0)","v":0},null,{"$f":"IF(AND($W$10=K10,$W$8<>\"m9<>\"),$Y10,0)","v":0},null,{"$f":"IF(AND($W$10=M10,$W$8<>\"o9<>\"),$Y10,0)","v":0},null,{"$f":"IF(AND($W$10=O10,$W$8<>\"o9<>\"),$Y10,0)","v":0},null,{"$f":"IF(AND($W$10=Q10,$W$8<>\"o9<>\"),$Y10,0)","v":0},null,{"$f":"IF(AND($W$10=S10,$W$8<>\"o9<>\"),$Y10,0)","v":0},null,3,"------------",null,10,null,15]
[null,4,null,{"$f":"IF(AND($W$11=C11,$W$8<>\"E9<>\"),$Y11,0)","v":0},null,{"$f":"IF(AND($W$11=E11,$W$8<>\"g9<>\"),$Y11,0)","v":0},null,{"$f":"IF(AND($W$11=G11,$W$8<>\"g9<>\"),$Y11,0)","v":0},null,{"$f":"IF(AND($W$11=I11,$W$8<>\"k9<>\"),$Y11,0)","v":0},null,{"$f":"IF(AND($W$11=K11,$W$8<>\"m9<>\"),$Y11,0)","v":0},null,{"$f":"IF(AND($W$11=M11,$W$8<>\"o9<>\"),$Y11,0)","v":0},null,{"$f":"IF(AND($W$11=O11,$W$8<>\"o9<>\"),$Y11,0)","v":0},null,{"$f":"IF(AND($W$11=Q11,$W$8<>\"o9<>\"),$Y11,0)","v":0},null,{"$f":"IF(AND($W$11=S11,$W$8<>\"o9<>\"),$Y11,0)","v":0},null,4,"------------",null,10,null,12]
[null,5,null,{"$f":"IF(AND($W$12=C12,$W$8<>\"E9<>\"),$Y12,0)","v":0},null,{"$f":"IF(AND($W$12=E12,$W$8<>\"g9<>\"),$Y12,0)","v":0},null,{"$f":"IF(AND($W$12=G12,$W$8<>\"g9<>\"),$Y12,0)","v":0},null,{"$f":"IF(AND($W$12=I12,$W$8<>\"k9<>\"),$Y12,0)","v":0},null,{"$f":"IF(AND($W$12=K12,$W$8<>\"m9<>\"),$Y12,0)","v":0},null,{"$f":"IF(AND($W$12=M12,$W$8<>\"o9<>\"),$Y12,0)","v":0},null,{"$f":"IF(AND($W$12=O12,$W$8<>\"o9<>\"),$Y12,0)","v":0},null,{"$f":"IF(AND($W$12=Q12,$W$8<>\"o9<>\"),$Y12,0)","v":0},null,{"$f":"IF(AND($W$12=S12,$W$8<>\"o9<>\"),$Y12,0)","v":0},null,5,"------------",null,10,null,10]
[null,6,null,{"$f":"IF(AND($W$13=C13,$W$8<>\"E9<>\"),$Y13,0)","v":0},null,{"$f":"IF(AND($W$13=E13,$W$8<>\"g9<>\"),$Y13,0)","v":0},null,{"$f":"IF(AND($W$13=G13,$W$8<>\"g9<>\"),$Y13,0)","v":0},null,{"$f":"IF(AND($W$13=I13,$W$8<>\"k9<>\"),$Y13,0)","v":0},null,{"$f":"IF(AND($W$13=K13,$W$8<>\"m9<>\"),$Y13,0)","v":0},null,{"$f":"IF(AND($W$13=M13,$W$8<>\"o9<>\"),$Y13,0)","v":0},null,{"$f":"IF(AND($W$13=O13,$W$8<>\"o9<>\"),$Y13,0)","v":0},null,{"$f":"IF(AND($W$13=Q13,$W$8<>\"o9<>\"),$Y13,0)","v":0},null,{"$f":"IF(AND($W$13=S13,$W$8<>\"o9<>\"),$Y13,0)","v":0},null,6,"------------",null,10,null,8]
[null,7,null,{"$f":"IF(AND($W$14=C14,$W$8<>\"E9<>\"),$Y14,0)","v":0},null,{"$f":"IF(AND($W$14=E14,$W$8<>\"g9<>\"),$Y14,0)","v":0},null,{"$f":"IF(AND($W$14=G14,$W$8<>\"g9<>\"),$Y14,0)","v":0},null,{"$f":"IF(AND($W$14=I14,$W$8<>\"k9<>\"),$Y14,0)","v":0},null,{"$f":"IF(AND($W$14=K14,$W$8<>\"m9<>\"),$Y14,0)","v":0},null,{"$f":"IF(AND($W$14=M14,$W$8<>\"o9<>\"),$Y14,0)","v":0},null,{"$f":"IF(AND($W$14=O14,$W$8<>\"o9<>\"),$Y14,0)","v":0},null,{"$f":"IF(AND($W$14=Q14,$W$8<>\"o9<>\"),$Y14,0)","v":0},null,{"$f":"IF(AND($W$14=S14,$W$8<>\"o9<>\"),$Y14,0)","v":0},null,7,"------------",null,10,null,6]
[null,8,null,{"$f":"IF(AND($W$15=C15,$W$8<>\"E9<>\"),$Y15,0)","v":0},null,{"$f":"IF(AND($W$15=E15,$W$8<>\"g9<>\"),$Y15,0)","v":0},null,{"$f":"IF(AND($W$15=G15,$W$8<>\"g9<>\"),$Y15,0)","v":0},null,{"$f":"IF(AND($W$15=I15,$W$8<>\"k9<>\"),$Y15,0)","v":0},null,{"$f":"IF(AND($W$15=K15,$W$8<>\"m9<>\"),$Y15,0)","v":0},null,{"$f":"IF(AND($W$15=M15,$W$8<>\"o9<>\"),$Y15,0)","v":0},null,{"$f":"IF(AND($W$15=O15,$W$8<>\"o9<>\"),$Y15,0)","v":0},null,{"$f":"IF(AND($W$15=Q15,$W$8<>\"o9<>\"),$Y15,0)","v":0},null,{"$f":"IF(AND($W$15=S15,$W$8<>\"o9<>\"),$Y15,0)","v":0},null,8,"------------",null,10,null,4]
[null,9,null,{"$f":"IF(AND($W$16=C16,$W$8<>\"E9<>\"),$Y16,0)","v":0},null,{"$f":"IF(AND($W$16=E16,$W$8<>\"g9<>\"),$Y16,0)","v":0},null,{"$f":"IF(AND($W$16=G16,$W$8<>\"g9<>\"),$Y16,0)","v":0},null,{"$f":"IF(AND($W$16=I16,$W$8<>\"k9<>\"),$Y16,0)","v":0},null,{"$f":"IF(AND($W$16=K16,$W$8<>\"m9<>\"),$Y16,0)","v":0},null,{"$f":"IF(AND($W$16=M16,$W$8<>\"o9<>\"),$Y16,0)","v":0},null,{"$f":"IF(AND($W$16=O16,$W$8<>\"o9<>\"),$Y16,0)","v":0},null,{"$f":"IF(AND($W$16=Q16,$W$8<>\"o9<>\"),$Y16,0)","v":0},null,{"$f":"IF(AND($W$16=S16,$W$8<>\"o9<>\"),$Y16,0)","v":0},null,9,"------------",null,10,null,2]
[null,10,null,{"$f":"IF(AND($W$17=C17,$W$8<>\"E9<>\"),$Y17,0)","v":0},null,{"$f":"IF(AND($W$17=E17,$W$8<>\"g9<>\"),$Y17,0)","v":0},null,{"$f":"IF(AND($W$17=G17,$W$8<>\"g9<>\"),$Y17,0)","v":0},null,{"$f":"IF(AND($W$17=I17,$W$8<>\"k9<>\"),$Y17,0)","v":0},null,{"$f":"IF(AND($W$17=K17,$W$8<>\"m9<>\"),$Y17,0)","v":0},null,{"$f":"IF(AND($W$17=M17,$W$8<>\"o9<>\"),$Y17,0)","v":0},null,{"$f":"IF(AND($W$17=O17,$W$8<>\"o9<>\"),$Y17,0)","v":0},null,{"$f":"IF(AND($W$17=Q17,$W$8<>\"o9<>\"),$Y17,0)","v":0},null,{"$f":"IF(AND($W$17=S17,$W$8<>\"o9<>\"),$Y17,0)","v":0},null,10,"------------",null,10,null,1]
[]
[null,"Pole",null,{"$f":"IF(AND($W$19=C19,$W$8<>\"g9<>\"),$Y19,0)","v":0},null,null,null,null,null,null,null,null,null,null,null,null,null,null,null,{"$f":"IF(AND($W$19=S19,$W$8<>\"o9<>\"),$Y19,0)","v":0},null,"Pole","------------",null,5]
[]
[null,null,"Totaal punten",{"$f":"SUM(D8:D17)+D19","v":0},null,{"$f":"SUM(F8:F17)+F19","v":0},null,{"$f":"SUM(H8:H17)+H19","v":0},null,{"$f":"SUM(J8:J17)+J19","v":0},null,{"$f":"SUM(L8:L17)+L19","v":0},null,{"$f":"SUM(N8:N17)+N19","v":0},null,{"$f":"SUM(P8:P17)+P19","v":0},null,{"$f":"SUM(R8:R17)+R19","v":0},null,{"$f":"SUM(T8:T17)+T19","v":0},null,null,"Punten"]
[]
[null,null,null,null,null,null,null,null,null,null,null,null,null,null,null,null,null,null,null,null,null,"Snel","------------",null,null,null,1]

{"sheet":"17","index":19,"n_rows":23,"n_cols":27,"rows_kept":23,"cut":false,"hidden":false,"merged":[]}
[]
[]
[null,null,"GrandPrix"]
[null,null,"Japan",null,null,null,null,null,null,null,null,null,null,null,null,null,null,null,null,null,null,null,"UITSLAG"]
[]
[null,null,"Raimond Langhorst",null,"deelnemer 2",null,"deelnemer 3",null,"deelnemer 4",null,"deelnemer 5",null,"deelnemer 6",null,"deelnemer 7",null,"deelnemer 8",null,"deelnemer 9",null,null,null,{"$f":"C4","v":"Japan"},null,"Pnt"]
[null,null,null,"pnt",null,"pnt",null,"pnt",null,"pnt",null,"pnt",null,"pnt",null,"pnt",null,"pnt",null,"pnt",null,null,{"$f":"Hoofdmenu!I25","v":"2019-10-13"}]
[null,1,null,{"$f":"IF(AND($W$8=C8,$W$8<>\"E9<>\"),$Y8,0)","v":0},null,{"$f":"IF(AND($W$8=E8,$W$8<>\"g9<>\"),$Y8,0)","v":0},null,{"$f":"IF(AND($W$8=G8,$W$8<>\"g9<>\"),$Y8,0)","v":0},null,{"$f":"IF(AND($W$8=I8,$W$8<>\"k9<>\"),$Y8,0)","v":0},null,{"$f":"IF(AND($W$8=K8,$W$8<>\"m9<>\"),$Y8,0)","v":0},null,{"$f":"IF(AND($W$8=M8,$W$8<>\"o9<>\"),$Y8,0)","v":0},null,{"$f":"IF(AND($W$8=O8,$W$8<>\"o9<>\"),$Y8,0)","v":0},null,{"$f":"IF(AND($W$8=Q8,$W$8<>\"o9<>\"),$Y8,0)","v":0},null,{"$f":"IF(AND($W$8=S8,$W$8<>\"o9<>\"),$Y8,0)","v":0},null,1,"------------",null,10,null,25]
[null,2,null,{"$f":"IF(AND($W$9=C9,$W$8<>\"E9<>\"),$Y9,0)","v":0},null,{"$f":"IF(AND($W$9=E9,$W$8<>\"g9<>\"),$Y9,0)","v":0},null,{"$f":"IF(AND($W$9=G9,$W$8<>\"g9<>\"),$Y9,0)","v":0},null,{"$f":"IF(AND($W$9=I9,$W$8<>\"k9<>\"),$Y9,0)","v":0},null,{"$f":"IF(AND($W$9=K9,$W$8<>\"m9<>\"),$Y9,0)","v":0},null,{"$f":"IF(AND($W$9=M9,$W$8<>\"o9<>\"),$Y9,0)","v":0},null,{"$f":"IF(AND($W$9=O9,$W$8<>\"o9<>\"),$Y9,0)","v":0},null,{"$f":"IF(AND($W$9=Q9,$W$8<>\"o9<>\"),$Y9,0)","v":0},null,{"$f":"IF(AND($W$9=S9,$W$8<>\"o9<>\"),$Y9,0)","v":0},null,2,"------------",null,10,null,18]
[null,3,null,{"$f":"IF(AND($W$10=C10,$W$8<>\"E9<>\"),$Y10,0)","v":0},null,{"$f":"IF(AND($W$10=E10,$W$8<>\"g9<>\"),$Y10,0)","v":0},null,{"$f":"IF(AND($W$10=G10,$W$8<>\"g9<>\"),$Y10,0)","v":0},null,{"$f":"IF(AND($W$10=I10,$W$8<>\"k9<>\"),$Y10,0)","v":0},null,{"$f":"IF(AND($W$10=K10,$W$8<>\"m9<>\"),$Y10,0)","v":0},null,{"$f":"IF(AND($W$10=M10,$W$8<>\"o9<>\"),$Y10,0)","v":0},null,{"$f":"IF(AND($W$10=O10,$W$8<>\"o9<>\"),$Y10,0)","v":0},null,{"$f":"IF(AND($W$10=Q10,$W$8<>\"o9<>\"),$Y10,0)","v":0},null,{"$f":"IF(AND($W$10=S10,$W$8<>\"o9<>\"),$Y10,0)","v":0},null,3,"------------",null,10,null,15]
[null,4,null,{"$f":"IF(AND($W$11=C11,$W$8<>\"E9<>\"),$Y11,0)","v":0},null,{"$f":"IF(AND($W$11=E11,$W$8<>\"g9<>\"),$Y11,0)","v":0},null,{"$f":"IF(AND($W$11=G11,$W$8<>\"g9<>\"),$Y11,0)","v":0},null,{"$f":"IF(AND($W$11=I11,$W$8<>\"k9<>\"),$Y11,0)","v":0},null,{"$f":"IF(AND($W$11=K11,$W$8<>\"m9<>\"),$Y11,0)","v":0},null,{"$f":"IF(AND($W$11=M11,$W$8<>\"o9<>\"),$Y11,0)","v":0},null,{"$f":"IF(AND($W$11=O11,$W$8<>\"o9<>\"),$Y11,0)","v":0},null,{"$f":"IF(AND($W$11=Q11,$W$8<>\"o9<>\"),$Y11,0)","v":0},null,{"$f":"IF(AND($W$11=S11,$W$8<>\"o9<>\"),$Y11,0)","v":0},null,4,"------------",null,10,null,12]
[null,5,null,{"$f":"IF(AND($W$12=C12,$W$8<>\"E9<>\"),$Y12,0)","v":0},null,{"$f":"IF(AND($W$12=E12,$W$8<>\"g9<>\"),$Y12,0)","v":0},null,{"$f":"IF(AND($W$12=G12,$W$8<>\"g9<>\"),$Y12,0)","v":0},null,{"$f":"IF(AND($W$12=I12,$W$8<>\"k9<>\"),$Y12,0)","v":0},null,{"$f":"IF(AND($W$12=K12,$W$8<>\"m9<>\"),$Y12,0)","v":0},null,{"$f":"IF(AND($W$12=M12,$W$8<>\"o9<>\"),$Y12,0)","v":0},null,{"$f":"IF(AND($W$12=O12,$W$8<>\"o9<>\"),$Y12,0)","v":0},null,{"$f":"IF(AND($W$12=Q12,$W$8<>\"o9<>\"),$Y12,0)","v":0},null,{"$f":"IF(AND($W$12=S12,$W$8<>\"o9<>\"),$Y12,0)","v":0},null,5,"------------",null,10,null,10]
[null,6,null,{"$f":"IF(AND($W$13=C13,$W$8<>\"E9<>\"),$Y13,0)","v":0},null,{"$f":"IF(AND($W$13=E13,$W$8<>\"g9<>\"),$Y13,0)","v":0},null,{"$f":"IF(AND($W$13=G13,$W$8<>\"g9<>\"),$Y13,0)","v":0},null,{"$f":"IF(AND($W$13=I13,$W$8<>\"k9<>\"),$Y13,0)","v":0},null,{"$f":"IF(AND($W$13=K13,$W$8<>\"m9<>\"),$Y13,0)","v":0},null,{"$f":"IF(AND($W$13=M13,$W$8<>\"o9<>\"),$Y13,0)","v":0},null,{"$f":"IF(AND($W$13=O13,$W$8<>\"o9<>\"),$Y13,0)","v":0},null,{"$f":"IF(AND($W$13=Q13,$W$8<>\"o9<>\"),$Y13,0)","v":0},null,{"$f":"IF(AND($W$13=S13,$W$8<>\"o9<>\"),$Y13,0)","v":0},null,6,"------------",null,10,null,8]
[null,7,null,{"$f":"IF(AND($W$14=C14,$W$8<>\"E9<>\"),$Y14,0)","v":0},null,{"$f":"IF(AND($W$14=E14,$W$8<>\"g9<>\"),$Y14,0)","v":0},null,{"$f":"IF(AND($W$14=G14,$W$8<>\"g9<>\"),$Y14,0)","v":0},null,{"$f":"IF(AND($W$14=I14,$W$8<>\"k9<>\"),$Y14,0)","v":0},null,{"$f":"IF(AND($W$14=K14,$W$8<>\"m9<>\"),$Y14,0)","v":0},null,{"$f":"IF(AND($W$14=M14,$W$8<>\"o9<>\"),$Y14,0)","v":0},null,{"$f":"IF(AND($W$14=O14,$W$8<>\"o9<>\"),$Y14,0)","v":0},null,{"$f":"IF(AND($W$14=Q14,$W$8<>\"o9<>\"),$Y14,0)","v":0},null,{"$f":"IF(AND($W$14=S14,$W$8<>\"o9<>\"),$Y14,0)","v":0},null,7,"------------",null,10,null,6]
[null,8,null,{"$f":"IF(AND($W$15=C15,$W$8<>\"E9<>\"),$Y15,0)","v":0},null,{"$f":"IF(AND($W$15=E15,$W$8<>\"g9<>\"),$Y15,0)","v":0},null,{"$f":"IF(AND($W$15=G15,$W$8<>\"g9<>\"),$Y15,0)","v":0},null,{"$f":"IF(AND($W$15=I15,$W$8<>\"k9<>\"),$Y15,0)","v":0},null,{"$f":"IF(AND($W$15=K15,$W$8<>\"m9<>\"),$Y15,0)","v":0},null,{"$f":"IF(AND($W$15=M15,$W$8<>\"o9<>\"),$Y15,0)","v":0},null,{"$f":"IF(AND($W$15=O15,$W$8<>\"o9<>\"),$Y15,0)","v":0},null,{"$f":"IF(AND($W$15=Q15,$W$8<>\"o9<>\"),$Y15,0)","v":0},null,{"$f":"IF(AND($W$15=S15,$W$8<>\"o9<>\"),$Y15,0)","v":0},null,8,"------------",null,10,null,4]
[null,9,null,{"$f":"IF(AND($W$16=C16,$W$8<>\"E9<>\"),$Y16,0)","v":0},null,{"$f":"IF(AND($W$16=E16,$W$8<>\"g9<>\"),$Y16,0)","v":0},null,{"$f":"IF(AND($W$16=G16,$W$8<>\"g9<>\"),$Y16,0)","v":0},null,{"$f":"IF(AND($W$16=I16,$W$8<>\"k9<>\"),$Y16,0)","v":0},null,{"$f":"IF(AND($W$16=K16,$W$8<>\"m9<>\"),$Y16,0)","v":0},null,{"$f":"IF(AND($W$16=M16,$W$8<>\"o9<>\"),$Y16,0)","v":0},null,{"$f":"IF(AND($W$16=O16,$W$8<>\"o9<>\"),$Y16,0)","v":0},null,{"$f":"IF(AND($W$16=Q16,$W$8<>\"o9<>\"),$Y16,0)","v":0},null,{"$f":"IF(AND($W$16=S16,$W$8<>\"o9<>\"),$Y16,0)","v":0},null,9,"------------",null,10,null,2]
[null,10,null,{"$f":"IF(AND($W$17=C17,$W$8<>\"E9<>\"),$Y17,0)","v":0},null,{"$f":"IF(AND($W$17=E17,$W$8<>\"g9<>\"),$Y17,0)","v":0},null,{"$f":"IF(AND($W$17=G17,$W$8<>\"g9<>\"),$Y17,0)","v":0},null,{"$f":"IF(AND($W$17=I17,$W$8<>\"k9<>\"),$Y17,0)","v":0},null,{"$f":"IF(AND($W$17=K17,$W$8<>\"m9<>\"),$Y17,0)","v":0},null,{"$f":"IF(AND($W$17=M17,$W$8<>\"o9<>\"),$Y17,0)","v":0},null,{"$f":"IF(AND($W$17=O17,$W$8<>\"o9<>\"),$Y17,0)","v":0},null,{"$f":"IF(AND($W$17=Q17,$W$8<>\"o9<>\"),$Y17,0)","v":0},null,{"$f":"IF(AND($W$17=S17,$W$8<>\"o9<>\"),$Y17,0)","v":0},null,10,"------------",null,10,null,1]
[]
[null,"Pole",null,{"$f":"IF(AND($W$19=C19,$W$8<>\"g9<>\"),$Y19,0)","v":0},null,null,null,null,null,null,null,null,null,null,null,null,null,null,null,{"$f":"IF(AND($W$19=S19,$W$8<>\"o9<>\"),$Y19,0)","v":0},null,"Pole","------------",null,5]
[]
[null,null,"Totaal punten",{"$f":"SUM(D8:D17)+D19","v":0},null,{"$f":"SUM(F8:F17)+F19","v":0},null,{"$f":"SUM(H8:H17)+H19","v":0},null,{"$f":"SUM(J8:J17)+J19","v":0},null,{"$f":"SUM(L8:L17)+L19","v":0},null,{"$f":"SUM(N8:N17)+N19","v":0},null,{"$f":"SUM(P8:P17)+P19","v":0},null,{"$f":"SUM(R8:R17)+R19","v":0},null,{"$f":"SUM(T8:T17)+T19","v":0},null,null,"Punten"]
[]
[null,null,null,null,null,null,null,null,null,null,null,null,null,null,null,null,null,null,null,null,null,"Snel","------------",null,null,null,1]

{"sheet":"18","index":20,"n_rows":23,"n_cols":27,"rows_kept":23,"cut":false,"hidden":false,"merged":[]}
[]
[]
[null,null,"GrandPrix"]
[null,null,"Mexico",null,null,null,null,null,null,null,null,null,null,null,null,null,null,null,null,null,null,null,"UITSLAG"]
[]
[null,null,"Raimond Langhorst",null,"deelnemer 2",null,"deelnemer 3",null,"deelnemer 4",null,"deelnemer 5",null,"deelnemer 6",null,"deelnemer 7",null,"deelnemer 8",null,"deelnemer 9",null,null,null,{"$f":"C4","v":"Mexico"},null,"Pnt"]
[null,null,null,"pnt",null,"pnt",null,"pnt",null,"pnt",null,"pnt",null,"pnt",null,"pnt",null,"pnt",null,"pnt",null,null,{"$f":"Hoofdmenu!I26","v":"2019-10-27"}]
[null,1,null,{"$f":"IF(AND($W$8=C8,$W$8<>\"E9<>\"),$Y8,0)","v":0},null,{"$f":"IF(AND($W$8=E8,$W$8<>\"g9<>\"),$Y8,0)","v":0},null,{"$f":"IF(AND($W$8=G8,$W$8<>\"g9<>\"),$Y8,0)","v":0},null,{"$f":"IF(AND($W$8=I8,$W$8<>\"k9<>\"),$Y8,0)","v":0},null,{"$f":"IF(AND($W$8=K8,$W$8<>\"m9<>\"),$Y8,0)","v":0},null,{"$f":"IF(AND($W$8=M8,$W$8<>\"o9<>\"),$Y8,0)","v":0},null,{"$f":"IF(AND($W$8=O8,$W$8<>\"o9<>\"),$Y8,0)","v":0},null,{"$f":"IF(AND($W$8=Q8,$W$8<>\"o9<>\"),$Y8,0)","v":0},null,{"$f":"IF(AND($W$8=S8,$W$8<>\"o9<>\"),$Y8,0)","v":0},null,1,"------------",null,10,null,25]
[null,2,null,{"$f":"IF(AND($W$9=C9,$W$8<>\"E9<>\"),$Y9,0)","v":0},null,{"$f":"IF(AND($W$9=E9,$W$8<>\"g9<>\"),$Y9,0)","v":0},null,{"$f":"IF(AND($W$9=G9,$W$8<>\"g9<>\"),$Y9,0)","v":0},null,{"$f":"IF(AND($W$9=I9,$W$8<>\"k9<>\"),$Y9,0)","v":0},null,{"$f":"IF(AND($W$9=K9,$W$8<>\"m9<>\"),$Y9,0)","v":0},null,{"$f":"IF(AND($W$9=M9,$W$8<>\"o9<>\"),$Y9,0)","v":0},null,{"$f":"IF(AND($W$9=O9,$W$8<>\"o9<>\"),$Y9,0)","v":0},null,{"$f":"IF(AND($W$9=Q9,$W$8<>\"o9<>\"),$Y9,0)","v":0},null,{"$f":"IF(AND($W$9=S9,$W$8<>\"o9<>\"),$Y9,0)","v":0},null,2,"------------",null,10,null,18]
[null,3,null,{"$f":"IF(AND($W$10=C10,$W$8<>\"E9<>\"),$Y10,0)","v":0},null,{"$f":"IF(AND($W$10=E10,$W$8<>\"g9<>\"),$Y10,0)","v":0},null,{"$f":"IF(AND($W$10=G10,$W$8<>\"g9<>\"),$Y10,0)","v":0},null,{"$f":"IF(AND($W$10=I10,$W$8<>\"k9<>\"),$Y10,0)","v":0},null,{"$f":"IF(AND($W$10=K10,$W$8<>\"m9<>\"),$Y10,0)","v":0},null,{"$f":"IF(AND($W$10=M10,$W$8<>\"o9<>\"),$Y10,0)","v":0},null,{"$f":"IF(AND($W$10=O10,$W$8<>\"o9<>\"),$Y10,0)","v":0},null,{"$f":"IF(AND($W$10=Q10,$W$8<>\"o9<>\"),$Y10,0)","v":0},null,{"$f":"IF(AND($W$10=S10,$W$8<>\"o9<>\"),$Y10,0)","v":0},null,3,"------------",null,10,null,15]
[null,4,null,{"$f":"IF(AND($W$11=C11,$W$8<>\"E9<>\"),$Y11,0)","v":0},null,{"$f":"IF(AND($W$11=E11,$W$8<>\"g9<>\"),$Y11,0)","v":0},null,{"$f":"IF(AND($W$11=G11,$W$8<>\"g9<>\"),$Y11,0)","v":0},null,{"$f":"IF(AND($W$11=I11,$W$8<>\"k9<>\"),$Y11,0)","v":0},null,{"$f":"IF(AND($W$11=K11,$W$8<>\"m9<>\"),$Y11,0)","v":0},null,{"$f":"IF(AND($W$11=M11,$W$8<>\"o9<>\"),$Y11,0)","v":0},null,{"$f":"IF(AND($W$11=O11,$W$8<>\"o9<>\"),$Y11,0)","v":0},null,{"$f":"IF(AND($W$11=Q11,$W$8<>\"o9<>\"),$Y11,0)","v":0},null,{"$f":"IF(AND($W$11=S11,$W$8<>\"o9<>\"),$Y11,0)","v":0},null,4,"------------",null,10,null,12]
[null,5,null,{"$f":"IF(AND($W$12=C12,$W$8<>\"E9<>\"),$Y12,0)","v":0},null,{"$f":"IF(AND($W$12=E12,$W$8<>\"g9<>\"),$Y12,0)","v":0},null,{"$f":"IF(AND($W$12=G12,$W$8<>\"g9<>\"),$Y12,0)","v":0},null,{"$f":"IF(AND($W$12=I12,$W$8<>\"k9<>\"),$Y12,0)","v":0},null,{"$f":"IF(AND($W$12=K12,$W$8<>\"m9<>\"),$Y12,0)","v":0},null,{"$f":"IF(AND($W$12=M12,$W$8<>\"o9<>\"),$Y12,0)","v":0},null,{"$f":"IF(AND($W$12=O12,$W$8<>\"o9<>\"),$Y12,0)","v":0},null,{"$f":"IF(AND($W$12=Q12,$W$8<>\"o9<>\"),$Y12,0)","v":0},null,{"$f":"IF(AND($W$12=S12,$W$8<>\"o9<>\"),$Y12,0)","v":0},null,5,"------------",null,10,null,10]
[null,6,null,{"$f":"IF(AND($W$13=C13,$W$8<>\"E9<>\"),$Y13,0)","v":0},null,{"$f":"IF(AND($W$13=E13,$W$8<>\"g9<>\"),$Y13,0)","v":0},null,{"$f":"IF(AND($W$13=G13,$W$8<>\"g9<>\"),$Y13,0)","v":0},null,{"$f":"IF(AND($W$13=I13,$W$8<>\"k9<>\"),$Y13,0)","v":0},null,{"$f":"IF(AND($W$13=K13,$W$8<>\"m9<>\"),$Y13,0)","v":0},null,{"$f":"IF(AND($W$13=M13,$W$8<>\"o9<>\"),$Y13,0)","v":0},null,{"$f":"IF(AND($W$13=O13,$W$8<>\"o9<>\"),$Y13,0)","v":0},null,{"$f":"IF(AND($W$13=Q13,$W$8<>\"o9<>\"),$Y13,0)","v":0},null,{"$f":"IF(AND($W$13=S13,$W$8<>\"o9<>\"),$Y13,0)","v":0},null,6,"------------",null,10,null,8]
[null,7,null,{"$f":"IF(AND($W$14=C14,$W$8<>\"E9<>\"),$Y14,0)","v":0},null,{"$f":"IF(AND($W$14=E14,$W$8<>\"g9<>\"),$Y14,0)","v":0},null,{"$f":"IF(AND($W$14=G14,$W$8<>\"g9<>\"),$Y14,0)","v":0},null,{"$f":"IF(AND($W$14=I14,$W$8<>\"k9<>\"),$Y14,0)","v":0},null,{"$f":"IF(AND($W$14=K14,$W$8<>\"m9<>\"),$Y14,0)","v":0},null,{"$f":"IF(AND($W$14=M14,$W$8<>\"o9<>\"),$Y14,0)","v":0},null,{"$f":"IF(AND($W$14=O14,$W$8<>\"o9<>\"),$Y14,0)","v":0},null,{"$f":"IF(AND($W$14=Q14,$W$8<>\"o9<>\"),$Y14,0)","v":0},null,{"$f":"IF(AND($W$14=S14,$W$8<>\"o9<>\"),$Y14,0)","v":0},null,7,"------------",null,10,null,6]
[null,8,null,{"$f":"IF(AND($W$15=C15,$W$8<>\"E9<>\"),$Y15,0)","v":0},null,{"$f":"IF(AND($W$15=E15,$W$8<>\"g9<>\"),$Y15,0)","v":0},null,{"$f":"IF(AND($W$15=G15,$W$8<>\"g9<>\"),$Y15,0)","v":0},null,{"$f":"IF(AND($W$15=I15,$W$8<>\"k9<>\"),$Y15,0)","v":0},null,{"$f":"IF(AND($W$15=K15,$W$8<>\"m9<>\"),$Y15,0)","v":0},null,{"$f":"IF(AND($W$15=M15,$W$8<>\"o9<>\"),$Y15,0)","v":0},null,{"$f":"IF(AND($W$15=O15,$W$8<>\"o9<>\"),$Y15,0)","v":0},null,{"$f":"IF(AND($W$15=Q15,$W$8<>\"o9<>\"),$Y15,0)","v":0},null,{"$f":"IF(AND($W$15=S15,$W$8<>\"o9<>\"),$Y15,0)","v":0},null,8,"------------",null,10,null,4]
[null,9,null,{"$f":"IF(AND($W$16=C16,$W$8<>\"E9<>\"),$Y16,0)","v":0},null,{"$f":"IF(AND($W$16=E16,$W$8<>\"g9<>\"),$Y16,0)","v":0},null,{"$f":"IF(AND($W$16=G16,$W$8<>\"g9<>\"),$Y16,0)","v":0},null,{"$f":"IF(AND($W$16=I16,$W$8<>\"k9<>\"),$Y16,0)","v":0},null,{"$f":"IF(AND($W$16=K16,$W$8<>\"m9<>\"),$Y16,0)","v":0},null,{"$f":"IF(AND($W$16=M16,$W$8<>\"o9<>\"),$Y16,0)","v":0},null,{"$f":"IF(AND($W$16=O16,$W$8<>\"o9<>\"),$Y16,0)","v":0},null,{"$f":"IF(AND($W$16=Q16,$W$8<>\"o9<>\"),$Y16,0)","v":0},null,{"$f":"IF(AND($W$16=S16,$W$8<>\"o9<>\"),$Y16,0)","v":0},null,9,"------------",null,10,null,2]
[null,10,null,{"$f":"IF(AND($W$17=C17,$W$8<>\"E9<>\"),$Y17,0)","v":0},null,{"$f":"IF(AND($W$17=E17,$W$8<>\"g9<>\"),$Y17,0)","v":0},null,{"$f":"IF(AND($W$17=G17,$W$8<>\"g9<>\"),$Y17,0)","v":0},null,{"$f":"IF(AND($W$17=I17,$W$8<>\"k9<>\"),$Y17,0)","v":0},null,{"$f":"IF(AND($W$17=K17,$W$8<>\"m9<>\"),$Y17,0)","v":0},null,{"$f":"IF(AND($W$17=M17,$W$8<>\"o9<>\"),$Y17,0)","v":0},null,{"$f":"IF(AND($W$17=O17,$W$8<>\"o9<>\"),$Y17,0)","v":0},null,{"$f":"IF(AND($W$17=Q17,$W$8<>\"o9<>\"),$Y17,0)","v":0},null,{"$f":"IF(AND($W$17=S17,$W$8<>\"o9<>\"),$Y17,0)","v":0},null,10,"------------",null,10,null,1]
[]
[null,"Pole",null,{"$f":"IF(AND($W$19=C19,$W$8<>\"g9<>\"),$Y19,0)","v":0},null,null,null,null,null,null,null,null,null,null,null,null,null,null,null,{"$f":"IF(AND($W$19=S19,$W$8<>\"o9<>\"),$Y19,0)","v":0},null,"Pole","------------",null,5]
[]
[null,null,"Totaal punten",{"$f":"SUM(D8:D17)+D19","v":0},null,{"$f":"SUM(F8:F17)+F19","v":0},null,{"$f":"SUM(H8:H17)+H19","v":0},null,{"$f":"SUM(J8:J17)+J19","v":0},null,{"$f":"SUM(L8:L17)+L19","v":0},null,{"$f":"SUM(N8:N17)+N19","v":0},null,{"$f":"SUM(P8:P17)+P19","v":0},null,{"$f":"SUM(R8:R17)+R19","v":0},null,{"$f":"SUM(T8:T17)+T19","v":0},null,null,"Punten"]
[]
[null,null,null,null,null,null,null,null,null,null,null,null,null,null,null,null,null,null,null,null,null,"Snel","------------",null,null,null,1]

{"sheet":"19","index":21,"n_rows":23,"n_cols":27,"rows_kept":23,"cut":false,"hidden":false,"merged":[]}
[]
[]
[null,null,"GrandPrix"]
[null,null,"Usa",null,null,null,null,null,null,null,null,null,null,null,null,null,null,null,null,null,null,null,"UITSLAG"]
[]
[null,null,"Raimond Langhorst",null,"deelnemer 2",null,"deelnemer 3",null,"deelnemer 4",null,"deelnemer 5",null,"deelnemer 6",null,"deelnemer 7",null,"deelnemer 8",null,"deelnemer 9",null,null,null,{"$f":"C4","v":"Usa"},null,"Pnt"]
[null,null,null,"pnt",null,"pnt",null,"pnt",null,"pnt",null,"pnt",null,"pnt",null,"pnt",null,"pnt",null,"pnt",null,null,{"$f":"Hoofdmenu!I27","v":"2019-11-03"}]
[null,1,null,{"$f":"IF(AND($W$8=C8,$W$8<>\"E9<>\"),$Y8,0)","v":0},null,{"$f":"IF(AND($W$8=E8,$W$8<>\"g9<>\"),$Y8,0)","v":0},null,{"$f":"IF(AND($W$8=G8,$W$8<>\"g9<>\"),$Y8,0)","v":0},null,{"$f":"IF(AND($W$8=I8,$W$8<>\"k9<>\"),$Y8,0)","v":0},null,{"$f":"IF(AND($W$8=K8,$W$8<>\"m9<>\"),$Y8,0)","v":0},null,{"$f":"IF(AND($W$8=M8,$W$8<>\"o9<>\"),$Y8,0)","v":0},null,{"$f":"IF(AND($W$8=O8,$W$8<>\"o9<>\"),$Y8,0)","v":0},null,{"$f":"IF(AND($W$8=Q8,$W$8<>\"o9<>\"),$Y8,0)","v":0},null,{"$f":"IF(AND($W$8=S8,$W$8<>\"o9<>\"),$Y8,0)","v":0},null,1,"------------",null,10,null,25]
[null,2,null,{"$f":"IF(AND($W$9=C9,$W$8<>\"E9<>\"),$Y9,0)","v":0},null,{"$f":"IF(AND($W$9=E9,$W$8<>\"g9<>\"),$Y9,0)","v":0},null,{"$f":"IF(AND($W$9=G9,$W$8<>\"g9<>\"),$Y9,0)","v":0},null,{"$f":"IF(AND($W$9=I9,$W$8<>\"k9<>\"),$Y9,0)","v":0},null,{"$f":"IF(AND($W$9=K9,$W$8<>\"m9<>\"),$Y9,0)","v":0},null,{"$f":"IF(AND($W$9=M9,$W$8<>\"o9<>\"),$Y9,0)","v":0},null,{"$f":"IF(AND($W$9=O9,$W$8<>\"o9<>\"),$Y9,0)","v":0},null,{"$f":"IF(AND($W$9=Q9,$W$8<>\"o9<>\"),$Y9,0)","v":0},null,{"$f":"IF(AND($W$9=S9,$W$8<>\"o9<>\"),$Y9,0)","v":0},null,2,"------------",null,10,null,18]
[null,3,null,{"$f":"IF(AND($W$10=C10,$W$8<>\"E9<>\"),$Y10,0)","v":0},null,{"$f":"IF(AND($W$10=E10,$W$8<>\"g9<>\"),$Y10,0)","v":0},null,{"$f":"IF(AND($W$10=G10,$W$8<>\"g9<>\"),$Y10,0)","v":0},null,{"$f":"IF(AND($W$10=I10,$W$8<>\"k9<>\"),$Y10,0)","v":0},null,{"$f":"IF(AND($W$10=K10,$W$8<>\"m9<>\"),$Y10,0)","v":0},null,{"$f":"IF(AND($W$10=M10,$W$8<>\"o9<>\"),$Y10,0)","v":0},null,{"$f":"IF(AND($W$10=O10,$W$8<>\"o9<>\"),$Y10,0)","v":0},null,{"$f":"IF(AND($W$10=Q10,$W$8<>\"o9<>\"),$Y10,0)","v":0},null,{"$f":"IF(AND($W$10=S10,$W$8<>\"o9<>\"),$Y10,0)","v":0},null,3,"------------",null,10,null,15]
[null,4,null,{"$f":"IF(AND($W$11=C11,$W$8<>\"E9<>\"),$Y11,0)","v":0},null,{"$f":"IF(AND($W$11=E11,$W$8<>\"g9<>\"),$Y11,0)","v":0},null,{"$f":"IF(AND($W$11=G11,$W$8<>\"g9<>\"),$Y11,0)","v":0},null,{"$f":"IF(AND($W$11=I11,$W$8<>\"k9<>\"),$Y11,0)","v":0},null,{"$f":"IF(AND($W$11=K11,$W$8<>\"m9<>\"),$Y11,0)","v":0},null,{"$f":"IF(AND($W$11=M11,$W$8<>\"o9<>\"),$Y11,0)","v":0},null,{"$f":"IF(AND($W$11=O11,$W$8<>\"o9<>\"),$Y11,0)","v":0},null,{"$f":"IF(AND($W$11=Q11,$W$8<>\"o9<>\"),$Y11,0)","v":0},null,{"$f":"IF(AND($W$11=S11,$W$8<>\"o9<>\"),$Y11,0)","v":0},null,4,"------------",null,10,null,12]
[null,5,null,{"$f":"IF(AND($W$12=C12,$W$8<>\"E9<>\"),$Y12,0)","v":0},null,{"$f":"IF(AND($W$12=E12,$W$8<>\"g9<>\"),$Y12,0)","v":0},null,{"$f":"IF(AND($W$12=G12,$W$8<>\"g9<>\"),$Y12,0)","v":0},null,{"$f":"IF(AND($W$12=I12,$W$8<>\"k9<>\"),$Y12,0)","v":0},null,{"$f":"IF(AND($W$12=K12,$W$8<>\"m9<>\"),$Y12,0)","v":0},null,{"$f":"IF(AND($W$12=M12,$W$8<>\"o9<>\"),$Y12,0)","v":0},null,{"$f":"IF(AND($W$12=O12,$W$8<>\"o9<>\"),$Y12,0)","v":0},null,{"$f":"IF(AND($W$12=Q12,$W$8<>\"o9<>\"),$Y12,0)","v":0},null,{"$f":"IF(AND($W$12=S12,$W$8<>\"o9<>\"),$Y12,0)","v":0},null,5,"------------",null,10,null,10]
[null,6,null,{"$f":"IF(AND($W$13=C13,$W$8<>\"E9<>\"),$Y13,0)","v":0},null,{"$f":"IF(AND($W$13=E13,$W$8<>\"g9<>\"),$Y13,0)","v":0},null,{"$f":"IF(AND($W$13=G13,$W$8<>\"g9<>\"),$Y13,0)","v":0},null,{"$f":"IF(AND($W$13=I13,$W$8<>\"k9<>\"),$Y13,0)","v":0},null,{"$f":"IF(AND($W$13=K13,$W$8<>\"m9<>\"),$Y13,0)","v":0},null,{"$f":"IF(AND($W$13=M13,$W$8<>\"o9<>\"),$Y13,0)","v":0},null,{"$f":"IF(AND($W$13=O13,$W$8<>\"o9<>\"),$Y13,0)","v":0},null,{"$f":"IF(AND($W$13=Q13,$W$8<>\"o9<>\"),$Y13,0)","v":0},null,{"$f":"IF(AND($W$13=S13,$W$8<>\"o9<>\"),$Y13,0)","v":0},null,6,"------------",null,10,null,8]
[null,7,null,{"$f":"IF(AND($W$14=C14,$W$8<>\"E9<>\"),$Y14,0)","v":0},null,{"$f":"IF(AND($W$14=E14,$W$8<>\"g9<>\"),$Y14,0)","v":0},null,{"$f":"IF(AND($W$14=G14,$W$8<>\"g9<>\"),$Y14,0)","v":0},null,{"$f":"IF(AND($W$14=I14,$W$8<>\"k9<>\"),$Y14,0)","v":0},null,{"$f":"IF(AND($W$14=K14,$W$8<>\"m9<>\"),$Y14,0)","v":0},null,{"$f":"IF(AND($W$14=M14,$W$8<>\"o9<>\"),$Y14,0)","v":0},null,{"$f":"IF(AND($W$14=O14,$W$8<>\"o9<>\"),$Y14,0)","v":0},null,{"$f":"IF(AND($W$14=Q14,$W$8<>\"o9<>\"),$Y14,0)","v":0},null,{"$f":"IF(AND($W$14=S14,$W$8<>\"o9<>\"),$Y14,0)","v":0},null,7,"------------",null,10,null,6]
[null,8,null,{"$f":"IF(AND($W$15=C15,$W$8<>\"E9<>\"),$Y15,0)","v":0},null,{"$f":"IF(AND($W$15=E15,$W$8<>\"g9<>\"),$Y15,0)","v":0},null,{"$f":"IF(AND($W$15=G15,$W$8<>\"g9<>\"),$Y15,0)","v":0},null,{"$f":"IF(AND($W$15=I15,$W$8<>\"k9<>\"),$Y15,0)","v":0},null,{"$f":"IF(AND($W$15=K15,$W$8<>\"m9<>\"),$Y15,0)","v":0},null,{"$f":"IF(AND($W$15=M15,$W$8<>\"o9<>\"),$Y15,0)","v":0},null,{"$f":"IF(AND($W$15=O15,$W$8<>\"o9<>\"),$Y15,0)","v":0},null,{"$f":"IF(AND($W$15=Q15,$W$8<>\"o9<>\"),$Y15,0)","v":0},null,{"$f":"IF(AND($W$15=S15,$W$8<>\"o9<>\"),$Y15,0)","v":0},null,8,"------------",null,10,null,4]
[null,9,null,{"$f":"IF(AND($W$16=C16,$W$8<>\"E9<>\"),$Y16,0)","v":0},null,{"$f":"IF(AND($W$16=E16,$W$8<>\"g9<>\"),$Y16,0)","v":0},null,{"$f":"IF(AND($W$16=G16,$W$8<>\"g9<>\"),$Y16,0)","v":0},null,{"$f":"IF(AND($W$16=I16,$W$8<>\"k9<>\"),$Y16,0)","v":0},null,{"$f":"IF(AND($W$16=K16,$W$8<>\"m9<>\"),$Y16,0)","v":0},null,{"$f":"IF(AND($W$16=M16,$W$8<>\"o9<>\"),$Y16,0)","v":0},null,{"$f":"IF(AND($W$16=O16,$W$8<>\"o9<>\"),$Y16,0)","v":0},null,{"$f":"IF(AND($W$16=Q16,$W$8<>\"o9<>\"),$Y16,0)","v":0},null,{"$f":"IF(AND($W$16=S16,$W$8<>\"o9<>\"),$Y16,0)","v":0},null,9,"------------",null,10,null,2]
[null,10,null,{"$f":"IF(AND($W$17=C17,$W$8<>\"E9<>\"),$Y17,0)","v":0},null,{"$f":"IF(AND($W$17=E17,$W$8<>\"g9<>\"),$Y17,0)","v":0},null,{"$f":"IF(AND($W$17=G17,$W$8<>\"g9<>\"),$Y17,0)","v":0},null,{"$f":"IF(AND($W$17=I17,$W$8<>\"k9<>\"),$Y17,0)","v":0},null,{"$f":"IF(AND($W$17=K17,$W$8<>\"m9<>\"),$Y17,0)","v":0},null,{"$f":"IF(AND($W$17=M17,$W$8<>\"o9<>\"),$Y17,0)","v":0},null,{"$f":"IF(AND($W$17=O17,$W$8<>\"o9<>\"),$Y17,0)","v":0},null,{"$f":"IF(AND($W$17=Q17,$W$8<>\"o9<>\"),$Y17,0)","v":0},null,{"$f":"IF(AND($W$17=S17,$W$8<>\"o9<>\"),$Y17,0)","v":0},null,10,"------------",null,10,null,1]
[]
[null,"Pole",null,{"$f":"IF(AND($W$19=C19,$W$8<>\"g9<>\"),$Y19,0)","v":0},null,null,null,null,null,null,null,null,null,null,null,null,null,null,null,{"$f":"IF(AND($W$19=S19,$W$8<>\"o9<>\"),$Y19,0)","v":0},null,"Pole","------------",null,5]
[]
[null,null,"Totaal punten",{"$f":"SUM(D8:D17)+D19","v":0},null,{"$f":"SUM(F8:F17)+F19","v":0},null,{"$f":"SUM(H8:H17)+H19","v":0},null,{"$f":"SUM(J8:J17)+J19","v":0},null,{"$f":"SUM(L8:L17)+L19","v":0},null,{"$f":"SUM(N8:N17)+N19","v":0},null,{"$f":"SUM(P8:P17)+P19","v":0},null,{"$f":"SUM(R8:R17)+R19","v":0},null,{"$f":"SUM(T8:T17)+T19","v":0},null,null,"Punten"]
[]
[null,null,null,null,null,null,null,null,null,null,null,null,null,null,null,null,null,null,null,null,null,"Snel","------------",null,null,null,1]

{"sheet":"20","index":22,"n_rows":23,"n_cols":27,"rows_kept":23,"cut":false,"hidden":false,"merged":[]}
[]
[]
[null,null,"GrandPrix"]
[null,null,"Brazilie",null,null,null,null,null,null,null,null,null,null,null,null,null,null,null,null,null,null,null,"UITSLAG"]
[]
[null,null,"Raimond Langhorst",null,"deelnemer 2",null,"deelnemer 3",null,"deelnemer 4",null,"deelnemer 5",null,"deelnemer 6",null,"deelnemer 7",null,"deelnemer 8",null,"deelnemer 9",null,null,null,{"$f":"C4","v":"Brazilie"},null,"Pnt"]
[null,null,null,"pnt",null,"pnt",null,"pnt",null,"pnt",null,"pnt",null,"pnt",null,"pnt",null,"pnt",null,"pnt",null,null,{"$f":"Hoofdmenu!I28","v":"2019-11-17"}]
[null,1,null,{"$f":"IF(AND($W$8=C8,$W$8<>\"E9<>\"),$Y8,0)","v":0},null,{"$f":"IF(AND($W$8=E8,$W$8<>\"g9<>\"),$Y8,0)","v":0},null,{"$f":"IF(AND($W$8=G8,$W$8<>\"g9<>\"),$Y8,0)","v":0},null,{"$f":"IF(AND($W$8=I8,$W$8<>\"k9<>\"),$Y8,0)","v":0},null,{"$f":"IF(AND($W$8=K8,$W$8<>\"m9<>\"),$Y8,0)","v":0},null,{"$f":"IF(AND($W$8=M8,$W$8<>\"o9<>\"),$Y8,0)","v":0},null,{"$f":"IF(AND($W$8=O8,$W$8<>\"o9<>\"),$Y8,0)","v":0},null,{"$f":"IF(AND($W$8=Q8,$W$8<>\"o9<>\"),$Y8,0)","v":0},null,{"$f":"IF(AND($W$8=S8,$W$8<>\"o9<>\"),$Y8,0)","v":0},null,1,"------------",null,10,null,25]
[null,2,null,{"$f":"IF(AND($W$9=C9,$W$8<>\"E9<>\"),$Y9,0)","v":0},null,{"$f":"IF(AND($W$9=E9,$W$8<>\"g9<>\"),$Y9,0)","v":0},null,{"$f":"IF(AND($W$9=G9,$W$8<>\"g9<>\"),$Y9,0)","v":0},null,{"$f":"IF(AND($W$9=I9,$W$8<>\"k9<>\"),$Y9,0)","v":0},null,{"$f":"IF(AND($W$9=K9,$W$8<>\"m9<>\"),$Y9,0)","v":0},null,{"$f":"IF(AND($W$9=M9,$W$8<>\"o9<>\"),$Y9,0)","v":0},null,{"$f":"IF(AND($W$9=O9,$W$8<>\"o9<>\"),$Y9,0)","v":0},null,{"$f":"IF(AND($W$9=Q9,$W$8<>\"o9<>\"),$Y9,0)","v":0},null,{"$f":"IF(AND($W$9=S9,$W$8<>\"o9<>\"),$Y9,0)","v":0},null,2,"------------",null,10,null,18]
[null,3,null,{"$f":"IF(AND($W$10=C10,$W$8<>\"E9<>\"),$Y10,0)","v":0},null,{"$f":"IF(AND($W$10=E10,$W$8<>\"g9<>\"),$Y10,0)","v":0},null,{"$f":"IF(AND($W$10=G10,$W$8<>\"g9<>\"),$Y10,0)","v":0},null,{"$f":"IF(AND($W$10=I10,$W$8<>\"k9<>\"),$Y10,0)","v":0},null,{"$f":"IF(AND($W$10=K10,$W$8<>\"m9<>\"),$Y10,0)","v":0},null,{"$f":"IF(AND($W$10=M10,$W$8<>\"o9<>\"),$Y10,0)","v":0},null,{"$f":"IF(AND($W$10=O10,$W$8<>\"o9<>\"),$Y10,0)","v":0},null,{"$f":"IF(AND($W$10=Q10,$W$8<>\"o9<>\"),$Y10,0)","v":0},null,{"$f":"IF(AND($W$10=S10,$W$8<>\"o9<>\"),$Y10,0)","v":0},null,3,"------------",null,10,null,15]
[null,4,null,{"$f":"IF(AND($W$11=C11,$W$8<>\"E9<>\"),$Y11,0)","v":0},null,{"$f":"IF(AND($W$11=E11,$W$8<>\"g9<>\"),$Y11,0)","v":0},null,{"$f":"IF(AND($W$11=G11,$W$8<>\"g9<>\"),$Y11,0)","v":0},null,{"$f":"IF(AND($W$11=I11,$W$8<>\"k9<>\"),$Y11,0)","v":0},null,{"$f":"IF(AND($W$11=K11,$W$8<>\"m9<>\"),$Y11,0)","v":0},null,{"$f":"IF(AND($W$11=M11,$W$8<>\"o9<>\"),$Y11,0)","v":0},null,{"$f":"IF(AND($W$11=O11,$W$8<>\"o9<>\"),$Y11,0)","v":0},null,{"$f":"IF(AND($W$11=Q11,$W$8<>\"o9<>\"),$Y11,0)","v":0},null,{"$f":"IF(AND($W$11=S11,$W$8<>\"o9<>\"),$Y11,0)","v":0},null,4,"------------",null,10,null,12]
[null,5,null,{"$f":"IF(AND($W$12=C12,$W$8<>\"E9<>\"),$Y12,0)","v":0},null,{"$f":"IF(AND($W$12=E12,$W$8<>\"g9<>\"),$Y12,0)","v":0},null,{"$f":"IF(AND($W$12=G12,$W$8<>\"g9<>\"),$Y12,0)","v":0},null,{"$f":"IF(AND($W$12=I12,$W$8<>\"k9<>\"),$Y12,0)","v":0},null,{"$f":"IF(AND($W$12=K12,$W$8<>\"m9<>\"),$Y12,0)","v":0},null,{"$f":"IF(AND($W$12=M12,$W$8<>\"o9<>\"),$Y12,0)","v":0},null,{"$f":"IF(AND($W$12=O12,$W$8<>\"o9<>\"),$Y12,0)","v":0},null,{"$f":"IF(AND($W$12=Q12,$W$8<>\"o9<>\"),$Y12,0)","v":0},null,{"$f":"IF(AND($W$12=S12,$W$8<>\"o9<>\"),$Y12,0)","v":0},null,5,"------------",null,10,null,10]
[null,6,null,{"$f":"IF(AND($W$13=C13,$W$8<>\"E9<>\"),$Y13,0)","v":0},null,{"$f":"IF(AND($W$13=E13,$W$8<>\"g9<>\"),$Y13,0)","v":0},null,{"$f":"IF(AND($W$13=G13,$W$8<>\"g9<>\"),$Y13,0)","v":0},null,{"$f":"IF(AND($W$13=I13,$W$8<>\"k9<>\"),$Y13,0)","v":0},null,{"$f":"IF(AND($W$13=K13,$W$8<>\"m9<>\"),$Y13,0)","v":0},null,{"$f":"IF(AND($W$13=M13,$W$8<>\"o9<>\"),$Y13,0)","v":0},null,{"$f":"IF(AND($W$13=O13,$W$8<>\"o9<>\"),$Y13,0)","v":0},null,{"$f":"IF(AND($W$13=Q13,$W$8<>\"o9<>\"),$Y13,0)","v":0},null,{"$f":"IF(AND($W$13=S13,$W$8<>\"o9<>\"),$Y13,0)","v":0},null,6,"------------",null,10,null,8]
[null,7,null,{"$f":"IF(AND($W$14=C14,$W$8<>\"E9<>\"),$Y14,0)","v":0},null,{"$f":"IF(AND($W$14=E14,$W$8<>\"g9<>\"),$Y14,0)","v":0},null,{"$f":"IF(AND($W$14=G14,$W$8<>\"g9<>\"),$Y14,0)","v":0},null,{"$f":"IF(AND($W$14=I14,$W$8<>\"k9<>\"),$Y14,0)","v":0},null,{"$f":"IF(AND($W$14=K14,$W$8<>\"m9<>\"),$Y14,0)","v":0},null,{"$f":"IF(AND($W$14=M14,$W$8<>\"o9<>\"),$Y14,0)","v":0},null,{"$f":"IF(AND($W$14=O14,$W$8<>\"o9<>\"),$Y14,0)","v":0},null,{"$f":"IF(AND($W$14=Q14,$W$8<>\"o9<>\"),$Y14,0)","v":0},null,{"$f":"IF(AND($W$14=S14,$W$8<>\"o9<>\"),$Y14,0)","v":0},null,7,"------------",null,10,null,6]
[null,8,null,{"$f":"IF(AND($W$15=C15,$W$8<>\"E9<>\"),$Y15,0)","v":0},null,{"$f":"IF(AND($W$15=E15,$W$8<>\"g9<>\"),$Y15,0)","v":0},null,{"$f":"IF(AND($W$15=G15,$W$8<>\"g9<>\"),$Y15,0)","v":0},null,{"$f":"IF(AND($W$15=I15,$W$8<>\"k9<>\"),$Y15,0)","v":0},null,{"$f":"IF(AND($W$15=K15,$W$8<>\"m9<>\"),$Y15,0)","v":0},null,{"$f":"IF(AND($W$15=M15,$W$8<>\"o9<>\"),$Y15,0)","v":0},null,{"$f":"IF(AND($W$15=O15,$W$8<>\"o9<>\"),$Y15,0)","v":0},null,{"$f":"IF(AND($W$15=Q15,$W$8<>\"o9<>\"),$Y15,0)","v":0},null,{"$f":"IF(AND($W$15=S15,$W$8<>\"o9<>\"),$Y15,0)","v":0},null,8,"------------",null,10,null,4]
[null,9,null,{"$f":"IF(AND($W$16=C16,$W$8<>\"E9<>\"),$Y16,0)","v":0},null,{"$f":"IF(AND($W$16=E16,$W$8<>\"g9<>\"),$Y16,0)","v":0},null,{"$f":"IF(AND($W$16=G16,$W$8<>\"g9<>\"),$Y16,0)","v":0},null,{"$f":"IF(AND($W$16=I16,$W$8<>\"k9<>\"),$Y16,0)","v":0},null,{"$f":"IF(AND($W$16=K16,$W$8<>\"m9<>\"),$Y16,0)","v":0},null,{"$f":"IF(AND($W$16=M16,$W$8<>\"o9<>\"),$Y16,0)","v":0},null,{"$f":"IF(AND($W$16=O16,$W$8<>\"o9<>\"),$Y16,0)","v":0},null,{"$f":"IF(AND($W$16=Q16,$W$8<>\"o9<>\"),$Y16,0)","v":0},null,{"$f":"IF(AND($W$16=S16,$W$8<>\"o9<>\"),$Y16,0)","v":0},null,9,"------------",null,10,null,2]
[null,10,null,{"$f":"IF(AND($W$17=C17,$W$8<>\"E9<>\"),$Y17,0)","v":0},null,{"$f":"IF(AND($W$17=E17,$W$8<>\"g9<>\"),$Y17,0)","v":0},null,{"$f":"IF(AND($W$17=G17,$W$8<>\"g9<>\"),$Y17,0)","v":0},null,{"$f":"IF(AND($W$17=I17,$W$8<>\"k9<>\"),$Y17,0)","v":0},null,{"$f":"IF(AND($W$17=K17,$W$8<>\"m9<>\"),$Y17,0)","v":0},null,{"$f":"IF(AND($W$17=M17,$W$8<>\"o9<>\"),$Y17,0)","v":0},null,{"$f":"IF(AND($W$17=O17,$W$8<>\"o9<>\"),$Y17,0)","v":0},null,{"$f":"IF(AND($W$17=Q17,$W$8<>\"o9<>\"),$Y17,0)","v":0},null,{"$f":"IF(AND($W$17=S17,$W$8<>\"o9<>\"),$Y17,0)","v":0},null,10,"------------",null,10,null,1]
[]
[null,"Pole",null,{"$f":"IF(AND($W$19=C19,$W$8<>\"g9<>\"),$Y19,0)","v":0},null,null,null,null,null,null,null,null,null,null,null,null,null,null,null,{"$f":"IF(AND($W$19=S19,$W$8<>\"o9<>\"),$Y19,0)","v":0},null,"Pole","------------",null,5]
[]
[null,null,"Totaal punten",{"$f":"SUM(D8:D17)+D19","v":0},null,{"$f":"SUM(F8:F17)+F19","v":0},null,{"$f":"SUM(H8:H17)+H19","v":0},null,{"$f":"SUM(J8:J17)+J19","v":0},null,{"$f":"SUM(L8:L17)+L19","v":0},null,{"$f":"SUM(N8:N17)+N19","v":0},null,{"$f":"SUM(P8:P17)+P19","v":0},null,{"$f":"SUM(R8:R17)+R19","v":0},null,{"$f":"SUM(T8:T17)+T19","v":0},null,null,"Punten"]
[]
[null,null,null,null,null,null,null,null,null,null,null,null,null,null,null,null,null,null,null,null,null,"Snel","------------",null,null,null,1]

{"sheet":"21","index":23,"n_rows":23,"n_cols":27,"rows_kept":23,"cut":false,"hidden":false,"merged":[]}
[]
[]
[null,null,"GrandPrix"]
[null,null,"Abu Dhabi",null,null,null,null,null,null,null,null,null,null,null,null,null,null,null,null,null,null,null,"UITSLAG"]
[]
[null,null,"Raimond Langhorst",null,"deelnemer 2",null,"deelnemer 3",null,"deelnemer 4",null,"deelnemer 5",null,"deelnemer 6",null,"deelnemer 7",null,"deelnemer 8",null,"deelnemer 9",null,null,null,{"$f":"C4","v":"Abu Dhabi"},null,"Pnt"]
[null,null,null,"pnt",null,"pnt",null,"pnt",null,"pnt",null,"pnt",null,"pnt",null,"pnt",null,"pnt",null,"pnt",null,null,{"$f":"Hoofdmenu!I29","v":"2019-12-01"}]
[null,1,null,{"$f":"IF(AND($W$8=C8,$W$8<>\"E9<>\"),$Y8,0)","v":0},null,{"$f":"IF(AND($W$8=E8,$W$8<>\"g9<>\"),$Y8,0)","v":0},null,{"$f":"IF(AND($W$8=G8,$W$8<>\"g9<>\"),$Y8,0)","v":0},null,{"$f":"IF(AND($W$8=I8,$W$8<>\"k9<>\"),$Y8,0)","v":0},null,{"$f":"IF(AND($W$8=K8,$W$8<>\"m9<>\"),$Y8,0)","v":0},null,{"$f":"IF(AND($W$8=M8,$W$8<>\"o9<>\"),$Y8,0)","v":0},null,{"$f":"IF(AND($W$8=O8,$W$8<>\"o9<>\"),$Y8,0)","v":0},null,{"$f":"IF(AND($W$8=Q8,$W$8<>\"o9<>\"),$Y8,0)","v":0},null,{"$f":"IF(AND($W$8=S8,$W$8<>\"o9<>\"),$Y8,0)","v":0},null,1,"------------",null,10,null,25]
[null,2,null,{"$f":"IF(AND($W$9=C9,$W$8<>\"E9<>\"),$Y9,0)","v":0},null,{"$f":"IF(AND($W$9=E9,$W$8<>\"g9<>\"),$Y9,0)","v":0},null,{"$f":"IF(AND($W$9=G9,$W$8<>\"g9<>\"),$Y9,0)","v":0},null,{"$f":"IF(AND($W$9=I9,$W$8<>\"k9<>\"),$Y9,0)","v":0},null,{"$f":"IF(AND($W$9=K9,$W$8<>\"m9<>\"),$Y9,0)","v":0},null,{"$f":"IF(AND($W$9=M9,$W$8<>\"o9<>\"),$Y9,0)","v":0},null,{"$f":"IF(AND($W$9=O9,$W$8<>\"o9<>\"),$Y9,0)","v":0},null,{"$f":"IF(AND($W$9=Q9,$W$8<>\"o9<>\"),$Y9,0)","v":0},null,{"$f":"IF(AND($W$9=S9,$W$8<>\"o9<>\"),$Y9,0)","v":0},null,2,"------------",null,10,null,18]
[null,3,null,{"$f":"IF(AND($W$10=C10,$W$8<>\"E9<>\"),$Y10,0)","v":0},null,{"$f":"IF(AND($W$10=E10,$W$8<>\"g9<>\"),$Y10,0)","v":0},null,{"$f":"IF(AND($W$10=G10,$W$8<>\"g9<>\"),$Y10,0)","v":0},null,{"$f":"IF(AND($W$10=I10,$W$8<>\"k9<>\"),$Y10,0)","v":0},null,{"$f":"IF(AND($W$10=K10,$W$8<>\"m9<>\"),$Y10,0)","v":0},null,{"$f":"IF(AND($W$10=M10,$W$8<>\"o9<>\"),$Y10,0)","v":0},null,{"$f":"IF(AND($W$10=O10,$W$8<>\"o9<>\"),$Y10,0)","v":0},null,{"$f":"IF(AND($W$10=Q10,$W$8<>\"o9<>\"),$Y10,0)","v":0},null,{"$f":"IF(AND($W$10=S10,$W$8<>\"o9<>\"),$Y10,0)","v":0},null,3,"------------",null,10,null,15]
[null,4,null,{"$f":"IF(AND($W$11=C11,$W$8<>\"E9<>\"),$Y11,0)","v":0},null,{"$f":"IF(AND($W$11=E11,$W$8<>\"g9<>\"),$Y11,0)","v":0},null,{"$f":"IF(AND($W$11=G11,$W$8<>\"g9<>\"),$Y11,0)","v":0},null,{"$f":"IF(AND($W$11=I11,$W$8<>\"k9<>\"),$Y11,0)","v":0},null,{"$f":"IF(AND($W$11=K11,$W$8<>\"m9<>\"),$Y11,0)","v":0},null,{"$f":"IF(AND($W$11=M11,$W$8<>\"o9<>\"),$Y11,0)","v":0},null,{"$f":"IF(AND($W$11=O11,$W$8<>\"o9<>\"),$Y11,0)","v":0},null,{"$f":"IF(AND($W$11=Q11,$W$8<>\"o9<>\"),$Y11,0)","v":0},null,{"$f":"IF(AND($W$11=S11,$W$8<>\"o9<>\"),$Y11,0)","v":0},null,4,"------------",null,10,null,12]
[null,5,null,{"$f":"IF(AND($W$12=C12,$W$8<>\"E9<>\"),$Y12,0)","v":0},null,{"$f":"IF(AND($W$12=E12,$W$8<>\"g9<>\"),$Y12,0)","v":0},null,{"$f":"IF(AND($W$12=G12,$W$8<>\"g9<>\"),$Y12,0)","v":0},null,{"$f":"IF(AND($W$12=I12,$W$8<>\"k9<>\"),$Y12,0)","v":0},null,{"$f":"IF(AND($W$12=K12,$W$8<>\"m9<>\"),$Y12,0)","v":0},null,{"$f":"IF(AND($W$12=M12,$W$8<>\"o9<>\"),$Y12,0)","v":0},null,{"$f":"IF(AND($W$12=O12,$W$8<>\"o9<>\"),$Y12,0)","v":0},null,{"$f":"IF(AND($W$12=Q12,$W$8<>\"o9<>\"),$Y12,0)","v":0},null,{"$f":"IF(AND($W$12=S12,$W$8<>\"o9<>\"),$Y12,0)","v":0},null,5,"------------",null,10,null,10]
[null,6,null,{"$f":"IF(AND($W$13=C13,$W$8<>\"E9<>\"),$Y13,0)","v":0},null,{"$f":"IF(AND($W$13=E13,$W$8<>\"g9<>\"),$Y13,0)","v":0},null,{"$f":"IF(AND($W$13=G13,$W$8<>\"g9<>\"),$Y13,0)","v":0},null,{"$f":"IF(AND($W$13=I13,$W$8<>\"k9<>\"),$Y13,0)","v":0},null,{"$f":"IF(AND($W$13=K13,$W$8<>\"m9<>\"),$Y13,0)","v":0},null,{"$f":"IF(AND($W$13=M13,$W$8<>\"o9<>\"),$Y13,0)","v":0},null,{"$f":"IF(AND($W$13=O13,$W$8<>\"o9<>\"),$Y13,0)","v":0},null,{"$f":"IF(AND($W$13=Q13,$W$8<>\"o9<>\"),$Y13,0)","v":0},null,{"$f":"IF(AND($W$13=S13,$W$8<>\"o9<>\"),$Y13,0)","v":0},null,6,"------------",null,10,null,8]
[null,7,null,{"$f":"IF(AND($W$14=C14,$W$8<>\"E9<>\"),$Y14,0)","v":0},null,{"$f":"IF(AND($W$14=E14,$W$8<>\"g9<>\"),$Y14,0)","v":0},null,{"$f":"IF(AND($W$14=G14,$W$8<>\"g9<>\"),$Y14,0)","v":0},null,{"$f":"IF(AND($W$14=I14,$W$8<>\"k9<>\"),$Y14,0)","v":0},null,{"$f":"IF(AND($W$14=K14,$W$8<>\"m9<>\"),$Y14,0)","v":0},null,{"$f":"IF(AND($W$14=M14,$W$8<>\"o9<>\"),$Y14,0)","v":0},null,{"$f":"IF(AND($W$14=O14,$W$8<>\"o9<>\"),$Y14,0)","v":0},null,{"$f":"IF(AND($W$14=Q14,$W$8<>\"o9<>\"),$Y14,0)","v":0},null,{"$f":"IF(AND($W$14=S14,$W$8<>\"o9<>\"),$Y14,0)","v":0},null,7,"------------",null,10,null,6]
[null,8,null,{"$f":"IF(AND($W$15=C15,$W$8<>\"E9<>\"),$Y15,0)","v":0},null,{"$f":"IF(AND($W$15=E15,$W$8<>\"g9<>\"),$Y15,0)","v":0},null,{"$f":"IF(AND($W$15=G15,$W$8<>\"g9<>\"),$Y15,0)","v":0},null,{"$f":"IF(AND($W$15=I15,$W$8<>\"k9<>\"),$Y15,0)","v":0},null,{"$f":"IF(AND($W$15=K15,$W$8<>\"m9<>\"),$Y15,0)","v":0},null,{"$f":"IF(AND($W$15=M15,$W$8<>\"o9<>\"),$Y15,0)","v":0},null,{"$f":"IF(AND($W$15=O15,$W$8<>\"o9<>\"),$Y15,0)","v":0},null,{"$f":"IF(AND($W$15=Q15,$W$8<>\"o9<>\"),$Y15,0)","v":0},null,{"$f":"IF(AND($W$15=S15,$W$8<>\"o9<>\"),$Y15,0)","v":0},null,8,"------------",null,10,null,4]
[null,9,null,{"$f":"IF(AND($W$16=C16,$W$8<>\"E9<>\"),$Y16,0)","v":0},null,{"$f":"IF(AND($W$16=E16,$W$8<>\"g9<>\"),$Y16,0)","v":0},null,{"$f":"IF(AND($W$16=G16,$W$8<>\"g9<>\"),$Y16,0)","v":0},null,{"$f":"IF(AND($W$16=I16,$W$8<>\"k9<>\"),$Y16,0)","v":0},null,{"$f":"IF(AND($W$16=K16,$W$8<>\"m9<>\"),$Y16,0)","v":0},null,{"$f":"IF(AND($W$16=M16,$W$8<>\"o9<>\"),$Y16,0)","v":0},null,{"$f":"IF(AND($W$16=O16,$W$8<>\"o9<>\"),$Y16,0)","v":0},null,{"$f":"IF(AND($W$16=Q16,$W$8<>\"o9<>\"),$Y16,0)","v":0},null,{"$f":"IF(AND($W$16=S16,$W$8<>\"o9<>\"),$Y16,0)","v":0},null,9,"------------",null,10,null,2]
[null,10,null,{"$f":"IF(AND($W$17=C17,$W$8<>\"E9<>\"),$Y17,0)","v":0},null,{"$f":"IF(AND($W$17=E17,$W$8<>\"g9<>\"),$Y17,0)","v":0},null,{"$f":"IF(AND($W$17=G17,$W$8<>\"g9<>\"),$Y17,0)","v":0},null,{"$f":"IF(AND($W$17=I17,$W$8<>\"k9<>\"),$Y17,0)","v":0},null,{"$f":"IF(AND($W$17=K17,$W$8<>\"m9<>\"),$Y17,0)","v":0},null,{"$f":"IF(AND($W$17=M17,$W$8<>\"o9<>\"),$Y17,0)","v":0},null,{"$f":"IF(AND($W$17=O17,$W$8<>\"o9<>\"),$Y17,0)","v":0},null,{"$f":"IF(AND($W$17=Q17,$W$8<>\"o9<>\"),$Y17,0)","v":0},null,{"$f":"IF(AND($W$17=S17,$W$8<>\"o9<>\"),$Y17,0)","v":0},null,10,"------------",null,10,null,1]
[]
[null,"Pole",null,{"$f":"IF(AND($W$19=C19,$W$8<>\"g9<>\"),$Y19,0)","v":0},null,null,null,null,null,null,null,null,null,null,null,null,null,null,null,{"$f":"IF(AND($W$19=S19,$W$8<>\"o9<>\"),$Y19,0)","v":0},null,"Pole","------------",null,5]
[]
[null,null,"Totaal punten",{"$f":"SUM(D8:D17)+D19","v":0},null,{"$f":"SUM(F8:F17)+F19","v":0},null,{"$f":"SUM(H8:H17)+H19","v":0},null,{"$f":"SUM(J8:J17)+J19","v":0},null,{"$f":"SUM(L8:L17)+L19","v":0},null,{"$f":"SUM(N8:N17)+N19","v":0},null,{"$f":"SUM(P8:P17)+P19","v":0},null,{"$f":"SUM(R8:R17)+R19","v":0},null,{"$f":"SUM(T8:T17)+T19","v":0},null,null,"Punten"]
[]
[null,null,null,null,null,null,null,null,null,null,null,null,null,null,null,null,null,null,null,null,null,"Snel","------------",null,null,null,1]

{"sheet":"Uitslagen ","index":24,"n_rows":81,"n_cols":25,"rows_kept":81,"cut":false,"hidden":false,"merged":[]}
[]
[]
[]
[null,null,{"$f":"'1'!W6","v":"Australië"},{"$f":"'2'!W6","v":"Bahrein"},{"$f":"'3'!W6","v":"China"},{"$f":"'4'!W6","v":"Azerbeidzjan"},{"$f":"'5'!W6","v":" Spanje"},{"$f":"'6'!W6","v":"Monaco"},{"$f":"'7'!W6","v":"Canada"},{"$f":"'8'!W6","v":"Frankrijk"},{"$f":"'9'!W6","v":"Oostenrijk"},{"$f":"'10'!W6","v":"Groot-Brittannië"},{"$f":"'11'!W6","v":"Duitsland"},{"$f":"'12'!W6","v":"Hongarije"},{"$f":"'13'!W6","v":"Belgie"},{"$f":"'14'!W6","v":"Italie"},{"$f":"'15'!W6","v":"Singapore"},{"$f":"'16'!W6","v":"Rusland"},{"$f":"'17'!W6","v":"Japan"},{"$f":"'18'!W6","v":"Mexico"},{"$f":"'19'!W6","v":"Usa"},{"$f":"'20'!W6","v":"Brazilie"},{"$f":"'21'!W6","v":"Abu Dhabi"}]
[]
[null,1,{"$f":"'1'!$W$8","v":"Valtteri Bottas"},{"$f":"'2'!$W$8","v":"------------"},{"$f":"'3'!$W$8","v":"------------"},{"$f":"'4'!$W$8","v":"------------"},{"$f":"'5'!$W$8","v":"------------"},{"$f":"'6'!$W$8","v":"------------"},{"$f":"'7'!$W8","v":"------------"},{"$f":"'8'!$W8","v":"------------"},{"$f":"'9'!$W8","v":"------------"},{"$f":"'10'!$W8","v":"------------"},{"$f":"'11'!$W8","v":"------------"},{"$f":"'12'!$W8","v":"------------"},{"$f":"'13'!$W8","v":"------------"},{"$f":"'14'!$W8","v":"------------"},{"$f":"'15'!$W8","v":"------------"},{"$f":"'16'!$W8","v":"------------"},{"$f":"'17'!$W8","v":"------------"},{"$f":"'18'!$W8","v":"------------"},{"$f":"'19'!$W8","v":"------------"},{"$f":"'20'!$W8","v":"------------"},{"$f":"'20'!$W8","v":"------------"}]
[null,2,{"$f":"'1'!$W$9","v":"Lewis Hamilton"},{"$f":"'2'!$W$9","v":"------------"},{"$f":"'3'!$W$9","v":"------------"},{"$f":"'4'!$W$9","v":"------------"},{"$f":"'5'!$W$9","v":"------------"},{"$f":"'6'!$W9","v":"------------"},{"$f":"'7'!$W9","v":"------------"},{"$f":"'8'!$W9","v":"------------"},{"$f":"'9'!$W9","v":"------------"},{"$f":"'10'!$W9","v":"------------"},{"$f":"'11'!$W9","v":"------------"},{"$f":"'12'!$W9","v":"------------"},{"$f":"'13'!$W9","v":"------------"},{"$f":"'14'!$W9","v":"------------"},{"$f":"'15'!$W9","v":"------------"},{"$f":"'16'!$W9","v":"------------"},{"$f":"'17'!$W9","v":"------------"},{"$f":"'18'!$W9","v":"------------"},{"$f":"'19'!$W9","v":"------------"},{"$f":"'20'!$W9","v":"------------"},{"$f":"'20'!$W9","v":"------------"}]
[null,3,{"$f":"'1'!$W$10","v":"Max Verstappen"},{"$f":"'2'!$W$10","v":"------------"},{"$f":"'3'!$W$10","v":"------------"},{"$f":"'4'!$W$10","v":"------------"},{"$f":"'5'!$W$10","v":"------------"},{"$f":"'6'!$W10","v":"------------"},{"$f":"'7'!$W10","v":"------------"},{"$f":"'8'!$W10","v":"------------"},{"$f":"'9'!$W10","v":"------------"},{"$f":"'10'!$W10","v":"------------"},{"$f":"'11'!$W10","v":"------------"},{"$f":"'12'!$W10","v":"------------"},{"$f":"'13'!$W10","v":"------------"},{"$f":"'14'!$W10","v":"------------"},{"$f":"'15'!$W10","v":"------------"},{"$f":"'16'!$W10","v":"------------"},{"$f":"'17'!$W10","v":"------------"},{"$f":"'18'!$W10","v":"------------"},{"$f":"'19'!$W10","v":"------------"},{"$f":"'20'!$W10","v":"------------"},{"$f":"'20'!$W10","v":"------------"}]
[null,4,{"$f":"'1'!$W$11","v":"Sebastian Vettel"},{"$f":"'2'!$W$11","v":"------------"},{"$f":"'3'!$W$11","v":"------------"},{"$f":"'4'!$W$11","v":"------------"},{"$f":"'5'!$W$11","v":"------------"},{"$f":"'6'!$W11","v":"------------"},{"$f":"'7'!$W11","v":"------------"},{"$f":"'8'!$W11","v":"------------"},{"$f":"'9'!$W11","v":"------------"},{"$f":"'10'!$W11","v":"------------"},{"$f":"'11'!$W11","v":"------------"},{"$f":"'12'!$W11","v":"------------"},{"$f":"'13'!$W11","v":"------------"},{"$f":"'14'!$W11","v":"------------"},{"$f":"'15'!$W11","v":"------------"},{"$f":"'16'!$W11","v":"------------"},{"$f":"'17'!$W11","v":"------------"},{"$f":"'18'!$W11","v":"------------"},{"$f":"'19'!$W11","v":"------------"},{"$f":"'20'!$W11","v":"------------"},{"$f":"'20'!$W11","v":"------------"}]
[null,5,{"$f":"'1'!$W$12","v":"Charles Leclerc"},{"$f":"'2'!$W$12","v":"------------"},{"$f":"'3'!$W$12","v":"------------"},{"$f":"'4'!$W$12","v":"------------"},{"$f":"'5'!$W$12","v":"------------"},{"$f":"'6'!$W12","v":"------------"},{"$f":"'7'!$W12","v":"------------"},{"$f":"'8'!$W12","v":"------------"},{"$f":"'9'!$W12","v":"------------"},{"$f":"'10'!$W12","v":"------------"},{"$f":"'11'!$W12","v":"------------"},{"$f":"'12'!$W12","v":"------------"},{"$f":"'13'!$W12","v":"------------"},{"$f":"'14'!$W12","v":"------------"},{"$f":"'15'!$W12","v":"------------"},{"$f":"'16'!$W12","v":"------------"},{"$f":"'17'!$W12","v":"------------"},{"$f":"'18'!$W12","v":"------------"},{"$f":"'19'!$W12","v":"------------"},{"$f":"'20'!$W12","v":"------------"},{"$f":"'20'!$W12","v":"------------"}]
[null,6,{"$f":"'1'!$W$13","v":"Kevin Magnussen"},{"$f":"'2'!$W$13","v":"------------"},{"$f":"'3'!$W$13","v":"------------"},{"$f":"'4'!$W$13","v":"------------"},{"$f":"'5'!$W$13","v":"------------"},{"$f":"'6'!$W13","v":"------------"},{"$f":"'7'!$W13","v":"------------"},{"$f":"'8'!$W13","v":"------------"},{"$f":"'9'!$W13","v":"------------"},{"$f":"'10'!$W13","v":"------------"},{"$f":"'11'!$W13","v":"------------"},{"$f":"'12'!$W13","v":"------------"},{"$f":"'13'!$W13","v":"------------"},{"$f":"'14'!$W13","v":"------------"},{"$f":"'15'!$W13","v":"------------"},{"$f":"'16'!$W13","v":"------------"},{"$f":"'17'!$W13","v":"------------"},{"$f":"'18'!$W13","v":"------------"},{"$f":"'19'!$W13","v":"------------"},{"$f":"'20'!$W13","v":"------------"},{"$f":"'20'!$W13","v":"------------"}]
[null,7,{"$f":"'1'!$W$14","v":"Nico Hülkenberg"},{"$f":"'2'!$W$14","v":"------------"},{"$f":"'3'!$W$14","v":"------------"},{"$f":"'4'!$W$14","v":"------------"},{"$f":"'5'!$W$14","v":"------------"},{"$f":"'6'!$W14","v":"------------"},{"$f":"'7'!$W14","v":"------------"},{"$f":"'8'!$W14","v":"------------"},{"$f":"'9'!$W14","v":"------------"},{"$f":"'10'!$W14","v":"------------"},{"$f":"'11'!$W14","v":"------------"},{"$f":"'12'!$W14","v":"------------"},{"$f":"'13'!$W14","v":"------------"},{"$f":"'14'!$W14","v":"------------"},{"$f":"'15'!$W14","v":"------------"},{"$f":"'16'!$W14","v":"------------"},{"$f":"'17'!$W14","v":"------------"},{"$f":"'18'!$W14","v":"------------"},{"$f":"'19'!$W14","v":"------------"},{"$f":"'20'!$W14","v":"------------"},{"$f":"'20'!$W14","v":"------------"}]
[null,8,{"$f":"'1'!$W$15","v":"Kimi Räikkönen"},{"$f":"'2'!$W$15","v":"------------"},{"$f":"'3'!$W$15","v":"------------"},{"$f":"'4'!$W$15","v":"------------"},{"$f":"'5'!$W$15","v":"------------"},{"$f":"'6'!$W15","v":"------------"},{"$f":"'7'!$W15","v":"------------"},{"$f":"'8'!$W15","v":"------------"},{"$f":"'9'!$W15","v":"------------"},{"$f":"'10'!$W15","v":"------------"},{"$f":"'11'!$W15","v":"------------"},{"$f":"'12'!$W15","v":"------------"},{"$f":"'13'!$W15","v":"------------"},{"$f":"'14'!$W15","v":"------------"},{"$f":"'15'!$W15","v":"------------"},{"$f":"'16'!$W15","v":"------------"},{"$f":"'17'!$W15","v":"------------"},{"$f":"'18'!$W15","v":"------------"},{"$f":"'19'!$W15","v":"------------"},{"$f":"'20'!$W15","v":"------------"},{"$f":"'20'!$W15","v":"------------"}]
[null,9,{"$f":"'1'!$W$16","v":"Lance Stroll"},{"$f":"'2'!$W$16","v":"------------"},{"$f":"'3'!$W$16","v":"------------"},{"$f":"'4'!$W$16","v":"------------"},{"$f":"'5'!$W$16","v":"------------"},{"$f":"'6'!$W16","v":"------------"},{"$f":"'7'!$W16","v":"------------"},{"$f":"'8'!$W16","v":"------------"},{"$f":"'9'!$W16","v":"------------"},{"$f":"'10'!$W16","v":"------------"},{"$f":"'11'!$W16","v":"------------"},{"$f":"'12'!$W16","v":"------------"},{"$f":"'13'!$W16","v":"------------"},{"$f":"'14'!$W16","v":"------------"},{"$f":"'15'!$W16","v":"------------"},{"$f":"'16'!$W16","v":"------------"},{"$f":"'17'!$W16","v":"------------"},{"$f":"'18'!$W16","v":"------------"},{"$f":"'19'!$W16","v":"------------"},{"$f":"'20'!$W16","v":"------------"},{"$f":"'20'!$W16","v":"------------"}]
[null,10,{"$f":"'1'!$W$17","v":"Daniil Kvjat"},{"$f":"'2'!$W$17","v":"------------"},{"$f":"'3'!$W$17","v":"------------"},{"$f":"'4'!$W$17","v":"------------"},{"$f":"'5'!$W$17","v":"------------"},{"$f":"'6'!$W17","v":"------------"},{"$f":"'7'!$W17","v":"------------"},{"$f":"'8'!$W17","v":"------------"},{"$f":"'9'!$W17","v":"------------"},{"$f":"'10'!$W17","v":"------------"},{"$f":"'11'!$W17","v":"------------"},{"$f":"'12'!$W17","v":"------------"},{"$f":"'13'!$W17","v":"------------"},{"$f":"'14'!$W17","v":"------------"},{"$f":"'15'!$W17","v":"------------"},{"$f":"'16'!$W17","v":"------------"},{"$f":"'17'!$W17","v":"------------"},{"$f":"'18'!$W17","v":"------------"},{"$f":"'19'!$W17","v":"------------"},{"$f":"'20'!$W17","v":"------------"},{"$f":"'20'!$W17","v":"------------"}]
[null,"Snelste ronde",{"$f":"'1'!$W$23","v":"Valtteri Bottas"},{"$f":"'2'!$W$23","v":"------------"},{"$f":"'3'!$W$23","v":"------------"},{"$f":"'4'!$W$23","v":"------------"},{"$f":"'5'!$W$23","v":"------------"},{"$f":"'6'!$W$23","v":"------------"},{"$f":"'7'!$W$23","v":"------------"},{"$f":"'8'!$W$23","v":"------------"},{"$f":"'9'!$W$23","v":"------------"},{"$f":"'10'!$W$23","v":"------------"},{"$f":"'11'!$W$23","v":"------------"},{"$f":"'12'!$W$23","v":"------------"},{"$f":"'13'!$W$23","v":"------------"},{"$f":"'14'!$W$23","v":"------------"},{"$f":"'15'!$W$23","v":"------------"},{"$f":"'16'!$W$23","v":"------------"},{"$f":"'17'!$W$23","v":"------------"},{"$f":"'18'!$W$23","v":"------------"},{"$f":"'19'!$W$23","v":"------------"},{"$f":"'20'!$W$23","v":"------------"},{"$f":"'21'!$W$23","v":"------------"}]
[]
[null,null,{"$f":"C4","v":"Australië"},{"$f":"D4","v":"Bahrein"},{"$f":"E4","v":"China"},"Azerbeidzjan","Spanje","Monaco","Canada","Frankrijk","Oostenrijk","Groot-Brittannië  ","Duitsland","Hongarije","Belgie","Italie","Singapore","Rusland","Japan","Amerika","Mexico","Brazilie","Abu Dhabi","Totaal","winst"]
[]
[null,"Antonio Giovinazzi",{"$f":"IF($B20<>\"\",SUMIF('1'!$W8:W$17,'Uitslagen '!B20,'1'!Y$8:Y$17),\"\")","v":0},{"$f":"IF($B20<>\"\",SUMIF('2'!$W8:$W$17,'Uitslagen '!B20,'2'!Y$8:Y$17),\"\")","v":0},{"$f":"IF($B20<>\"\",SUMIF('3'!$W$8:$W$17,'Uitslagen '!B20,'3'!Y$8:Y$17),\"\")","v":0},{"$f":"IF($B20<>\"\",SUMIF('4'!$W$8:$W$17,'Uitslagen '!B20,'4'!Y$8:Y$17),\"\")","v":0},{"$f":"IF($B20<>\"\",SUMIF('5'!$W$8:$W$17,'Uitslagen '!B20,'5'!Y$8:Y$17),\"\")","v":0},{"$f":"IF($B20<>\"\",SUMIF('6'!$W$8:$W$17,'Uitslagen '!B20,'6'!Y$8:Y$17),\"\")","v":0},{"$f":"IF($B20<>\"\",SUMIF('7'!$W$8:$W$17,'Uitslagen '!B20,'7'!$Y$8:$Y$17),\"\")","v":0},{"$f":"IF($B20<>\"\",SUMIF('8'!$W$8:$W$17,'Uitslagen '!B20,'8'!$Y$8:$Y$17),\"\")","v":0},{"$f":"IF($B20<>\"\",SUMIF('9'!$W$8:$W$17,'Uitslagen '!B20,'9'!$Y$8:$Y$17),\"\")","v":0},{"$f":"IF($B20<>\"\",SUMIF('10'!$W$8:$W$17,'Uitslagen '!B20,'10'!$Y$8:$Y$17),\"\")","v":0},{"$f":"IF($B20<>\"\",SUMIF('11'!$W$8:$W$17,'Uitslagen '!B20,'11'!$Y$8:$Y$17),\"\")","v":0},{"$f":"IF($B20<>\"\",SUMIF('12'!$W$8:$W$17,'Uitslagen '!B20,'12'!$Y$8:$Y$17),\"\")","v":0},{"$f":"IF($B20<>\"\",SUMIF('13'!$W$8:$W$17,'Uitslagen '!B20,'13'!$Y$8:$Y$17),\"\")","v":0},{"$f":"IF($B20<>\"\",SUMIF('14'!$W$8:$W$17,'Uitslagen '!B20,'14'!$Y$8:$Y$17),\"\")","v":0},{"$f":"IF($B20<>\"\",SUMIF('15'!$W$8:$W$17,'Uitslagen '!B20,'15'!$Y$8:$Y$17),\"\")","v":0},{"$f":"IF($B20<>\"\",SUMIF('16'!$W$8:$W$17,'Uitslagen '!B20,'16'!$Y$8:$Y$17),\"\")","v":0},{"$f":"IF($B20<>\"\",SUMIF('17'!$W$8:$W$17,'Uitslagen '!B20,'17'!$Y$8:$Y$17),\"\")","v":0},{"$f":"IF($B20<>\"\",SUMIF('18'!$W$8:$W$17,'Uitslagen '!B20,'18'!$Y$8:$Y$17),\"\")","v":0},{"$f":"IF($B20<>\"\",SUMIF('19'!$W$8:$W$17,'Uitslagen '!B20,'19'!$Y$8:$Y$17),\"\")","v":0},{"$f":"IF($B20<>\"\",SUMIF('20'!$W$8:$W$17,'Uitslagen '!B20,'20'!$Y$8:$Y$17),\"\")","v":0},{"$f":"IF($B20<>\"\",SUMIF('21'!$W$8:$W$17,'Uitslagen '!B20,'21'!$Y$8:$Y$17),\"\")","v":0},{"$f":"SUM(C20:W20)","v":0},{"$f":"COUNTIF(C20:W20,25)","v":0}]
[null,"Alex Albon",{"$f":"IF($B21<>\"\",SUMIF('1'!$W8:W$17,'Uitslagen '!B21,'1'!Y$8:Y$17),\"\")","v":0},{"$f":"IF($B21<>\"\",SUMIF('2'!$W8:$W$17,'Uitslagen '!B21,'2'!Y$8:Y$17),\"\")","v":0},{"$f":"IF($B21<>\"\",SUMIF('3'!$W$8:$W$17,'Uitslagen '!B21,'3'!Y$8:Y$17),\"\")","v":0},{"$f":"IF($B21<>\"\",SUMIF('4'!$W$8:$W$17,'Uitslagen '!B21,'4'!Y$8:Y$17),\"\")","v":0},{"$f":"IF($B21<>\"\",SUMIF('5'!$W$8:$W$17,'Uitslagen '!B21,'5'!Y$8:Y$17),\"\")","v":0},{"$f":"IF($B21<>\"\",SUMIF('6'!$W$8:$W$17,'Uitslagen '!B21,'6'!Y$8:Y$17),\"\")","v":0},{"$f":"IF($B21<>\"\",SUMIF('7'!$W$8:$W$17,'Uitslagen '!B21,'7'!Y$8:Y$17),\"\")","v":0},{"$f":"IF($B21<>\"\",SUMIF('8'!$W$8:$W$17,'Uitslagen '!B21,'8'!$Y$8:$Y$17),\"\")","v":0},{"$f":"IF($B21<>\"\",SUMIF('9'!$W$8:$W$17,'Uitslagen '!B21,'9'!$Y$8:$Y$17),\"\")","v":0},{"$f":"IF($B21<>\"\",SUMIF('10'!$W$8:$W$17,'Uitslagen '!B21,'10'!$Y$8:$Y$17),\"\")","v":0},{"$f":"IF($B21<>\"\",SUMIF('11'!$W$8:$W$17,'Uitslagen '!B21,'11'!$Y$8:$Y$17),\"\")","v":0},{"$f":"IF($B21<>\"\",SUMIF('12'!$W$8:$W$17,'Uitslagen '!B21,'12'!$Y$8:$Y$17),\"\")","v":0},{"$f":"IF($B21<>\"\",SUMIF('13'!$W$8:$W$17,'Uitslagen '!B21,'13'!$Y$8:$Y$17),\"\")","v":0},{"$f":"IF($B21<>\"\",SUMIF('14'!$W$8:$W$17,'Uitslagen '!B21,'14'!$Y$8:$Y$17),\"\")","v":0},{"$f":"IF($B21<>\"\",SUMIF('15'!$W$8:$W$17,'Uitslagen '!B21,'15'!$Y$8:$Y$17),\"\")","v":0},{"$f":"IF($B21<>\"\",SUMIF('16'!$W$8:$W$17,'Uitslagen '!B21,'16'!$Y$8:$Y$17),\"\")","v":0},{"$f":"IF($B21<>\"\",SUMIF('17'!$W$8:$W$17,'Uitslagen '!B21,'17'!$Y$8:$Y$17),\"\")","v":0},{"$f":"IF($B21<>\"\",SUMIF('18'!$W$8:$W$17,'Uitslagen '!B21,'18'!$Y$8:$Y$17),\"\")","v":0},{"$f":"IF($B21<>\"\",SUMIF('19'!$W$8:$W$17,'Uitslagen '!B21,'19'!$Y$8:$Y$17),\"\")","v":0},{"$f":"IF($B21<>\"\",SUMIF('20'!$W$8:$W$17,'Uitslagen '!B21,'20'!$Y$8:$Y$17),\"\")","v":0},{"$f":"IF($B21<>\"\",SUMIF('21'!$W$8:$W$17,'Uitslagen '!B21,'21'!$Y$8:$Y$17),\"\")","v":0},{"$f":"SUM(C21:W21)","v":0},{"$f":"COUNTIF(C21:W21,25)","v":0}]
[null,"Carlos Sainz jr",{"$f":"IF($B22<>\"\",SUMIF('1'!$W8:W$17,'Uitslagen '!B22,'1'!Y$8:Y$17),\"\")","v":0},{"$f":"IF($B22<>\"\",SUMIF('2'!$W8:$W$17,'Uitslagen '!B22,'2'!Y$8:Y$17),\"\")","v":0},{"$f":"IF($B22<>\"\",SUMIF('3'!$W$8:$W$17,'Uitslagen '!B22,'3'!Y$8:Y$17),\"\")","v":0},{"$f":"IF($B22<>\"\",SUMIF('4'!$W$8:$W$17,'Uitslagen '!B22,'4'!Y$8:Y$17),\"\")","v":0},{"$f":"IF($B22<>\"\",SUMIF('5'!$W$8:$W$17,'Uitslagen '!B22,'5'!Y$8:Y$17),\"\")","v":0},{"$f":"IF($B22<>\"\",SUMIF('6'!$W$8:$W$17,'Uitslagen '!B22,'6'!Z$8:Z$17),\"\")","v":0},{"$f":"IF($B22<>\"\",SUMIF('7'!$W$8:$W$17,'Uitslagen '!B22,'7'!Y$8:Y$17),\"\")","v":0},{"$f":"IF($B22<>\"\",SUMIF('8'!$W$8:$W$17,'Uitslagen '!B22,'8'!$Y$8:$Y$17),\"\")","v":0},{"$f":"IF($B22<>\"\",SUMIF('9'!$W$8:$W$17,'Uitslagen '!B22,'9'!$Y$8:$Y$17),\"\")","v":0},{"$f":"IF($B22<>\"\",SUMIF('10'!$W$8:$W$17,'Uitslagen '!B22,'10'!$Y$8:$Y$17),\"\")","v":0},{"$f":"IF($B22<>\"\",SUMIF('11'!$W$8:$W$17,'Uitslagen '!B22,'11'!$Y$8:$Y$17),\"\")","v":0},{"$f":"IF($B22<>\"\",SUMIF('12'!$W$8:$W$17,'Uitslagen '!B22,'12'!$Y$8:$Y$17),\"\")","v":0},{"$f":"IF($B22<>\"\",SUMIF('13'!$W$8:$W$17,'Uitslagen '!B22,'13'!$Y$8:$Y$17),\"\")","v":0},{"$f":"IF($B22<>\"\",SUMIF('14'!$W$8:$W$17,'Uitslagen '!B22,'14'!$Y$8:$Y$17),\"\")","v":0},{"$f":"IF($B22<>\"\",SUMIF('15'!$W$8:$W$17,'Uitslagen '!B22,'15'!$Y$8:$Y$17),\"\")","v":0},{"$f":"IF($B22<>\"\",SUMIF('16'!$W$8:$W$17,'Uitslagen '!B22,'16'!$Y$8:$Y$17),\"\")","v":0},{"$f":"IF($B22<>\"\",SUMIF('17'!$W$8:$W$17,'Uitslagen '!B22,'17'!$Y$8:$Y$17),\"\")","v":0},{"$f":"IF($B22<>\"\",SUMIF('18'!$W$8:$W$17,'Uitslagen '!B22,'18'!$Y$8:$Y$17),\"\")","v":0},{"$f":"IF($B22<>\"\",SUMIF('19'!$W$8:$W$17,'Uitslagen '!B22,'19'!$Y$8:$Y$17),\"\")","v":0},{"$f":"IF($B22<>\"\",SUMIF('20'!$W$8:$W$17,'Uitslagen '!B22,'20'!$Y$8:$Y$17),\"\")","v":0},{"$f":"IF($B22<>\"\",SUMIF('21'!$W$8:$W$17,'Uitslagen '!B22,'21'!$Y$8:$Y$17),\"\")","v":0},0,0]
[null,"Charles Leclerc",{"$f":"IF($B23<>\"\",SUMIF('1'!$W8:W$17,'Uitslagen '!B23,'1'!AA$8:AA$17),\"\")","v":10},{"$f":"IF($B23<>\"\",SUMIF('2'!$W8:$W$17,'Uitslagen '!B23,'2'!Y$8:Y$17),\"\")","v":0},{"$f":"IF($B23<>\"\",SUMIF('3'!$W$8:$W$17,'Uitslagen '!B23,'3'!Y$8:Y$17),\"\")","v":0},{"$f":"IF($B23<>\"\",SUMIF('4'!$W$8:$W$17,'Uitslagen '!B23,'4'!Y$8:Y$17),\"\")","v":0},{"$f":"IF($B23<>\"\",SUMIF('5'!$W$8:$W$17,'Uitslagen '!B23,'5'!Y$8:Y$17),\"\")","v":0},{"$f":"IF($B23<>\"\",SUMIF('6'!$W$8:$W$17,'Uitslagen '!B23,'6'!Z$8:Z$17),\"\")","v":0},{"$f":"IF($B23<>\"\",SUMIF('7'!$W$8:$W$17,'Uitslagen '!B23,'7'!Y$8:Y$17),\"\")","v":0},{"$f":"IF($B23<>\"\",SUMIF('8'!$W$8:$W$17,'Uitslagen '!B23,'8'!$Y$8:$Y$17),\"\")","v":0},{"$f":"IF($B23<>\"\",SUMIF('9'!$W$8:$W$17,'Uitslagen '!B23,'9'!$Y$8:$Y$17),\"\")","v":0},{"$f":"IF($B23<>\"\",SUMIF('10'!$W$8:$W$17,'Uitslagen '!B23,'10'!$Y$8:$Y$17),\"\")","v":0},{"$f":"IF($B23<>\"\",SUMIF('11'!$W$8:$W$17,'Uitslagen '!B23,'11'!$Y$8:$Y$17),\"\")","v":0},{"$f":"IF($B23<>\"\",SUMIF('12'!$W$8:$W$17,'Uitslagen '!B23,'12'!$Y$8:$Y$17),\"\")","v":0},{"$f":"IF($B23<>\"\",SUMIF('13'!$W$8:$W$17,'Uitslagen '!B23,'13'!$Y$8:$Y$17),\"\")","v":0},{"$f":"IF($B23<>\"\",SUMIF('14'!$W$8:$W$17,'Uitslagen '!B23,'14'!$Y$8:$Y$17),\"\")","v":0},{"$f":"IF($B23<>\"\",SUMIF('15'!$W$8:$W$17,'Uitslagen '!B23,'15'!$Y$8:$Y$17),\"\")","v":0},{"$f":"IF($B23<>\"\",SUMIF('16'!$W$8:$W$17,'Uitslagen '!B23,'16'!$Y$8:$Y$17),\"\")","v":0},{"$f":"IF($B23<>\"\",SUMIF('17'!$W$8:$W$17,'Uitslagen '!B23,'17'!$Y$8:$Y$17),\"\")","v":0},{"$f":"IF($B23<>\"\",SUMIF('18'!$W$8:$W$17,'Uitslagen '!B23,'18'!$Y$8:$Y$17),\"\")","v":0},{"$f":"IF($B23<>\"\",SUMIF('19'!$W$8:$W$17,'Uitslagen '!B23,'19'!$Y$8:$Y$17),\"\")","v":0},{"$f":"IF($B23<>\"\",SUMIF('20'!$W$8:$W$17,'Uitslagen '!B23,'20'!$Y$8:$Y$17),\"\")","v":0},{"$f":"IF($B23<>\"\",SUMIF('21'!$W$8:$W$17,'Uitslagen '!B23,'21'!$Y$8:$Y$17),\"\")","v":0},10,0]
[null,"Daniel Ricciardo",{"$f":"IF($B24<>\"\",SUMIF('1'!$W8:W$17,'Uitslagen '!B24,'1'!Y$8:Y$17),\"\")","v":0},{"$f":"IF($B24<>\"\",SUMIF('2'!$W8:$W$17,'Uitslagen '!B24,'2'!Y$8:Y$17),\"\")","v":0},{"$f":"IF($B24<>\"\",SUMIF('3'!$W$8:$W$17,'Uitslagen '!B24,'3'!Y$8:Y$17),\"\")","v":0},{"$f":"IF($B24<>\"\",SUMIF('4'!$W$8:$W$17,'Uitslagen '!B24,'4'!Y$8:Y$17),\"\")","v":0},{"$f":"IF($B24<>\"\",SUMIF('5'!$W$8:$W$17,'Uitslagen '!B24,'5'!Y$8:Y$17),\"\")","v":0},{"$f":"IF($B24<>\"\",SUMIF('6'!$W$8:$W$17,'Uitslagen '!B24,'6'!Z$8:Z$17),\"\")","v":0},{"$f":"IF($B24<>\"\",SUMIF('7'!$W$8:$W$17,'Uitslagen '!B24,'7'!Y$8:Y$17),\"\")","v":0},{"$f":"IF($B24<>\"\",SUMIF('8'!$W$8:$W$17,'Uitslagen '!B24,'8'!$Y$8:$Y$17),\"\")","v":0},{"$f":"IF($B24<>\"\",SUMIF('9'!$W$8:$W$17,'Uitslagen '!B24,'9'!$Y$8:$Y$17),\"\")","v":0},{"$f":"IF($B24<>\"\",SUMIF('10'!$W$8:$W$17,'Uitslagen '!B24,'10'!$Y$8:$Y$17),\"\")","v":0},{"$f":"IF($B24<>\"\",SUMIF('11'!$W$8:$W$17,'Uitslagen '!B24,'11'!$Y$8:$Y$17),\"\")","v":0},{"$f":"IF($B24<>\"\",SUMIF('12'!$W$8:$W$17,'Uitslagen '!B24,'12'!$Y$8:$Y$17),\"\")","v":0},{"$f":"IF($B24<>\"\",SUMIF('13'!$W$8:$W$17,'Uitslagen '!B24,'13'!$Y$8:$Y$17),\"\")","v":0},{"$f":"IF($B24<>\"\",SUMIF('14'!$W$8:$W$17,'Uitslagen '!B24,'14'!$Y$8:$Y$17),\"\")","v":0},{"$f":"IF($B24<>\"\",SUMIF('15'!$W$8:$W$17,'Uitslagen '!B24,'15'!$Y$8:$Y$17),\"\")","v":0},{"$f":"IF($B24<>\"\",SUMIF('16'!$W$8:$W$17,'Uitslagen '!B24,'16'!$Y$8:$Y$17),\"\")","v":0},{"$f":"IF($B24<>\"\",SUMIF('17'!$W$8:$W$17,'Uitslagen '!B24,'17'!$Y$8:$Y$17),\"\")","v":0},{"$f":"IF($B24<>\"\",SUMIF('18'!$W$8:$W$17,'Uitslagen '!B24,'18'!$Y$8:$Y$17),\"\")","v":0},{"$f":"IF($B24<>\"\",SUMIF('19'!$W$8:$W$17,'Uitslagen '!B24,'19'!$Y$8:$Y$17),\"\")","v":0},{"$f":"IF($B24<>\"\",SUMIF('20'!$W$8:$W$17,'Uitslagen '!B24,'20'!$Y$8:$Y$17),\"\")","v":0},{"$f":"IF($B24<>\"\",SUMIF('21'!$W$8:$W$17,'Uitslagen '!B24,'21'!$Y$8:$Y$17),\"\")","v":0},0,0]
[null,"Daniil Kvjat",{"$f":"IF($B25<>\"\",SUMIF('1'!$W8:W$17,'Uitslagen '!B25,'1'!AA$8:AA$17),\"\")","v":1},{"$f":"IF($B25<>\"\",SUMIF('2'!$W8:$W$17,'Uitslagen '!B25,'2'!Y$8:Y$17),\"\")","v":0},{"$f":"IF($B25<>\"\",SUMIF('3'!$W$8:$W$17,'Uitslagen '!B25,'3'!Y$8:Y$17),\"\")","v":0},{"$f":"IF($B25<>\"\",SUMIF('4'!$W$8:$W$17,'Uitslagen '!B25,'4'!Y$8:Y$17),\"\")","v":0},{"$f":"IF($B25<>\"\",SUMIF('5'!$W$8:$W$17,'Uitslagen '!B25,'5'!Y$8:Y$17),\"\")","v":0},{"$f":"IF($B25<>\"\",SUMIF('6'!$W$8:$W$17,'Uitslagen '!B25,'6'!Z$8:Z$17),\"\")","v":0},{"$f":"IF($B25<>\"\",SUMIF('7'!$W$8:$W$17,'Uitslagen '!B25,'7'!Y$8:Y$17),\"\")","v":0},{"$f":"IF($B25<>\"\",SUMIF('8'!$W$8:$W$17,'Uitslagen '!B25,'8'!$Y$8:$Y$17),\"\")","v":0},{"$f":"IF($B25<>\"\",SUMIF('9'!$W$8:$W$17,'Uitslagen '!B25,'9'!$Y$8:$Y$17),\"\")","v":0},{"$f":"IF($B25<>\"\",SUMIF('10'!$W$8:$W$17,'Uitslagen '!B25,'10'!$Y$8:$Y$17),\"\")","v":0},{"$f":"IF($B25<>\"\",SUMIF('11'!$W$8:$W$17,'Uitslagen '!B25,'11'!$Y$8:$Y$17),\"\")","v":0},{"$f":"IF($B25<>\"\",SUMIF('12'!$W$8:$W$17,'Uitslagen '!B25,'12'!$Y$8:$Y$17),\"\")","v":0},{"$f":"IF($B25<>\"\",SUMIF('13'!$W$8:$W$17,'Uitslagen '!B25,'13'!$Y$8:$Y$17),\"\")","v":0},{"$f":"IF($B25<>\"\",SUMIF('14'!$W$8:$W$17,'Uitslagen '!B25,'14'!$Y$8:$Y$17),\"\")","v":0},{"$f":"IF($B25<>\"\",SUMIF('15'!$W$8:$W$17,'Uitslagen '!B25,'15'!$Y$8:$Y$17),\"\")","v":0},{"$f":"IF($B25<>\"\",SUMIF('16'!$W$8:$W$17,'Uitslagen '!B25,'16'!$Y$8:$Y$17),\"\")","v":0},{"$f":"IF($B25<>\"\",SUMIF('17'!$W$8:$W$17,'Uitslagen '!B25,'17'!$Y$8:$Y$17),\"\")","v":0},{"$f":"IF($B25<>\"\",SUMIF('18'!$W$8:$W$17,'Uitslagen '!B25,'18'!$Y$8:$Y$17),\"\")","v":0},{"$f":"IF($B25<>\"\",SUMIF('19'!$W$8:$W$17,'Uitslagen '!B25,'19'!$Y$8:$Y$17),\"\")","v":0},{"$f":"IF($B25<>\"\",SUMIF('20'!$W$8:$W$17,'Uitslagen '!B25,'20'!$Y$8:$Y$17),\"\")","v":0},{"$f":"IF($B25<>\"\",SUMIF('21'!$W$8:$W$17,'Uitslagen '!B25,'21'!$Y$8:$Y$17),\"\")","v":0},1,0]
[null,"George Russell",{"$f":"IF($B26<>\"\",SUMIF('1'!$W8:W$17,'Uitslagen '!B26,'1'!Y$8:Y$17),\"\")","v":0},{"$f":"IF($B26<>\"\",SUMIF('2'!$W8:$W$17,'Uitslagen '!B26,'2'!Y$8:Y$17),\"\")","v":0},{"$f":"IF($B26<>\"\",SUMIF('3'!$W$8:$W$17,'Uitslagen '!B26,'3'!Y$8:Y$17),\"\")","v":0},{"$f":"IF($B26<>\"\",SUMIF('4'!$W$8:$W$17,'Uitslagen '!B26,'4'!Y$8:Y$17),\"\")","v":0},{"$f":"IF($B26<>\"\",SUMIF('5'!$W$8:$W$17,'Uitslagen '!B26,'5'!Y$8:Y$17),\"\")","v":0},{"$f":"IF($B26<>\"\",SUMIF('6'!$W$8:$W$17,'Uitslagen '!B26,'6'!Z$8:Z$17),\"\")","v":0},{"$f":"IF($B26<>\"\",SUMIF('7'!$W$8:$W$17,'Uitslagen '!B26,'7'!Y$8:Y$17),\"\")","v":0},{"$f":"IF($B26<>\"\",SUMIF('8'!$W$8:$W$17,'Uitslagen '!B26,'8'!$Y$8:$Y$17),\"\")","v":0},{"$f":"IF($B26<>\"\",SUMIF('9'!$W$8:$W$17,'Uitslagen '!B26,'9'!$Y$8:$Y$17),\"\")","v":0},{"$f":"IF($B26<>\"\",SUMIF('10'!$W$8:$W$17,'Uitslagen '!B26,'10'!$Y$8:$Y$17),\"\")","v":0},{"$f":"IF($B26<>\"\",SUMIF('11'!$W$8:$W$17,'Uitslagen '!B26,'11'!$Y$8:$Y$17),\"\")","v":0},{"$f":"IF($B26<>\"\",SUMIF('12'!$W$8:$W$17,'Uitslagen '!B26,'12'!$Y$8:$Y$17),\"\")","v":0},{"$f":"IF($B26<>\"\",SUMIF('13'!$W$8:$W$17,'Uitslagen '!B26,'13'!$Y$8:$Y$17),\"\")","v":0},{"$f":"IF($B26<>\"\",SUMIF('14'!$W$8:$W$17,'Uitslagen '!B26,'14'!$Y$8:$Y$17),\"\")","v":0},{"$f":"IF($B26<>\"\",SUMIF('15'!$W$8:$W$17,'Uitslagen '!B26,'15'!$Y$8:$Y$17),\"\")","v":0},{"$f":"IF($B26<>\"\",SUMIF('16'!$W$8:$W$17,'Uitslagen '!B26,'16'!$Y$8:$Y$17),\"\")","v":0},{"$f":"IF($B26<>\"\",SUMIF('17'!$W$8:$W$17,'Uitslagen '!B26,'17'!$Y$8:$Y$17),\"\")","v":0},{"$f":"IF($B26<>\"\",SUMIF('18'!$W$8:$W$17,'Uitslagen '!B26,'18'!$Y$8:$Y$17),\"\")","v":0},{"$f":"IF($B26<>\"\",SUMIF('19'!$W$8:$W$17,'Uitslagen '!B26,'19'!$Y$8:$Y$17),\"\")","v":0},{"$f":"IF($B26<>\"\",SUMIF('20'!$W$8:$W$17,'Uitslagen '!B26,'20'!$Y$8:$Y$17),\"\")","v":0},{"$f":"IF($B26<>\"\",SUMIF('21'!$W$8:$W$17,'Uitslagen '!B26,'21'!$Y$8:$Y$17),\"\")","v":0},0,0]
[null,"Kevin Magnussen",{"$f":"IF($B27<>\"\",SUMIF('1'!$W8:W$17,'Uitslagen '!B27,'1'!AA$8:AA$17),\"\")","v":8},{"$f":"IF($B27<>\"\",SUMIF('2'!$W8:$W$17,'Uitslagen '!B27,'2'!Y$8:Y$17),\"\")","v":0},{"$f":"IF($B27<>\"\",SUMIF('3'!$W$8:$W$17,'Uitslagen '!B27,'3'!Y$8:Y$17),\"\")","v":0},{"$f":"IF($B27<>\"\",SUMIF('4'!$W$8:$W$17,'Uitslagen '!B27,'4'!Y$8:Y$17),\"\")","v":0},{"$f":"IF($B27<>\"\",SUMIF('5'!$W$8:$W$17,'Uitslagen '!B27,'5'!Y$8:Y$17),\"\")","v":0},{"$f":"IF($B27<>\"\",SUMIF('6'!$W$8:$W$17,'Uitslagen '!B27,'6'!Z$8:Z$17),\"\")","v":0},{"$f":"IF($B27<>\"\",SUMIF('7'!$W$8:$W$17,'Uitslagen '!B27,'7'!Y$8:Y$17),\"\")","v":0},{"$f":"IF($B27<>\"\",SUMIF('8'!$W$8:$W$17,'Uitslagen '!B27,'8'!$Y$8:$Y$17),\"\")","v":0},{"$f":"IF($B27<>\"\",SUMIF('9'!$W$8:$W$17,'Uitslagen '!B27,'9'!$Y$8:$Y$17),\"\")","v":0},{"$f":"IF($B27<>\"\",SUMIF('10'!$W$8:$W$17,'Uitslagen '!B27,'10'!$Y$8:$Y$17),\"\")","v":0},{"$f":"IF($B27<>\"\",SUMIF('11'!$W$8:$W$17,'Uitslagen '!B27,'11'!$Y$8:$Y$17),\"\")","v":0},{"$f":"IF($B27<>\"\",SUMIF('12'!$W$8:$W$17,'Uitslagen '!B27,'12'!$Y$8:$Y$17),\"\")","v":0},{"$f":"IF($B27<>\"\",SUMIF('13'!$W$8:$W$17,'Uitslagen '!B27,'13'!$Y$8:$Y$17),\"\")","v":0},{"$f":"IF($B27<>\"\",SUMIF('14'!$W$8:$W$17,'Uitslagen '!B27,'14'!$Y$8:$Y$17),\"\")","v":0},{"$f":"IF($B27<>\"\",SUMIF('15'!$W$8:$W$17,'Uitslagen '!B27,'15'!$Y$8:$Y$17),\"\")","v":0},{"$f":"IF($B27<>\"\",SUMIF('16'!$W$8:$W$17,'Uitslagen '!B27,'16'!$Y$8:$Y$17),\"\")","v":0},{"$f":"IF($B27<>\"\",SUMIF('17'!$W$8:$W$17,'Uitslagen '!B27,'17'!$Y$8:$Y$17),\"\")","v":0},{"$f":"IF($B27<>\"\",SUMIF('18'!$W$8:$W$17,'Uitslagen '!B27,'18'!$Y$8:$Y$17),\"\")","v":0},{"$f":"IF($B27<>\"\",SUMIF('19'!$W$8:$W$17,'Uitslagen '!B27,'19'!$Y$8:$Y$17),\"\")","v":0},{"$f":"IF($B27<>\"\",SUMIF('20'!$W$8:$W$17,'Uitslagen '!B27,'20'!$Y$8:$Y$17),\"\")","v":0},{"$f":"IF($B27<>\"\",SUMIF('21'!$W$8:$W$17,'Uitslagen '!B27,'21'!$Y$8:$Y$17),\"\")","v":0},8,0]
[null,"Kimi Räikkönen",{"$f":"IF($B28<>\"\",SUMIF('1'!$W8:W$17,'Uitslagen '!B28,'1'!AA$8:AA$17),\"\")","v":4},{"$f":"IF($B28<>\"\",SUMIF('2'!$W8:$W$17,'Uitslagen '!B28,'2'!Y$8:Y$17),\"\")","v":0},{"$f":"IF($B28<>\"\",SUMIF('3'!$W$8:$W$17,'Uitslagen '!B28,'3'!Y$8:Y$17),\"\")","v":0},{"$f":"IF($B28<>\"\",SUMIF('4'!$W$8:$W$17,'Uitslagen '!B28,'4'!Y$8:Y$17),\"\")","v":0},{"$f":"IF($B28<>\"\",SUMIF('5'!$W$8:$W$17,'Uitslagen '!B28,'5'!Y$8:Y$17),\"\")","v":0},{"$f":"IF($B28<>\"\",SUMIF('6'!$W$8:$W$17,'Uitslagen '!B28,'6'!Z$8:Z$17),\"\")","v":0},{"$f":"IF($B28<>\"\",SUMIF('7'!$W$8:$W$17,'Uitslagen '!B28,'7'!Y$8:Y$17),\"\")","v":0},{"$f":"IF($B28<>\"\",SUMIF('8'!$W$8:$W$17,'Uitslagen '!B28,'8'!$Y$8:$Y$17),\"\")","v":0},{"$f":"IF($B28<>\"\",SUMIF('9'!$W$8:$W$17,'Uitslagen '!B28,'9'!$Y$8:$Y$17),\"\")","v":0},{"$f":"IF($B28<>\"\",SUMIF('10'!$W$8:$W$17,'Uitslagen '!B28,'10'!$Y$8:$Y$17),\"\")","v":0},{"$f":"IF($B28<>\"\",SUMIF('11'!$W$8:$W$17,'Uitslagen '!B28,'11'!$Y$8:$Y$17),\"\")","v":0},{"$f":"IF($B28<>\"\",SUMIF('12'!$W$8:$W$17,'Uitslagen '!B28,'12'!$Y$8:$Y$17),\"\")","v":0},{"$f":"IF($B28<>\"\",SUMIF('13'!$W$8:$W$17,'Uitslagen '!B28,'13'!$Y$8:$Y$17),\"\")","v":0},{"$f":"IF($B28<>\"\",SUMIF('14'!$W$8:$W$17,'Uitslagen '!B28,'14'!$Y$8:$Y$17),\"\")","v":0},{"$f":"IF($B28<>\"\",SUMIF('15'!$W$8:$W$17,'Uitslagen '!B28,'15'!$Y$8:$Y$17),\"\")","v":0},{"$f":"IF($B28<>\"\",SUMIF('16'!$W$8:$W$17,'Uitslagen '!B28,'16'!$Y$8:$Y$17),\"\")","v":0},{"$f":"IF($B28<>\"\",SUMIF('17'!$W$8:$W$17,'Uitslagen '!B28,'17'!$Y$8:$Y$17),\"\")","v":0},{"$f":"IF($B28<>\"\",SUMIF('18'!$W$8:$W$17,'Uitslagen '!B28,'18'!$Y$8:$Y$17),\"\")","v":0},{"$f":"IF($B28<>\"\",SUMIF('19'!$W$8:$W$17,'Uitslagen '!B28,'19'!$Y$8:$Y$17),\"\")","v":0},{"$f":"IF($B28<>\"\",SUMIF('20'!$W$8:$W$17,'Uitslagen '!B28,'20'!$Y$8:$Y$17),\"\")","v":0},{"$f":"IF($B28<>\"\",SUMIF('21'!$W$8:$W$17,'Uitslagen '!B28,'21'!$Y$8:$Y$17),\"\")","v":0},4,0]
[null,"Lance Stroll",{"$f":"IF($B29<>\"\",SUMIF('1'!$W8:W$17,'Uitslagen '!B29,'1'!AA$8:AA$17),\"\")","v":2},{"$f":"IF($B29<>\"\",SUMIF('2'!$W8:$W$17,'Uitslagen '!B29,'2'!Y$8:Y$17),\"\")","v":0},{"$f":"IF($B29<>\"\",SUMIF('3'!$W$8:$W$17,'Uitslagen '!B29,'3'!Y$8:Y$17),\"\")","v":0},{"$f":"IF($B29<>\"\",SUMIF('4'!$W$8:$W$17,'Uitslagen '!B29,'4'!Y$8:Y$17),\"\")","v":0},{"$f":"IF($B29<>\"\",SUMIF('5'!$W$8:$W$17,'Uitslagen '!B29,'5'!Y$8:Y$17),\"\")","v":0},{"$f":"IF($B29<>\"\",SUMIF('6'!$W$8:$W$17,'Uitslagen '!B29,'6'!Z$8:Z$17),\"\")","v":0},{"$f":"IF($B29<>\"\",SUMIF('7'!$W$8:$W$17,'Uitslagen '!B29,'7'!Y$8:Y$17),\"\")","v":0},{"$f":"IF($B29<>\"\",SUMIF('8'!$W$8:$W$17,'Uitslagen '!B29,'8'!$Y$8:$Y$17),\"\")","v":0},{"$f":"IF($B29<>\"\",SUMIF('9'!$W$8:$W$17,'Uitslagen '!B29,'9'!$Y$8:$Y$17),\"\")","v":0},{"$f":"IF($B29<>\"\",SUMIF('10'!$W$8:$W$17,'Uitslagen '!B29,'10'!$Y$8:$Y$17),\"\")","v":0},{"$f":"IF($B29<>\"\",SUMIF('11'!$W$8:$W$17,'Uitslagen '!B29,'11'!$Y$8:$Y$17),\"\")","v":0},{"$f":"IF($B29<>\"\",SUMIF('12'!$W$8:$W$17,'Uitslagen '!B29,'12'!$Y$8:$Y$17),\"\")","v":0},{"$f":"IF($B29<>\"\",SUMIF('13'!$W$8:$W$17,'Uitslagen '!B29,'13'!$Y$8:$Y$17),\"\")","v":0},{"$f":"IF($B29<>\"\",SUMIF('14'!$W$8:$W$17,'Uitslagen '!B29,'14'!$Y$8:$Y$17),\"\")","v":0},{"$f":"IF($B29<>\"\",SUMIF('15'!$W$8:$W$17,'Uitslagen '!B29,'15'!$Y$8:$Y$17),\"\")","v":0},{"$f":"IF($B29<>\"\",SUMIF('16'!$W$8:$W$17,'Uitslagen '!B29,'16'!$Y$8:$Y$17),\"\")","v":0},{"$f":"IF($B29<>\"\",SUMIF('17'!$W$8:$W$17,'Uitslagen '!B29,'17'!$Y$8:$Y$17),\"\")","v":0},{"$f":"IF($B29<>\"\",SUMIF('18'!$W$8:$W$17,'Uitslagen '!B29,'18'!$Y$8:$Y$17),\"\")","v":0},{"$f":"IF($B29<>\"\",SUMIF('19'!$W$8:$W$17,'Uitslagen '!B29,'19'!$Y$8:$Y$17),\"\")","v":0},{"$f":"IF($B29<>\"\",SUMIF('20'!$W$8:$W$17,'Uitslagen '!B29,'20'!$Y$8:$Y$17),\"\")","v":0},{"$f":"IF($B29<>\"\",SUMIF('21'!$W$8:$W$17,'Uitslagen '!B29,'21'!$Y$8:$Y$17),\"\")","v":0},2,0]
[null,"Lando Norris",{"$f":"IF($B30<>\"\",SUMIF('1'!$W8:W$17,'Uitslagen '!B30,'1'!Y$8:Y$17),\"\")","v":0},{"$f":"IF($B30<>\"\",SUMIF('2'!$W$8:$W17,'Uitslagen '!B30,'2'!Y$8:Y$17),\"\")","v":0},{"$f":"IF($B30<>\"\",SUMIF('3'!$W$8:$W$17,'Uitslagen '!B30,'3'!Y$8:Y$17),\"\")","v":0},{"$f":"IF($B30<>\"\",SUMIF('4'!$W$8:$W$17,'Uitslagen '!B30,'4'!Y$8:Y$17),\"\")","v":0},{"$f":"IF($B30<>\"\",SUMIF('5'!$W$8:$W$17,'Uitslagen '!B30,'5'!Y$8:Y$17),\"\")","v":0},{"$f":"IF($B30<>\"\",SUMIF('6'!$W$8:$W$17,'Uitslagen '!B30,'6'!Z$8:Z$17),\"\")","v":0},{"$f":"IF($B30<>\"\",SUMIF('7'!$W$8:$W$17,'Uitslagen '!B30,'7'!Y$8:Y$17),\"\")","v":0},{"$f":"IF($B30<>\"\",SUMIF('8'!$W$8:$W$17,'Uitslagen '!B30,'8'!$Y$8:$Y$17),\"\")","v":0},{"$f":"IF($B30<>\"\",SUMIF('9'!$W$8:$W$17,'Uitslagen '!B30,'9'!$Y$8:$Y$17),\"\")","v":0},{"$f":"IF($B30<>\"\",SUMIF('10'!$W$8:$W$17,'Uitslagen '!B30,'10'!$Y$8:$Y$17),\"\")","v":0},{"$f":"IF($B30<>\"\",SUMIF('11'!$W$8:$W$17,'Uitslagen '!B30,'11'!$Y$8:$Y$17),\"\")","v":0},{"$f":"IF($B30<>\"\",SUMIF('12'!$W$8:$W$17,'Uitslagen '!B30,'12'!$Y$8:$Y$17),\"\")","v":0},{"$f":"IF($B30<>\"\",SUMIF('13'!$W$8:$W$17,'Uitslagen '!B30,'13'!$Y$8:$Y$17),\"\")","v":0},{"$f":"IF($B30<>\"\",SUMIF('14'!$W$8:$W$17,'Uitslagen '!B30,'14'!$Y$8:$Y$17),\"\")","v":0},{"$f":"IF($B30<>\"\",SUMIF('15'!$W$8:$W$17,'Uitslagen '!B30,'15'!$Y$8:$Y$17),\"\")","v":0},{"$f":"IF($B30<>\"\",SUMIF('16'!$W$8:$W$17,'Uitslagen '!B30,'16'!$Y$8:$Y$17),\"\")","v":0},{"$f":"IF($B30<>\"\",SUMIF('17'!$W$8:$W$17,'Uitslagen '!B30,'17'!$Y$8:$Y$17),\"\")","v":0},{"$f":"IF($B30<>\"\",SUMIF('18'!$W$8:$W$17,'Uitslagen '!B30,'18'!$Y$8:$Y$17),\"\")","v":0},{"$f":"IF($B30<>\"\",SUMIF('19'!$W$8:$W$17,'Uitslagen '!B30,'19'!$Y$8:$Y$17),\"\")","v":0},{"$f":"IF($B30<>\"\",SUMIF('20'!$W$8:$W$17,'Uitslagen '!B30,'20'!$Y$8:$Y$17),\"\")","v":0},{"$f":"IF($B30<>\"\",SUMIF('21'!$W$8:$W$17,'Uitslagen '!B30,'21'!$Y$8:$Y$17),\"\")","v":0},0,0]
[null,"Lewis Hamilton",{"$f":"IF($B31<>\"\",SUMIF('1'!$W8:W$17,'Uitslagen '!B31,'1'!AA$8:AA$17),\"\")","v":18},{"$f":"IF($B31<>\"\",SUMIF('2'!$W$8:$W17,'Uitslagen '!B31,'2'!Y$8:Y$17),\"\")","v":0},{"$f":"IF($B31<>\"\",SUMIF('3'!$W$8:$W$17,'Uitslagen '!B31,'3'!Y$8:Y$17),\"\")","v":0},{"$f":"IF($B31<>\"\",SUMIF('4'!$W$8:$W$17,'Uitslagen '!B31,'4'!Y$8:Y$17),\"\")","v":0},{"$f":"IF($B31<>\"\",SUMIF('5'!$W$8:$W$17,'Uitslagen '!B31,'5'!Y$8:Y$17),\"\")","v":0},{"$f":"IF($B31<>\"\",SUMIF('6'!$W$8:$W$17,'Uitslagen '!B31,'6'!Z$8:Z$17),\"\")","v":0},{"$f":"IF($B31<>\"\",SUMIF('7'!$W$8:$W$17,'Uitslagen '!B31,'7'!Y$8:Y$17),\"\")","v":0},{"$f":"IF($B31<>\"\",SUMIF('8'!$W$8:$W$17,'Uitslagen '!B31,'8'!$Y$8:$Y$17),\"\")","v":0},{"$f":"IF($B31<>\"\",SUMIF('9'!$W$8:$W$17,'Uitslagen '!B31,'9'!$Y$8:$Y$17),\"\")","v":0},{"$f":"IF($B31<>\"\",SUMIF('10'!$W$8:$W$17,'Uitslagen '!B31,'10'!$Y$8:$Y$17),\"\")","v":0},{"$f":"IF($B31<>\"\",SUMIF('11'!$W$8:$W$17,'Uitslagen '!B31,'11'!$Y$8:$Y$17),\"\")","v":0},{"$f":"IF($B31<>\"\",SUMIF('12'!$W$8:$W$17,'Uitslagen '!B31,'12'!$Y$8:$Y$17),\"\")","v":0},{"$f":"IF($B31<>\"\",SUMIF('13'!$W$8:$W$17,'Uitslagen '!B31,'13'!$Y$8:$Y$17),\"\")","v":0},{"$f":"IF($B31<>\"\",SUMIF('14'!$W$8:$W$17,'Uitslagen '!B31,'14'!$Y$8:$Y$17),\"\")","v":0},{"$f":"IF($B31<>\"\",SUMIF('15'!$W$8:$W$17,'Uitslagen '!B31,'15'!$Y$8:$Y$17),\"\")","v":0},{"$f":"IF($B31<>\"\",SUMIF('16'!$W$8:$W$17,'Uitslagen '!B31,'16'!$Y$8:$Y$17),\"\")","v":0},{"$f":"IF($B31<>\"\",SUMIF('17'!$W$8:$W$17,'Uitslagen '!B31,'17'!$Y$8:$Y$17),\"\")","v":0},{"$f":"IF($B31<>\"\",SUMIF('18'!$W$8:$W$17,'Uitslagen '!B31,'18'!$Y$8:$Y$17),\"\")","v":0},{"$f":"IF($B31<>\"\",SUMIF('19'!$W$8:$W$17,'Uitslagen '!B31,'19'!$Y$8:$Y$17),\"\")","v":0},{"$f":"IF($B31<>\"\",SUMIF('20'!$W$8:$W$17,'Uitslagen '!B31,'20'!$Y$8:$Y$17),\"\")","v":0},{"$f":"IF($B31<>\"\",SUMIF('21'!$W$8:$W$17,'Uitslagen '!B31,'21'!$Y$8:$Y$17),\"\")","v":0},18,0]
[null,"Max Verstappen",{"$f":"IF($B32<>\"\",SUMIF('1'!$W8:W$17,'Uitslagen '!B32,'1'!AA$8:AA$17),\"\")","v":15},{"$f":"IF($B32<>\"\",SUMIF('2'!$W$8:$W17,'Uitslagen '!B32,'2'!Y$8:Y$17),\"\")","v":0},{"$f":"IF($B32<>\"\",SUMIF('3'!$W$8:$W$17,'Uitslagen '!B32,'3'!Y$8:Y$17),\"\")","v":0},{"$f":"IF($B32<>\"\",SUMIF('4'!$W$8:$W$17,'Uitslagen '!B32,'4'!Y$8:Y$17),\"\")","v":0},{"$f":"IF($B32<>\"\",SUMIF('5'!$W$8:$W$17,'Uitslagen '!B32,'5'!Y$8:Y$17),\"\")","v":0},{"$f":"IF($B32<>\"\",SUMIF('6'!$W$8:$W$17,'Uitslagen '!B32,'6'!Z$8:Z$17),\"\")","v":0},{"$f":"IF($B32<>\"\",SUMIF('7'!$W$8:$W$17,'Uitslagen '!B32,'7'!Y$8:Y$17),\"\")","v":0},{"$f":"IF($B32<>\"\",SUMIF('8'!$W$8:$W$17,'Uitslagen '!B32,'8'!$Y$8:$Y$17),\"\")","v":0},{"$f":"IF($B32<>\"\",SUMIF('9'!$W$8:$W$17,'Uitslagen '!B32,'9'!$Y$8:$Y$17),\"\")","v":0},{"$f":"IF($B32<>\"\",SUMIF('10'!$W$8:$W$17,'Uitslagen '!B32,'10'!$Y$8:$Y$17),\"\")","v":0},{"$f":"IF($B32<>\"\",SUMIF('11'!$W$8:$W$17,'Uitslagen '!B32,'11'!$Y$8:$Y$17),\"\")","v":0},{"$f":"IF($B32<>\"\",SUMIF('12'!$W$8:$W$17,'Uitslagen '!B32,'12'!$Y$8:$Y$17),\"\")","v":0},{"$f":"IF($B32<>\"\",SUMIF('13'!$W$8:$W$17,'Uitslagen '!B32,'13'!$Y$8:$Y$17),\"\")","v":0},{"$f":"IF($B32<>\"\",SUMIF('14'!$W$8:$W$17,'Uitslagen '!B32,'14'!$Y$8:$Y$17),\"\")","v":0},{"$f":"IF($B32<>\"\",SUMIF('15'!$W$8:$W$17,'Uitslagen '!B32,'15'!$Y$8:$Y$17),\"\")","v":0},{"$f":"IF($B32<>\"\",SUMIF('16'!$W$8:$W$17,'Uitslagen '!B32,'16'!$Y$8:$Y$17),\"\")","v":0},{"$f":"IF($B32<>\"\",SUMIF('17'!$W$8:$W$17,'Uitslagen '!B32,'17'!$Y$8:$Y$17),\"\")","v":0},{"$f":"IF($B32<>\"\",SUMIF('18'!$W$8:$W$17,'Uitslagen '!B32,'18'!$Y$8:$Y$17),\"\")","v":0},{"$f":"IF($B32<>\"\",SUMIF('19'!$W$8:$W$17,'Uitslagen '!B32,'19'!$Y$8:$Y$17),\"\")","v":0},{"$f":"IF($B32<>\"\",SUMIF('20'!$W$8:$W$17,'Uitslagen '!B32,'20'!$Y$8:$Y$17),\"\")","v":0},{"$f":"IF($B32<>\"\",SUMIF('21'!$W$8:$W$17,'Uitslagen '!B32,'21'!$Y$8:$Y$17),\"\")","v":0},15,0]
[null,"Nico Hülkenberg",{"$f":"IF($B33<>\"\",SUMIF('1'!$W8:W$17,'Uitslagen '!B33,'1'!AA$8:AA$17),\"\")","v":6},{"$f":"IF($B33<>\"\",SUMIF('2'!$W$8:$W17,'Uitslagen '!B33,'2'!Y$8:Y$17),\"\")","v":0},{"$f":"IF($B33<>\"\",SUMIF('3'!$W$8:$W$17,'Uitslagen '!B33,'3'!Y$8:Y$17),\"\")","v":0},{"$f":"IF($B33<>\"\",SUMIF('4'!$W$8:$W$17,'Uitslagen '!B33,'4'!Y$8:Y$17),\"\")","v":0},{"$f":"IF($B33<>\"\",SUMIF('5'!$W$8:$W$17,'Uitslagen '!B33,'5'!Y$8:Y$17),\"\")","v":0},{"$f":"IF($B33<>\"\",SUMIF('6'!$W$8:$W$17,'Uitslagen '!B33,'6'!Z$8:Z$17),\"\")","v":0},{"$f":"IF($B33<>\"\",SUMIF('7'!$W$8:$W$17,'Uitslagen '!B33,'7'!Y$8:Y$17),\"\")","v":0},{"$f":"IF($B33<>\"\",SUMIF('8'!$W$8:$W$17,'Uitslagen '!B33,'8'!$Y$8:$Y$17),\"\")","v":0},{"$f":"IF($B33<>\"\",SUMIF('9'!$W$8:$W$17,'Uitslagen '!B33,'9'!$Y$8:$Y$17),\"\")","v":0},{"$f":"IF($B33<>\"\",SUMIF('10'!$W$8:$W$17,'Uitslagen '!B33,'10'!$Y$8:$Y$17),\"\")","v":0},{"$f":"IF($B33<>\"\",SUMIF('11'!$W$8:$W$17,'Uitslagen '!B33,'11'!$Y$8:$Y$17),\"\")","v":0},{"$f":"IF($B33<>\"\",SUMIF('12'!$W$8:$W$17,'Uitslagen '!B33,'12'!$Y$8:$Y$17),\"\")","v":0},{"$f":"IF($B33<>\"\",SUMIF('13'!$W$8:$W$17,'Uitslagen '!B33,'13'!$Y$8:$Y$17),\"\")","v":0},{"$f":"IF($B33<>\"\",SUMIF('14'!$W$8:$W$17,'Uitslagen '!B33,'14'!$Y$8:$Y$17),\"\")","v":0},{"$f":"IF($B33<>\"\",SUMIF('15'!$W$8:$W$17,'Uitslagen '!B33,'15'!$Y$8:$Y$17),\"\")","v":0},{"$f":"IF($B33<>\"\",SUMIF('16'!$W$8:$W$17,'Uitslagen '!B33,'16'!$Y$8:$Y$17),\"\")","v":0},{"$f":"IF($B33<>\"\",SUMIF('17'!$W$8:$W$17,'Uitslagen '!B33,'17'!$Y$8:$Y$17),\"\")","v":0},{"$f":"IF($B33<>\"\",SUMIF('18'!$W$8:$W$17,'Uitslagen '!B33,'18'!$Y$8:$Y$17),\"\")","v":0},{"$f":"IF($B33<>\"\",SUMIF('19'!$W$8:$W$17,'Uitslagen '!B33,'19'!$Y$8:$Y$17),\"\")","v":0},{"$f":"IF($B33<>\"\",SUMIF('20'!$W$8:$W$17,'Uitslagen '!B33,'20'!$Y$8:$Y$17),\"\")","v":0},{"$f":"IF($B33<>\"\",SUMIF('21'!$W$8:$W$17,'Uitslagen '!B33,'21'!$Y$8:$Y$17),\"\")","v":0},6,0]
[null,"Pierre Gasly",{"$f":"IF($B34<>\"\",SUMIF('1'!$W8:W$17,'Uitslagen '!B34,'1'!Y$8:Y$17),\"\")","v":0},{"$f":"IF($B34<>\"\",SUMIF('2'!$W$8:$W17,'Uitslagen '!B34,'2'!Y$8:Y$17),\"\")","v":0},{"$f":"IF($B34<>\"\",SUMIF('3'!$W$8:$W$17,'Uitslagen '!B34,'3'!Y$8:Y$17),\"\")","v":0},{"$f":"IF($B34<>\"\",SUMIF('4'!$W$8:$W$17,'Uitslagen '!B34,'4'!Y$8:Y$17),\"\")","v":0},{"$f":"IF($B34<>\"\",SUMIF('5'!$W$8:$W$17,'Uitslagen '!B34,'5'!Y$8:Y$17),\"\")","v":0},{"$f":"IF($B34<>\"\",SUMIF('6'!$W$8:$W$17,'Uitslagen '!B34,'6'!Z$8:Z$17),\"\")","v":0},{"$f":"IF($B34<>\"\",SUMIF('7'!$W$8:$W$17,'Uitslagen '!B34,'7'!Y$8:Y$17),\"\")","v":0},{"$f":"IF($B34<>\"\",SUMIF('8'!$W$8:$W$17,'Uitslagen '!B34,'8'!$Y$8:$Y$17),\"\")","v":0},{"$f":"IF($B34<>\"\",SUMIF('9'!$W$8:$W$17,'Uitslagen '!B34,'9'!$Y$8:$Y$17),\"\")","v":0},{"$f":"IF($B34<>\"\",SUMIF('10'!$W$8:$W$17,'Uitslagen '!B34,'10'!$Y$8:$Y$17),\"\")","v":0},{"$f":"IF($B34<>\"\",SUMIF('11'!$W$8:$W$17,'Uitslagen '!B34,'11'!$Y$8:$Y$17),\"\")","v":0},{"$f":"IF($B34<>\"\",SUMIF('12'!$W$8:$W$17,'Uitslagen '!B34,'12'!$Y$8:$Y$17),\"\")","v":0},{"$f":"IF($B34<>\"\",SUMIF('13'!$W$8:$W$17,'Uitslagen '!B34,'13'!$Y$8:$Y$17),\"\")","v":0},{"$f":"IF($B34<>\"\",SUMIF('14'!$W$8:$W$17,'Uitslagen '!B34,'14'!$Y$8:$Y$17),\"\")","v":0},{"$f":"IF($B34<>\"\",SUMIF('15'!$W$8:$W$17,'Uitslagen '!B34,'15'!$Y$8:$Y$17),\"\")","v":0},{"$f":"IF($B34<>\"\",SUMIF('16'!$W$8:$W$17,'Uitslagen '!B34,'16'!$Y$8:$Y$17),\"\")","v":0},{"$f":"IF($B34<>\"\",SUMIF('17'!$W$8:$W$17,'Uitslagen '!B34,'17'!$Y$8:$Y$17),\"\")","v":0},{"$f":"IF($B34<>\"\",SUMIF('18'!$W$8:$W$17,'Uitslagen '!B34,'18'!$Y$8:$Y$17),\"\")","v":0},{"$f":"IF($B34<>\"\",SUMIF('19'!$W$8:$W$17,'Uitslagen '!B34,'19'!$Y$8:$Y$17),\"\")","v":0},{"$f":"IF($B34<>\"\",SUMIF('20'!$W$8:$W$17,'Uitslagen '!B34,'20'!$Y$8:$Y$17),\"\")","v":0},{"$f":"IF($B34<>\"\",SUMIF('21'!$W$8:$W$17,'Uitslagen '!B34,'21'!$Y$8:$Y$17),\"\")","v":0},0,0]
[null,"Robert Kubica",{"$f":"IF($B35<>\"\",SUMIF('1'!$W8:W$17,'Uitslagen '!B35,'1'!Y$8:Y$17),\"\")","v":0},{"$f":"IF($B35<>\"\",SUMIF('2'!$W$8:$W17,'Uitslagen '!B35,'2'!Y$8:Y$17),\"\")","v":0},{"$f":"IF($B35<>\"\",SUMIF('3'!$W$8:$W$17,'Uitslagen '!B35,'3'!Y$8:Y$17),\"\")","v":0},{"$f":"IF($B35<>\"\",SUMIF('4'!$W$8:$W$17,'Uitslagen '!B35,'4'!Y$8:Y$17),\"\")","v":0},{"$f":"IF($B35<>\"\",SUMIF('5'!$W$8:$W$17,'Uitslagen '!B35,'5'!Y$8:Y$17),\"\")","v":0},{"$f":"IF($B35<>\"\",SUMIF('6'!$W$8:$W$17,'Uitslagen '!B35,'6'!Z$8:Z$17),\"\")","v":0},{"$f":"IF($B35<>\"\",SUMIF('7'!$W$8:$W$17,'Uitslagen '!B35,'7'!Y$8:Y$17),\"\")","v":0},{"$f":"IF($B35<>\"\",SUMIF('8'!$W$8:$W$17,'Uitslagen '!B35,'8'!$Y$8:$Y$17),\"\")","v":0},{"$f":"IF($B35<>\"\",SUMIF('9'!$W$8:$W$17,'Uitslagen '!B35,'9'!$Y$8:$Y$17),\"\")","v":0},{"$f":"IF($B35<>\"\",SUMIF('10'!$W$8:$W$17,'Uitslagen '!B35,'10'!$Y$8:$Y$17),\"\")","v":0},{"$f":"IF($B35<>\"\",SUMIF('11'!$W$8:$W$17,'Uitslagen '!B35,'11'!$Y$8:$Y$17),\"\")","v":0},{"$f":"IF($B35<>\"\",SUMIF('12'!$W$8:$W$17,'Uitslagen '!B35,'12'!$Y$8:$Y$17),\"\")","v":0},{"$f":"IF($B35<>\"\",SUMIF('13'!$W$8:$W$17,'Uitslagen '!B35,'13'!$Y$8:$Y$17),\"\")","v":0},{"$f":"IF($B35<>\"\",SUMIF('14'!$W$8:$W$17,'Uitslagen '!B35,'14'!$Y$8:$Y$17),\"\")","v":0},{"$f":"IF($B35<>\"\",SUMIF('15'!$W$8:$W$17,'Uitslagen '!B35,'15'!$Y$8:$Y$17),\"\")","v":0},{"$f":"IF($B35<>\"\",SUMIF('16'!$W$8:$W$17,'Uitslagen '!B35,'16'!$Y$8:$Y$17),\"\")","v":0},{"$f":"IF($B35<>\"\",SUMIF('17'!$W$8:$W$17,'Uitslagen '!B35,'17'!$Y$8:$Y$17),\"\")","v":0},{"$f":"IF($B35<>\"\",SUMIF('18'!$W$8:$W$17,'Uitslagen '!B35,'18'!$Y$8:$Y$17),\"\")","v":0},{"$f":"IF($B35<>\"\",SUMIF('19'!$W$8:$W$17,'Uitslagen '!B35,'19'!$Y$8:$Y$17),\"\")","v":0},{"$f":"IF($B35<>\"\",SUMIF('20'!$W$8:$W$17,'Uitslagen '!B35,'20'!$Y$8:$Y$17),\"\")","v":0},{"$f":"IF($B35<>\"\",SUMIF('21'!$W$8:$W$17,'Uitslagen '!B35,'21'!$Y$8:$Y$17),\"\")","v":0},0,0]
[null,"Romain Grosjean",{"$f":"IF($B36<>\"\",SUMIF('1'!$W8:W$17,'Uitslagen '!B36,'1'!Y$8:Y$17),\"\")","v":0},{"$f":"IF($B36<>\"\",SUMIF('2'!$W$8:$W17,'Uitslagen '!B36,'2'!Y$8:Y$17),\"\")","v":0},{"$f":"IF($B36<>\"\",SUMIF('3'!$W$8:$W$17,'Uitslagen '!B36,'3'!Y$8:Y$17),\"\")","v":0},{"$f":"IF($B36<>\"\",SUMIF('4'!$W$8:$W$17,'Uitslagen '!B36,'4'!Y$8:Y$17),\"\")","v":0},{"$f":"IF($B36<>\"\",SUMIF('5'!$W$8:$W$17,'Uitslagen '!B36,'5'!Y$8:Y$17),\"\")","v":0},{"$f":"IF($B36<>\"\",SUMIF('6'!$W$8:$W$17,'Uitslagen '!B36,'6'!Z$8:Z$17),\"\")","v":0},{"$f":"IF($B36<>\"\",SUMIF('7'!$W$8:$W$17,'Uitslagen '!B36,'7'!Y$8:Y$17),\"\")","v":0},{"$f":"IF($B36<>\"\",SUMIF('8'!$W$8:$W$17,'Uitslagen '!B36,'8'!$Y$8:$Y$17),\"\")","v":0},{"$f":"IF($B36<>\"\",SUMIF('9'!$W$8:$W$17,'Uitslagen '!B36,'9'!$Y$8:$Y$17),\"\")","v":0},{"$f":"IF($B36<>\"\",SUMIF('10'!$W$8:$W$17,'Uitslagen '!B36,'10'!$Y$8:$Y$17),\"\")","v":0},{"$f":"IF($B36<>\"\",SUMIF('11'!$W$8:$W$17,'Uitslagen '!B36,'11'!$Y$8:$Y$17),\"\")","v":0},{"$f":"IF($B36<>\"\",SUMIF('12'!$W$8:$W$17,'Uitslagen '!B36,'12'!$Y$8:$Y$17),\"\")","v":0},{"$f":"IF($B36<>\"\",SUMIF('13'!$W$8:$W$17,'Uitslagen '!B36,'13'!$Y$8:$Y$17),\"\")","v":0},{"$f":"IF($B36<>\"\",SUMIF('14'!$W$8:$W$17,'Uitslagen '!B36,'14'!$Y$8:$Y$17),\"\")","v":0},{"$f":"IF($B36<>\"\",SUMIF('15'!$W$8:$W$17,'Uitslagen '!B36,'15'!$Y$8:$Y$17),\"\")","v":0},{"$f":"IF($B36<>\"\",SUMIF('16'!$W$8:$W$17,'Uitslagen '!B36,'16'!$Y$8:$Y$17),\"\")","v":0},{"$f":"IF($B36<>\"\",SUMIF('17'!$W$8:$W$17,'Uitslagen '!B36,'17'!$Y$8:$Y$17),\"\")","v":0},{"$f":"IF($B36<>\"\",SUMIF('18'!$W$8:$W$17,'Uitslagen '!B36,'18'!$Y$8:$Y$17),\"\")","v":0},{"$f":"IF($B36<>\"\",SUMIF('19'!$W$8:$W$17,'Uitslagen '!B36,'19'!$Y$8:$Y$17),\"\")","v":0},{"$f":"IF($B36<>\"\",SUMIF('20'!$W$8:$W$17,'Uitslagen '!B36,'20'!$Y$8:$Y$17),\"\")","v":0},{"$f":"IF($B36<>\"\",SUMIF('21'!$W$8:$W$17,'Uitslagen '!B36,'21'!$Y$8:$Y$17),\"\")","v":0},0,0]
[null,"Sebastian Vettel",{"$f":"IF($B37<>\"\",SUMIF('1'!$W8:W$17,'Uitslagen '!B37,'1'!AA$8:AA$17),\"\")","v":12},{"$f":"IF($B37<>\"\",SUMIF('2'!$W$8:$W17,'Uitslagen '!B37,'2'!Y$8:Y$17),\"\")","v":0},{"$f":"IF($B37<>\"\",SUMIF('3'!$W$8:$W$17,'Uitslagen '!B37,'3'!Y$8:Y$17),\"\")","v":0},{"$f":"IF($B37<>\"\",SUMIF('4'!$W$8:$W$17,'Uitslagen '!B37,'4'!Y$8:Y$17),\"\")","v":0},{"$f":"IF($B37<>\"\",SUMIF('5'!$W$8:$W$17,'Uitslagen '!B37,'5'!Y$8:Y$17),\"\")","v":0},{"$f":"IF($B37<>\"\",SUMIF('6'!$W$8:$W$17,'Uitslagen '!B37,'6'!Z$8:Z$17),\"\")","v":0},{"$f":"IF($B37<>\"\",SUMIF('7'!$W$8:$W$17,'Uitslagen '!B37,'7'!Y$8:Y$17),\"\")","v":0},{"$f":"IF($B37<>\"\",SUMIF('8'!$W$8:$W$17,'Uitslagen '!B37,'8'!$Y$8:$Y$17),\"\")","v":0},{"$f":"IF($B37<>\"\",SUMIF('9'!$W$8:$W$17,'Uitslagen '!B37,'9'!$Y$8:$Y$17),\"\")","v":0},{"$f":"IF($B37<>\"\",SUMIF('10'!$W$8:$W$17,'Uitslagen '!B37,'10'!$Y$8:$Y$17),\"\")","v":0},{"$f":"IF($B37<>\"\",SUMIF('11'!$W$8:$W$17,'Uitslagen '!B37,'11'!$Y$8:$Y$17),\"\")","v":0},{"$f":"IF($B37<>\"\",SUMIF('12'!$W$8:$W$17,'Uitslagen '!B37,'12'!$Y$8:$Y$17),\"\")","v":0},{"$f":"IF($B37<>\"\",SUMIF('13'!$W$8:$W$17,'Uitslagen '!B37,'13'!$Y$8:$Y$17),\"\")","v":0},{"$f":"IF($B37<>\"\",SUMIF('14'!$W$8:$W$17,'Uitslagen '!B37,'14'!$Y$8:$Y$17),\"\")","v":0},{"$f":"IF($B37<>\"\",SUMIF('15'!$W$8:$W$17,'Uitslagen '!B37,'15'!$Y$8:$Y$17),\"\")","v":0},{"$f":"IF($B37<>\"\",SUMIF('16'!$W$8:$W$17,'Uitslagen '!B37,'16'!$Y$8:$Y$17),\"\")","v":0},{"$f":"IF($B37<>\"\",SUMIF('17'!$W$8:$W$17,'Uitslagen '!B37,'17'!$Y$8:$Y$17),\"\")","v":0},{"$f":"IF($B37<>\"\",SUMIF('18'!$W$8:$W$17,'Uitslagen '!B37,'18'!$Y$8:$Y$17),\"\")","v":0},{"$f":"IF($B37<>\"\",SUMIF('19'!$W$8:$W$17,'Uitslagen '!B37,'19'!$Y$8:$Y$17),\"\")","v":0},{"$f":"IF($B37<>\"\",SUMIF('20'!$W$8:$W$17,'Uitslagen '!B37,'20'!$Y$8:$Y$17),\"\")","v":0},{"$f":"IF($B37<>\"\",SUMIF('21'!$W$8:$W$17,'Uitslagen '!B37,'21'!$Y$8:$Y$17),\"\")","v":0},12,0]
[null,"Sergio Perez",{"$f":"IF($B38<>\"\",SUMIF('1'!$W8:W$17,'Uitslagen '!B38,'1'!Y$8:Y$17),\"\")","v":0},{"$f":"IF($B38<>\"\",SUMIF('2'!$W$8:$W17,'Uitslagen '!B38,'2'!Y$8:Y$17),\"\")","v":0},{"$f":"IF($B38<>\"\",SUMIF('3'!$W$8:$W$17,'Uitslagen '!B38,'3'!Y$8:Y$17),\"\")","v":0},{"$f":"IF($B38<>\"\",SUMIF('4'!$W$8:$W$17,'Uitslagen '!B38,'4'!Y$8:Y$17),\"\")","v":0},{"$f":"IF($B38<>\"\",SUMIF('5'!$W$8:$W$17,'Uitslagen '!B38,'5'!Y$8:Y$17),\"\")","v":0},{"$f":"IF($B38<>\"\",SUMIF('6'!$W$8:$W$17,'Uitslagen '!B38,'6'!Z$8:Z$17),\"\")","v":0},{"$f":"IF($B38<>\"\",SUMIF('7'!$W$8:$W$17,'Uitslagen '!B38,'7'!Y$8:Y$17),\"\")","v":0},{"$f":"IF($B38<>\"\",SUMIF('8'!$W$8:$W$17,'Uitslagen '!B38,'8'!$Y$8:$Y$17),\"\")","v":0},{"$f":"IF($B38<>\"\",SUMIF('9'!$W$8:$W$17,'Uitslagen '!B38,'9'!$Y$8:$Y$17),\"\")","v":0},{"$f":"IF($B38<>\"\",SUMIF('10'!$W$8:$W$17,'Uitslagen '!B38,'10'!$Y$8:$Y$17),\"\")","v":0},{"$f":"IF($B38<>\"\",SUMIF('11'!$W$8:$W$17,'Uitslagen '!B38,'11'!$Y$8:$Y$17),\"\")","v":0},{"$f":"IF($B38<>\"\",SUMIF('12'!$W$8:$W$17,'Uitslagen '!B38,'12'!$Y$8:$Y$17),\"\")","v":0},{"$f":"IF($B38<>\"\",SUMIF('13'!$W$8:$W$17,'Uitslagen '!B38,'13'!$Y$8:$Y$17),\"\")","v":0},{"$f":"IF($B38<>\"\",SUMIF('14'!$W$8:$W$17,'Uitslagen '!B38,'14'!$Y$8:$Y$17),\"\")","v":0},{"$f":"IF($B38<>\"\",SUMIF('15'!$W$8:$W$17,'Uitslagen '!B38,'15'!$Y$8:$Y$17),\"\")","v":0},{"$f":"IF($B38<>\"\",SUMIF('16'!$W$8:$W$17,'Uitslagen '!B38,'16'!$Y$8:$Y$17),\"\")","v":0},{"$f":"IF($B38<>\"\",SUMIF('17'!$W$8:$W$17,'Uitslagen '!B38,'17'!$Y$8:$Y$17),\"\")","v":0},{"$f":"IF($B38<>\"\",SUMIF('18'!$W$8:$W$17,'Uitslagen '!B38,'18'!$Y$8:$Y$17),\"\")","v":0},{"$f":"IF($B38<>\"\",SUMIF('19'!$W$8:$W$17,'Uitslagen '!B38,'19'!$Y$8:$Y$17),\"\")","v":0},{"$f":"IF($B38<>\"\",SUMIF('20'!$W$8:$W$17,'Uitslagen '!B38,'20'!$Y$8:$Y$17),\"\")","v":0},{"$f":"IF($B38<>\"\",SUMIF('21'!$W$8:$W$17,'Uitslagen '!B38,'21'!$Y$8:$Y$17),\"\")","v":0},{"$f":"SUM(C38:W38)","v":0},{"$f":"COUNTIF(C38:W38,25)","v":0}]
[null,"Valtteri Bottas",{"$f":"IF($B39<>\"\",SUMIF('1'!$W8:W$17,'Uitslagen '!B39,'1'!AA$8:AA$17),\"\")","v":25},{"$f":"IF($B39<>\"\",SUMIF('2'!$W$8:$W17,'Uitslagen '!B39,'2'!Y$8:Y$17),\"\")","v":0},{"$f":"IF($B39<>\"\",SUMIF('3'!$W$8:$W$17,'Uitslagen '!B39,'3'!Y$8:Y$17),\"\")","v":0},{"$f":"IF($B39<>\"\",SUMIF('4'!$W$8:$W$17,'Uitslagen '!B39,'4'!Y$8:Y$17),\"\")","v":0},{"$f":"IF($B39<>\"\",SUMIF('5'!$W$8:$W$17,'Uitslagen '!B39,'5'!Y$8:Y$17),\"\")","v":0},{"$f":"IF($B39<>\"\",SUMIF('6'!$W$8:$W$17,'Uitslagen '!B39,'6'!Z$8:Z$17),\"\")","v":0},{"$f":"IF($B39<>\"\",SUMIF('7'!$W$8:$W$17,'Uitslagen '!B39,'7'!Y$8:Y$17),\"\")","v":0},{"$f":"IF($B39<>\"\",SUMIF('8'!$W$8:$W$17,'Uitslagen '!B39,'8'!$Y$8:$Y$17),\"\")","v":0},{"$f":"IF($B39<>\"\",SUMIF('9'!$W$8:$W$17,'Uitslagen '!B39,'9'!$Y$8:$Y$17),\"\")","v":0},{"$f":"IF($B39<>\"\",SUMIF('10'!$W$8:$W$17,'Uitslagen '!B39,'10'!$Y$8:$Y$17),\"\")","v":0},{"$f":"IF($B39<>\"\",SUMIF('11'!$W$8:$W$17,'Uitslagen '!B39,'11'!$Y$8:$Y$17),\"\")","v":0},{"$f":"IF($B39<>\"\",SUMIF('12'!$W$8:$W$17,'Uitslagen '!B39,'12'!$Y$8:$Y$17),\"\")","v":0},{"$f":"IF($B39<>\"\",SUMIF('13'!$W$8:$W$17,'Uitslagen '!B39,'13'!$Y$8:$Y$17),\"\")","v":0},{"$f":"IF($B39<>\"\",SUMIF('14'!$W$8:$W$17,'Uitslagen '!B39,'14'!$Y$8:$Y$17),\"\")","v":0},{"$f":"IF($B39<>\"\",SUMIF('15'!$W$8:$W$17,'Uitslagen '!B39,'15'!$Y$8:$Y$17),\"\")","v":0},{"$f":"IF($B39<>\"\",SUMIF('16'!$W$8:$W$17,'Uitslagen '!B39,'16'!$Y$8:$Y$17),\"\")","v":0},{"$f":"IF($B39<>\"\",SUMIF('17'!$W$8:$W$17,'Uitslagen '!B39,'17'!$Y$8:$Y$17),\"\")","v":0},{"$f":"IF($B39<>\"\",SUMIF('18'!$W$8:$W$17,'Uitslagen '!B39,'18'!$Y$8:$Y$17),\"\")","v":0},{"$f":"IF($B39<>\"\",SUMIF('19'!$W$8:$W$17,'Uitslagen '!B39,'19'!$Y$8:$Y$17),\"\")","v":0},{"$f":"IF($B39<>\"\",SUMIF('20'!$W$8:$W$17,'Uitslagen '!B39,'20'!$Y$8:$Y$17),\"\")","v":0},{"$f":"IF($B39<>\"\",SUMIF('21'!$W$8:$W$17,'Uitslagen '!B39,'21'!$Y$8:$Y$17),\"\")","v":0},{"$f":"SUM(C39:W39)","v":25},{"$f":"COUNTIF(C39:W39,25)","v":1}]
[null,null,{"$f":"C4","v":"Australië"},{"$f":"D4","v":"Bahrein"},"China","Azerbeidzjan","Spanje","Monaco","Canada","Frankrijk","Oostenrijk","Groot-Brittannië  ","Duitsland","Hongarije","Belgie","Italie","Singapore","Rusland","Japan","Amerika","Mexico","Brazilie","Abu Dhabi"]
[null,"Antonio Giovinazzi",{"$f":"IF($B41<>\"\",SUMIF('1'!W4,'Uitslagen '!B41,'1'!AA$23),\"\")","v":0},null,null,null,null,null,null,null,null,null,null,null,null,null,null,null,null,null,null,null,null,{"$f":"SUM(C41:W41)","v":0}]
[null,"Alex Albon",{"$f":"IF($B42<>\"\",SUMIF('1'!W5,'Uitslagen '!B42,'1'!AA$23),\"\")","v":0},null,null,null,null,null,null,null,null,null,null,null,null,null,null,null,null,null,null,null,null,{"$f":"SUM(C42:W42)","v":0}]
[null,"Carlos Sainz jr",{"$f":"IF($B43<>\"\",SUMIF('1'!W6,'Uitslagen '!B43,'1'!AA$23),\"\")","v":0},null,null,null,null,null,null,null,null,null,null,null,null,null,null,null,null,null,null,null,null,0]
[null,"Charles Leclerc",{"$f":"IF($B44<>\"\",SUMIF('1'!W7,'Uitslagen '!B44,'1'!AA$23),\"\")","v":0},null,null,null,null,null,null,null,null,null,null,null,null,null,null,null,null,null,null,null,null,0]
[null,"Daniel Ricciardo",{"$f":"IF($B45<>\"\",SUMIF('1'!W8,'Uitslagen '!B45,'1'!AA$23),\"\")","v":0},null,null,null,null,null,null,null,null,null,null,null,null,null,null,null,null,null,null,null,null,0]
[null,"Daniil Kvjat",{"$f":"IF($B46<>\"\",SUMIF('1'!W9,'Uitslagen '!B46,'1'!AA$23),\"\")","v":0},null,null,null,null,null,null,null,null,null,null,null,null,null,null,null,null,null,null,null,null,0]
[null,"George Russell",{"$f":"IF($B47<>\"\",SUMIF('1'!W10,'Uitslagen '!B47,'1'!AA$23),\"\")","v":0},null,null,null,null,null,null,null,null,null,null,null,null,null,null,null,null,null,null,null,null,0]
[null,"Kevin Magnussen",{"$f":"IF($B48<>\"\",SUMIF('1'!W11,'Uitslagen '!B48,'1'!AA$23),\"\")","v":0},null,null,null,null,null,null,null,null,null,null,null,null,null,null,null,null,null,null,null,null,0]
[null,"Kimi Räikkönen",{"$f":"IF($B49<>\"\",SUMIF('1'!W12,'Uitslagen '!B49,'1'!AA$23),\"\")","v":0},null,null,null,null,null,null,null,null,null,null,null,null,null,null,null,null,null,null,null,null,0]
[null,"Lance Stroll",{"$f":"IF($B50<>\"\",SUMIF('1'!W13,'Uitslagen '!B50,'1'!AA$23),\"\")","v":0},null,null,null,null,null,null,null,null,null,null,null,null,null,null,null,null,null,null,null,null,0]
[null,"Lando Norris",{"$f":"IF($B51<>\"\",SUMIF('1'!W14,'Uitslagen '!B51,'1'!AA$23),\"\")","v":0},null,null,null,null,null,null,null,null,null,null,null,null,null,null,null,null,null,null,null,null,0]
[null,"Lewis Hamilton",{"$f":"IF($B52<>\"\",SUMIF('1'!W15,'Uitslagen '!B52,'1'!AA$23),\"\")","v":0},null,null,null,null,null,null,null,null,null,null,null,null,null,null,null,null,null,null,null,null,0]
[null,"Max Verstappen",{"$f":"IF($B53<>\"\",SUMIF('1'!W16,'Uitslagen '!B53,'1'!AA$23),\"\")","v":0},null,null,null,null,null,null,null,null,null,null,null,null,null,null,null,null,null,null,null,null,0]
[null,"Nico Hülkenberg",{"$f":"IF($B54<>\"\",SUMIF('1'!W17,'Uitslagen '!B54,'1'!AA$23),\"\")","v":0},null,null,null,null,null,null,null,null,null,null,null,null,null,null,null,null,null,null,null,null,0]
[null,"Pierre Gasly",{"$f":"IF($B55<>\"\",SUMIF('1'!W18,'Uitslagen '!B55,'1'!AA$23),\"\")","v":0},null,null,null,null,null,null,null,null,null,null,null,null,null,null,null,null,null,null,null,null,0]
[null,"Robert Kubica",{"$f":"IF($B56<>\"\",SUMIF('1'!W19,'Uitslagen '!B56,'1'!AA$23),\"\")","v":0},null,null,null,null,null,null,null,null,null,null,null,null,null,null,null,null,null,null,null,null,0]
[null,"Romain Grosjean",{"$f":"IF($B57<>\"\",SUMIF('1'!W20,'Uitslagen '!B57,'1'!AA$23),\"\")","v":0},null,null,null,null,null,null,null,null,null,null,null,null,null,null,null,null,null,null,null,null,0]
[null,"Sebastian Vettel",{"$f":"IF($B58<>\"\",SUMIF('1'!W21,'Uitslagen '!B58,'1'!AA$23),\"\")","v":0},null,null,null,null,null,null,null,null,null,null,null,null,null,null,null,null,null,null,null,null,0]
[null,"Sergio Perez",{"$f":"IF($B59<>\"\",SUMIF('1'!W22,'Uitslagen '!B59,'1'!AA$23),\"\")","v":0},null,null,null,null,null,null,null,null,null,null,null,null,null,null,null,null,null,null,null,null,{"$f":"SUM(C59:W59)","v":0}]
[null,"Valtteri Bottas",{"$f":"IF($B60<>\"\",SUMIF('1'!W23,'Uitslagen '!B60,'1'!AA$23),\"\")","v":1},null,null,null,null,null,null,null,null,null,null,null,null,null,null,null,null,null,null,null,null,{"$f":"SUM(C60:W60)","v":1}]
[]
[null,"Antonio Giovinazzi",{"$f":"C20+C41","v":0},{"$f":"D20+D41","v":0},0,0,0,0,0,0,0,0,0,0,0,0,0,0,0,0,0,0,0,{"$f":"SUM(C62:W62)","v":0}]
[null,"Alex Albon",{"$f":"C21+C42","v":0},0,0,0,0,0,0,0,0,0,0,0,0,0,0,0,0,0,0,0,0,{"$f":"SUM(C63:W63)","v":0}]
[null,"Carlos Sainz jr",{"$f":"C22+C43","v":0},0,0,0,0,0,0,0,0,0,0,0,0,0,0,0,0,0,0,0,0,0]
[null,"Charles Leclerc",{"$f":"C23+C44","v":10},0,0,0,0,0,0,0,0,0,0,0,0,0,0,0,0,0,0,0,0,10]
[null,"Daniel Ricciardo",{"$f":"C24+C45","v":0},0,0,0,0,0,0,0,0,0,0,0,0,0,0,0,0,0,0,0,0,0]
[null,"Daniil Kvjat",{"$f":"C25+C46","v":1},0,0,0,0,0,0,0,0,0,0,0,0,0,0,0,0,0,0,0,0,1]
[null,"George Russell",{"$f":"C26+C47","v":0},0,0,0,0,0,0,0,0,0,0,0,0,0,0,0,0,0,0,0,0,0]
[null,"Kevin Magnussen",{"$f":"C27+C48","v":8},0,0,0,0,0,0,0,0,0,0,0,0,0,0,0,0,0,0,0,0,8]
[null,"Kimi Räikkönen",{"$f":"C28+C49","v":4},0,0,0,0,0,0,0,0,0,0,0,0,0,0,0,0,0,0,0,0,4]
[null,"Lance Stroll",{"$f":"C29+C50","v":2},0,0,0,0,0,0,0,0,0,0,0,0,0,0,0,0,0,0,0,0,2]
[null,"Lando Norris",{"$f":"C30+C51","v":0},0,0,0,0,0,0,0,0,0,0,0,0,0,0,0,0,0,0,0,0,0]
[null,"Lewis Hamilton",{"$f":"C31+C52","v":18},0,0,0,0,0,0,0,0,0,0,0,0,0,0,0,0,0,0,0,0,18]
[null,"Max Verstappen",{"$f":"C32+C53","v":15},0,0,0,0,0,0,0,0,0,0,0,0,0,0,0,0,0,0,0,0,15]
[null,"Nico Hülkenberg",{"$f":"C33+C54","v":6},0,0,0,0,0,0,0,0,0,0,0,0,0,0,0,0,0,0,0,0,6]
[null,"Pierre Gasly",{"$f":"C34+C55","v":0},0,0,0,0,0,0,0,0,0,0,0,0,0,0,0,0,0,0,0,0,0]
[null,"Robert Kubica",{"$f":"C35+C56","v":0},0,0,0,0,0,0,0,0,0,0,0,0,0,0,0,0,0,0,0,0,0]
[null,"Romain Grosjean",{"$f":"C36+C57","v":0},0,0,0,0,0,0,0,0,0,0,0,0,0,0,0,0,0,0,0,0,0]
[null,"Sebastian Vettel",{"$f":"C37+C58","v":12},0,0,0,0,0,0,0,0,0,0,0,0,0,0,0,0,0,0,0,0,12]
[null,"Sergio Perez",{"$f":"C38+C59","v":0},0,0,0,0,0,0,0,0,0,0,0,0,0,0,0,0,0,0,0,0,{"$f":"SUM(C80:W80)","v":0}]
[null,"Valtteri Bottas",{"$f":"C39+C60","v":26},0,0,0,0,0,0,0,0,0,0,0,0,0,0,0,0,0,0,0,0,{"$f":"SUM(C81:W81)","v":26}]

{"sheet":"Totaal punten","index":25,"n_rows":13,"n_cols":25,"rows_kept":13,"cut":false,"hidden":false,"merged":[]}
[]
[]
[null,null,"Australie","Bahrein","China","Azerbeidzjan","Spanje","Monaco","Canada","Frankrijk","Oostenrijk","Groot-Brittannië  ","Duitsland","Hongarije","Belgie","Italie","Singapore","Rusland","Japan","Mexico","Amerika","Brazilie","Abu Dhabi"]
[null,null,1,2,3,4,5,6,7,8,9,10,11,12,13,14,15,16,17,18,19,20,21,null,"Totaal"]
[null,{"$f":"'1'!C6","v":"deelnemer 1"},{"$f":"'1'!$D$21","v":40},{"$f":"'2'!$D$21","v":0},{"$f":"'3'!$D$21","v":0},{"$f":"'4'!D21","v":0},{"$f":"'5'!$D$21","v":0},{"$f":"'6'!$D$21","v":0},{"$f":"'7'!$D$21","v":0},{"$f":"'8'!$D$21","v":0},{"$f":"'10'!$D$21","v":0},{"$f":"'10'!$D$21","v":0},{"$f":"'11'!$D$21","v":0},{"$f":"'12'!$D$21","v":0},{"$f":"'13'!$D$21","v":0},{"$f":"'14'!$D$21","v":0},{"$f":"'15'!$D$21","v":0},{"$f":"'16'!$D$21","v":0},{"$f":"'17'!$D$21","v":0},{"$f":"'18'!$D$21","v":0},{"$f":"'19'!$D$21","v":0},{"$f":"'20'!$D$21","v":0},{"$f":"'21'!$D$21","v":0},null,{"$f":"SUM(C5:V5)","v":40}]
[null,{"$f":"'1'!E6","v":"deelnemer 2"},{"$f":"'1'!$F$21","v":30},{"$f":"'2'!$F$21","v":0},{"$f":"'3'!$F$21","v":0},{"$f":"'4'!F21","v":0},{"$f":"'5'!$F$21","v":0},{"$f":"'6'!$F$21","v":0},{"$f":"'7'!$F$21","v":0},{"$f":"'8'!$F$21","v":0},{"$f":"'9'!$F$21","v":0},{"$f":"'10'!$F$21","v":0},{"$f":"'11'!$F$21","v":0},{"$f":"'12'!$F$21","v":0},{"$f":"'13'!$F$21","v":0},{"$f":"'14'!$F$21","v":0},{"$f":"'15'!$F$21","v":0},{"$f":"'16'!$F$21","v":0},{"$f":"'17'!$F$21","v":0},{"$f":"'18'!$F$21","v":0},{"$f":"'19'!$F$21","v":0},{"$f":"'20'!$F$21","v":0},{"$f":"'21'!$F$21","v":0},null,{"$f":"SUM(C6:V6)","v":30}]
[null,{"$f":"'1'!G6","v":"deelnemer 3"},{"$f":"'1'!$H$21","v":15},{"$f":"'2'!$H$21","v":0},{"$f":"'3'!$H$21","v":0},{"$f":"'4'!H21","v":0},{"$f":"'5'!$H$21","v":0},{"$f":"'6'!$H$21","v":0},{"$f":"'7'!$H$21","v":0},{"$f":"'8'!$H$21","v":0},{"$f":"'9'!$H$21","v":0},{"$f":"'10'!$H$21","v":0},{"$f":"'11'!$H$21","v":0},{"$f":"'12'!$H$21","v":0},{"$f":"'13'!$H$21","v":0},{"$f":"'14'!$H$21","v":0},{"$f":"'15'!$H$21","v":0},{"$f":"'16'!$H$21","v":0},{"$f":"'17'!$H$21","v":0},{"$f":"'18'!$H$21","v":0},{"$f":"'19'!$H$21","v":0},{"$f":"'20'!$H$21","v":0},{"$f":"'21'!$H$21","v":0},null,15]
[null,{"$f":"'1'!I6","v":"deelnemer 4"},{"$f":"'1'!$J$21","v":10},{"$f":"'2'!$J$21","v":0},{"$f":"'3'!$J$21","v":0},{"$f":"'4'!J21","v":0},{"$f":"'5'!$J$21","v":0},{"$f":"'6'!$J$21","v":0},{"$f":"'7'!$J$21","v":0},{"$f":"'8'!$J$21","v":0},{"$f":"'9'!$J$21","v":0},{"$f":"'10'!$J$21","v":0},{"$f":"'11'!$J$21","v":0},{"$f":"'12'!$J$21","v":0},{"$f":"'13'!$J$21","v":0},{"$f":"'14'!$J$21","v":0},{"$f":"'15'!$J$21","v":0},{"$f":"'16'!$J$21","v":0},{"$f":"'17'!$J$21","v":0},{"$f":"'18'!$J$21","v":0},{"$f":"'19'!$J$21","v":0},{"$f":"'20'!$J$21","v":0},{"$f":"'21'!$J$21","v":0},null,10]
[null,{"$f":"'1'!K6","v":"deelnemer 5"},{"$f":"'1'!$L$21","v":20},{"$f":"'2'!$L$21","v":0},{"$f":"'3'!$L$21","v":0},{"$f":"'4'!L21","v":0},{"$f":"'5'!$L$21","v":0},{"$f":"'6'!$L$21","v":0},{"$f":"'7'!$L$21","v":0},{"$f":"'8'!$L$21","v":0},{"$f":"'9'!$L$21","v":0},{"$f":"'10'!$L$21","v":0},{"$f":"'11'!$L$21","v":0},{"$f":"'12'!$L$21","v":0},{"$f":"'13'!$L$21","v":0},{"$f":"'14'!$L$21","v":0},{"$f":"'15'!$L$21","v":0},{"$f":"'16'!$L$21","v":0},{"$f":"'17'!$L$21","v":0},{"$f":"'18'!$L$21","v":0},{"$f":"'19'!$L$21","v":0},{"$f":"'20'!$L$21","v":0},{"$f":"'21'!$L$21","v":0},null,20]
[null,{"$f":"'1'!M6","v":"deelnemer 6"},{"$f":"'1'!$N$21","v":30},{"$f":"'2'!$N$21","v":0},{"$f":"'3'!$N$21","v":0},{"$f":"'4'!N21","v":0},{"$f":"'5'!$N$21","v":0},{"$f":"'6'!$N$21","v":0},{"$f":"'7'!$N$21","v":0},{"$f":"'8'!$N$21","v":0},{"$f":"'9'!$N$21","v":0},{"$f":"'10'!$N$21","v":0},{"$f":"'11'!$N$21","v":0},{"$f":"'12'!$N$21","v":0},{"$f":"'13'!$N$21","v":0},{"$f":"'14'!$N$21","v":0},{"$f":"'15'!$N$21","v":0},{"$f":"'16'!$N$21","v":0},{"$f":"'17'!$N$21","v":0},{"$f":"'18'!$N$21","v":0},{"$f":"'19'!$N$21","v":0},{"$f":"'20'!$N$21","v":0},{"$f":"'21'!$N$21","v":0},null,30]
[null,{"$f":"'1'!O6","v":"deelnemer 7"},{"$f":"'1'!$P$21","v":30},{"$f":"'2'!$P$21","v":0},{"$f":"'3'!$P$21","v":0},{"$f":"'4'!P21","v":0},{"$f":"'5'!$P$21","v":0},{"$f":"'6'!$P$21","v":0},{"$f":"'7'!$P$21","v":0},{"$f":"'8'!$P$21","v":0},{"$f":"'9'!$P$21","v":0},{"$f":"'10'!$P$21","v":0},{"$f":"'11'!$P$21","v":0},{"$f":"'12'!$P$21","v":0},{"$f":"'13'!$P$21","v":0},{"$f":"'14'!$P$21","v":0},{"$f":"'15'!$P$21","v":0},{"$f":"'16'!$P$21","v":0},{"$f":"'17'!$P$21","v":0},{"$f":"'18'!$P$21","v":0},{"$f":"'19'!$P$21","v":0},{"$f":"'20'!$P$21","v":0},{"$f":"'21'!$P$21","v":0},null,{"$f":"SUM(C11:V11)","v":30}]
[null,{"$f":"'1'!Q6","v":"deelnemer 8"},{"$f":"'1'!$R$21","v":30},{"$f":"'2'!$R$21","v":0},{"$f":"'3'!$R$21","v":0},{"$f":"'4'!R21","v":0},{"$f":"'5'!$R$21","v":0},{"$f":"'6'!$R$21","v":0},{"$f":"'7'!$R$21","v":0},{"$f":"'8'!$R$21","v":0},{"$f":"'9'!$R$21","v":0},{"$f":"'10'!$R$21","v":0},{"$f":"'11'!$R$21","v":0},{"$f":"'12'!$R$21","v":0},{"$f":"'13'!$R$21","v":0},{"$f":"'14'!$R$21","v":0},{"$f":"'15'!$R$21","v":0},{"$f":"'16'!$R$21","v":0},{"$f":"'17'!$R$21","v":0},{"$f":"'18'!$R$21","v":0},{"$f":"'19'!$R$21","v":0},{"$f":"'20'!$R$21","v":0},{"$f":"'21'!$R$21","v":0},null,30]
[null,{"$f":"'1'!S6","v":"deelnemer 9"},{"$f":"'1'!$T$21","v":0},{"$f":"'2'!$T$21","v":0},{"$f":"'3'!$T$21","v":0},{"$f":"'4'!T21","v":0},{"$f":"'5'!$T$21","v":0},{"$f":"'6'!$T$21","v":0},{"$f":"'7'!$T$21","v":0},{"$f":"'8'!$T$21","v":0},{"$f":"'9'!$T$21","v":0},{"$f":"'10'!$T$21","v":0},{"$f":"'11'!$T$21","v":0},{"$f":"'12'!$T$21","v":0},{"$f":"'13'!$T$21","v":0},{"$f":"'14'!$T$21","v":0},{"$f":"'15'!$T$21","v":0},{"$f":"'16'!$T$21","v":0},{"$f":"'17'!$T$21","v":0},{"$f":"'18'!$T$21","v":0},{"$f":"'19'!$T$21","v":0},{"$f":"'20'!$T$21","v":0},{"$f":"'21'!$T$21","v":0},null,0]

{"sheet":"Rijders F1","index":26,"n_rows":27,"n_cols":11,"rows_kept":27,"cut":false,"hidden":false,"merged":[]}
[]
[]
[]
[null,null,null,null,null,"Rijders",null,null,null,"Deelnemers"]
[]
[null,null,null,null,null,"Antonio Giovinazzi",null,null,null,{"$f":"'Totaal punten'!B5","v":"deelnemer 1"},20]
[null,null,null,null,null,"Alex Albon",null,null,null,{"$f":"'Totaal punten'!B6","v":"deelnemer 2"},20]
[null,null,null,null,null,"Carlos Sainz jr",null,null,null,{"$f":"'Totaal punten'!B7","v":"deelnemer 3"}]
[null,null,null,null,null,"Charles Leclerc",null,null,null,{"$f":"'Totaal punten'!B8","v":"deelnemer 4"},20]
[null,null,null,null,null,"Daniel Ricciardo",null,null,null,{"$f":"'Totaal punten'!B9","v":"deelnemer 5"},20]
[null,null,null,null,null,"Daniil Kvjat",null,null,null,{"$f":"'Totaal punten'!B10","v":"deelnemer 6"},20]
[null,null,null,null,null,"George Russell",null,null,null,{"$f":"'Totaal punten'!B11","v":"deelnemer 7"}]
[null,null,null,null,null,"Kevin Magnussen",null,null,null,{"$f":"'Totaal punten'!B12","v":"deelnemer 8"},20]
[null,null,null,null,null,"Kimi Räikkönen",null,null,null,{"$f":"'Totaal punten'!B13","v":"deelnemer 9"},20]
[null,null,null,null,null,"Lance Stroll"]
[null,null,null,null,null,"Lando Norris"]
[null,null,null,null,null,"Lewis Hamilton"]
[null,null,null,null,null,"Max Verstappen",null,null,null,"Totaal",{"$f":"SUM(K6:K14)","v":140}]
[null,null,null,null,null,"Nico Hülkenberg"]
[null,null,null,null,null,"Pierre Gasly",null,null,null,"1e",90]
[null,null,null,null,null,"Robert Kubica"]
[null,null,null,null,null,"Romain Grosjean",null,null,null,"2e",60]
[null,null,null,null,null,"Sebastian Vettel"]
[null,null,null,null,null,"Sergio Perez",null,null,null,"3e",30]
[null,null,null,null,null,"Valtteri Bottas"]
[null,null,null,null,null,"------------"]
[null,null,null,null,null,"geen"]

{"sheet":"Reglement","index":27,"n_rows":0,"n_cols":0,"rows_kept":0,"cut":false,"hidden":false,"merged":[]}

{"sheet":"RL","index":28,"n_rows":10,"n_cols":4,"rows_kept":10,"cut":false,"hidden":false,"merged":[]}
[]
[]
[]
[null,"R.langhorst © 2019 versie 1.0","Vernieuwde look","v"]
[null,"R.langhorst © 2019 versie 1.1","Verwijderen extra deelnemer","v"]
[null,"R.langhorst © 2019 versie 1.2","extra 5 punten telde niet op bij totaal en werd niet weergegeven in kleur","v"]
[null,"R.langhorst © 2019 versie 1.3","rijders krijgen verkeerde punten bottas in geel?","v"]
[null,"R.langhorst © 2019 versie 1.4","extra punt snelste ronde  bijgeteld","v"]
[null,"R.langhorst © 2019 versie 1.5","kleur klopt niet als rijder goed is"]
[null,null,"Gp uitslag in standpoule niet goed"]