{"text_format":"1","workbook":"xlsx","n_sheets":2,"sheets":["Blad1","Blad2"],"not_rendered":{"charts":0,"images":0,"macros":1,"external_links":0,"defined_names":1,"comments":0,"pivot_tables":0},"unopened":[],"bounds":{"document_bytes":16777216,"sheet_cells":100000,"rows_first":2000,"rows_last":500,"rows_between":2000,"halvings":0,"cell_chars":16384,"cell_head_chars":4096},"cells_cut":0,"cells_raw":0,"read":"whole","date_system":"1900"}

{"sheet":"Blad1","index":0,"n_rows":282,"n_cols":28,"rows_kept":282,"cut":false,"hidden":false,"merged":[]}
[1,null,"Yellow","Orange","Blue","Cyan","White","Red","Black","Pink","Purple","Green",null,null,"Yellow","Orange","Blue","Cyan","White","Red","Black","Pink","Purple","Green",null,null,null,"%"]
["Yellow",null,{"$f":"IF($A2=C$1,$A3,\"\")","v":"Orange"},{"$f":"IF($A2=D$1,$A3,\"\")","v":""},{"$f":"IF($A2=E$1,$A3,\"\")","v":""},{"$f":"IF($A2=F$1,$A3,\"\")","v":""},{"$f":"IF($A2=G$1,$A3,\"\")","v":""},{"$f":"IF($A2=H$1,$A3,\"\")","v":""},{"$f":"IF($A2=I$1,$A3,\"\")","v":""},{"$f":"IF($A2=J$1,$A3,\"\")","v":""},{"$f":"IF($A2=K$1,$A3,\"\")","v":""},{"$f":"IF($A2=L$1,$A3,\"\")","v":""},null,"Yellow",{"$f":"COUNTIF(C$2:C$282,$N2)","v":2},{"$f":"COUNTIF(D$2:D$282,$N2)","v":2},{"$f":"COUNTIF(E$2:E$282,$N2)","v":1},{"$f":"COUNTIF(F$2:F$282,$N2)","v":2},{"$f":"COUNTIF(G$2:G$282,$N2)","v":1},{"$f":"COUNTIF(H$2:H$282,$N2)","v":5},{"$f":"COUNTIF(I$2:I$282,$N2)","v":5},{"$f":"COUNTIF(J$2:J$282,$N2)","v":1},{"$f":"COUNTIF(K$2:K$282,$N2)","v":4},{"$f":"COUNTIF(L$2:L$282,$N2)","v":3},null,"Yellow",{"$f":"COUNTIF(A:A,Z2)","v":27},{"$f":"SUM((AA2/$AA$12)*100)","v":9.6085409252669027}]
["Orange",null,"","Orange","","","","","","","","",null,"Orange",3,8,2,4,1,0,4,6,3,2,null,"Orange",32,11.387900355871885]
["Orange",null,"","Orange","","","","","","","","",null,"Blue",1,2,2,5,3,2,3,4,2,3,null,"Blue",27,9.6085409252669027]
["Orange",null,"","Blue","","","","","","","","",null,"Cyan",6,2,4,4,1,5,2,0,4,3,null,"Cyan",31,11.032028469750891]
["Blue",null,"","","Red","","","","","","","",null,"White",0,2,2,6,1,2,4,2,2,2,null,"White",23,8.185053380782918]
["Red",null,"","","","","","Red","","","","",null,"Red",2,4,5,3,1,2,2,3,0,4,null,"Red",26,9.252669039145907]
["Red",null,"","","","","","Red","","","","",null,"Black",6,2,6,2,4,2,0,1,4,1,null,"Black",28,9.9644128113879002]
["Red",null,"","","","","","White","","","","",null,"Pink",3,5,3,0,2,2,0,1,7,2,null,"Pink",25,8.8967971530249113]
["White",null,"","","","","Blue","","","","","",null,"Purple",3,2,1,4,5,1,4,3,7,4,null,"Purple",34,12.099644128113878]
["Blue",null,"","","Green","","","","","","","",null,"Green",1,3,1,1,4,5,4,4,1,4,null,"Green",28,9.9644128113879002]
["Green",null,"","","","","","","","","","Yellow",null,"Totaal",{"$f":"SUM(O2:O11)","v":27},{"$f":"SUM(P2:P11)","v":32},27,31,23,26,28,25,34,28,null,null,{"$f":"SUM(AA2:AA11)","v":281},{"$f":"SUM(AB2:AB11)","v":99.999999999999986}]
["Yellow",null,"Black","","","","","","","","",""]
["Black",null,"","","","","","","White","","","",null,null,"Yellow","Orange","Blue","Cyan","White","Red","Black","Pink","Purple","Green"]
["White",null,"","","","","Purple","","","","","",null,"Yellow",{"$f":"SUM(O2/O$12)*100","v":7.4074074074074066},6.25,3.7037037037037033,6.4516129032258061,4.3478260869565215,19.230769230769234,17.857142857142858,4,11.76470588235294,10.714285714285714]
["Purple",null,"","","","","","","","","Cyan","",null,"Orange",{"$f":"SUM(O3/O$12)*100","v":11.111111111111111},25,7.4074074074074066,12.903225806451612,4.3478260869565215,0,14.285714285714285,24,8.8235294117647065,7.1428571428571423]
["Cyan",null,"","","","White","","","","","","",null,"Blue",{"$f":"SUM(O4/O$12)*100","v":3.7037037037037033},6.25,7.4074074074074066,16.129032258064516,13.043478260869565,7.6923076923076925,10.714285714285714,16,5.8823529411764701,10.714285714285714]
["White",null,"","","","","Purple","","","","","",null,"Cyan",{"$f":"SUM(O5/O$12)*100","v":22.222222222222221},6.25,14.814814814814813,12.903225806451612,4.3478260869565215,19.230769230769234,7.1428571428571423,0,11.76470588235294,10.714285714285714]
["Purple",null,"","","","","","","","","Orange","",null,"White",{"$f":"SUM(O6/O$12)*100","v":0},6.25,7.4074074074074066,19.35483870967742,4.3478260869565215,7.6923076923076925,14.285714285714285,8,5.8823529411764701,7.1428571428571423]
["Orange",null,"","Red","","","","","","","","",null,"Red",{"$f":"SUM(O7/O$12)*100","v":7.4074074074074066},12.5,18.518518518518519,9.67741935483871,4.3478260869565215,7.6923076923076925,7.1428571428571423,12,0,14.285714285714285]
["Red",null,"","","","","","White","","","","",null,"Black",{"$f":"SUM(O8/O$12)*100","v":22.222222222222221},6.25,22.222222222222221,6.4516129032258061,17.391304347826086,7.6923076923076925,0,4,11.76470588235294,3.5714285714285712]
["White",null,"","","","","Black","","","","","",null,"Pink",{"$f":"SUM(O9/O$12)*100","v":11.111111111111111},15.625,11.111111111111111,0,8.695652173913043,7.6923076923076925,0,4,20.588235294117645,7.1428571428571423]
["Black",null,"","","","","","","Orange","","","",null,"Purple",{"$f":"SUM(O10/O$12)*100","v":11.111111111111111},6.25,3.7037037037037033,12.903225806451612,21.739130434782609,3.8461538461538463,14.285714285714285,12,20.588235294117645,14.285714285714285]
["Orange",null,"","Pink","","","","","","","","",null,"Green",{"$f":"SUM(O11/O$12)*100","v":3.7037037037037033},9.375,3.7037037037037033,3.225806451612903,17.391304347826086,19.230769230769234,14.285714285714285,16,2.9411764705882351,14.285714285714285]
["Pink",null,"","","","","","","","White","","",null,"Totaal",{"$f":"SUM(O15:O24)","v":100.00000000000001},{"$f":"SUM(P15:P24)","v":100},{"$f":"SUM(Q15:Q24)","v":100},{"$f":"SUM(R15:R24)","v":100},{"$f":"SUM(S15:S24)","v":100},{"$f":"SUM(T15:T24)","v":100},{"$f":"SUM(U15:U24)","v":99.999999999999972},{"$f":"SUM(V15:V24)","v":100},{"$f":"SUM(W15:W24)","v":100},{"$f":"SUM(X15:X24)","v":100}]
["White",null,"","","","","Yellow","","","","",""]
["Yellow",null,"Blue","","","","","","","","",""]
["Blue",null,"","","Orange","","","","","","",""]
["Orange",null,"","Orange","","","","","","","",""]
["Orange",null,"","Orange","","","","","","","",""]
["Orange",null,"","White","","","","","","","",""]
["White",null,"","","","","Pink","","","","",""]
["Pink",null,"","","","","","","","Orange","",""]
["Orange",null,"","Red","","","","","","","",""]
["Red",null,"","","","","","Cyan","","","",""]
["Cyan",null,"","","","Black","","","","","",""]
["Black",null,"","","","","","","Yellow","","",""]
["Yellow",null,"Black","","","","","","","","",""]
["Black",null,"","","","","","","Yellow","","",""]
["Yellow",null,"Pink","","","","","","","","",""]
["Pink",null,"","","","","","","","Blue","",""]
["Blue",null,"","","Purple","","","","","","",""]
["Purple",null,"","","","","","","","","Pink",""]
["Pink",null,"","","","","","","","Pink","",""]
["Pink",null,"","","","","","","","Green","",""]
["Green",null,"","","","","","","","","","Cyan"]
["Cyan",null,"","","","Purple","","","","","",""]
["Purple",null,"","","","","","","","","Pink",""]
["Pink",null,"","","","","","","","Red","",""]
["Red",null,"","","","","","Pink","","","",""]
["Pink",null,"","","","","","","","Orange","",""]
["Orange",null,"","Green","","","","","","","",""]
["Green",null,"","","","","","","","","","Yellow"]
["Yellow",null,"Red","","","","","","","","",""]
["Red",null,"","","","","","Black","","","",""]
["Black",null,"","","","","","","Purple","","",""]
["Purple",null,"","","","","","","","","Pink",""]
["Pink",null,"","","","","","","","White","",""]
["White",null,"","","","","Purple","","","","",""]
["Purple",null,"","","","","","","","","Purple",""]
["Purple",null,"","","","","","","","","Black",""]
["Black",null,"","","","","","","Orange","","",""]
["Orange",null,"","Yellow","","","","","","","",""]
["Yellow",null,"Purple","","","","","","","","",""]
["Purple",null,"","","","","","","","","Cyan",""]
["Cyan",null,{"$f":"IF($A66=C$1,$A67,\"\")","v":""},{"$f":"IF($A66=D$1,$A67,\"\")","v":""},{"$f":"IF($A66=E$1,$A67,\"\")","v":""},{"$f":"IF($A66=F$1,$A67,\"\")","v":"Cyan"},{"$f":"IF($A66=G$1,$A67,\"\")","v":""},{"$f":"IF($A66=H$1,$A67,\"\")","v":""},{"$f":"IF($A66=I$1,$A67,\"\")","v":""},{"$f":"IF($A66=J$1,$A67,\"\")","v":""},{"$f":"IF($A66=K$1,$A67,\"\")","v":""},{"$f":"IF($A66=L$1,$A67,\"\")","v":""}]
["Cyan",null,"","","","Red","","","","","",""]
["Red",null,"","","","","","Blue","","","",""]
["Blue",null,"","","Yellow","","","","","","",""]
["Yellow",null,"Cyan","","","","","","","","",""]
["Cyan",null,"","","","Orange","","","","","",""]
["Orange",null,"","Black","","","","","","","",""]
["Black",null,"","","","","","","Green","","",""]
["Green",null,"","","","","","","","","","Red"]
["Red",null,"","","","","","Yellow","","","",""]
["Yellow",null,"Cyan","","","","","","","","",""]
["Cyan",null,"","","","White","","","","","",""]
["White",null,"","","","","Pink","","","","",""]
["Pink",null,"","","","","","","","Purple","",""]
["Purple",null,"","","","","","","","","Blue",""]
["Blue",null,"","","Red","","","","","","",""]
["Red",null,"","","","","","Cyan","","","",""]
["Cyan",null,"","","","Red","","","","","",""]
["Red",null,"","","","","","Green","","","",""]
["Green",null,"","","","","","","","","","Purple"]
["Purple",null,"","","","","","","","","Purple",""]
["Purple",null,"","","","","","","","","Pink",""]
["Pink",null,"","","","","","","","Orange","",""]
["Orange",null,"","Pink","","","","","","","",""]
["Pink",null,"","","","","","","","Purple","",""]
["Purple",null,"","","","","","","","","Cyan",""]
["Cyan",null,"","","","Orange","","","","","",""]
["Orange",null,"","Red","","","","","","","",""]
["Red",null,"","","","","","Green","","","",""]
["Green",null,"","","","","","","","","","Red"]
["Red",null,"","","","","","Cyan","","","",""]
["Cyan",null,"","","","Orange","","","","","",""]
["Orange",null,"","Cyan","","","","","","","",""]
["Cyan",null,"","","","White","","","","","",""]
["White",null,"","","","","Red","","","","",""]
["Red",null,"","","","","","Cyan","","","",""]
["Cyan",null,"","","","Cyan","","","","","",""]
["Cyan",null,"","","","Blue","","","","","",""]
["Blue",null,"","","Black","","","","","","",""]
["Black",null,"","","","","","","Red","","",""]
["Red",null,"","","","","","Cyan","","","",""]
["Cyan",null,"","","","Purple","","","","","",""]
["Purple",null,"","","","","","","","","Yellow",""]
["Yellow",null,"Pink","","","","","","","","",""]
["Pink",null,"","","","","","","","Red","",""]
["Red",null,"","","","","","Pink","","","",""]
["Pink",null,"","","","","","","","Blue","",""]
["Blue",null,"","","Blue","","","","","","",""]
["Blue",null,"","","Cyan","","","","","","",""]
["Cyan",null,"","","","Green","","","","","",""]
["Green",null,"","","","","","","","","","Cyan"]
["Cyan",null,"","","","Yellow","","","","","",""]
["Yellow",null,"Black","","","","","","","","",""]
["Black",null,"","","","","","","Purple","","",""]
["Purple",null,"","","","","","","","","Yellow",""]
["Yellow",null,"Orange","","","","","","","","",""]
["Orange",null,"","Pink","","","","","","","",""]
["Pink",null,"","","","","","","","Green","",""]
["Green",null,"","","","","","","","","","Blue"]
["Blue",null,"","","Black","","","","","","",""]
["Black",null,"","","","","","","Orange","","",""]
["Orange",null,"","Pink","","","","","","","",""]
["Pink",null,"","","","","","","","Red","",""]
["Red",null,"","","","","","Yellow","","","",""]
["Yellow",null,{"$f":"IF($A130=C$1,$A131,\"\")","v":"Pink"},{"$f":"IF($A130=D$1,$A131,\"\")","v":""},{"$f":"IF($A130=E$1,$A131,\"\")","v":""},{"$f":"IF($A130=F$1,$A131,\"\")","v":""},{"$f":"IF($A130=G$1,$A131,\"\")","v":""},{"$f":"IF($A130=H$1,$A131,\"\")","v":""},{"$f":"IF($A130=I$1,$A131,\"\")","v":""},{"$f":"IF($A130=J$1,$A131,\"\")","v":""},{"$f":"IF($A130=K$1,$A131,\"\")","v":""},{"$f":"IF($A130=L$1,$A131,\"\")","v":""}]
["Pink",null,"","","","","","","","Green","",""]
["Green",null,"","","","","","","","","","Purple"]
["Purple",null,"","","","","","","","","Purple",""]
["Purple",null,"","","","","","","","","White",""]
["White",null,"","","","","Purple","","","","",""]
["Purple",null,"","","","","","","","","Purple",""]
["Purple",null,"","","","","","","","","Orange",""]
["Orange",null,"","Green","","","","","","","",""]
["Green",null,"","","","","","","","","","Yellow"]
["Yellow",null,"Orange","","","","","","","","",""]
["Orange",null,"","Purple","","","","","","","",""]
["Purple",null,"","","","","","","","","Purple",""]
["Purple",null,"","","","","","","","","Pink",""]
["Pink",null,"","","","","","","","Yellow","",""]
["Yellow",null,"Cyan","","","","","","","","",""]
["Cyan",null,"","","","White","","","","","",""]
["White",null,"","","","","Blue","","","","",""]
["Blue",null,"","","Black","","","","","","",""]
["Black",null,"","","","","","","Blue","","",""]
["Blue",null,"","","Pink","","","","","","",""]
["Pink",null,"","","","","","","","Purple","",""]
["Purple",null,"","","","","","","","","Blue",""]
["Blue",null,"","","Black","","","","","","",""]
["Black",null,"","","","","","","Yellow","","",""]
["Yellow",null,"Black","","","","","","","","",""]
["Black",null,"","","","","","","Orange","","",""]
["Orange",null,"","Orange","","","","","","","",""]
["Orange",null,"","Green","","","","","","","",""]
["Green",null,"","","","","","","","","","White"]
["White",null,"","","","","Black","","","","",""]
["Black",null,"","","","","","","Green","","",""]
["Green",null,"","","","","","","","","","Green"]
["Green",null,"","","","","","","","","","Pink"]
["Pink",null,"","","","","","","","Orange","",""]
["Orange",null,"","Orange","","","","","","","",""]
["Orange",null,"","Yellow","","","","","","","",""]
["Yellow",null,"Cyan","","","","","","","","",""]
["Cyan",null,"","","","Purple","","","","","",""]
["Purple",null,"","","","","","","","","Cyan",""]
["Cyan",null,"","","","Cyan","","","","","",""]
["Cyan",null,"","","","Blue","","","","","",""]
["Blue",null,"","","Red","","","","","","",""]
["Red",null,"","","","","","Purple","","","",""]
["Purple",null,"","","","","","","","","Yellow",""]
["Yellow",null,"Yellow","","","","","","","","",""]
["Yellow",null,"Cyan","","","","","","","","",""]
["Cyan",null,"","","","Orange","","","","","",""]
["Orange",null,"","Red","","","","","","","",""]
["Red",null,"","","","","","Yellow","","","",""]
["Yellow",null,"Red","","","","","","","","",""]
["Red",null,"","","","","","Green","","","",""]
["Green",null,"","","","","","","","","","Green"]
["Green",null,"","","","","","","","","","Purple"]
["Purple",null,"","","","","","","","","Yellow",""]
["Yellow",null,"Purple","","","","","","","","",""]
["Purple",null,"","","","","","","","","Orange",""]
["Orange",null,"","Blue","","","","","","","",""]
["Blue",null,"","","Blue","","","","","","",""]
["Blue",null,"","","Black","","","","","","",""]
["Black",null,"","","","","","","Green","","",""]
["Green",null,"","","","","","","","","","Blue"]
["Blue",null,"","","Cyan","","","","","","",""]
["Cyan",null,"","","","Blue","","","","","",""]
["Blue",null,{"$f":"IF($A194=C$1,$A195,\"\")","v":""},{"$f":"IF($A194=D$1,$A195,\"\")","v":""},{"$f":"IF($A194=E$1,$A195,\"\")","v":"Cyan"},{"$f":"IF($A194=F$1,$A195,\"\")","v":""},{"$f":"IF($A194=G$1,$A195,\"\")","v":""},{"$f":"IF($A194=H$1,$A195,\"\")","v":""},{"$f":"IF($A194=I$1,$A195,\"\")","v":""},{"$f":"IF($A194=J$1,$A195,\"\")","v":""},{"$f":"IF($A194=K$1,$A195,\"\")","v":""},{"$f":"IF($A194=L$1,$A195,\"\")","v":""}]
["Cyan",null,"","","","White","","","","","",""]
["White",null,"","","","","Purple","","","","",""]
["Purple",null,"","","","","","","","","Purple",""]
["Purple",null,"","","","","","","","","Black",""]
["Black",null,"","","","","","","Green","","",""]
["Green",null,"","","","","","","","","","Pink"]
["Pink",null,"","","","","","","","Blue","",""]
["Blue",null,"","","Red","","","","","","",""]
["Red",null,"","","","","","Yellow","","","",""]
["Yellow",null,"Black","","","","","","","","",""]
["Black",null,"","","","","","","Yellow","","",""]
["Yellow",null,"Green","","","","","","","","",""]
["Green",null,"","","","","","","","","","Red"]
["Red",null,"","","","","","Green","","","",""]
["Green",null,"","","","","","","","","","White"]
["White",null,"","","","","Green","","","","",""]
["Green",null,"","","","","","","","","","Orange"]
["Orange",null,"","Black","","","","","","","",""]
["Black",null,"","","","","","","Purple","","",""]
["Purple",null,"","","","","","","","","White",""]
["White",null,"","","","","Orange","","","","",""]
["Orange",null,"","Pink","","","","","","","",""]
["Pink",null,"","","","","","","","Black","",""]
["Black",null,"","","","","","","White","","",""]
["White",null,"","","","","Cyan","","","","",""]
["Cyan",null,"","","","Purple","","","","","",""]
["Purple",null,"","","","","","","","","Pink",""]
["Pink",null,"","","","","","","","Orange","",""]
["Orange",null,"","Purple","","","","","","","",""]
["Purple",null,"","","","","","","","","Green",""]
["Green",null,"","","","","","","","","","Blue"]
["Blue",null,"","","Cyan","","","","","","",""]
["Cyan",null,"","","","Cyan","","","","","",""]
["Cyan",null,"","","","Black","","","","","",""]
["Black",null,"","","","","","","Blue","","",""]
["Blue",null,"","","Orange","","","","","","",""]
["Orange",null,"","Cyan","","","","","","","",""]
["Cyan",null,"","","","Blue","","","","","",""]
["Blue",null,"","","Pink","","","","","","",""]
["Pink",null,"","","","","","","","Green","",""]
["Green",null,"","","","","","","","","","Green"]
["Green",null,"","","","","","","","","","Green"]
["Green",null,"","","","","","","","","","Black"]
["Black",null,"","","","","","","White","","",""]
["White",null,"","","","","Black","","","","",""]
["Black",null,"","","","","","","Purple","","",""]
["Purple",null,"","","","","","","","","Pink",""]
["Pink",null,"","","","","","","","Orange","",""]
["Orange",null,"","Orange","","","","","","","",""]
["Orange",null,"","White","","","","","","","",""]
["White",null,"","","","","White","","","","",""]
["White",null,"","","","","Black","","","","",""]
["Black",null,"","","","","","","Cyan","","",""]
["Cyan",null,"","","","Yellow","","","","","",""]
["Yellow",null,"Yellow","","","","","","","","",""]
["Yellow",null,"Purple","","","","","","","","",""]
["Purple",null,"","","","","","","","","Purple",""]
["Purple",null,"","","","","","","","","Black",""]
["Black",null,"","","","","","","Blue","","",""]
["Blue",null,"","","Black","","","","","","",""]
["Black",null,"","","","","","","White","","",""]
["White",null,"","","","","Blue","","","","",""]
["Blue",null,"","","White","","","","","","",""]
["White",null,{"$f":"IF($A258=C$1,$A259,\"\")","v":""},{"$f":"IF($A258=D$1,$A259,\"\")","v":""},{"$f":"IF($A258=E$1,$A259,\"\")","v":""},{"$f":"IF($A258=F$1,$A259,\"\")","v":""},{"$f":"IF($A258=G$1,$A259,\"\")","v":"Green"},{"$f":"IF($A258=H$1,$A259,\"\")","v":""},{"$f":"IF($A258=I$1,$A259,\"\")","v":""},{"$f":"IF($A258=J$1,$A259,\"\")","v":""},{"$f":"IF($A258=K$1,$A259,\"\")","v":""},{"$f":"IF($A258=L$1,$A259,\"\")","v":""}]
["Green",null,"","","","","","","","","","Red"]
["Red",null,"","","","","","Blue","","","",""]
["Blue",null,"","","Red","","","","","","",""]
["Red",null,"","","","","","Black","","","",""]
["Black",null,"","","","","","","Cyan","","",""]
["Cyan",null,"","","","Red","","","","","",""]
["Red",null,"","","","","","Green","","","",""]
["Green",null,"","","","","","","","","","Purple"]
["Purple",null,"","","","","","","","","Black",""]
["Black",null,"","","","","","","Red","","",""]
["Red",null,"","","","","","Yellow","","","",""]
["Yellow",null,"Black","","","","","","","","",""]
["Black",null,"","","","","","","Yellow","","",""]
["Yellow",null,"Cyan","","","","","","","","",""]
["Cyan",null,"","","","White","","","","","",""]
["White",null,"","","","","Green","","","","",""]
["Green",null,"","","","","","","","","","Cyan"]
["Cyan",null,"","","","Blue","","","","","",""]
["Blue",null,"","","Pink","","","","","","",""]
["Pink",null,"","","","","","","","Blue","",""]
["Blue",null,"","","White","","","","","","",""]
["White",null,"","","","","Green","","","","",""]
["Green",null,"","","","","","","","","","Orange"]
["Orange",null,{"$f":"IF($A282=C$1,#REF!,\"\")","v":""},{"$f":"IF($A282=D$1,A282,\"\")","v":"Orange"},{"$f":"IF($A282=E$1,#REF!,\"\")","v":""},{"$f":"IF($A282=F$1,#REF!,\"\")","v":""},{"$f":"IF($A282=G$1,#REF!,\"\")","v":""},{"$f":"IF($A282=H$1,#REF!,\"\")","v":""},{"$f":"IF($A282=I$1,#REF!,\"\")","v":""},{"$f":"IF($A282=J$1,#REF!,\"\")","v":""},{"$f":"IF($A282=K$1,#REF!,\"\")","v":""},{"$f":"IF($A282=L$1,#REF!,\"\")","v":""}]

{"sheet":"Blad2","index":1,"n_rows":0,"n_cols":0,"rows_kept":0,"cut":false,"hidden":false,"merged":[]}