{"text_format":"1","workbook":"xlsx","n_sheets":2,"sheets":["Worksheet","BerekenenWitteCellen"],"not_rendered":{"charts":0,"images":0,"macros":1,"external_links":0,"defined_names":1,"comments":0,"pivot_tables":0},"unopened":[],"bounds":{"document_bytes":16777216,"sheet_cells":100000,"rows_first":2000,"rows_last":500,"rows_between":2000,"halvings":0,"cell_chars":16384,"cell_head_chars":4096},"cells_cut":0,"cells_raw":0,"read":"whole","date_system":"1900"}

{"sheet":"Worksheet","index":0,"n_rows":702,"n_cols":33,"rows_kept":702,"cut":false,"hidden":false,"merged":[]}
[1,null,"Yellow","Orange","Blue","Cyan","White","Red","Black","Pink","Purple","Green",null,null,"Yellow","Orange","Blue","Cyan","White","Red","Black","Pink","Purple","Green"]
["Yellow",null,{"$f":"IF($A2=C$1,$A3,\"\")","v":"Orange"},{"$f":"IF($A2=D$1,$A3,\"\")","v":""},{"$f":"IF($A2=E$1,$A3,\"\")","v":""},{"$f":"IF($A2=F$1,$A3,\"\")","v":""},{"$f":"IF($A2=G$1,$A3,\"\")","v":""},{"$f":"IF($A2=H$1,$A3,\"\")","v":""},{"$f":"IF($A2=I$1,$A3,\"\")","v":""},{"$f":"IF($A2=J$1,$A3,\"\")","v":""},{"$f":"IF($A2=K$1,$A3,\"\")","v":""},{"$f":"IF($A2=L$1,$A3,\"\")","v":""},null,"Yellow",{"$f":"COUNTIF(C:C,$N2)","v":5},{"$f":"COUNTIF(D:D,$N2)","v":7},{"$f":"COUNTIF(E:E,$N2)","v":5},{"$f":"COUNTIF(F:F,$N2)","v":6},{"$f":"COUNTIF(G:G,$N2)","v":3},{"$f":"COUNTIF(H:H,$N2)","v":6},{"$f":"COUNTIF(I:I,$N2)","v":7},{"$f":"COUNTIF(J:J,$N2)","v":3},{"$f":"COUNTIF(K:K,$N2)","v":7},{"$f":"COUNTIF(L:L,$N2)","v":7},null,"Yellow",{"$f":"COUNTIF(A:A,Z2)","v":56}]
["Orange",null,{"$f":"IF($A3=C$1,$A4,\"\")","v":""},{"$f":"IF($A3=D$1,$A4,\"\")","v":"Orange"},{"$f":"IF($A3=E$1,$A4,\"\")","v":""},{"$f":"IF($A3=F$1,$A4,\"\")","v":""},{"$f":"IF($A3=G$1,$A4,\"\")","v":""},{"$f":"IF($A3=H$1,$A4,\"\")","v":""},{"$f":"IF($A3=I$1,$A4,\"\")","v":""},{"$f":"IF($A3=J$1,$A4,\"\")","v":""},{"$f":"IF($A3=K$1,$A4,\"\")","v":""},{"$f":"IF($A3=L$1,$A4,\"\")","v":""},null,"Orange",{"$f":"COUNTIF(C:C,$N3)","v":7},{"$f":"COUNTIF(D:D,$N3)","v":11},{"$f":"COUNTIF(E:E,$N3)","v":4},{"$f":"COUNTIF(F:F,$N3)","v":9},{"$f":"COUNTIF(G:G,$N3)","v":5},{"$f":"COUNTIF(H:H,$N3)","v":4},{"$f":"COUNTIF(I:I,$N3)","v":11},{"$f":"COUNTIF(J:J,$N3)","v":8},{"$f":"COUNTIF(K:K,$N3)","v":6},{"$f":"COUNTIF(L:L,$N3)","v":5},null,"Orange",{"$f":"COUNTIF(A:A,Z3)","v":69}]
["Orange",null,{"$f":"IF($A4=C$1,$A5,\"\")","v":""},{"$f":"IF($A4=D$1,$A5,\"\")","v":"Orange"},{"$f":"IF($A4=E$1,$A5,\"\")","v":""},{"$f":"IF($A4=F$1,$A5,\"\")","v":""},{"$f":"IF($A4=G$1,$A5,\"\")","v":""},{"$f":"IF($A4=H$1,$A5,\"\")","v":""},{"$f":"IF($A4=I$1,$A5,\"\")","v":""},{"$f":"IF($A4=J$1,$A5,\"\")","v":""},{"$f":"IF($A4=K$1,$A5,\"\")","v":""},{"$f":"IF($A4=L$1,$A5,\"\")","v":""},null,"Blue",{"$f":"COUNTIF(C:C,$N4)","v":4},{"$f":"COUNTIF(D:D,$N4)","v":5},{"$f":"COUNTIF(E:E,$N4)","v":9},{"$f":"COUNTIF(F:F,$N4)","v":11},{"$f":"COUNTIF(G:G,$N4)","v":9},{"$f":"COUNTIF(H:H,$N4)","v":9},{"$f":"COUNTIF(I:I,$N4)","v":7},{"$f":"COUNTIF(J:J,$N4)","v":7},{"$f":"COUNTIF(K:K,$N4)","v":7},{"$f":"COUNTIF(L:L,$N4)","v":8},null,"Blue",{"$f":"COUNTIF(A:A,Z4)","v":75}]
["Orange",null,{"$f":"IF($A5=C$1,$A6,\"\")","v":""},{"$f":"IF($A5=D$1,$A6,\"\")","v":"Blue"},{"$f":"IF($A5=E$1,$A6,\"\")","v":""},{"$f":"IF($A5=F$1,$A6,\"\")","v":""},{"$f":"IF($A5=G$1,$A6,\"\")","v":""},{"$f":"IF($A5=H$1,$A6,\"\")","v":""},{"$f":"IF($A5=I$1,$A6,\"\")","v":""},{"$f":"IF($A5=J$1,$A6,\"\")","v":""},{"$f":"IF($A5=K$1,$A6,\"\")","v":""},{"$f":"IF($A5=L$1,$A6,\"\")","v":""},null,"Cyan",{"$f":"COUNTIF(C:C,$N5)","v":8},{"$f":"COUNTIF(D:D,$N5)","v":5},{"$f":"COUNTIF(E:E,$N5)","v":9},{"$f":"COUNTIF(F:F,$N5)","v":9},{"$f":"COUNTIF(G:G,$N5)","v":8},{"$f":"COUNTIF(H:H,$N5)","v":11},{"$f":"COUNTIF(I:I,$N5)","v":4},{"$f":"COUNTIF(J:J,$N5)","v":3},{"$f":"COUNTIF(K:K,$N5)","v":8},{"$f":"COUNTIF(L:L,$N5)","v":9},null,"Cyan",{"$f":"COUNTIF(A:A,Z5)","v":73}]
["Blue",null,{"$f":"IF($A6=C$1,$A7,\"\")","v":""},{"$f":"IF($A6=D$1,$A7,\"\")","v":""},{"$f":"IF($A6=E$1,$A7,\"\")","v":"Red"},{"$f":"IF($A6=F$1,$A7,\"\")","v":""},{"$f":"IF($A6=G$1,$A7,\"\")","v":""},{"$f":"IF($A6=H$1,$A7,\"\")","v":""},{"$f":"IF($A6=I$1,$A7,\"\")","v":""},{"$f":"IF($A6=J$1,$A7,\"\")","v":""},{"$f":"IF($A6=K$1,$A7,\"\")","v":""},{"$f":"IF($A6=L$1,$A7,\"\")","v":""},null,"White",{"$f":"COUNTIF(C:C,$N6)","v":1},{"$f":"COUNTIF(D:D,$N6)","v":5},{"$f":"COUNTIF(E:E,$N6)","v":6},{"$f":"COUNTIF(F:F,$N6)","v":9},{"$f":"COUNTIF(G:G,$N6)","v":4},{"$f":"COUNTIF(H:H,$N6)","v":4},{"$f":"COUNTIF(I:I,$N6)","v":12},{"$f":"COUNTIF(J:J,$N6)","v":7},{"$f":"COUNTIF(K:K,$N6)","v":7},{"$f":"COUNTIF(L:L,$N6)","v":4},null,"White",{"$f":"COUNTIF(A:A,Z6)","v":58}]
["Red",null,{"$f":"IF($A7=C$1,$A8,\"\")","v":""},{"$f":"IF($A7=D$1,$A8,\"\")","v":""},{"$f":"IF($A7=E$1,$A8,\"\")","v":""},{"$f":"IF($A7=F$1,$A8,\"\")","v":""},{"$f":"IF($A7=G$1,$A8,\"\")","v":""},{"$f":"IF($A7=H$1,$A8,\"\")","v":"Red"},{"$f":"IF($A7=I$1,$A8,\"\")","v":""},{"$f":"IF($A7=J$1,$A8,\"\")","v":""},{"$f":"IF($A7=K$1,$A8,\"\")","v":""},{"$f":"IF($A7=L$1,$A8,\"\")","v":""},null,"Red",{"$f":"COUNTIF(C:C,$N7)","v":3},{"$f":"COUNTIF(D:D,$N7)","v":10},{"$f":"COUNTIF(E:E,$N7)","v":12},{"$f":"COUNTIF(F:F,$N7)","v":3},{"$f":"COUNTIF(G:G,$N7)","v":2},{"$f":"COUNTIF(H:H,$N7)","v":11},{"$f":"COUNTIF(I:I,$N7)","v":13},{"$f":"COUNTIF(J:J,$N7)","v":9},{"$f":"COUNTIF(K:K,$N7)","v":8},{"$f":"COUNTIF(L:L,$N7)","v":9},null,"Red",{"$f":"COUNTIF(A:A,Z7)","v":79}]
["Red",null,{"$f":"IF($A8=C$1,$A9,\"\")","v":""},{"$f":"IF($A8=D$1,$A9,\"\")","v":""},{"$f":"IF($A8=E$1,$A9,\"\")","v":""},{"$f":"IF($A8=F$1,$A9,\"\")","v":""},{"$f":"IF($A8=G$1,$A9,\"\")","v":""},{"$f":"IF($A8=H$1,$A9,\"\")","v":"Red"},{"$f":"IF($A8=I$1,$A9,\"\")","v":""},{"$f":"IF($A8=J$1,$A9,\"\")","v":""},{"$f":"IF($A8=K$1,$A9,\"\")","v":""},{"$f":"IF($A8=L$1,$A9,\"\")","v":""},null,"Black",{"$f":"COUNTIF(C:C,$N8)","v":9},{"$f":"COUNTIF(D:D,$N8)","v":6},{"$f":"COUNTIF(E:E,$N8)","v":10},{"$f":"COUNTIF(F:F,$N8)","v":7},{"$f":"COUNTIF(G:G,$N8)","v":10},{"$f":"COUNTIF(H:H,$N8)","v":10},{"$f":"COUNTIF(I:I,$N8)","v":6},{"$f":"COUNTIF(J:J,$N8)","v":6},{"$f":"COUNTIF(K:K,$N8)","v":8},{"$f":"COUNTIF(L:L,$N8)","v":7},null,"Black",{"$f":"COUNTIF(A:A,Z8)","v":79}]
["Red",null,{"$f":"IF($A9=C$1,$A10,\"\")","v":""},{"$f":"IF($A9=D$1,$A10,\"\")","v":""},{"$f":"IF($A9=E$1,$A10,\"\")","v":""},{"$f":"IF($A9=F$1,$A10,\"\")","v":""},{"$f":"IF($A9=G$1,$A10,\"\")","v":""},{"$f":"IF($A9=H$1,$A10,\"\")","v":"White"},{"$f":"IF($A9=I$1,$A10,\"\")","v":""},{"$f":"IF($A9=J$1,$A10,\"\")","v":""},{"$f":"IF($A9=K$1,$A10,\"\")","v":""},{"$f":"IF($A9=L$1,$A10,\"\")","v":""},null,"Pink",{"$f":"COUNTIF(C:C,$N9)","v":11},{"$f":"COUNTIF(D:D,$N9)","v":9},{"$f":"COUNTIF(E:E,$N9)","v":6},{"$f":"COUNTIF(F:F,$N9)","v":4},{"$f":"COUNTIF(G:G,$N9)","v":6},{"$f":"COUNTIF(H:H,$N9)","v":8},{"$f":"COUNTIF(I:I,$N9)","v":5},{"$f":"COUNTIF(J:J,$N9)","v":5},{"$f":"COUNTIF(K:K,$N9)","v":10},{"$f":"COUNTIF(L:L,$N9)","v":5},null,"Pink",{"$f":"COUNTIF(A:A,Z9)","v":68}]
["White",null,{"$f":"IF($A10=C$1,$A11,\"\")","v":""},{"$f":"IF($A10=D$1,$A11,\"\")","v":""},{"$f":"IF($A10=E$1,$A11,\"\")","v":""},{"$f":"IF($A10=F$1,$A11,\"\")","v":""},{"$f":"IF($A10=G$1,$A11,\"\")","v":"Blue"},{"$f":"IF($A10=H$1,$A11,\"\")","v":""},{"$f":"IF($A10=I$1,$A11,\"\")","v":""},{"$f":"IF($A10=J$1,$A11,\"\")","v":""},{"$f":"IF($A10=K$1,$A11,\"\")","v":""},{"$f":"IF($A10=L$1,$A11,\"\")","v":""},null,"Purple",{"$f":"COUNTIF(C:C,$N10)","v":7},{"$f":"COUNTIF(D:D,$N10)","v":6},{"$f":"COUNTIF(E:E,$N10)","v":6},{"$f":"COUNTIF(F:F,$N10)","v":8},{"$f":"COUNTIF(G:G,$N10)","v":6},{"$f":"COUNTIF(H:H,$N10)","v":7},{"$f":"COUNTIF(I:I,$N10)","v":7},{"$f":"COUNTIF(J:J,$N10)","v":12},{"$f":"COUNTIF(K:K,$N10)","v":10},{"$f":"COUNTIF(L:L,$N10)","v":6},null,"Purple",{"$f":"COUNTIF(A:A,Z10)","v":74}]
["Blue",null,{"$f":"IF($A11=C$1,$A12,\"\")","v":""},{"$f":"IF($A11=D$1,$A12,\"\")","v":""},{"$f":"IF($A11=E$1,$A12,\"\")","v":"Green"},{"$f":"IF($A11=F$1,$A12,\"\")","v":""},{"$f":"IF($A11=G$1,$A12,\"\")","v":""},{"$f":"IF($A11=H$1,$A12,\"\")","v":""},{"$f":"IF($A11=I$1,$A12,\"\")","v":""},{"$f":"IF($A11=J$1,$A12,\"\")","v":""},{"$f":"IF($A11=K$1,$A12,\"\")","v":""},{"$f":"IF($A11=L$1,$A12,\"\")","v":""},null,"Green",{"$f":"COUNTIF(C:C,$N11)","v":2},{"$f":"COUNTIF(D:D,$N11)","v":6},{"$f":"COUNTIF(E:E,$N11)","v":9},{"$f":"COUNTIF(F:F,$N11)","v":8},{"$f":"COUNTIF(G:G,$N11)","v":6},{"$f":"COUNTIF(H:H,$N11)","v":10},{"$f":"COUNTIF(I:I,$N11)","v":8},{"$f":"COUNTIF(J:J,$N11)","v":8},{"$f":"COUNTIF(K:K,$N11)","v":4},{"$f":"COUNTIF(L:L,$N11)","v":9},null,"Green",{"$f":"COUNTIF(A:A,Z11)","v":69}]
["Green",null,{"$f":"IF($A12=C$1,$A13,\"\")","v":""},{"$f":"IF($A12=D$1,$A13,\"\")","v":""},{"$f":"IF($A12=E$1,$A13,\"\")","v":""},{"$f":"IF($A12=F$1,$A13,\"\")","v":""},{"$f":"IF($A12=G$1,$A13,\"\")","v":""},{"$f":"IF($A12=H$1,$A13,\"\")","v":""},{"$f":"IF($A12=I$1,$A13,\"\")","v":""},{"$f":"IF($A12=J$1,$A13,\"\")","v":""},{"$f":"IF($A12=K$1,$A13,\"\")","v":""},{"$f":"IF($A12=L$1,$A13,\"\")","v":"Yellow"},null,"Totaal",{"$f":"SUM(O2:O11)","v":57},{"$f":"SUM(P2:P11)","v":70},76,74,59,80,80,68,75,69,null,null,{"$f":"SUM(AA2:AA11)","v":700}]
["Yellow",null,{"$f":"IF($A13=C$1,$A14,\"\")","v":"Black"},{"$f":"IF($A13=D$1,$A14,\"\")","v":""},{"$f":"IF($A13=E$1,$A14,\"\")","v":""},{"$f":"IF($A13=F$1,$A14,\"\")","v":""},{"$f":"IF($A13=G$1,$A14,\"\")","v":""},{"$f":"IF($A13=H$1,$A14,\"\")","v":""},{"$f":"IF($A13=I$1,$A14,\"\")","v":""},{"$f":"IF($A13=J$1,$A14,\"\")","v":""},{"$f":"IF($A13=K$1,$A14,\"\")","v":""},{"$f":"IF($A13=L$1,$A14,\"\")","v":""}]
["Black",null,{"$f":"IF($A14=C$1,$A15,\"\")","v":""},{"$f":"IF($A14=D$1,$A15,\"\")","v":""},{"$f":"IF($A14=E$1,$A15,\"\")","v":""},{"$f":"IF($A14=F$1,$A15,\"\")","v":""},{"$f":"IF($A14=G$1,$A15,\"\")","v":""},{"$f":"IF($A14=H$1,$A15,\"\")","v":""},{"$f":"IF($A14=I$1,$A15,\"\")","v":"White"},{"$f":"IF($A14=J$1,$A15,\"\")","v":""},{"$f":"IF($A14=K$1,$A15,\"\")","v":""},{"$f":"IF($A14=L$1,$A15,\"\")","v":""},null,"Yellow",null,"Orange",null,"Blue",null,"Cyan",null,"White",null,"Red",null,"Black",null,"Pink",null,"Purple",null,"Green"]
["White",null,{"$f":"IF($A15=C$1,$A16,\"\")","v":""},{"$f":"IF($A15=D$1,$A16,\"\")","v":""},{"$f":"IF($A15=E$1,$A16,\"\")","v":""},{"$f":"IF($A15=F$1,$A16,\"\")","v":""},{"$f":"IF($A15=G$1,$A16,\"\")","v":"Purple"},{"$f":"IF($A15=H$1,$A16,\"\")","v":""},{"$f":"IF($A15=I$1,$A16,\"\")","v":""},{"$f":"IF($A15=J$1,$A16,\"\")","v":""},{"$f":"IF($A15=K$1,$A16,\"\")","v":""},{"$f":"IF($A15=L$1,$A16,\"\")","v":""},null,{"$f":"SUM(O2/O$12)*100","v":8.7719298245614024},"Yellow",{"$f":"SUM(P2/P$12)*100","v":10},"Yellow",{"$f":"SUM(Q2/Q$12)*100","v":6.5789473684210522},"Yellow",{"$f":"SUM(R2/R$12)*100","v":8.1081081081081088},"Yellow",{"$f":"SUM(S2/S$12)*100","v":5.0847457627118651},"Yellow",{"$f":"SUM(T2/T$12)*100","v":7.5},"Yellow",{"$f":"SUM(U2/U$12)*100","v":8.75},"Yellow",{"$f":"SUM(V2/V$12)*100","v":4.4117647058823533},"Yellow",{"$f":"SUM(W2/W$12)*100","v":9.3333333333333339},"Yellow",{"$f":"SUM(X2/X$12)*100","v":10.144927536231885},"Yellow"]
["Purple",null,{"$f":"IF($A16=C$1,$A17,\"\")","v":""},{"$f":"IF($A16=D$1,$A17,\"\")","v":""},{"$f":"IF($A16=E$1,$A17,\"\")","v":""},{"$f":"IF($A16=F$1,$A17,\"\")","v":""},{"$f":"IF($A16=G$1,$A17,\"\")","v":""},{"$f":"IF($A16=H$1,$A17,\"\")","v":""},{"$f":"IF($A16=I$1,$A17,\"\")","v":""},{"$f":"IF($A16=J$1,$A17,\"\")","v":""},{"$f":"IF($A16=K$1,$A17,\"\")","v":"Cyan"},{"$f":"IF($A16=L$1,$A17,\"\")","v":""},null,{"$f":"SUM(O3/O$12)*100","v":12.280701754385964},"Orange",{"$f":"SUM(P3/P$12)*100","v":15.714285714285714},"Orange",{"$f":"SUM(Q3/Q$12)*100","v":5.2631578947368416},"Orange",{"$f":"SUM(R3/R$12)*100","v":12.162162162162163},"Orange",{"$f":"SUM(S3/S$12)*100","v":8.4745762711864394},"Orange",{"$f":"SUM(T3/T$12)*100","v":5},"Orange",{"$f":"SUM(U3/U$12)*100","v":13.750000000000002},"Orange",{"$f":"SUM(V3/V$12)*100","v":11.76470588235294},"Orange",{"$f":"SUM(W3/W$12)*100","v":8},"Orange",{"$f":"SUM(X3/X$12)*100","v":7.2463768115942031},"Orange"]
["Cyan",null,{"$f":"IF($A17=C$1,$A18,\"\")","v":""},{"$f":"IF($A17=D$1,$A18,\"\")","v":""},{"$f":"IF($A17=E$1,$A18,\"\")","v":""},{"$f":"IF($A17=F$1,$A18,\"\")","v":"White"},{"$f":"IF($A17=G$1,$A18,\"\")","v":""},{"$f":"IF($A17=H$1,$A18,\"\")","v":""},{"$f":"IF($A17=I$1,$A18,\"\")","v":""},{"$f":"IF($A17=J$1,$A18,\"\")","v":""},{"$f":"IF($A17=K$1,$A18,\"\")","v":""},{"$f":"IF($A17=L$1,$A18,\"\")","v":""},null,{"$f":"SUM(O4/O$12)*100","v":7.0175438596491224},"Blue",{"$f":"SUM(P4/P$12)*100","v":7.1428571428571423},"Blue",{"$f":"SUM(Q4/Q$12)*100","v":11.842105263157894},"Blue",{"$f":"SUM(R4/R$12)*100","v":14.864864864864865},"Blue",{"$f":"SUM(S4/S$12)*100","v":15.254237288135593},"Blue",{"$f":"SUM(T4/T$12)*100","v":11.25},"Blue",{"$f":"SUM(U4/U$12)*100","v":8.75},"Blue",{"$f":"SUM(V4/V$12)*100","v":10.294117647058822},"Blue",{"$f":"SUM(W4/W$12)*100","v":9.3333333333333339},"Blue",{"$f":"SUM(X4/X$12)*100","v":11.594202898550725},"Blue"]
["White",null,{"$f":"IF($A18=C$1,$A19,\"\")","v":""},{"$f":"IF($A18=D$1,$A19,\"\")","v":""},{"$f":"IF($A18=E$1,$A19,\"\")","v":""},{"$f":"IF($A18=F$1,$A19,\"\")","v":""},{"$f":"IF($A18=G$1,$A19,\"\")","v":"Purple"},{"$f":"IF($A18=H$1,$A19,\"\")","v":""},{"$f":"IF($A18=I$1,$A19,\"\")","v":""},{"$f":"IF($A18=J$1,$A19,\"\")","v":""},{"$f":"IF($A18=K$1,$A19,\"\")","v":""},{"$f":"IF($A18=L$1,$A19,\"\")","v":""},null,{"$f":"SUM(O5/O$12)*100","v":14.035087719298245},"Cyan",{"$f":"SUM(P5/P$12)*100","v":7.1428571428571423},"Cyan",{"$f":"SUM(Q5/Q$12)*100","v":11.842105263157894},"Cyan",{"$f":"SUM(R5/R$12)*100","v":12.162162162162163},"Cyan",{"$f":"SUM(S5/S$12)*100","v":13.559322033898304},"Cyan",{"$f":"SUM(T5/T$12)*100","v":13.750000000000002},"Cyan",{"$f":"SUM(U5/U$12)*100","v":5},"Cyan",{"$f":"SUM(V5/V$12)*100","v":4.4117647058823533},"Cyan",{"$f":"SUM(W5/W$12)*100","v":10.666666666666668},"Cyan",{"$f":"SUM(X5/X$12)*100","v":13.043478260869565},"Cyan"]
["Purple",null,{"$f":"IF($A19=C$1,$A20,\"\")","v":""},{"$f":"IF($A19=D$1,$A20,\"\")","v":""},{"$f":"IF($A19=E$1,$A20,\"\")","v":""},{"$f":"IF($A19=F$1,$A20,\"\")","v":""},{"$f":"IF($A19=G$1,$A20,\"\")","v":""},{"$f":"IF($A19=H$1,$A20,\"\")","v":""},{"$f":"IF($A19=I$1,$A20,\"\")","v":""},{"$f":"IF($A19=J$1,$A20,\"\")","v":""},{"$f":"IF($A19=K$1,$A20,\"\")","v":"Orange"},{"$f":"IF($A19=L$1,$A20,\"\")","v":""},null,{"$f":"SUM(O6/O$12)*100","v":1.7543859649122806},"White",{"$f":"SUM(P6/P$12)*100","v":7.1428571428571423},"White",{"$f":"SUM(Q6/Q$12)*100","v":7.8947368421052628},"White",{"$f":"SUM(R6/R$12)*100","v":12.162162162162163},"White",{"$f":"SUM(S6/S$12)*100","v":6.7796610169491522},"White",{"$f":"SUM(T6/T$12)*100","v":5},"White",{"$f":"SUM(U6/U$12)*100","v":15},"White",{"$f":"SUM(V6/V$12)*100","v":10.294117647058822},"White",{"$f":"SUM(W6/W$12)*100","v":9.3333333333333339},"White",{"$f":"SUM(X6/X$12)*100","v":5.7971014492753623},"White"]
["Orange",null,{"$f":"IF($A20=C$1,$A21,\"\")","v":""},{"$f":"IF($A20=D$1,$A21,\"\")","v":"Red"},{"$f":"IF($A20=E$1,$A21,\"\")","v":""},{"$f":"IF($A20=F$1,$A21,\"\")","v":""},{"$f":"IF($A20=G$1,$A21,\"\")","v":""},{"$f":"IF($A20=H$1,$A21,\"\")","v":""},{"$f":"IF($A20=I$1,$A21,\"\")","v":""},{"$f":"IF($A20=J$1,$A21,\"\")","v":""},{"$f":"IF($A20=K$1,$A21,\"\")","v":""},{"$f":"IF($A20=L$1,$A21,\"\")","v":""},null,{"$f":"SUM(O7/O$12)*100","v":5.2631578947368416},"Red",{"$f":"SUM(P7/P$12)*100","v":14.285714285714285},"Red",{"$f":"SUM(Q7/Q$12)*100","v":15.789473684210526},"Red",{"$f":"SUM(R7/R$12)*100","v":4.0540540540540544},"Red",{"$f":"SUM(S7/S$12)*100","v":3.3898305084745761},"Red",{"$f":"SUM(T7/T$12)*100","v":13.750000000000002},"Red",{"$f":"SUM(U7/U$12)*100","v":16.25},"Red",{"$f":"SUM(V7/V$12)*100","v":13.23529411764706},"Red",{"$f":"SUM(W7/W$12)*100","v":10.666666666666668},"Red",{"$f":"SUM(X7/X$12)*100","v":13.043478260869565},"Red"]
["Red",null,{"$f":"IF($A21=C$1,$A22,\"\")","v":""},{"$f":"IF($A21=D$1,$A22,\"\")","v":""},{"$f":"IF($A21=E$1,$A22,\"\")","v":""},{"$f":"IF($A21=F$1,$A22,\"\")","v":""},{"$f":"IF($A21=G$1,$A22,\"\")","v":""},{"$f":"IF($A21=H$1,$A22,\"\")","v":"White"},{"$f":"IF($A21=I$1,$A22,\"\")","v":""},{"$f":"IF($A21=J$1,$A22,\"\")","v":""},{"$f":"IF($A21=K$1,$A22,\"\")","v":""},{"$f":"IF($A21=L$1,$A22,\"\")","v":""},null,{"$f":"SUM(O8/O$12)*100","v":15.789473684210526},"Black",{"$f":"SUM(P8/P$12)*100","v":8.5714285714285712},"Black",{"$f":"SUM(Q8/Q$12)*100","v":13.157894736842104},"Black",{"$f":"SUM(R8/R$12)*100","v":9.4594594594594597},"Black",{"$f":"SUM(S8/S$12)*100","v":16.949152542372879},"Black",{"$f":"SUM(T8/T$12)*100","v":12.5},"Black",{"$f":"SUM(U8/U$12)*100","v":7.5},"Black",{"$f":"SUM(V8/V$12)*100","v":8.8235294117647065},"Black",{"$f":"SUM(W8/W$12)*100","v":10.666666666666668},"Black",{"$f":"SUM(X8/X$12)*100","v":10.144927536231885},"Black"]
["White",null,{"$f":"IF($A22=C$1,$A23,\"\")","v":""},{"$f":"IF($A22=D$1,$A23,\"\")","v":""},{"$f":"IF($A22=E$1,$A23,\"\")","v":""},{"$f":"IF($A22=F$1,$A23,\"\")","v":""},{"$f":"IF($A22=G$1,$A23,\"\")","v":"Black"},{"$f":"IF($A22=H$1,$A23,\"\")","v":""},{"$f":"IF($A22=I$1,$A23,\"\")","v":""},{"$f":"IF($A22=J$1,$A23,\"\")","v":""},{"$f":"IF($A22=K$1,$A23,\"\")","v":""},{"$f":"IF($A22=L$1,$A23,\"\")","v":""},null,{"$f":"SUM(O9/O$12)*100","v":19.298245614035086},"Pink",{"$f":"SUM(P9/P$12)*100","v":12.857142857142856},"Pink",{"$f":"SUM(Q9/Q$12)*100","v":7.8947368421052628},"Pink",{"$f":"SUM(R9/R$12)*100","v":5.4054054054054053},"Pink",{"$f":"SUM(S9/S$12)*100","v":10.16949152542373},"Pink",{"$f":"SUM(T9/T$12)*100","v":10},"Pink",{"$f":"SUM(U9/U$12)*100","v":6.25},"Pink",{"$f":"SUM(V9/V$12)*100","v":7.3529411764705888},"Pink",{"$f":"SUM(W9/W$12)*100","v":13.333333333333334},"Pink",{"$f":"SUM(X9/X$12)*100","v":7.2463768115942031},"Pink"]
["Black",null,{"$f":"IF($A23=C$1,$A24,\"\")","v":""},{"$f":"IF($A23=D$1,$A24,\"\")","v":""},{"$f":"IF($A23=E$1,$A24,\"\")","v":""},{"$f":"IF($A23=F$1,$A24,\"\")","v":""},{"$f":"IF($A23=G$1,$A24,\"\")","v":""},{"$f":"IF($A23=H$1,$A24,\"\")","v":""},{"$f":"IF($A23=I$1,$A24,\"\")","v":"Orange"},{"$f":"IF($A23=J$1,$A24,\"\")","v":""},{"$f":"IF($A23=K$1,$A24,\"\")","v":""},{"$f":"IF($A23=L$1,$A24,\"\")","v":""},null,{"$f":"SUM(O10/O$12)*100","v":12.280701754385964},"Purple",{"$f":"SUM(P10/P$12)*100","v":8.5714285714285712},"Purple",{"$f":"SUM(Q10/Q$12)*100","v":7.8947368421052628},"Purple",{"$f":"SUM(R10/R$12)*100","v":10.810810810810811},"Purple",{"$f":"SUM(S10/S$12)*100","v":10.16949152542373},"Purple",{"$f":"SUM(T10/T$12)*100","v":8.75},"Purple",{"$f":"SUM(U10/U$12)*100","v":8.75},"Purple",{"$f":"SUM(V10/V$12)*100","v":17.647058823529413},"Purple",{"$f":"SUM(W10/W$12)*100","v":13.333333333333334},"Purple",{"$f":"SUM(X10/X$12)*100","v":8.695652173913043},"Purple"]
["Orange",null,{"$f":"IF($A24=C$1,$A25,\"\")","v":""},{"$f":"IF($A24=D$1,$A25,\"\")","v":"Pink"},{"$f":"IF($A24=E$1,$A25,\"\")","v":""},{"$f":"IF($A24=F$1,$A25,\"\")","v":""},{"$f":"IF($A24=G$1,$A25,\"\")","v":""},{"$f":"IF($A24=H$1,$A25,\"\")","v":""},{"$f":"IF($A24=I$1,$A25,\"\")","v":""},{"$f":"IF($A24=J$1,$A25,\"\")","v":""},{"$f":"IF($A24=K$1,$A25,\"\")","v":""},{"$f":"IF($A24=L$1,$A25,\"\")","v":""},null,{"$f":"SUM(O11/O$12)*100","v":3.5087719298245612},"Green",{"$f":"SUM(P11/P$12)*100","v":8.5714285714285712},"Green",{"$f":"SUM(Q11/Q$12)*100","v":11.842105263157894},"Green",{"$f":"SUM(R11/R$12)*100","v":10.810810810810811},"Green",{"$f":"SUM(S11/S$12)*100","v":10.16949152542373},"Green",{"$f":"SUM(T11/T$12)*100","v":12.5},"Green",{"$f":"SUM(U11/U$12)*100","v":10},"Green",{"$f":"SUM(V11/V$12)*100","v":11.76470588235294},"Green",{"$f":"SUM(W11/W$12)*100","v":5.3333333333333339},"Green",{"$f":"SUM(X11/X$12)*100","v":13.043478260869565},"Green"]
["Pink",null,{"$f":"IF($A25=C$1,$A26,\"\")","v":""},{"$f":"IF($A25=D$1,$A26,\"\")","v":""},{"$f":"IF($A25=E$1,$A26,\"\")","v":""},{"$f":"IF($A25=F$1,$A26,\"\")","v":""},{"$f":"IF($A25=G$1,$A26,\"\")","v":""},{"$f":"IF($A25=H$1,$A26,\"\")","v":""},{"$f":"IF($A25=I$1,$A26,\"\")","v":""},{"$f":"IF($A25=J$1,$A26,\"\")","v":"White"},{"$f":"IF($A25=K$1,$A26,\"\")","v":""},{"$f":"IF($A25=L$1,$A26,\"\")","v":""},null,{"$f":"SUM(N15:N24)","v":99.999999999999986},"Totaal",{"$f":"SUM(P15:P24)","v":100},"Totaal",{"$f":"SUM(R15:R24)","v":99.999999999999986},"Totaal",{"$f":"SUM(T15:T24)","v":99.999999999999986},"Totaal",{"$f":"SUM(V15:V24)","v":99.999999999999972},"Totaal",{"$f":"SUM(X15:X24)","v":100},"Totaal",{"$f":"SUM(Z15:Z24)","v":100},"Totaal",{"$f":"SUM(AB15:AB24)","v":100.00000000000001},"Totaal",{"$f":"SUM(AD15:AD24)","v":100},"Totaal",{"$f":"SUM(AF15:AF24)","v":100},"Totaal"]
["White",null,{"$f":"IF($A26=C$1,$A27,\"\")","v":""},{"$f":"IF($A26=D$1,$A27,\"\")","v":""},{"$f":"IF($A26=E$1,$A27,\"\")","v":""},{"$f":"IF($A26=F$1,$A27,\"\")","v":""},{"$f":"IF($A26=G$1,$A27,\"\")","v":"Yellow"},{"$f":"IF($A26=H$1,$A27,\"\")","v":""},{"$f":"IF($A26=I$1,$A27,\"\")","v":""},{"$f":"IF($A26=J$1,$A27,\"\")","v":""},{"$f":"IF($A26=K$1,$A27,\"\")","v":""},{"$f":"IF($A26=L$1,$A27,\"\")","v":""}]
["Yellow",null,{"$f":"IF($A27=C$1,$A28,\"\")","v":"Blue"},{"$f":"IF($A27=D$1,$A28,\"\")","v":""},{"$f":"IF($A27=E$1,$A28,\"\")","v":""},{"$f":"IF($A27=F$1,$A28,\"\")","v":""},{"$f":"IF($A27=G$1,$A28,\"\")","v":""},{"$f":"IF($A27=H$1,$A28,\"\")","v":""},{"$f":"IF($A27=I$1,$A28,\"\")","v":""},{"$f":"IF($A27=J$1,$A28,\"\")","v":""},{"$f":"IF($A27=K$1,$A28,\"\")","v":""},{"$f":"IF($A27=L$1,$A28,\"\")","v":""},"* ","Kleur","Niet gehit","%","Gemid.","Mod.",{"$f":"LOOKUP(REPT(\"z\",99),A:A)","v":"Green"},null,null,null,null,null,null,null,"> % Kleur","StDev","StDev+","Med.","Max."]
["Blue",null,{"$f":"IF($A28=C$1,$A29,\"\")","v":""},{"$f":"IF($A28=D$1,$A29,\"\")","v":""},{"$f":"IF($A28=E$1,$A29,\"\")","v":"Orange"},{"$f":"IF($A28=F$1,$A29,\"\")","v":""},{"$f":"IF($A28=G$1,$A29,\"\")","v":""},{"$f":"IF($A28=H$1,$A29,\"\")","v":""},{"$f":"IF($A28=I$1,$A29,\"\")","v":""},{"$f":"IF($A28=J$1,$A29,\"\")","v":""},{"$f":"IF($A28=K$1,$A29,\"\")","v":""},{"$f":"IF($A28=L$1,$A29,\"\")","v":""},2,"Yellow",{"$f":"BerekenenWitteCellen!B14","v":27},{"$f":"SUM((AA2/$AA$12))","v":0.08},{"$f":"AVERAGE(BerekenenWitteCellen!$B1:$SG1)","v":12.517857142857142},{"$f":"_xlfn.MODE.SNGL(BerekenenWitteCellen!$B1:$SG1)","v":6},{"$f":"VLOOKUP($AA28,($N$15:$O$24),2,FALSE)","v":"Pink"},null,null,null,null,null,null,null,{"$f":"IF($N28=$O15,MAX($N$15:$N$24),\"\")","v":19.298245614035086},{"$f":"BerekenenWitteCellen!C14","v":10.564413092055414},{"$f":"Q28+AB28","v":23.082270234912556},{"$f":"MEDIAN(BerekenenWitteCellen!$B1:$SG1)","v":9},{"$f":"MAX(BerekenenWitteCellen!$B1:$SG1)","v":43}]
["Orange",null,{"$f":"IF($A29=C$1,$A30,\"\")","v":""},{"$f":"IF($A29=D$1,$A30,\"\")","v":"Orange"},{"$f":"IF($A29=E$1,$A30,\"\")","v":""},{"$f":"IF($A29=F$1,$A30,\"\")","v":""},{"$f":"IF($A29=G$1,$A30,\"\")","v":""},{"$f":"IF($A29=H$1,$A30,\"\")","v":""},{"$f":"IF($A29=I$1,$A30,\"\")","v":""},{"$f":"IF($A29=J$1,$A30,\"\")","v":""},{"$f":"IF($A29=K$1,$A30,\"\")","v":""},{"$f":"IF($A29=L$1,$A30,\"\")","v":""},3,"Orange",{"$f":"BerekenenWitteCellen!B15","v":4},{"$f":"SUM((AA3/$AA$12))","v":9.8571428571428574E-2},{"$f":"AVERAGE(BerekenenWitteCellen!$B2:$SG2)","v":10.144927536231885},{"$f":"_xlfn.MODE.SNGL(BerekenenWitteCellen!$B2:$SG2)","v":1},{"$f":"VLOOKUP($AA29,($P$15:$Q$24),2,FALSE)","v":"Orange"},null,null,null,null,null,null,null,{"$f":"IF($N29=$O16,MAX(P15:P24),\"\")","v":15.714285714285714},{"$f":"BerekenenWitteCellen!C15","v":9.3472081584325402},{"$f":"Q29+AB29","v":19.492135694664427},{"$f":"MEDIAN(BerekenenWitteCellen!$B2:$SG2)","v":7},{"$f":"MAX(BerekenenWitteCellen!$B2:$SG2)","v":38}]
["Orange",null,{"$f":"IF($A30=C$1,$A31,\"\")","v":""},{"$f":"IF($A30=D$1,$A31,\"\")","v":"Orange"},{"$f":"IF($A30=E$1,$A31,\"\")","v":""},{"$f":"IF($A30=F$1,$A31,\"\")","v":""},{"$f":"IF($A30=G$1,$A31,\"\")","v":""},{"$f":"IF($A30=H$1,$A31,\"\")","v":""},{"$f":"IF($A30=I$1,$A31,\"\")","v":""},{"$f":"IF($A30=J$1,$A31,\"\")","v":""},{"$f":"IF($A30=K$1,$A31,\"\")","v":""},{"$f":"IF($A30=L$1,$A31,\"\")","v":""},4,"Blue",{"$f":"BerekenenWitteCellen!B16","v":13},{"$f":"SUM((AA4/$AA$12))","v":0.10714285714285714},{"$f":"AVERAGE(BerekenenWitteCellen!$B3:$SG3)","v":9.4189189189189193},{"$f":"_xlfn.MODE.SNGL(BerekenenWitteCellen!$B3:$SG3)","v":2},{"$f":"VLOOKUP($AA30,($R$15:$S$24),2,FALSE)","v":"Red"},null,null,null,null,null,null,null,{"$f":"IF($N30=$O17,MAX(R15:R24),\"\")","v":15.789473684210526},{"$f":"BerekenenWitteCellen!C16","v":9.3128895808324277},{"$f":"Q30+AB30","v":18.731808499751345},{"$f":"MEDIAN(BerekenenWitteCellen!$B3:$SG3)","v":6},{"$f":"MAX(BerekenenWitteCellen!$B3:$SG3)","v":52}]
["Orange",null,{"$f":"IF($A31=C$1,$A32,\"\")","v":""},{"$f":"IF($A31=D$1,$A32,\"\")","v":"White"},{"$f":"IF($A31=E$1,$A32,\"\")","v":""},{"$f":"IF($A31=F$1,$A32,\"\")","v":""},{"$f":"IF($A31=G$1,$A32,\"\")","v":""},{"$f":"IF($A31=H$1,$A32,\"\")","v":""},{"$f":"IF($A31=I$1,$A32,\"\")","v":""},{"$f":"IF($A31=J$1,$A32,\"\")","v":""},{"$f":"IF($A31=K$1,$A32,\"\")","v":""},{"$f":"IF($A31=L$1,$A32,\"\")","v":""},5,"Cyan",{"$f":"BerekenenWitteCellen!B17","v":5},{"$f":"SUM((AA5/$AA$12))","v":0.10428571428571429},{"$f":"AVERAGE(BerekenenWitteCellen!$B4:$SG4)","v":9.3972602739726021},{"$f":"_xlfn.MODE.SNGL(BerekenenWitteCellen!$B4:$SG4)","v":1},{"$f":"VLOOKUP($AA31,($T$15:$U$24),2,FALSE)","v":"Blue"},null,null,null,null,null,null,null,{"$f":"IF($N31=$O18,MAX(T15:T24),\"\")","v":14.864864864864865},{"$f":"BerekenenWitteCellen!C17","v":7.8299385501663261},{"$f":"Q31+AB31","v":17.227198824138927},{"$f":"MEDIAN(BerekenenWitteCellen!$B4:$SG4)","v":7},{"$f":"MAX(BerekenenWitteCellen!$B4:$SG4)","v":32}]
["White",null,{"$f":"IF($A32=C$1,$A33,\"\")","v":""},{"$f":"IF($A32=D$1,$A33,\"\")","v":""},{"$f":"IF($A32=E$1,$A33,\"\")","v":""},{"$f":"IF($A32=F$1,$A33,\"\")","v":""},{"$f":"IF($A32=G$1,$A33,\"\")","v":"Pink"},{"$f":"IF($A32=H$1,$A33,\"\")","v":""},{"$f":"IF($A32=I$1,$A33,\"\")","v":""},{"$f":"IF($A32=J$1,$A33,\"\")","v":""},{"$f":"IF($A32=K$1,$A33,\"\")","v":""},{"$f":"IF($A32=L$1,$A33,\"\")","v":""},6,"White",{"$f":"BerekenenWitteCellen!B18","v":6},{"$f":"SUM((AA6/$AA$12))","v":8.2857142857142851E-2},{"$f":"AVERAGE(BerekenenWitteCellen!$B5:$SG5)","v":12.157894736842104},{"$f":"_xlfn.MODE.SNGL(BerekenenWitteCellen!$B5:$SG5)","v":6},{"$f":"VLOOKUP($AA32,($V$15:$W$24),2,FALSE)","v":"Black"},null,null,null,null,null,null,null,{"$f":"IF($N32=$O19,MAX(V15:V24),\"\")","v":16.949152542372879},{"$f":"BerekenenWitteCellen!C18","v":9.9926103814035354},{"$f":"Q32+AB32","v":22.15050511824564},{"$f":"MEDIAN(BerekenenWitteCellen!$B5:$SG5)","v":9},{"$f":"MAX(BerekenenWitteCellen!$B5:$SG5)","v":41}]
["Pink",null,{"$f":"IF($A33=C$1,$A34,\"\")","v":""},{"$f":"IF($A33=D$1,$A34,\"\")","v":""},{"$f":"IF($A33=E$1,$A34,\"\")","v":""},{"$f":"IF($A33=F$1,$A34,\"\")","v":""},{"$f":"IF($A33=G$1,$A34,\"\")","v":""},{"$f":"IF($A33=H$1,$A34,\"\")","v":""},{"$f":"IF($A33=I$1,$A34,\"\")","v":""},{"$f":"IF($A33=J$1,$A34,\"\")","v":"Orange"},{"$f":"IF($A33=K$1,$A34,\"\")","v":""},{"$f":"IF($A33=L$1,$A34,\"\")","v":""},7,"Red",{"$f":"BerekenenWitteCellen!B19","v":3},{"$f":"SUM((AA7/$AA$12))","v":0.11285714285714285},{"$f":"AVERAGE(BerekenenWitteCellen!$B6:$SG6)","v":8.9230769230769234},{"$f":"_xlfn.MODE.SNGL(BerekenenWitteCellen!$B6:$SG6)","v":1},{"$f":"VLOOKUP($AA33,($X$15:$Y$24),2,FALSE)","v":"Cyan"},null,null,null,null,null,null,null,{"$f":"IF($N33=$O20,MAX(X15:X24),\"\")","v":13.750000000000002},{"$f":"BerekenenWitteCellen!C19","v":9.3311845934564897},{"$f":"Q33+AB33","v":18.254261516533411},{"$f":"MEDIAN(BerekenenWitteCellen!$B6:$SG6)","v":6},{"$f":"MAX(BerekenenWitteCellen!$B6:$SG6)","v":52}]
["Orange",null,{"$f":"IF($A34=C$1,$A35,\"\")","v":""},{"$f":"IF($A34=D$1,$A35,\"\")","v":"Red"},{"$f":"IF($A34=E$1,$A35,\"\")","v":""},{"$f":"IF($A34=F$1,$A35,\"\")","v":""},{"$f":"IF($A34=G$1,$A35,\"\")","v":""},{"$f":"IF($A34=H$1,$A35,\"\")","v":""},{"$f":"IF($A34=I$1,$A35,\"\")","v":""},{"$f":"IF($A34=J$1,$A35,\"\")","v":""},{"$f":"IF($A34=K$1,$A35,\"\")","v":""},{"$f":"IF($A34=L$1,$A35,\"\")","v":""},8,"Black",{"$f":"BerekenenWitteCellen!B20","v":8},{"$f":"SUM((AA8/$AA$12))","v":0.11285714285714285},{"$f":"AVERAGE(BerekenenWitteCellen!$B7:$SG7)","v":8.7215189873417724},{"$f":"_xlfn.MODE.SNGL(BerekenenWitteCellen!$B7:$SG7)","v":2},{"$f":"VLOOKUP($AA34,($Z$15:$AA$24),2,FALSE)","v":"Red"},null,null,null,null,null,null,null,{"$f":"IF($N34=$O21,MAX(Z15:Z24),\"\")","v":16.25},{"$f":"BerekenenWitteCellen!C20","v":7.035059955590528},{"$f":"Q34+AB34","v":15.7565789429323},{"$f":"MEDIAN(BerekenenWitteCellen!$B7:$SG7)","v":7},{"$f":"MAX(BerekenenWitteCellen!$B7:$SG7)","v":32}]
["Red",null,{"$f":"IF($A35=C$1,$A36,\"\")","v":""},{"$f":"IF($A35=D$1,$A36,\"\")","v":""},{"$f":"IF($A35=E$1,$A36,\"\")","v":""},{"$f":"IF($A35=F$1,$A36,\"\")","v":""},{"$f":"IF($A35=G$1,$A36,\"\")","v":""},{"$f":"IF($A35=H$1,$A36,\"\")","v":"Cyan"},{"$f":"IF($A35=I$1,$A36,\"\")","v":""},{"$f":"IF($A35=J$1,$A36,\"\")","v":""},{"$f":"IF($A35=K$1,$A36,\"\")","v":""},{"$f":"IF($A35=L$1,$A36,\"\")","v":""},9,"Pink",{"$f":"BerekenenWitteCellen!B21","v":2},{"$f":"SUM((AA9/$AA$12))","v":9.7142857142857142E-2},{"$f":"AVERAGE(BerekenenWitteCellen!$B8:$SG8)","v":9.9705882352941178},{"$f":"_xlfn.MODE.SNGL(BerekenenWitteCellen!$B8:$SG8)","v":2},{"$f":"VLOOKUP($AA35,($AB$15:$AC$24),2,FALSE)","v":"Purple"},null,null,null,null,null,null,null,{"$f":"IF($N35=$O22,MAX(AB15:AB24),\"\")","v":17.647058823529413},{"$f":"BerekenenWitteCellen!C21","v":9.4073978840111199},{"$f":"Q35+AB35","v":19.377986119305238},{"$f":"MEDIAN(BerekenenWitteCellen!$B8:$SG8)","v":7.5},{"$f":"MAX(BerekenenWitteCellen!$B8:$SG8)","v":43}]
["Cyan",null,{"$f":"IF($A36=C$1,$A37,\"\")","v":""},{"$f":"IF($A36=D$1,$A37,\"\")","v":""},{"$f":"IF($A36=E$1,$A37,\"\")","v":""},{"$f":"IF($A36=F$1,$A37,\"\")","v":"Black"},{"$f":"IF($A36=G$1,$A37,\"\")","v":""},{"$f":"IF($A36=H$1,$A37,\"\")","v":""},{"$f":"IF($A36=I$1,$A37,\"\")","v":""},{"$f":"IF($A36=J$1,$A37,\"\")","v":""},{"$f":"IF($A36=K$1,$A37,\"\")","v":""},{"$f":"IF($A36=L$1,$A37,\"\")","v":""},10,"Purple",{"$f":"BerekenenWitteCellen!B22","v":18},{"$f":"SUM((AA10/$AA$12))","v":0.10571428571428572},{"$f":"AVERAGE(BerekenenWitteCellen!$B9:$SG9)","v":9.2837837837837842},{"$f":"_xlfn.MODE.SNGL(BerekenenWitteCellen!$B9:$SG9)","v":1},{"$f":"VLOOKUP($AA36,($AD$15:$AE$24),2,FALSE)","v":"Pink"},null,null,null,null,null,null,null,{"$f":"IF($N36=$O23,MAX(AD15:AD24),\"\")","v":13.333333333333334},{"$f":"BerekenenWitteCellen!C22","v":6.8507649410540186},{"$f":"Q36+AB36","v":16.134548724837803},{"$f":"MEDIAN(BerekenenWitteCellen!$B9:$SG9)","v":8},{"$f":"MAX(BerekenenWitteCellen!$B9:$SG9)","v":31}]
["Black",null,{"$f":"IF($A37=C$1,$A38,\"\")","v":""},{"$f":"IF($A37=D$1,$A38,\"\")","v":""},{"$f":"IF($A37=E$1,$A38,\"\")","v":""},{"$f":"IF($A37=F$1,$A38,\"\")","v":""},{"$f":"IF($A37=G$1,$A38,\"\")","v":""},{"$f":"IF($A37=H$1,$A38,\"\")","v":""},{"$f":"IF($A37=I$1,$A38,\"\")","v":"Yellow"},{"$f":"IF($A37=J$1,$A38,\"\")","v":""},{"$f":"IF($A37=K$1,$A38,\"\")","v":""},{"$f":"IF($A37=L$1,$A38,\"\")","v":""},11,"Green",{"$f":"BerekenenWitteCellen!B23","v":1},{"$f":"SUM((AA11/$AA$12))","v":9.8571428571428574E-2},{"$f":"AVERAGE(BerekenenWitteCellen!$B10:$SG10)","v":10.014492753623188},{"$f":"_xlfn.MODE.SNGL(BerekenenWitteCellen!$B10:$SG10)","v":1},{"$f":"VLOOKUP($AA37,($AF$15:$AG$24),2,FALSE)","v":"Cyan"},null,null,null,null,null,null,null,{"$f":"IF($N37=$O24,MAX(AF15:AF24),\"\")","v":13.043478260869565},{"$f":"BerekenenWitteCellen!C23","v":7.6773575496781223},{"$f":"Q37+AB37","v":17.691850303301308},{"$f":"MEDIAN(BerekenenWitteCellen!$B10:$SG10)","v":8},{"$f":"MAX(BerekenenWitteCellen!$B10:$SG10)","v":34}]
["Yellow",null,{"$f":"IF($A38=C$1,$A39,\"\")","v":"Black"},{"$f":"IF($A38=D$1,$A39,\"\")","v":""},{"$f":"IF($A38=E$1,$A39,\"\")","v":""},{"$f":"IF($A38=F$1,$A39,\"\")","v":""},{"$f":"IF($A38=G$1,$A39,\"\")","v":""},{"$f":"IF($A38=H$1,$A39,\"\")","v":""},{"$f":"IF($A38=I$1,$A39,\"\")","v":""},{"$f":"IF($A38=J$1,$A39,\"\")","v":""},{"$f":"IF($A38=K$1,$A39,\"\")","v":""},{"$f":"IF($A38=L$1,$A39,\"\")","v":""}]
["Black",null,{"$f":"IF($A39=C$1,$A40,\"\")","v":""},{"$f":"IF($A39=D$1,$A40,\"\")","v":""},{"$f":"IF($A39=E$1,$A40,\"\")","v":""},{"$f":"IF($A39=F$1,$A40,\"\")","v":""},{"$f":"IF($A39=G$1,$A40,\"\")","v":""},{"$f":"IF($A39=H$1,$A40,\"\")","v":""},{"$f":"IF($A39=I$1,$A40,\"\")","v":"Yellow"},{"$f":"IF($A39=J$1,$A40,\"\")","v":""},{"$f":"IF($A39=K$1,$A40,\"\")","v":""},{"$f":"IF($A39=L$1,$A40,\"\")","v":""}]
["Yellow",null,{"$f":"IF($A40=C$1,$A41,\"\")","v":"Pink"},{"$f":"IF($A40=D$1,$A41,\"\")","v":""},{"$f":"IF($A40=E$1,$A41,\"\")","v":""},{"$f":"IF($A40=F$1,$A41,\"\")","v":""},{"$f":"IF($A40=G$1,$A41,\"\")","v":""},{"$f":"IF($A40=H$1,$A41,\"\")","v":""},{"$f":"IF($A40=I$1,$A41,\"\")","v":""},{"$f":"IF($A40=J$1,$A41,\"\")","v":""},{"$f":"IF($A40=K$1,$A41,\"\")","v":""},{"$f":"IF($A40=L$1,$A41,\"\")","v":""}]
["Pink",null,{"$f":"IF($A41=C$1,$A42,\"\")","v":""},{"$f":"IF($A41=D$1,$A42,\"\")","v":""},{"$f":"IF($A41=E$1,$A42,\"\")","v":""},{"$f":"IF($A41=F$1,$A42,\"\")","v":""},{"$f":"IF($A41=G$1,$A42,\"\")","v":""},{"$f":"IF($A41=H$1,$A42,\"\")","v":""},{"$f":"IF($A41=I$1,$A42,\"\")","v":""},{"$f":"IF($A41=J$1,$A42,\"\")","v":"Blue"},{"$f":"IF($A41=K$1,$A42,\"\")","v":""},{"$f":"IF($A41=L$1,$A42,\"\")","v":""}]
["Blue",null,{"$f":"IF($A42=C$1,$A43,\"\")","v":""},{"$f":"IF($A42=D$1,$A43,\"\")","v":""},{"$f":"IF($A42=E$1,$A43,\"\")","v":"Purple"},{"$f":"IF($A42=F$1,$A43,\"\")","v":""},{"$f":"IF($A42=G$1,$A43,\"\")","v":""},{"$f":"IF($A42=H$1,$A43,\"\")","v":""},{"$f":"IF($A42=I$1,$A43,\"\")","v":""},{"$f":"IF($A42=J$1,$A43,\"\")","v":""},{"$f":"IF($A42=K$1,$A43,\"\")","v":""},{"$f":"IF($A42=L$1,$A43,\"\")","v":""}]
["Purple",null,{"$f":"IF($A43=C$1,$A44,\"\")","v":""},{"$f":"IF($A43=D$1,$A44,\"\")","v":""},{"$f":"IF($A43=E$1,$A44,\"\")","v":""},{"$f":"IF($A43=F$1,$A44,\"\")","v":""},{"$f":"IF($A43=G$1,$A44,\"\")","v":""},{"$f":"IF($A43=H$1,$A44,\"\")","v":""},{"$f":"IF($A43=I$1,$A44,\"\")","v":""},{"$f":"IF($A43=J$1,$A44,\"\")","v":""},{"$f":"IF($A43=K$1,$A44,\"\")","v":"Pink"},{"$f":"IF($A43=L$1,$A44,\"\")","v":""}]
["Pink",null,{"$f":"IF($A44=C$1,$A45,\"\")","v":""},{"$f":"IF($A44=D$1,$A45,\"\")","v":""},{"$f":"IF($A44=E$1,$A45,\"\")","v":""},{"$f":"IF($A44=F$1,$A45,\"\")","v":""},{"$f":"IF($A44=G$1,$A45,\"\")","v":""},{"$f":"IF($A44=H$1,$A45,\"\")","v":""},{"$f":"IF($A44=I$1,$A45,\"\")","v":""},{"$f":"IF($A44=J$1,$A45,\"\")","v":"Pink"},{"$f":"IF($A44=K$1,$A45,\"\")","v":""},{"$f":"IF($A44=L$1,$A45,\"\")","v":""}]
["Pink",null,{"$f":"IF($A45=C$1,$A46,\"\")","v":""},{"$f":"IF($A45=D$1,$A46,\"\")","v":""},{"$f":"IF($A45=E$1,$A46,\"\")","v":""},{"$f":"IF($A45=F$1,$A46,\"\")","v":""},{"$f":"IF($A45=G$1,$A46,\"\")","v":""},{"$f":"IF($A45=H$1,$A46,\"\")","v":""},{"$f":"IF($A45=I$1,$A46,\"\")","v":""},{"$f":"IF($A45=J$1,$A46,\"\")","v":"Green"},{"$f":"IF($A45=K$1,$A46,\"\")","v":""},{"$f":"IF($A45=L$1,$A46,\"\")","v":""}]
["Green",null,{"$f":"IF($A46=C$1,$A47,\"\")","v":""},{"$f":"IF($A46=D$1,$A47,\"\")","v":""},{"$f":"IF($A46=E$1,$A47,\"\")","v":""},{"$f":"IF($A46=F$1,$A47,\"\")","v":""},{"$f":"IF($A46=G$1,$A47,\"\")","v":""},{"$f":"IF($A46=H$1,$A47,\"\")","v":""},{"$f":"IF($A46=I$1,$A47,\"\")","v":""},{"$f":"IF($A46=J$1,$A47,\"\")","v":""},{"$f":"IF($A46=K$1,$A47,\"\")","v":""},{"$f":"IF($A46=L$1,$A47,\"\")","v":"Cyan"}]
["Cyan",null,{"$f":"IF($A47=C$1,$A48,\"\")","v":""},{"$f":"IF($A47=D$1,$A48,\"\")","v":""},{"$f":"IF($A47=E$1,$A48,\"\")","v":""},{"$f":"IF($A47=F$1,$A48,\"\")","v":"Purple"},{"$f":"IF($A47=G$1,$A48,\"\")","v":""},{"$f":"IF($A47=H$1,$A48,\"\")","v":""},{"$f":"IF($A47=I$1,$A48,\"\")","v":""},{"$f":"IF($A47=J$1,$A48,\"\")","v":""},{"$f":"IF($A47=K$1,$A48,\"\")","v":""},{"$f":"IF($A47=L$1,$A48,\"\")","v":""}]
["Purple",null,{"$f":"IF($A48=C$1,$A49,\"\")","v":""},{"$f":"IF($A48=D$1,$A49,\"\")","v":""},{"$f":"IF($A48=E$1,$A49,\"\")","v":""},{"$f":"IF($A48=F$1,$A49,\"\")","v":""},{"$f":"IF($A48=G$1,$A49,\"\")","v":""},{"$f":"IF($A48=H$1,$A49,\"\")","v":""},{"$f":"IF($A48=I$1,$A49,\"\")","v":""},{"$f":"IF($A48=J$1,$A49,\"\")","v":""},{"$f":"IF($A48=K$1,$A49,\"\")","v":"Pink"},{"$f":"IF($A48=L$1,$A49,\"\")","v":""}]
["Pink",null,{"$f":"IF($A49=C$1,$A50,\"\")","v":""},{"$f":"IF($A49=D$1,$A50,\"\")","v":""},{"$f":"IF($A49=E$1,$A50,\"\")","v":""},{"$f":"IF($A49=F$1,$A50,\"\")","v":""},{"$f":"IF($A49=G$1,$A50,\"\")","v":""},{"$f":"IF($A49=H$1,$A50,\"\")","v":""},{"$f":"IF($A49=I$1,$A50,\"\")","v":""},{"$f":"IF($A49=J$1,$A50,\"\")","v":"Red"},{"$f":"IF($A49=K$1,$A50,\"\")","v":""},{"$f":"IF($A49=L$1,$A50,\"\")","v":""}]
["Red",null,{"$f":"IF($A50=C$1,$A51,\"\")","v":""},{"$f":"IF($A50=D$1,$A51,\"\")","v":""},{"$f":"IF($A50=E$1,$A51,\"\")","v":""},{"$f":"IF($A50=F$1,$A51,\"\")","v":""},{"$f":"IF($A50=G$1,$A51,\"\")","v":""},{"$f":"IF($A50=H$1,$A51,\"\")","v":"Pink"},{"$f":"IF($A50=I$1,$A51,\"\")","v":""},{"$f":"IF($A50=J$1,$A51,\"\")","v":""},{"$f":"IF($A50=K$1,$A51,\"\")","v":""},{"$f":"IF($A50=L$1,$A51,\"\")","v":""}]
["Pink",null,{"$f":"IF($A51=C$1,$A52,\"\")","v":""},{"$f":"IF($A51=D$1,$A52,\"\")","v":""},{"$f":"IF($A51=E$1,$A52,\"\")","v":""},{"$f":"IF($A51=F$1,$A52,\"\")","v":""},{"$f":"IF($A51=G$1,$A52,\"\")","v":""},{"$f":"IF($A51=H$1,$A52,\"\")","v":""},{"$f":"IF($A51=I$1,$A52,\"\")","v":""},{"$f":"IF($A51=J$1,$A52,\"\")","v":"Orange"},{"$f":"IF($A51=K$1,$A52,\"\")","v":""},{"$f":"IF($A51=L$1,$A52,\"\")","v":""}]
["Orange",null,{"$f":"IF($A52=C$1,$A53,\"\")","v":""},{"$f":"IF($A52=D$1,$A53,\"\")","v":"Green"},{"$f":"IF($A52=E$1,$A53,\"\")","v":""},{"$f":"IF($A52=F$1,$A53,\"\")","v":""},{"$f":"IF($A52=G$1,$A53,\"\")","v":""},{"$f":"IF($A52=H$1,$A53,\"\")","v":""},{"$f":"IF($A52=I$1,$A53,\"\")","v":""},{"$f":"IF($A52=J$1,$A53,\"\")","v":""},{"$f":"IF($A52=K$1,$A53,\"\")","v":""},{"$f":"IF($A52=L$1,$A53,\"\")","v":""}]
["Green",null,{"$f":"IF($A53=C$1,$A54,\"\")","v":""},{"$f":"IF($A53=D$1,$A54,\"\")","v":""},{"$f":"IF($A53=E$1,$A54,\"\")","v":""},{"$f":"IF($A53=F$1,$A54,\"\")","v":""},{"$f":"IF($A53=G$1,$A54,\"\")","v":""},{"$f":"IF($A53=H$1,$A54,\"\")","v":""},{"$f":"IF($A53=I$1,$A54,\"\")","v":""},{"$f":"IF($A53=J$1,$A54,\"\")","v":""},{"$f":"IF($A53=K$1,$A54,\"\")","v":""},{"$f":"IF($A53=L$1,$A54,\"\")","v":"Yellow"}]
["Yellow",null,{"$f":"IF($A54=C$1,$A55,\"\")","v":"Red"},{"$f":"IF($A54=D$1,$A55,\"\")","v":""},{"$f":"IF($A54=E$1,$A55,\"\")","v":""},{"$f":"IF($A54=F$1,$A55,\"\")","v":""},{"$f":"IF($A54=G$1,$A55,\"\")","v":""},{"$f":"IF($A54=H$1,$A55,\"\")","v":""},{"$f":"IF($A54=I$1,$A55,\"\")","v":""},{"$f":"IF($A54=J$1,$A55,\"\")","v":""},{"$f":"IF($A54=K$1,$A55,\"\")","v":""},{"$f":"IF($A54=L$1,$A55,\"\")","v":""}]
["Red",null,{"$f":"IF($A55=C$1,$A56,\"\")","v":""},{"$f":"IF($A55=D$1,$A56,\"\")","v":""},{"$f":"IF($A55=E$1,$A56,\"\")","v":""},{"$f":"IF($A55=F$1,$A56,\"\")","v":""},{"$f":"IF($A55=G$1,$A56,\"\")","v":""},{"$f":"IF($A55=H$1,$A56,\"\")","v":"Black"},{"$f":"IF($A55=I$1,$A56,\"\")","v":""},{"$f":"IF($A55=J$1,$A56,\"\")","v":""},{"$f":"IF($A55=K$1,$A56,\"\")","v":""},{"$f":"IF($A55=L$1,$A56,\"\")","v":""}]
["Black",null,{"$f":"IF($A56=C$1,$A57,\"\")","v":""},{"$f":"IF($A56=D$1,$A57,\"\")","v":""},{"$f":"IF($A56=E$1,$A57,\"\")","v":""},{"$f":"IF($A56=F$1,$A57,\"\")","v":""},{"$f":"IF($A56=G$1,$A57,\"\")","v":""},{"$f":"IF($A56=H$1,$A57,\"\")","v":""},{"$f":"IF($A56=I$1,$A57,\"\")","v":"Purple"},{"$f":"IF($A56=J$1,$A57,\"\")","v":""},{"$f":"IF($A56=K$1,$A57,\"\")","v":""},{"$f":"IF($A56=L$1,$A57,\"\")","v":""}]
["Purple",null,{"$f":"IF($A57=C$1,$A58,\"\")","v":""},{"$f":"IF($A57=D$1,$A58,\"\")","v":""},{"$f":"IF($A57=E$1,$A58,\"\")","v":""},{"$f":"IF($A57=F$1,$A58,\"\")","v":""},{"$f":"IF($A57=G$1,$A58,\"\")","v":""},{"$f":"IF($A57=H$1,$A58,\"\")","v":""},{"$f":"IF($A57=I$1,$A58,\"\")","v":""},{"$f":"IF($A57=J$1,$A58,\"\")","v":""},{"$f":"IF($A57=K$1,$A58,\"\")","v":"Pink"},{"$f":"IF($A57=L$1,$A58,\"\")","v":""}]
["Pink",null,{"$f":"IF($A58=C$1,$A59,\"\")","v":""},{"$f":"IF($A58=D$1,$A59,\"\")","v":""},{"$f":"IF($A58=E$1,$A59,\"\")","v":""},{"$f":"IF($A58=F$1,$A59,\"\")","v":""},{"$f":"IF($A58=G$1,$A59,\"\")","v":""},{"$f":"IF($A58=H$1,$A59,\"\")","v":""},{"$f":"IF($A58=I$1,$A59,\"\")","v":""},{"$f":"IF($A58=J$1,$A59,\"\")","v":"White"},{"$f":"IF($A58=K$1,$A59,\"\")","v":""},{"$f":"IF($A58=L$1,$A59,\"\")","v":""}]
["White",null,{"$f":"IF($A59=C$1,$A60,\"\")","v":""},{"$f":"IF($A59=D$1,$A60,\"\")","v":""},{"$f":"IF($A59=E$1,$A60,\"\")","v":""},{"$f":"IF($A59=F$1,$A60,\"\")","v":""},{"$f":"IF($A59=G$1,$A60,\"\")","v":"Purple"},{"$f":"IF($A59=H$1,$A60,\"\")","v":""},{"$f":"IF($A59=I$1,$A60,\"\")","v":""},{"$f":"IF($A59=J$1,$A60,\"\")","v":""},{"$f":"IF($A59=K$1,$A60,\"\")","v":""},{"$f":"IF($A59=L$1,$A60,\"\")","v":""}]
["Purple",null,{"$f":"IF($A60=C$1,$A61,\"\")","v":""},{"$f":"IF($A60=D$1,$A61,\"\")","v":""},{"$f":"IF($A60=E$1,$A61,\"\")","v":""},{"$f":"IF($A60=F$1,$A61,\"\")","v":""},{"$f":"IF($A60=G$1,$A61,\"\")","v":""},{"$f":"IF($A60=H$1,$A61,\"\")","v":""},{"$f":"IF($A60=I$1,$A61,\"\")","v":""},{"$f":"IF($A60=J$1,$A61,\"\")","v":""},{"$f":"IF($A60=K$1,$A61,\"\")","v":"Purple"},{"$f":"IF($A60=L$1,$A61,\"\")","v":""}]
["Purple",null,{"$f":"IF($A61=C$1,$A62,\"\")","v":""},{"$f":"IF($A61=D$1,$A62,\"\")","v":""},{"$f":"IF($A61=E$1,$A62,\"\")","v":""},{"$f":"IF($A61=F$1,$A62,\"\")","v":""},{"$f":"IF($A61=G$1,$A62,\"\")","v":""},{"$f":"IF($A61=H$1,$A62,\"\")","v":""},{"$f":"IF($A61=I$1,$A62,\"\")","v":""},{"$f":"IF($A61=J$1,$A62,\"\")","v":""},{"$f":"IF($A61=K$1,$A62,\"\")","v":"Black"},{"$f":"IF($A61=L$1,$A62,\"\")","v":""}]
["Black",null,{"$f":"IF($A62=C$1,$A63,\"\")","v":""},{"$f":"IF($A62=D$1,$A63,\"\")","v":""},{"$f":"IF($A62=E$1,$A63,\"\")","v":""},{"$f":"IF($A62=F$1,$A63,\"\")","v":""},{"$f":"IF($A62=G$1,$A63,\"\")","v":""},{"$f":"IF($A62=H$1,$A63,\"\")","v":""},{"$f":"IF($A62=I$1,$A63,\"\")","v":"Orange"},{"$f":"IF($A62=J$1,$A63,\"\")","v":""},{"$f":"IF($A62=K$1,$A63,\"\")","v":""},{"$f":"IF($A62=L$1,$A63,\"\")","v":""}]
["Orange",null,{"$f":"IF($A63=C$1,$A64,\"\")","v":""},{"$f":"IF($A63=D$1,$A64,\"\")","v":"Yellow"},{"$f":"IF($A63=E$1,$A64,\"\")","v":""},{"$f":"IF($A63=F$1,$A64,\"\")","v":""},{"$f":"IF($A63=G$1,$A64,\"\")","v":""},{"$f":"IF($A63=H$1,$A64,\"\")","v":""},{"$f":"IF($A63=I$1,$A64,\"\")","v":""},{"$f":"IF($A63=J$1,$A64,\"\")","v":""},{"$f":"IF($A63=K$1,$A64,\"\")","v":""},{"$f":"IF($A63=L$1,$A64,\"\")","v":""}]
["Yellow",null,{"$f":"IF($A64=C$1,$A65,\"\")","v":"Purple"},{"$f":"IF($A64=D$1,$A65,\"\")","v":""},{"$f":"IF($A64=E$1,$A65,\"\")","v":""},{"$f":"IF($A64=F$1,$A65,\"\")","v":""},{"$f":"IF($A64=G$1,$A65,\"\")","v":""},{"$f":"IF($A64=H$1,$A65,\"\")","v":""},{"$f":"IF($A64=I$1,$A65,\"\")","v":""},{"$f":"IF($A64=J$1,$A65,\"\")","v":""},{"$f":"IF($A64=K$1,$A65,\"\")","v":""},{"$f":"IF($A64=L$1,$A65,\"\")","v":""}]
["Purple",null,{"$f":"IF($A65=C$1,$A66,\"\")","v":""},{"$f":"IF($A65=D$1,$A66,\"\")","v":""},{"$f":"IF($A65=E$1,$A66,\"\")","v":""},{"$f":"IF($A65=F$1,$A66,\"\")","v":""},{"$f":"IF($A65=G$1,$A66,\"\")","v":""},{"$f":"IF($A65=H$1,$A66,\"\")","v":""},{"$f":"IF($A65=I$1,$A66,\"\")","v":""},{"$f":"IF($A65=J$1,$A66,\"\")","v":""},{"$f":"IF($A65=K$1,$A66,\"\")","v":"Cyan"},{"$f":"IF($A65=L$1,$A66,\"\")","v":""}]
["Cyan",null,{"$f":"IF($A66=C$1,$A67,\"\")","v":""},{"$f":"IF($A66=D$1,$A67,\"\")","v":""},{"$f":"IF($A66=E$1,$A67,\"\")","v":""},{"$f":"IF($A66=F$1,$A67,\"\")","v":"Cyan"},{"$f":"IF($A66=G$1,$A67,\"\")","v":""},{"$f":"IF($A66=H$1,$A67,\"\")","v":""},{"$f":"IF($A66=I$1,$A67,\"\")","v":""},{"$f":"IF($A66=J$1,$A67,\"\")","v":""},{"$f":"IF($A66=K$1,$A67,\"\")","v":""},{"$f":"IF($A66=L$1,$A67,\"\")","v":""}]
["Cyan",null,{"$f":"IF($A67=C$1,$A68,\"\")","v":""},{"$f":"IF($A67=D$1,$A68,\"\")","v":""},{"$f":"IF($A67=E$1,$A68,\"\")","v":""},{"$f":"IF($A67=F$1,$A68,\"\")","v":"Red"},{"$f":"IF($A67=G$1,$A68,\"\")","v":""},{"$f":"IF($A67=H$1,$A68,\"\")","v":""},{"$f":"IF($A67=I$1,$A68,\"\")","v":""},{"$f":"IF($A67=J$1,$A68,\"\")","v":""},{"$f":"IF($A67=K$1,$A68,\"\")","v":""},{"$f":"IF($A67=L$1,$A68,\"\")","v":""}]
["Red",null,{"$f":"IF($A68=C$1,$A69,\"\")","v":""},{"$f":"IF($A68=D$1,$A69,\"\")","v":""},{"$f":"IF($A68=E$1,$A69,\"\")","v":""},{"$f":"IF($A68=F$1,$A69,\"\")","v":""},{"$f":"IF($A68=G$1,$A69,\"\")","v":""},{"$f":"IF($A68=H$1,$A69,\"\")","v":"Blue"},{"$f":"IF($A68=I$1,$A69,\"\")","v":""},{"$f":"IF($A68=J$1,$A69,\"\")","v":""},{"$f":"IF($A68=K$1,$A69,\"\")","v":""},{"$f":"IF($A68=L$1,$A69,\"\")","v":""}]
["Blue",null,{"$f":"IF($A69=C$1,$A70,\"\")","v":""},{"$f":"IF($A69=D$1,$A70,\"\")","v":""},{"$f":"IF($A69=E$1,$A70,\"\")","v":"Yellow"},{"$f":"IF($A69=F$1,$A70,\"\")","v":""},{"$f":"IF($A69=G$1,$A70,\"\")","v":""},{"$f":"IF($A69=H$1,$A70,\"\")","v":""},{"$f":"IF($A69=I$1,$A70,\"\")","v":""},{"$f":"IF($A69=J$1,$A70,\"\")","v":""},{"$f":"IF($A69=K$1,$A70,\"\")","v":""},{"$f":"IF($A69=L$1,$A70,\"\")","v":""}]
["Yellow",null,{"$f":"IF($A70=C$1,$A71,\"\")","v":"Cyan"},{"$f":"IF($A70=D$1,$A71,\"\")","v":""},{"$f":"IF($A70=E$1,$A71,\"\")","v":""},{"$f":"IF($A70=F$1,$A71,\"\")","v":""},{"$f":"IF($A70=G$1,$A71,\"\")","v":""},{"$f":"IF($A70=H$1,$A71,\"\")","v":""},{"$f":"IF($A70=I$1,$A71,\"\")","v":""},{"$f":"IF($A70=J$1,$A71,\"\")","v":""},{"$f":"IF($A70=K$1,$A71,\"\")","v":""},{"$f":"IF($A70=L$1,$A71,\"\")","v":""}]
["Cyan",null,{"$f":"IF($A71=C$1,$A72,\"\")","v":""},{"$f":"IF($A71=D$1,$A72,\"\")","v":""},{"$f":"IF($A71=E$1,$A72,\"\")","v":""},{"$f":"IF($A71=F$1,$A72,\"\")","v":"Orange"},{"$f":"IF($A71=G$1,$A72,\"\")","v":""},{"$f":"IF($A71=H$1,$A72,\"\")","v":""},{"$f":"IF($A71=I$1,$A72,\"\")","v":""},{"$f":"IF($A71=J$1,$A72,\"\")","v":""},{"$f":"IF($A71=K$1,$A72,\"\")","v":""},{"$f":"IF($A71=L$1,$A72,\"\")","v":""}]
["Orange",null,{"$f":"IF($A72=C$1,$A73,\"\")","v":""},{"$f":"IF($A72=D$1,$A73,\"\")","v":"Black"},{"$f":"IF($A72=E$1,$A73,\"\")","v":""},{"$f":"IF($A72=F$1,$A73,\"\")","v":""},{"$f":"IF($A72=G$1,$A73,\"\")","v":""},{"$f":"IF($A72=H$1,$A73,\"\")","v":""},{"$f":"IF($A72=I$1,$A73,\"\")","v":""},{"$f":"IF($A72=J$1,$A73,\"\")","v":""},{"$f":"IF($A72=K$1,$A73,\"\")","v":""},{"$f":"IF($A72=L$1,$A73,\"\")","v":""}]
["Black",null,{"$f":"IF($A73=C$1,$A74,\"\")","v":""},{"$f":"IF($A73=D$1,$A74,\"\")","v":""},{"$f":"IF($A73=E$1,$A74,\"\")","v":""},{"$f":"IF($A73=F$1,$A74,\"\")","v":""},{"$f":"IF($A73=G$1,$A74,\"\")","v":""},{"$f":"IF($A73=H$1,$A74,\"\")","v":""},{"$f":"IF($A73=I$1,$A74,\"\")","v":"Green"},{"$f":"IF($A73=J$1,$A74,\"\")","v":""},{"$f":"IF($A73=K$1,$A74,\"\")","v":""},{"$f":"IF($A73=L$1,$A74,\"\")","v":""}]
["Green",null,{"$f":"IF($A74=C$1,$A75,\"\")","v":""},{"$f":"IF($A74=D$1,$A75,\"\")","v":""},{"$f":"IF($A74=E$1,$A75,\"\")","v":""},{"$f":"IF($A74=F$1,$A75,\"\")","v":""},{"$f":"IF($A74=G$1,$A75,\"\")","v":""},{"$f":"IF($A74=H$1,$A75,\"\")","v":""},{"$f":"IF($A74=I$1,$A75,\"\")","v":""},{"$f":"IF($A74=J$1,$A75,\"\")","v":""},{"$f":"IF($A74=K$1,$A75,\"\")","v":""},{"$f":"IF($A74=L$1,$A75,\"\")","v":"Red"}]
["Red",null,{"$f":"IF($A75=C$1,$A76,\"\")","v":""},{"$f":"IF($A75=D$1,$A76,\"\")","v":""},{"$f":"IF($A75=E$1,$A76,\"\")","v":""},{"$f":"IF($A75=F$1,$A76,\"\")","v":""},{"$f":"IF($A75=G$1,$A76,\"\")","v":""},{"$f":"IF($A75=H$1,$A76,\"\")","v":"Yellow"},{"$f":"IF($A75=I$1,$A76,\"\")","v":""},{"$f":"IF($A75=J$1,$A76,\"\")","v":""},{"$f":"IF($A75=K$1,$A76,\"\")","v":""},{"$f":"IF($A75=L$1,$A76,\"\")","v":""}]
["Yellow",null,{"$f":"IF($A76=C$1,$A77,\"\")","v":"Cyan"},{"$f":"IF($A76=D$1,$A77,\"\")","v":""},{"$f":"IF($A76=E$1,$A77,\"\")","v":""},{"$f":"IF($A76=F$1,$A77,\"\")","v":""},{"$f":"IF($A76=G$1,$A77,\"\")","v":""},{"$f":"IF($A76=H$1,$A77,\"\")","v":""},{"$f":"IF($A76=I$1,$A77,\"\")","v":""},{"$f":"IF($A76=J$1,$A77,\"\")","v":""},{"$f":"IF($A76=K$1,$A77,\"\")","v":""},{"$f":"IF($A76=L$1,$A77,\"\")","v":""}]
["Cyan",null,{"$f":"IF($A77=C$1,$A78,\"\")","v":""},{"$f":"IF($A77=D$1,$A78,\"\")","v":""},{"$f":"IF($A77=E$1,$A78,\"\")","v":""},{"$f":"IF($A77=F$1,$A78,\"\")","v":"White"},{"$f":"IF($A77=G$1,$A78,\"\")","v":""},{"$f":"IF($A77=H$1,$A78,\"\")","v":""},{"$f":"IF($A77=I$1,$A78,\"\")","v":""},{"$f":"IF($A77=J$1,$A78,\"\")","v":""},{"$f":"IF($A77=K$1,$A78,\"\")","v":""},{"$f":"IF($A77=L$1,$A78,\"\")","v":""}]
["White",null,{"$f":"IF($A78=C$1,$A79,\"\")","v":""},{"$f":"IF($A78=D$1,$A79,\"\")","v":""},{"$f":"IF($A78=E$1,$A79,\"\")","v":""},{"$f":"IF($A78=F$1,$A79,\"\")","v":""},{"$f":"IF($A78=G$1,$A79,\"\")","v":"Pink"},{"$f":"IF($A78=H$1,$A79,\"\")","v":""},{"$f":"IF($A78=I$1,$A79,\"\")","v":""},{"$f":"IF($A78=J$1,$A79,\"\")","v":""},{"$f":"IF($A78=K$1,$A79,\"\")","v":""},{"$f":"IF($A78=L$1,$A79,\"\")","v":""}]
["Pink",null,{"$f":"IF($A79=C$1,$A80,\"\")","v":""},{"$f":"IF($A79=D$1,$A80,\"\")","v":""},{"$f":"IF($A79=E$1,$A80,\"\")","v":""},{"$f":"IF($A79=F$1,$A80,\"\")","v":""},{"$f":"IF($A79=G$1,$A80,\"\")","v":""},{"$f":"IF($A79=H$1,$A80,\"\")","v":""},{"$f":"IF($A79=I$1,$A80,\"\")","v":""},{"$f":"IF($A79=J$1,$A80,\"\")","v":"Purple"},{"$f":"IF($A79=K$1,$A80,\"\")","v":""},{"$f":"IF($A79=L$1,$A80,\"\")","v":""}]
["Purple",null,{"$f":"IF($A80=C$1,$A81,\"\")","v":""},{"$f":"IF($A80=D$1,$A81,\"\")","v":""},{"$f":"IF($A80=E$1,$A81,\"\")","v":""},{"$f":"IF($A80=F$1,$A81,\"\")","v":""},{"$f":"IF($A80=G$1,$A81,\"\")","v":""},{"$f":"IF($A80=H$1,$A81,\"\")","v":""},{"$f":"IF($A80=I$1,$A81,\"\")","v":""},{"$f":"IF($A80=J$1,$A81,\"\")","v":""},{"$f":"IF($A80=K$1,$A81,\"\")","v":"Blue"},{"$f":"IF($A80=L$1,$A81,\"\")","v":""}]
["Blue",null,{"$f":"IF($A81=C$1,$A82,\"\")","v":""},{"$f":"IF($A81=D$1,$A82,\"\")","v":""},{"$f":"IF($A81=E$1,$A82,\"\")","v":"Red"},{"$f":"IF($A81=F$1,$A82,\"\")","v":""},{"$f":"IF($A81=G$1,$A82,\"\")","v":""},{"$f":"IF($A81=H$1,$A82,\"\")","v":""},{"$f":"IF($A81=I$1,$A82,\"\")","v":""},{"$f":"IF($A81=J$1,$A82,\"\")","v":""},{"$f":"IF($A81=K$1,$A82,\"\")","v":""},{"$f":"IF($A81=L$1,$A82,\"\")","v":""}]
["Red",null,{"$f":"IF($A82=C$1,$A83,\"\")","v":""},{"$f":"IF($A82=D$1,$A83,\"\")","v":""},{"$f":"IF($A82=E$1,$A83,\"\")","v":""},{"$f":"IF($A82=F$1,$A83,\"\")","v":""},{"$f":"IF($A82=G$1,$A83,\"\")","v":""},{"$f":"IF($A82=H$1,$A83,\"\")","v":"Cyan"},{"$f":"IF($A82=I$1,$A83,\"\")","v":""},{"$f":"IF($A82=J$1,$A83,\"\")","v":""},{"$f":"IF($A82=K$1,$A83,\"\")","v":""},{"$f":"IF($A82=L$1,$A83,\"\")","v":""}]
["Cyan",null,{"$f":"IF($A83=C$1,$A84,\"\")","v":""},{"$f":"IF($A83=D$1,$A84,\"\")","v":""},{"$f":"IF($A83=E$1,$A84,\"\")","v":""},{"$f":"IF($A83=F$1,$A84,\"\")","v":"Red"},{"$f":"IF($A83=G$1,$A84,\"\")","v":""},{"$f":"IF($A83=H$1,$A84,\"\")","v":""},{"$f":"IF($A83=I$1,$A84,\"\")","v":""},{"$f":"IF($A83=J$1,$A84,\"\")","v":""},{"$f":"IF($A83=K$1,$A84,\"\")","v":""},{"$f":"IF($A83=L$1,$A84,\"\")","v":""}]
["Red",null,{"$f":"IF($A84=C$1,$A85,\"\")","v":""},{"$f":"IF($A84=D$1,$A85,\"\")","v":""},{"$f":"IF($A84=E$1,$A85,\"\")","v":""},{"$f":"IF($A84=F$1,$A85,\"\")","v":""},{"$f":"IF($A84=G$1,$A85,\"\")","v":""},{"$f":"IF($A84=H$1,$A85,\"\")","v":"Green"},{"$f":"IF($A84=I$1,$A85,\"\")","v":""},{"$f":"IF($A84=J$1,$A85,\"\")","v":""},{"$f":"IF($A84=K$1,$A85,\"\")","v":""},{"$f":"IF($A84=L$1,$A85,\"\")","v":""}]
["Green",null,{"$f":"IF($A85=C$1,$A86,\"\")","v":""},{"$f":"IF($A85=D$1,$A86,\"\")","v":""},{"$f":"IF($A85=E$1,$A86,\"\")","v":""},{"$f":"IF($A85=F$1,$A86,\"\")","v":""},{"$f":"IF($A85=G$1,$A86,\"\")","v":""},{"$f":"IF($A85=H$1,$A86,\"\")","v":""},{"$f":"IF($A85=I$1,$A86,\"\")","v":""},{"$f":"IF($A85=J$1,$A86,\"\")","v":""},{"$f":"IF($A85=K$1,$A86,\"\")","v":""},{"$f":"IF($A85=L$1,$A86,\"\")","v":"Purple"}]
["Purple",null,{"$f":"IF($A86=C$1,$A87,\"\")","v":""},{"$f":"IF($A86=D$1,$A87,\"\")","v":""},{"$f":"IF($A86=E$1,$A87,\"\")","v":""},{"$f":"IF($A86=F$1,$A87,\"\")","v":""},{"$f":"IF($A86=G$1,$A87,\"\")","v":""},{"$f":"IF($A86=H$1,$A87,\"\")","v":""},{"$f":"IF($A86=I$1,$A87,\"\")","v":""},{"$f":"IF($A86=J$1,$A87,\"\")","v":""},{"$f":"IF($A86=K$1,$A87,\"\")","v":"Purple"},{"$f":"IF($A86=L$1,$A87,\"\")","v":""}]
["Purple",null,{"$f":"IF($A87=C$1,$A88,\"\")","v":""},{"$f":"IF($A87=D$1,$A88,\"\")","v":""},{"$f":"IF($A87=E$1,$A88,\"\")","v":""},{"$f":"IF($A87=F$1,$A88,\"\")","v":""},{"$f":"IF($A87=G$1,$A88,\"\")","v":""},{"$f":"IF($A87=H$1,$A88,\"\")","v":""},{"$f":"IF($A87=I$1,$A88,\"\")","v":""},{"$f":"IF($A87=J$1,$A88,\"\")","v":""},{"$f":"IF($A87=K$1,$A88,\"\")","v":"Pink"},{"$f":"IF($A87=L$1,$A88,\"\")","v":""}]
["Pink",null,{"$f":"IF($A88=C$1,$A89,\"\")","v":""},{"$f":"IF($A88=D$1,$A89,\"\")","v":""},{"$f":"IF($A88=E$1,$A89,\"\")","v":""},{"$f":"IF($A88=F$1,$A89,\"\")","v":""},{"$f":"IF($A88=G$1,$A89,\"\")","v":""},{"$f":"IF($A88=H$1,$A89,\"\")","v":""},{"$f":"IF($A88=I$1,$A89,\"\")","v":""},{"$f":"IF($A88=J$1,$A89,\"\")","v":"Orange"},{"$f":"IF($A88=K$1,$A89,\"\")","v":""},{"$f":"IF($A88=L$1,$A89,\"\")","v":""}]
["Orange",null,{"$f":"IF($A89=C$1,$A90,\"\")","v":""},{"$f":"IF($A89=D$1,$A90,\"\")","v":"Pink"},{"$f":"IF($A89=E$1,$A90,\"\")","v":""},{"$f":"IF($A89=F$1,$A90,\"\")","v":""},{"$f":"IF($A89=G$1,$A90,\"\")","v":""},{"$f":"IF($A89=H$1,$A90,\"\")","v":""},{"$f":"IF($A89=I$1,$A90,\"\")","v":""},{"$f":"IF($A89=J$1,$A90,\"\")","v":""},{"$f":"IF($A89=K$1,$A90,\"\")","v":""},{"$f":"IF($A89=L$1,$A90,\"\")","v":""}]
["Pink",null,{"$f":"IF($A90=C$1,$A91,\"\")","v":""},{"$f":"IF($A90=D$1,$A91,\"\")","v":""},{"$f":"IF($A90=E$1,$A91,\"\")","v":""},{"$f":"IF($A90=F$1,$A91,\"\")","v":""},{"$f":"IF($A90=G$1,$A91,\"\")","v":""},{"$f":"IF($A90=H$1,$A91,\"\")","v":""},{"$f":"IF($A90=I$1,$A91,\"\")","v":""},{"$f":"IF($A90=J$1,$A91,\"\")","v":"Purple"},{"$f":"IF($A90=K$1,$A91,\"\")","v":""},{"$f":"IF($A90=L$1,$A91,\"\")","v":""}]
["Purple",null,{"$f":"IF($A91=C$1,$A92,\"\")","v":""},{"$f":"IF($A91=D$1,$A92,\"\")","v":""},{"$f":"IF($A91=E$1,$A92,\"\")","v":""},{"$f":"IF($A91=F$1,$A92,\"\")","v":""},{"$f":"IF($A91=G$1,$A92,\"\")","v":""},{"$f":"IF($A91=H$1,$A92,\"\")","v":""},{"$f":"IF($A91=I$1,$A92,\"\")","v":""},{"$f":"IF($A91=J$1,$A92,\"\")","v":""},{"$f":"IF($A91=K$1,$A92,\"\")","v":"Cyan"},{"$f":"IF($A91=L$1,$A92,\"\")","v":""}]
["Cyan",null,{"$f":"IF($A92=C$1,$A93,\"\")","v":""},{"$f":"IF($A92=D$1,$A93,\"\")","v":""},{"$f":"IF($A92=E$1,$A93,\"\")","v":""},{"$f":"IF($A92=F$1,$A93,\"\")","v":"Orange"},{"$f":"IF($A92=G$1,$A93,\"\")","v":""},{"$f":"IF($A92=H$1,$A93,\"\")","v":""},{"$f":"IF($A92=I$1,$A93,\"\")","v":""},{"$f":"IF($A92=J$1,$A93,\"\")","v":""},{"$f":"IF($A92=K$1,$A93,\"\")","v":""},{"$f":"IF($A92=L$1,$A93,\"\")","v":""}]
["Orange",null,{"$f":"IF($A93=C$1,$A94,\"\")","v":""},{"$f":"IF($A93=D$1,$A94,\"\")","v":"Red"},{"$f":"IF($A93=E$1,$A94,\"\")","v":""},{"$f":"IF($A93=F$1,$A94,\"\")","v":""},{"$f":"IF($A93=G$1,$A94,\"\")","v":""},{"$f":"IF($A93=H$1,$A94,\"\")","v":""},{"$f":"IF($A93=I$1,$A94,\"\")","v":""},{"$f":"IF($A93=J$1,$A94,\"\")","v":""},{"$f":"IF($A93=K$1,$A94,\"\")","v":""},{"$f":"IF($A93=L$1,$A94,\"\")","v":""}]
["Red",null,{"$f":"IF($A94=C$1,$A95,\"\")","v":""},{"$f":"IF($A94=D$1,$A95,\"\")","v":""},{"$f":"IF($A94=E$1,$A95,\"\")","v":""},{"$f":"IF($A94=F$1,$A95,\"\")","v":""},{"$f":"IF($A94=G$1,$A95,\"\")","v":""},{"$f":"IF($A94=H$1,$A95,\"\")","v":"Green"},{"$f":"IF($A94=I$1,$A95,\"\")","v":""},{"$f":"IF($A94=J$1,$A95,\"\")","v":""},{"$f":"IF($A94=K$1,$A95,\"\")","v":""},{"$f":"IF($A94=L$1,$A95,\"\")","v":""}]
["Green",null,{"$f":"IF($A95=C$1,$A96,\"\")","v":""},{"$f":"IF($A95=D$1,$A96,\"\")","v":""},{"$f":"IF($A95=E$1,$A96,\"\")","v":""},{"$f":"IF($A95=F$1,$A96,\"\")","v":""},{"$f":"IF($A95=G$1,$A96,\"\")","v":""},{"$f":"IF($A95=H$1,$A96,\"\")","v":""},{"$f":"IF($A95=I$1,$A96,\"\")","v":""},{"$f":"IF($A95=J$1,$A96,\"\")","v":""},{"$f":"IF($A95=K$1,$A96,\"\")","v":""},{"$f":"IF($A95=L$1,$A96,\"\")","v":"Red"}]
["Red",null,{"$f":"IF($A96=C$1,$A97,\"\")","v":""},{"$f":"IF($A96=D$1,$A97,\"\")","v":""},{"$f":"IF($A96=E$1,$A97,\"\")","v":""},{"$f":"IF($A96=F$1,$A97,\"\")","v":""},{"$f":"IF($A96=G$1,$A97,\"\")","v":""},{"$f":"IF($A96=H$1,$A97,\"\")","v":"Cyan"},{"$f":"IF($A96=I$1,$A97,\"\")","v":""},{"$f":"IF($A96=J$1,$A97,\"\")","v":""},{"$f":"IF($A96=K$1,$A97,\"\")","v":""},{"$f":"IF($A96=L$1,$A97,\"\")","v":""}]
["Cyan",null,{"$f":"IF($A97=C$1,$A98,\"\")","v":""},{"$f":"IF($A97=D$1,$A98,\"\")","v":""},{"$f":"IF($A97=E$1,$A98,\"\")","v":""},{"$f":"IF($A97=F$1,$A98,\"\")","v":"Orange"},{"$f":"IF($A97=G$1,$A98,\"\")","v":""},{"$f":"IF($A97=H$1,$A98,\"\")","v":""},{"$f":"IF($A97=I$1,$A98,\"\")","v":""},{"$f":"IF($A97=J$1,$A98,\"\")","v":""},{"$f":"IF($A97=K$1,$A98,\"\")","v":""},{"$f":"IF($A97=L$1,$A98,\"\")","v":""}]
["Orange",null,{"$f":"IF($A98=C$1,$A99,\"\")","v":""},{"$f":"IF($A98=D$1,$A99,\"\")","v":"Cyan"},{"$f":"IF($A98=E$1,$A99,\"\")","v":""},{"$f":"IF($A98=F$1,$A99,\"\")","v":""},{"$f":"IF($A98=G$1,$A99,\"\")","v":""},{"$f":"IF($A98=H$1,$A99,\"\")","v":""},{"$f":"IF($A98=I$1,$A99,\"\")","v":""},{"$f":"IF($A98=J$1,$A99,\"\")","v":""},{"$f":"IF($A98=K$1,$A99,\"\")","v":""},{"$f":"IF($A98=L$1,$A99,\"\")","v":""}]
["Cyan",null,{"$f":"IF($A99=C$1,$A100,\"\")","v":""},{"$f":"IF($A99=D$1,$A100,\"\")","v":""},{"$f":"IF($A99=E$1,$A100,\"\")","v":""},{"$f":"IF($A99=F$1,$A100,\"\")","v":"White"},{"$f":"IF($A99=G$1,$A100,\"\")","v":""},{"$f":"IF($A99=H$1,$A100,\"\")","v":""},{"$f":"IF($A99=I$1,$A100,\"\")","v":""},{"$f":"IF($A99=J$1,$A100,\"\")","v":""},{"$f":"IF($A99=K$1,$A100,\"\")","v":""},{"$f":"IF($A99=L$1,$A100,\"\")","v":""}]
["White",null,{"$f":"IF($A100=C$1,$A101,\"\")","v":""},{"$f":"IF($A100=D$1,$A101,\"\")","v":""},{"$f":"IF($A100=E$1,$A101,\"\")","v":""},{"$f":"IF($A100=F$1,$A101,\"\")","v":""},{"$f":"IF($A100=G$1,$A101,\"\")","v":"Red"},{"$f":"IF($A100=H$1,$A101,\"\")","v":""},{"$f":"IF($A100=I$1,$A101,\"\")","v":""},{"$f":"IF($A100=J$1,$A101,\"\")","v":""},{"$f":"IF($A100=K$1,$A101,\"\")","v":""},{"$f":"IF($A100=L$1,$A101,\"\")","v":""}]
["Red",null,{"$f":"IF($A101=C$1,$A102,\"\")","v":""},{"$f":"IF($A101=D$1,$A102,\"\")","v":""},{"$f":"IF($A101=E$1,$A102,\"\")","v":""},{"$f":"IF($A101=F$1,$A102,\"\")","v":""},{"$f":"IF($A101=G$1,$A102,\"\")","v":""},{"$f":"IF($A101=H$1,$A102,\"\")","v":"Cyan"},{"$f":"IF($A101=I$1,$A102,\"\")","v":""},{"$f":"IF($A101=J$1,$A102,\"\")","v":""},{"$f":"IF($A101=K$1,$A102,\"\")","v":""},{"$f":"IF($A101=L$1,$A102,\"\")","v":""}]
["Cyan",null,{"$f":"IF($A102=C$1,$A103,\"\")","v":""},{"$f":"IF($A102=D$1,$A103,\"\")","v":""},{"$f":"IF($A102=E$1,$A103,\"\")","v":""},{"$f":"IF($A102=F$1,$A103,\"\")","v":"Cyan"},{"$f":"IF($A102=G$1,$A103,\"\")","v":""},{"$f":"IF($A102=H$1,$A103,\"\")","v":""},{"$f":"IF($A102=I$1,$A103,\"\")","v":""},{"$f":"IF($A102=J$1,$A103,\"\")","v":""},{"$f":"IF($A102=K$1,$A103,\"\")","v":""},{"$f":"IF($A102=L$1,$A103,\"\")","v":""}]
["Cyan",null,{"$f":"IF($A103=C$1,$A104,\"\")","v":""},{"$f":"IF($A103=D$1,$A104,\"\")","v":""},{"$f":"IF($A103=E$1,$A104,\"\")","v":""},{"$f":"IF($A103=F$1,$A104,\"\")","v":"Blue"},{"$f":"IF($A103=G$1,$A104,\"\")","v":""},{"$f":"IF($A103=H$1,$A104,\"\")","v":""},{"$f":"IF($A103=I$1,$A104,\"\")","v":""},{"$f":"IF($A103=J$1,$A104,\"\")","v":""},{"$f":"IF($A103=K$1,$A104,\"\")","v":""},{"$f":"IF($A103=L$1,$A104,\"\")","v":""}]
["Blue",null,{"$f":"IF($A104=C$1,$A105,\"\")","v":""},{"$f":"IF($A104=D$1,$A105,\"\")","v":""},{"$f":"IF($A104=E$1,$A105,\"\")","v":"Black"},{"$f":"IF($A104=F$1,$A105,\"\")","v":""},{"$f":"IF($A104=G$1,$A105,\"\")","v":""},{"$f":"IF($A104=H$1,$A105,\"\")","v":""},{"$f":"IF($A104=I$1,$A105,\"\")","v":""},{"$f":"IF($A104=J$1,$A105,\"\")","v":""},{"$f":"IF($A104=K$1,$A105,\"\")","v":""},{"$f":"IF($A104=L$1,$A105,\"\")","v":""}]
["Black",null,{"$f":"IF($A105=C$1,$A106,\"\")","v":""},{"$f":"IF($A105=D$1,$A106,\"\")","v":""},{"$f":"IF($A105=E$1,$A106,\"\")","v":""},{"$f":"IF($A105=F$1,$A106,\"\")","v":""},{"$f":"IF($A105=G$1,$A106,\"\")","v":""},{"$f":"IF($A105=H$1,$A106,\"\")","v":""},{"$f":"IF($A105=I$1,$A106,\"\")","v":"Red"},{"$f":"IF($A105=J$1,$A106,\"\")","v":""},{"$f":"IF($A105=K$1,$A106,\"\")","v":""},{"$f":"IF($A105=L$1,$A106,\"\")","v":""}]
["Red",null,{"$f":"IF($A106=C$1,$A107,\"\")","v":""},{"$f":"IF($A106=D$1,$A107,\"\")","v":""},{"$f":"IF($A106=E$1,$A107,\"\")","v":""},{"$f":"IF($A106=F$1,$A107,\"\")","v":""},{"$f":"IF($A106=G$1,$A107,\"\")","v":""},{"$f":"IF($A106=H$1,$A107,\"\")","v":"Cyan"},{"$f":"IF($A106=I$1,$A107,\"\")","v":""},{"$f":"IF($A106=J$1,$A107,\"\")","v":""},{"$f":"IF($A106=K$1,$A107,\"\")","v":""},{"$f":"IF($A106=L$1,$A107,\"\")","v":""}]
["Cyan",null,{"$f":"IF($A107=C$1,$A108,\"\")","v":""},{"$f":"IF($A107=D$1,$A108,\"\")","v":""},{"$f":"IF($A107=E$1,$A108,\"\")","v":""},{"$f":"IF($A107=F$1,$A108,\"\")","v":"Purple"},{"$f":"IF($A107=G$1,$A108,\"\")","v":""},{"$f":"IF($A107=H$1,$A108,\"\")","v":""},{"$f":"IF($A107=I$1,$A108,\"\")","v":""},{"$f":"IF($A107=J$1,$A108,\"\")","v":""},{"$f":"IF($A107=K$1,$A108,\"\")","v":""},{"$f":"IF($A107=L$1,$A108,\"\")","v":""}]
["Purple",null,{"$f":"IF($A108=C$1,$A109,\"\")","v":""},{"$f":"IF($A108=D$1,$A109,\"\")","v":""},{"$f":"IF($A108=E$1,$A109,\"\")","v":""},{"$f":"IF($A108=F$1,$A109,\"\")","v":""},{"$f":"IF($A108=G$1,$A109,\"\")","v":""},{"$f":"IF($A108=H$1,$A109,\"\")","v":""},{"$f":"IF($A108=I$1,$A109,\"\")","v":""},{"$f":"IF($A108=J$1,$A109,\"\")","v":""},{"$f":"IF($A108=K$1,$A109,\"\")","v":"Yellow"},{"$f":"IF($A108=L$1,$A109,\"\")","v":""}]
["Yellow",null,{"$f":"IF($A109=C$1,$A110,\"\")","v":"Pink"},{"$f":"IF($A109=D$1,$A110,\"\")","v":""},{"$f":"IF($A109=E$1,$A110,\"\")","v":""},{"$f":"IF($A109=F$1,$A110,\"\")","v":""},{"$f":"IF($A109=G$1,$A110,\"\")","v":""},{"$f":"IF($A109=H$1,$A110,\"\")","v":""},{"$f":"IF($A109=I$1,$A110,\"\")","v":""},{"$f":"IF($A109=J$1,$A110,\"\")","v":""},{"$f":"IF($A109=K$1,$A110,\"\")","v":""},{"$f":"IF($A109=L$1,$A110,\"\")","v":""}]
["Pink",null,{"$f":"IF($A110=C$1,$A111,\"\")","v":""},{"$f":"IF($A110=D$1,$A111,\"\")","v":""},{"$f":"IF($A110=E$1,$A111,\"\")","v":""},{"$f":"IF($A110=F$1,$A111,\"\")","v":""},{"$f":"IF($A110=G$1,$A111,\"\")","v":""},{"$f":"IF($A110=H$1,$A111,\"\")","v":""},{"$f":"IF($A110=I$1,$A111,\"\")","v":""},{"$f":"IF($A110=J$1,$A111,\"\")","v":"Red"},{"$f":"IF($A110=K$1,$A111,\"\")","v":""},{"$f":"IF($A110=L$1,$A111,\"\")","v":""}]
["Red",null,{"$f":"IF($A111=C$1,$A112,\"\")","v":""},{"$f":"IF($A111=D$1,$A112,\"\")","v":""},{"$f":"IF($A111=E$1,$A112,\"\")","v":""},{"$f":"IF($A111=F$1,$A112,\"\")","v":""},{"$f":"IF($A111=G$1,$A112,\"\")","v":""},{"$f":"IF($A111=H$1,$A112,\"\")","v":"Pink"},{"$f":"IF($A111=I$1,$A112,\"\")","v":""},{"$f":"IF($A111=J$1,$A112,\"\")","v":""},{"$f":"IF($A111=K$1,$A112,\"\")","v":""},{"$f":"IF($A111=L$1,$A112,\"\")","v":""}]
["Pink",null,{"$f":"IF($A112=C$1,$A113,\"\")","v":""},{"$f":"IF($A112=D$1,$A113,\"\")","v":""},{"$f":"IF($A112=E$1,$A113,\"\")","v":""},{"$f":"IF($A112=F$1,$A113,\"\")","v":""},{"$f":"IF($A112=G$1,$A113,\"\")","v":""},{"$f":"IF($A112=H$1,$A113,\"\")","v":""},{"$f":"IF($A112=I$1,$A113,\"\")","v":""},{"$f":"IF($A112=J$1,$A113,\"\")","v":"Blue"},{"$f":"IF($A112=K$1,$A113,\"\")","v":""},{"$f":"IF($A112=L$1,$A113,\"\")","v":""}]
["Blue",null,{"$f":"IF($A113=C$1,$A114,\"\")","v":""},{"$f":"IF($A113=D$1,$A114,\"\")","v":""},{"$f":"IF($A113=E$1,$A114,\"\")","v":"Blue"},{"$f":"IF($A113=F$1,$A114,\"\")","v":""},{"$f":"IF($A113=G$1,$A114,\"\")","v":""},{"$f":"IF($A113=H$1,$A114,\"\")","v":""},{"$f":"IF($A113=I$1,$A114,\"\")","v":""},{"$f":"IF($A113=J$1,$A114,\"\")","v":""},{"$f":"IF($A113=K$1,$A114,\"\")","v":""},{"$f":"IF($A113=L$1,$A114,\"\")","v":""}]
["Blue",null,{"$f":"IF($A114=C$1,$A115,\"\")","v":""},{"$f":"IF($A114=D$1,$A115,\"\")","v":""},{"$f":"IF($A114=E$1,$A115,\"\")","v":"Cyan"},{"$f":"IF($A114=F$1,$A115,\"\")","v":""},{"$f":"IF($A114=G$1,$A115,\"\")","v":""},{"$f":"IF($A114=H$1,$A115,\"\")","v":""},{"$f":"IF($A114=I$1,$A115,\"\")","v":""},{"$f":"IF($A114=J$1,$A115,\"\")","v":""},{"$f":"IF($A114=K$1,$A115,\"\")","v":""},{"$f":"IF($A114=L$1,$A115,\"\")","v":""}]
["Cyan",null,{"$f":"IF($A115=C$1,$A116,\"\")","v":""},{"$f":"IF($A115=D$1,$A116,\"\")","v":""},{"$f":"IF($A115=E$1,$A116,\"\")","v":""},{"$f":"IF($A115=F$1,$A116,\"\")","v":"Green"},{"$f":"IF($A115=G$1,$A116,\"\")","v":""},{"$f":"IF($A115=H$1,$A116,\"\")","v":""},{"$f":"IF($A115=I$1,$A116,\"\")","v":""},{"$f":"IF($A115=J$1,$A116,\"\")","v":""},{"$f":"IF($A115=K$1,$A116,\"\")","v":""},{"$f":"IF($A115=L$1,$A116,\"\")","v":""}]
["Green",null,{"$f":"IF($A116=C$1,$A117,\"\")","v":""},{"$f":"IF($A116=D$1,$A117,\"\")","v":""},{"$f":"IF($A116=E$1,$A117,\"\")","v":""},{"$f":"IF($A116=F$1,$A117,\"\")","v":""},{"$f":"IF($A116=G$1,$A117,\"\")","v":""},{"$f":"IF($A116=H$1,$A117,\"\")","v":""},{"$f":"IF($A116=I$1,$A117,\"\")","v":""},{"$f":"IF($A116=J$1,$A117,\"\")","v":""},{"$f":"IF($A116=K$1,$A117,\"\")","v":""},{"$f":"IF($A116=L$1,$A117,\"\")","v":"Cyan"}]
["Cyan",null,{"$f":"IF($A117=C$1,$A118,\"\")","v":""},{"$f":"IF($A117=D$1,$A118,\"\")","v":""},{"$f":"IF($A117=E$1,$A118,\"\")","v":""},{"$f":"IF($A117=F$1,$A118,\"\")","v":"Yellow"},{"$f":"IF($A117=G$1,$A118,\"\")","v":""},{"$f":"IF($A117=H$1,$A118,\"\")","v":""},{"$f":"IF($A117=I$1,$A118,\"\")","v":""},{"$f":"IF($A117=J$1,$A118,\"\")","v":""},{"$f":"IF($A117=K$1,$A118,\"\")","v":""},{"$f":"IF($A117=L$1,$A118,\"\")","v":""}]
["Yellow",null,{"$f":"IF($A118=C$1,$A119,\"\")","v":"Black"},{"$f":"IF($A118=D$1,$A119,\"\")","v":""},{"$f":"IF($A118=E$1,$A119,\"\")","v":""},{"$f":"IF($A118=F$1,$A119,\"\")","v":""},{"$f":"IF($A118=G$1,$A119,\"\")","v":""},{"$f":"IF($A118=H$1,$A119,\"\")","v":""},{"$f":"IF($A118=I$1,$A119,\"\")","v":""},{"$f":"IF($A118=J$1,$A119,\"\")","v":""},{"$f":"IF($A118=K$1,$A119,\"\")","v":""},{"$f":"IF($A118=L$1,$A119,\"\")","v":""}]
["Black",null,{"$f":"IF($A119=C$1,$A120,\"\")","v":""},{"$f":"IF($A119=D$1,$A120,\"\")","v":""},{"$f":"IF($A119=E$1,$A120,\"\")","v":""},{"$f":"IF($A119=F$1,$A120,\"\")","v":""},{"$f":"IF($A119=G$1,$A120,\"\")","v":""},{"$f":"IF($A119=H$1,$A120,\"\")","v":""},{"$f":"IF($A119=I$1,$A120,\"\")","v":"Purple"},{"$f":"IF($A119=J$1,$A120,\"\")","v":""},{"$f":"IF($A119=K$1,$A120,\"\")","v":""},{"$f":"IF($A119=L$1,$A120,\"\")","v":""}]
["Purple",null,{"$f":"IF($A120=C$1,$A121,\"\")","v":""},{"$f":"IF($A120=D$1,$A121,\"\")","v":""},{"$f":"IF($A120=E$1,$A121,\"\")","v":""},{"$f":"IF($A120=F$1,$A121,\"\")","v":""},{"$f":"IF($A120=G$1,$A121,\"\")","v":""},{"$f":"IF($A120=H$1,$A121,\"\")","v":""},{"$f":"IF($A120=I$1,$A121,\"\")","v":""},{"$f":"IF($A120=J$1,$A121,\"\")","v":""},{"$f":"IF($A120=K$1,$A121,\"\")","v":"Yellow"},{"$f":"IF($A120=L$1,$A121,\"\")","v":""}]
["Yellow",null,{"$f":"IF($A121=C$1,$A122,\"\")","v":"Orange"},{"$f":"IF($A121=D$1,$A122,\"\")","v":""},{"$f":"IF($A121=E$1,$A122,\"\")","v":""},{"$f":"IF($A121=F$1,$A122,\"\")","v":""},{"$f":"IF($A121=G$1,$A122,\"\")","v":""},{"$f":"IF($A121=H$1,$A122,\"\")","v":""},{"$f":"IF($A121=I$1,$A122,\"\")","v":""},{"$f":"IF($A121=J$1,$A122,\"\")","v":""},{"$f":"IF($A121=K$1,$A122,\"\")","v":""},{"$f":"IF($A121=L$1,$A122,\"\")","v":""}]
["Orange",null,{"$f":"IF($A122=C$1,$A123,\"\")","v":""},{"$f":"IF($A122=D$1,$A123,\"\")","v":"Pink"},{"$f":"IF($A122=E$1,$A123,\"\")","v":""},{"$f":"IF($A122=F$1,$A123,\"\")","v":""},{"$f":"IF($A122=G$1,$A123,\"\")","v":""},{"$f":"IF($A122=H$1,$A123,\"\")","v":""},{"$f":"IF($A122=I$1,$A123,\"\")","v":""},{"$f":"IF($A122=J$1,$A123,\"\")","v":""},{"$f":"IF($A122=K$1,$A123,\"\")","v":""},{"$f":"IF($A122=L$1,$A123,\"\")","v":""}]
["Pink",null,{"$f":"IF($A123=C$1,$A124,\"\")","v":""},{"$f":"IF($A123=D$1,$A124,\"\")","v":""},{"$f":"IF($A123=E$1,$A124,\"\")","v":""},{"$f":"IF($A123=F$1,$A124,\"\")","v":""},{"$f":"IF($A123=G$1,$A124,\"\")","v":""},{"$f":"IF($A123=H$1,$A124,\"\")","v":""},{"$f":"IF($A123=I$1,$A124,\"\")","v":""},{"$f":"IF($A123=J$1,$A124,\"\")","v":"Green"},{"$f":"IF($A123=K$1,$A124,\"\")","v":""},{"$f":"IF($A123=L$1,$A124,\"\")","v":""}]
["Green",null,{"$f":"IF($A124=C$1,$A125,\"\")","v":""},{"$f":"IF($A124=D$1,$A125,\"\")","v":""},{"$f":"IF($A124=E$1,$A125,\"\")","v":""},{"$f":"IF($A124=F$1,$A125,\"\")","v":""},{"$f":"IF($A124=G$1,$A125,\"\")","v":""},{"$f":"IF($A124=H$1,$A125,\"\")","v":""},{"$f":"IF($A124=I$1,$A125,\"\")","v":""},{"$f":"IF($A124=J$1,$A125,\"\")","v":""},{"$f":"IF($A124=K$1,$A125,\"\")","v":""},{"$f":"IF($A124=L$1,$A125,\"\")","v":"Blue"}]
["Blue",null,{"$f":"IF($A125=C$1,$A126,\"\")","v":""},{"$f":"IF($A125=D$1,$A126,\"\")","v":""},{"$f":"IF($A125=E$1,$A126,\"\")","v":"Black"},{"$f":"IF($A125=F$1,$A126,\"\")","v":""},{"$f":"IF($A125=G$1,$A126,\"\")","v":""},{"$f":"IF($A125=H$1,$A126,\"\")","v":""},{"$f":"IF($A125=I$1,$A126,\"\")","v":""},{"$f":"IF($A125=J$1,$A126,\"\")","v":""},{"$f":"IF($A125=K$1,$A126,\"\")","v":""},{"$f":"IF($A125=L$1,$A126,\"\")","v":""}]
["Black",null,{"$f":"IF($A126=C$1,$A127,\"\")","v":""},{"$f":"IF($A126=D$1,$A127,\"\")","v":""},{"$f":"IF($A126=E$1,$A127,\"\")","v":""},{"$f":"IF($A126=F$1,$A127,\"\")","v":""},{"$f":"IF($A126=G$1,$A127,\"\")","v":""},{"$f":"IF($A126=H$1,$A127,\"\")","v":""},{"$f":"IF($A126=I$1,$A127,\"\")","v":"Orange"},{"$f":"IF($A126=J$1,$A127,\"\")","v":""},{"$f":"IF($A126=K$1,$A127,\"\")","v":""},{"$f":"IF($A126=L$1,$A127,\"\")","v":""}]
["Orange",null,{"$f":"IF($A127=C$1,$A128,\"\")","v":""},{"$f":"IF($A127=D$1,$A128,\"\")","v":"Pink"},{"$f":"IF($A127=E$1,$A128,\"\")","v":""},{"$f":"IF($A127=F$1,$A128,\"\")","v":""},{"$f":"IF($A127=G$1,$A128,\"\")","v":""},{"$f":"IF($A127=H$1,$A128,\"\")","v":""},{"$f":"IF($A127=I$1,$A128,\"\")","v":""},{"$f":"IF($A127=J$1,$A128,\"\")","v":""},{"$f":"IF($A127=K$1,$A128,\"\")","v":""},{"$f":"IF($A127=L$1,$A128,\"\")","v":""}]
["Pink",null,{"$f":"IF($A128=C$1,$A129,\"\")","v":""},{"$f":"IF($A128=D$1,$A129,\"\")","v":""},{"$f":"IF($A128=E$1,$A129,\"\")","v":""},{"$f":"IF($A128=F$1,$A129,\"\")","v":""},{"$f":"IF($A128=G$1,$A129,\"\")","v":""},{"$f":"IF($A128=H$1,$A129,\"\")","v":""},{"$f":"IF($A128=I$1,$A129,\"\")","v":""},{"$f":"IF($A128=J$1,$A129,\"\")","v":"Red"},{"$f":"IF($A128=K$1,$A129,\"\")","v":""},{"$f":"IF($A128=L$1,$A129,\"\")","v":""}]
["Red",null,{"$f":"IF($A129=C$1,$A130,\"\")","v":""},{"$f":"IF($A129=D$1,$A130,\"\")","v":""},{"$f":"IF($A129=E$1,$A130,\"\")","v":""},{"$f":"IF($A129=F$1,$A130,\"\")","v":""},{"$f":"IF($A129=G$1,$A130,\"\")","v":""},{"$f":"IF($A129=H$1,$A130,\"\")","v":"Yellow"},{"$f":"IF($A129=I$1,$A130,\"\")","v":""},{"$f":"IF($A129=J$1,$A130,\"\")","v":""},{"$f":"IF($A129=K$1,$A130,\"\")","v":""},{"$f":"IF($A129=L$1,$A130,\"\")","v":""}]
["Yellow",null,{"$f":"IF($A130=C$1,$A131,\"\")","v":"Pink"},{"$f":"IF($A130=D$1,$A131,\"\")","v":""},{"$f":"IF($A130=E$1,$A131,\"\")","v":""},{"$f":"IF($A130=F$1,$A131,\"\")","v":""},{"$f":"IF($A130=G$1,$A131,\"\")","v":""},{"$f":"IF($A130=H$1,$A131,\"\")","v":""},{"$f":"IF($A130=I$1,$A131,\"\")","v":""},{"$f":"IF($A130=J$1,$A131,\"\")","v":""},{"$f":"IF($A130=K$1,$A131,\"\")","v":""},{"$f":"IF($A130=L$1,$A131,\"\")","v":""}]
["Pink",null,{"$f":"IF($A131=C$1,$A132,\"\")","v":""},{"$f":"IF($A131=D$1,$A132,\"\")","v":""},{"$f":"IF($A131=E$1,$A132,\"\")","v":""},{"$f":"IF($A131=F$1,$A132,\"\")","v":""},{"$f":"IF($A131=G$1,$A132,\"\")","v":""},{"$f":"IF($A131=H$1,$A132,\"\")","v":""},{"$f":"IF($A131=I$1,$A132,\"\")","v":""},{"$f":"IF($A131=J$1,$A132,\"\")","v":"Green"},{"$f":"IF($A131=K$1,$A132,\"\")","v":""},{"$f":"IF($A131=L$1,$A132,\"\")","v":""}]
["Green",null,{"$f":"IF($A132=C$1,$A133,\"\")","v":""},{"$f":"IF($A132=D$1,$A133,\"\")","v":""},{"$f":"IF($A132=E$1,$A133,\"\")","v":""},{"$f":"IF($A132=F$1,$A133,\"\")","v":""},{"$f":"IF($A132=G$1,$A133,\"\")","v":""},{"$f":"IF($A132=H$1,$A133,\"\")","v":""},{"$f":"IF($A132=I$1,$A133,\"\")","v":""},{"$f":"IF($A132=J$1,$A133,\"\")","v":""},{"$f":"IF($A132=K$1,$A133,\"\")","v":""},{"$f":"IF($A132=L$1,$A133,\"\")","v":"Purple"}]
["Purple",null,{"$f":"IF($A133=C$1,$A134,\"\")","v":""},{"$f":"IF($A133=D$1,$A134,\"\")","v":""},{"$f":"IF($A133=E$1,$A134,\"\")","v":""},{"$f":"IF($A133=F$1,$A134,\"\")","v":""},{"$f":"IF($A133=G$1,$A134,\"\")","v":""},{"$f":"IF($A133=H$1,$A134,\"\")","v":""},{"$f":"IF($A133=I$1,$A134,\"\")","v":""},{"$f":"IF($A133=J$1,$A134,\"\")","v":""},{"$f":"IF($A133=K$1,$A134,\"\")","v":"Purple"},{"$f":"IF($A133=L$1,$A134,\"\")","v":""}]
["Purple",null,{"$f":"IF($A134=C$1,$A135,\"\")","v":""},{"$f":"IF($A134=D$1,$A135,\"\")","v":""},{"$f":"IF($A134=E$1,$A135,\"\")","v":""},{"$f":"IF($A134=F$1,$A135,\"\")","v":""},{"$f":"IF($A134=G$1,$A135,\"\")","v":""},{"$f":"IF($A134=H$1,$A135,\"\")","v":""},{"$f":"IF($A134=I$1,$A135,\"\")","v":""},{"$f":"IF($A134=J$1,$A135,\"\")","v":""},{"$f":"IF($A134=K$1,$A135,\"\")","v":"White"},{"$f":"IF($A134=L$1,$A135,\"\")","v":""}]
["White",null,{"$f":"IF($A135=C$1,$A136,\"\")","v":""},{"$f":"IF($A135=D$1,$A136,\"\")","v":""},{"$f":"IF($A135=E$1,$A136,\"\")","v":""},{"$f":"IF($A135=F$1,$A136,\"\")","v":""},{"$f":"IF($A135=G$1,$A136,\"\")","v":"Purple"},{"$f":"IF($A135=H$1,$A136,\"\")","v":""},{"$f":"IF($A135=I$1,$A136,\"\")","v":""},{"$f":"IF($A135=J$1,$A136,\"\")","v":""},{"$f":"IF($A135=K$1,$A136,\"\")","v":""},{"$f":"IF($A135=L$1,$A136,\"\")","v":""}]
["Purple",null,{"$f":"IF($A136=C$1,$A137,\"\")","v":""},{"$f":"IF($A136=D$1,$A137,\"\")","v":""},{"$f":"IF($A136=E$1,$A137,\"\")","v":""},{"$f":"IF($A136=F$1,$A137,\"\")","v":""},{"$f":"IF($A136=G$1,$A137,\"\")","v":""},{"$f":"IF($A136=H$1,$A137,\"\")","v":""},{"$f":"IF($A136=I$1,$A137,\"\")","v":""},{"$f":"IF($A136=J$1,$A137,\"\")","v":""},{"$f":"IF($A136=K$1,$A137,\"\")","v":"Purple"},{"$f":"IF($A136=L$1,$A137,\"\")","v":""}]
["Purple",null,{"$f":"IF($A137=C$1,$A138,\"\")","v":""},{"$f":"IF($A137=D$1,$A138,\"\")","v":""},{"$f":"IF($A137=E$1,$A138,\"\")","v":""},{"$f":"IF($A137=F$1,$A138,\"\")","v":""},{"$f":"IF($A137=G$1,$A138,\"\")","v":""},{"$f":"IF($A137=H$1,$A138,\"\")","v":""},{"$f":"IF($A137=I$1,$A138,\"\")","v":""},{"$f":"IF($A137=J$1,$A138,\"\")","v":""},{"$f":"IF($A137=K$1,$A138,\"\")","v":"Orange"},{"$f":"IF($A137=L$1,$A138,\"\")","v":""}]
["Orange",null,{"$f":"IF($A138=C$1,$A139,\"\")","v":""},{"$f":"IF($A138=D$1,$A139,\"\")","v":"Green"},{"$f":"IF($A138=E$1,$A139,\"\")","v":""},{"$f":"IF($A138=F$1,$A139,\"\")","v":""},{"$f":"IF($A138=G$1,$A139,\"\")","v":""},{"$f":"IF($A138=H$1,$A139,\"\")","v":""},{"$f":"IF($A138=I$1,$A139,\"\")","v":""},{"$f":"IF($A138=J$1,$A139,\"\")","v":""},{"$f":"IF($A138=K$1,$A139,\"\")","v":""},{"$f":"IF($A138=L$1,$A139,\"\")","v":""}]
["Green",null,{"$f":"IF($A139=C$1,$A140,\"\")","v":""},{"$f":"IF($A139=D$1,$A140,\"\")","v":""},{"$f":"IF($A139=E$1,$A140,\"\")","v":""},{"$f":"IF($A139=F$1,$A140,\"\")","v":""},{"$f":"IF($A139=G$1,$A140,\"\")","v":""},{"$f":"IF($A139=H$1,$A140,\"\")","v":""},{"$f":"IF($A139=I$1,$A140,\"\")","v":""},{"$f":"IF($A139=J$1,$A140,\"\")","v":""},{"$f":"IF($A139=K$1,$A140,\"\")","v":""},{"$f":"IF($A139=L$1,$A140,\"\")","v":"Yellow"}]
["Yellow",null,{"$f":"IF($A140=C$1,$A141,\"\")","v":"Orange"},{"$f":"IF($A140=D$1,$A141,\"\")","v":""},{"$f":"IF($A140=E$1,$A141,\"\")","v":""},{"$f":"IF($A140=F$1,$A141,\"\")","v":""},{"$f":"IF($A140=G$1,$A141,\"\")","v":""},{"$f":"IF($A140=H$1,$A141,\"\")","v":""},{"$f":"IF($A140=I$1,$A141,\"\")","v":""},{"$f":"IF($A140=J$1,$A141,\"\")","v":""},{"$f":"IF($A140=K$1,$A141,\"\")","v":""},{"$f":"IF($A140=L$1,$A141,\"\")","v":""}]
["Orange",null,{"$f":"IF($A141=C$1,$A142,\"\")","v":""},{"$f":"IF($A141=D$1,$A142,\"\")","v":"Purple"},{"$f":"IF($A141=E$1,$A142,\"\")","v":""},{"$f":"IF($A141=F$1,$A142,\"\")","v":""},{"$f":"IF($A141=G$1,$A142,\"\")","v":""},{"$f":"IF($A141=H$1,$A142,\"\")","v":""},{"$f":"IF($A141=I$1,$A142,\"\")","v":""},{"$f":"IF($A141=J$1,$A142,\"\")","v":""},{"$f":"IF($A141=K$1,$A142,\"\")","v":""},{"$f":"IF($A141=L$1,$A142,\"\")","v":""}]
["Purple",null,{"$f":"IF($A142=C$1,$A143,\"\")","v":""},{"$f":"IF($A142=D$1,$A143,\"\")","v":""},{"$f":"IF($A142=E$1,$A143,\"\")","v":""},{"$f":"IF($A142=F$1,$A143,\"\")","v":""},{"$f":"IF($A142=G$1,$A143,\"\")","v":""},{"$f":"IF($A142=H$1,$A143,\"\")","v":""},{"$f":"IF($A142=I$1,$A143,\"\")","v":""},{"$f":"IF($A142=J$1,$A143,\"\")","v":""},{"$f":"IF($A142=K$1,$A143,\"\")","v":"Purple"},{"$f":"IF($A142=L$1,$A143,\"\")","v":""}]
["Purple",null,{"$f":"IF($A143=C$1,$A144,\"\")","v":""},{"$f":"IF($A143=D$1,$A144,\"\")","v":""},{"$f":"IF($A143=E$1,$A144,\"\")","v":""},{"$f":"IF($A143=F$1,$A144,\"\")","v":""},{"$f":"IF($A143=G$1,$A144,\"\")","v":""},{"$f":"IF($A143=H$1,$A144,\"\")","v":""},{"$f":"IF($A143=I$1,$A144,\"\")","v":""},{"$f":"IF($A143=J$1,$A144,\"\")","v":""},{"$f":"IF($A143=K$1,$A144,\"\")","v":"Pink"},{"$f":"IF($A143=L$1,$A144,\"\")","v":""}]
["Pink",null,{"$f":"IF($A144=C$1,$A145,\"\")","v":""},{"$f":"IF($A144=D$1,$A145,\"\")","v":""},{"$f":"IF($A144=E$1,$A145,\"\")","v":""},{"$f":"IF($A144=F$1,$A145,\"\")","v":""},{"$f":"IF($A144=G$1,$A145,\"\")","v":""},{"$f":"IF($A144=H$1,$A145,\"\")","v":""},{"$f":"IF($A144=I$1,$A145,\"\")","v":""},{"$f":"IF($A144=J$1,$A145,\"\")","v":"Yellow"},{"$f":"IF($A144=K$1,$A145,\"\")","v":""},{"$f":"IF($A144=L$1,$A145,\"\")","v":""}]
["Yellow",null,{"$f":"IF($A145=C$1,$A146,\"\")","v":"Cyan"},{"$f":"IF($A145=D$1,$A146,\"\")","v":""},{"$f":"IF($A145=E$1,$A146,\"\")","v":""},{"$f":"IF($A145=F$1,$A146,\"\")","v":""},{"$f":"IF($A145=G$1,$A146,\"\")","v":""},{"$f":"IF($A145=H$1,$A146,\"\")","v":""},{"$f":"IF($A145=I$1,$A146,\"\")","v":""},{"$f":"IF($A145=J$1,$A146,\"\")","v":""},{"$f":"IF($A145=K$1,$A146,\"\")","v":""},{"$f":"IF($A145=L$1,$A146,\"\")","v":""}]
["Cyan",null,{"$f":"IF($A146=C$1,$A147,\"\")","v":""},{"$f":"IF($A146=D$1,$A147,\"\")","v":""},{"$f":"IF($A146=E$1,$A147,\"\")","v":""},{"$f":"IF($A146=F$1,$A147,\"\")","v":"White"},{"$f":"IF($A146=G$1,$A147,\"\")","v":""},{"$f":"IF($A146=H$1,$A147,\"\")","v":""},{"$f":"IF($A146=I$1,$A147,\"\")","v":""},{"$f":"IF($A146=J$1,$A147,\"\")","v":""},{"$f":"IF($A146=K$1,$A147,\"\")","v":""},{"$f":"IF($A146=L$1,$A147,\"\")","v":""}]
["White",null,{"$f":"IF($A147=C$1,$A148,\"\")","v":""},{"$f":"IF($A147=D$1,$A148,\"\")","v":""},{"$f":"IF($A147=E$1,$A148,\"\")","v":""},{"$f":"IF($A147=F$1,$A148,\"\")","v":""},{"$f":"IF($A147=G$1,$A148,\"\")","v":"Blue"},{"$f":"IF($A147=H$1,$A148,\"\")","v":""},{"$f":"IF($A147=I$1,$A148,\"\")","v":""},{"$f":"IF($A147=J$1,$A148,\"\")","v":""},{"$f":"IF($A147=K$1,$A148,\"\")","v":""},{"$f":"IF($A147=L$1,$A148,\"\")","v":""}]
["Blue",null,{"$f":"IF($A148=C$1,$A149,\"\")","v":""},{"$f":"IF($A148=D$1,$A149,\"\")","v":""},{"$f":"IF($A148=E$1,$A149,\"\")","v":"Black"},{"$f":"IF($A148=F$1,$A149,\"\")","v":""},{"$f":"IF($A148=G$1,$A149,\"\")","v":""},{"$f":"IF($A148=H$1,$A149,\"\")","v":""},{"$f":"IF($A148=I$1,$A149,\"\")","v":""},{"$f":"IF($A148=J$1,$A149,\"\")","v":""},{"$f":"IF($A148=K$1,$A149,\"\")","v":""},{"$f":"IF($A148=L$1,$A149,\"\")","v":""}]
["Black",null,{"$f":"IF($A149=C$1,$A150,\"\")","v":""},{"$f":"IF($A149=D$1,$A150,\"\")","v":""},{"$f":"IF($A149=E$1,$A150,\"\")","v":""},{"$f":"IF($A149=F$1,$A150,\"\")","v":""},{"$f":"IF($A149=G$1,$A150,\"\")","v":""},{"$f":"IF($A149=H$1,$A150,\"\")","v":""},{"$f":"IF($A149=I$1,$A150,\"\")","v":"Blue"},{"$f":"IF($A149=J$1,$A150,\"\")","v":""},{"$f":"IF($A149=K$1,$A150,\"\")","v":""},{"$f":"IF($A149=L$1,$A150,\"\")","v":""}]
["Blue",null,{"$f":"IF($A150=C$1,$A151,\"\")","v":""},{"$f":"IF($A150=D$1,$A151,\"\")","v":""},{"$f":"IF($A150=E$1,$A151,\"\")","v":"Pink"},{"$f":"IF($A150=F$1,$A151,\"\")","v":""},{"$f":"IF($A150=G$1,$A151,\"\")","v":""},{"$f":"IF($A150=H$1,$A151,\"\")","v":""},{"$f":"IF($A150=I$1,$A151,\"\")","v":""},{"$f":"IF($A150=J$1,$A151,\"\")","v":""},{"$f":"IF($A150=K$1,$A151,\"\")","v":""},{"$f":"IF($A150=L$1,$A151,\"\")","v":""}]
["Pink",null,{"$f":"IF($A151=C$1,$A152,\"\")","v":""},{"$f":"IF($A151=D$1,$A152,\"\")","v":""},{"$f":"IF($A151=E$1,$A152,\"\")","v":""},{"$f":"IF($A151=F$1,$A152,\"\")","v":""},{"$f":"IF($A151=G$1,$A152,\"\")","v":""},{"$f":"IF($A151=H$1,$A152,\"\")","v":""},{"$f":"IF($A151=I$1,$A152,\"\")","v":""},{"$f":"IF($A151=J$1,$A152,\"\")","v":"Purple"},{"$f":"IF($A151=K$1,$A152,\"\")","v":""},{"$f":"IF($A151=L$1,$A152,\"\")","v":""}]
["Purple",null,{"$f":"IF($A152=C$1,$A153,\"\")","v":""},{"$f":"IF($A152=D$1,$A153,\"\")","v":""},{"$f":"IF($A152=E$1,$A153,\"\")","v":""},{"$f":"IF($A152=F$1,$A153,\"\")","v":""},{"$f":"IF($A152=G$1,$A153,\"\")","v":""},{"$f":"IF($A152=H$1,$A153,\"\")","v":""},{"$f":"IF($A152=I$1,$A153,\"\")","v":""},{"$f":"IF($A152=J$1,$A153,\"\")","v":""},{"$f":"IF($A152=K$1,$A153,\"\")","v":"Blue"},{"$f":"IF($A152=L$1,$A153,\"\")","v":""}]
["Blue",null,{"$f":"IF($A153=C$1,$A154,\"\")","v":""},{"$f":"IF($A153=D$1,$A154,\"\")","v":""},{"$f":"IF($A153=E$1,$A154,\"\")","v":"Black"},{"$f":"IF($A153=F$1,$A154,\"\")","v":""},{"$f":"IF($A153=G$1,$A154,\"\")","v":""},{"$f":"IF($A153=H$1,$A154,\"\")","v":""},{"$f":"IF($A153=I$1,$A154,\"\")","v":""},{"$f":"IF($A153=J$1,$A154,\"\")","v":""},{"$f":"IF($A153=K$1,$A154,\"\")","v":""},{"$f":"IF($A153=L$1,$A154,\"\")","v":""}]
["Black",null,{"$f":"IF($A154=C$1,$A155,\"\")","v":""},{"$f":"IF($A154=D$1,$A155,\"\")","v":""},{"$f":"IF($A154=E$1,$A155,\"\")","v":""},{"$f":"IF($A154=F$1,$A155,\"\")","v":""},{"$f":"IF($A154=G$1,$A155,\"\")","v":""},{"$f":"IF($A154=H$1,$A155,\"\")","v":""},{"$f":"IF($A154=I$1,$A155,\"\")","v":"Yellow"},{"$f":"IF($A154=J$1,$A155,\"\")","v":""},{"$f":"IF($A154=K$1,$A155,\"\")","v":""},{"$f":"IF($A154=L$1,$A155,\"\")","v":""}]
["Yellow",null,{"$f":"IF($A155=C$1,$A156,\"\")","v":"Black"},{"$f":"IF($A155=D$1,$A156,\"\")","v":""},{"$f":"IF($A155=E$1,$A156,\"\")","v":""},{"$f":"IF($A155=F$1,$A156,\"\")","v":""},{"$f":"IF($A155=G$1,$A156,\"\")","v":""},{"$f":"IF($A155=H$1,$A156,\"\")","v":""},{"$f":"IF($A155=I$1,$A156,\"\")","v":""},{"$f":"IF($A155=J$1,$A156,\"\")","v":""},{"$f":"IF($A155=K$1,$A156,\"\")","v":""},{"$f":"IF($A155=L$1,$A156,\"\")","v":""}]
["Black",null,{"$f":"IF($A156=C$1,$A157,\"\")","v":""},{"$f":"IF($A156=D$1,$A157,\"\")","v":""},{"$f":"IF($A156=E$1,$A157,\"\")","v":""},{"$f":"IF($A156=F$1,$A157,\"\")","v":""},{"$f":"IF($A156=G$1,$A157,\"\")","v":""},{"$f":"IF($A156=H$1,$A157,\"\")","v":""},{"$f":"IF($A156=I$1,$A157,\"\")","v":"Orange"},{"$f":"IF($A156=J$1,$A157,\"\")","v":""},{"$f":"IF($A156=K$1,$A157,\"\")","v":""},{"$f":"IF($A156=L$1,$A157,\"\")","v":""}]
["Orange",null,{"$f":"IF($A157=C$1,$A158,\"\")","v":""},{"$f":"IF($A157=D$1,$A158,\"\")","v":"Orange"},{"$f":"IF($A157=E$1,$A158,\"\")","v":""},{"$f":"IF($A157=F$1,$A158,\"\")","v":""},{"$f":"IF($A157=G$1,$A158,\"\")","v":""},{"$f":"IF($A157=H$1,$A158,\"\")","v":""},{"$f":"IF($A157=I$1,$A158,\"\")","v":""},{"$f":"IF($A157=J$1,$A158,\"\")","v":""},{"$f":"IF($A157=K$1,$A158,\"\")","v":""},{"$f":"IF($A157=L$1,$A158,\"\")","v":""}]
["Orange",null,{"$f":"IF($A158=C$1,$A159,\"\")","v":""},{"$f":"IF($A158=D$1,$A159,\"\")","v":"Green"},{"$f":"IF($A158=E$1,$A159,\"\")","v":""},{"$f":"IF($A158=F$1,$A159,\"\")","v":""},{"$f":"IF($A158=G$1,$A159,\"\")","v":""},{"$f":"IF($A158=H$1,$A159,\"\")","v":""},{"$f":"IF($A158=I$1,$A159,\"\")","v":""},{"$f":"IF($A158=J$1,$A159,\"\")","v":""},{"$f":"IF($A158=K$1,$A159,\"\")","v":""},{"$f":"IF($A158=L$1,$A159,\"\")","v":""}]
["Green",null,{"$f":"IF($A159=C$1,$A160,\"\")","v":""},{"$f":"IF($A159=D$1,$A160,\"\")","v":""},{"$f":"IF($A159=E$1,$A160,\"\")","v":""},{"$f":"IF($A159=F$1,$A160,\"\")","v":""},{"$f":"IF($A159=G$1,$A160,\"\")","v":""},{"$f":"IF($A159=H$1,$A160,\"\")","v":""},{"$f":"IF($A159=I$1,$A160,\"\")","v":""},{"$f":"IF($A159=J$1,$A160,\"\")","v":""},{"$f":"IF($A159=K$1,$A160,\"\")","v":""},{"$f":"IF($A159=L$1,$A160,\"\")","v":"White"}]
["White",null,{"$f":"IF($A160=C$1,$A161,\"\")","v":""},{"$f":"IF($A160=D$1,$A161,\"\")","v":""},{"$f":"IF($A160=E$1,$A161,\"\")","v":""},{"$f":"IF($A160=F$1,$A161,\"\")","v":""},{"$f":"IF($A160=G$1,$A161,\"\")","v":"Black"},{"$f":"IF($A160=H$1,$A161,\"\")","v":""},{"$f":"IF($A160=I$1,$A161,\"\")","v":""},{"$f":"IF($A160=J$1,$A161,\"\")","v":""},{"$f":"IF($A160=K$1,$A161,\"\")","v":""},{"$f":"IF($A160=L$1,$A161,\"\")","v":""}]
["Black",null,{"$f":"IF($A161=C$1,$A162,\"\")","v":""},{"$f":"IF($A161=D$1,$A162,\"\")","v":""},{"$f":"IF($A161=E$1,$A162,\"\")","v":""},{"$f":"IF($A161=F$1,$A162,\"\")","v":""},{"$f":"IF($A161=G$1,$A162,\"\")","v":""},{"$f":"IF($A161=H$1,$A162,\"\")","v":""},{"$f":"IF($A161=I$1,$A162,\"\")","v":"Green"},{"$f":"IF($A161=J$1,$A162,\"\")","v":""},{"$f":"IF($A161=K$1,$A162,\"\")","v":""},{"$f":"IF($A161=L$1,$A162,\"\")","v":""}]
["Green",null,{"$f":"IF($A162=C$1,$A163,\"\")","v":""},{"$f":"IF($A162=D$1,$A163,\"\")","v":""},{"$f":"IF($A162=E$1,$A163,\"\")","v":""},{"$f":"IF($A162=F$1,$A163,\"\")","v":""},{"$f":"IF($A162=G$1,$A163,\"\")","v":""},{"$f":"IF($A162=H$1,$A163,\"\")","v":""},{"$f":"IF($A162=I$1,$A163,\"\")","v":""},{"$f":"IF($A162=J$1,$A163,\"\")","v":""},{"$f":"IF($A162=K$1,$A163,\"\")","v":""},{"$f":"IF($A162=L$1,$A163,\"\")","v":"Green"}]
["Green",null,{"$f":"IF($A163=C$1,$A164,\"\")","v":""},{"$f":"IF($A163=D$1,$A164,\"\")","v":""},{"$f":"IF($A163=E$1,$A164,\"\")","v":""},{"$f":"IF($A163=F$1,$A164,\"\")","v":""},{"$f":"IF($A163=G$1,$A164,\"\")","v":""},{"$f":"IF($A163=H$1,$A164,\"\")","v":""},{"$f":"IF($A163=I$1,$A164,\"\")","v":""},{"$f":"IF($A163=J$1,$A164,\"\")","v":""},{"$f":"IF($A163=K$1,$A164,\"\")","v":""},{"$f":"IF($A163=L$1,$A164,\"\")","v":"Pink"}]
["Pink",null,{"$f":"IF($A164=C$1,$A165,\"\")","v":""},{"$f":"IF($A164=D$1,$A165,\"\")","v":""},{"$f":"IF($A164=E$1,$A165,\"\")","v":""},{"$f":"IF($A164=F$1,$A165,\"\")","v":""},{"$f":"IF($A164=G$1,$A165,\"\")","v":""},{"$f":"IF($A164=H$1,$A165,\"\")","v":""},{"$f":"IF($A164=I$1,$A165,\"\")","v":""},{"$f":"IF($A164=J$1,$A165,\"\")","v":"Orange"},{"$f":"IF($A164=K$1,$A165,\"\")","v":""},{"$f":"IF($A164=L$1,$A165,\"\")","v":""}]
["Orange",null,{"$f":"IF($A165=C$1,$A166,\"\")","v":""},{"$f":"IF($A165=D$1,$A166,\"\")","v":"Orange"},{"$f":"IF($A165=E$1,$A166,\"\")","v":""},{"$f":"IF($A165=F$1,$A166,\"\")","v":""},{"$f":"IF($A165=G$1,$A166,\"\")","v":""},{"$f":"IF($A165=H$1,$A166,\"\")","v":""},{"$f":"IF($A165=I$1,$A166,\"\")","v":""},{"$f":"IF($A165=J$1,$A166,\"\")","v":""},{"$f":"IF($A165=K$1,$A166,\"\")","v":""},{"$f":"IF($A165=L$1,$A166,\"\")","v":""}]
["Orange",null,{"$f":"IF($A166=C$1,$A167,\"\")","v":""},{"$f":"IF($A166=D$1,$A167,\"\")","v":"Yellow"},{"$f":"IF($A166=E$1,$A167,\"\")","v":""},{"$f":"IF($A166=F$1,$A167,\"\")","v":""},{"$f":"IF($A166=G$1,$A167,\"\")","v":""},{"$f":"IF($A166=H$1,$A167,\"\")","v":""},{"$f":"IF($A166=I$1,$A167,\"\")","v":""},{"$f":"IF($A166=J$1,$A167,\"\")","v":""},{"$f":"IF($A166=K$1,$A167,\"\")","v":""},{"$f":"IF($A166=L$1,$A167,\"\")","v":""}]
["Yellow",null,{"$f":"IF($A167=C$1,$A168,\"\")","v":"Cyan"},{"$f":"IF($A167=D$1,$A168,\"\")","v":""},{"$f":"IF($A167=E$1,$A168,\"\")","v":""},{"$f":"IF($A167=F$1,$A168,\"\")","v":""},{"$f":"IF($A167=G$1,$A168,\"\")","v":""},{"$f":"IF($A167=H$1,$A168,\"\")","v":""},{"$f":"IF($A167=I$1,$A168,\"\")","v":""},{"$f":"IF($A167=J$1,$A168,\"\")","v":""},{"$f":"IF($A167=K$1,$A168,\"\")","v":""},{"$f":"IF($A167=L$1,$A168,\"\")","v":""}]
["Cyan",null,{"$f":"IF($A168=C$1,$A169,\"\")","v":""},{"$f":"IF($A168=D$1,$A169,\"\")","v":""},{"$f":"IF($A168=E$1,$A169,\"\")","v":""},{"$f":"IF($A168=F$1,$A169,\"\")","v":"Purple"},{"$f":"IF($A168=G$1,$A169,\"\")","v":""},{"$f":"IF($A168=H$1,$A169,\"\")","v":""},{"$f":"IF($A168=I$1,$A169,\"\")","v":""},{"$f":"IF($A168=J$1,$A169,\"\")","v":""},{"$f":"IF($A168=K$1,$A169,\"\")","v":""},{"$f":"IF($A168=L$1,$A169,\"\")","v":""}]
["Purple",null,{"$f":"IF($A169=C$1,$A170,\"\")","v":""},{"$f":"IF($A169=D$1,$A170,\"\")","v":""},{"$f":"IF($A169=E$1,$A170,\"\")","v":""},{"$f":"IF($A169=F$1,$A170,\"\")","v":""},{"$f":"IF($A169=G$1,$A170,\"\")","v":""},{"$f":"IF($A169=H$1,$A170,\"\")","v":""},{"$f":"IF($A169=I$1,$A170,\"\")","v":""},{"$f":"IF($A169=J$1,$A170,\"\")","v":""},{"$f":"IF($A169=K$1,$A170,\"\")","v":"Cyan"},{"$f":"IF($A169=L$1,$A170,\"\")","v":""}]
["Cyan",null,{"$f":"IF($A170=C$1,$A171,\"\")","v":""},{"$f":"IF($A170=D$1,$A171,\"\")","v":""},{"$f":"IF($A170=E$1,$A171,\"\")","v":""},{"$f":"IF($A170=F$1,$A171,\"\")","v":"Cyan"},{"$f":"IF($A170=G$1,$A171,\"\")","v":""},{"$f":"IF($A170=H$1,$A171,\"\")","v":""},{"$f":"IF($A170=I$1,$A171,\"\")","v":""},{"$f":"IF($A170=J$1,$A171,\"\")","v":""},{"$f":"IF($A170=K$1,$A171,\"\")","v":""},{"$f":"IF($A170=L$1,$A171,\"\")","v":""}]
["Cyan",null,{"$f":"IF($A171=C$1,$A172,\"\")","v":""},{"$f":"IF($A171=D$1,$A172,\"\")","v":""},{"$f":"IF($A171=E$1,$A172,\"\")","v":""},{"$f":"IF($A171=F$1,$A172,\"\")","v":"Blue"},{"$f":"IF($A171=G$1,$A172,\"\")","v":""},{"$f":"IF($A171=H$1,$A172,\"\")","v":""},{"$f":"IF($A171=I$1,$A172,\"\")","v":""},{"$f":"IF($A171=J$1,$A172,\"\")","v":""},{"$f":"IF($A171=K$1,$A172,\"\")","v":""},{"$f":"IF($A171=L$1,$A172,\"\")","v":""}]
["Blue",null,{"$f":"IF($A172=C$1,$A173,\"\")","v":""},{"$f":"IF($A172=D$1,$A173,\"\")","v":""},{"$f":"IF($A172=E$1,$A173,\"\")","v":"Red"},{"$f":"IF($A172=F$1,$A173,\"\")","v":""},{"$f":"IF($A172=G$1,$A173,\"\")","v":""},{"$f":"IF($A172=H$1,$A173,\"\")","v":""},{"$f":"IF($A172=I$1,$A173,\"\")","v":""},{"$f":"IF($A172=J$1,$A173,\"\")","v":""},{"$f":"IF($A172=K$1,$A173,\"\")","v":""},{"$f":"IF($A172=L$1,$A173,\"\")","v":""}]
["Red",null,{"$f":"IF($A173=C$1,$A174,\"\")","v":""},{"$f":"IF($A173=D$1,$A174,\"\")","v":""},{"$f":"IF($A173=E$1,$A174,\"\")","v":""},{"$f":"IF($A173=F$1,$A174,\"\")","v":""},{"$f":"IF($A173=G$1,$A174,\"\")","v":""},{"$f":"IF($A173=H$1,$A174,\"\")","v":"Purple"},{"$f":"IF($A173=I$1,$A174,\"\")","v":""},{"$f":"IF($A173=J$1,$A174,\"\")","v":""},{"$f":"IF($A173=K$1,$A174,\"\")","v":""},{"$f":"IF($A173=L$1,$A174,\"\")","v":""}]
["Purple",null,{"$f":"IF($A174=C$1,$A175,\"\")","v":""},{"$f":"IF($A174=D$1,$A175,\"\")","v":""},{"$f":"IF($A174=E$1,$A175,\"\")","v":""},{"$f":"IF($A174=F$1,$A175,\"\")","v":""},{"$f":"IF($A174=G$1,$A175,\"\")","v":""},{"$f":"IF($A174=H$1,$A175,\"\")","v":""},{"$f":"IF($A174=I$1,$A175,\"\")","v":""},{"$f":"IF($A174=J$1,$A175,\"\")","v":""},{"$f":"IF($A174=K$1,$A175,\"\")","v":"Yellow"},{"$f":"IF($A174=L$1,$A175,\"\")","v":""}]
["Yellow",null,{"$f":"IF($A175=C$1,$A176,\"\")","v":"Yellow"},{"$f":"IF($A175=D$1,$A176,\"\")","v":""},{"$f":"IF($A175=E$1,$A176,\"\")","v":""},{"$f":"IF($A175=F$1,$A176,\"\")","v":""},{"$f":"IF($A175=G$1,$A176,\"\")","v":""},{"$f":"IF($A175=H$1,$A176,\"\")","v":""},{"$f":"IF($A175=I$1,$A176,\"\")","v":""},{"$f":"IF($A175=J$1,$A176,\"\")","v":""},{"$f":"IF($A175=K$1,$A176,\"\")","v":""},{"$f":"IF($A175=L$1,$A176,\"\")","v":""}]
["Yellow",null,{"$f":"IF($A176=C$1,$A177,\"\")","v":"Cyan"},{"$f":"IF($A176=D$1,$A177,\"\")","v":""},{"$f":"IF($A176=E$1,$A177,\"\")","v":""},{"$f":"IF($A176=F$1,$A177,\"\")","v":""},{"$f":"IF($A176=G$1,$A177,\"\")","v":""},{"$f":"IF($A176=H$1,$A177,\"\")","v":""},{"$f":"IF($A176=I$1,$A177,\"\")","v":""},{"$f":"IF($A176=J$1,$A177,\"\")","v":""},{"$f":"IF($A176=K$1,$A177,\"\")","v":""},{"$f":"IF($A176=L$1,$A177,\"\")","v":""}]
["Cyan",null,{"$f":"IF($A177=C$1,$A178,\"\")","v":""},{"$f":"IF($A177=D$1,$A178,\"\")","v":""},{"$f":"IF($A177=E$1,$A178,\"\")","v":""},{"$f":"IF($A177=F$1,$A178,\"\")","v":"Orange"},{"$f":"IF($A177=G$1,$A178,\"\")","v":""},{"$f":"IF($A177=H$1,$A178,\"\")","v":""},{"$f":"IF($A177=I$1,$A178,\"\")","v":""},{"$f":"IF($A177=J$1,$A178,\"\")","v":""},{"$f":"IF($A177=K$1,$A178,\"\")","v":""},{"$f":"IF($A177=L$1,$A178,\"\")","v":""}]
["Orange",null,{"$f":"IF($A178=C$1,$A179,\"\")","v":""},{"$f":"IF($A178=D$1,$A179,\"\")","v":"Red"},{"$f":"IF($A178=E$1,$A179,\"\")","v":""},{"$f":"IF($A178=F$1,$A179,\"\")","v":""},{"$f":"IF($A178=G$1,$A179,\"\")","v":""},{"$f":"IF($A178=H$1,$A179,\"\")","v":""},{"$f":"IF($A178=I$1,$A179,\"\")","v":""},{"$f":"IF($A178=J$1,$A179,\"\")","v":""},{"$f":"IF($A178=K$1,$A179,\"\")","v":""},{"$f":"IF($A178=L$1,$A179,\"\")","v":""}]
["Red",null,{"$f":"IF($A179=C$1,$A180,\"\")","v":""},{"$f":"IF($A179=D$1,$A180,\"\")","v":""},{"$f":"IF($A179=E$1,$A180,\"\")","v":""},{"$f":"IF($A179=F$1,$A180,\"\")","v":""},{"$f":"IF($A179=G$1,$A180,\"\")","v":""},{"$f":"IF($A179=H$1,$A180,\"\")","v":"Yellow"},{"$f":"IF($A179=I$1,$A180,\"\")","v":""},{"$f":"IF($A179=J$1,$A180,\"\")","v":""},{"$f":"IF($A179=K$1,$A180,\"\")","v":""},{"$f":"IF($A179=L$1,$A180,\"\")","v":""}]
["Yellow",null,{"$f":"IF($A180=C$1,$A181,\"\")","v":"Red"},{"$f":"IF($A180=D$1,$A181,\"\")","v":""},{"$f":"IF($A180=E$1,$A181,\"\")","v":""},{"$f":"IF($A180=F$1,$A181,\"\")","v":""},{"$f":"IF($A180=G$1,$A181,\"\")","v":""},{"$f":"IF($A180=H$1,$A181,\"\")","v":""},{"$f":"IF($A180=I$1,$A181,\"\")","v":""},{"$f":"IF($A180=J$1,$A181,\"\")","v":""},{"$f":"IF($A180=K$1,$A181,\"\")","v":""},{"$f":"IF($A180=L$1,$A181,\"\")","v":""}]
["Red",null,{"$f":"IF($A181=C$1,$A182,\"\")","v":""},{"$f":"IF($A181=D$1,$A182,\"\")","v":""},{"$f":"IF($A181=E$1,$A182,\"\")","v":""},{"$f":"IF($A181=F$1,$A182,\"\")","v":""},{"$f":"IF($A181=G$1,$A182,\"\")","v":""},{"$f":"IF($A181=H$1,$A182,\"\")","v":"Green"},{"$f":"IF($A181=I$1,$A182,\"\")","v":""},{"$f":"IF($A181=J$1,$A182,\"\")","v":""},{"$f":"IF($A181=K$1,$A182,\"\")","v":""},{"$f":"IF($A181=L$1,$A182,\"\")","v":""}]
["Green",null,{"$f":"IF($A182=C$1,$A183,\"\")","v":""},{"$f":"IF($A182=D$1,$A183,\"\")","v":""},{"$f":"IF($A182=E$1,$A183,\"\")","v":""},{"$f":"IF($A182=F$1,$A183,\"\")","v":""},{"$f":"IF($A182=G$1,$A183,\"\")","v":""},{"$f":"IF($A182=H$1,$A183,\"\")","v":""},{"$f":"IF($A182=I$1,$A183,\"\")","v":""},{"$f":"IF($A182=J$1,$A183,\"\")","v":""},{"$f":"IF($A182=K$1,$A183,\"\")","v":""},{"$f":"IF($A182=L$1,$A183,\"\")","v":"Green"}]
["Green",null,{"$f":"IF($A183=C$1,$A184,\"\")","v":""},{"$f":"IF($A183=D$1,$A184,\"\")","v":""},{"$f":"IF($A183=E$1,$A184,\"\")","v":""},{"$f":"IF($A183=F$1,$A184,\"\")","v":""},{"$f":"IF($A183=G$1,$A184,\"\")","v":""},{"$f":"IF($A183=H$1,$A184,\"\")","v":""},{"$f":"IF($A183=I$1,$A184,\"\")","v":""},{"$f":"IF($A183=J$1,$A184,\"\")","v":""},{"$f":"IF($A183=K$1,$A184,\"\")","v":""},{"$f":"IF($A183=L$1,$A184,\"\")","v":"Purple"}]
["Purple",null,{"$f":"IF($A184=C$1,$A185,\"\")","v":""},{"$f":"IF($A184=D$1,$A185,\"\")","v":""},{"$f":"IF($A184=E$1,$A185,\"\")","v":""},{"$f":"IF($A184=F$1,$A185,\"\")","v":""},{"$f":"IF($A184=G$1,$A185,\"\")","v":""},{"$f":"IF($A184=H$1,$A185,\"\")","v":""},{"$f":"IF($A184=I$1,$A185,\"\")","v":""},{"$f":"IF($A184=J$1,$A185,\"\")","v":""},{"$f":"IF($A184=K$1,$A185,\"\")","v":"Yellow"},{"$f":"IF($A184=L$1,$A185,\"\")","v":""}]
["Yellow",null,{"$f":"IF($A185=C$1,$A186,\"\")","v":"Purple"},{"$f":"IF($A185=D$1,$A186,\"\")","v":""},{"$f":"IF($A185=E$1,$A186,\"\")","v":""},{"$f":"IF($A185=F$1,$A186,\"\")","v":""},{"$f":"IF($A185=G$1,$A186,\"\")","v":""},{"$f":"IF($A185=H$1,$A186,\"\")","v":""},{"$f":"IF($A185=I$1,$A186,\"\")","v":""},{"$f":"IF($A185=J$1,$A186,\"\")","v":""},{"$f":"IF($A185=K$1,$A186,\"\")","v":""},{"$f":"IF($A185=L$1,$A186,\"\")","v":""}]
["Purple",null,{"$f":"IF($A186=C$1,$A187,\"\")","v":""},{"$f":"IF($A186=D$1,$A187,\"\")","v":""},{"$f":"IF($A186=E$1,$A187,\"\")","v":""},{"$f":"IF($A186=F$1,$A187,\"\")","v":""},{"$f":"IF($A186=G$1,$A187,\"\")","v":""},{"$f":"IF($A186=H$1,$A187,\"\")","v":""},{"$f":"IF($A186=I$1,$A187,\"\")","v":""},{"$f":"IF($A186=J$1,$A187,\"\")","v":""},{"$f":"IF($A186=K$1,$A187,\"\")","v":"Orange"},{"$f":"IF($A186=L$1,$A187,\"\")","v":""}]
["Orange",null,{"$f":"IF($A187=C$1,$A188,\"\")","v":""},{"$f":"IF($A187=D$1,$A188,\"\")","v":"Blue"},{"$f":"IF($A187=E$1,$A188,\"\")","v":""},{"$f":"IF($A187=F$1,$A188,\"\")","v":""},{"$f":"IF($A187=G$1,$A188,\"\")","v":""},{"$f":"IF($A187=H$1,$A188,\"\")","v":""},{"$f":"IF($A187=I$1,$A188,\"\")","v":""},{"$f":"IF($A187=J$1,$A188,\"\")","v":""},{"$f":"IF($A187=K$1,$A188,\"\")","v":""},{"$f":"IF($A187=L$1,$A188,\"\")","v":""}]
["Blue",null,{"$f":"IF($A188=C$1,$A189,\"\")","v":""},{"$f":"IF($A188=D$1,$A189,\"\")","v":""},{"$f":"IF($A188=E$1,$A189,\"\")","v":"Blue"},{"$f":"IF($A188=F$1,$A189,\"\")","v":""},{"$f":"IF($A188=G$1,$A189,\"\")","v":""},{"$f":"IF($A188=H$1,$A189,\"\")","v":""},{"$f":"IF($A188=I$1,$A189,\"\")","v":""},{"$f":"IF($A188=J$1,$A189,\"\")","v":""},{"$f":"IF($A188=K$1,$A189,\"\")","v":""},{"$f":"IF($A188=L$1,$A189,\"\")","v":""}]
["Blue",null,{"$f":"IF($A189=C$1,$A190,\"\")","v":""},{"$f":"IF($A189=D$1,$A190,\"\")","v":""},{"$f":"IF($A189=E$1,$A190,\"\")","v":"Black"},{"$f":"IF($A189=F$1,$A190,\"\")","v":""},{"$f":"IF($A189=G$1,$A190,\"\")","v":""},{"$f":"IF($A189=H$1,$A190,\"\")","v":""},{"$f":"IF($A189=I$1,$A190,\"\")","v":""},{"$f":"IF($A189=J$1,$A190,\"\")","v":""},{"$f":"IF($A189=K$1,$A190,\"\")","v":""},{"$f":"IF($A189=L$1,$A190,\"\")","v":""}]
["Black",null,{"$f":"IF($A190=C$1,$A191,\"\")","v":""},{"$f":"IF($A190=D$1,$A191,\"\")","v":""},{"$f":"IF($A190=E$1,$A191,\"\")","v":""},{"$f":"IF($A190=F$1,$A191,\"\")","v":""},{"$f":"IF($A190=G$1,$A191,\"\")","v":""},{"$f":"IF($A190=H$1,$A191,\"\")","v":""},{"$f":"IF($A190=I$1,$A191,\"\")","v":"Green"},{"$f":"IF($A190=J$1,$A191,\"\")","v":""},{"$f":"IF($A190=K$1,$A191,\"\")","v":""},{"$f":"IF($A190=L$1,$A191,\"\")","v":""}]
["Green",null,{"$f":"IF($A191=C$1,$A192,\"\")","v":""},{"$f":"IF($A191=D$1,$A192,\"\")","v":""},{"$f":"IF($A191=E$1,$A192,\"\")","v":""},{"$f":"IF($A191=F$1,$A192,\"\")","v":""},{"$f":"IF($A191=G$1,$A192,\"\")","v":""},{"$f":"IF($A191=H$1,$A192,\"\")","v":""},{"$f":"IF($A191=I$1,$A192,\"\")","v":""},{"$f":"IF($A191=J$1,$A192,\"\")","v":""},{"$f":"IF($A191=K$1,$A192,\"\")","v":""},{"$f":"IF($A191=L$1,$A192,\"\")","v":"Blue"}]
["Blue",null,{"$f":"IF($A192=C$1,$A193,\"\")","v":""},{"$f":"IF($A192=D$1,$A193,\"\")","v":""},{"$f":"IF($A192=E$1,$A193,\"\")","v":"Cyan"},{"$f":"IF($A192=F$1,$A193,\"\")","v":""},{"$f":"IF($A192=G$1,$A193,\"\")","v":""},{"$f":"IF($A192=H$1,$A193,\"\")","v":""},{"$f":"IF($A192=I$1,$A193,\"\")","v":""},{"$f":"IF($A192=J$1,$A193,\"\")","v":""},{"$f":"IF($A192=K$1,$A193,\"\")","v":""},{"$f":"IF($A192=L$1,$A193,\"\")","v":""}]
["Cyan",null,{"$f":"IF($A193=C$1,$A194,\"\")","v":""},{"$f":"IF($A193=D$1,$A194,\"\")","v":""},{"$f":"IF($A193=E$1,$A194,\"\")","v":""},{"$f":"IF($A193=F$1,$A194,\"\")","v":"Blue"},{"$f":"IF($A193=G$1,$A194,\"\")","v":""},{"$f":"IF($A193=H$1,$A194,\"\")","v":""},{"$f":"IF($A193=I$1,$A194,\"\")","v":""},{"$f":"IF($A193=J$1,$A194,\"\")","v":""},{"$f":"IF($A193=K$1,$A194,\"\")","v":""},{"$f":"IF($A193=L$1,$A194,\"\")","v":""}]
["Blue",null,{"$f":"IF($A194=C$1,$A195,\"\")","v":""},{"$f":"IF($A194=D$1,$A195,\"\")","v":""},{"$f":"IF($A194=E$1,$A195,\"\")","v":"Cyan"},{"$f":"IF($A194=F$1,$A195,\"\")","v":""},{"$f":"IF($A194=G$1,$A195,\"\")","v":""},{"$f":"IF($A194=H$1,$A195,\"\")","v":""},{"$f":"IF($A194=I$1,$A195,\"\")","v":""},{"$f":"IF($A194=J$1,$A195,\"\")","v":""},{"$f":"IF($A194=K$1,$A195,\"\")","v":""},{"$f":"IF($A194=L$1,$A195,\"\")","v":""}]
["Cyan",null,{"$f":"IF($A195=C$1,$A196,\"\")","v":""},{"$f":"IF($A195=D$1,$A196,\"\")","v":""},{"$f":"IF($A195=E$1,$A196,\"\")","v":""},{"$f":"IF($A195=F$1,$A196,\"\")","v":"White"},{"$f":"IF($A195=G$1,$A196,\"\")","v":""},{"$f":"IF($A195=H$1,$A196,\"\")","v":""},{"$f":"IF($A195=I$1,$A196,\"\")","v":""},{"$f":"IF($A195=J$1,$A196,\"\")","v":""},{"$f":"IF($A195=K$1,$A196,\"\")","v":""},{"$f":"IF($A195=L$1,$A196,\"\")","v":""}]
["White",null,{"$f":"IF($A196=C$1,$A197,\"\")","v":""},{"$f":"IF($A196=D$1,$A197,\"\")","v":""},{"$f":"IF($A196=E$1,$A197,\"\")","v":""},{"$f":"IF($A196=F$1,$A197,\"\")","v":""},{"$f":"IF($A196=G$1,$A197,\"\")","v":"Purple"},{"$f":"IF($A196=H$1,$A197,\"\")","v":""},{"$f":"IF($A196=I$1,$A197,\"\")","v":""},{"$f":"IF($A196=J$1,$A197,\"\")","v":""},{"$f":"IF($A196=K$1,$A197,\"\")","v":""},{"$f":"IF($A196=L$1,$A197,\"\")","v":""}]
["Purple",null,{"$f":"IF($A197=C$1,$A198,\"\")","v":""},{"$f":"IF($A197=D$1,$A198,\"\")","v":""},{"$f":"IF($A197=E$1,$A198,\"\")","v":""},{"$f":"IF($A197=F$1,$A198,\"\")","v":""},{"$f":"IF($A197=G$1,$A198,\"\")","v":""},{"$f":"IF($A197=H$1,$A198,\"\")","v":""},{"$f":"IF($A197=I$1,$A198,\"\")","v":""},{"$f":"IF($A197=J$1,$A198,\"\")","v":""},{"$f":"IF($A197=K$1,$A198,\"\")","v":"Purple"},{"$f":"IF($A197=L$1,$A198,\"\")","v":""}]
["Purple",null,{"$f":"IF($A198=C$1,$A199,\"\")","v":""},{"$f":"IF($A198=D$1,$A199,\"\")","v":""},{"$f":"IF($A198=E$1,$A199,\"\")","v":""},{"$f":"IF($A198=F$1,$A199,\"\")","v":""},{"$f":"IF($A198=G$1,$A199,\"\")","v":""},{"$f":"IF($A198=H$1,$A199,\"\")","v":""},{"$f":"IF($A198=I$1,$A199,\"\")","v":""},{"$f":"IF($A198=J$1,$A199,\"\")","v":""},{"$f":"IF($A198=K$1,$A199,\"\")","v":"Black"},{"$f":"IF($A198=L$1,$A199,\"\")","v":""}]
["Black",null,{"$f":"IF($A199=C$1,$A200,\"\")","v":""},{"$f":"IF($A199=D$1,$A200,\"\")","v":""},{"$f":"IF($A199=E$1,$A200,\"\")","v":""},{"$f":"IF($A199=F$1,$A200,\"\")","v":""},{"$f":"IF($A199=G$1,$A200,\"\")","v":""},{"$f":"IF($A199=H$1,$A200,\"\")","v":""},{"$f":"IF($A199=I$1,$A200,\"\")","v":"Green"},{"$f":"IF($A199=J$1,$A200,\"\")","v":""},{"$f":"IF($A199=K$1,$A200,\"\")","v":""},{"$f":"IF($A199=L$1,$A200,\"\")","v":""}]
["Green",null,{"$f":"IF($A200=C$1,$A201,\"\")","v":""},{"$f":"IF($A200=D$1,$A201,\"\")","v":""},{"$f":"IF($A200=E$1,$A201,\"\")","v":""},{"$f":"IF($A200=F$1,$A201,\"\")","v":""},{"$f":"IF($A200=G$1,$A201,\"\")","v":""},{"$f":"IF($A200=H$1,$A201,\"\")","v":""},{"$f":"IF($A200=I$1,$A201,\"\")","v":""},{"$f":"IF($A200=J$1,$A201,\"\")","v":""},{"$f":"IF($A200=K$1,$A201,\"\")","v":""},{"$f":"IF($A200=L$1,$A201,\"\")","v":"Pink"}]
["Pink",null,{"$f":"IF($A201=C$1,$A202,\"\")","v":""},{"$f":"IF($A201=D$1,$A202,\"\")","v":""},{"$f":"IF($A201=E$1,$A202,\"\")","v":""},{"$f":"IF($A201=F$1,$A202,\"\")","v":""},{"$f":"IF($A201=G$1,$A202,\"\")","v":""},{"$f":"IF($A201=H$1,$A202,\"\")","v":""},{"$f":"IF($A201=I$1,$A202,\"\")","v":""},{"$f":"IF($A201=J$1,$A202,\"\")","v":"Blue"},{"$f":"IF($A201=K$1,$A202,\"\")","v":""},{"$f":"IF($A201=L$1,$A202,\"\")","v":""}]
["Blue",null,{"$f":"IF($A202=C$1,$A203,\"\")","v":""},{"$f":"IF($A202=D$1,$A203,\"\")","v":""},{"$f":"IF($A202=E$1,$A203,\"\")","v":"Red"},{"$f":"IF($A202=F$1,$A203,\"\")","v":""},{"$f":"IF($A202=G$1,$A203,\"\")","v":""},{"$f":"IF($A202=H$1,$A203,\"\")","v":""},{"$f":"IF($A202=I$1,$A203,\"\")","v":""},{"$f":"IF($A202=J$1,$A203,\"\")","v":""},{"$f":"IF($A202=K$1,$A203,\"\")","v":""},{"$f":"IF($A202=L$1,$A203,\"\")","v":""}]
["Red",null,{"$f":"IF($A203=C$1,$A204,\"\")","v":""},{"$f":"IF($A203=D$1,$A204,\"\")","v":""},{"$f":"IF($A203=E$1,$A204,\"\")","v":""},{"$f":"IF($A203=F$1,$A204,\"\")","v":""},{"$f":"IF($A203=G$1,$A204,\"\")","v":""},{"$f":"IF($A203=H$1,$A204,\"\")","v":"Yellow"},{"$f":"IF($A203=I$1,$A204,\"\")","v":""},{"$f":"IF($A203=J$1,$A204,\"\")","v":""},{"$f":"IF($A203=K$1,$A204,\"\")","v":""},{"$f":"IF($A203=L$1,$A204,\"\")","v":""}]
["Yellow",null,{"$f":"IF($A204=C$1,$A205,\"\")","v":"Black"},{"$f":"IF($A204=D$1,$A205,\"\")","v":""},{"$f":"IF($A204=E$1,$A205,\"\")","v":""},{"$f":"IF($A204=F$1,$A205,\"\")","v":""},{"$f":"IF($A204=G$1,$A205,\"\")","v":""},{"$f":"IF($A204=H$1,$A205,\"\")","v":""},{"$f":"IF($A204=I$1,$A205,\"\")","v":""},{"$f":"IF($A204=J$1,$A205,\"\")","v":""},{"$f":"IF($A204=K$1,$A205,\"\")","v":""},{"$f":"IF($A204=L$1,$A205,\"\")","v":""}]
["Black",null,{"$f":"IF($A205=C$1,$A206,\"\")","v":""},{"$f":"IF($A205=D$1,$A206,\"\")","v":""},{"$f":"IF($A205=E$1,$A206,\"\")","v":""},{"$f":"IF($A205=F$1,$A206,\"\")","v":""},{"$f":"IF($A205=G$1,$A206,\"\")","v":""},{"$f":"IF($A205=H$1,$A206,\"\")","v":""},{"$f":"IF($A205=I$1,$A206,\"\")","v":"Yellow"},{"$f":"IF($A205=J$1,$A206,\"\")","v":""},{"$f":"IF($A205=K$1,$A206,\"\")","v":""},{"$f":"IF($A205=L$1,$A206,\"\")","v":""}]
["Yellow",null,{"$f":"IF($A206=C$1,$A207,\"\")","v":"Green"},{"$f":"IF($A206=D$1,$A207,\"\")","v":""},{"$f":"IF($A206=E$1,$A207,\"\")","v":""},{"$f":"IF($A206=F$1,$A207,\"\")","v":""},{"$f":"IF($A206=G$1,$A207,\"\")","v":""},{"$f":"IF($A206=H$1,$A207,\"\")","v":""},{"$f":"IF($A206=I$1,$A207,\"\")","v":""},{"$f":"IF($A206=J$1,$A207,\"\")","v":""},{"$f":"IF($A206=K$1,$A207,\"\")","v":""},{"$f":"IF($A206=L$1,$A207,\"\")","v":""}]
["Green",null,{"$f":"IF($A207=C$1,$A208,\"\")","v":""},{"$f":"IF($A207=D$1,$A208,\"\")","v":""},{"$f":"IF($A207=E$1,$A208,\"\")","v":""},{"$f":"IF($A207=F$1,$A208,\"\")","v":""},{"$f":"IF($A207=G$1,$A208,\"\")","v":""},{"$f":"IF($A207=H$1,$A208,\"\")","v":""},{"$f":"IF($A207=I$1,$A208,\"\")","v":""},{"$f":"IF($A207=J$1,$A208,\"\")","v":""},{"$f":"IF($A207=K$1,$A208,\"\")","v":""},{"$f":"IF($A207=L$1,$A208,\"\")","v":"Red"}]
["Red",null,{"$f":"IF($A208=C$1,$A209,\"\")","v":""},{"$f":"IF($A208=D$1,$A209,\"\")","v":""},{"$f":"IF($A208=E$1,$A209,\"\")","v":""},{"$f":"IF($A208=F$1,$A209,\"\")","v":""},{"$f":"IF($A208=G$1,$A209,\"\")","v":""},{"$f":"IF($A208=H$1,$A209,\"\")","v":"Green"},{"$f":"IF($A208=I$1,$A209,\"\")","v":""},{"$f":"IF($A208=J$1,$A209,\"\")","v":""},{"$f":"IF($A208=K$1,$A209,\"\")","v":""},{"$f":"IF($A208=L$1,$A209,\"\")","v":""}]
["Green",null,{"$f":"IF($A209=C$1,$A210,\"\")","v":""},{"$f":"IF($A209=D$1,$A210,\"\")","v":""},{"$f":"IF($A209=E$1,$A210,\"\")","v":""},{"$f":"IF($A209=F$1,$A210,\"\")","v":""},{"$f":"IF($A209=G$1,$A210,\"\")","v":""},{"$f":"IF($A209=H$1,$A210,\"\")","v":""},{"$f":"IF($A209=I$1,$A210,\"\")","v":""},{"$f":"IF($A209=J$1,$A210,\"\")","v":""},{"$f":"IF($A209=K$1,$A210,\"\")","v":""},{"$f":"IF($A209=L$1,$A210,\"\")","v":"White"}]
["White",null,{"$f":"IF($A210=C$1,$A211,\"\")","v":""},{"$f":"IF($A210=D$1,$A211,\"\")","v":""},{"$f":"IF($A210=E$1,$A211,\"\")","v":""},{"$f":"IF($A210=F$1,$A211,\"\")","v":""},{"$f":"IF($A210=G$1,$A211,\"\")","v":"Green"},{"$f":"IF($A210=H$1,$A211,\"\")","v":""},{"$f":"IF($A210=I$1,$A211,\"\")","v":""},{"$f":"IF($A210=J$1,$A211,\"\")","v":""},{"$f":"IF($A210=K$1,$A211,\"\")","v":""},{"$f":"IF($A210=L$1,$A211,\"\")","v":""}]
["Green",null,{"$f":"IF($A211=C$1,$A212,\"\")","v":""},{"$f":"IF($A211=D$1,$A212,\"\")","v":""},{"$f":"IF($A211=E$1,$A212,\"\")","v":""},{"$f":"IF($A211=F$1,$A212,\"\")","v":""},{"$f":"IF($A211=G$1,$A212,\"\")","v":""},{"$f":"IF($A211=H$1,$A212,\"\")","v":""},{"$f":"IF($A211=I$1,$A212,\"\")","v":""},{"$f":"IF($A211=J$1,$A212,\"\")","v":""},{"$f":"IF($A211=K$1,$A212,\"\")","v":""},{"$f":"IF($A211=L$1,$A212,\"\")","v":"Orange"}]
["Orange",null,{"$f":"IF($A212=C$1,$A213,\"\")","v":""},{"$f":"IF($A212=D$1,$A213,\"\")","v":"Black"},{"$f":"IF($A212=E$1,$A213,\"\")","v":""},{"$f":"IF($A212=F$1,$A213,\"\")","v":""},{"$f":"IF($A212=G$1,$A213,\"\")","v":""},{"$f":"IF($A212=H$1,$A213,\"\")","v":""},{"$f":"IF($A212=I$1,$A213,\"\")","v":""},{"$f":"IF($A212=J$1,$A213,\"\")","v":""},{"$f":"IF($A212=K$1,$A213,\"\")","v":""},{"$f":"IF($A212=L$1,$A213,\"\")","v":""}]
["Black",null,{"$f":"IF($A213=C$1,$A214,\"\")","v":""},{"$f":"IF($A213=D$1,$A214,\"\")","v":""},{"$f":"IF($A213=E$1,$A214,\"\")","v":""},{"$f":"IF($A213=F$1,$A214,\"\")","v":""},{"$f":"IF($A213=G$1,$A214,\"\")","v":""},{"$f":"IF($A213=H$1,$A214,\"\")","v":""},{"$f":"IF($A213=I$1,$A214,\"\")","v":"Purple"},{"$f":"IF($A213=J$1,$A214,\"\")","v":""},{"$f":"IF($A213=K$1,$A214,\"\")","v":""},{"$f":"IF($A213=L$1,$A214,\"\")","v":""}]
["Purple",null,{"$f":"IF($A214=C$1,$A215,\"\")","v":""},{"$f":"IF($A214=D$1,$A215,\"\")","v":""},{"$f":"IF($A214=E$1,$A215,\"\")","v":""},{"$f":"IF($A214=F$1,$A215,\"\")","v":""},{"$f":"IF($A214=G$1,$A215,\"\")","v":""},{"$f":"IF($A214=H$1,$A215,\"\")","v":""},{"$f":"IF($A214=I$1,$A215,\"\")","v":""},{"$f":"IF($A214=J$1,$A215,\"\")","v":""},{"$f":"IF($A214=K$1,$A215,\"\")","v":"White"},{"$f":"IF($A214=L$1,$A215,\"\")","v":""}]
["White",null,{"$f":"IF($A215=C$1,$A216,\"\")","v":""},{"$f":"IF($A215=D$1,$A216,\"\")","v":""},{"$f":"IF($A215=E$1,$A216,\"\")","v":""},{"$f":"IF($A215=F$1,$A216,\"\")","v":""},{"$f":"IF($A215=G$1,$A216,\"\")","v":"Orange"},{"$f":"IF($A215=H$1,$A216,\"\")","v":""},{"$f":"IF($A215=I$1,$A216,\"\")","v":""},{"$f":"IF($A215=J$1,$A216,\"\")","v":""},{"$f":"IF($A215=K$1,$A216,\"\")","v":""},{"$f":"IF($A215=L$1,$A216,\"\")","v":""}]
["Orange",null,{"$f":"IF($A216=C$1,$A217,\"\")","v":""},{"$f":"IF($A216=D$1,$A217,\"\")","v":"Pink"},{"$f":"IF($A216=E$1,$A217,\"\")","v":""},{"$f":"IF($A216=F$1,$A217,\"\")","v":""},{"$f":"IF($A216=G$1,$A217,\"\")","v":""},{"$f":"IF($A216=H$1,$A217,\"\")","v":""},{"$f":"IF($A216=I$1,$A217,\"\")","v":""},{"$f":"IF($A216=J$1,$A217,\"\")","v":""},{"$f":"IF($A216=K$1,$A217,\"\")","v":""},{"$f":"IF($A216=L$1,$A217,\"\")","v":""}]
["Pink",null,{"$f":"IF($A217=C$1,$A218,\"\")","v":""},{"$f":"IF($A217=D$1,$A218,\"\")","v":""},{"$f":"IF($A217=E$1,$A218,\"\")","v":""},{"$f":"IF($A217=F$1,$A218,\"\")","v":""},{"$f":"IF($A217=G$1,$A218,\"\")","v":""},{"$f":"IF($A217=H$1,$A218,\"\")","v":""},{"$f":"IF($A217=I$1,$A218,\"\")","v":""},{"$f":"IF($A217=J$1,$A218,\"\")","v":"Black"},{"$f":"IF($A217=K$1,$A218,\"\")","v":""},{"$f":"IF($A217=L$1,$A218,\"\")","v":""}]
["Black",null,{"$f":"IF($A218=C$1,$A219,\"\")","v":""},{"$f":"IF($A218=D$1,$A219,\"\")","v":""},{"$f":"IF($A218=E$1,$A219,\"\")","v":""},{"$f":"IF($A218=F$1,$A219,\"\")","v":""},{"$f":"IF($A218=G$1,$A219,\"\")","v":""},{"$f":"IF($A218=H$1,$A219,\"\")","v":""},{"$f":"IF($A218=I$1,$A219,\"\")","v":"White"},{"$f":"IF($A218=J$1,$A219,\"\")","v":""},{"$f":"IF($A218=K$1,$A219,\"\")","v":""},{"$f":"IF($A218=L$1,$A219,\"\")","v":""}]
["White",null,{"$f":"IF($A219=C$1,$A220,\"\")","v":""},{"$f":"IF($A219=D$1,$A220,\"\")","v":""},{"$f":"IF($A219=E$1,$A220,\"\")","v":""},{"$f":"IF($A219=F$1,$A220,\"\")","v":""},{"$f":"IF($A219=G$1,$A220,\"\")","v":"Cyan"},{"$f":"IF($A219=H$1,$A220,\"\")","v":""},{"$f":"IF($A219=I$1,$A220,\"\")","v":""},{"$f":"IF($A219=J$1,$A220,\"\")","v":""},{"$f":"IF($A219=K$1,$A220,\"\")","v":""},{"$f":"IF($A219=L$1,$A220,\"\")","v":""}]
["Cyan",null,{"$f":"IF($A220=C$1,$A221,\"\")","v":""},{"$f":"IF($A220=D$1,$A221,\"\")","v":""},{"$f":"IF($A220=E$1,$A221,\"\")","v":""},{"$f":"IF($A220=F$1,$A221,\"\")","v":"Purple"},{"$f":"IF($A220=G$1,$A221,\"\")","v":""},{"$f":"IF($A220=H$1,$A221,\"\")","v":""},{"$f":"IF($A220=I$1,$A221,\"\")","v":""},{"$f":"IF($A220=J$1,$A221,\"\")","v":""},{"$f":"IF($A220=K$1,$A221,\"\")","v":""},{"$f":"IF($A220=L$1,$A221,\"\")","v":""}]
["Purple",null,{"$f":"IF($A221=C$1,$A222,\"\")","v":""},{"$f":"IF($A221=D$1,$A222,\"\")","v":""},{"$f":"IF($A221=E$1,$A222,\"\")","v":""},{"$f":"IF($A221=F$1,$A222,\"\")","v":""},{"$f":"IF($A221=G$1,$A222,\"\")","v":""},{"$f":"IF($A221=H$1,$A222,\"\")","v":""},{"$f":"IF($A221=I$1,$A222,\"\")","v":""},{"$f":"IF($A221=J$1,$A222,\"\")","v":""},{"$f":"IF($A221=K$1,$A222,\"\")","v":"Pink"},{"$f":"IF($A221=L$1,$A222,\"\")","v":""}]
["Pink",null,{"$f":"IF($A222=C$1,$A223,\"\")","v":""},{"$f":"IF($A222=D$1,$A223,\"\")","v":""},{"$f":"IF($A222=E$1,$A223,\"\")","v":""},{"$f":"IF($A222=F$1,$A223,\"\")","v":""},{"$f":"IF($A222=G$1,$A223,\"\")","v":""},{"$f":"IF($A222=H$1,$A223,\"\")","v":""},{"$f":"IF($A222=I$1,$A223,\"\")","v":""},{"$f":"IF($A222=J$1,$A223,\"\")","v":"Orange"},{"$f":"IF($A222=K$1,$A223,\"\")","v":""},{"$f":"IF($A222=L$1,$A223,\"\")","v":""}]
["Orange",null,{"$f":"IF($A223=C$1,$A224,\"\")","v":""},{"$f":"IF($A223=D$1,$A224,\"\")","v":"Purple"},{"$f":"IF($A223=E$1,$A224,\"\")","v":""},{"$f":"IF($A223=F$1,$A224,\"\")","v":""},{"$f":"IF($A223=G$1,$A224,\"\")","v":""},{"$f":"IF($A223=H$1,$A224,\"\")","v":""},{"$f":"IF($A223=I$1,$A224,\"\")","v":""},{"$f":"IF($A223=J$1,$A224,\"\")","v":""},{"$f":"IF($A223=K$1,$A224,\"\")","v":""},{"$f":"IF($A223=L$1,$A224,\"\")","v":""}]
["Purple",null,{"$f":"IF($A224=C$1,$A225,\"\")","v":""},{"$f":"IF($A224=D$1,$A225,\"\")","v":""},{"$f":"IF($A224=E$1,$A225,\"\")","v":""},{"$f":"IF($A224=F$1,$A225,\"\")","v":""},{"$f":"IF($A224=G$1,$A225,\"\")","v":""},{"$f":"IF($A224=H$1,$A225,\"\")","v":""},{"$f":"IF($A224=I$1,$A225,\"\")","v":""},{"$f":"IF($A224=J$1,$A225,\"\")","v":""},{"$f":"IF($A224=K$1,$A225,\"\")","v":"Green"},{"$f":"IF($A224=L$1,$A225,\"\")","v":""}]
["Green",null,{"$f":"IF($A225=C$1,$A226,\"\")","v":""},{"$f":"IF($A225=D$1,$A226,\"\")","v":""},{"$f":"IF($A225=E$1,$A226,\"\")","v":""},{"$f":"IF($A225=F$1,$A226,\"\")","v":""},{"$f":"IF($A225=G$1,$A226,\"\")","v":""},{"$f":"IF($A225=H$1,$A226,\"\")","v":""},{"$f":"IF($A225=I$1,$A226,\"\")","v":""},{"$f":"IF($A225=J$1,$A226,\"\")","v":""},{"$f":"IF($A225=K$1,$A226,\"\")","v":""},{"$f":"IF($A225=L$1,$A226,\"\")","v":"Blue"}]
["Blue",null,{"$f":"IF($A226=C$1,$A227,\"\")","v":""},{"$f":"IF($A226=D$1,$A227,\"\")","v":""},{"$f":"IF($A226=E$1,$A227,\"\")","v":"Cyan"},{"$f":"IF($A226=F$1,$A227,\"\")","v":""},{"$f":"IF($A226=G$1,$A227,\"\")","v":""},{"$f":"IF($A226=H$1,$A227,\"\")","v":""},{"$f":"IF($A226=I$1,$A227,\"\")","v":""},{"$f":"IF($A226=J$1,$A227,\"\")","v":""},{"$f":"IF($A226=K$1,$A227,\"\")","v":""},{"$f":"IF($A226=L$1,$A227,\"\")","v":""}]
["Cyan",null,{"$f":"IF($A227=C$1,$A228,\"\")","v":""},{"$f":"IF($A227=D$1,$A228,\"\")","v":""},{"$f":"IF($A227=E$1,$A228,\"\")","v":""},{"$f":"IF($A227=F$1,$A228,\"\")","v":"Cyan"},{"$f":"IF($A227=G$1,$A228,\"\")","v":""},{"$f":"IF($A227=H$1,$A228,\"\")","v":""},{"$f":"IF($A227=I$1,$A228,\"\")","v":""},{"$f":"IF($A227=J$1,$A228,\"\")","v":""},{"$f":"IF($A227=K$1,$A228,\"\")","v":""},{"$f":"IF($A227=L$1,$A228,\"\")","v":""}]
["Cyan",null,{"$f":"IF($A228=C$1,$A229,\"\")","v":""},{"$f":"IF($A228=D$1,$A229,\"\")","v":""},{"$f":"IF($A228=E$1,$A229,\"\")","v":""},{"$f":"IF($A228=F$1,$A229,\"\")","v":"Black"},{"$f":"IF($A228=G$1,$A229,\"\")","v":""},{"$f":"IF($A228=H$1,$A229,\"\")","v":""},{"$f":"IF($A228=I$1,$A229,\"\")","v":""},{"$f":"IF($A228=J$1,$A229,\"\")","v":""},{"$f":"IF($A228=K$1,$A229,\"\")","v":""},{"$f":"IF($A228=L$1,$A229,\"\")","v":""}]
["Black",null,{"$f":"IF($A229=C$1,$A230,\"\")","v":""},{"$f":"IF($A229=D$1,$A230,\"\")","v":""},{"$f":"IF($A229=E$1,$A230,\"\")","v":""},{"$f":"IF($A229=F$1,$A230,\"\")","v":""},{"$f":"IF($A229=G$1,$A230,\"\")","v":""},{"$f":"IF($A229=H$1,$A230,\"\")","v":""},{"$f":"IF($A229=I$1,$A230,\"\")","v":"Blue"},{"$f":"IF($A229=J$1,$A230,\"\")","v":""},{"$f":"IF($A229=K$1,$A230,\"\")","v":""},{"$f":"IF($A229=L$1,$A230,\"\")","v":""}]
["Blue",null,{"$f":"IF($A230=C$1,$A231,\"\")","v":""},{"$f":"IF($A230=D$1,$A231,\"\")","v":""},{"$f":"IF($A230=E$1,$A231,\"\")","v":"Orange"},{"$f":"IF($A230=F$1,$A231,\"\")","v":""},{"$f":"IF($A230=G$1,$A231,\"\")","v":""},{"$f":"IF($A230=H$1,$A231,\"\")","v":""},{"$f":"IF($A230=I$1,$A231,\"\")","v":""},{"$f":"IF($A230=J$1,$A231,\"\")","v":""},{"$f":"IF($A230=K$1,$A231,\"\")","v":""},{"$f":"IF($A230=L$1,$A231,\"\")","v":""}]
["Orange",null,{"$f":"IF($A231=C$1,$A232,\"\")","v":""},{"$f":"IF($A231=D$1,$A232,\"\")","v":"Cyan"},{"$f":"IF($A231=E$1,$A232,\"\")","v":""},{"$f":"IF($A231=F$1,$A232,\"\")","v":""},{"$f":"IF($A231=G$1,$A232,\"\")","v":""},{"$f":"IF($A231=H$1,$A232,\"\")","v":""},{"$f":"IF($A231=I$1,$A232,\"\")","v":""},{"$f":"IF($A231=J$1,$A232,\"\")","v":""},{"$f":"IF($A231=K$1,$A232,\"\")","v":""},{"$f":"IF($A231=L$1,$A232,\"\")","v":""}]
["Cyan",null,{"$f":"IF($A232=C$1,$A233,\"\")","v":""},{"$f":"IF($A232=D$1,$A233,\"\")","v":""},{"$f":"IF($A232=E$1,$A233,\"\")","v":""},{"$f":"IF($A232=F$1,$A233,\"\")","v":"Blue"},{"$f":"IF($A232=G$1,$A233,\"\")","v":""},{"$f":"IF($A232=H$1,$A233,\"\")","v":""},{"$f":"IF($A232=I$1,$A233,\"\")","v":""},{"$f":"IF($A232=J$1,$A233,\"\")","v":""},{"$f":"IF($A232=K$1,$A233,\"\")","v":""},{"$f":"IF($A232=L$1,$A233,\"\")","v":""}]
["Blue",null,{"$f":"IF($A233=C$1,$A234,\"\")","v":""},{"$f":"IF($A233=D$1,$A234,\"\")","v":""},{"$f":"IF($A233=E$1,$A234,\"\")","v":"Pink"},{"$f":"IF($A233=F$1,$A234,\"\")","v":""},{"$f":"IF($A233=G$1,$A234,\"\")","v":""},{"$f":"IF($A233=H$1,$A234,\"\")","v":""},{"$f":"IF($A233=I$1,$A234,\"\")","v":""},{"$f":"IF($A233=J$1,$A234,\"\")","v":""},{"$f":"IF($A233=K$1,$A234,\"\")","v":""},{"$f":"IF($A233=L$1,$A234,\"\")","v":""}]
["Pink",null,{"$f":"IF($A234=C$1,$A235,\"\")","v":""},{"$f":"IF($A234=D$1,$A235,\"\")","v":""},{"$f":"IF($A234=E$1,$A235,\"\")","v":""},{"$f":"IF($A234=F$1,$A235,\"\")","v":""},{"$f":"IF($A234=G$1,$A235,\"\")","v":""},{"$f":"IF($A234=H$1,$A235,\"\")","v":""},{"$f":"IF($A234=I$1,$A235,\"\")","v":""},{"$f":"IF($A234=J$1,$A235,\"\")","v":"Green"},{"$f":"IF($A234=K$1,$A235,\"\")","v":""},{"$f":"IF($A234=L$1,$A235,\"\")","v":""}]
["Green",null,{"$f":"IF($A235=C$1,$A236,\"\")","v":""},{"$f":"IF($A235=D$1,$A236,\"\")","v":""},{"$f":"IF($A235=E$1,$A236,\"\")","v":""},{"$f":"IF($A235=F$1,$A236,\"\")","v":""},{"$f":"IF($A235=G$1,$A236,\"\")","v":""},{"$f":"IF($A235=H$1,$A236,\"\")","v":""},{"$f":"IF($A235=I$1,$A236,\"\")","v":""},{"$f":"IF($A235=J$1,$A236,\"\")","v":""},{"$f":"IF($A235=K$1,$A236,\"\")","v":""},{"$f":"IF($A235=L$1,$A236,\"\")","v":"Green"}]
["Green",null,{"$f":"IF($A236=C$1,$A237,\"\")","v":""},{"$f":"IF($A236=D$1,$A237,\"\")","v":""},{"$f":"IF($A236=E$1,$A237,\"\")","v":""},{"$f":"IF($A236=F$1,$A237,\"\")","v":""},{"$f":"IF($A236=G$1,$A237,\"\")","v":""},{"$f":"IF($A236=H$1,$A237,\"\")","v":""},{"$f":"IF($A236=I$1,$A237,\"\")","v":""},{"$f":"IF($A236=J$1,$A237,\"\")","v":""},{"$f":"IF($A236=K$1,$A237,\"\")","v":""},{"$f":"IF($A236=L$1,$A237,\"\")","v":"Green"}]
["Green",null,{"$f":"IF($A237=C$1,$A238,\"\")","v":""},{"$f":"IF($A237=D$1,$A238,\"\")","v":""},{"$f":"IF($A237=E$1,$A238,\"\")","v":""},{"$f":"IF($A237=F$1,$A238,\"\")","v":""},{"$f":"IF($A237=G$1,$A238,\"\")","v":""},{"$f":"IF($A237=H$1,$A238,\"\")","v":""},{"$f":"IF($A237=I$1,$A238,\"\")","v":""},{"$f":"IF($A237=J$1,$A238,\"\")","v":""},{"$f":"IF($A237=K$1,$A238,\"\")","v":""},{"$f":"IF($A237=L$1,$A238,\"\")","v":"Black"}]
["Black",null,{"$f":"IF($A238=C$1,$A239,\"\")","v":""},{"$f":"IF($A238=D$1,$A239,\"\")","v":""},{"$f":"IF($A238=E$1,$A239,\"\")","v":""},{"$f":"IF($A238=F$1,$A239,\"\")","v":""},{"$f":"IF($A238=G$1,$A239,\"\")","v":""},{"$f":"IF($A238=H$1,$A239,\"\")","v":""},{"$f":"IF($A238=I$1,$A239,\"\")","v":"White"},{"$f":"IF($A238=J$1,$A239,\"\")","v":""},{"$f":"IF($A238=K$1,$A239,\"\")","v":""},{"$f":"IF($A238=L$1,$A239,\"\")","v":""}]
["White",null,{"$f":"IF($A239=C$1,$A240,\"\")","v":""},{"$f":"IF($A239=D$1,$A240,\"\")","v":""},{"$f":"IF($A239=E$1,$A240,\"\")","v":""},{"$f":"IF($A239=F$1,$A240,\"\")","v":""},{"$f":"IF($A239=G$1,$A240,\"\")","v":"Black"},{"$f":"IF($A239=H$1,$A240,\"\")","v":""},{"$f":"IF($A239=I$1,$A240,\"\")","v":""},{"$f":"IF($A239=J$1,$A240,\"\")","v":""},{"$f":"IF($A239=K$1,$A240,\"\")","v":""},{"$f":"IF($A239=L$1,$A240,\"\")","v":""}]
["Black",null,{"$f":"IF($A240=C$1,$A241,\"\")","v":""},{"$f":"IF($A240=D$1,$A241,\"\")","v":""},{"$f":"IF($A240=E$1,$A241,\"\")","v":""},{"$f":"IF($A240=F$1,$A241,\"\")","v":""},{"$f":"IF($A240=G$1,$A241,\"\")","v":""},{"$f":"IF($A240=H$1,$A241,\"\")","v":""},{"$f":"IF($A240=I$1,$A241,\"\")","v":"Purple"},{"$f":"IF($A240=J$1,$A241,\"\")","v":""},{"$f":"IF($A240=K$1,$A241,\"\")","v":""},{"$f":"IF($A240=L$1,$A241,\"\")","v":""}]
["Purple",null,{"$f":"IF($A241=C$1,$A242,\"\")","v":""},{"$f":"IF($A241=D$1,$A242,\"\")","v":""},{"$f":"IF($A241=E$1,$A242,\"\")","v":""},{"$f":"IF($A241=F$1,$A242,\"\")","v":""},{"$f":"IF($A241=G$1,$A242,\"\")","v":""},{"$f":"IF($A241=H$1,$A242,\"\")","v":""},{"$f":"IF($A241=I$1,$A242,\"\")","v":""},{"$f":"IF($A241=J$1,$A242,\"\")","v":""},{"$f":"IF($A241=K$1,$A242,\"\")","v":"Pink"},{"$f":"IF($A241=L$1,$A242,\"\")","v":""}]
["Pink",null,{"$f":"IF($A242=C$1,$A243,\"\")","v":""},{"$f":"IF($A242=D$1,$A243,\"\")","v":""},{"$f":"IF($A242=E$1,$A243,\"\")","v":""},{"$f":"IF($A242=F$1,$A243,\"\")","v":""},{"$f":"IF($A242=G$1,$A243,\"\")","v":""},{"$f":"IF($A242=H$1,$A243,\"\")","v":""},{"$f":"IF($A242=I$1,$A243,\"\")","v":""},{"$f":"IF($A242=J$1,$A243,\"\")","v":"Orange"},{"$f":"IF($A242=K$1,$A243,\"\")","v":""},{"$f":"IF($A242=L$1,$A243,\"\")","v":""}]
["Orange",null,{"$f":"IF($A243=C$1,$A244,\"\")","v":""},{"$f":"IF($A243=D$1,$A244,\"\")","v":"Orange"},{"$f":"IF($A243=E$1,$A244,\"\")","v":""},{"$f":"IF($A243=F$1,$A244,\"\")","v":""},{"$f":"IF($A243=G$1,$A244,\"\")","v":""},{"$f":"IF($A243=H$1,$A244,\"\")","v":""},{"$f":"IF($A243=I$1,$A244,\"\")","v":""},{"$f":"IF($A243=J$1,$A244,\"\")","v":""},{"$f":"IF($A243=K$1,$A244,\"\")","v":""},{"$f":"IF($A243=L$1,$A244,\"\")","v":""}]
["Orange",null,{"$f":"IF($A244=C$1,$A245,\"\")","v":""},{"$f":"IF($A244=D$1,$A245,\"\")","v":"White"},{"$f":"IF($A244=E$1,$A245,\"\")","v":""},{"$f":"IF($A244=F$1,$A245,\"\")","v":""},{"$f":"IF($A244=G$1,$A245,\"\")","v":""},{"$f":"IF($A244=H$1,$A245,\"\")","v":""},{"$f":"IF($A244=I$1,$A245,\"\")","v":""},{"$f":"IF($A244=J$1,$A245,\"\")","v":""},{"$f":"IF($A244=K$1,$A245,\"\")","v":""},{"$f":"IF($A244=L$1,$A245,\"\")","v":""}]
["White",null,{"$f":"IF($A245=C$1,$A246,\"\")","v":""},{"$f":"IF($A245=D$1,$A246,\"\")","v":""},{"$f":"IF($A245=E$1,$A246,\"\")","v":""},{"$f":"IF($A245=F$1,$A246,\"\")","v":""},{"$f":"IF($A245=G$1,$A246,\"\")","v":"White"},{"$f":"IF($A245=H$1,$A246,\"\")","v":""},{"$f":"IF($A245=I$1,$A246,\"\")","v":""},{"$f":"IF($A245=J$1,$A246,\"\")","v":""},{"$f":"IF($A245=K$1,$A246,\"\")","v":""},{"$f":"IF($A245=L$1,$A246,\"\")","v":""}]
["White",null,{"$f":"IF($A246=C$1,$A247,\"\")","v":""},{"$f":"IF($A246=D$1,$A247,\"\")","v":""},{"$f":"IF($A246=E$1,$A247,\"\")","v":""},{"$f":"IF($A246=F$1,$A247,\"\")","v":""},{"$f":"IF($A246=G$1,$A247,\"\")","v":"Black"},{"$f":"IF($A246=H$1,$A247,\"\")","v":""},{"$f":"IF($A246=I$1,$A247,\"\")","v":""},{"$f":"IF($A246=J$1,$A247,\"\")","v":""},{"$f":"IF($A246=K$1,$A247,\"\")","v":""},{"$f":"IF($A246=L$1,$A247,\"\")","v":""}]
["Black",null,{"$f":"IF($A247=C$1,$A248,\"\")","v":""},{"$f":"IF($A247=D$1,$A248,\"\")","v":""},{"$f":"IF($A247=E$1,$A248,\"\")","v":""},{"$f":"IF($A247=F$1,$A248,\"\")","v":""},{"$f":"IF($A247=G$1,$A248,\"\")","v":""},{"$f":"IF($A247=H$1,$A248,\"\")","v":""},{"$f":"IF($A247=I$1,$A248,\"\")","v":"Cyan"},{"$f":"IF($A247=J$1,$A248,\"\")","v":""},{"$f":"IF($A247=K$1,$A248,\"\")","v":""},{"$f":"IF($A247=L$1,$A248,\"\")","v":""}]
["Cyan",null,{"$f":"IF($A248=C$1,$A249,\"\")","v":""},{"$f":"IF($A248=D$1,$A249,\"\")","v":""},{"$f":"IF($A248=E$1,$A249,\"\")","v":""},{"$f":"IF($A248=F$1,$A249,\"\")","v":"Yellow"},{"$f":"IF($A248=G$1,$A249,\"\")","v":""},{"$f":"IF($A248=H$1,$A249,\"\")","v":""},{"$f":"IF($A248=I$1,$A249,\"\")","v":""},{"$f":"IF($A248=J$1,$A249,\"\")","v":""},{"$f":"IF($A248=K$1,$A249,\"\")","v":""},{"$f":"IF($A248=L$1,$A249,\"\")","v":""}]
["Yellow",null,{"$f":"IF($A249=C$1,$A250,\"\")","v":"Yellow"},{"$f":"IF($A249=D$1,$A250,\"\")","v":""},{"$f":"IF($A249=E$1,$A250,\"\")","v":""},{"$f":"IF($A249=F$1,$A250,\"\")","v":""},{"$f":"IF($A249=G$1,$A250,\"\")","v":""},{"$f":"IF($A249=H$1,$A250,\"\")","v":""},{"$f":"IF($A249=I$1,$A250,\"\")","v":""},{"$f":"IF($A249=J$1,$A250,\"\")","v":""},{"$f":"IF($A249=K$1,$A250,\"\")","v":""},{"$f":"IF($A249=L$1,$A250,\"\")","v":""}]
["Yellow",null,{"$f":"IF($A250=C$1,$A251,\"\")","v":"Purple"},{"$f":"IF($A250=D$1,$A251,\"\")","v":""},{"$f":"IF($A250=E$1,$A251,\"\")","v":""},{"$f":"IF($A250=F$1,$A251,\"\")","v":""},{"$f":"IF($A250=G$1,$A251,\"\")","v":""},{"$f":"IF($A250=H$1,$A251,\"\")","v":""},{"$f":"IF($A250=I$1,$A251,\"\")","v":""},{"$f":"IF($A250=J$1,$A251,\"\")","v":""},{"$f":"IF($A250=K$1,$A251,\"\")","v":""},{"$f":"IF($A250=L$1,$A251,\"\")","v":""}]
["Purple",null,{"$f":"IF($A251=C$1,$A252,\"\")","v":""},{"$f":"IF($A251=D$1,$A252,\"\")","v":""},{"$f":"IF($A251=E$1,$A252,\"\")","v":""},{"$f":"IF($A251=F$1,$A252,\"\")","v":""},{"$f":"IF($A251=G$1,$A252,\"\")","v":""},{"$f":"IF($A251=H$1,$A252,\"\")","v":""},{"$f":"IF($A251=I$1,$A252,\"\")","v":""},{"$f":"IF($A251=J$1,$A252,\"\")","v":""},{"$f":"IF($A251=K$1,$A252,\"\")","v":"Purple"},{"$f":"IF($A251=L$1,$A252,\"\")","v":""}]
["Purple",null,{"$f":"IF($A252=C$1,$A253,\"\")","v":""},{"$f":"IF($A252=D$1,$A253,\"\")","v":""},{"$f":"IF($A252=E$1,$A253,\"\")","v":""},{"$f":"IF($A252=F$1,$A253,\"\")","v":""},{"$f":"IF($A252=G$1,$A253,\"\")","v":""},{"$f":"IF($A252=H$1,$A253,\"\")","v":""},{"$f":"IF($A252=I$1,$A253,\"\")","v":""},{"$f":"IF($A252=J$1,$A253,\"\")","v":""},{"$f":"IF($A252=K$1,$A253,\"\")","v":"Black"},{"$f":"IF($A252=L$1,$A253,\"\")","v":""}]
["Black",null,{"$f":"IF($A253=C$1,$A254,\"\")","v":""},{"$f":"IF($A253=D$1,$A254,\"\")","v":""},{"$f":"IF($A253=E$1,$A254,\"\")","v":""},{"$f":"IF($A253=F$1,$A254,\"\")","v":""},{"$f":"IF($A253=G$1,$A254,\"\")","v":""},{"$f":"IF($A253=H$1,$A254,\"\")","v":""},{"$f":"IF($A253=I$1,$A254,\"\")","v":"Blue"},{"$f":"IF($A253=J$1,$A254,\"\")","v":""},{"$f":"IF($A253=K$1,$A254,\"\")","v":""},{"$f":"IF($A253=L$1,$A254,\"\")","v":""}]
["Blue",null,{"$f":"IF($A254=C$1,$A255,\"\")","v":""},{"$f":"IF($A254=D$1,$A255,\"\")","v":""},{"$f":"IF($A254=E$1,$A255,\"\")","v":"Black"},{"$f":"IF($A254=F$1,$A255,\"\")","v":""},{"$f":"IF($A254=G$1,$A255,\"\")","v":""},{"$f":"IF($A254=H$1,$A255,\"\")","v":""},{"$f":"IF($A254=I$1,$A255,\"\")","v":""},{"$f":"IF($A254=J$1,$A255,\"\")","v":""},{"$f":"IF($A254=K$1,$A255,\"\")","v":""},{"$f":"IF($A254=L$1,$A255,\"\")","v":""}]
["Black",null,{"$f":"IF($A255=C$1,$A256,\"\")","v":""},{"$f":"IF($A255=D$1,$A256,\"\")","v":""},{"$f":"IF($A255=E$1,$A256,\"\")","v":""},{"$f":"IF($A255=F$1,$A256,\"\")","v":""},{"$f":"IF($A255=G$1,$A256,\"\")","v":""},{"$f":"IF($A255=H$1,$A256,\"\")","v":""},{"$f":"IF($A255=I$1,$A256,\"\")","v":"White"},{"$f":"IF($A255=J$1,$A256,\"\")","v":""},{"$f":"IF($A255=K$1,$A256,\"\")","v":""},{"$f":"IF($A255=L$1,$A256,\"\")","v":""}]
["White",null,{"$f":"IF($A256=C$1,$A257,\"\")","v":""},{"$f":"IF($A256=D$1,$A257,\"\")","v":""},{"$f":"IF($A256=E$1,$A257,\"\")","v":""},{"$f":"IF($A256=F$1,$A257,\"\")","v":""},{"$f":"IF($A256=G$1,$A257,\"\")","v":"Blue"},{"$f":"IF($A256=H$1,$A257,\"\")","v":""},{"$f":"IF($A256=I$1,$A257,\"\")","v":""},{"$f":"IF($A256=J$1,$A257,\"\")","v":""},{"$f":"IF($A256=K$1,$A257,\"\")","v":""},{"$f":"IF($A256=L$1,$A257,\"\")","v":""}]
["Blue",null,{"$f":"IF($A257=C$1,$A258,\"\")","v":""},{"$f":"IF($A257=D$1,$A258,\"\")","v":""},{"$f":"IF($A257=E$1,$A258,\"\")","v":"White"},{"$f":"IF($A257=F$1,$A258,\"\")","v":""},{"$f":"IF($A257=G$1,$A258,\"\")","v":""},{"$f":"IF($A257=H$1,$A258,\"\")","v":""},{"$f":"IF($A257=I$1,$A258,\"\")","v":""},{"$f":"IF($A257=J$1,$A258,\"\")","v":""},{"$f":"IF($A257=K$1,$A258,\"\")","v":""},{"$f":"IF($A257=L$1,$A258,\"\")","v":""}]
["White",null,{"$f":"IF($A258=C$1,$A259,\"\")","v":""},{"$f":"IF($A258=D$1,$A259,\"\")","v":""},{"$f":"IF($A258=E$1,$A259,\"\")","v":""},{"$f":"IF($A258=F$1,$A259,\"\")","v":""},{"$f":"IF($A258=G$1,$A259,\"\")","v":"Green"},{"$f":"IF($A258=H$1,$A259,\"\")","v":""},{"$f":"IF($A258=I$1,$A259,\"\")","v":""},{"$f":"IF($A258=J$1,$A259,\"\")","v":""},{"$f":"IF($A258=K$1,$A259,\"\")","v":""},{"$f":"IF($A258=L$1,$A259,\"\")","v":""}]
["Green",null,{"$f":"IF($A259=C$1,$A260,\"\")","v":""},{"$f":"IF($A259=D$1,$A260,\"\")","v":""},{"$f":"IF($A259=E$1,$A260,\"\")","v":""},{"$f":"IF($A259=F$1,$A260,\"\")","v":""},{"$f":"IF($A259=G$1,$A260,\"\")","v":""},{"$f":"IF($A259=H$1,$A260,\"\")","v":""},{"$f":"IF($A259=I$1,$A260,\"\")","v":""},{"$f":"IF($A259=J$1,$A260,\"\")","v":""},{"$f":"IF($A259=K$1,$A260,\"\")","v":""},{"$f":"IF($A259=L$1,$A260,\"\")","v":"Red"}]
["Red",null,{"$f":"IF($A260=C$1,$A261,\"\")","v":""},{"$f":"IF($A260=D$1,$A261,\"\")","v":""},{"$f":"IF($A260=E$1,$A261,\"\")","v":""},{"$f":"IF($A260=F$1,$A261,\"\")","v":""},{"$f":"IF($A260=G$1,$A261,\"\")","v":""},{"$f":"IF($A260=H$1,$A261,\"\")","v":"Blue"},{"$f":"IF($A260=I$1,$A261,\"\")","v":""},{"$f":"IF($A260=J$1,$A261,\"\")","v":""},{"$f":"IF($A260=K$1,$A261,\"\")","v":""},{"$f":"IF($A260=L$1,$A261,\"\")","v":""}]
["Blue",null,{"$f":"IF($A261=C$1,$A262,\"\")","v":""},{"$f":"IF($A261=D$1,$A262,\"\")","v":""},{"$f":"IF($A261=E$1,$A262,\"\")","v":"Red"},{"$f":"IF($A261=F$1,$A262,\"\")","v":""},{"$f":"IF($A261=G$1,$A262,\"\")","v":""},{"$f":"IF($A261=H$1,$A262,\"\")","v":""},{"$f":"IF($A261=I$1,$A262,\"\")","v":""},{"$f":"IF($A261=J$1,$A262,\"\")","v":""},{"$f":"IF($A261=K$1,$A262,\"\")","v":""},{"$f":"IF($A261=L$1,$A262,\"\")","v":""}]
["Red",null,{"$f":"IF($A262=C$1,$A263,\"\")","v":""},{"$f":"IF($A262=D$1,$A263,\"\")","v":""},{"$f":"IF($A262=E$1,$A263,\"\")","v":""},{"$f":"IF($A262=F$1,$A263,\"\")","v":""},{"$f":"IF($A262=G$1,$A263,\"\")","v":""},{"$f":"IF($A262=H$1,$A263,\"\")","v":"Black"},{"$f":"IF($A262=I$1,$A263,\"\")","v":""},{"$f":"IF($A262=J$1,$A263,\"\")","v":""},{"$f":"IF($A262=K$1,$A263,\"\")","v":""},{"$f":"IF($A262=L$1,$A263,\"\")","v":""}]
["Black",null,{"$f":"IF($A263=C$1,$A264,\"\")","v":""},{"$f":"IF($A263=D$1,$A264,\"\")","v":""},{"$f":"IF($A263=E$1,$A264,\"\")","v":""},{"$f":"IF($A263=F$1,$A264,\"\")","v":""},{"$f":"IF($A263=G$1,$A264,\"\")","v":""},{"$f":"IF($A263=H$1,$A264,\"\")","v":""},{"$f":"IF($A263=I$1,$A264,\"\")","v":"Cyan"},{"$f":"IF($A263=J$1,$A264,\"\")","v":""},{"$f":"IF($A263=K$1,$A264,\"\")","v":""},{"$f":"IF($A263=L$1,$A264,\"\")","v":""}]
["Cyan",null,{"$f":"IF($A264=C$1,$A265,\"\")","v":""},{"$f":"IF($A264=D$1,$A265,\"\")","v":""},{"$f":"IF($A264=E$1,$A265,\"\")","v":""},{"$f":"IF($A264=F$1,$A265,\"\")","v":"Red"},{"$f":"IF($A264=G$1,$A265,\"\")","v":""},{"$f":"IF($A264=H$1,$A265,\"\")","v":""},{"$f":"IF($A264=I$1,$A265,\"\")","v":""},{"$f":"IF($A264=J$1,$A265,\"\")","v":""},{"$f":"IF($A264=K$1,$A265,\"\")","v":""},{"$f":"IF($A264=L$1,$A265,\"\")","v":""}]
["Red",null,{"$f":"IF($A265=C$1,$A266,\"\")","v":""},{"$f":"IF($A265=D$1,$A266,\"\")","v":""},{"$f":"IF($A265=E$1,$A266,\"\")","v":""},{"$f":"IF($A265=F$1,$A266,\"\")","v":""},{"$f":"IF($A265=G$1,$A266,\"\")","v":""},{"$f":"IF($A265=H$1,$A266,\"\")","v":"Green"},{"$f":"IF($A265=I$1,$A266,\"\")","v":""},{"$f":"IF($A265=J$1,$A266,\"\")","v":""},{"$f":"IF($A265=K$1,$A266,\"\")","v":""},{"$f":"IF($A265=L$1,$A266,\"\")","v":""}]
["Green",null,{"$f":"IF($A266=C$1,$A267,\"\")","v":""},{"$f":"IF($A266=D$1,$A267,\"\")","v":""},{"$f":"IF($A266=E$1,$A267,\"\")","v":""},{"$f":"IF($A266=F$1,$A267,\"\")","v":""},{"$f":"IF($A266=G$1,$A267,\"\")","v":""},{"$f":"IF($A266=H$1,$A267,\"\")","v":""},{"$f":"IF($A266=I$1,$A267,\"\")","v":""},{"$f":"IF($A266=J$1,$A267,\"\")","v":""},{"$f":"IF($A266=K$1,$A267,\"\")","v":""},{"$f":"IF($A266=L$1,$A267,\"\")","v":"Purple"}]
["Purple",null,{"$f":"IF($A267=C$1,$A268,\"\")","v":""},{"$f":"IF($A267=D$1,$A268,\"\")","v":""},{"$f":"IF($A267=E$1,$A268,\"\")","v":""},{"$f":"IF($A267=F$1,$A268,\"\")","v":""},{"$f":"IF($A267=G$1,$A268,\"\")","v":""},{"$f":"IF($A267=H$1,$A268,\"\")","v":""},{"$f":"IF($A267=I$1,$A268,\"\")","v":""},{"$f":"IF($A267=J$1,$A268,\"\")","v":""},{"$f":"IF($A267=K$1,$A268,\"\")","v":"Black"},{"$f":"IF($A267=L$1,$A268,\"\")","v":""}]
["Black",null,{"$f":"IF($A268=C$1,$A269,\"\")","v":""},{"$f":"IF($A268=D$1,$A269,\"\")","v":""},{"$f":"IF($A268=E$1,$A269,\"\")","v":""},{"$f":"IF($A268=F$1,$A269,\"\")","v":""},{"$f":"IF($A268=G$1,$A269,\"\")","v":""},{"$f":"IF($A268=H$1,$A269,\"\")","v":""},{"$f":"IF($A268=I$1,$A269,\"\")","v":"Red"},{"$f":"IF($A268=J$1,$A269,\"\")","v":""},{"$f":"IF($A268=K$1,$A269,\"\")","v":""},{"$f":"IF($A268=L$1,$A269,\"\")","v":""}]
["Red",null,{"$f":"IF($A269=C$1,$A270,\"\")","v":""},{"$f":"IF($A269=D$1,$A270,\"\")","v":""},{"$f":"IF($A269=E$1,$A270,\"\")","v":""},{"$f":"IF($A269=F$1,$A270,\"\")","v":""},{"$f":"IF($A269=G$1,$A270,\"\")","v":""},{"$f":"IF($A269=H$1,$A270,\"\")","v":"Yellow"},{"$f":"IF($A269=I$1,$A270,\"\")","v":""},{"$f":"IF($A269=J$1,$A270,\"\")","v":""},{"$f":"IF($A269=K$1,$A270,\"\")","v":""},{"$f":"IF($A269=L$1,$A270,\"\")","v":""}]
["Yellow",null,{"$f":"IF($A270=C$1,$A271,\"\")","v":"Black"},{"$f":"IF($A270=D$1,$A271,\"\")","v":""},{"$f":"IF($A270=E$1,$A271,\"\")","v":""},{"$f":"IF($A270=F$1,$A271,\"\")","v":""},{"$f":"IF($A270=G$1,$A271,\"\")","v":""},{"$f":"IF($A270=H$1,$A271,\"\")","v":""},{"$f":"IF($A270=I$1,$A271,\"\")","v":""},{"$f":"IF($A270=J$1,$A271,\"\")","v":""},{"$f":"IF($A270=K$1,$A271,\"\")","v":""},{"$f":"IF($A270=L$1,$A271,\"\")","v":""}]
["Black",null,{"$f":"IF($A271=C$1,$A272,\"\")","v":""},{"$f":"IF($A271=D$1,$A272,\"\")","v":""},{"$f":"IF($A271=E$1,$A272,\"\")","v":""},{"$f":"IF($A271=F$1,$A272,\"\")","v":""},{"$f":"IF($A271=G$1,$A272,\"\")","v":""},{"$f":"IF($A271=H$1,$A272,\"\")","v":""},{"$f":"IF($A271=I$1,$A272,\"\")","v":"Yellow"},{"$f":"IF($A271=J$1,$A272,\"\")","v":""},{"$f":"IF($A271=K$1,$A272,\"\")","v":""},{"$f":"IF($A271=L$1,$A272,\"\")","v":""}]
["Yellow",null,{"$f":"IF($A272=C$1,$A273,\"\")","v":"Cyan"},{"$f":"IF($A272=D$1,$A273,\"\")","v":""},{"$f":"IF($A272=E$1,$A273,\"\")","v":""},{"$f":"IF($A272=F$1,$A273,\"\")","v":""},{"$f":"IF($A272=G$1,$A273,\"\")","v":""},{"$f":"IF($A272=H$1,$A273,\"\")","v":""},{"$f":"IF($A272=I$1,$A273,\"\")","v":""},{"$f":"IF($A272=J$1,$A273,\"\")","v":""},{"$f":"IF($A272=K$1,$A273,\"\")","v":""},{"$f":"IF($A272=L$1,$A273,\"\")","v":""}]
["Cyan",null,{"$f":"IF($A273=C$1,$A274,\"\")","v":""},{"$f":"IF($A273=D$1,$A274,\"\")","v":""},{"$f":"IF($A273=E$1,$A274,\"\")","v":""},{"$f":"IF($A273=F$1,$A274,\"\")","v":"White"},{"$f":"IF($A273=G$1,$A274,\"\")","v":""},{"$f":"IF($A273=H$1,$A274,\"\")","v":""},{"$f":"IF($A273=I$1,$A274,\"\")","v":""},{"$f":"IF($A273=J$1,$A274,\"\")","v":""},{"$f":"IF($A273=K$1,$A274,\"\")","v":""},{"$f":"IF($A273=L$1,$A274,\"\")","v":""}]
["White",null,{"$f":"IF($A274=C$1,$A275,\"\")","v":""},{"$f":"IF($A274=D$1,$A275,\"\")","v":""},{"$f":"IF($A274=E$1,$A275,\"\")","v":""},{"$f":"IF($A274=F$1,$A275,\"\")","v":""},{"$f":"IF($A274=G$1,$A275,\"\")","v":"Green"},{"$f":"IF($A274=H$1,$A275,\"\")","v":""},{"$f":"IF($A274=I$1,$A275,\"\")","v":""},{"$f":"IF($A274=J$1,$A275,\"\")","v":""},{"$f":"IF($A274=K$1,$A275,\"\")","v":""},{"$f":"IF($A274=L$1,$A275,\"\")","v":""}]
["Green",null,{"$f":"IF($A275=C$1,$A276,\"\")","v":""},{"$f":"IF($A275=D$1,$A276,\"\")","v":""},{"$f":"IF($A275=E$1,$A276,\"\")","v":""},{"$f":"IF($A275=F$1,$A276,\"\")","v":""},{"$f":"IF($A275=G$1,$A276,\"\")","v":""},{"$f":"IF($A275=H$1,$A276,\"\")","v":""},{"$f":"IF($A275=I$1,$A276,\"\")","v":""},{"$f":"IF($A275=J$1,$A276,\"\")","v":""},{"$f":"IF($A275=K$1,$A276,\"\")","v":""},{"$f":"IF($A275=L$1,$A276,\"\")","v":"Cyan"}]
["Cyan",null,{"$f":"IF($A276=C$1,$A277,\"\")","v":""},{"$f":"IF($A276=D$1,$A277,\"\")","v":""},{"$f":"IF($A276=E$1,$A277,\"\")","v":""},{"$f":"IF($A276=F$1,$A277,\"\")","v":"Blue"},{"$f":"IF($A276=G$1,$A277,\"\")","v":""},{"$f":"IF($A276=H$1,$A277,\"\")","v":""},{"$f":"IF($A276=I$1,$A277,\"\")","v":""},{"$f":"IF($A276=J$1,$A277,\"\")","v":""},{"$f":"IF($A276=K$1,$A277,\"\")","v":""},{"$f":"IF($A276=L$1,$A277,\"\")","v":""}]
["Blue",null,{"$f":"IF($A277=C$1,$A278,\"\")","v":""},{"$f":"IF($A277=D$1,$A278,\"\")","v":""},{"$f":"IF($A277=E$1,$A278,\"\")","v":"Pink"},{"$f":"IF($A277=F$1,$A278,\"\")","v":""},{"$f":"IF($A277=G$1,$A278,\"\")","v":""},{"$f":"IF($A277=H$1,$A278,\"\")","v":""},{"$f":"IF($A277=I$1,$A278,\"\")","v":""},{"$f":"IF($A277=J$1,$A278,\"\")","v":""},{"$f":"IF($A277=K$1,$A278,\"\")","v":""},{"$f":"IF($A277=L$1,$A278,\"\")","v":""}]
["Pink",null,{"$f":"IF($A278=C$1,$A279,\"\")","v":""},{"$f":"IF($A278=D$1,$A279,\"\")","v":""},{"$f":"IF($A278=E$1,$A279,\"\")","v":""},{"$f":"IF($A278=F$1,$A279,\"\")","v":""},{"$f":"IF($A278=G$1,$A279,\"\")","v":""},{"$f":"IF($A278=H$1,$A279,\"\")","v":""},{"$f":"IF($A278=I$1,$A279,\"\")","v":""},{"$f":"IF($A278=J$1,$A279,\"\")","v":"Blue"},{"$f":"IF($A278=K$1,$A279,\"\")","v":""},{"$f":"IF($A278=L$1,$A279,\"\")","v":""}]
["Blue",null,{"$f":"IF($A279=C$1,$A280,\"\")","v":""},{"$f":"IF($A279=D$1,$A280,\"\")","v":""},{"$f":"IF($A279=E$1,$A280,\"\")","v":"White"},{"$f":"IF($A279=F$1,$A280,\"\")","v":""},{"$f":"IF($A279=G$1,$A280,\"\")","v":""},{"$f":"IF($A279=H$1,$A280,\"\")","v":""},{"$f":"IF($A279=I$1,$A280,\"\")","v":""},{"$f":"IF($A279=J$1,$A280,\"\")","v":""},{"$f":"IF($A279=K$1,$A280,\"\")","v":""},{"$f":"IF($A279=L$1,$A280,\"\")","v":""}]
["White",null,{"$f":"IF($A280=C$1,$A281,\"\")","v":""},{"$f":"IF($A280=D$1,$A281,\"\")","v":""},{"$f":"IF($A280=E$1,$A281,\"\")","v":""},{"$f":"IF($A280=F$1,$A281,\"\")","v":""},{"$f":"IF($A280=G$1,$A281,\"\")","v":"Green"},{"$f":"IF($A280=H$1,$A281,\"\")","v":""},{"$f":"IF($A280=I$1,$A281,\"\")","v":""},{"$f":"IF($A280=J$1,$A281,\"\")","v":""},{"$f":"IF($A280=K$1,$A281,\"\")","v":""},{"$f":"IF($A280=L$1,$A281,\"\")","v":""}]
["Green",null,{"$f":"IF($A281=C$1,$A282,\"\")","v":""},{"$f":"IF($A281=D$1,$A282,\"\")","v":""},{"$f":"IF($A281=E$1,$A282,\"\")","v":""},{"$f":"IF($A281=F$1,$A282,\"\")","v":""},{"$f":"IF($A281=G$1,$A282,\"\")","v":""},{"$f":"IF($A281=H$1,$A282,\"\")","v":""},{"$f":"IF($A281=I$1,$A282,\"\")","v":""},{"$f":"IF($A281=J$1,$A282,\"\")","v":""},{"$f":"IF($A281=K$1,$A282,\"\")","v":""},{"$f":"IF($A281=L$1,$A282,\"\")","v":"Orange"}]
["Orange",null,{"$f":"IF($A282=C$1,$A283,\"\")","v":""},{"$f":"IF($A282=D$1,$A283,\"\")","v":"Blue"},{"$f":"IF($A282=E$1,$A283,\"\")","v":""},{"$f":"IF($A282=F$1,$A283,\"\")","v":""},{"$f":"IF($A282=G$1,$A283,\"\")","v":""},{"$f":"IF($A282=H$1,$A283,\"\")","v":""},{"$f":"IF($A282=I$1,$A283,\"\")","v":""},{"$f":"IF($A282=J$1,$A283,\"\")","v":""},{"$f":"IF($A282=K$1,$A283,\"\")","v":""},{"$f":"IF($A282=L$1,$A283,\"\")","v":""}]
["Blue",null,{"$f":"IF($A283=C$1,$A284,\"\")","v":""},{"$f":"IF($A283=D$1,$A284,\"\")","v":""},{"$f":"IF($A283=E$1,$A284,\"\")","v":"Black"},{"$f":"IF($A283=F$1,$A284,\"\")","v":""},{"$f":"IF($A283=G$1,$A284,\"\")","v":""},{"$f":"IF($A283=H$1,$A284,\"\")","v":""},{"$f":"IF($A283=I$1,$A284,\"\")","v":""},{"$f":"IF($A283=J$1,$A284,\"\")","v":""},{"$f":"IF($A283=K$1,$A284,\"\")","v":""},{"$f":"IF($A283=L$1,$A284,\"\")","v":""}]
["Black",null,{"$f":"IF($A284=C$1,$A285,\"\")","v":""},{"$f":"IF($A284=D$1,$A285,\"\")","v":""},{"$f":"IF($A284=E$1,$A285,\"\")","v":""},{"$f":"IF($A284=F$1,$A285,\"\")","v":""},{"$f":"IF($A284=G$1,$A285,\"\")","v":""},{"$f":"IF($A284=H$1,$A285,\"\")","v":""},{"$f":"IF($A284=I$1,$A285,\"\")","v":"White"},{"$f":"IF($A284=J$1,$A285,\"\")","v":""},{"$f":"IF($A284=K$1,$A285,\"\")","v":""},{"$f":"IF($A284=L$1,$A285,\"\")","v":""}]
["White",null,{"$f":"IF($A285=C$1,$A286,\"\")","v":""},{"$f":"IF($A285=D$1,$A286,\"\")","v":""},{"$f":"IF($A285=E$1,$A286,\"\")","v":""},{"$f":"IF($A285=F$1,$A286,\"\")","v":""},{"$f":"IF($A285=G$1,$A286,\"\")","v":"Cyan"},{"$f":"IF($A285=H$1,$A286,\"\")","v":""},{"$f":"IF($A285=I$1,$A286,\"\")","v":""},{"$f":"IF($A285=J$1,$A286,\"\")","v":""},{"$f":"IF($A285=K$1,$A286,\"\")","v":""},{"$f":"IF($A285=L$1,$A286,\"\")","v":""}]
["Cyan",null,{"$f":"IF($A286=C$1,$A287,\"\")","v":""},{"$f":"IF($A286=D$1,$A287,\"\")","v":""},{"$f":"IF($A286=E$1,$A287,\"\")","v":""},{"$f":"IF($A286=F$1,$A287,\"\")","v":"Green"},{"$f":"IF($A286=G$1,$A287,\"\")","v":""},{"$f":"IF($A286=H$1,$A287,\"\")","v":""},{"$f":"IF($A286=I$1,$A287,\"\")","v":""},{"$f":"IF($A286=J$1,$A287,\"\")","v":""},{"$f":"IF($A286=K$1,$A287,\"\")","v":""},{"$f":"IF($A286=L$1,$A287,\"\")","v":""}]
["Green",null,{"$f":"IF($A287=C$1,$A288,\"\")","v":""},{"$f":"IF($A287=D$1,$A288,\"\")","v":""},{"$f":"IF($A287=E$1,$A288,\"\")","v":""},{"$f":"IF($A287=F$1,$A288,\"\")","v":""},{"$f":"IF($A287=G$1,$A288,\"\")","v":""},{"$f":"IF($A287=H$1,$A288,\"\")","v":""},{"$f":"IF($A287=I$1,$A288,\"\")","v":""},{"$f":"IF($A287=J$1,$A288,\"\")","v":""},{"$f":"IF($A287=K$1,$A288,\"\")","v":""},{"$f":"IF($A287=L$1,$A288,\"\")","v":"Cyan"}]
["Cyan",null,{"$f":"IF($A288=C$1,$A289,\"\")","v":""},{"$f":"IF($A288=D$1,$A289,\"\")","v":""},{"$f":"IF($A288=E$1,$A289,\"\")","v":""},{"$f":"IF($A288=F$1,$A289,\"\")","v":"Purple"},{"$f":"IF($A288=G$1,$A289,\"\")","v":""},{"$f":"IF($A288=H$1,$A289,\"\")","v":""},{"$f":"IF($A288=I$1,$A289,\"\")","v":""},{"$f":"IF($A288=J$1,$A289,\"\")","v":""},{"$f":"IF($A288=K$1,$A289,\"\")","v":""},{"$f":"IF($A288=L$1,$A289,\"\")","v":""}]
["Purple",null,{"$f":"IF($A289=C$1,$A290,\"\")","v":""},{"$f":"IF($A289=D$1,$A290,\"\")","v":""},{"$f":"IF($A289=E$1,$A290,\"\")","v":""},{"$f":"IF($A289=F$1,$A290,\"\")","v":""},{"$f":"IF($A289=G$1,$A290,\"\")","v":""},{"$f":"IF($A289=H$1,$A290,\"\")","v":""},{"$f":"IF($A289=I$1,$A290,\"\")","v":""},{"$f":"IF($A289=J$1,$A290,\"\")","v":""},{"$f":"IF($A289=K$1,$A290,\"\")","v":"Pink"},{"$f":"IF($A289=L$1,$A290,\"\")","v":""}]
["Pink",null,{"$f":"IF($A290=C$1,$A291,\"\")","v":""},{"$f":"IF($A290=D$1,$A291,\"\")","v":""},{"$f":"IF($A290=E$1,$A291,\"\")","v":""},{"$f":"IF($A290=F$1,$A291,\"\")","v":""},{"$f":"IF($A290=G$1,$A291,\"\")","v":""},{"$f":"IF($A290=H$1,$A291,\"\")","v":""},{"$f":"IF($A290=I$1,$A291,\"\")","v":""},{"$f":"IF($A290=J$1,$A291,\"\")","v":"White"},{"$f":"IF($A290=K$1,$A291,\"\")","v":""},{"$f":"IF($A290=L$1,$A291,\"\")","v":""}]
["White",null,{"$f":"IF($A291=C$1,$A292,\"\")","v":""},{"$f":"IF($A291=D$1,$A292,\"\")","v":""},{"$f":"IF($A291=E$1,$A292,\"\")","v":""},{"$f":"IF($A291=F$1,$A292,\"\")","v":""},{"$f":"IF($A291=G$1,$A292,\"\")","v":"Orange"},{"$f":"IF($A291=H$1,$A292,\"\")","v":""},{"$f":"IF($A291=I$1,$A292,\"\")","v":""},{"$f":"IF($A291=J$1,$A292,\"\")","v":""},{"$f":"IF($A291=K$1,$A292,\"\")","v":""},{"$f":"IF($A291=L$1,$A292,\"\")","v":""}]
["Orange",null,{"$f":"IF($A292=C$1,$A293,\"\")","v":""},{"$f":"IF($A292=D$1,$A293,\"\")","v":"Black"},{"$f":"IF($A292=E$1,$A293,\"\")","v":""},{"$f":"IF($A292=F$1,$A293,\"\")","v":""},{"$f":"IF($A292=G$1,$A293,\"\")","v":""},{"$f":"IF($A292=H$1,$A293,\"\")","v":""},{"$f":"IF($A292=I$1,$A293,\"\")","v":""},{"$f":"IF($A292=J$1,$A293,\"\")","v":""},{"$f":"IF($A292=K$1,$A293,\"\")","v":""},{"$f":"IF($A292=L$1,$A293,\"\")","v":""}]
["Black",null,{"$f":"IF($A293=C$1,$A294,\"\")","v":""},{"$f":"IF($A293=D$1,$A294,\"\")","v":""},{"$f":"IF($A293=E$1,$A294,\"\")","v":""},{"$f":"IF($A293=F$1,$A294,\"\")","v":""},{"$f":"IF($A293=G$1,$A294,\"\")","v":""},{"$f":"IF($A293=H$1,$A294,\"\")","v":""},{"$f":"IF($A293=I$1,$A294,\"\")","v":"Green"},{"$f":"IF($A293=J$1,$A294,\"\")","v":""},{"$f":"IF($A293=K$1,$A294,\"\")","v":""},{"$f":"IF($A293=L$1,$A294,\"\")","v":""}]
["Green",null,{"$f":"IF($A294=C$1,$A295,\"\")","v":""},{"$f":"IF($A294=D$1,$A295,\"\")","v":""},{"$f":"IF($A294=E$1,$A295,\"\")","v":""},{"$f":"IF($A294=F$1,$A295,\"\")","v":""},{"$f":"IF($A294=G$1,$A295,\"\")","v":""},{"$f":"IF($A294=H$1,$A295,\"\")","v":""},{"$f":"IF($A294=I$1,$A295,\"\")","v":""},{"$f":"IF($A294=J$1,$A295,\"\")","v":""},{"$f":"IF($A294=K$1,$A295,\"\")","v":""},{"$f":"IF($A294=L$1,$A295,\"\")","v":"Pink"}]
["Pink",null,{"$f":"IF($A295=C$1,$A296,\"\")","v":""},{"$f":"IF($A295=D$1,$A296,\"\")","v":""},{"$f":"IF($A295=E$1,$A296,\"\")","v":""},{"$f":"IF($A295=F$1,$A296,\"\")","v":""},{"$f":"IF($A295=G$1,$A296,\"\")","v":""},{"$f":"IF($A295=H$1,$A296,\"\")","v":""},{"$f":"IF($A295=I$1,$A296,\"\")","v":""},{"$f":"IF($A295=J$1,$A296,\"\")","v":"Black"},{"$f":"IF($A295=K$1,$A296,\"\")","v":""},{"$f":"IF($A295=L$1,$A296,\"\")","v":""}]
["Black",null,{"$f":"IF($A296=C$1,$A297,\"\")","v":""},{"$f":"IF($A296=D$1,$A297,\"\")","v":""},{"$f":"IF($A296=E$1,$A297,\"\")","v":""},{"$f":"IF($A296=F$1,$A297,\"\")","v":""},{"$f":"IF($A296=G$1,$A297,\"\")","v":""},{"$f":"IF($A296=H$1,$A297,\"\")","v":""},{"$f":"IF($A296=I$1,$A297,\"\")","v":"Blue"},{"$f":"IF($A296=J$1,$A297,\"\")","v":""},{"$f":"IF($A296=K$1,$A297,\"\")","v":""},{"$f":"IF($A296=L$1,$A297,\"\")","v":""}]
["Blue",null,{"$f":"IF($A297=C$1,$A298,\"\")","v":""},{"$f":"IF($A297=D$1,$A298,\"\")","v":""},{"$f":"IF($A297=E$1,$A298,\"\")","v":"Green"},{"$f":"IF($A297=F$1,$A298,\"\")","v":""},{"$f":"IF($A297=G$1,$A298,\"\")","v":""},{"$f":"IF($A297=H$1,$A298,\"\")","v":""},{"$f":"IF($A297=I$1,$A298,\"\")","v":""},{"$f":"IF($A297=J$1,$A298,\"\")","v":""},{"$f":"IF($A297=K$1,$A298,\"\")","v":""},{"$f":"IF($A297=L$1,$A298,\"\")","v":""}]
["Green",null,{"$f":"IF($A298=C$1,$A299,\"\")","v":""},{"$f":"IF($A298=D$1,$A299,\"\")","v":""},{"$f":"IF($A298=E$1,$A299,\"\")","v":""},{"$f":"IF($A298=F$1,$A299,\"\")","v":""},{"$f":"IF($A298=G$1,$A299,\"\")","v":""},{"$f":"IF($A298=H$1,$A299,\"\")","v":""},{"$f":"IF($A298=I$1,$A299,\"\")","v":""},{"$f":"IF($A298=J$1,$A299,\"\")","v":""},{"$f":"IF($A298=K$1,$A299,\"\")","v":""},{"$f":"IF($A298=L$1,$A299,\"\")","v":"Red"}]
["Red",null,{"$f":"IF($A299=C$1,$A300,\"\")","v":""},{"$f":"IF($A299=D$1,$A300,\"\")","v":""},{"$f":"IF($A299=E$1,$A300,\"\")","v":""},{"$f":"IF($A299=F$1,$A300,\"\")","v":""},{"$f":"IF($A299=G$1,$A300,\"\")","v":""},{"$f":"IF($A299=H$1,$A300,\"\")","v":"Cyan"},{"$f":"IF($A299=I$1,$A300,\"\")","v":""},{"$f":"IF($A299=J$1,$A300,\"\")","v":""},{"$f":"IF($A299=K$1,$A300,\"\")","v":""},{"$f":"IF($A299=L$1,$A300,\"\")","v":""}]
["Cyan",null,{"$f":"IF($A300=C$1,$A301,\"\")","v":""},{"$f":"IF($A300=D$1,$A301,\"\")","v":""},{"$f":"IF($A300=E$1,$A301,\"\")","v":""},{"$f":"IF($A300=F$1,$A301,\"\")","v":"Green"},{"$f":"IF($A300=G$1,$A301,\"\")","v":""},{"$f":"IF($A300=H$1,$A301,\"\")","v":""},{"$f":"IF($A300=I$1,$A301,\"\")","v":""},{"$f":"IF($A300=J$1,$A301,\"\")","v":""},{"$f":"IF($A300=K$1,$A301,\"\")","v":""},{"$f":"IF($A300=L$1,$A301,\"\")","v":""}]
["Green",null,{"$f":"IF($A301=C$1,$A302,\"\")","v":""},{"$f":"IF($A301=D$1,$A302,\"\")","v":""},{"$f":"IF($A301=E$1,$A302,\"\")","v":""},{"$f":"IF($A301=F$1,$A302,\"\")","v":""},{"$f":"IF($A301=G$1,$A302,\"\")","v":""},{"$f":"IF($A301=H$1,$A302,\"\")","v":""},{"$f":"IF($A301=I$1,$A302,\"\")","v":""},{"$f":"IF($A301=J$1,$A302,\"\")","v":""},{"$f":"IF($A301=K$1,$A302,\"\")","v":""},{"$f":"IF($A301=L$1,$A302,\"\")","v":"Pink"}]
["Pink",null,{"$f":"IF($A302=C$1,$A303,\"\")","v":""},{"$f":"IF($A302=D$1,$A303,\"\")","v":""},{"$f":"IF($A302=E$1,$A303,\"\")","v":""},{"$f":"IF($A302=F$1,$A303,\"\")","v":""},{"$f":"IF($A302=G$1,$A303,\"\")","v":""},{"$f":"IF($A302=H$1,$A303,\"\")","v":""},{"$f":"IF($A302=I$1,$A303,\"\")","v":""},{"$f":"IF($A302=J$1,$A303,\"\")","v":"Red"},{"$f":"IF($A302=K$1,$A303,\"\")","v":""},{"$f":"IF($A302=L$1,$A303,\"\")","v":""}]
["Red",null,{"$f":"IF($A303=C$1,$A304,\"\")","v":""},{"$f":"IF($A303=D$1,$A304,\"\")","v":""},{"$f":"IF($A303=E$1,$A304,\"\")","v":""},{"$f":"IF($A303=F$1,$A304,\"\")","v":""},{"$f":"IF($A303=G$1,$A304,\"\")","v":""},{"$f":"IF($A303=H$1,$A304,\"\")","v":"Cyan"},{"$f":"IF($A303=I$1,$A304,\"\")","v":""},{"$f":"IF($A303=J$1,$A304,\"\")","v":""},{"$f":"IF($A303=K$1,$A304,\"\")","v":""},{"$f":"IF($A303=L$1,$A304,\"\")","v":""}]
["Cyan",null,{"$f":"IF($A304=C$1,$A305,\"\")","v":""},{"$f":"IF($A304=D$1,$A305,\"\")","v":""},{"$f":"IF($A304=E$1,$A305,\"\")","v":""},{"$f":"IF($A304=F$1,$A305,\"\")","v":"Yellow"},{"$f":"IF($A304=G$1,$A305,\"\")","v":""},{"$f":"IF($A304=H$1,$A305,\"\")","v":""},{"$f":"IF($A304=I$1,$A305,\"\")","v":""},{"$f":"IF($A304=J$1,$A305,\"\")","v":""},{"$f":"IF($A304=K$1,$A305,\"\")","v":""},{"$f":"IF($A304=L$1,$A305,\"\")","v":""}]
["Yellow",null,{"$f":"IF($A305=C$1,$A306,\"\")","v":"Pink"},{"$f":"IF($A305=D$1,$A306,\"\")","v":""},{"$f":"IF($A305=E$1,$A306,\"\")","v":""},{"$f":"IF($A305=F$1,$A306,\"\")","v":""},{"$f":"IF($A305=G$1,$A306,\"\")","v":""},{"$f":"IF($A305=H$1,$A306,\"\")","v":""},{"$f":"IF($A305=I$1,$A306,\"\")","v":""},{"$f":"IF($A305=J$1,$A306,\"\")","v":""},{"$f":"IF($A305=K$1,$A306,\"\")","v":""},{"$f":"IF($A305=L$1,$A306,\"\")","v":""}]
["Pink",null,{"$f":"IF($A306=C$1,$A307,\"\")","v":""},{"$f":"IF($A306=D$1,$A307,\"\")","v":""},{"$f":"IF($A306=E$1,$A307,\"\")","v":""},{"$f":"IF($A306=F$1,$A307,\"\")","v":""},{"$f":"IF($A306=G$1,$A307,\"\")","v":""},{"$f":"IF($A306=H$1,$A307,\"\")","v":""},{"$f":"IF($A306=I$1,$A307,\"\")","v":""},{"$f":"IF($A306=J$1,$A307,\"\")","v":"Yellow"},{"$f":"IF($A306=K$1,$A307,\"\")","v":""},{"$f":"IF($A306=L$1,$A307,\"\")","v":""}]
["Yellow",null,{"$f":"IF($A307=C$1,$A308,\"\")","v":"Orange"},{"$f":"IF($A307=D$1,$A308,\"\")","v":""},{"$f":"IF($A307=E$1,$A308,\"\")","v":""},{"$f":"IF($A307=F$1,$A308,\"\")","v":""},{"$f":"IF($A307=G$1,$A308,\"\")","v":""},{"$f":"IF($A307=H$1,$A308,\"\")","v":""},{"$f":"IF($A307=I$1,$A308,\"\")","v":""},{"$f":"IF($A307=J$1,$A308,\"\")","v":""},{"$f":"IF($A307=K$1,$A308,\"\")","v":""},{"$f":"IF($A307=L$1,$A308,\"\")","v":""}]
["Orange",null,{"$f":"IF($A308=C$1,$A309,\"\")","v":""},{"$f":"IF($A308=D$1,$A309,\"\")","v":"Purple"},{"$f":"IF($A308=E$1,$A309,\"\")","v":""},{"$f":"IF($A308=F$1,$A309,\"\")","v":""},{"$f":"IF($A308=G$1,$A309,\"\")","v":""},{"$f":"IF($A308=H$1,$A309,\"\")","v":""},{"$f":"IF($A308=I$1,$A309,\"\")","v":""},{"$f":"IF($A308=J$1,$A309,\"\")","v":""},{"$f":"IF($A308=K$1,$A309,\"\")","v":""},{"$f":"IF($A308=L$1,$A309,\"\")","v":""}]
["Purple",null,{"$f":"IF($A309=C$1,$A310,\"\")","v":""},{"$f":"IF($A309=D$1,$A310,\"\")","v":""},{"$f":"IF($A309=E$1,$A310,\"\")","v":""},{"$f":"IF($A309=F$1,$A310,\"\")","v":""},{"$f":"IF($A309=G$1,$A310,\"\")","v":""},{"$f":"IF($A309=H$1,$A310,\"\")","v":""},{"$f":"IF($A309=I$1,$A310,\"\")","v":""},{"$f":"IF($A309=J$1,$A310,\"\")","v":""},{"$f":"IF($A309=K$1,$A310,\"\")","v":"Red"},{"$f":"IF($A309=L$1,$A310,\"\")","v":""}]
["Red",null,{"$f":"IF($A310=C$1,$A311,\"\")","v":""},{"$f":"IF($A310=D$1,$A311,\"\")","v":""},{"$f":"IF($A310=E$1,$A311,\"\")","v":""},{"$f":"IF($A310=F$1,$A311,\"\")","v":""},{"$f":"IF($A310=G$1,$A311,\"\")","v":""},{"$f":"IF($A310=H$1,$A311,\"\")","v":"Red"},{"$f":"IF($A310=I$1,$A311,\"\")","v":""},{"$f":"IF($A310=J$1,$A311,\"\")","v":""},{"$f":"IF($A310=K$1,$A311,\"\")","v":""},{"$f":"IF($A310=L$1,$A311,\"\")","v":""}]
["Red",null,{"$f":"IF($A311=C$1,$A312,\"\")","v":""},{"$f":"IF($A311=D$1,$A312,\"\")","v":""},{"$f":"IF($A311=E$1,$A312,\"\")","v":""},{"$f":"IF($A311=F$1,$A312,\"\")","v":""},{"$f":"IF($A311=G$1,$A312,\"\")","v":""},{"$f":"IF($A311=H$1,$A312,\"\")","v":"Blue"},{"$f":"IF($A311=I$1,$A312,\"\")","v":""},{"$f":"IF($A311=J$1,$A312,\"\")","v":""},{"$f":"IF($A311=K$1,$A312,\"\")","v":""},{"$f":"IF($A311=L$1,$A312,\"\")","v":""}]
["Blue",null,{"$f":"IF($A312=C$1,$A313,\"\")","v":""},{"$f":"IF($A312=D$1,$A313,\"\")","v":""},{"$f":"IF($A312=E$1,$A313,\"\")","v":"Purple"},{"$f":"IF($A312=F$1,$A313,\"\")","v":""},{"$f":"IF($A312=G$1,$A313,\"\")","v":""},{"$f":"IF($A312=H$1,$A313,\"\")","v":""},{"$f":"IF($A312=I$1,$A313,\"\")","v":""},{"$f":"IF($A312=J$1,$A313,\"\")","v":""},{"$f":"IF($A312=K$1,$A313,\"\")","v":""},{"$f":"IF($A312=L$1,$A313,\"\")","v":""}]
["Purple",null,{"$f":"IF($A313=C$1,$A314,\"\")","v":""},{"$f":"IF($A313=D$1,$A314,\"\")","v":""},{"$f":"IF($A313=E$1,$A314,\"\")","v":""},{"$f":"IF($A313=F$1,$A314,\"\")","v":""},{"$f":"IF($A313=G$1,$A314,\"\")","v":""},{"$f":"IF($A313=H$1,$A314,\"\")","v":""},{"$f":"IF($A313=I$1,$A314,\"\")","v":""},{"$f":"IF($A313=J$1,$A314,\"\")","v":""},{"$f":"IF($A313=K$1,$A314,\"\")","v":"Cyan"},{"$f":"IF($A313=L$1,$A314,\"\")","v":""}]
["Cyan",null,{"$f":"IF($A314=C$1,$A315,\"\")","v":""},{"$f":"IF($A314=D$1,$A315,\"\")","v":""},{"$f":"IF($A314=E$1,$A315,\"\")","v":""},{"$f":"IF($A314=F$1,$A315,\"\")","v":"Cyan"},{"$f":"IF($A314=G$1,$A315,\"\")","v":""},{"$f":"IF($A314=H$1,$A315,\"\")","v":""},{"$f":"IF($A314=I$1,$A315,\"\")","v":""},{"$f":"IF($A314=J$1,$A315,\"\")","v":""},{"$f":"IF($A314=K$1,$A315,\"\")","v":""},{"$f":"IF($A314=L$1,$A315,\"\")","v":""}]
["Cyan",null,{"$f":"IF($A315=C$1,$A316,\"\")","v":""},{"$f":"IF($A315=D$1,$A316,\"\")","v":""},{"$f":"IF($A315=E$1,$A316,\"\")","v":""},{"$f":"IF($A315=F$1,$A316,\"\")","v":"Purple"},{"$f":"IF($A315=G$1,$A316,\"\")","v":""},{"$f":"IF($A315=H$1,$A316,\"\")","v":""},{"$f":"IF($A315=I$1,$A316,\"\")","v":""},{"$f":"IF($A315=J$1,$A316,\"\")","v":""},{"$f":"IF($A315=K$1,$A316,\"\")","v":""},{"$f":"IF($A315=L$1,$A316,\"\")","v":""}]
["Purple",null,{"$f":"IF($A316=C$1,$A317,\"\")","v":""},{"$f":"IF($A316=D$1,$A317,\"\")","v":""},{"$f":"IF($A316=E$1,$A317,\"\")","v":""},{"$f":"IF($A316=F$1,$A317,\"\")","v":""},{"$f":"IF($A316=G$1,$A317,\"\")","v":""},{"$f":"IF($A316=H$1,$A317,\"\")","v":""},{"$f":"IF($A316=I$1,$A317,\"\")","v":""},{"$f":"IF($A316=J$1,$A317,\"\")","v":""},{"$f":"IF($A316=K$1,$A317,\"\")","v":"Blue"},{"$f":"IF($A316=L$1,$A317,\"\")","v":""}]
["Blue",null,{"$f":"IF($A317=C$1,$A318,\"\")","v":""},{"$f":"IF($A317=D$1,$A318,\"\")","v":""},{"$f":"IF($A317=E$1,$A318,\"\")","v":"Black"},{"$f":"IF($A317=F$1,$A318,\"\")","v":""},{"$f":"IF($A317=G$1,$A318,\"\")","v":""},{"$f":"IF($A317=H$1,$A318,\"\")","v":""},{"$f":"IF($A317=I$1,$A318,\"\")","v":""},{"$f":"IF($A317=J$1,$A318,\"\")","v":""},{"$f":"IF($A317=K$1,$A318,\"\")","v":""},{"$f":"IF($A317=L$1,$A318,\"\")","v":""}]
["Black",null,{"$f":"IF($A318=C$1,$A319,\"\")","v":""},{"$f":"IF($A318=D$1,$A319,\"\")","v":""},{"$f":"IF($A318=E$1,$A319,\"\")","v":""},{"$f":"IF($A318=F$1,$A319,\"\")","v":""},{"$f":"IF($A318=G$1,$A319,\"\")","v":""},{"$f":"IF($A318=H$1,$A319,\"\")","v":""},{"$f":"IF($A318=I$1,$A319,\"\")","v":"Green"},{"$f":"IF($A318=J$1,$A319,\"\")","v":""},{"$f":"IF($A318=K$1,$A319,\"\")","v":""},{"$f":"IF($A318=L$1,$A319,\"\")","v":""}]
["Green",null,{"$f":"IF($A319=C$1,$A320,\"\")","v":""},{"$f":"IF($A319=D$1,$A320,\"\")","v":""},{"$f":"IF($A319=E$1,$A320,\"\")","v":""},{"$f":"IF($A319=F$1,$A320,\"\")","v":""},{"$f":"IF($A319=G$1,$A320,\"\")","v":""},{"$f":"IF($A319=H$1,$A320,\"\")","v":""},{"$f":"IF($A319=I$1,$A320,\"\")","v":""},{"$f":"IF($A319=J$1,$A320,\"\")","v":""},{"$f":"IF($A319=K$1,$A320,\"\")","v":""},{"$f":"IF($A319=L$1,$A320,\"\")","v":"Black"}]
["Black",null,{"$f":"IF($A320=C$1,$A321,\"\")","v":""},{"$f":"IF($A320=D$1,$A321,\"\")","v":""},{"$f":"IF($A320=E$1,$A321,\"\")","v":""},{"$f":"IF($A320=F$1,$A321,\"\")","v":""},{"$f":"IF($A320=G$1,$A321,\"\")","v":""},{"$f":"IF($A320=H$1,$A321,\"\")","v":""},{"$f":"IF($A320=I$1,$A321,\"\")","v":"red"},{"$f":"IF($A320=J$1,$A321,\"\")","v":""},{"$f":"IF($A320=K$1,$A321,\"\")","v":""},{"$f":"IF($A320=L$1,$A321,\"\")","v":""}]
["red",null,{"$f":"IF($A321=C$1,$A322,\"\")","v":""},{"$f":"IF($A321=D$1,$A322,\"\")","v":""},{"$f":"IF($A321=E$1,$A322,\"\")","v":""},{"$f":"IF($A321=F$1,$A322,\"\")","v":""},{"$f":"IF($A321=G$1,$A322,\"\")","v":""},{"$f":"IF($A321=H$1,$A322,\"\")","v":"Black"},{"$f":"IF($A321=I$1,$A322,\"\")","v":""},{"$f":"IF($A321=J$1,$A322,\"\")","v":""},{"$f":"IF($A321=K$1,$A322,\"\")","v":""},{"$f":"IF($A321=L$1,$A322,\"\")","v":""}]
["Black",null,{"$f":"IF($A322=C$1,$A323,\"\")","v":""},{"$f":"IF($A322=D$1,$A323,\"\")","v":""},{"$f":"IF($A322=E$1,$A323,\"\")","v":""},{"$f":"IF($A322=F$1,$A323,\"\")","v":""},{"$f":"IF($A322=G$1,$A323,\"\")","v":""},{"$f":"IF($A322=H$1,$A323,\"\")","v":""},{"$f":"IF($A322=I$1,$A323,\"\")","v":"Green"},{"$f":"IF($A322=J$1,$A323,\"\")","v":""},{"$f":"IF($A322=K$1,$A323,\"\")","v":""},{"$f":"IF($A322=L$1,$A323,\"\")","v":""}]
["Green",null,{"$f":"IF($A323=C$1,$A324,\"\")","v":""},{"$f":"IF($A323=D$1,$A324,\"\")","v":""},{"$f":"IF($A323=E$1,$A324,\"\")","v":""},{"$f":"IF($A323=F$1,$A324,\"\")","v":""},{"$f":"IF($A323=G$1,$A324,\"\")","v":""},{"$f":"IF($A323=H$1,$A324,\"\")","v":""},{"$f":"IF($A323=I$1,$A324,\"\")","v":""},{"$f":"IF($A323=J$1,$A324,\"\")","v":""},{"$f":"IF($A323=K$1,$A324,\"\")","v":""},{"$f":"IF($A323=L$1,$A324,\"\")","v":"Cyan"}]
["Cyan",null,{"$f":"IF($A324=C$1,$A325,\"\")","v":""},{"$f":"IF($A324=D$1,$A325,\"\")","v":""},{"$f":"IF($A324=E$1,$A325,\"\")","v":""},{"$f":"IF($A324=F$1,$A325,\"\")","v":"Pink"},{"$f":"IF($A324=G$1,$A325,\"\")","v":""},{"$f":"IF($A324=H$1,$A325,\"\")","v":""},{"$f":"IF($A324=I$1,$A325,\"\")","v":""},{"$f":"IF($A324=J$1,$A325,\"\")","v":""},{"$f":"IF($A324=K$1,$A325,\"\")","v":""},{"$f":"IF($A324=L$1,$A325,\"\")","v":""}]
["Pink",null,{"$f":"IF($A325=C$1,$A326,\"\")","v":""},{"$f":"IF($A325=D$1,$A326,\"\")","v":""},{"$f":"IF($A325=E$1,$A326,\"\")","v":""},{"$f":"IF($A325=F$1,$A326,\"\")","v":""},{"$f":"IF($A325=G$1,$A326,\"\")","v":""},{"$f":"IF($A325=H$1,$A326,\"\")","v":""},{"$f":"IF($A325=I$1,$A326,\"\")","v":""},{"$f":"IF($A325=J$1,$A326,\"\")","v":"Purple"},{"$f":"IF($A325=K$1,$A326,\"\")","v":""},{"$f":"IF($A325=L$1,$A326,\"\")","v":""}]
["Purple",null,{"$f":"IF($A326=C$1,$A327,\"\")","v":""},{"$f":"IF($A326=D$1,$A327,\"\")","v":""},{"$f":"IF($A326=E$1,$A327,\"\")","v":""},{"$f":"IF($A326=F$1,$A327,\"\")","v":""},{"$f":"IF($A326=G$1,$A327,\"\")","v":""},{"$f":"IF($A326=H$1,$A327,\"\")","v":""},{"$f":"IF($A326=I$1,$A327,\"\")","v":""},{"$f":"IF($A326=J$1,$A327,\"\")","v":""},{"$f":"IF($A326=K$1,$A327,\"\")","v":"Yellow"},{"$f":"IF($A326=L$1,$A327,\"\")","v":""}]
["Yellow",null,{"$f":"IF($A327=C$1,$A328,\"\")","v":"Red"},{"$f":"IF($A327=D$1,$A328,\"\")","v":""},{"$f":"IF($A327=E$1,$A328,\"\")","v":""},{"$f":"IF($A327=F$1,$A328,\"\")","v":""},{"$f":"IF($A327=G$1,$A328,\"\")","v":""},{"$f":"IF($A327=H$1,$A328,\"\")","v":""},{"$f":"IF($A327=I$1,$A328,\"\")","v":""},{"$f":"IF($A327=J$1,$A328,\"\")","v":""},{"$f":"IF($A327=K$1,$A328,\"\")","v":""},{"$f":"IF($A327=L$1,$A328,\"\")","v":""}]
["Red",null,{"$f":"IF($A328=C$1,$A329,\"\")","v":""},{"$f":"IF($A328=D$1,$A329,\"\")","v":""},{"$f":"IF($A328=E$1,$A329,\"\")","v":""},{"$f":"IF($A328=F$1,$A329,\"\")","v":""},{"$f":"IF($A328=G$1,$A329,\"\")","v":""},{"$f":"IF($A328=H$1,$A329,\"\")","v":"Green"},{"$f":"IF($A328=I$1,$A329,\"\")","v":""},{"$f":"IF($A328=J$1,$A329,\"\")","v":""},{"$f":"IF($A328=K$1,$A329,\"\")","v":""},{"$f":"IF($A328=L$1,$A329,\"\")","v":""}]
["Green",null,{"$f":"IF($A329=C$1,$A330,\"\")","v":""},{"$f":"IF($A329=D$1,$A330,\"\")","v":""},{"$f":"IF($A329=E$1,$A330,\"\")","v":""},{"$f":"IF($A329=F$1,$A330,\"\")","v":""},{"$f":"IF($A329=G$1,$A330,\"\")","v":""},{"$f":"IF($A329=H$1,$A330,\"\")","v":""},{"$f":"IF($A329=I$1,$A330,\"\")","v":""},{"$f":"IF($A329=J$1,$A330,\"\")","v":""},{"$f":"IF($A329=K$1,$A330,\"\")","v":""},{"$f":"IF($A329=L$1,$A330,\"\")","v":"Yellow"}]
["Yellow",null,{"$f":"IF($A330=C$1,$A331,\"\")","v":"Pink"},{"$f":"IF($A330=D$1,$A331,\"\")","v":""},{"$f":"IF($A330=E$1,$A331,\"\")","v":""},{"$f":"IF($A330=F$1,$A331,\"\")","v":""},{"$f":"IF($A330=G$1,$A331,\"\")","v":""},{"$f":"IF($A330=H$1,$A331,\"\")","v":""},{"$f":"IF($A330=I$1,$A331,\"\")","v":""},{"$f":"IF($A330=J$1,$A331,\"\")","v":""},{"$f":"IF($A330=K$1,$A331,\"\")","v":""},{"$f":"IF($A330=L$1,$A331,\"\")","v":""}]
["Pink",null,{"$f":"IF($A331=C$1,$A332,\"\")","v":""},{"$f":"IF($A331=D$1,$A332,\"\")","v":""},{"$f":"IF($A331=E$1,$A332,\"\")","v":""},{"$f":"IF($A331=F$1,$A332,\"\")","v":""},{"$f":"IF($A331=G$1,$A332,\"\")","v":""},{"$f":"IF($A331=H$1,$A332,\"\")","v":""},{"$f":"IF($A331=I$1,$A332,\"\")","v":""},{"$f":"IF($A331=J$1,$A332,\"\")","v":"White"},{"$f":"IF($A331=K$1,$A332,\"\")","v":""},{"$f":"IF($A331=L$1,$A332,\"\")","v":""}]
["White",null,{"$f":"IF($A332=C$1,$A333,\"\")","v":""},{"$f":"IF($A332=D$1,$A333,\"\")","v":""},{"$f":"IF($A332=E$1,$A333,\"\")","v":""},{"$f":"IF($A332=F$1,$A333,\"\")","v":""},{"$f":"IF($A332=G$1,$A333,\"\")","v":"Pink"},{"$f":"IF($A332=H$1,$A333,\"\")","v":""},{"$f":"IF($A332=I$1,$A333,\"\")","v":""},{"$f":"IF($A332=J$1,$A333,\"\")","v":""},{"$f":"IF($A332=K$1,$A333,\"\")","v":""},{"$f":"IF($A332=L$1,$A333,\"\")","v":""}]
["Pink",null,{"$f":"IF($A333=C$1,$A334,\"\")","v":""},{"$f":"IF($A333=D$1,$A334,\"\")","v":""},{"$f":"IF($A333=E$1,$A334,\"\")","v":""},{"$f":"IF($A333=F$1,$A334,\"\")","v":""},{"$f":"IF($A333=G$1,$A334,\"\")","v":""},{"$f":"IF($A333=H$1,$A334,\"\")","v":""},{"$f":"IF($A333=I$1,$A334,\"\")","v":""},{"$f":"IF($A333=J$1,$A334,\"\")","v":"Purple"},{"$f":"IF($A333=K$1,$A334,\"\")","v":""},{"$f":"IF($A333=L$1,$A334,\"\")","v":""}]
["Purple",null,{"$f":"IF($A334=C$1,$A335,\"\")","v":""},{"$f":"IF($A334=D$1,$A335,\"\")","v":""},{"$f":"IF($A334=E$1,$A335,\"\")","v":""},{"$f":"IF($A334=F$1,$A335,\"\")","v":""},{"$f":"IF($A334=G$1,$A335,\"\")","v":""},{"$f":"IF($A334=H$1,$A335,\"\")","v":""},{"$f":"IF($A334=I$1,$A335,\"\")","v":""},{"$f":"IF($A334=J$1,$A335,\"\")","v":""},{"$f":"IF($A334=K$1,$A335,\"\")","v":"Cyan"},{"$f":"IF($A334=L$1,$A335,\"\")","v":""}]
["Cyan",null,{"$f":"IF($A335=C$1,$A336,\"\")","v":""},{"$f":"IF($A335=D$1,$A336,\"\")","v":""},{"$f":"IF($A335=E$1,$A336,\"\")","v":""},{"$f":"IF($A335=F$1,$A336,\"\")","v":"Yellow"},{"$f":"IF($A335=G$1,$A336,\"\")","v":""},{"$f":"IF($A335=H$1,$A336,\"\")","v":""},{"$f":"IF($A335=I$1,$A336,\"\")","v":""},{"$f":"IF($A335=J$1,$A336,\"\")","v":""},{"$f":"IF($A335=K$1,$A336,\"\")","v":""},{"$f":"IF($A335=L$1,$A336,\"\")","v":""}]
["Yellow",null,{"$f":"IF($A336=C$1,$A337,\"\")","v":"Black"},{"$f":"IF($A336=D$1,$A337,\"\")","v":""},{"$f":"IF($A336=E$1,$A337,\"\")","v":""},{"$f":"IF($A336=F$1,$A337,\"\")","v":""},{"$f":"IF($A336=G$1,$A337,\"\")","v":""},{"$f":"IF($A336=H$1,$A337,\"\")","v":""},{"$f":"IF($A336=I$1,$A337,\"\")","v":""},{"$f":"IF($A336=J$1,$A337,\"\")","v":""},{"$f":"IF($A336=K$1,$A337,\"\")","v":""},{"$f":"IF($A336=L$1,$A337,\"\")","v":""}]
["Black",null,{"$f":"IF($A337=C$1,$A338,\"\")","v":""},{"$f":"IF($A337=D$1,$A338,\"\")","v":""},{"$f":"IF($A337=E$1,$A338,\"\")","v":""},{"$f":"IF($A337=F$1,$A338,\"\")","v":""},{"$f":"IF($A337=G$1,$A338,\"\")","v":""},{"$f":"IF($A337=H$1,$A338,\"\")","v":""},{"$f":"IF($A337=I$1,$A338,\"\")","v":"Orange"},{"$f":"IF($A337=J$1,$A338,\"\")","v":""},{"$f":"IF($A337=K$1,$A338,\"\")","v":""},{"$f":"IF($A337=L$1,$A338,\"\")","v":""}]
["Orange",null,{"$f":"IF($A338=C$1,$A339,\"\")","v":""},{"$f":"IF($A338=D$1,$A339,\"\")","v":"Pink"},{"$f":"IF($A338=E$1,$A339,\"\")","v":""},{"$f":"IF($A338=F$1,$A339,\"\")","v":""},{"$f":"IF($A338=G$1,$A339,\"\")","v":""},{"$f":"IF($A338=H$1,$A339,\"\")","v":""},{"$f":"IF($A338=I$1,$A339,\"\")","v":""},{"$f":"IF($A338=J$1,$A339,\"\")","v":""},{"$f":"IF($A338=K$1,$A339,\"\")","v":""},{"$f":"IF($A338=L$1,$A339,\"\")","v":""}]
["Pink",null,{"$f":"IF($A339=C$1,$A340,\"\")","v":""},{"$f":"IF($A339=D$1,$A340,\"\")","v":""},{"$f":"IF($A339=E$1,$A340,\"\")","v":""},{"$f":"IF($A339=F$1,$A340,\"\")","v":""},{"$f":"IF($A339=G$1,$A340,\"\")","v":""},{"$f":"IF($A339=H$1,$A340,\"\")","v":""},{"$f":"IF($A339=I$1,$A340,\"\")","v":""},{"$f":"IF($A339=J$1,$A340,\"\")","v":"Red"},{"$f":"IF($A339=K$1,$A340,\"\")","v":""},{"$f":"IF($A339=L$1,$A340,\"\")","v":""}]
["Red",null,{"$f":"IF($A340=C$1,$A341,\"\")","v":""},{"$f":"IF($A340=D$1,$A341,\"\")","v":""},{"$f":"IF($A340=E$1,$A341,\"\")","v":""},{"$f":"IF($A340=F$1,$A341,\"\")","v":""},{"$f":"IF($A340=G$1,$A341,\"\")","v":""},{"$f":"IF($A340=H$1,$A341,\"\")","v":"Pink"},{"$f":"IF($A340=I$1,$A341,\"\")","v":""},{"$f":"IF($A340=J$1,$A341,\"\")","v":""},{"$f":"IF($A340=K$1,$A341,\"\")","v":""},{"$f":"IF($A340=L$1,$A341,\"\")","v":""}]
["Pink",null,{"$f":"IF($A341=C$1,$A342,\"\")","v":""},{"$f":"IF($A341=D$1,$A342,\"\")","v":""},{"$f":"IF($A341=E$1,$A342,\"\")","v":""},{"$f":"IF($A341=F$1,$A342,\"\")","v":""},{"$f":"IF($A341=G$1,$A342,\"\")","v":""},{"$f":"IF($A341=H$1,$A342,\"\")","v":""},{"$f":"IF($A341=I$1,$A342,\"\")","v":""},{"$f":"IF($A341=J$1,$A342,\"\")","v":"Black"},{"$f":"IF($A341=K$1,$A342,\"\")","v":""},{"$f":"IF($A341=L$1,$A342,\"\")","v":""}]
["Black",null,{"$f":"IF($A342=C$1,$A343,\"\")","v":""},{"$f":"IF($A342=D$1,$A343,\"\")","v":""},{"$f":"IF($A342=E$1,$A343,\"\")","v":""},{"$f":"IF($A342=F$1,$A343,\"\")","v":""},{"$f":"IF($A342=G$1,$A343,\"\")","v":""},{"$f":"IF($A342=H$1,$A343,\"\")","v":""},{"$f":"IF($A342=I$1,$A343,\"\")","v":"Cyan"},{"$f":"IF($A342=J$1,$A343,\"\")","v":""},{"$f":"IF($A342=K$1,$A343,\"\")","v":""},{"$f":"IF($A342=L$1,$A343,\"\")","v":""}]
["Cyan",null,{"$f":"IF($A343=C$1,$A344,\"\")","v":""},{"$f":"IF($A343=D$1,$A344,\"\")","v":""},{"$f":"IF($A343=E$1,$A344,\"\")","v":""},{"$f":"IF($A343=F$1,$A344,\"\")","v":"Green"},{"$f":"IF($A343=G$1,$A344,\"\")","v":""},{"$f":"IF($A343=H$1,$A344,\"\")","v":""},{"$f":"IF($A343=I$1,$A344,\"\")","v":""},{"$f":"IF($A343=J$1,$A344,\"\")","v":""},{"$f":"IF($A343=K$1,$A344,\"\")","v":""},{"$f":"IF($A343=L$1,$A344,\"\")","v":""}]
["Green",null,{"$f":"IF($A344=C$1,$A345,\"\")","v":""},{"$f":"IF($A344=D$1,$A345,\"\")","v":""},{"$f":"IF($A344=E$1,$A345,\"\")","v":""},{"$f":"IF($A344=F$1,$A345,\"\")","v":""},{"$f":"IF($A344=G$1,$A345,\"\")","v":""},{"$f":"IF($A344=H$1,$A345,\"\")","v":""},{"$f":"IF($A344=I$1,$A345,\"\")","v":""},{"$f":"IF($A344=J$1,$A345,\"\")","v":""},{"$f":"IF($A344=K$1,$A345,\"\")","v":""},{"$f":"IF($A344=L$1,$A345,\"\")","v":"Yellow"}]
["Yellow",null,{"$f":"IF($A345=C$1,$A346,\"\")","v":"Orange"},{"$f":"IF($A345=D$1,$A346,\"\")","v":""},{"$f":"IF($A345=E$1,$A346,\"\")","v":""},{"$f":"IF($A345=F$1,$A346,\"\")","v":""},{"$f":"IF($A345=G$1,$A346,\"\")","v":""},{"$f":"IF($A345=H$1,$A346,\"\")","v":""},{"$f":"IF($A345=I$1,$A346,\"\")","v":""},{"$f":"IF($A345=J$1,$A346,\"\")","v":""},{"$f":"IF($A345=K$1,$A346,\"\")","v":""},{"$f":"IF($A345=L$1,$A346,\"\")","v":""}]
["Orange",null,{"$f":"IF($A346=C$1,$A347,\"\")","v":""},{"$f":"IF($A346=D$1,$A347,\"\")","v":"Cyan"},{"$f":"IF($A346=E$1,$A347,\"\")","v":""},{"$f":"IF($A346=F$1,$A347,\"\")","v":""},{"$f":"IF($A346=G$1,$A347,\"\")","v":""},{"$f":"IF($A346=H$1,$A347,\"\")","v":""},{"$f":"IF($A346=I$1,$A347,\"\")","v":""},{"$f":"IF($A346=J$1,$A347,\"\")","v":""},{"$f":"IF($A346=K$1,$A347,\"\")","v":""},{"$f":"IF($A346=L$1,$A347,\"\")","v":""}]
["Cyan",null,{"$f":"IF($A347=C$1,$A348,\"\")","v":""},{"$f":"IF($A347=D$1,$A348,\"\")","v":""},{"$f":"IF($A347=E$1,$A348,\"\")","v":""},{"$f":"IF($A347=F$1,$A348,\"\")","v":"Black"},{"$f":"IF($A347=G$1,$A348,\"\")","v":""},{"$f":"IF($A347=H$1,$A348,\"\")","v":""},{"$f":"IF($A347=I$1,$A348,\"\")","v":""},{"$f":"IF($A347=J$1,$A348,\"\")","v":""},{"$f":"IF($A347=K$1,$A348,\"\")","v":""},{"$f":"IF($A347=L$1,$A348,\"\")","v":""}]
["Black",null,{"$f":"IF($A348=C$1,$A349,\"\")","v":""},{"$f":"IF($A348=D$1,$A349,\"\")","v":""},{"$f":"IF($A348=E$1,$A349,\"\")","v":""},{"$f":"IF($A348=F$1,$A349,\"\")","v":""},{"$f":"IF($A348=G$1,$A349,\"\")","v":""},{"$f":"IF($A348=H$1,$A349,\"\")","v":""},{"$f":"IF($A348=I$1,$A349,\"\")","v":"Pink"},{"$f":"IF($A348=J$1,$A349,\"\")","v":""},{"$f":"IF($A348=K$1,$A349,\"\")","v":""},{"$f":"IF($A348=L$1,$A349,\"\")","v":""}]
["Pink",null,{"$f":"IF($A349=C$1,$A350,\"\")","v":""},{"$f":"IF($A349=D$1,$A350,\"\")","v":""},{"$f":"IF($A349=E$1,$A350,\"\")","v":""},{"$f":"IF($A349=F$1,$A350,\"\")","v":""},{"$f":"IF($A349=G$1,$A350,\"\")","v":""},{"$f":"IF($A349=H$1,$A350,\"\")","v":""},{"$f":"IF($A349=I$1,$A350,\"\")","v":""},{"$f":"IF($A349=J$1,$A350,\"\")","v":"Black"},{"$f":"IF($A349=K$1,$A350,\"\")","v":""},{"$f":"IF($A349=L$1,$A350,\"\")","v":""}]
["Black",null,{"$f":"IF($A350=C$1,$A351,\"\")","v":""},{"$f":"IF($A350=D$1,$A351,\"\")","v":""},{"$f":"IF($A350=E$1,$A351,\"\")","v":""},{"$f":"IF($A350=F$1,$A351,\"\")","v":""},{"$f":"IF($A350=G$1,$A351,\"\")","v":""},{"$f":"IF($A350=H$1,$A351,\"\")","v":""},{"$f":"IF($A350=I$1,$A351,\"\")","v":"White"},{"$f":"IF($A350=J$1,$A351,\"\")","v":""},{"$f":"IF($A350=K$1,$A351,\"\")","v":""},{"$f":"IF($A350=L$1,$A351,\"\")","v":""}]
["White",null,{"$f":"IF($A351=C$1,$A352,\"\")","v":""},{"$f":"IF($A351=D$1,$A352,\"\")","v":""},{"$f":"IF($A351=E$1,$A352,\"\")","v":""},{"$f":"IF($A351=F$1,$A352,\"\")","v":""},{"$f":"IF($A351=G$1,$A352,\"\")","v":"Pink"},{"$f":"IF($A351=H$1,$A352,\"\")","v":""},{"$f":"IF($A351=I$1,$A352,\"\")","v":""},{"$f":"IF($A351=J$1,$A352,\"\")","v":""},{"$f":"IF($A351=K$1,$A352,\"\")","v":""},{"$f":"IF($A351=L$1,$A352,\"\")","v":""}]
["Pink",null,{"$f":"IF($A352=C$1,$A353,\"\")","v":""},{"$f":"IF($A352=D$1,$A353,\"\")","v":""},{"$f":"IF($A352=E$1,$A353,\"\")","v":""},{"$f":"IF($A352=F$1,$A353,\"\")","v":""},{"$f":"IF($A352=G$1,$A353,\"\")","v":""},{"$f":"IF($A352=H$1,$A353,\"\")","v":""},{"$f":"IF($A352=I$1,$A353,\"\")","v":""},{"$f":"IF($A352=J$1,$A353,\"\")","v":"Purple"},{"$f":"IF($A352=K$1,$A353,\"\")","v":""},{"$f":"IF($A352=L$1,$A353,\"\")","v":""}]
["Purple",null,{"$f":"IF($A353=C$1,$A354,\"\")","v":""},{"$f":"IF($A353=D$1,$A354,\"\")","v":""},{"$f":"IF($A353=E$1,$A354,\"\")","v":""},{"$f":"IF($A353=F$1,$A354,\"\")","v":""},{"$f":"IF($A353=G$1,$A354,\"\")","v":""},{"$f":"IF($A353=H$1,$A354,\"\")","v":""},{"$f":"IF($A353=I$1,$A354,\"\")","v":""},{"$f":"IF($A353=J$1,$A354,\"\")","v":""},{"$f":"IF($A353=K$1,$A354,\"\")","v":"Black"},{"$f":"IF($A353=L$1,$A354,\"\")","v":""}]
["Black",null,{"$f":"IF($A354=C$1,$A355,\"\")","v":""},{"$f":"IF($A354=D$1,$A355,\"\")","v":""},{"$f":"IF($A354=E$1,$A355,\"\")","v":""},{"$f":"IF($A354=F$1,$A355,\"\")","v":""},{"$f":"IF($A354=G$1,$A355,\"\")","v":""},{"$f":"IF($A354=H$1,$A355,\"\")","v":""},{"$f":"IF($A354=I$1,$A355,\"\")","v":"Red"},{"$f":"IF($A354=J$1,$A355,\"\")","v":""},{"$f":"IF($A354=K$1,$A355,\"\")","v":""},{"$f":"IF($A354=L$1,$A355,\"\")","v":""}]
["Red",null,{"$f":"IF($A355=C$1,$A356,\"\")","v":""},{"$f":"IF($A355=D$1,$A356,\"\")","v":""},{"$f":"IF($A355=E$1,$A356,\"\")","v":""},{"$f":"IF($A355=F$1,$A356,\"\")","v":""},{"$f":"IF($A355=G$1,$A356,\"\")","v":""},{"$f":"IF($A355=H$1,$A356,\"\")","v":"Black"},{"$f":"IF($A355=I$1,$A356,\"\")","v":""},{"$f":"IF($A355=J$1,$A356,\"\")","v":""},{"$f":"IF($A355=K$1,$A356,\"\")","v":""},{"$f":"IF($A355=L$1,$A356,\"\")","v":""}]
["Black",null,{"$f":"IF($A356=C$1,$A357,\"\")","v":""},{"$f":"IF($A356=D$1,$A357,\"\")","v":""},{"$f":"IF($A356=E$1,$A357,\"\")","v":""},{"$f":"IF($A356=F$1,$A357,\"\")","v":""},{"$f":"IF($A356=G$1,$A357,\"\")","v":""},{"$f":"IF($A356=H$1,$A357,\"\")","v":""},{"$f":"IF($A356=I$1,$A357,\"\")","v":"Yellow"},{"$f":"IF($A356=J$1,$A357,\"\")","v":""},{"$f":"IF($A356=K$1,$A357,\"\")","v":""},{"$f":"IF($A356=L$1,$A357,\"\")","v":""}]
["Yellow",null,{"$f":"IF($A357=C$1,$A358,\"\")","v":"Orange"},{"$f":"IF($A357=D$1,$A358,\"\")","v":""},{"$f":"IF($A357=E$1,$A358,\"\")","v":""},{"$f":"IF($A357=F$1,$A358,\"\")","v":""},{"$f":"IF($A357=G$1,$A358,\"\")","v":""},{"$f":"IF($A357=H$1,$A358,\"\")","v":""},{"$f":"IF($A357=I$1,$A358,\"\")","v":""},{"$f":"IF($A357=J$1,$A358,\"\")","v":""},{"$f":"IF($A357=K$1,$A358,\"\")","v":""},{"$f":"IF($A357=L$1,$A358,\"\")","v":""}]
["Orange",null,{"$f":"IF($A358=C$1,$A359,\"\")","v":""},{"$f":"IF($A358=D$1,$A359,\"\")","v":"white"},{"$f":"IF($A358=E$1,$A359,\"\")","v":""},{"$f":"IF($A358=F$1,$A359,\"\")","v":""},{"$f":"IF($A358=G$1,$A359,\"\")","v":""},{"$f":"IF($A358=H$1,$A359,\"\")","v":""},{"$f":"IF($A358=I$1,$A359,\"\")","v":""},{"$f":"IF($A358=J$1,$A359,\"\")","v":""},{"$f":"IF($A358=K$1,$A359,\"\")","v":""},{"$f":"IF($A358=L$1,$A359,\"\")","v":""}]
["white",null,{"$f":"IF($A359=C$1,$A360,\"\")","v":""},{"$f":"IF($A359=D$1,$A360,\"\")","v":""},{"$f":"IF($A359=E$1,$A360,\"\")","v":""},{"$f":"IF($A359=F$1,$A360,\"\")","v":""},{"$f":"IF($A359=G$1,$A360,\"\")","v":"Green"},{"$f":"IF($A359=H$1,$A360,\"\")","v":""},{"$f":"IF($A359=I$1,$A360,\"\")","v":""},{"$f":"IF($A359=J$1,$A360,\"\")","v":""},{"$f":"IF($A359=K$1,$A360,\"\")","v":""},{"$f":"IF($A359=L$1,$A360,\"\")","v":""}]
["Green",null,{"$f":"IF($A360=C$1,$A361,\"\")","v":""},{"$f":"IF($A360=D$1,$A361,\"\")","v":""},{"$f":"IF($A360=E$1,$A361,\"\")","v":""},{"$f":"IF($A360=F$1,$A361,\"\")","v":""},{"$f":"IF($A360=G$1,$A361,\"\")","v":""},{"$f":"IF($A360=H$1,$A361,\"\")","v":""},{"$f":"IF($A360=I$1,$A361,\"\")","v":""},{"$f":"IF($A360=J$1,$A361,\"\")","v":""},{"$f":"IF($A360=K$1,$A361,\"\")","v":""},{"$f":"IF($A360=L$1,$A361,\"\")","v":"Red"}]
["Red",null,{"$f":"IF($A361=C$1,$A362,\"\")","v":""},{"$f":"IF($A361=D$1,$A362,\"\")","v":""},{"$f":"IF($A361=E$1,$A362,\"\")","v":""},{"$f":"IF($A361=F$1,$A362,\"\")","v":""},{"$f":"IF($A361=G$1,$A362,\"\")","v":""},{"$f":"IF($A361=H$1,$A362,\"\")","v":"Purple"},{"$f":"IF($A361=I$1,$A362,\"\")","v":""},{"$f":"IF($A361=J$1,$A362,\"\")","v":""},{"$f":"IF($A361=K$1,$A362,\"\")","v":""},{"$f":"IF($A361=L$1,$A362,\"\")","v":""}]
["Purple",null,{"$f":"IF($A362=C$1,$A363,\"\")","v":""},{"$f":"IF($A362=D$1,$A363,\"\")","v":""},{"$f":"IF($A362=E$1,$A363,\"\")","v":""},{"$f":"IF($A362=F$1,$A363,\"\")","v":""},{"$f":"IF($A362=G$1,$A363,\"\")","v":""},{"$f":"IF($A362=H$1,$A363,\"\")","v":""},{"$f":"IF($A362=I$1,$A363,\"\")","v":""},{"$f":"IF($A362=J$1,$A363,\"\")","v":""},{"$f":"IF($A362=K$1,$A363,\"\")","v":"Red"},{"$f":"IF($A362=L$1,$A363,\"\")","v":""}]
["Red",null,{"$f":"IF($A363=C$1,$A364,\"\")","v":""},{"$f":"IF($A363=D$1,$A364,\"\")","v":""},{"$f":"IF($A363=E$1,$A364,\"\")","v":""},{"$f":"IF($A363=F$1,$A364,\"\")","v":""},{"$f":"IF($A363=G$1,$A364,\"\")","v":""},{"$f":"IF($A363=H$1,$A364,\"\")","v":"Red"},{"$f":"IF($A363=I$1,$A364,\"\")","v":""},{"$f":"IF($A363=J$1,$A364,\"\")","v":""},{"$f":"IF($A363=K$1,$A364,\"\")","v":""},{"$f":"IF($A363=L$1,$A364,\"\")","v":""}]
["Red",null,{"$f":"IF($A364=C$1,$A365,\"\")","v":""},{"$f":"IF($A364=D$1,$A365,\"\")","v":""},{"$f":"IF($A364=E$1,$A365,\"\")","v":""},{"$f":"IF($A364=F$1,$A365,\"\")","v":""},{"$f":"IF($A364=G$1,$A365,\"\")","v":""},{"$f":"IF($A364=H$1,$A365,\"\")","v":"Pink"},{"$f":"IF($A364=I$1,$A365,\"\")","v":""},{"$f":"IF($A364=J$1,$A365,\"\")","v":""},{"$f":"IF($A364=K$1,$A365,\"\")","v":""},{"$f":"IF($A364=L$1,$A365,\"\")","v":""}]
["Pink",null,{"$f":"IF($A365=C$1,$A366,\"\")","v":""},{"$f":"IF($A365=D$1,$A366,\"\")","v":""},{"$f":"IF($A365=E$1,$A366,\"\")","v":""},{"$f":"IF($A365=F$1,$A366,\"\")","v":""},{"$f":"IF($A365=G$1,$A366,\"\")","v":""},{"$f":"IF($A365=H$1,$A366,\"\")","v":""},{"$f":"IF($A365=I$1,$A366,\"\")","v":""},{"$f":"IF($A365=J$1,$A366,\"\")","v":"Orange"},{"$f":"IF($A365=K$1,$A366,\"\")","v":""},{"$f":"IF($A365=L$1,$A366,\"\")","v":""}]
["Orange",null,{"$f":"IF($A366=C$1,$A367,\"\")","v":""},{"$f":"IF($A366=D$1,$A367,\"\")","v":"White"},{"$f":"IF($A366=E$1,$A367,\"\")","v":""},{"$f":"IF($A366=F$1,$A367,\"\")","v":""},{"$f":"IF($A366=G$1,$A367,\"\")","v":""},{"$f":"IF($A366=H$1,$A367,\"\")","v":""},{"$f":"IF($A366=I$1,$A367,\"\")","v":""},{"$f":"IF($A366=J$1,$A367,\"\")","v":""},{"$f":"IF($A366=K$1,$A367,\"\")","v":""},{"$f":"IF($A366=L$1,$A367,\"\")","v":""}]
["White",null,{"$f":"IF($A367=C$1,$A368,\"\")","v":""},{"$f":"IF($A367=D$1,$A368,\"\")","v":""},{"$f":"IF($A367=E$1,$A368,\"\")","v":""},{"$f":"IF($A367=F$1,$A368,\"\")","v":""},{"$f":"IF($A367=G$1,$A368,\"\")","v":"Yellow"},{"$f":"IF($A367=H$1,$A368,\"\")","v":""},{"$f":"IF($A367=I$1,$A368,\"\")","v":""},{"$f":"IF($A367=J$1,$A368,\"\")","v":""},{"$f":"IF($A367=K$1,$A368,\"\")","v":""},{"$f":"IF($A367=L$1,$A368,\"\")","v":""}]
["Yellow",null,{"$f":"IF($A368=C$1,$A369,\"\")","v":"Blue"},{"$f":"IF($A368=D$1,$A369,\"\")","v":""},{"$f":"IF($A368=E$1,$A369,\"\")","v":""},{"$f":"IF($A368=F$1,$A369,\"\")","v":""},{"$f":"IF($A368=G$1,$A369,\"\")","v":""},{"$f":"IF($A368=H$1,$A369,\"\")","v":""},{"$f":"IF($A368=I$1,$A369,\"\")","v":""},{"$f":"IF($A368=J$1,$A369,\"\")","v":""},{"$f":"IF($A368=K$1,$A369,\"\")","v":""},{"$f":"IF($A368=L$1,$A369,\"\")","v":""}]
["Blue",null,{"$f":"IF($A369=C$1,$A370,\"\")","v":""},{"$f":"IF($A369=D$1,$A370,\"\")","v":""},{"$f":"IF($A369=E$1,$A370,\"\")","v":"Cyan"},{"$f":"IF($A369=F$1,$A370,\"\")","v":""},{"$f":"IF($A369=G$1,$A370,\"\")","v":""},{"$f":"IF($A369=H$1,$A370,\"\")","v":""},{"$f":"IF($A369=I$1,$A370,\"\")","v":""},{"$f":"IF($A369=J$1,$A370,\"\")","v":""},{"$f":"IF($A369=K$1,$A370,\"\")","v":""},{"$f":"IF($A369=L$1,$A370,\"\")","v":""}]
["Cyan",null,{"$f":"IF($A370=C$1,$A371,\"\")","v":""},{"$f":"IF($A370=D$1,$A371,\"\")","v":""},{"$f":"IF($A370=E$1,$A371,\"\")","v":""},{"$f":"IF($A370=F$1,$A371,\"\")","v":"Blue"},{"$f":"IF($A370=G$1,$A371,\"\")","v":""},{"$f":"IF($A370=H$1,$A371,\"\")","v":""},{"$f":"IF($A370=I$1,$A371,\"\")","v":""},{"$f":"IF($A370=J$1,$A371,\"\")","v":""},{"$f":"IF($A370=K$1,$A371,\"\")","v":""},{"$f":"IF($A370=L$1,$A371,\"\")","v":""}]
["Blue",null,{"$f":"IF($A371=C$1,$A372,\"\")","v":""},{"$f":"IF($A371=D$1,$A372,\"\")","v":""},{"$f":"IF($A371=E$1,$A372,\"\")","v":"Cyan"},{"$f":"IF($A371=F$1,$A372,\"\")","v":""},{"$f":"IF($A371=G$1,$A372,\"\")","v":""},{"$f":"IF($A371=H$1,$A372,\"\")","v":""},{"$f":"IF($A371=I$1,$A372,\"\")","v":""},{"$f":"IF($A371=J$1,$A372,\"\")","v":""},{"$f":"IF($A371=K$1,$A372,\"\")","v":""},{"$f":"IF($A371=L$1,$A372,\"\")","v":""}]
["Cyan",null,{"$f":"IF($A372=C$1,$A373,\"\")","v":""},{"$f":"IF($A372=D$1,$A373,\"\")","v":""},{"$f":"IF($A372=E$1,$A373,\"\")","v":""},{"$f":"IF($A372=F$1,$A373,\"\")","v":"Blue"},{"$f":"IF($A372=G$1,$A373,\"\")","v":""},{"$f":"IF($A372=H$1,$A373,\"\")","v":""},{"$f":"IF($A372=I$1,$A373,\"\")","v":""},{"$f":"IF($A372=J$1,$A373,\"\")","v":""},{"$f":"IF($A372=K$1,$A373,\"\")","v":""},{"$f":"IF($A372=L$1,$A373,\"\")","v":""}]
["Blue",null,{"$f":"IF($A373=C$1,$A374,\"\")","v":""},{"$f":"IF($A373=D$1,$A374,\"\")","v":""},{"$f":"IF($A373=E$1,$A374,\"\")","v":"Pink"},{"$f":"IF($A373=F$1,$A374,\"\")","v":""},{"$f":"IF($A373=G$1,$A374,\"\")","v":""},{"$f":"IF($A373=H$1,$A374,\"\")","v":""},{"$f":"IF($A373=I$1,$A374,\"\")","v":""},{"$f":"IF($A373=J$1,$A374,\"\")","v":""},{"$f":"IF($A373=K$1,$A374,\"\")","v":""},{"$f":"IF($A373=L$1,$A374,\"\")","v":""}]
["Pink",null,{"$f":"IF($A374=C$1,$A375,\"\")","v":""},{"$f":"IF($A374=D$1,$A375,\"\")","v":""},{"$f":"IF($A374=E$1,$A375,\"\")","v":""},{"$f":"IF($A374=F$1,$A375,\"\")","v":""},{"$f":"IF($A374=G$1,$A375,\"\")","v":""},{"$f":"IF($A374=H$1,$A375,\"\")","v":""},{"$f":"IF($A374=I$1,$A375,\"\")","v":""},{"$f":"IF($A374=J$1,$A375,\"\")","v":"Blue"},{"$f":"IF($A374=K$1,$A375,\"\")","v":""},{"$f":"IF($A374=L$1,$A375,\"\")","v":""}]
["Blue",null,{"$f":"IF($A375=C$1,$A376,\"\")","v":""},{"$f":"IF($A375=D$1,$A376,\"\")","v":""},{"$f":"IF($A375=E$1,$A376,\"\")","v":"Pink"},{"$f":"IF($A375=F$1,$A376,\"\")","v":""},{"$f":"IF($A375=G$1,$A376,\"\")","v":""},{"$f":"IF($A375=H$1,$A376,\"\")","v":""},{"$f":"IF($A375=I$1,$A376,\"\")","v":""},{"$f":"IF($A375=J$1,$A376,\"\")","v":""},{"$f":"IF($A375=K$1,$A376,\"\")","v":""},{"$f":"IF($A375=L$1,$A376,\"\")","v":""}]
["Pink",null,{"$f":"IF($A376=C$1,$A377,\"\")","v":""},{"$f":"IF($A376=D$1,$A377,\"\")","v":""},{"$f":"IF($A376=E$1,$A377,\"\")","v":""},{"$f":"IF($A376=F$1,$A377,\"\")","v":""},{"$f":"IF($A376=G$1,$A377,\"\")","v":""},{"$f":"IF($A376=H$1,$A377,\"\")","v":""},{"$f":"IF($A376=I$1,$A377,\"\")","v":""},{"$f":"IF($A376=J$1,$A377,\"\")","v":"Purple"},{"$f":"IF($A376=K$1,$A377,\"\")","v":""},{"$f":"IF($A376=L$1,$A377,\"\")","v":""}]
["Purple",null,{"$f":"IF($A377=C$1,$A378,\"\")","v":""},{"$f":"IF($A377=D$1,$A378,\"\")","v":""},{"$f":"IF($A377=E$1,$A378,\"\")","v":""},{"$f":"IF($A377=F$1,$A378,\"\")","v":""},{"$f":"IF($A377=G$1,$A378,\"\")","v":""},{"$f":"IF($A377=H$1,$A378,\"\")","v":""},{"$f":"IF($A377=I$1,$A378,\"\")","v":""},{"$f":"IF($A377=J$1,$A378,\"\")","v":""},{"$f":"IF($A377=K$1,$A378,\"\")","v":"Purple"},{"$f":"IF($A377=L$1,$A378,\"\")","v":""}]
["Purple",null,{"$f":"IF($A378=C$1,$A379,\"\")","v":""},{"$f":"IF($A378=D$1,$A379,\"\")","v":""},{"$f":"IF($A378=E$1,$A379,\"\")","v":""},{"$f":"IF($A378=F$1,$A379,\"\")","v":""},{"$f":"IF($A378=G$1,$A379,\"\")","v":""},{"$f":"IF($A378=H$1,$A379,\"\")","v":""},{"$f":"IF($A378=I$1,$A379,\"\")","v":""},{"$f":"IF($A378=J$1,$A379,\"\")","v":""},{"$f":"IF($A378=K$1,$A379,\"\")","v":"Green"},{"$f":"IF($A378=L$1,$A379,\"\")","v":""}]
["Green",null,{"$f":"IF($A379=C$1,$A380,\"\")","v":""},{"$f":"IF($A379=D$1,$A380,\"\")","v":""},{"$f":"IF($A379=E$1,$A380,\"\")","v":""},{"$f":"IF($A379=F$1,$A380,\"\")","v":""},{"$f":"IF($A379=G$1,$A380,\"\")","v":""},{"$f":"IF($A379=H$1,$A380,\"\")","v":""},{"$f":"IF($A379=I$1,$A380,\"\")","v":""},{"$f":"IF($A379=J$1,$A380,\"\")","v":""},{"$f":"IF($A379=K$1,$A380,\"\")","v":""},{"$f":"IF($A379=L$1,$A380,\"\")","v":"Black"}]
["Black",null,{"$f":"IF($A380=C$1,$A381,\"\")","v":""},{"$f":"IF($A380=D$1,$A381,\"\")","v":""},{"$f":"IF($A380=E$1,$A381,\"\")","v":""},{"$f":"IF($A380=F$1,$A381,\"\")","v":""},{"$f":"IF($A380=G$1,$A381,\"\")","v":""},{"$f":"IF($A380=H$1,$A381,\"\")","v":""},{"$f":"IF($A380=I$1,$A381,\"\")","v":"Black"},{"$f":"IF($A380=J$1,$A381,\"\")","v":""},{"$f":"IF($A380=K$1,$A381,\"\")","v":""},{"$f":"IF($A380=L$1,$A381,\"\")","v":""}]
["Black",null,{"$f":"IF($A381=C$1,$A382,\"\")","v":""},{"$f":"IF($A381=D$1,$A382,\"\")","v":""},{"$f":"IF($A381=E$1,$A382,\"\")","v":""},{"$f":"IF($A381=F$1,$A382,\"\")","v":""},{"$f":"IF($A381=G$1,$A382,\"\")","v":""},{"$f":"IF($A381=H$1,$A382,\"\")","v":""},{"$f":"IF($A381=I$1,$A382,\"\")","v":"White"},{"$f":"IF($A381=J$1,$A382,\"\")","v":""},{"$f":"IF($A381=K$1,$A382,\"\")","v":""},{"$f":"IF($A381=L$1,$A382,\"\")","v":""}]
["White",null,{"$f":"IF($A382=C$1,$A383,\"\")","v":""},{"$f":"IF($A382=D$1,$A383,\"\")","v":""},{"$f":"IF($A382=E$1,$A383,\"\")","v":""},{"$f":"IF($A382=F$1,$A383,\"\")","v":""},{"$f":"IF($A382=G$1,$A383,\"\")","v":"Cyan"},{"$f":"IF($A382=H$1,$A383,\"\")","v":""},{"$f":"IF($A382=I$1,$A383,\"\")","v":""},{"$f":"IF($A382=J$1,$A383,\"\")","v":""},{"$f":"IF($A382=K$1,$A383,\"\")","v":""},{"$f":"IF($A382=L$1,$A383,\"\")","v":""}]
["Cyan",null,{"$f":"IF($A383=C$1,$A384,\"\")","v":""},{"$f":"IF($A383=D$1,$A384,\"\")","v":""},{"$f":"IF($A383=E$1,$A384,\"\")","v":""},{"$f":"IF($A383=F$1,$A384,\"\")","v":"White"},{"$f":"IF($A383=G$1,$A384,\"\")","v":""},{"$f":"IF($A383=H$1,$A384,\"\")","v":""},{"$f":"IF($A383=I$1,$A384,\"\")","v":""},{"$f":"IF($A383=J$1,$A384,\"\")","v":""},{"$f":"IF($A383=K$1,$A384,\"\")","v":""},{"$f":"IF($A383=L$1,$A384,\"\")","v":""}]
["White",null,{"$f":"IF($A384=C$1,$A385,\"\")","v":""},{"$f":"IF($A384=D$1,$A385,\"\")","v":""},{"$f":"IF($A384=E$1,$A385,\"\")","v":""},{"$f":"IF($A384=F$1,$A385,\"\")","v":""},{"$f":"IF($A384=G$1,$A385,\"\")","v":"Black"},{"$f":"IF($A384=H$1,$A385,\"\")","v":""},{"$f":"IF($A384=I$1,$A385,\"\")","v":""},{"$f":"IF($A384=J$1,$A385,\"\")","v":""},{"$f":"IF($A384=K$1,$A385,\"\")","v":""},{"$f":"IF($A384=L$1,$A385,\"\")","v":""}]
["Black",null,{"$f":"IF($A385=C$1,$A386,\"\")","v":""},{"$f":"IF($A385=D$1,$A386,\"\")","v":""},{"$f":"IF($A385=E$1,$A386,\"\")","v":""},{"$f":"IF($A385=F$1,$A386,\"\")","v":""},{"$f":"IF($A385=G$1,$A386,\"\")","v":""},{"$f":"IF($A385=H$1,$A386,\"\")","v":""},{"$f":"IF($A385=I$1,$A386,\"\")","v":"Red"},{"$f":"IF($A385=J$1,$A386,\"\")","v":""},{"$f":"IF($A385=K$1,$A386,\"\")","v":""},{"$f":"IF($A385=L$1,$A386,\"\")","v":""}]
["Red",null,{"$f":"IF($A386=C$1,$A387,\"\")","v":""},{"$f":"IF($A386=D$1,$A387,\"\")","v":""},{"$f":"IF($A386=E$1,$A387,\"\")","v":""},{"$f":"IF($A386=F$1,$A387,\"\")","v":""},{"$f":"IF($A386=G$1,$A387,\"\")","v":""},{"$f":"IF($A386=H$1,$A387,\"\")","v":"Green"},{"$f":"IF($A386=I$1,$A387,\"\")","v":""},{"$f":"IF($A386=J$1,$A387,\"\")","v":""},{"$f":"IF($A386=K$1,$A387,\"\")","v":""},{"$f":"IF($A386=L$1,$A387,\"\")","v":""}]
["Green",null,{"$f":"IF($A387=C$1,$A388,\"\")","v":""},{"$f":"IF($A387=D$1,$A388,\"\")","v":""},{"$f":"IF($A387=E$1,$A388,\"\")","v":""},{"$f":"IF($A387=F$1,$A388,\"\")","v":""},{"$f":"IF($A387=G$1,$A388,\"\")","v":""},{"$f":"IF($A387=H$1,$A388,\"\")","v":""},{"$f":"IF($A387=I$1,$A388,\"\")","v":""},{"$f":"IF($A387=J$1,$A388,\"\")","v":""},{"$f":"IF($A387=K$1,$A388,\"\")","v":""},{"$f":"IF($A387=L$1,$A388,\"\")","v":"Purple"}]
["Purple",null,{"$f":"IF($A388=C$1,$A389,\"\")","v":""},{"$f":"IF($A388=D$1,$A389,\"\")","v":""},{"$f":"IF($A388=E$1,$A389,\"\")","v":""},{"$f":"IF($A388=F$1,$A389,\"\")","v":""},{"$f":"IF($A388=G$1,$A389,\"\")","v":""},{"$f":"IF($A388=H$1,$A389,\"\")","v":""},{"$f":"IF($A388=I$1,$A389,\"\")","v":""},{"$f":"IF($A388=J$1,$A389,\"\")","v":""},{"$f":"IF($A388=K$1,$A389,\"\")","v":"Red"},{"$f":"IF($A388=L$1,$A389,\"\")","v":""}]
["Red",null,{"$f":"IF($A389=C$1,$A390,\"\")","v":""},{"$f":"IF($A389=D$1,$A390,\"\")","v":""},{"$f":"IF($A389=E$1,$A390,\"\")","v":""},{"$f":"IF($A389=F$1,$A390,\"\")","v":""},{"$f":"IF($A389=G$1,$A390,\"\")","v":""},{"$f":"IF($A389=H$1,$A390,\"\")","v":"Green"},{"$f":"IF($A389=I$1,$A390,\"\")","v":""},{"$f":"IF($A389=J$1,$A390,\"\")","v":""},{"$f":"IF($A389=K$1,$A390,\"\")","v":""},{"$f":"IF($A389=L$1,$A390,\"\")","v":""}]
["Green",null,{"$f":"IF($A390=C$1,$A391,\"\")","v":""},{"$f":"IF($A390=D$1,$A391,\"\")","v":""},{"$f":"IF($A390=E$1,$A391,\"\")","v":""},{"$f":"IF($A390=F$1,$A391,\"\")","v":""},{"$f":"IF($A390=G$1,$A391,\"\")","v":""},{"$f":"IF($A390=H$1,$A391,\"\")","v":""},{"$f":"IF($A390=I$1,$A391,\"\")","v":""},{"$f":"IF($A390=J$1,$A391,\"\")","v":""},{"$f":"IF($A390=K$1,$A391,\"\")","v":""},{"$f":"IF($A390=L$1,$A391,\"\")","v":"Red"}]
["Red",null,{"$f":"IF($A391=C$1,$A392,\"\")","v":""},{"$f":"IF($A391=D$1,$A392,\"\")","v":""},{"$f":"IF($A391=E$1,$A392,\"\")","v":""},{"$f":"IF($A391=F$1,$A392,\"\")","v":""},{"$f":"IF($A391=G$1,$A392,\"\")","v":""},{"$f":"IF($A391=H$1,$A392,\"\")","v":"White"},{"$f":"IF($A391=I$1,$A392,\"\")","v":""},{"$f":"IF($A391=J$1,$A392,\"\")","v":""},{"$f":"IF($A391=K$1,$A392,\"\")","v":""},{"$f":"IF($A391=L$1,$A392,\"\")","v":""}]
["White",null,{"$f":"IF($A392=C$1,$A393,\"\")","v":""},{"$f":"IF($A392=D$1,$A393,\"\")","v":""},{"$f":"IF($A392=E$1,$A393,\"\")","v":""},{"$f":"IF($A392=F$1,$A393,\"\")","v":""},{"$f":"IF($A392=G$1,$A393,\"\")","v":"Pink"},{"$f":"IF($A392=H$1,$A393,\"\")","v":""},{"$f":"IF($A392=I$1,$A393,\"\")","v":""},{"$f":"IF($A392=J$1,$A393,\"\")","v":""},{"$f":"IF($A392=K$1,$A393,\"\")","v":""},{"$f":"IF($A392=L$1,$A393,\"\")","v":""}]
["Pink",null,{"$f":"IF($A393=C$1,$A394,\"\")","v":""},{"$f":"IF($A393=D$1,$A394,\"\")","v":""},{"$f":"IF($A393=E$1,$A394,\"\")","v":""},{"$f":"IF($A393=F$1,$A394,\"\")","v":""},{"$f":"IF($A393=G$1,$A394,\"\")","v":""},{"$f":"IF($A393=H$1,$A394,\"\")","v":""},{"$f":"IF($A393=I$1,$A394,\"\")","v":""},{"$f":"IF($A393=J$1,$A394,\"\")","v":"Black"},{"$f":"IF($A393=K$1,$A394,\"\")","v":""},{"$f":"IF($A393=L$1,$A394,\"\")","v":""}]
["Black",null,{"$f":"IF($A394=C$1,$A395,\"\")","v":""},{"$f":"IF($A394=D$1,$A395,\"\")","v":""},{"$f":"IF($A394=E$1,$A395,\"\")","v":""},{"$f":"IF($A394=F$1,$A395,\"\")","v":""},{"$f":"IF($A394=G$1,$A395,\"\")","v":""},{"$f":"IF($A394=H$1,$A395,\"\")","v":""},{"$f":"IF($A394=I$1,$A395,\"\")","v":"Orange"},{"$f":"IF($A394=J$1,$A395,\"\")","v":""},{"$f":"IF($A394=K$1,$A395,\"\")","v":""},{"$f":"IF($A394=L$1,$A395,\"\")","v":""}]
["Orange",null,{"$f":"IF($A395=C$1,$A396,\"\")","v":""},{"$f":"IF($A395=D$1,$A396,\"\")","v":"Orange"},{"$f":"IF($A395=E$1,$A396,\"\")","v":""},{"$f":"IF($A395=F$1,$A396,\"\")","v":""},{"$f":"IF($A395=G$1,$A396,\"\")","v":""},{"$f":"IF($A395=H$1,$A396,\"\")","v":""},{"$f":"IF($A395=I$1,$A396,\"\")","v":""},{"$f":"IF($A395=J$1,$A396,\"\")","v":""},{"$f":"IF($A395=K$1,$A396,\"\")","v":""},{"$f":"IF($A395=L$1,$A396,\"\")","v":""}]
["Orange",null,{"$f":"IF($A396=C$1,$A397,\"\")","v":""},{"$f":"IF($A396=D$1,$A397,\"\")","v":"Red"},{"$f":"IF($A396=E$1,$A397,\"\")","v":""},{"$f":"IF($A396=F$1,$A397,\"\")","v":""},{"$f":"IF($A396=G$1,$A397,\"\")","v":""},{"$f":"IF($A396=H$1,$A397,\"\")","v":""},{"$f":"IF($A396=I$1,$A397,\"\")","v":""},{"$f":"IF($A396=J$1,$A397,\"\")","v":""},{"$f":"IF($A396=K$1,$A397,\"\")","v":""},{"$f":"IF($A396=L$1,$A397,\"\")","v":""}]
["Red",null,{"$f":"IF($A397=C$1,$A398,\"\")","v":""},{"$f":"IF($A397=D$1,$A398,\"\")","v":""},{"$f":"IF($A397=E$1,$A398,\"\")","v":""},{"$f":"IF($A397=F$1,$A398,\"\")","v":""},{"$f":"IF($A397=G$1,$A398,\"\")","v":""},{"$f":"IF($A397=H$1,$A398,\"\")","v":"Blue"},{"$f":"IF($A397=I$1,$A398,\"\")","v":""},{"$f":"IF($A397=J$1,$A398,\"\")","v":""},{"$f":"IF($A397=K$1,$A398,\"\")","v":""},{"$f":"IF($A397=L$1,$A398,\"\")","v":""}]
["Blue",null,{"$f":"IF($A398=C$1,$A399,\"\")","v":""},{"$f":"IF($A398=D$1,$A399,\"\")","v":""},{"$f":"IF($A398=E$1,$A399,\"\")","v":"Green"},{"$f":"IF($A398=F$1,$A399,\"\")","v":""},{"$f":"IF($A398=G$1,$A399,\"\")","v":""},{"$f":"IF($A398=H$1,$A399,\"\")","v":""},{"$f":"IF($A398=I$1,$A399,\"\")","v":""},{"$f":"IF($A398=J$1,$A399,\"\")","v":""},{"$f":"IF($A398=K$1,$A399,\"\")","v":""},{"$f":"IF($A398=L$1,$A399,\"\")","v":""}]
["Green",null,{"$f":"IF($A399=C$1,$A400,\"\")","v":""},{"$f":"IF($A399=D$1,$A400,\"\")","v":""},{"$f":"IF($A399=E$1,$A400,\"\")","v":""},{"$f":"IF($A399=F$1,$A400,\"\")","v":""},{"$f":"IF($A399=G$1,$A400,\"\")","v":""},{"$f":"IF($A399=H$1,$A400,\"\")","v":""},{"$f":"IF($A399=I$1,$A400,\"\")","v":""},{"$f":"IF($A399=J$1,$A400,\"\")","v":""},{"$f":"IF($A399=K$1,$A400,\"\")","v":""},{"$f":"IF($A399=L$1,$A400,\"\")","v":"Cyan"}]
["Cyan",null,{"$f":"IF($A400=C$1,$A401,\"\")","v":""},{"$f":"IF($A400=D$1,$A401,\"\")","v":""},{"$f":"IF($A400=E$1,$A401,\"\")","v":""},{"$f":"IF($A400=F$1,$A401,\"\")","v":"Green"},{"$f":"IF($A400=G$1,$A401,\"\")","v":""},{"$f":"IF($A400=H$1,$A401,\"\")","v":""},{"$f":"IF($A400=I$1,$A401,\"\")","v":""},{"$f":"IF($A400=J$1,$A401,\"\")","v":""},{"$f":"IF($A400=K$1,$A401,\"\")","v":""},{"$f":"IF($A400=L$1,$A401,\"\")","v":""}]
["Green",null,{"$f":"IF($A401=C$1,$A402,\"\")","v":""},{"$f":"IF($A401=D$1,$A402,\"\")","v":""},{"$f":"IF($A401=E$1,$A402,\"\")","v":""},{"$f":"IF($A401=F$1,$A402,\"\")","v":""},{"$f":"IF($A401=G$1,$A402,\"\")","v":""},{"$f":"IF($A401=H$1,$A402,\"\")","v":""},{"$f":"IF($A401=I$1,$A402,\"\")","v":""},{"$f":"IF($A401=J$1,$A402,\"\")","v":""},{"$f":"IF($A401=K$1,$A402,\"\")","v":""},{"$f":"IF($A401=L$1,$A402,\"\")","v":"Green"}]
["Green",null,{"$f":"IF($A402=C$1,$A403,\"\")","v":""},{"$f":"IF($A402=D$1,$A403,\"\")","v":""},{"$f":"IF($A402=E$1,$A403,\"\")","v":""},{"$f":"IF($A402=F$1,$A403,\"\")","v":""},{"$f":"IF($A402=G$1,$A403,\"\")","v":""},{"$f":"IF($A402=H$1,$A403,\"\")","v":""},{"$f":"IF($A402=I$1,$A403,\"\")","v":""},{"$f":"IF($A402=J$1,$A403,\"\")","v":""},{"$f":"IF($A402=K$1,$A403,\"\")","v":""},{"$f":"IF($A402=L$1,$A403,\"\")","v":"Red"}]
["Red",null,{"$f":"IF($A403=C$1,$A404,\"\")","v":""},{"$f":"IF($A403=D$1,$A404,\"\")","v":""},{"$f":"IF($A403=E$1,$A404,\"\")","v":""},{"$f":"IF($A403=F$1,$A404,\"\")","v":""},{"$f":"IF($A403=G$1,$A404,\"\")","v":""},{"$f":"IF($A403=H$1,$A404,\"\")","v":"Cyan"},{"$f":"IF($A403=I$1,$A404,\"\")","v":""},{"$f":"IF($A403=J$1,$A404,\"\")","v":""},{"$f":"IF($A403=K$1,$A404,\"\")","v":""},{"$f":"IF($A403=L$1,$A404,\"\")","v":""}]
["Cyan",null,{"$f":"IF($A404=C$1,$A405,\"\")","v":""},{"$f":"IF($A404=D$1,$A405,\"\")","v":""},{"$f":"IF($A404=E$1,$A405,\"\")","v":""},{"$f":"IF($A404=F$1,$A405,\"\")","v":"Yellow"},{"$f":"IF($A404=G$1,$A405,\"\")","v":""},{"$f":"IF($A404=H$1,$A405,\"\")","v":""},{"$f":"IF($A404=I$1,$A405,\"\")","v":""},{"$f":"IF($A404=J$1,$A405,\"\")","v":""},{"$f":"IF($A404=K$1,$A405,\"\")","v":""},{"$f":"IF($A404=L$1,$A405,\"\")","v":""}]
["Yellow",null,{"$f":"IF($A405=C$1,$A406,\"\")","v":"Pink"},{"$f":"IF($A405=D$1,$A406,\"\")","v":""},{"$f":"IF($A405=E$1,$A406,\"\")","v":""},{"$f":"IF($A405=F$1,$A406,\"\")","v":""},{"$f":"IF($A405=G$1,$A406,\"\")","v":""},{"$f":"IF($A405=H$1,$A406,\"\")","v":""},{"$f":"IF($A405=I$1,$A406,\"\")","v":""},{"$f":"IF($A405=J$1,$A406,\"\")","v":""},{"$f":"IF($A405=K$1,$A406,\"\")","v":""},{"$f":"IF($A405=L$1,$A406,\"\")","v":""}]
["Pink",null,{"$f":"IF($A406=C$1,$A407,\"\")","v":""},{"$f":"IF($A406=D$1,$A407,\"\")","v":""},{"$f":"IF($A406=E$1,$A407,\"\")","v":""},{"$f":"IF($A406=F$1,$A407,\"\")","v":""},{"$f":"IF($A406=G$1,$A407,\"\")","v":""},{"$f":"IF($A406=H$1,$A407,\"\")","v":""},{"$f":"IF($A406=I$1,$A407,\"\")","v":""},{"$f":"IF($A406=J$1,$A407,\"\")","v":"Cyan"},{"$f":"IF($A406=K$1,$A407,\"\")","v":""},{"$f":"IF($A406=L$1,$A407,\"\")","v":""}]
["Cyan",null,{"$f":"IF($A407=C$1,$A408,\"\")","v":""},{"$f":"IF($A407=D$1,$A408,\"\")","v":""},{"$f":"IF($A407=E$1,$A408,\"\")","v":""},{"$f":"IF($A407=F$1,$A408,\"\")","v":"Orange"},{"$f":"IF($A407=G$1,$A408,\"\")","v":""},{"$f":"IF($A407=H$1,$A408,\"\")","v":""},{"$f":"IF($A407=I$1,$A408,\"\")","v":""},{"$f":"IF($A407=J$1,$A408,\"\")","v":""},{"$f":"IF($A407=K$1,$A408,\"\")","v":""},{"$f":"IF($A407=L$1,$A408,\"\")","v":""}]
["Orange",null,{"$f":"IF($A408=C$1,$A409,\"\")","v":""},{"$f":"IF($A408=D$1,$A409,\"\")","v":"Orange"},{"$f":"IF($A408=E$1,$A409,\"\")","v":""},{"$f":"IF($A408=F$1,$A409,\"\")","v":""},{"$f":"IF($A408=G$1,$A409,\"\")","v":""},{"$f":"IF($A408=H$1,$A409,\"\")","v":""},{"$f":"IF($A408=I$1,$A409,\"\")","v":""},{"$f":"IF($A408=J$1,$A409,\"\")","v":""},{"$f":"IF($A408=K$1,$A409,\"\")","v":""},{"$f":"IF($A408=L$1,$A409,\"\")","v":""}]
["Orange",null,{"$f":"IF($A409=C$1,$A410,\"\")","v":""},{"$f":"IF($A409=D$1,$A410,\"\")","v":"Red"},{"$f":"IF($A409=E$1,$A410,\"\")","v":""},{"$f":"IF($A409=F$1,$A410,\"\")","v":""},{"$f":"IF($A409=G$1,$A410,\"\")","v":""},{"$f":"IF($A409=H$1,$A410,\"\")","v":""},{"$f":"IF($A409=I$1,$A410,\"\")","v":""},{"$f":"IF($A409=J$1,$A410,\"\")","v":""},{"$f":"IF($A409=K$1,$A410,\"\")","v":""},{"$f":"IF($A409=L$1,$A410,\"\")","v":""}]
["Red",null,{"$f":"IF($A410=C$1,$A411,\"\")","v":""},{"$f":"IF($A410=D$1,$A411,\"\")","v":""},{"$f":"IF($A410=E$1,$A411,\"\")","v":""},{"$f":"IF($A410=F$1,$A411,\"\")","v":""},{"$f":"IF($A410=G$1,$A411,\"\")","v":""},{"$f":"IF($A410=H$1,$A411,\"\")","v":"Pink"},{"$f":"IF($A410=I$1,$A411,\"\")","v":""},{"$f":"IF($A410=J$1,$A411,\"\")","v":""},{"$f":"IF($A410=K$1,$A411,\"\")","v":""},{"$f":"IF($A410=L$1,$A411,\"\")","v":""}]
["Pink",null,{"$f":"IF($A411=C$1,$A412,\"\")","v":""},{"$f":"IF($A411=D$1,$A412,\"\")","v":""},{"$f":"IF($A411=E$1,$A412,\"\")","v":""},{"$f":"IF($A411=F$1,$A412,\"\")","v":""},{"$f":"IF($A411=G$1,$A412,\"\")","v":""},{"$f":"IF($A411=H$1,$A412,\"\")","v":""},{"$f":"IF($A411=I$1,$A412,\"\")","v":""},{"$f":"IF($A411=J$1,$A412,\"\")","v":"Green"},{"$f":"IF($A411=K$1,$A412,\"\")","v":""},{"$f":"IF($A411=L$1,$A412,\"\")","v":""}]
["Green",null,{"$f":"IF($A412=C$1,$A413,\"\")","v":""},{"$f":"IF($A412=D$1,$A413,\"\")","v":""},{"$f":"IF($A412=E$1,$A413,\"\")","v":""},{"$f":"IF($A412=F$1,$A413,\"\")","v":""},{"$f":"IF($A412=G$1,$A413,\"\")","v":""},{"$f":"IF($A412=H$1,$A413,\"\")","v":""},{"$f":"IF($A412=I$1,$A413,\"\")","v":""},{"$f":"IF($A412=J$1,$A413,\"\")","v":""},{"$f":"IF($A412=K$1,$A413,\"\")","v":""},{"$f":"IF($A412=L$1,$A413,\"\")","v":"Yellow"}]
["Yellow",null,{"$f":"IF($A413=C$1,$A414,\"\")","v":"Yellow"},{"$f":"IF($A413=D$1,$A414,\"\")","v":""},{"$f":"IF($A413=E$1,$A414,\"\")","v":""},{"$f":"IF($A413=F$1,$A414,\"\")","v":""},{"$f":"IF($A413=G$1,$A414,\"\")","v":""},{"$f":"IF($A413=H$1,$A414,\"\")","v":""},{"$f":"IF($A413=I$1,$A414,\"\")","v":""},{"$f":"IF($A413=J$1,$A414,\"\")","v":""},{"$f":"IF($A413=K$1,$A414,\"\")","v":""},{"$f":"IF($A413=L$1,$A414,\"\")","v":""}]
["Yellow",null,{"$f":"IF($A414=C$1,$A415,\"\")","v":"Purple"},{"$f":"IF($A414=D$1,$A415,\"\")","v":""},{"$f":"IF($A414=E$1,$A415,\"\")","v":""},{"$f":"IF($A414=F$1,$A415,\"\")","v":""},{"$f":"IF($A414=G$1,$A415,\"\")","v":""},{"$f":"IF($A414=H$1,$A415,\"\")","v":""},{"$f":"IF($A414=I$1,$A415,\"\")","v":""},{"$f":"IF($A414=J$1,$A415,\"\")","v":""},{"$f":"IF($A414=K$1,$A415,\"\")","v":""},{"$f":"IF($A414=L$1,$A415,\"\")","v":""}]
["Purple",null,{"$f":"IF($A415=C$1,$A416,\"\")","v":""},{"$f":"IF($A415=D$1,$A416,\"\")","v":""},{"$f":"IF($A415=E$1,$A416,\"\")","v":""},{"$f":"IF($A415=F$1,$A416,\"\")","v":""},{"$f":"IF($A415=G$1,$A416,\"\")","v":""},{"$f":"IF($A415=H$1,$A416,\"\")","v":""},{"$f":"IF($A415=I$1,$A416,\"\")","v":""},{"$f":"IF($A415=J$1,$A416,\"\")","v":""},{"$f":"IF($A415=K$1,$A416,\"\")","v":"Black"},{"$f":"IF($A415=L$1,$A416,\"\")","v":""}]
["Black",null,{"$f":"IF($A416=C$1,$A417,\"\")","v":""},{"$f":"IF($A416=D$1,$A417,\"\")","v":""},{"$f":"IF($A416=E$1,$A417,\"\")","v":""},{"$f":"IF($A416=F$1,$A417,\"\")","v":""},{"$f":"IF($A416=G$1,$A417,\"\")","v":""},{"$f":"IF($A416=H$1,$A417,\"\")","v":""},{"$f":"IF($A416=I$1,$A417,\"\")","v":"Black"},{"$f":"IF($A416=J$1,$A417,\"\")","v":""},{"$f":"IF($A416=K$1,$A417,\"\")","v":""},{"$f":"IF($A416=L$1,$A417,\"\")","v":""}]
["Black",null,{"$f":"IF($A417=C$1,$A418,\"\")","v":""},{"$f":"IF($A417=D$1,$A418,\"\")","v":""},{"$f":"IF($A417=E$1,$A418,\"\")","v":""},{"$f":"IF($A417=F$1,$A418,\"\")","v":""},{"$f":"IF($A417=G$1,$A418,\"\")","v":""},{"$f":"IF($A417=H$1,$A418,\"\")","v":""},{"$f":"IF($A417=I$1,$A418,\"\")","v":"Black"},{"$f":"IF($A417=J$1,$A418,\"\")","v":""},{"$f":"IF($A417=K$1,$A418,\"\")","v":""},{"$f":"IF($A417=L$1,$A418,\"\")","v":""}]
["Black",null,{"$f":"IF($A418=C$1,$A419,\"\")","v":""},{"$f":"IF($A418=D$1,$A419,\"\")","v":""},{"$f":"IF($A418=E$1,$A419,\"\")","v":""},{"$f":"IF($A418=F$1,$A419,\"\")","v":""},{"$f":"IF($A418=G$1,$A419,\"\")","v":""},{"$f":"IF($A418=H$1,$A419,\"\")","v":""},{"$f":"IF($A418=I$1,$A419,\"\")","v":"Red"},{"$f":"IF($A418=J$1,$A419,\"\")","v":""},{"$f":"IF($A418=K$1,$A419,\"\")","v":""},{"$f":"IF($A418=L$1,$A419,\"\")","v":""}]
["Red",null,{"$f":"IF($A419=C$1,$A420,\"\")","v":""},{"$f":"IF($A419=D$1,$A420,\"\")","v":""},{"$f":"IF($A419=E$1,$A420,\"\")","v":""},{"$f":"IF($A419=F$1,$A420,\"\")","v":""},{"$f":"IF($A419=G$1,$A420,\"\")","v":""},{"$f":"IF($A419=H$1,$A420,\"\")","v":"Green"},{"$f":"IF($A419=I$1,$A420,\"\")","v":""},{"$f":"IF($A419=J$1,$A420,\"\")","v":""},{"$f":"IF($A419=K$1,$A420,\"\")","v":""},{"$f":"IF($A419=L$1,$A420,\"\")","v":""}]
["Green",null,{"$f":"IF($A420=C$1,$A421,\"\")","v":""},{"$f":"IF($A420=D$1,$A421,\"\")","v":""},{"$f":"IF($A420=E$1,$A421,\"\")","v":""},{"$f":"IF($A420=F$1,$A421,\"\")","v":""},{"$f":"IF($A420=G$1,$A421,\"\")","v":""},{"$f":"IF($A420=H$1,$A421,\"\")","v":""},{"$f":"IF($A420=I$1,$A421,\"\")","v":""},{"$f":"IF($A420=J$1,$A421,\"\")","v":""},{"$f":"IF($A420=K$1,$A421,\"\")","v":""},{"$f":"IF($A420=L$1,$A421,\"\")","v":"Purple"}]
["Purple",null,{"$f":"IF($A421=C$1,$A422,\"\")","v":""},{"$f":"IF($A421=D$1,$A422,\"\")","v":""},{"$f":"IF($A421=E$1,$A422,\"\")","v":""},{"$f":"IF($A421=F$1,$A422,\"\")","v":""},{"$f":"IF($A421=G$1,$A422,\"\")","v":""},{"$f":"IF($A421=H$1,$A422,\"\")","v":""},{"$f":"IF($A421=I$1,$A422,\"\")","v":""},{"$f":"IF($A421=J$1,$A422,\"\")","v":""},{"$f":"IF($A421=K$1,$A422,\"\")","v":"Orange"},{"$f":"IF($A421=L$1,$A422,\"\")","v":""}]
["Orange",null,{"$f":"IF($A422=C$1,$A423,\"\")","v":""},{"$f":"IF($A422=D$1,$A423,\"\")","v":"Black"},{"$f":"IF($A422=E$1,$A423,\"\")","v":""},{"$f":"IF($A422=F$1,$A423,\"\")","v":""},{"$f":"IF($A422=G$1,$A423,\"\")","v":""},{"$f":"IF($A422=H$1,$A423,\"\")","v":""},{"$f":"IF($A422=I$1,$A423,\"\")","v":""},{"$f":"IF($A422=J$1,$A423,\"\")","v":""},{"$f":"IF($A422=K$1,$A423,\"\")","v":""},{"$f":"IF($A422=L$1,$A423,\"\")","v":""}]
["Black",null,{"$f":"IF($A423=C$1,$A424,\"\")","v":""},{"$f":"IF($A423=D$1,$A424,\"\")","v":""},{"$f":"IF($A423=E$1,$A424,\"\")","v":""},{"$f":"IF($A423=F$1,$A424,\"\")","v":""},{"$f":"IF($A423=G$1,$A424,\"\")","v":""},{"$f":"IF($A423=H$1,$A424,\"\")","v":""},{"$f":"IF($A423=I$1,$A424,\"\")","v":"Blue"},{"$f":"IF($A423=J$1,$A424,\"\")","v":""},{"$f":"IF($A423=K$1,$A424,\"\")","v":""},{"$f":"IF($A423=L$1,$A424,\"\")","v":""}]
["Blue",null,{"$f":"IF($A424=C$1,$A425,\"\")","v":""},{"$f":"IF($A424=D$1,$A425,\"\")","v":""},{"$f":"IF($A424=E$1,$A425,\"\")","v":"Orange"},{"$f":"IF($A424=F$1,$A425,\"\")","v":""},{"$f":"IF($A424=G$1,$A425,\"\")","v":""},{"$f":"IF($A424=H$1,$A425,\"\")","v":""},{"$f":"IF($A424=I$1,$A425,\"\")","v":""},{"$f":"IF($A424=J$1,$A425,\"\")","v":""},{"$f":"IF($A424=K$1,$A425,\"\")","v":""},{"$f":"IF($A424=L$1,$A425,\"\")","v":""}]
["Orange",null,{"$f":"IF($A425=C$1,$A426,\"\")","v":""},{"$f":"IF($A425=D$1,$A426,\"\")","v":"Red"},{"$f":"IF($A425=E$1,$A426,\"\")","v":""},{"$f":"IF($A425=F$1,$A426,\"\")","v":""},{"$f":"IF($A425=G$1,$A426,\"\")","v":""},{"$f":"IF($A425=H$1,$A426,\"\")","v":""},{"$f":"IF($A425=I$1,$A426,\"\")","v":""},{"$f":"IF($A425=J$1,$A426,\"\")","v":""},{"$f":"IF($A425=K$1,$A426,\"\")","v":""},{"$f":"IF($A425=L$1,$A426,\"\")","v":""}]
["Red",null,{"$f":"IF($A426=C$1,$A427,\"\")","v":""},{"$f":"IF($A426=D$1,$A427,\"\")","v":""},{"$f":"IF($A426=E$1,$A427,\"\")","v":""},{"$f":"IF($A426=F$1,$A427,\"\")","v":""},{"$f":"IF($A426=G$1,$A427,\"\")","v":""},{"$f":"IF($A426=H$1,$A427,\"\")","v":"Purple"},{"$f":"IF($A426=I$1,$A427,\"\")","v":""},{"$f":"IF($A426=J$1,$A427,\"\")","v":""},{"$f":"IF($A426=K$1,$A427,\"\")","v":""},{"$f":"IF($A426=L$1,$A427,\"\")","v":""}]
["Purple",null,{"$f":"IF($A427=C$1,$A428,\"\")","v":""},{"$f":"IF($A427=D$1,$A428,\"\")","v":""},{"$f":"IF($A427=E$1,$A428,\"\")","v":""},{"$f":"IF($A427=F$1,$A428,\"\")","v":""},{"$f":"IF($A427=G$1,$A428,\"\")","v":""},{"$f":"IF($A427=H$1,$A428,\"\")","v":""},{"$f":"IF($A427=I$1,$A428,\"\")","v":""},{"$f":"IF($A427=J$1,$A428,\"\")","v":""},{"$f":"IF($A427=K$1,$A428,\"\")","v":"White"},{"$f":"IF($A427=L$1,$A428,\"\")","v":""}]
["White",null,{"$f":"IF($A428=C$1,$A429,\"\")","v":""},{"$f":"IF($A428=D$1,$A429,\"\")","v":""},{"$f":"IF($A428=E$1,$A429,\"\")","v":""},{"$f":"IF($A428=F$1,$A429,\"\")","v":""},{"$f":"IF($A428=G$1,$A429,\"\")","v":"Orange"},{"$f":"IF($A428=H$1,$A429,\"\")","v":""},{"$f":"IF($A428=I$1,$A429,\"\")","v":""},{"$f":"IF($A428=J$1,$A429,\"\")","v":""},{"$f":"IF($A428=K$1,$A429,\"\")","v":""},{"$f":"IF($A428=L$1,$A429,\"\")","v":""}]
["Orange",null,{"$f":"IF($A429=C$1,$A430,\"\")","v":""},{"$f":"IF($A429=D$1,$A430,\"\")","v":"Purple"},{"$f":"IF($A429=E$1,$A430,\"\")","v":""},{"$f":"IF($A429=F$1,$A430,\"\")","v":""},{"$f":"IF($A429=G$1,$A430,\"\")","v":""},{"$f":"IF($A429=H$1,$A430,\"\")","v":""},{"$f":"IF($A429=I$1,$A430,\"\")","v":""},{"$f":"IF($A429=J$1,$A430,\"\")","v":""},{"$f":"IF($A429=K$1,$A430,\"\")","v":""},{"$f":"IF($A429=L$1,$A430,\"\")","v":""}]
["Purple",null,{"$f":"IF($A430=C$1,$A431,\"\")","v":""},{"$f":"IF($A430=D$1,$A431,\"\")","v":""},{"$f":"IF($A430=E$1,$A431,\"\")","v":""},{"$f":"IF($A430=F$1,$A431,\"\")","v":""},{"$f":"IF($A430=G$1,$A431,\"\")","v":""},{"$f":"IF($A430=H$1,$A431,\"\")","v":""},{"$f":"IF($A430=I$1,$A431,\"\")","v":""},{"$f":"IF($A430=J$1,$A431,\"\")","v":""},{"$f":"IF($A430=K$1,$A431,\"\")","v":"Red"},{"$f":"IF($A430=L$1,$A431,\"\")","v":""}]
["Red",null,{"$f":"IF($A431=C$1,$A432,\"\")","v":""},{"$f":"IF($A431=D$1,$A432,\"\")","v":""},{"$f":"IF($A431=E$1,$A432,\"\")","v":""},{"$f":"IF($A431=F$1,$A432,\"\")","v":""},{"$f":"IF($A431=G$1,$A432,\"\")","v":""},{"$f":"IF($A431=H$1,$A432,\"\")","v":"Orange"},{"$f":"IF($A431=I$1,$A432,\"\")","v":""},{"$f":"IF($A431=J$1,$A432,\"\")","v":""},{"$f":"IF($A431=K$1,$A432,\"\")","v":""},{"$f":"IF($A431=L$1,$A432,\"\")","v":""}]
["Orange",null,{"$f":"IF($A432=C$1,$A433,\"\")","v":""},{"$f":"IF($A432=D$1,$A433,\"\")","v":"Green"},{"$f":"IF($A432=E$1,$A433,\"\")","v":""},{"$f":"IF($A432=F$1,$A433,\"\")","v":""},{"$f":"IF($A432=G$1,$A433,\"\")","v":""},{"$f":"IF($A432=H$1,$A433,\"\")","v":""},{"$f":"IF($A432=I$1,$A433,\"\")","v":""},{"$f":"IF($A432=J$1,$A433,\"\")","v":""},{"$f":"IF($A432=K$1,$A433,\"\")","v":""},{"$f":"IF($A432=L$1,$A433,\"\")","v":""}]
["Green",null,{"$f":"IF($A433=C$1,$A434,\"\")","v":""},{"$f":"IF($A433=D$1,$A434,\"\")","v":""},{"$f":"IF($A433=E$1,$A434,\"\")","v":""},{"$f":"IF($A433=F$1,$A434,\"\")","v":""},{"$f":"IF($A433=G$1,$A434,\"\")","v":""},{"$f":"IF($A433=H$1,$A434,\"\")","v":""},{"$f":"IF($A433=I$1,$A434,\"\")","v":""},{"$f":"IF($A433=J$1,$A434,\"\")","v":""},{"$f":"IF($A433=K$1,$A434,\"\")","v":""},{"$f":"IF($A433=L$1,$A434,\"\")","v":"Black"}]
["Black",null,{"$f":"IF($A434=C$1,$A435,\"\")","v":""},{"$f":"IF($A434=D$1,$A435,\"\")","v":""},{"$f":"IF($A434=E$1,$A435,\"\")","v":""},{"$f":"IF($A434=F$1,$A435,\"\")","v":""},{"$f":"IF($A434=G$1,$A435,\"\")","v":""},{"$f":"IF($A434=H$1,$A435,\"\")","v":""},{"$f":"IF($A434=I$1,$A435,\"\")","v":"Pink"},{"$f":"IF($A434=J$1,$A435,\"\")","v":""},{"$f":"IF($A434=K$1,$A435,\"\")","v":""},{"$f":"IF($A434=L$1,$A435,\"\")","v":""}]
["Pink",null,{"$f":"IF($A435=C$1,$A436,\"\")","v":""},{"$f":"IF($A435=D$1,$A436,\"\")","v":""},{"$f":"IF($A435=E$1,$A436,\"\")","v":""},{"$f":"IF($A435=F$1,$A436,\"\")","v":""},{"$f":"IF($A435=G$1,$A436,\"\")","v":""},{"$f":"IF($A435=H$1,$A436,\"\")","v":""},{"$f":"IF($A435=I$1,$A436,\"\")","v":""},{"$f":"IF($A435=J$1,$A436,\"\")","v":"Pink"},{"$f":"IF($A435=K$1,$A436,\"\")","v":""},{"$f":"IF($A435=L$1,$A436,\"\")","v":""}]
["Pink",null,{"$f":"IF($A436=C$1,$A437,\"\")","v":""},{"$f":"IF($A436=D$1,$A437,\"\")","v":""},{"$f":"IF($A436=E$1,$A437,\"\")","v":""},{"$f":"IF($A436=F$1,$A437,\"\")","v":""},{"$f":"IF($A436=G$1,$A437,\"\")","v":""},{"$f":"IF($A436=H$1,$A437,\"\")","v":""},{"$f":"IF($A436=I$1,$A437,\"\")","v":""},{"$f":"IF($A436=J$1,$A437,\"\")","v":"White"},{"$f":"IF($A436=K$1,$A437,\"\")","v":""},{"$f":"IF($A436=L$1,$A437,\"\")","v":""}]
["White",null,{"$f":"IF($A437=C$1,$A438,\"\")","v":""},{"$f":"IF($A437=D$1,$A438,\"\")","v":""},{"$f":"IF($A437=E$1,$A438,\"\")","v":""},{"$f":"IF($A437=F$1,$A438,\"\")","v":""},{"$f":"IF($A437=G$1,$A438,\"\")","v":"Purple"},{"$f":"IF($A437=H$1,$A438,\"\")","v":""},{"$f":"IF($A437=I$1,$A438,\"\")","v":""},{"$f":"IF($A437=J$1,$A438,\"\")","v":""},{"$f":"IF($A437=K$1,$A438,\"\")","v":""},{"$f":"IF($A437=L$1,$A438,\"\")","v":""}]
["Purple",null,{"$f":"IF($A438=C$1,$A439,\"\")","v":""},{"$f":"IF($A438=D$1,$A439,\"\")","v":""},{"$f":"IF($A438=E$1,$A439,\"\")","v":""},{"$f":"IF($A438=F$1,$A439,\"\")","v":""},{"$f":"IF($A438=G$1,$A439,\"\")","v":""},{"$f":"IF($A438=H$1,$A439,\"\")","v":""},{"$f":"IF($A438=I$1,$A439,\"\")","v":""},{"$f":"IF($A438=J$1,$A439,\"\")","v":""},{"$f":"IF($A438=K$1,$A439,\"\")","v":"Cyan"},{"$f":"IF($A438=L$1,$A439,\"\")","v":""}]
["Cyan",null,{"$f":"IF($A439=C$1,$A440,\"\")","v":""},{"$f":"IF($A439=D$1,$A440,\"\")","v":""},{"$f":"IF($A439=E$1,$A440,\"\")","v":""},{"$f":"IF($A439=F$1,$A440,\"\")","v":"Cyan"},{"$f":"IF($A439=G$1,$A440,\"\")","v":""},{"$f":"IF($A439=H$1,$A440,\"\")","v":""},{"$f":"IF($A439=I$1,$A440,\"\")","v":""},{"$f":"IF($A439=J$1,$A440,\"\")","v":""},{"$f":"IF($A439=K$1,$A440,\"\")","v":""},{"$f":"IF($A439=L$1,$A440,\"\")","v":""}]
["Cyan",null,{"$f":"IF($A440=C$1,$A441,\"\")","v":""},{"$f":"IF($A440=D$1,$A441,\"\")","v":""},{"$f":"IF($A440=E$1,$A441,\"\")","v":""},{"$f":"IF($A440=F$1,$A441,\"\")","v":"Purple"},{"$f":"IF($A440=G$1,$A441,\"\")","v":""},{"$f":"IF($A440=H$1,$A441,\"\")","v":""},{"$f":"IF($A440=I$1,$A441,\"\")","v":""},{"$f":"IF($A440=J$1,$A441,\"\")","v":""},{"$f":"IF($A440=K$1,$A441,\"\")","v":""},{"$f":"IF($A440=L$1,$A441,\"\")","v":""}]
["Purple",null,{"$f":"IF($A441=C$1,$A442,\"\")","v":""},{"$f":"IF($A441=D$1,$A442,\"\")","v":""},{"$f":"IF($A441=E$1,$A442,\"\")","v":""},{"$f":"IF($A441=F$1,$A442,\"\")","v":""},{"$f":"IF($A441=G$1,$A442,\"\")","v":""},{"$f":"IF($A441=H$1,$A442,\"\")","v":""},{"$f":"IF($A441=I$1,$A442,\"\")","v":""},{"$f":"IF($A441=J$1,$A442,\"\")","v":""},{"$f":"IF($A441=K$1,$A442,\"\")","v":"Red"},{"$f":"IF($A441=L$1,$A442,\"\")","v":""}]
["Red",null,{"$f":"IF($A442=C$1,$A443,\"\")","v":""},{"$f":"IF($A442=D$1,$A443,\"\")","v":""},{"$f":"IF($A442=E$1,$A443,\"\")","v":""},{"$f":"IF($A442=F$1,$A443,\"\")","v":""},{"$f":"IF($A442=G$1,$A443,\"\")","v":""},{"$f":"IF($A442=H$1,$A443,\"\")","v":"Red"},{"$f":"IF($A442=I$1,$A443,\"\")","v":""},{"$f":"IF($A442=J$1,$A443,\"\")","v":""},{"$f":"IF($A442=K$1,$A443,\"\")","v":""},{"$f":"IF($A442=L$1,$A443,\"\")","v":""}]
["Red",null,{"$f":"IF($A443=C$1,$A444,\"\")","v":""},{"$f":"IF($A443=D$1,$A444,\"\")","v":""},{"$f":"IF($A443=E$1,$A444,\"\")","v":""},{"$f":"IF($A443=F$1,$A444,\"\")","v":""},{"$f":"IF($A443=G$1,$A444,\"\")","v":""},{"$f":"IF($A443=H$1,$A444,\"\")","v":"Red"},{"$f":"IF($A443=I$1,$A444,\"\")","v":""},{"$f":"IF($A443=J$1,$A444,\"\")","v":""},{"$f":"IF($A443=K$1,$A444,\"\")","v":""},{"$f":"IF($A443=L$1,$A444,\"\")","v":""}]
["Red",null,{"$f":"IF($A444=C$1,$A445,\"\")","v":""},{"$f":"IF($A444=D$1,$A445,\"\")","v":""},{"$f":"IF($A444=E$1,$A445,\"\")","v":""},{"$f":"IF($A444=F$1,$A445,\"\")","v":""},{"$f":"IF($A444=G$1,$A445,\"\")","v":""},{"$f":"IF($A444=H$1,$A445,\"\")","v":"Black"},{"$f":"IF($A444=I$1,$A445,\"\")","v":""},{"$f":"IF($A444=J$1,$A445,\"\")","v":""},{"$f":"IF($A444=K$1,$A445,\"\")","v":""},{"$f":"IF($A444=L$1,$A445,\"\")","v":""}]
["Black",null,{"$f":"IF($A445=C$1,$A446,\"\")","v":""},{"$f":"IF($A445=D$1,$A446,\"\")","v":""},{"$f":"IF($A445=E$1,$A446,\"\")","v":""},{"$f":"IF($A445=F$1,$A446,\"\")","v":""},{"$f":"IF($A445=G$1,$A446,\"\")","v":""},{"$f":"IF($A445=H$1,$A446,\"\")","v":""},{"$f":"IF($A445=I$1,$A446,\"\")","v":"White"},{"$f":"IF($A445=J$1,$A446,\"\")","v":""},{"$f":"IF($A445=K$1,$A446,\"\")","v":""},{"$f":"IF($A445=L$1,$A446,\"\")","v":""}]
["White",null,{"$f":"IF($A446=C$1,$A447,\"\")","v":""},{"$f":"IF($A446=D$1,$A447,\"\")","v":""},{"$f":"IF($A446=E$1,$A447,\"\")","v":""},{"$f":"IF($A446=F$1,$A447,\"\")","v":""},{"$f":"IF($A446=G$1,$A447,\"\")","v":"Cyan"},{"$f":"IF($A446=H$1,$A447,\"\")","v":""},{"$f":"IF($A446=I$1,$A447,\"\")","v":""},{"$f":"IF($A446=J$1,$A447,\"\")","v":""},{"$f":"IF($A446=K$1,$A447,\"\")","v":""},{"$f":"IF($A446=L$1,$A447,\"\")","v":""}]
["Cyan",null,{"$f":"IF($A447=C$1,$A448,\"\")","v":""},{"$f":"IF($A447=D$1,$A448,\"\")","v":""},{"$f":"IF($A447=E$1,$A448,\"\")","v":""},{"$f":"IF($A447=F$1,$A448,\"\")","v":"Black"},{"$f":"IF($A447=G$1,$A448,\"\")","v":""},{"$f":"IF($A447=H$1,$A448,\"\")","v":""},{"$f":"IF($A447=I$1,$A448,\"\")","v":""},{"$f":"IF($A447=J$1,$A448,\"\")","v":""},{"$f":"IF($A447=K$1,$A448,\"\")","v":""},{"$f":"IF($A447=L$1,$A448,\"\")","v":""}]
["Black",null,{"$f":"IF($A448=C$1,$A449,\"\")","v":""},{"$f":"IF($A448=D$1,$A449,\"\")","v":""},{"$f":"IF($A448=E$1,$A449,\"\")","v":""},{"$f":"IF($A448=F$1,$A449,\"\")","v":""},{"$f":"IF($A448=G$1,$A449,\"\")","v":""},{"$f":"IF($A448=H$1,$A449,\"\")","v":""},{"$f":"IF($A448=I$1,$A449,\"\")","v":"Yellow"},{"$f":"IF($A448=J$1,$A449,\"\")","v":""},{"$f":"IF($A448=K$1,$A449,\"\")","v":""},{"$f":"IF($A448=L$1,$A449,\"\")","v":""}]
["Yellow",null,{"$f":"IF($A449=C$1,$A450,\"\")","v":"Cyan"},{"$f":"IF($A449=D$1,$A450,\"\")","v":""},{"$f":"IF($A449=E$1,$A450,\"\")","v":""},{"$f":"IF($A449=F$1,$A450,\"\")","v":""},{"$f":"IF($A449=G$1,$A450,\"\")","v":""},{"$f":"IF($A449=H$1,$A450,\"\")","v":""},{"$f":"IF($A449=I$1,$A450,\"\")","v":""},{"$f":"IF($A449=J$1,$A450,\"\")","v":""},{"$f":"IF($A449=K$1,$A450,\"\")","v":""},{"$f":"IF($A449=L$1,$A450,\"\")","v":""}]
["Cyan",null,{"$f":"IF($A450=C$1,$A451,\"\")","v":""},{"$f":"IF($A450=D$1,$A451,\"\")","v":""},{"$f":"IF($A450=E$1,$A451,\"\")","v":""},{"$f":"IF($A450=F$1,$A451,\"\")","v":"Black"},{"$f":"IF($A450=G$1,$A451,\"\")","v":""},{"$f":"IF($A450=H$1,$A451,\"\")","v":""},{"$f":"IF($A450=I$1,$A451,\"\")","v":""},{"$f":"IF($A450=J$1,$A451,\"\")","v":""},{"$f":"IF($A450=K$1,$A451,\"\")","v":""},{"$f":"IF($A450=L$1,$A451,\"\")","v":""}]
["Black",null,{"$f":"IF($A451=C$1,$A452,\"\")","v":""},{"$f":"IF($A451=D$1,$A452,\"\")","v":""},{"$f":"IF($A451=E$1,$A452,\"\")","v":""},{"$f":"IF($A451=F$1,$A452,\"\")","v":""},{"$f":"IF($A451=G$1,$A452,\"\")","v":""},{"$f":"IF($A451=H$1,$A452,\"\")","v":""},{"$f":"IF($A451=I$1,$A452,\"\")","v":"White"},{"$f":"IF($A451=J$1,$A452,\"\")","v":""},{"$f":"IF($A451=K$1,$A452,\"\")","v":""},{"$f":"IF($A451=L$1,$A452,\"\")","v":""}]
["White",null,{"$f":"IF($A452=C$1,$A453,\"\")","v":""},{"$f":"IF($A452=D$1,$A453,\"\")","v":""},{"$f":"IF($A452=E$1,$A453,\"\")","v":""},{"$f":"IF($A452=F$1,$A453,\"\")","v":""},{"$f":"IF($A452=G$1,$A453,\"\")","v":"Green"},{"$f":"IF($A452=H$1,$A453,\"\")","v":""},{"$f":"IF($A452=I$1,$A453,\"\")","v":""},{"$f":"IF($A452=J$1,$A453,\"\")","v":""},{"$f":"IF($A452=K$1,$A453,\"\")","v":""},{"$f":"IF($A452=L$1,$A453,\"\")","v":""}]
["Green",null,{"$f":"IF($A453=C$1,$A454,\"\")","v":""},{"$f":"IF($A453=D$1,$A454,\"\")","v":""},{"$f":"IF($A453=E$1,$A454,\"\")","v":""},{"$f":"IF($A453=F$1,$A454,\"\")","v":""},{"$f":"IF($A453=G$1,$A454,\"\")","v":""},{"$f":"IF($A453=H$1,$A454,\"\")","v":""},{"$f":"IF($A453=I$1,$A454,\"\")","v":""},{"$f":"IF($A453=J$1,$A454,\"\")","v":""},{"$f":"IF($A453=K$1,$A454,\"\")","v":""},{"$f":"IF($A453=L$1,$A454,\"\")","v":"Cyan"}]
["Cyan",null,{"$f":"IF($A454=C$1,$A455,\"\")","v":""},{"$f":"IF($A454=D$1,$A455,\"\")","v":""},{"$f":"IF($A454=E$1,$A455,\"\")","v":""},{"$f":"IF($A454=F$1,$A455,\"\")","v":"Cyan"},{"$f":"IF($A454=G$1,$A455,\"\")","v":""},{"$f":"IF($A454=H$1,$A455,\"\")","v":""},{"$f":"IF($A454=I$1,$A455,\"\")","v":""},{"$f":"IF($A454=J$1,$A455,\"\")","v":""},{"$f":"IF($A454=K$1,$A455,\"\")","v":""},{"$f":"IF($A454=L$1,$A455,\"\")","v":""}]
["Cyan",null,{"$f":"IF($A455=C$1,$A456,\"\")","v":""},{"$f":"IF($A455=D$1,$A456,\"\")","v":""},{"$f":"IF($A455=E$1,$A456,\"\")","v":""},{"$f":"IF($A455=F$1,$A456,\"\")","v":"Black"},{"$f":"IF($A455=G$1,$A456,\"\")","v":""},{"$f":"IF($A455=H$1,$A456,\"\")","v":""},{"$f":"IF($A455=I$1,$A456,\"\")","v":""},{"$f":"IF($A455=J$1,$A456,\"\")","v":""},{"$f":"IF($A455=K$1,$A456,\"\")","v":""},{"$f":"IF($A455=L$1,$A456,\"\")","v":""}]
["Black",null,{"$f":"IF($A456=C$1,$A457,\"\")","v":""},{"$f":"IF($A456=D$1,$A457,\"\")","v":""},{"$f":"IF($A456=E$1,$A457,\"\")","v":""},{"$f":"IF($A456=F$1,$A457,\"\")","v":""},{"$f":"IF($A456=G$1,$A457,\"\")","v":""},{"$f":"IF($A456=H$1,$A457,\"\")","v":""},{"$f":"IF($A456=I$1,$A457,\"\")","v":"Red"},{"$f":"IF($A456=J$1,$A457,\"\")","v":""},{"$f":"IF($A456=K$1,$A457,\"\")","v":""},{"$f":"IF($A456=L$1,$A457,\"\")","v":""}]
["Red",null,{"$f":"IF($A457=C$1,$A458,\"\")","v":""},{"$f":"IF($A457=D$1,$A458,\"\")","v":""},{"$f":"IF($A457=E$1,$A458,\"\")","v":""},{"$f":"IF($A457=F$1,$A458,\"\")","v":""},{"$f":"IF($A457=G$1,$A458,\"\")","v":""},{"$f":"IF($A457=H$1,$A458,\"\")","v":"Black"},{"$f":"IF($A457=I$1,$A458,\"\")","v":""},{"$f":"IF($A457=J$1,$A458,\"\")","v":""},{"$f":"IF($A457=K$1,$A458,\"\")","v":""},{"$f":"IF($A457=L$1,$A458,\"\")","v":""}]
["Black",null,{"$f":"IF($A458=C$1,$A459,\"\")","v":""},{"$f":"IF($A458=D$1,$A459,\"\")","v":""},{"$f":"IF($A458=E$1,$A459,\"\")","v":""},{"$f":"IF($A458=F$1,$A459,\"\")","v":""},{"$f":"IF($A458=G$1,$A459,\"\")","v":""},{"$f":"IF($A458=H$1,$A459,\"\")","v":""},{"$f":"IF($A458=I$1,$A459,\"\")","v":"Red"},{"$f":"IF($A458=J$1,$A459,\"\")","v":""},{"$f":"IF($A458=K$1,$A459,\"\")","v":""},{"$f":"IF($A458=L$1,$A459,\"\")","v":""}]
["Red",null,{"$f":"IF($A459=C$1,$A460,\"\")","v":""},{"$f":"IF($A459=D$1,$A460,\"\")","v":""},{"$f":"IF($A459=E$1,$A460,\"\")","v":""},{"$f":"IF($A459=F$1,$A460,\"\")","v":""},{"$f":"IF($A459=G$1,$A460,\"\")","v":""},{"$f":"IF($A459=H$1,$A460,\"\")","v":"Blue"},{"$f":"IF($A459=I$1,$A460,\"\")","v":""},{"$f":"IF($A459=J$1,$A460,\"\")","v":""},{"$f":"IF($A459=K$1,$A460,\"\")","v":""},{"$f":"IF($A459=L$1,$A460,\"\")","v":""}]
["Blue",null,{"$f":"IF($A460=C$1,$A461,\"\")","v":""},{"$f":"IF($A460=D$1,$A461,\"\")","v":""},{"$f":"IF($A460=E$1,$A461,\"\")","v":"Yellow"},{"$f":"IF($A460=F$1,$A461,\"\")","v":""},{"$f":"IF($A460=G$1,$A461,\"\")","v":""},{"$f":"IF($A460=H$1,$A461,\"\")","v":""},{"$f":"IF($A460=I$1,$A461,\"\")","v":""},{"$f":"IF($A460=J$1,$A461,\"\")","v":""},{"$f":"IF($A460=K$1,$A461,\"\")","v":""},{"$f":"IF($A460=L$1,$A461,\"\")","v":""}]
["Yellow",null,{"$f":"IF($A461=C$1,$A462,\"\")","v":"Purple"},{"$f":"IF($A461=D$1,$A462,\"\")","v":""},{"$f":"IF($A461=E$1,$A462,\"\")","v":""},{"$f":"IF($A461=F$1,$A462,\"\")","v":""},{"$f":"IF($A461=G$1,$A462,\"\")","v":""},{"$f":"IF($A461=H$1,$A462,\"\")","v":""},{"$f":"IF($A461=I$1,$A462,\"\")","v":""},{"$f":"IF($A461=J$1,$A462,\"\")","v":""},{"$f":"IF($A461=K$1,$A462,\"\")","v":""},{"$f":"IF($A461=L$1,$A462,\"\")","v":""}]
["Purple",null,{"$f":"IF($A462=C$1,$A463,\"\")","v":""},{"$f":"IF($A462=D$1,$A463,\"\")","v":""},{"$f":"IF($A462=E$1,$A463,\"\")","v":""},{"$f":"IF($A462=F$1,$A463,\"\")","v":""},{"$f":"IF($A462=G$1,$A463,\"\")","v":""},{"$f":"IF($A462=H$1,$A463,\"\")","v":""},{"$f":"IF($A462=I$1,$A463,\"\")","v":""},{"$f":"IF($A462=J$1,$A463,\"\")","v":""},{"$f":"IF($A462=K$1,$A463,\"\")","v":"Blue"},{"$f":"IF($A462=L$1,$A463,\"\")","v":""}]
["Blue",null,{"$f":"IF($A463=C$1,$A464,\"\")","v":""},{"$f":"IF($A463=D$1,$A464,\"\")","v":""},{"$f":"IF($A463=E$1,$A464,\"\")","v":"Green"},{"$f":"IF($A463=F$1,$A464,\"\")","v":""},{"$f":"IF($A463=G$1,$A464,\"\")","v":""},{"$f":"IF($A463=H$1,$A464,\"\")","v":""},{"$f":"IF($A463=I$1,$A464,\"\")","v":""},{"$f":"IF($A463=J$1,$A464,\"\")","v":""},{"$f":"IF($A463=K$1,$A464,\"\")","v":""},{"$f":"IF($A463=L$1,$A464,\"\")","v":""}]
["Green",null,{"$f":"IF($A464=C$1,$A465,\"\")","v":""},{"$f":"IF($A464=D$1,$A465,\"\")","v":""},{"$f":"IF($A464=E$1,$A465,\"\")","v":""},{"$f":"IF($A464=F$1,$A465,\"\")","v":""},{"$f":"IF($A464=G$1,$A465,\"\")","v":""},{"$f":"IF($A464=H$1,$A465,\"\")","v":""},{"$f":"IF($A464=I$1,$A465,\"\")","v":""},{"$f":"IF($A464=J$1,$A465,\"\")","v":""},{"$f":"IF($A464=K$1,$A465,\"\")","v":""},{"$f":"IF($A464=L$1,$A465,\"\")","v":"Red"}]
["Red",null,{"$f":"IF($A465=C$1,$A466,\"\")","v":""},{"$f":"IF($A465=D$1,$A466,\"\")","v":""},{"$f":"IF($A465=E$1,$A466,\"\")","v":""},{"$f":"IF($A465=F$1,$A466,\"\")","v":""},{"$f":"IF($A465=G$1,$A466,\"\")","v":""},{"$f":"IF($A465=H$1,$A466,\"\")","v":"Black"},{"$f":"IF($A465=I$1,$A466,\"\")","v":""},{"$f":"IF($A465=J$1,$A466,\"\")","v":""},{"$f":"IF($A465=K$1,$A466,\"\")","v":""},{"$f":"IF($A465=L$1,$A466,\"\")","v":""}]
["Black",null,{"$f":"IF($A466=C$1,$A467,\"\")","v":""},{"$f":"IF($A466=D$1,$A467,\"\")","v":""},{"$f":"IF($A466=E$1,$A467,\"\")","v":""},{"$f":"IF($A466=F$1,$A467,\"\")","v":""},{"$f":"IF($A466=G$1,$A467,\"\")","v":""},{"$f":"IF($A466=H$1,$A467,\"\")","v":""},{"$f":"IF($A466=I$1,$A467,\"\")","v":"White"},{"$f":"IF($A466=J$1,$A467,\"\")","v":""},{"$f":"IF($A466=K$1,$A467,\"\")","v":""},{"$f":"IF($A466=L$1,$A467,\"\")","v":""}]
["White",null,{"$f":"IF($A467=C$1,$A468,\"\")","v":""},{"$f":"IF($A467=D$1,$A468,\"\")","v":""},{"$f":"IF($A467=E$1,$A468,\"\")","v":""},{"$f":"IF($A467=F$1,$A468,\"\")","v":""},{"$f":"IF($A467=G$1,$A468,\"\")","v":"Black"},{"$f":"IF($A467=H$1,$A468,\"\")","v":""},{"$f":"IF($A467=I$1,$A468,\"\")","v":""},{"$f":"IF($A467=J$1,$A468,\"\")","v":""},{"$f":"IF($A467=K$1,$A468,\"\")","v":""},{"$f":"IF($A467=L$1,$A468,\"\")","v":""}]
["Black",null,{"$f":"IF($A468=C$1,$A469,\"\")","v":""},{"$f":"IF($A468=D$1,$A469,\"\")","v":""},{"$f":"IF($A468=E$1,$A469,\"\")","v":""},{"$f":"IF($A468=F$1,$A469,\"\")","v":""},{"$f":"IF($A468=G$1,$A469,\"\")","v":""},{"$f":"IF($A468=H$1,$A469,\"\")","v":""},{"$f":"IF($A468=I$1,$A469,\"\")","v":"Orange"},{"$f":"IF($A468=J$1,$A469,\"\")","v":""},{"$f":"IF($A468=K$1,$A469,\"\")","v":""},{"$f":"IF($A468=L$1,$A469,\"\")","v":""}]
["Orange",null,{"$f":"IF($A469=C$1,$A470,\"\")","v":""},{"$f":"IF($A469=D$1,$A470,\"\")","v":"Red"},{"$f":"IF($A469=E$1,$A470,\"\")","v":""},{"$f":"IF($A469=F$1,$A470,\"\")","v":""},{"$f":"IF($A469=G$1,$A470,\"\")","v":""},{"$f":"IF($A469=H$1,$A470,\"\")","v":""},{"$f":"IF($A469=I$1,$A470,\"\")","v":""},{"$f":"IF($A469=J$1,$A470,\"\")","v":""},{"$f":"IF($A469=K$1,$A470,\"\")","v":""},{"$f":"IF($A469=L$1,$A470,\"\")","v":""}]
["Red",null,{"$f":"IF($A470=C$1,$A471,\"\")","v":""},{"$f":"IF($A470=D$1,$A471,\"\")","v":""},{"$f":"IF($A470=E$1,$A471,\"\")","v":""},{"$f":"IF($A470=F$1,$A471,\"\")","v":""},{"$f":"IF($A470=G$1,$A471,\"\")","v":""},{"$f":"IF($A470=H$1,$A471,\"\")","v":"Cyan"},{"$f":"IF($A470=I$1,$A471,\"\")","v":""},{"$f":"IF($A470=J$1,$A471,\"\")","v":""},{"$f":"IF($A470=K$1,$A471,\"\")","v":""},{"$f":"IF($A470=L$1,$A471,\"\")","v":""}]
["Cyan",null,{"$f":"IF($A471=C$1,$A472,\"\")","v":""},{"$f":"IF($A471=D$1,$A472,\"\")","v":""},{"$f":"IF($A471=E$1,$A472,\"\")","v":""},{"$f":"IF($A471=F$1,$A472,\"\")","v":"Purple"},{"$f":"IF($A471=G$1,$A472,\"\")","v":""},{"$f":"IF($A471=H$1,$A472,\"\")","v":""},{"$f":"IF($A471=I$1,$A472,\"\")","v":""},{"$f":"IF($A471=J$1,$A472,\"\")","v":""},{"$f":"IF($A471=K$1,$A472,\"\")","v":""},{"$f":"IF($A471=L$1,$A472,\"\")","v":""}]
["Purple",null,{"$f":"IF($A472=C$1,$A473,\"\")","v":""},{"$f":"IF($A472=D$1,$A473,\"\")","v":""},{"$f":"IF($A472=E$1,$A473,\"\")","v":""},{"$f":"IF($A472=F$1,$A473,\"\")","v":""},{"$f":"IF($A472=G$1,$A473,\"\")","v":""},{"$f":"IF($A472=H$1,$A473,\"\")","v":""},{"$f":"IF($A472=I$1,$A473,\"\")","v":""},{"$f":"IF($A472=J$1,$A473,\"\")","v":""},{"$f":"IF($A472=K$1,$A473,\"\")","v":"Blue"},{"$f":"IF($A472=L$1,$A473,\"\")","v":""}]
["Blue",null,{"$f":"IF($A473=C$1,$A474,\"\")","v":""},{"$f":"IF($A473=D$1,$A474,\"\")","v":""},{"$f":"IF($A473=E$1,$A474,\"\")","v":"Green"},{"$f":"IF($A473=F$1,$A474,\"\")","v":""},{"$f":"IF($A473=G$1,$A474,\"\")","v":""},{"$f":"IF($A473=H$1,$A474,\"\")","v":""},{"$f":"IF($A473=I$1,$A474,\"\")","v":""},{"$f":"IF($A473=J$1,$A474,\"\")","v":""},{"$f":"IF($A473=K$1,$A474,\"\")","v":""},{"$f":"IF($A473=L$1,$A474,\"\")","v":""}]
["Green",null,{"$f":"IF($A474=C$1,$A475,\"\")","v":""},{"$f":"IF($A474=D$1,$A475,\"\")","v":""},{"$f":"IF($A474=E$1,$A475,\"\")","v":""},{"$f":"IF($A474=F$1,$A475,\"\")","v":""},{"$f":"IF($A474=G$1,$A475,\"\")","v":""},{"$f":"IF($A474=H$1,$A475,\"\")","v":""},{"$f":"IF($A474=I$1,$A475,\"\")","v":""},{"$f":"IF($A474=J$1,$A475,\"\")","v":""},{"$f":"IF($A474=K$1,$A475,\"\")","v":""},{"$f":"IF($A474=L$1,$A475,\"\")","v":"Blue"}]
["Blue",null,{"$f":"IF($A475=C$1,$A476,\"\")","v":""},{"$f":"IF($A475=D$1,$A476,\"\")","v":""},{"$f":"IF($A475=E$1,$A476,\"\")","v":"Orange"},{"$f":"IF($A475=F$1,$A476,\"\")","v":""},{"$f":"IF($A475=G$1,$A476,\"\")","v":""},{"$f":"IF($A475=H$1,$A476,\"\")","v":""},{"$f":"IF($A475=I$1,$A476,\"\")","v":""},{"$f":"IF($A475=J$1,$A476,\"\")","v":""},{"$f":"IF($A475=K$1,$A476,\"\")","v":""},{"$f":"IF($A475=L$1,$A476,\"\")","v":""}]
["Orange",null,{"$f":"IF($A476=C$1,$A477,\"\")","v":""},{"$f":"IF($A476=D$1,$A477,\"\")","v":"Black"},{"$f":"IF($A476=E$1,$A477,\"\")","v":""},{"$f":"IF($A476=F$1,$A477,\"\")","v":""},{"$f":"IF($A476=G$1,$A477,\"\")","v":""},{"$f":"IF($A476=H$1,$A477,\"\")","v":""},{"$f":"IF($A476=I$1,$A477,\"\")","v":""},{"$f":"IF($A476=J$1,$A477,\"\")","v":""},{"$f":"IF($A476=K$1,$A477,\"\")","v":""},{"$f":"IF($A476=L$1,$A477,\"\")","v":""}]
["Black",null,{"$f":"IF($A477=C$1,$A478,\"\")","v":""},{"$f":"IF($A477=D$1,$A478,\"\")","v":""},{"$f":"IF($A477=E$1,$A478,\"\")","v":""},{"$f":"IF($A477=F$1,$A478,\"\")","v":""},{"$f":"IF($A477=G$1,$A478,\"\")","v":""},{"$f":"IF($A477=H$1,$A478,\"\")","v":""},{"$f":"IF($A477=I$1,$A478,\"\")","v":"Red"},{"$f":"IF($A477=J$1,$A478,\"\")","v":""},{"$f":"IF($A477=K$1,$A478,\"\")","v":""},{"$f":"IF($A477=L$1,$A478,\"\")","v":""}]
["Red",null,{"$f":"IF($A478=C$1,$A479,\"\")","v":""},{"$f":"IF($A478=D$1,$A479,\"\")","v":""},{"$f":"IF($A478=E$1,$A479,\"\")","v":""},{"$f":"IF($A478=F$1,$A479,\"\")","v":""},{"$f":"IF($A478=G$1,$A479,\"\")","v":""},{"$f":"IF($A478=H$1,$A479,\"\")","v":"Pink"},{"$f":"IF($A478=I$1,$A479,\"\")","v":""},{"$f":"IF($A478=J$1,$A479,\"\")","v":""},{"$f":"IF($A478=K$1,$A479,\"\")","v":""},{"$f":"IF($A478=L$1,$A479,\"\")","v":""}]
["Pink",null,{"$f":"IF($A479=C$1,$A480,\"\")","v":""},{"$f":"IF($A479=D$1,$A480,\"\")","v":""},{"$f":"IF($A479=E$1,$A480,\"\")","v":""},{"$f":"IF($A479=F$1,$A480,\"\")","v":""},{"$f":"IF($A479=G$1,$A480,\"\")","v":""},{"$f":"IF($A479=H$1,$A480,\"\")","v":""},{"$f":"IF($A479=I$1,$A480,\"\")","v":""},{"$f":"IF($A479=J$1,$A480,\"\")","v":"Red"},{"$f":"IF($A479=K$1,$A480,\"\")","v":""},{"$f":"IF($A479=L$1,$A480,\"\")","v":""}]
["Red",null,{"$f":"IF($A480=C$1,$A481,\"\")","v":""},{"$f":"IF($A480=D$1,$A481,\"\")","v":""},{"$f":"IF($A480=E$1,$A481,\"\")","v":""},{"$f":"IF($A480=F$1,$A481,\"\")","v":""},{"$f":"IF($A480=G$1,$A481,\"\")","v":""},{"$f":"IF($A480=H$1,$A481,\"\")","v":"Orange"},{"$f":"IF($A480=I$1,$A481,\"\")","v":""},{"$f":"IF($A480=J$1,$A481,\"\")","v":""},{"$f":"IF($A480=K$1,$A481,\"\")","v":""},{"$f":"IF($A480=L$1,$A481,\"\")","v":""}]
["Orange",null,{"$f":"IF($A481=C$1,$A482,\"\")","v":""},{"$f":"IF($A481=D$1,$A482,\"\")","v":"Cyan"},{"$f":"IF($A481=E$1,$A482,\"\")","v":""},{"$f":"IF($A481=F$1,$A482,\"\")","v":""},{"$f":"IF($A481=G$1,$A482,\"\")","v":""},{"$f":"IF($A481=H$1,$A482,\"\")","v":""},{"$f":"IF($A481=I$1,$A482,\"\")","v":""},{"$f":"IF($A481=J$1,$A482,\"\")","v":""},{"$f":"IF($A481=K$1,$A482,\"\")","v":""},{"$f":"IF($A481=L$1,$A482,\"\")","v":""}]
["Cyan",null,{"$f":"IF($A482=C$1,$A483,\"\")","v":""},{"$f":"IF($A482=D$1,$A483,\"\")","v":""},{"$f":"IF($A482=E$1,$A483,\"\")","v":""},{"$f":"IF($A482=F$1,$A483,\"\")","v":"Green"},{"$f":"IF($A482=G$1,$A483,\"\")","v":""},{"$f":"IF($A482=H$1,$A483,\"\")","v":""},{"$f":"IF($A482=I$1,$A483,\"\")","v":""},{"$f":"IF($A482=J$1,$A483,\"\")","v":""},{"$f":"IF($A482=K$1,$A483,\"\")","v":""},{"$f":"IF($A482=L$1,$A483,\"\")","v":""}]
["Green",null,{"$f":"IF($A483=C$1,$A484,\"\")","v":""},{"$f":"IF($A483=D$1,$A484,\"\")","v":""},{"$f":"IF($A483=E$1,$A484,\"\")","v":""},{"$f":"IF($A483=F$1,$A484,\"\")","v":""},{"$f":"IF($A483=G$1,$A484,\"\")","v":""},{"$f":"IF($A483=H$1,$A484,\"\")","v":""},{"$f":"IF($A483=I$1,$A484,\"\")","v":""},{"$f":"IF($A483=J$1,$A484,\"\")","v":""},{"$f":"IF($A483=K$1,$A484,\"\")","v":""},{"$f":"IF($A483=L$1,$A484,\"\")","v":"Black"}]
["Black",null,{"$f":"IF($A484=C$1,$A485,\"\")","v":""},{"$f":"IF($A484=D$1,$A485,\"\")","v":""},{"$f":"IF($A484=E$1,$A485,\"\")","v":""},{"$f":"IF($A484=F$1,$A485,\"\")","v":""},{"$f":"IF($A484=G$1,$A485,\"\")","v":""},{"$f":"IF($A484=H$1,$A485,\"\")","v":""},{"$f":"IF($A484=I$1,$A485,\"\")","v":"Red"},{"$f":"IF($A484=J$1,$A485,\"\")","v":""},{"$f":"IF($A484=K$1,$A485,\"\")","v":""},{"$f":"IF($A484=L$1,$A485,\"\")","v":""}]
["Red",null,{"$f":"IF($A485=C$1,$A486,\"\")","v":""},{"$f":"IF($A485=D$1,$A486,\"\")","v":""},{"$f":"IF($A485=E$1,$A486,\"\")","v":""},{"$f":"IF($A485=F$1,$A486,\"\")","v":""},{"$f":"IF($A485=G$1,$A486,\"\")","v":""},{"$f":"IF($A485=H$1,$A486,\"\")","v":"Red"},{"$f":"IF($A485=I$1,$A486,\"\")","v":""},{"$f":"IF($A485=J$1,$A486,\"\")","v":""},{"$f":"IF($A485=K$1,$A486,\"\")","v":""},{"$f":"IF($A485=L$1,$A486,\"\")","v":""}]
["Red",null,{"$f":"IF($A486=C$1,$A487,\"\")","v":""},{"$f":"IF($A486=D$1,$A487,\"\")","v":""},{"$f":"IF($A486=E$1,$A487,\"\")","v":""},{"$f":"IF($A486=F$1,$A487,\"\")","v":""},{"$f":"IF($A486=G$1,$A487,\"\")","v":""},{"$f":"IF($A486=H$1,$A487,\"\")","v":"Cyan"},{"$f":"IF($A486=I$1,$A487,\"\")","v":""},{"$f":"IF($A486=J$1,$A487,\"\")","v":""},{"$f":"IF($A486=K$1,$A487,\"\")","v":""},{"$f":"IF($A486=L$1,$A487,\"\")","v":""}]
["Cyan",null,{"$f":"IF($A487=C$1,$A488,\"\")","v":""},{"$f":"IF($A487=D$1,$A488,\"\")","v":""},{"$f":"IF($A487=E$1,$A488,\"\")","v":""},{"$f":"IF($A487=F$1,$A488,\"\")","v":"Blue"},{"$f":"IF($A487=G$1,$A488,\"\")","v":""},{"$f":"IF($A487=H$1,$A488,\"\")","v":""},{"$f":"IF($A487=I$1,$A488,\"\")","v":""},{"$f":"IF($A487=J$1,$A488,\"\")","v":""},{"$f":"IF($A487=K$1,$A488,\"\")","v":""},{"$f":"IF($A487=L$1,$A488,\"\")","v":""}]
["Blue",null,{"$f":"IF($A488=C$1,$A489,\"\")","v":""},{"$f":"IF($A488=D$1,$A489,\"\")","v":""},{"$f":"IF($A488=E$1,$A489,\"\")","v":"Blue"},{"$f":"IF($A488=F$1,$A489,\"\")","v":""},{"$f":"IF($A488=G$1,$A489,\"\")","v":""},{"$f":"IF($A488=H$1,$A489,\"\")","v":""},{"$f":"IF($A488=I$1,$A489,\"\")","v":""},{"$f":"IF($A488=J$1,$A489,\"\")","v":""},{"$f":"IF($A488=K$1,$A489,\"\")","v":""},{"$f":"IF($A488=L$1,$A489,\"\")","v":""}]
["Blue",null,{"$f":"IF($A489=C$1,$A490,\"\")","v":""},{"$f":"IF($A489=D$1,$A490,\"\")","v":""},{"$f":"IF($A489=E$1,$A490,\"\")","v":"Red"},{"$f":"IF($A489=F$1,$A490,\"\")","v":""},{"$f":"IF($A489=G$1,$A490,\"\")","v":""},{"$f":"IF($A489=H$1,$A490,\"\")","v":""},{"$f":"IF($A489=I$1,$A490,\"\")","v":""},{"$f":"IF($A489=J$1,$A490,\"\")","v":""},{"$f":"IF($A489=K$1,$A490,\"\")","v":""},{"$f":"IF($A489=L$1,$A490,\"\")","v":""}]
["Red",null,{"$f":"IF($A490=C$1,$A491,\"\")","v":""},{"$f":"IF($A490=D$1,$A491,\"\")","v":""},{"$f":"IF($A490=E$1,$A491,\"\")","v":""},{"$f":"IF($A490=F$1,$A491,\"\")","v":""},{"$f":"IF($A490=G$1,$A491,\"\")","v":""},{"$f":"IF($A490=H$1,$A491,\"\")","v":"Orange"},{"$f":"IF($A490=I$1,$A491,\"\")","v":""},{"$f":"IF($A490=J$1,$A491,\"\")","v":""},{"$f":"IF($A490=K$1,$A491,\"\")","v":""},{"$f":"IF($A490=L$1,$A491,\"\")","v":""}]
["Orange",null,{"$f":"IF($A491=C$1,$A492,\"\")","v":""},{"$f":"IF($A491=D$1,$A492,\"\")","v":"Yellow"},{"$f":"IF($A491=E$1,$A492,\"\")","v":""},{"$f":"IF($A491=F$1,$A492,\"\")","v":""},{"$f":"IF($A491=G$1,$A492,\"\")","v":""},{"$f":"IF($A491=H$1,$A492,\"\")","v":""},{"$f":"IF($A491=I$1,$A492,\"\")","v":""},{"$f":"IF($A491=J$1,$A492,\"\")","v":""},{"$f":"IF($A491=K$1,$A492,\"\")","v":""},{"$f":"IF($A491=L$1,$A492,\"\")","v":""}]
["Yellow",null,{"$f":"IF($A492=C$1,$A493,\"\")","v":"White"},{"$f":"IF($A492=D$1,$A493,\"\")","v":""},{"$f":"IF($A492=E$1,$A493,\"\")","v":""},{"$f":"IF($A492=F$1,$A493,\"\")","v":""},{"$f":"IF($A492=G$1,$A493,\"\")","v":""},{"$f":"IF($A492=H$1,$A493,\"\")","v":""},{"$f":"IF($A492=I$1,$A493,\"\")","v":""},{"$f":"IF($A492=J$1,$A493,\"\")","v":""},{"$f":"IF($A492=K$1,$A493,\"\")","v":""},{"$f":"IF($A492=L$1,$A493,\"\")","v":""}]
["White",null,{"$f":"IF($A493=C$1,$A494,\"\")","v":""},{"$f":"IF($A493=D$1,$A494,\"\")","v":""},{"$f":"IF($A493=E$1,$A494,\"\")","v":""},{"$f":"IF($A493=F$1,$A494,\"\")","v":""},{"$f":"IF($A493=G$1,$A494,\"\")","v":"Blue"},{"$f":"IF($A493=H$1,$A494,\"\")","v":""},{"$f":"IF($A493=I$1,$A494,\"\")","v":""},{"$f":"IF($A493=J$1,$A494,\"\")","v":""},{"$f":"IF($A493=K$1,$A494,\"\")","v":""},{"$f":"IF($A493=L$1,$A494,\"\")","v":""}]
["Blue",null,{"$f":"IF($A494=C$1,$A495,\"\")","v":""},{"$f":"IF($A494=D$1,$A495,\"\")","v":""},{"$f":"IF($A494=E$1,$A495,\"\")","v":"Green"},{"$f":"IF($A494=F$1,$A495,\"\")","v":""},{"$f":"IF($A494=G$1,$A495,\"\")","v":""},{"$f":"IF($A494=H$1,$A495,\"\")","v":""},{"$f":"IF($A494=I$1,$A495,\"\")","v":""},{"$f":"IF($A494=J$1,$A495,\"\")","v":""},{"$f":"IF($A494=K$1,$A495,\"\")","v":""},{"$f":"IF($A494=L$1,$A495,\"\")","v":""}]
["Green",null,{"$f":"IF($A495=C$1,$A496,\"\")","v":""},{"$f":"IF($A495=D$1,$A496,\"\")","v":""},{"$f":"IF($A495=E$1,$A496,\"\")","v":""},{"$f":"IF($A495=F$1,$A496,\"\")","v":""},{"$f":"IF($A495=G$1,$A496,\"\")","v":""},{"$f":"IF($A495=H$1,$A496,\"\")","v":""},{"$f":"IF($A495=I$1,$A496,\"\")","v":""},{"$f":"IF($A495=J$1,$A496,\"\")","v":""},{"$f":"IF($A495=K$1,$A496,\"\")","v":""},{"$f":"IF($A495=L$1,$A496,\"\")","v":"Cyan"}]
["Cyan",null,{"$f":"IF($A496=C$1,$A497,\"\")","v":""},{"$f":"IF($A496=D$1,$A497,\"\")","v":""},{"$f":"IF($A496=E$1,$A497,\"\")","v":""},{"$f":"IF($A496=F$1,$A497,\"\")","v":"Orange"},{"$f":"IF($A496=G$1,$A497,\"\")","v":""},{"$f":"IF($A496=H$1,$A497,\"\")","v":""},{"$f":"IF($A496=I$1,$A497,\"\")","v":""},{"$f":"IF($A496=J$1,$A497,\"\")","v":""},{"$f":"IF($A496=K$1,$A497,\"\")","v":""},{"$f":"IF($A496=L$1,$A497,\"\")","v":""}]
["Orange",null,{"$f":"IF($A497=C$1,$A498,\"\")","v":""},{"$f":"IF($A497=D$1,$A498,\"\")","v":"Yellow"},{"$f":"IF($A497=E$1,$A498,\"\")","v":""},{"$f":"IF($A497=F$1,$A498,\"\")","v":""},{"$f":"IF($A497=G$1,$A498,\"\")","v":""},{"$f":"IF($A497=H$1,$A498,\"\")","v":""},{"$f":"IF($A497=I$1,$A498,\"\")","v":""},{"$f":"IF($A497=J$1,$A498,\"\")","v":""},{"$f":"IF($A497=K$1,$A498,\"\")","v":""},{"$f":"IF($A497=L$1,$A498,\"\")","v":""}]
["Yellow",null,{"$f":"IF($A498=C$1,$A499,\"\")","v":"Pink"},{"$f":"IF($A498=D$1,$A499,\"\")","v":""},{"$f":"IF($A498=E$1,$A499,\"\")","v":""},{"$f":"IF($A498=F$1,$A499,\"\")","v":""},{"$f":"IF($A498=G$1,$A499,\"\")","v":""},{"$f":"IF($A498=H$1,$A499,\"\")","v":""},{"$f":"IF($A498=I$1,$A499,\"\")","v":""},{"$f":"IF($A498=J$1,$A499,\"\")","v":""},{"$f":"IF($A498=K$1,$A499,\"\")","v":""},{"$f":"IF($A498=L$1,$A499,\"\")","v":""}]
["Pink",null,{"$f":"IF($A499=C$1,$A500,\"\")","v":""},{"$f":"IF($A499=D$1,$A500,\"\")","v":""},{"$f":"IF($A499=E$1,$A500,\"\")","v":""},{"$f":"IF($A499=F$1,$A500,\"\")","v":""},{"$f":"IF($A499=G$1,$A500,\"\")","v":""},{"$f":"IF($A499=H$1,$A500,\"\")","v":""},{"$f":"IF($A499=I$1,$A500,\"\")","v":""},{"$f":"IF($A499=J$1,$A500,\"\")","v":"Red"},{"$f":"IF($A499=K$1,$A500,\"\")","v":""},{"$f":"IF($A499=L$1,$A500,\"\")","v":""}]
["Red",null,{"$f":"IF($A500=C$1,$A501,\"\")","v":""},{"$f":"IF($A500=D$1,$A501,\"\")","v":""},{"$f":"IF($A500=E$1,$A501,\"\")","v":""},{"$f":"IF($A500=F$1,$A501,\"\")","v":""},{"$f":"IF($A500=G$1,$A501,\"\")","v":""},{"$f":"IF($A500=H$1,$A501,\"\")","v":"Blue"},{"$f":"IF($A500=I$1,$A501,\"\")","v":""},{"$f":"IF($A500=J$1,$A501,\"\")","v":""},{"$f":"IF($A500=K$1,$A501,\"\")","v":""},{"$f":"IF($A500=L$1,$A501,\"\")","v":""}]
["Blue",null,{"$f":"IF($A501=C$1,$A502,\"\")","v":""},{"$f":"IF($A501=D$1,$A502,\"\")","v":""},{"$f":"IF($A501=E$1,$A502,\"\")","v":"Pink"},{"$f":"IF($A501=F$1,$A502,\"\")","v":""},{"$f":"IF($A501=G$1,$A502,\"\")","v":""},{"$f":"IF($A501=H$1,$A502,\"\")","v":""},{"$f":"IF($A501=I$1,$A502,\"\")","v":""},{"$f":"IF($A501=J$1,$A502,\"\")","v":""},{"$f":"IF($A501=K$1,$A502,\"\")","v":""},{"$f":"IF($A501=L$1,$A502,\"\")","v":""}]
["Pink",null,{"$f":"IF($A502=C$1,$A503,\"\")","v":""},{"$f":"IF($A502=D$1,$A503,\"\")","v":""},{"$f":"IF($A502=E$1,$A503,\"\")","v":""},{"$f":"IF($A502=F$1,$A503,\"\")","v":""},{"$f":"IF($A502=G$1,$A503,\"\")","v":""},{"$f":"IF($A502=H$1,$A503,\"\")","v":""},{"$f":"IF($A502=I$1,$A503,\"\")","v":""},{"$f":"IF($A502=J$1,$A503,\"\")","v":"Purple"},{"$f":"IF($A502=K$1,$A503,\"\")","v":""},{"$f":"IF($A502=L$1,$A503,\"\")","v":""}]
["Purple",null,{"$f":"IF($A503=C$1,$A504,\"\")","v":""},{"$f":"IF($A503=D$1,$A504,\"\")","v":""},{"$f":"IF($A503=E$1,$A504,\"\")","v":""},{"$f":"IF($A503=F$1,$A504,\"\")","v":""},{"$f":"IF($A503=G$1,$A504,\"\")","v":""},{"$f":"IF($A503=H$1,$A504,\"\")","v":""},{"$f":"IF($A503=I$1,$A504,\"\")","v":""},{"$f":"IF($A503=J$1,$A504,\"\")","v":""},{"$f":"IF($A503=K$1,$A504,\"\")","v":"Yellow"},{"$f":"IF($A503=L$1,$A504,\"\")","v":""}]
["Yellow",null,{"$f":"IF($A504=C$1,$A505,\"\")","v":"Pink"},{"$f":"IF($A504=D$1,$A505,\"\")","v":""},{"$f":"IF($A504=E$1,$A505,\"\")","v":""},{"$f":"IF($A504=F$1,$A505,\"\")","v":""},{"$f":"IF($A504=G$1,$A505,\"\")","v":""},{"$f":"IF($A504=H$1,$A505,\"\")","v":""},{"$f":"IF($A504=I$1,$A505,\"\")","v":""},{"$f":"IF($A504=J$1,$A505,\"\")","v":""},{"$f":"IF($A504=K$1,$A505,\"\")","v":""},{"$f":"IF($A504=L$1,$A505,\"\")","v":""}]
["Pink",null,{"$f":"IF($A505=C$1,$A506,\"\")","v":""},{"$f":"IF($A505=D$1,$A506,\"\")","v":""},{"$f":"IF($A505=E$1,$A506,\"\")","v":""},{"$f":"IF($A505=F$1,$A506,\"\")","v":""},{"$f":"IF($A505=G$1,$A506,\"\")","v":""},{"$f":"IF($A505=H$1,$A506,\"\")","v":""},{"$f":"IF($A505=I$1,$A506,\"\")","v":""},{"$f":"IF($A505=J$1,$A506,\"\")","v":"Black"},{"$f":"IF($A505=K$1,$A506,\"\")","v":""},{"$f":"IF($A505=L$1,$A506,\"\")","v":""}]
["Black",null,{"$f":"IF($A506=C$1,$A507,\"\")","v":""},{"$f":"IF($A506=D$1,$A507,\"\")","v":""},{"$f":"IF($A506=E$1,$A507,\"\")","v":""},{"$f":"IF($A506=F$1,$A507,\"\")","v":""},{"$f":"IF($A506=G$1,$A507,\"\")","v":""},{"$f":"IF($A506=H$1,$A507,\"\")","v":""},{"$f":"IF($A506=I$1,$A507,\"\")","v":"Red"},{"$f":"IF($A506=J$1,$A507,\"\")","v":""},{"$f":"IF($A506=K$1,$A507,\"\")","v":""},{"$f":"IF($A506=L$1,$A507,\"\")","v":""}]
["Red",null,{"$f":"IF($A507=C$1,$A508,\"\")","v":""},{"$f":"IF($A507=D$1,$A508,\"\")","v":""},{"$f":"IF($A507=E$1,$A508,\"\")","v":""},{"$f":"IF($A507=F$1,$A508,\"\")","v":""},{"$f":"IF($A507=G$1,$A508,\"\")","v":""},{"$f":"IF($A507=H$1,$A508,\"\")","v":"Yellow"},{"$f":"IF($A507=I$1,$A508,\"\")","v":""},{"$f":"IF($A507=J$1,$A508,\"\")","v":""},{"$f":"IF($A507=K$1,$A508,\"\")","v":""},{"$f":"IF($A507=L$1,$A508,\"\")","v":""}]
["Yellow",null,{"$f":"IF($A508=C$1,$A509,\"\")","v":"Cyan"},{"$f":"IF($A508=D$1,$A509,\"\")","v":""},{"$f":"IF($A508=E$1,$A509,\"\")","v":""},{"$f":"IF($A508=F$1,$A509,\"\")","v":""},{"$f":"IF($A508=G$1,$A509,\"\")","v":""},{"$f":"IF($A508=H$1,$A509,\"\")","v":""},{"$f":"IF($A508=I$1,$A509,\"\")","v":""},{"$f":"IF($A508=J$1,$A509,\"\")","v":""},{"$f":"IF($A508=K$1,$A509,\"\")","v":""},{"$f":"IF($A508=L$1,$A509,\"\")","v":""}]
["Cyan",null,{"$f":"IF($A509=C$1,$A510,\"\")","v":""},{"$f":"IF($A509=D$1,$A510,\"\")","v":""},{"$f":"IF($A509=E$1,$A510,\"\")","v":""},{"$f":"IF($A509=F$1,$A510,\"\")","v":"Blue"},{"$f":"IF($A509=G$1,$A510,\"\")","v":""},{"$f":"IF($A509=H$1,$A510,\"\")","v":""},{"$f":"IF($A509=I$1,$A510,\"\")","v":""},{"$f":"IF($A509=J$1,$A510,\"\")","v":""},{"$f":"IF($A509=K$1,$A510,\"\")","v":""},{"$f":"IF($A509=L$1,$A510,\"\")","v":""}]
["Blue",null,{"$f":"IF($A510=C$1,$A511,\"\")","v":""},{"$f":"IF($A510=D$1,$A511,\"\")","v":""},{"$f":"IF($A510=E$1,$A511,\"\")","v":"Purple"},{"$f":"IF($A510=F$1,$A511,\"\")","v":""},{"$f":"IF($A510=G$1,$A511,\"\")","v":""},{"$f":"IF($A510=H$1,$A511,\"\")","v":""},{"$f":"IF($A510=I$1,$A511,\"\")","v":""},{"$f":"IF($A510=J$1,$A511,\"\")","v":""},{"$f":"IF($A510=K$1,$A511,\"\")","v":""},{"$f":"IF($A510=L$1,$A511,\"\")","v":""}]
["Purple",null,{"$f":"IF($A511=C$1,$A512,\"\")","v":""},{"$f":"IF($A511=D$1,$A512,\"\")","v":""},{"$f":"IF($A511=E$1,$A512,\"\")","v":""},{"$f":"IF($A511=F$1,$A512,\"\")","v":""},{"$f":"IF($A511=G$1,$A512,\"\")","v":""},{"$f":"IF($A511=H$1,$A512,\"\")","v":""},{"$f":"IF($A511=I$1,$A512,\"\")","v":""},{"$f":"IF($A511=J$1,$A512,\"\")","v":""},{"$f":"IF($A511=K$1,$A512,\"\")","v":"White"},{"$f":"IF($A511=L$1,$A512,\"\")","v":""}]
["White",null,{"$f":"IF($A512=C$1,$A513,\"\")","v":""},{"$f":"IF($A512=D$1,$A513,\"\")","v":""},{"$f":"IF($A512=E$1,$A513,\"\")","v":""},{"$f":"IF($A512=F$1,$A513,\"\")","v":""},{"$f":"IF($A512=G$1,$A513,\"\")","v":"White"},{"$f":"IF($A512=H$1,$A513,\"\")","v":""},{"$f":"IF($A512=I$1,$A513,\"\")","v":""},{"$f":"IF($A512=J$1,$A513,\"\")","v":""},{"$f":"IF($A512=K$1,$A513,\"\")","v":""},{"$f":"IF($A512=L$1,$A513,\"\")","v":""}]
["White",null,{"$f":"IF($A513=C$1,$A514,\"\")","v":""},{"$f":"IF($A513=D$1,$A514,\"\")","v":""},{"$f":"IF($A513=E$1,$A514,\"\")","v":""},{"$f":"IF($A513=F$1,$A514,\"\")","v":""},{"$f":"IF($A513=G$1,$A514,\"\")","v":"Red"},{"$f":"IF($A513=H$1,$A514,\"\")","v":""},{"$f":"IF($A513=I$1,$A514,\"\")","v":""},{"$f":"IF($A513=J$1,$A514,\"\")","v":""},{"$f":"IF($A513=K$1,$A514,\"\")","v":""},{"$f":"IF($A513=L$1,$A514,\"\")","v":""}]
["Red",null,{"$f":"IF($A514=C$1,$A515,\"\")","v":""},{"$f":"IF($A514=D$1,$A515,\"\")","v":""},{"$f":"IF($A514=E$1,$A515,\"\")","v":""},{"$f":"IF($A514=F$1,$A515,\"\")","v":""},{"$f":"IF($A514=G$1,$A515,\"\")","v":""},{"$f":"IF($A514=H$1,$A515,\"\")","v":"Black"},{"$f":"IF($A514=I$1,$A515,\"\")","v":""},{"$f":"IF($A514=J$1,$A515,\"\")","v":""},{"$f":"IF($A514=K$1,$A515,\"\")","v":""},{"$f":"IF($A514=L$1,$A515,\"\")","v":""}]
["Black",null,{"$f":"IF($A515=C$1,$A516,\"\")","v":""},{"$f":"IF($A515=D$1,$A516,\"\")","v":""},{"$f":"IF($A515=E$1,$A516,\"\")","v":""},{"$f":"IF($A515=F$1,$A516,\"\")","v":""},{"$f":"IF($A515=G$1,$A516,\"\")","v":""},{"$f":"IF($A515=H$1,$A516,\"\")","v":""},{"$f":"IF($A515=I$1,$A516,\"\")","v":"White"},{"$f":"IF($A515=J$1,$A516,\"\")","v":""},{"$f":"IF($A515=K$1,$A516,\"\")","v":""},{"$f":"IF($A515=L$1,$A516,\"\")","v":""}]
["White",null,{"$f":"IF($A516=C$1,$A517,\"\")","v":""},{"$f":"IF($A516=D$1,$A517,\"\")","v":""},{"$f":"IF($A516=E$1,$A517,\"\")","v":""},{"$f":"IF($A516=F$1,$A517,\"\")","v":""},{"$f":"IF($A516=G$1,$A517,\"\")","v":"Orange"},{"$f":"IF($A516=H$1,$A517,\"\")","v":""},{"$f":"IF($A516=I$1,$A517,\"\")","v":""},{"$f":"IF($A516=J$1,$A517,\"\")","v":""},{"$f":"IF($A516=K$1,$A517,\"\")","v":""},{"$f":"IF($A516=L$1,$A517,\"\")","v":""}]
["Orange",null,{"$f":"IF($A517=C$1,$A518,\"\")","v":""},{"$f":"IF($A517=D$1,$A518,\"\")","v":"Green"},{"$f":"IF($A517=E$1,$A518,\"\")","v":""},{"$f":"IF($A517=F$1,$A518,\"\")","v":""},{"$f":"IF($A517=G$1,$A518,\"\")","v":""},{"$f":"IF($A517=H$1,$A518,\"\")","v":""},{"$f":"IF($A517=I$1,$A518,\"\")","v":""},{"$f":"IF($A517=J$1,$A518,\"\")","v":""},{"$f":"IF($A517=K$1,$A518,\"\")","v":""},{"$f":"IF($A517=L$1,$A518,\"\")","v":""}]
["Green",null,{"$f":"IF($A518=C$1,$A519,\"\")","v":""},{"$f":"IF($A518=D$1,$A519,\"\")","v":""},{"$f":"IF($A518=E$1,$A519,\"\")","v":""},{"$f":"IF($A518=F$1,$A519,\"\")","v":""},{"$f":"IF($A518=G$1,$A519,\"\")","v":""},{"$f":"IF($A518=H$1,$A519,\"\")","v":""},{"$f":"IF($A518=I$1,$A519,\"\")","v":""},{"$f":"IF($A518=J$1,$A519,\"\")","v":""},{"$f":"IF($A518=K$1,$A519,\"\")","v":""},{"$f":"IF($A518=L$1,$A519,\"\")","v":"Blue"}]
["Blue",null,{"$f":"IF($A519=C$1,$A520,\"\")","v":""},{"$f":"IF($A519=D$1,$A520,\"\")","v":""},{"$f":"IF($A519=E$1,$A520,\"\")","v":"Yellow"},{"$f":"IF($A519=F$1,$A520,\"\")","v":""},{"$f":"IF($A519=G$1,$A520,\"\")","v":""},{"$f":"IF($A519=H$1,$A520,\"\")","v":""},{"$f":"IF($A519=I$1,$A520,\"\")","v":""},{"$f":"IF($A519=J$1,$A520,\"\")","v":""},{"$f":"IF($A519=K$1,$A520,\"\")","v":""},{"$f":"IF($A519=L$1,$A520,\"\")","v":""}]
["Yellow",null,{"$f":"IF($A520=C$1,$A521,\"\")","v":"Black"},{"$f":"IF($A520=D$1,$A521,\"\")","v":""},{"$f":"IF($A520=E$1,$A521,\"\")","v":""},{"$f":"IF($A520=F$1,$A521,\"\")","v":""},{"$f":"IF($A520=G$1,$A521,\"\")","v":""},{"$f":"IF($A520=H$1,$A521,\"\")","v":""},{"$f":"IF($A520=I$1,$A521,\"\")","v":""},{"$f":"IF($A520=J$1,$A521,\"\")","v":""},{"$f":"IF($A520=K$1,$A521,\"\")","v":""},{"$f":"IF($A520=L$1,$A521,\"\")","v":""}]
["Black",null,{"$f":"IF($A521=C$1,$A522,\"\")","v":""},{"$f":"IF($A521=D$1,$A522,\"\")","v":""},{"$f":"IF($A521=E$1,$A522,\"\")","v":""},{"$f":"IF($A521=F$1,$A522,\"\")","v":""},{"$f":"IF($A521=G$1,$A522,\"\")","v":""},{"$f":"IF($A521=H$1,$A522,\"\")","v":""},{"$f":"IF($A521=I$1,$A522,\"\")","v":"Purple"},{"$f":"IF($A521=J$1,$A522,\"\")","v":""},{"$f":"IF($A521=K$1,$A522,\"\")","v":""},{"$f":"IF($A521=L$1,$A522,\"\")","v":""}]
["Purple",null,{"$f":"IF($A522=C$1,$A523,\"\")","v":""},{"$f":"IF($A522=D$1,$A523,\"\")","v":""},{"$f":"IF($A522=E$1,$A523,\"\")","v":""},{"$f":"IF($A522=F$1,$A523,\"\")","v":""},{"$f":"IF($A522=G$1,$A523,\"\")","v":""},{"$f":"IF($A522=H$1,$A523,\"\")","v":""},{"$f":"IF($A522=I$1,$A523,\"\")","v":""},{"$f":"IF($A522=J$1,$A523,\"\")","v":""},{"$f":"IF($A522=K$1,$A523,\"\")","v":"Blue"},{"$f":"IF($A522=L$1,$A523,\"\")","v":""}]
["Blue",null,{"$f":"IF($A523=C$1,$A524,\"\")","v":""},{"$f":"IF($A523=D$1,$A524,\"\")","v":""},{"$f":"IF($A523=E$1,$A524,\"\")","v":"Red"},{"$f":"IF($A523=F$1,$A524,\"\")","v":""},{"$f":"IF($A523=G$1,$A524,\"\")","v":""},{"$f":"IF($A523=H$1,$A524,\"\")","v":""},{"$f":"IF($A523=I$1,$A524,\"\")","v":""},{"$f":"IF($A523=J$1,$A524,\"\")","v":""},{"$f":"IF($A523=K$1,$A524,\"\")","v":""},{"$f":"IF($A523=L$1,$A524,\"\")","v":""}]
["Red",null,{"$f":"IF($A524=C$1,$A525,\"\")","v":""},{"$f":"IF($A524=D$1,$A525,\"\")","v":""},{"$f":"IF($A524=E$1,$A525,\"\")","v":""},{"$f":"IF($A524=F$1,$A525,\"\")","v":""},{"$f":"IF($A524=G$1,$A525,\"\")","v":""},{"$f":"IF($A524=H$1,$A525,\"\")","v":"Black"},{"$f":"IF($A524=I$1,$A525,\"\")","v":""},{"$f":"IF($A524=J$1,$A525,\"\")","v":""},{"$f":"IF($A524=K$1,$A525,\"\")","v":""},{"$f":"IF($A524=L$1,$A525,\"\")","v":""}]
["Black",null,{"$f":"IF($A525=C$1,$A526,\"\")","v":""},{"$f":"IF($A525=D$1,$A526,\"\")","v":""},{"$f":"IF($A525=E$1,$A526,\"\")","v":""},{"$f":"IF($A525=F$1,$A526,\"\")","v":""},{"$f":"IF($A525=G$1,$A526,\"\")","v":""},{"$f":"IF($A525=H$1,$A526,\"\")","v":""},{"$f":"IF($A525=I$1,$A526,\"\")","v":"Orange"},{"$f":"IF($A525=J$1,$A526,\"\")","v":""},{"$f":"IF($A525=K$1,$A526,\"\")","v":""},{"$f":"IF($A525=L$1,$A526,\"\")","v":""}]
["Orange",null,{"$f":"IF($A526=C$1,$A527,\"\")","v":""},{"$f":"IF($A526=D$1,$A527,\"\")","v":"Yellow"},{"$f":"IF($A526=E$1,$A527,\"\")","v":""},{"$f":"IF($A526=F$1,$A527,\"\")","v":""},{"$f":"IF($A526=G$1,$A527,\"\")","v":""},{"$f":"IF($A526=H$1,$A527,\"\")","v":""},{"$f":"IF($A526=I$1,$A527,\"\")","v":""},{"$f":"IF($A526=J$1,$A527,\"\")","v":""},{"$f":"IF($A526=K$1,$A527,\"\")","v":""},{"$f":"IF($A526=L$1,$A527,\"\")","v":""}]
["Yellow",null,{"$f":"IF($A527=C$1,$A528,\"\")","v":"Yellow"},{"$f":"IF($A527=D$1,$A528,\"\")","v":""},{"$f":"IF($A527=E$1,$A528,\"\")","v":""},{"$f":"IF($A527=F$1,$A528,\"\")","v":""},{"$f":"IF($A527=G$1,$A528,\"\")","v":""},{"$f":"IF($A527=H$1,$A528,\"\")","v":""},{"$f":"IF($A527=I$1,$A528,\"\")","v":""},{"$f":"IF($A527=J$1,$A528,\"\")","v":""},{"$f":"IF($A527=K$1,$A528,\"\")","v":""},{"$f":"IF($A527=L$1,$A528,\"\")","v":""}]
["Yellow",null,{"$f":"IF($A528=C$1,$A529,\"\")","v":"Blue"},{"$f":"IF($A528=D$1,$A529,\"\")","v":""},{"$f":"IF($A528=E$1,$A529,\"\")","v":""},{"$f":"IF($A528=F$1,$A529,\"\")","v":""},{"$f":"IF($A528=G$1,$A529,\"\")","v":""},{"$f":"IF($A528=H$1,$A529,\"\")","v":""},{"$f":"IF($A528=I$1,$A529,\"\")","v":""},{"$f":"IF($A528=J$1,$A529,\"\")","v":""},{"$f":"IF($A528=K$1,$A529,\"\")","v":""},{"$f":"IF($A528=L$1,$A529,\"\")","v":""}]
["Blue",null,{"$f":"IF($A529=C$1,$A530,\"\")","v":""},{"$f":"IF($A529=D$1,$A530,\"\")","v":""},{"$f":"IF($A529=E$1,$A530,\"\")","v":"Cyan"},{"$f":"IF($A529=F$1,$A530,\"\")","v":""},{"$f":"IF($A529=G$1,$A530,\"\")","v":""},{"$f":"IF($A529=H$1,$A530,\"\")","v":""},{"$f":"IF($A529=I$1,$A530,\"\")","v":""},{"$f":"IF($A529=J$1,$A530,\"\")","v":""},{"$f":"IF($A529=K$1,$A530,\"\")","v":""},{"$f":"IF($A529=L$1,$A530,\"\")","v":""}]
["Cyan",null,{"$f":"IF($A530=C$1,$A531,\"\")","v":""},{"$f":"IF($A530=D$1,$A531,\"\")","v":""},{"$f":"IF($A530=E$1,$A531,\"\")","v":""},{"$f":"IF($A530=F$1,$A531,\"\")","v":"Orange"},{"$f":"IF($A530=G$1,$A531,\"\")","v":""},{"$f":"IF($A530=H$1,$A531,\"\")","v":""},{"$f":"IF($A530=I$1,$A531,\"\")","v":""},{"$f":"IF($A530=J$1,$A531,\"\")","v":""},{"$f":"IF($A530=K$1,$A531,\"\")","v":""},{"$f":"IF($A530=L$1,$A531,\"\")","v":""}]
["Orange",null,{"$f":"IF($A531=C$1,$A532,\"\")","v":""},{"$f":"IF($A531=D$1,$A532,\"\")","v":"Yellow"},{"$f":"IF($A531=E$1,$A532,\"\")","v":""},{"$f":"IF($A531=F$1,$A532,\"\")","v":""},{"$f":"IF($A531=G$1,$A532,\"\")","v":""},{"$f":"IF($A531=H$1,$A532,\"\")","v":""},{"$f":"IF($A531=I$1,$A532,\"\")","v":""},{"$f":"IF($A531=J$1,$A532,\"\")","v":""},{"$f":"IF($A531=K$1,$A532,\"\")","v":""},{"$f":"IF($A531=L$1,$A532,\"\")","v":""}]
["Yellow",null,{"$f":"IF($A532=C$1,$A533,\"\")","v":"Black"},{"$f":"IF($A532=D$1,$A533,\"\")","v":""},{"$f":"IF($A532=E$1,$A533,\"\")","v":""},{"$f":"IF($A532=F$1,$A533,\"\")","v":""},{"$f":"IF($A532=G$1,$A533,\"\")","v":""},{"$f":"IF($A532=H$1,$A533,\"\")","v":""},{"$f":"IF($A532=I$1,$A533,\"\")","v":""},{"$f":"IF($A532=J$1,$A533,\"\")","v":""},{"$f":"IF($A532=K$1,$A533,\"\")","v":""},{"$f":"IF($A532=L$1,$A533,\"\")","v":""}]
["Black",null,{"$f":"IF($A533=C$1,$A534,\"\")","v":""},{"$f":"IF($A533=D$1,$A534,\"\")","v":""},{"$f":"IF($A533=E$1,$A534,\"\")","v":""},{"$f":"IF($A533=F$1,$A534,\"\")","v":""},{"$f":"IF($A533=G$1,$A534,\"\")","v":""},{"$f":"IF($A533=H$1,$A534,\"\")","v":""},{"$f":"IF($A533=I$1,$A534,\"\")","v":"Black"},{"$f":"IF($A533=J$1,$A534,\"\")","v":""},{"$f":"IF($A533=K$1,$A534,\"\")","v":""},{"$f":"IF($A533=L$1,$A534,\"\")","v":""}]
["Black",null,{"$f":"IF($A534=C$1,$A535,\"\")","v":""},{"$f":"IF($A534=D$1,$A535,\"\")","v":""},{"$f":"IF($A534=E$1,$A535,\"\")","v":""},{"$f":"IF($A534=F$1,$A535,\"\")","v":""},{"$f":"IF($A534=G$1,$A535,\"\")","v":""},{"$f":"IF($A534=H$1,$A535,\"\")","v":""},{"$f":"IF($A534=I$1,$A535,\"\")","v":"Blue"},{"$f":"IF($A534=J$1,$A535,\"\")","v":""},{"$f":"IF($A534=K$1,$A535,\"\")","v":""},{"$f":"IF($A534=L$1,$A535,\"\")","v":""}]
["Blue",null,{"$f":"IF($A535=C$1,$A536,\"\")","v":""},{"$f":"IF($A535=D$1,$A536,\"\")","v":""},{"$f":"IF($A535=E$1,$A536,\"\")","v":"Red"},{"$f":"IF($A535=F$1,$A536,\"\")","v":""},{"$f":"IF($A535=G$1,$A536,\"\")","v":""},{"$f":"IF($A535=H$1,$A536,\"\")","v":""},{"$f":"IF($A535=I$1,$A536,\"\")","v":""},{"$f":"IF($A535=J$1,$A536,\"\")","v":""},{"$f":"IF($A535=K$1,$A536,\"\")","v":""},{"$f":"IF($A535=L$1,$A536,\"\")","v":""}]
["Red",null,{"$f":"IF($A536=C$1,$A537,\"\")","v":""},{"$f":"IF($A536=D$1,$A537,\"\")","v":""},{"$f":"IF($A536=E$1,$A537,\"\")","v":""},{"$f":"IF($A536=F$1,$A537,\"\")","v":""},{"$f":"IF($A536=G$1,$A537,\"\")","v":""},{"$f":"IF($A536=H$1,$A537,\"\")","v":"Blue"},{"$f":"IF($A536=I$1,$A537,\"\")","v":""},{"$f":"IF($A536=J$1,$A537,\"\")","v":""},{"$f":"IF($A536=K$1,$A537,\"\")","v":""},{"$f":"IF($A536=L$1,$A537,\"\")","v":""}]
["Blue",null,{"$f":"IF($A537=C$1,$A538,\"\")","v":""},{"$f":"IF($A537=D$1,$A538,\"\")","v":""},{"$f":"IF($A537=E$1,$A538,\"\")","v":"Purple"},{"$f":"IF($A537=F$1,$A538,\"\")","v":""},{"$f":"IF($A537=G$1,$A538,\"\")","v":""},{"$f":"IF($A537=H$1,$A538,\"\")","v":""},{"$f":"IF($A537=I$1,$A538,\"\")","v":""},{"$f":"IF($A537=J$1,$A538,\"\")","v":""},{"$f":"IF($A537=K$1,$A538,\"\")","v":""},{"$f":"IF($A537=L$1,$A538,\"\")","v":""}]
["Purple",null,{"$f":"IF($A538=C$1,$A539,\"\")","v":""},{"$f":"IF($A538=D$1,$A539,\"\")","v":""},{"$f":"IF($A538=E$1,$A539,\"\")","v":""},{"$f":"IF($A538=F$1,$A539,\"\")","v":""},{"$f":"IF($A538=G$1,$A539,\"\")","v":""},{"$f":"IF($A538=H$1,$A539,\"\")","v":""},{"$f":"IF($A538=I$1,$A539,\"\")","v":""},{"$f":"IF($A538=J$1,$A539,\"\")","v":""},{"$f":"IF($A538=K$1,$A539,\"\")","v":"Orange"},{"$f":"IF($A538=L$1,$A539,\"\")","v":""}]
["Orange",null,{"$f":"IF($A539=C$1,$A540,\"\")","v":""},{"$f":"IF($A539=D$1,$A540,\"\")","v":"Orange"},{"$f":"IF($A539=E$1,$A540,\"\")","v":""},{"$f":"IF($A539=F$1,$A540,\"\")","v":""},{"$f":"IF($A539=G$1,$A540,\"\")","v":""},{"$f":"IF($A539=H$1,$A540,\"\")","v":""},{"$f":"IF($A539=I$1,$A540,\"\")","v":""},{"$f":"IF($A539=J$1,$A540,\"\")","v":""},{"$f":"IF($A539=K$1,$A540,\"\")","v":""},{"$f":"IF($A539=L$1,$A540,\"\")","v":""}]
["Orange",null,{"$f":"IF($A540=C$1,$A541,\"\")","v":""},{"$f":"IF($A540=D$1,$A541,\"\")","v":"Black"},{"$f":"IF($A540=E$1,$A541,\"\")","v":""},{"$f":"IF($A540=F$1,$A541,\"\")","v":""},{"$f":"IF($A540=G$1,$A541,\"\")","v":""},{"$f":"IF($A540=H$1,$A541,\"\")","v":""},{"$f":"IF($A540=I$1,$A541,\"\")","v":""},{"$f":"IF($A540=J$1,$A541,\"\")","v":""},{"$f":"IF($A540=K$1,$A541,\"\")","v":""},{"$f":"IF($A540=L$1,$A541,\"\")","v":""}]
["Black",null,{"$f":"IF($A541=C$1,$A542,\"\")","v":""},{"$f":"IF($A541=D$1,$A542,\"\")","v":""},{"$f":"IF($A541=E$1,$A542,\"\")","v":""},{"$f":"IF($A541=F$1,$A542,\"\")","v":""},{"$f":"IF($A541=G$1,$A542,\"\")","v":""},{"$f":"IF($A541=H$1,$A542,\"\")","v":""},{"$f":"IF($A541=I$1,$A542,\"\")","v":"Red"},{"$f":"IF($A541=J$1,$A542,\"\")","v":""},{"$f":"IF($A541=K$1,$A542,\"\")","v":""},{"$f":"IF($A541=L$1,$A542,\"\")","v":""}]
["Red",null,{"$f":"IF($A542=C$1,$A543,\"\")","v":""},{"$f":"IF($A542=D$1,$A543,\"\")","v":""},{"$f":"IF($A542=E$1,$A543,\"\")","v":""},{"$f":"IF($A542=F$1,$A543,\"\")","v":""},{"$f":"IF($A542=G$1,$A543,\"\")","v":""},{"$f":"IF($A542=H$1,$A543,\"\")","v":"Orange"},{"$f":"IF($A542=I$1,$A543,\"\")","v":""},{"$f":"IF($A542=J$1,$A543,\"\")","v":""},{"$f":"IF($A542=K$1,$A543,\"\")","v":""},{"$f":"IF($A542=L$1,$A543,\"\")","v":""}]
["Orange",null,{"$f":"IF($A543=C$1,$A544,\"\")","v":""},{"$f":"IF($A543=D$1,$A544,\"\")","v":"Purple"},{"$f":"IF($A543=E$1,$A544,\"\")","v":""},{"$f":"IF($A543=F$1,$A544,\"\")","v":""},{"$f":"IF($A543=G$1,$A544,\"\")","v":""},{"$f":"IF($A543=H$1,$A544,\"\")","v":""},{"$f":"IF($A543=I$1,$A544,\"\")","v":""},{"$f":"IF($A543=J$1,$A544,\"\")","v":""},{"$f":"IF($A543=K$1,$A544,\"\")","v":""},{"$f":"IF($A543=L$1,$A544,\"\")","v":""}]
["Purple",null,{"$f":"IF($A544=C$1,$A545,\"\")","v":""},{"$f":"IF($A544=D$1,$A545,\"\")","v":""},{"$f":"IF($A544=E$1,$A545,\"\")","v":""},{"$f":"IF($A544=F$1,$A545,\"\")","v":""},{"$f":"IF($A544=G$1,$A545,\"\")","v":""},{"$f":"IF($A544=H$1,$A545,\"\")","v":""},{"$f":"IF($A544=I$1,$A545,\"\")","v":""},{"$f":"IF($A544=J$1,$A545,\"\")","v":""},{"$f":"IF($A544=K$1,$A545,\"\")","v":"White"},{"$f":"IF($A544=L$1,$A545,\"\")","v":""}]
["White",null,{"$f":"IF($A545=C$1,$A546,\"\")","v":""},{"$f":"IF($A545=D$1,$A546,\"\")","v":""},{"$f":"IF($A545=E$1,$A546,\"\")","v":""},{"$f":"IF($A545=F$1,$A546,\"\")","v":""},{"$f":"IF($A545=G$1,$A546,\"\")","v":"Cyan"},{"$f":"IF($A545=H$1,$A546,\"\")","v":""},{"$f":"IF($A545=I$1,$A546,\"\")","v":""},{"$f":"IF($A545=J$1,$A546,\"\")","v":""},{"$f":"IF($A545=K$1,$A546,\"\")","v":""},{"$f":"IF($A545=L$1,$A546,\"\")","v":""}]
["Cyan",null,{"$f":"IF($A546=C$1,$A547,\"\")","v":""},{"$f":"IF($A546=D$1,$A547,\"\")","v":""},{"$f":"IF($A546=E$1,$A547,\"\")","v":""},{"$f":"IF($A546=F$1,$A547,\"\")","v":"Pink"},{"$f":"IF($A546=G$1,$A547,\"\")","v":""},{"$f":"IF($A546=H$1,$A547,\"\")","v":""},{"$f":"IF($A546=I$1,$A547,\"\")","v":""},{"$f":"IF($A546=J$1,$A547,\"\")","v":""},{"$f":"IF($A546=K$1,$A547,\"\")","v":""},{"$f":"IF($A546=L$1,$A547,\"\")","v":""}]
["Pink",null,{"$f":"IF($A547=C$1,$A548,\"\")","v":""},{"$f":"IF($A547=D$1,$A548,\"\")","v":""},{"$f":"IF($A547=E$1,$A548,\"\")","v":""},{"$f":"IF($A547=F$1,$A548,\"\")","v":""},{"$f":"IF($A547=G$1,$A548,\"\")","v":""},{"$f":"IF($A547=H$1,$A548,\"\")","v":""},{"$f":"IF($A547=I$1,$A548,\"\")","v":""},{"$f":"IF($A547=J$1,$A548,\"\")","v":"Red"},{"$f":"IF($A547=K$1,$A548,\"\")","v":""},{"$f":"IF($A547=L$1,$A548,\"\")","v":""}]
["Red",null,{"$f":"IF($A548=C$1,$A549,\"\")","v":""},{"$f":"IF($A548=D$1,$A549,\"\")","v":""},{"$f":"IF($A548=E$1,$A549,\"\")","v":""},{"$f":"IF($A548=F$1,$A549,\"\")","v":""},{"$f":"IF($A548=G$1,$A549,\"\")","v":""},{"$f":"IF($A548=H$1,$A549,\"\")","v":"Red"},{"$f":"IF($A548=I$1,$A549,\"\")","v":""},{"$f":"IF($A548=J$1,$A549,\"\")","v":""},{"$f":"IF($A548=K$1,$A549,\"\")","v":""},{"$f":"IF($A548=L$1,$A549,\"\")","v":""}]
["Red",null,{"$f":"IF($A549=C$1,$A550,\"\")","v":""},{"$f":"IF($A549=D$1,$A550,\"\")","v":""},{"$f":"IF($A549=E$1,$A550,\"\")","v":""},{"$f":"IF($A549=F$1,$A550,\"\")","v":""},{"$f":"IF($A549=G$1,$A550,\"\")","v":""},{"$f":"IF($A549=H$1,$A550,\"\")","v":"Green"},{"$f":"IF($A549=I$1,$A550,\"\")","v":""},{"$f":"IF($A549=J$1,$A550,\"\")","v":""},{"$f":"IF($A549=K$1,$A550,\"\")","v":""},{"$f":"IF($A549=L$1,$A550,\"\")","v":""}]
["Green",null,{"$f":"IF($A550=C$1,$A551,\"\")","v":""},{"$f":"IF($A550=D$1,$A551,\"\")","v":""},{"$f":"IF($A550=E$1,$A551,\"\")","v":""},{"$f":"IF($A550=F$1,$A551,\"\")","v":""},{"$f":"IF($A550=G$1,$A551,\"\")","v":""},{"$f":"IF($A550=H$1,$A551,\"\")","v":""},{"$f":"IF($A550=I$1,$A551,\"\")","v":""},{"$f":"IF($A550=J$1,$A551,\"\")","v":""},{"$f":"IF($A550=K$1,$A551,\"\")","v":""},{"$f":"IF($A550=L$1,$A551,\"\")","v":"Orange"}]
["Orange",null,{"$f":"IF($A551=C$1,$A552,\"\")","v":""},{"$f":"IF($A551=D$1,$A552,\"\")","v":"Green"},{"$f":"IF($A551=E$1,$A552,\"\")","v":""},{"$f":"IF($A551=F$1,$A552,\"\")","v":""},{"$f":"IF($A551=G$1,$A552,\"\")","v":""},{"$f":"IF($A551=H$1,$A552,\"\")","v":""},{"$f":"IF($A551=I$1,$A552,\"\")","v":""},{"$f":"IF($A551=J$1,$A552,\"\")","v":""},{"$f":"IF($A551=K$1,$A552,\"\")","v":""},{"$f":"IF($A551=L$1,$A552,\"\")","v":""}]
["Green",null,{"$f":"IF($A552=C$1,$A553,\"\")","v":""},{"$f":"IF($A552=D$1,$A553,\"\")","v":""},{"$f":"IF($A552=E$1,$A553,\"\")","v":""},{"$f":"IF($A552=F$1,$A553,\"\")","v":""},{"$f":"IF($A552=G$1,$A553,\"\")","v":""},{"$f":"IF($A552=H$1,$A553,\"\")","v":""},{"$f":"IF($A552=I$1,$A553,\"\")","v":""},{"$f":"IF($A552=J$1,$A553,\"\")","v":""},{"$f":"IF($A552=K$1,$A553,\"\")","v":""},{"$f":"IF($A552=L$1,$A553,\"\")","v":"Green"}]
["Green",null,{"$f":"IF($A553=C$1,$A554,\"\")","v":""},{"$f":"IF($A553=D$1,$A554,\"\")","v":""},{"$f":"IF($A553=E$1,$A554,\"\")","v":""},{"$f":"IF($A553=F$1,$A554,\"\")","v":""},{"$f":"IF($A553=G$1,$A554,\"\")","v":""},{"$f":"IF($A553=H$1,$A554,\"\")","v":""},{"$f":"IF($A553=I$1,$A554,\"\")","v":""},{"$f":"IF($A553=J$1,$A554,\"\")","v":""},{"$f":"IF($A553=K$1,$A554,\"\")","v":""},{"$f":"IF($A553=L$1,$A554,\"\")","v":"Yellow"}]
["Yellow",null,{"$f":"IF($A554=C$1,$A555,\"\")","v":"Blue"},{"$f":"IF($A554=D$1,$A555,\"\")","v":""},{"$f":"IF($A554=E$1,$A555,\"\")","v":""},{"$f":"IF($A554=F$1,$A555,\"\")","v":""},{"$f":"IF($A554=G$1,$A555,\"\")","v":""},{"$f":"IF($A554=H$1,$A555,\"\")","v":""},{"$f":"IF($A554=I$1,$A555,\"\")","v":""},{"$f":"IF($A554=J$1,$A555,\"\")","v":""},{"$f":"IF($A554=K$1,$A555,\"\")","v":""},{"$f":"IF($A554=L$1,$A555,\"\")","v":""}]
["Blue",null,{"$f":"IF($A555=C$1,$A556,\"\")","v":""},{"$f":"IF($A555=D$1,$A556,\"\")","v":""},{"$f":"IF($A555=E$1,$A556,\"\")","v":"Purple"},{"$f":"IF($A555=F$1,$A556,\"\")","v":""},{"$f":"IF($A555=G$1,$A556,\"\")","v":""},{"$f":"IF($A555=H$1,$A556,\"\")","v":""},{"$f":"IF($A555=I$1,$A556,\"\")","v":""},{"$f":"IF($A555=J$1,$A556,\"\")","v":""},{"$f":"IF($A555=K$1,$A556,\"\")","v":""},{"$f":"IF($A555=L$1,$A556,\"\")","v":""}]
["Purple",null,{"$f":"IF($A556=C$1,$A557,\"\")","v":""},{"$f":"IF($A556=D$1,$A557,\"\")","v":""},{"$f":"IF($A556=E$1,$A557,\"\")","v":""},{"$f":"IF($A556=F$1,$A557,\"\")","v":""},{"$f":"IF($A556=G$1,$A557,\"\")","v":""},{"$f":"IF($A556=H$1,$A557,\"\")","v":""},{"$f":"IF($A556=I$1,$A557,\"\")","v":""},{"$f":"IF($A556=J$1,$A557,\"\")","v":""},{"$f":"IF($A556=K$1,$A557,\"\")","v":"Red"},{"$f":"IF($A556=L$1,$A557,\"\")","v":""}]
["Red",null,{"$f":"IF($A557=C$1,$A558,\"\")","v":""},{"$f":"IF($A557=D$1,$A558,\"\")","v":""},{"$f":"IF($A557=E$1,$A558,\"\")","v":""},{"$f":"IF($A557=F$1,$A558,\"\")","v":""},{"$f":"IF($A557=G$1,$A558,\"\")","v":""},{"$f":"IF($A557=H$1,$A558,\"\")","v":"Purple"},{"$f":"IF($A557=I$1,$A558,\"\")","v":""},{"$f":"IF($A557=J$1,$A558,\"\")","v":""},{"$f":"IF($A557=K$1,$A558,\"\")","v":""},{"$f":"IF($A557=L$1,$A558,\"\")","v":""}]
["Purple",null,{"$f":"IF($A558=C$1,$A559,\"\")","v":""},{"$f":"IF($A558=D$1,$A559,\"\")","v":""},{"$f":"IF($A558=E$1,$A559,\"\")","v":""},{"$f":"IF($A558=F$1,$A559,\"\")","v":""},{"$f":"IF($A558=G$1,$A559,\"\")","v":""},{"$f":"IF($A558=H$1,$A559,\"\")","v":""},{"$f":"IF($A558=I$1,$A559,\"\")","v":""},{"$f":"IF($A558=J$1,$A559,\"\")","v":""},{"$f":"IF($A558=K$1,$A559,\"\")","v":"Purple"},{"$f":"IF($A558=L$1,$A559,\"\")","v":""}]
["Purple",null,{"$f":"IF($A559=C$1,$A560,\"\")","v":""},{"$f":"IF($A559=D$1,$A560,\"\")","v":""},{"$f":"IF($A559=E$1,$A560,\"\")","v":""},{"$f":"IF($A559=F$1,$A560,\"\")","v":""},{"$f":"IF($A559=G$1,$A560,\"\")","v":""},{"$f":"IF($A559=H$1,$A560,\"\")","v":""},{"$f":"IF($A559=I$1,$A560,\"\")","v":""},{"$f":"IF($A559=J$1,$A560,\"\")","v":""},{"$f":"IF($A559=K$1,$A560,\"\")","v":"Yellow"},{"$f":"IF($A559=L$1,$A560,\"\")","v":""}]
["Yellow",null,{"$f":"IF($A560=C$1,$A561,\"\")","v":"Pink"},{"$f":"IF($A560=D$1,$A561,\"\")","v":""},{"$f":"IF($A560=E$1,$A561,\"\")","v":""},{"$f":"IF($A560=F$1,$A561,\"\")","v":""},{"$f":"IF($A560=G$1,$A561,\"\")","v":""},{"$f":"IF($A560=H$1,$A561,\"\")","v":""},{"$f":"IF($A560=I$1,$A561,\"\")","v":""},{"$f":"IF($A560=J$1,$A561,\"\")","v":""},{"$f":"IF($A560=K$1,$A561,\"\")","v":""},{"$f":"IF($A560=L$1,$A561,\"\")","v":""}]
["Pink",null,{"$f":"IF($A561=C$1,$A562,\"\")","v":""},{"$f":"IF($A561=D$1,$A562,\"\")","v":""},{"$f":"IF($A561=E$1,$A562,\"\")","v":""},{"$f":"IF($A561=F$1,$A562,\"\")","v":""},{"$f":"IF($A561=G$1,$A562,\"\")","v":""},{"$f":"IF($A561=H$1,$A562,\"\")","v":""},{"$f":"IF($A561=I$1,$A562,\"\")","v":""},{"$f":"IF($A561=J$1,$A562,\"\")","v":"White"},{"$f":"IF($A561=K$1,$A562,\"\")","v":""},{"$f":"IF($A561=L$1,$A562,\"\")","v":""}]
["White",null,{"$f":"IF($A562=C$1,$A563,\"\")","v":""},{"$f":"IF($A562=D$1,$A563,\"\")","v":""},{"$f":"IF($A562=E$1,$A563,\"\")","v":""},{"$f":"IF($A562=F$1,$A563,\"\")","v":""},{"$f":"IF($A562=G$1,$A563,\"\")","v":"Black"},{"$f":"IF($A562=H$1,$A563,\"\")","v":""},{"$f":"IF($A562=I$1,$A563,\"\")","v":""},{"$f":"IF($A562=J$1,$A563,\"\")","v":""},{"$f":"IF($A562=K$1,$A563,\"\")","v":""},{"$f":"IF($A562=L$1,$A563,\"\")","v":""}]
["Black",null,{"$f":"IF($A563=C$1,$A564,\"\")","v":""},{"$f":"IF($A563=D$1,$A564,\"\")","v":""},{"$f":"IF($A563=E$1,$A564,\"\")","v":""},{"$f":"IF($A563=F$1,$A564,\"\")","v":""},{"$f":"IF($A563=G$1,$A564,\"\")","v":""},{"$f":"IF($A563=H$1,$A564,\"\")","v":""},{"$f":"IF($A563=I$1,$A564,\"\")","v":"Cyan"},{"$f":"IF($A563=J$1,$A564,\"\")","v":""},{"$f":"IF($A563=K$1,$A564,\"\")","v":""},{"$f":"IF($A563=L$1,$A564,\"\")","v":""}]
["Cyan",null,{"$f":"IF($A564=C$1,$A565,\"\")","v":""},{"$f":"IF($A564=D$1,$A565,\"\")","v":""},{"$f":"IF($A564=E$1,$A565,\"\")","v":""},{"$f":"IF($A564=F$1,$A565,\"\")","v":"Blue"},{"$f":"IF($A564=G$1,$A565,\"\")","v":""},{"$f":"IF($A564=H$1,$A565,\"\")","v":""},{"$f":"IF($A564=I$1,$A565,\"\")","v":""},{"$f":"IF($A564=J$1,$A565,\"\")","v":""},{"$f":"IF($A564=K$1,$A565,\"\")","v":""},{"$f":"IF($A564=L$1,$A565,\"\")","v":""}]
["Blue",null,{"$f":"IF($A565=C$1,$A566,\"\")","v":""},{"$f":"IF($A565=D$1,$A566,\"\")","v":""},{"$f":"IF($A565=E$1,$A566,\"\")","v":"White"},{"$f":"IF($A565=F$1,$A566,\"\")","v":""},{"$f":"IF($A565=G$1,$A566,\"\")","v":""},{"$f":"IF($A565=H$1,$A566,\"\")","v":""},{"$f":"IF($A565=I$1,$A566,\"\")","v":""},{"$f":"IF($A565=J$1,$A566,\"\")","v":""},{"$f":"IF($A565=K$1,$A566,\"\")","v":""},{"$f":"IF($A565=L$1,$A566,\"\")","v":""}]
["White",null,{"$f":"IF($A566=C$1,$A567,\"\")","v":""},{"$f":"IF($A566=D$1,$A567,\"\")","v":""},{"$f":"IF($A566=E$1,$A567,\"\")","v":""},{"$f":"IF($A566=F$1,$A567,\"\")","v":""},{"$f":"IF($A566=G$1,$A567,\"\")","v":"Pink"},{"$f":"IF($A566=H$1,$A567,\"\")","v":""},{"$f":"IF($A566=I$1,$A567,\"\")","v":""},{"$f":"IF($A566=J$1,$A567,\"\")","v":""},{"$f":"IF($A566=K$1,$A567,\"\")","v":""},{"$f":"IF($A566=L$1,$A567,\"\")","v":""}]
["Pink",null,{"$f":"IF($A567=C$1,$A568,\"\")","v":""},{"$f":"IF($A567=D$1,$A568,\"\")","v":""},{"$f":"IF($A567=E$1,$A568,\"\")","v":""},{"$f":"IF($A567=F$1,$A568,\"\")","v":""},{"$f":"IF($A567=G$1,$A568,\"\")","v":""},{"$f":"IF($A567=H$1,$A568,\"\")","v":""},{"$f":"IF($A567=I$1,$A568,\"\")","v":""},{"$f":"IF($A567=J$1,$A568,\"\")","v":"White"},{"$f":"IF($A567=K$1,$A568,\"\")","v":""},{"$f":"IF($A567=L$1,$A568,\"\")","v":""}]
["White",null,{"$f":"IF($A568=C$1,$A569,\"\")","v":""},{"$f":"IF($A568=D$1,$A569,\"\")","v":""},{"$f":"IF($A568=E$1,$A569,\"\")","v":""},{"$f":"IF($A568=F$1,$A569,\"\")","v":""},{"$f":"IF($A568=G$1,$A569,\"\")","v":"Blue"},{"$f":"IF($A568=H$1,$A569,\"\")","v":""},{"$f":"IF($A568=I$1,$A569,\"\")","v":""},{"$f":"IF($A568=J$1,$A569,\"\")","v":""},{"$f":"IF($A568=K$1,$A569,\"\")","v":""},{"$f":"IF($A568=L$1,$A569,\"\")","v":""}]
["Blue",null,{"$f":"IF($A569=C$1,$A570,\"\")","v":""},{"$f":"IF($A569=D$1,$A570,\"\")","v":""},{"$f":"IF($A569=E$1,$A570,\"\")","v":"Black"},{"$f":"IF($A569=F$1,$A570,\"\")","v":""},{"$f":"IF($A569=G$1,$A570,\"\")","v":""},{"$f":"IF($A569=H$1,$A570,\"\")","v":""},{"$f":"IF($A569=I$1,$A570,\"\")","v":""},{"$f":"IF($A569=J$1,$A570,\"\")","v":""},{"$f":"IF($A569=K$1,$A570,\"\")","v":""},{"$f":"IF($A569=L$1,$A570,\"\")","v":""}]
["Black",null,{"$f":"IF($A570=C$1,$A571,\"\")","v":""},{"$f":"IF($A570=D$1,$A571,\"\")","v":""},{"$f":"IF($A570=E$1,$A571,\"\")","v":""},{"$f":"IF($A570=F$1,$A571,\"\")","v":""},{"$f":"IF($A570=G$1,$A571,\"\")","v":""},{"$f":"IF($A570=H$1,$A571,\"\")","v":""},{"$f":"IF($A570=I$1,$A571,\"\")","v":"Purple"},{"$f":"IF($A570=J$1,$A571,\"\")","v":""},{"$f":"IF($A570=K$1,$A571,\"\")","v":""},{"$f":"IF($A570=L$1,$A571,\"\")","v":""}]
["Purple",null,{"$f":"IF($A571=C$1,$A572,\"\")","v":""},{"$f":"IF($A571=D$1,$A572,\"\")","v":""},{"$f":"IF($A571=E$1,$A572,\"\")","v":""},{"$f":"IF($A571=F$1,$A572,\"\")","v":""},{"$f":"IF($A571=G$1,$A572,\"\")","v":""},{"$f":"IF($A571=H$1,$A572,\"\")","v":""},{"$f":"IF($A571=I$1,$A572,\"\")","v":""},{"$f":"IF($A571=J$1,$A572,\"\")","v":""},{"$f":"IF($A571=K$1,$A572,\"\")","v":"Pink"},{"$f":"IF($A571=L$1,$A572,\"\")","v":""}]
["Pink",null,{"$f":"IF($A572=C$1,$A573,\"\")","v":""},{"$f":"IF($A572=D$1,$A573,\"\")","v":""},{"$f":"IF($A572=E$1,$A573,\"\")","v":""},{"$f":"IF($A572=F$1,$A573,\"\")","v":""},{"$f":"IF($A572=G$1,$A573,\"\")","v":""},{"$f":"IF($A572=H$1,$A573,\"\")","v":""},{"$f":"IF($A572=I$1,$A573,\"\")","v":""},{"$f":"IF($A572=J$1,$A573,\"\")","v":"Blue"},{"$f":"IF($A572=K$1,$A573,\"\")","v":""},{"$f":"IF($A572=L$1,$A573,\"\")","v":""}]
["Blue",null,{"$f":"IF($A573=C$1,$A574,\"\")","v":""},{"$f":"IF($A573=D$1,$A574,\"\")","v":""},{"$f":"IF($A573=E$1,$A574,\"\")","v":"Blue"},{"$f":"IF($A573=F$1,$A574,\"\")","v":""},{"$f":"IF($A573=G$1,$A574,\"\")","v":""},{"$f":"IF($A573=H$1,$A574,\"\")","v":""},{"$f":"IF($A573=I$1,$A574,\"\")","v":""},{"$f":"IF($A573=J$1,$A574,\"\")","v":""},{"$f":"IF($A573=K$1,$A574,\"\")","v":""},{"$f":"IF($A573=L$1,$A574,\"\")","v":""}]
["Blue",null,{"$f":"IF($A574=C$1,$A575,\"\")","v":""},{"$f":"IF($A574=D$1,$A575,\"\")","v":""},{"$f":"IF($A574=E$1,$A575,\"\")","v":"Green"},{"$f":"IF($A574=F$1,$A575,\"\")","v":""},{"$f":"IF($A574=G$1,$A575,\"\")","v":""},{"$f":"IF($A574=H$1,$A575,\"\")","v":""},{"$f":"IF($A574=I$1,$A575,\"\")","v":""},{"$f":"IF($A574=J$1,$A575,\"\")","v":""},{"$f":"IF($A574=K$1,$A575,\"\")","v":""},{"$f":"IF($A574=L$1,$A575,\"\")","v":""}]
["Green",null,{"$f":"IF($A575=C$1,$A576,\"\")","v":""},{"$f":"IF($A575=D$1,$A576,\"\")","v":""},{"$f":"IF($A575=E$1,$A576,\"\")","v":""},{"$f":"IF($A575=F$1,$A576,\"\")","v":""},{"$f":"IF($A575=G$1,$A576,\"\")","v":""},{"$f":"IF($A575=H$1,$A576,\"\")","v":""},{"$f":"IF($A575=I$1,$A576,\"\")","v":""},{"$f":"IF($A575=J$1,$A576,\"\")","v":""},{"$f":"IF($A575=K$1,$A576,\"\")","v":""},{"$f":"IF($A575=L$1,$A576,\"\")","v":"Blue"}]
["Blue",null,{"$f":"IF($A576=C$1,$A577,\"\")","v":""},{"$f":"IF($A576=D$1,$A577,\"\")","v":""},{"$f":"IF($A576=E$1,$A577,\"\")","v":"White"},{"$f":"IF($A576=F$1,$A577,\"\")","v":""},{"$f":"IF($A576=G$1,$A577,\"\")","v":""},{"$f":"IF($A576=H$1,$A577,\"\")","v":""},{"$f":"IF($A576=I$1,$A577,\"\")","v":""},{"$f":"IF($A576=J$1,$A577,\"\")","v":""},{"$f":"IF($A576=K$1,$A577,\"\")","v":""},{"$f":"IF($A576=L$1,$A577,\"\")","v":""}]
["White",null,{"$f":"IF($A577=C$1,$A578,\"\")","v":""},{"$f":"IF($A577=D$1,$A578,\"\")","v":""},{"$f":"IF($A577=E$1,$A578,\"\")","v":""},{"$f":"IF($A577=F$1,$A578,\"\")","v":""},{"$f":"IF($A577=G$1,$A578,\"\")","v":"Black"},{"$f":"IF($A577=H$1,$A578,\"\")","v":""},{"$f":"IF($A577=I$1,$A578,\"\")","v":""},{"$f":"IF($A577=J$1,$A578,\"\")","v":""},{"$f":"IF($A577=K$1,$A578,\"\")","v":""},{"$f":"IF($A577=L$1,$A578,\"\")","v":""}]
["Black",null,{"$f":"IF($A578=C$1,$A579,\"\")","v":""},{"$f":"IF($A578=D$1,$A579,\"\")","v":""},{"$f":"IF($A578=E$1,$A579,\"\")","v":""},{"$f":"IF($A578=F$1,$A579,\"\")","v":""},{"$f":"IF($A578=G$1,$A579,\"\")","v":""},{"$f":"IF($A578=H$1,$A579,\"\")","v":""},{"$f":"IF($A578=I$1,$A579,\"\")","v":"Pink"},{"$f":"IF($A578=J$1,$A579,\"\")","v":""},{"$f":"IF($A578=K$1,$A579,\"\")","v":""},{"$f":"IF($A578=L$1,$A579,\"\")","v":""}]
["Pink",null,{"$f":"IF($A579=C$1,$A580,\"\")","v":""},{"$f":"IF($A579=D$1,$A580,\"\")","v":""},{"$f":"IF($A579=E$1,$A580,\"\")","v":""},{"$f":"IF($A579=F$1,$A580,\"\")","v":""},{"$f":"IF($A579=G$1,$A580,\"\")","v":""},{"$f":"IF($A579=H$1,$A580,\"\")","v":""},{"$f":"IF($A579=I$1,$A580,\"\")","v":""},{"$f":"IF($A579=J$1,$A580,\"\")","v":"Purple"},{"$f":"IF($A579=K$1,$A580,\"\")","v":""},{"$f":"IF($A579=L$1,$A580,\"\")","v":""}]
["Purple",null,{"$f":"IF($A580=C$1,$A581,\"\")","v":""},{"$f":"IF($A580=D$1,$A581,\"\")","v":""},{"$f":"IF($A580=E$1,$A581,\"\")","v":""},{"$f":"IF($A580=F$1,$A581,\"\")","v":""},{"$f":"IF($A580=G$1,$A581,\"\")","v":""},{"$f":"IF($A580=H$1,$A581,\"\")","v":""},{"$f":"IF($A580=I$1,$A581,\"\")","v":""},{"$f":"IF($A580=J$1,$A581,\"\")","v":""},{"$f":"IF($A580=K$1,$A581,\"\")","v":"Cyan"},{"$f":"IF($A580=L$1,$A581,\"\")","v":""}]
["Cyan",null,{"$f":"IF($A581=C$1,$A582,\"\")","v":""},{"$f":"IF($A581=D$1,$A582,\"\")","v":""},{"$f":"IF($A581=E$1,$A582,\"\")","v":""},{"$f":"IF($A581=F$1,$A582,\"\")","v":"Pink"},{"$f":"IF($A581=G$1,$A582,\"\")","v":""},{"$f":"IF($A581=H$1,$A582,\"\")","v":""},{"$f":"IF($A581=I$1,$A582,\"\")","v":""},{"$f":"IF($A581=J$1,$A582,\"\")","v":""},{"$f":"IF($A581=K$1,$A582,\"\")","v":""},{"$f":"IF($A581=L$1,$A582,\"\")","v":""}]
["Pink",null,{"$f":"IF($A582=C$1,$A583,\"\")","v":""},{"$f":"IF($A582=D$1,$A583,\"\")","v":""},{"$f":"IF($A582=E$1,$A583,\"\")","v":""},{"$f":"IF($A582=F$1,$A583,\"\")","v":""},{"$f":"IF($A582=G$1,$A583,\"\")","v":""},{"$f":"IF($A582=H$1,$A583,\"\")","v":""},{"$f":"IF($A582=I$1,$A583,\"\")","v":""},{"$f":"IF($A582=J$1,$A583,\"\")","v":"Purple"},{"$f":"IF($A582=K$1,$A583,\"\")","v":""},{"$f":"IF($A582=L$1,$A583,\"\")","v":""}]
["Purple",null,{"$f":"IF($A583=C$1,$A584,\"\")","v":""},{"$f":"IF($A583=D$1,$A584,\"\")","v":""},{"$f":"IF($A583=E$1,$A584,\"\")","v":""},{"$f":"IF($A583=F$1,$A584,\"\")","v":""},{"$f":"IF($A583=G$1,$A584,\"\")","v":""},{"$f":"IF($A583=H$1,$A584,\"\")","v":""},{"$f":"IF($A583=I$1,$A584,\"\")","v":""},{"$f":"IF($A583=J$1,$A584,\"\")","v":""},{"$f":"IF($A583=K$1,$A584,\"\")","v":"Red"},{"$f":"IF($A583=L$1,$A584,\"\")","v":""}]
["Red",null,{"$f":"IF($A584=C$1,$A585,\"\")","v":""},{"$f":"IF($A584=D$1,$A585,\"\")","v":""},{"$f":"IF($A584=E$1,$A585,\"\")","v":""},{"$f":"IF($A584=F$1,$A585,\"\")","v":""},{"$f":"IF($A584=G$1,$A585,\"\")","v":""},{"$f":"IF($A584=H$1,$A585,\"\")","v":"Blue"},{"$f":"IF($A584=I$1,$A585,\"\")","v":""},{"$f":"IF($A584=J$1,$A585,\"\")","v":""},{"$f":"IF($A584=K$1,$A585,\"\")","v":""},{"$f":"IF($A584=L$1,$A585,\"\")","v":""}]
["Blue",null,{"$f":"IF($A585=C$1,$A586,\"\")","v":""},{"$f":"IF($A585=D$1,$A586,\"\")","v":""},{"$f":"IF($A585=E$1,$A586,\"\")","v":"Yellow"},{"$f":"IF($A585=F$1,$A586,\"\")","v":""},{"$f":"IF($A585=G$1,$A586,\"\")","v":""},{"$f":"IF($A585=H$1,$A586,\"\")","v":""},{"$f":"IF($A585=I$1,$A586,\"\")","v":""},{"$f":"IF($A585=J$1,$A586,\"\")","v":""},{"$f":"IF($A585=K$1,$A586,\"\")","v":""},{"$f":"IF($A585=L$1,$A586,\"\")","v":""}]
["Yellow",null,{"$f":"IF($A586=C$1,$A587,\"\")","v":"Orange"},{"$f":"IF($A586=D$1,$A587,\"\")","v":""},{"$f":"IF($A586=E$1,$A587,\"\")","v":""},{"$f":"IF($A586=F$1,$A587,\"\")","v":""},{"$f":"IF($A586=G$1,$A587,\"\")","v":""},{"$f":"IF($A586=H$1,$A587,\"\")","v":""},{"$f":"IF($A586=I$1,$A587,\"\")","v":""},{"$f":"IF($A586=J$1,$A587,\"\")","v":""},{"$f":"IF($A586=K$1,$A587,\"\")","v":""},{"$f":"IF($A586=L$1,$A587,\"\")","v":""}]
["Orange",null,{"$f":"IF($A587=C$1,$A588,\"\")","v":""},{"$f":"IF($A587=D$1,$A588,\"\")","v":"Red"},{"$f":"IF($A587=E$1,$A588,\"\")","v":""},{"$f":"IF($A587=F$1,$A588,\"\")","v":""},{"$f":"IF($A587=G$1,$A588,\"\")","v":""},{"$f":"IF($A587=H$1,$A588,\"\")","v":""},{"$f":"IF($A587=I$1,$A588,\"\")","v":""},{"$f":"IF($A587=J$1,$A588,\"\")","v":""},{"$f":"IF($A587=K$1,$A588,\"\")","v":""},{"$f":"IF($A587=L$1,$A588,\"\")","v":""}]
["Red",null,{"$f":"IF($A588=C$1,$A589,\"\")","v":""},{"$f":"IF($A588=D$1,$A589,\"\")","v":""},{"$f":"IF($A588=E$1,$A589,\"\")","v":""},{"$f":"IF($A588=F$1,$A589,\"\")","v":""},{"$f":"IF($A588=G$1,$A589,\"\")","v":""},{"$f":"IF($A588=H$1,$A589,\"\")","v":"Black"},{"$f":"IF($A588=I$1,$A589,\"\")","v":""},{"$f":"IF($A588=J$1,$A589,\"\")","v":""},{"$f":"IF($A588=K$1,$A589,\"\")","v":""},{"$f":"IF($A588=L$1,$A589,\"\")","v":""}]
["Black",null,{"$f":"IF($A589=C$1,$A590,\"\")","v":""},{"$f":"IF($A589=D$1,$A590,\"\")","v":""},{"$f":"IF($A589=E$1,$A590,\"\")","v":""},{"$f":"IF($A589=F$1,$A590,\"\")","v":""},{"$f":"IF($A589=G$1,$A590,\"\")","v":""},{"$f":"IF($A589=H$1,$A590,\"\")","v":""},{"$f":"IF($A589=I$1,$A590,\"\")","v":"White"},{"$f":"IF($A589=J$1,$A590,\"\")","v":""},{"$f":"IF($A589=K$1,$A590,\"\")","v":""},{"$f":"IF($A589=L$1,$A590,\"\")","v":""}]
["White",null,{"$f":"IF($A590=C$1,$A591,\"\")","v":""},{"$f":"IF($A590=D$1,$A591,\"\")","v":""},{"$f":"IF($A590=E$1,$A591,\"\")","v":""},{"$f":"IF($A590=F$1,$A591,\"\")","v":""},{"$f":"IF($A590=G$1,$A591,\"\")","v":"Cyan"},{"$f":"IF($A590=H$1,$A591,\"\")","v":""},{"$f":"IF($A590=I$1,$A591,\"\")","v":""},{"$f":"IF($A590=J$1,$A591,\"\")","v":""},{"$f":"IF($A590=K$1,$A591,\"\")","v":""},{"$f":"IF($A590=L$1,$A591,\"\")","v":""}]
["Cyan",null,{"$f":"IF($A591=C$1,$A592,\"\")","v":""},{"$f":"IF($A591=D$1,$A592,\"\")","v":""},{"$f":"IF($A591=E$1,$A592,\"\")","v":""},{"$f":"IF($A591=F$1,$A592,\"\")","v":"Green"},{"$f":"IF($A591=G$1,$A592,\"\")","v":""},{"$f":"IF($A591=H$1,$A592,\"\")","v":""},{"$f":"IF($A591=I$1,$A592,\"\")","v":""},{"$f":"IF($A591=J$1,$A592,\"\")","v":""},{"$f":"IF($A591=K$1,$A592,\"\")","v":""},{"$f":"IF($A591=L$1,$A592,\"\")","v":""}]
["Green",null,{"$f":"IF($A592=C$1,$A593,\"\")","v":""},{"$f":"IF($A592=D$1,$A593,\"\")","v":""},{"$f":"IF($A592=E$1,$A593,\"\")","v":""},{"$f":"IF($A592=F$1,$A593,\"\")","v":""},{"$f":"IF($A592=G$1,$A593,\"\")","v":""},{"$f":"IF($A592=H$1,$A593,\"\")","v":""},{"$f":"IF($A592=I$1,$A593,\"\")","v":""},{"$f":"IF($A592=J$1,$A593,\"\")","v":""},{"$f":"IF($A592=K$1,$A593,\"\")","v":""},{"$f":"IF($A592=L$1,$A593,\"\")","v":"Green"}]
["Green",null,{"$f":"IF($A593=C$1,$A594,\"\")","v":""},{"$f":"IF($A593=D$1,$A594,\"\")","v":""},{"$f":"IF($A593=E$1,$A594,\"\")","v":""},{"$f":"IF($A593=F$1,$A594,\"\")","v":""},{"$f":"IF($A593=G$1,$A594,\"\")","v":""},{"$f":"IF($A593=H$1,$A594,\"\")","v":""},{"$f":"IF($A593=I$1,$A594,\"\")","v":""},{"$f":"IF($A593=J$1,$A594,\"\")","v":""},{"$f":"IF($A593=K$1,$A594,\"\")","v":""},{"$f":"IF($A593=L$1,$A594,\"\")","v":"Pink"}]
["Pink",null,{"$f":"IF($A594=C$1,$A595,\"\")","v":""},{"$f":"IF($A594=D$1,$A595,\"\")","v":""},{"$f":"IF($A594=E$1,$A595,\"\")","v":""},{"$f":"IF($A594=F$1,$A595,\"\")","v":""},{"$f":"IF($A594=G$1,$A595,\"\")","v":""},{"$f":"IF($A594=H$1,$A595,\"\")","v":""},{"$f":"IF($A594=I$1,$A595,\"\")","v":""},{"$f":"IF($A594=J$1,$A595,\"\")","v":"Yellow"},{"$f":"IF($A594=K$1,$A595,\"\")","v":""},{"$f":"IF($A594=L$1,$A595,\"\")","v":""}]
["Yellow",null,{"$f":"IF($A595=C$1,$A596,\"\")","v":"Pink"},{"$f":"IF($A595=D$1,$A596,\"\")","v":""},{"$f":"IF($A595=E$1,$A596,\"\")","v":""},{"$f":"IF($A595=F$1,$A596,\"\")","v":""},{"$f":"IF($A595=G$1,$A596,\"\")","v":""},{"$f":"IF($A595=H$1,$A596,\"\")","v":""},{"$f":"IF($A595=I$1,$A596,\"\")","v":""},{"$f":"IF($A595=J$1,$A596,\"\")","v":""},{"$f":"IF($A595=K$1,$A596,\"\")","v":""},{"$f":"IF($A595=L$1,$A596,\"\")","v":""}]
["Pink",null,{"$f":"IF($A596=C$1,$A597,\"\")","v":""},{"$f":"IF($A596=D$1,$A597,\"\")","v":""},{"$f":"IF($A596=E$1,$A597,\"\")","v":""},{"$f":"IF($A596=F$1,$A597,\"\")","v":""},{"$f":"IF($A596=G$1,$A597,\"\")","v":""},{"$f":"IF($A596=H$1,$A597,\"\")","v":""},{"$f":"IF($A596=I$1,$A597,\"\")","v":""},{"$f":"IF($A596=J$1,$A597,\"\")","v":"Pink"},{"$f":"IF($A596=K$1,$A597,\"\")","v":""},{"$f":"IF($A596=L$1,$A597,\"\")","v":""}]
["Pink",null,{"$f":"IF($A597=C$1,$A598,\"\")","v":""},{"$f":"IF($A597=D$1,$A598,\"\")","v":""},{"$f":"IF($A597=E$1,$A598,\"\")","v":""},{"$f":"IF($A597=F$1,$A598,\"\")","v":""},{"$f":"IF($A597=G$1,$A598,\"\")","v":""},{"$f":"IF($A597=H$1,$A598,\"\")","v":""},{"$f":"IF($A597=I$1,$A598,\"\")","v":""},{"$f":"IF($A597=J$1,$A598,\"\")","v":"Purple"},{"$f":"IF($A597=K$1,$A598,\"\")","v":""},{"$f":"IF($A597=L$1,$A598,\"\")","v":""}]
["Purple",null,{"$f":"IF($A598=C$1,$A599,\"\")","v":""},{"$f":"IF($A598=D$1,$A599,\"\")","v":""},{"$f":"IF($A598=E$1,$A599,\"\")","v":""},{"$f":"IF($A598=F$1,$A599,\"\")","v":""},{"$f":"IF($A598=G$1,$A599,\"\")","v":""},{"$f":"IF($A598=H$1,$A599,\"\")","v":""},{"$f":"IF($A598=I$1,$A599,\"\")","v":""},{"$f":"IF($A598=J$1,$A599,\"\")","v":""},{"$f":"IF($A598=K$1,$A599,\"\")","v":"Red"},{"$f":"IF($A598=L$1,$A599,\"\")","v":""}]
["Red",null,{"$f":"IF($A599=C$1,$A600,\"\")","v":""},{"$f":"IF($A599=D$1,$A600,\"\")","v":""},{"$f":"IF($A599=E$1,$A600,\"\")","v":""},{"$f":"IF($A599=F$1,$A600,\"\")","v":""},{"$f":"IF($A599=G$1,$A600,\"\")","v":""},{"$f":"IF($A599=H$1,$A600,\"\")","v":"Cyan"},{"$f":"IF($A599=I$1,$A600,\"\")","v":""},{"$f":"IF($A599=J$1,$A600,\"\")","v":""},{"$f":"IF($A599=K$1,$A600,\"\")","v":""},{"$f":"IF($A599=L$1,$A600,\"\")","v":""}]
["Cyan",null,{"$f":"IF($A600=C$1,$A601,\"\")","v":""},{"$f":"IF($A600=D$1,$A601,\"\")","v":""},{"$f":"IF($A600=E$1,$A601,\"\")","v":""},{"$f":"IF($A600=F$1,$A601,\"\")","v":"White"},{"$f":"IF($A600=G$1,$A601,\"\")","v":""},{"$f":"IF($A600=H$1,$A601,\"\")","v":""},{"$f":"IF($A600=I$1,$A601,\"\")","v":""},{"$f":"IF($A600=J$1,$A601,\"\")","v":""},{"$f":"IF($A600=K$1,$A601,\"\")","v":""},{"$f":"IF($A600=L$1,$A601,\"\")","v":""}]
["White",null,{"$f":"IF($A601=C$1,$A602,\"\")","v":""},{"$f":"IF($A601=D$1,$A602,\"\")","v":""},{"$f":"IF($A601=E$1,$A602,\"\")","v":""},{"$f":"IF($A601=F$1,$A602,\"\")","v":""},{"$f":"IF($A601=G$1,$A602,\"\")","v":"White"},{"$f":"IF($A601=H$1,$A602,\"\")","v":""},{"$f":"IF($A601=I$1,$A602,\"\")","v":""},{"$f":"IF($A601=J$1,$A602,\"\")","v":""},{"$f":"IF($A601=K$1,$A602,\"\")","v":""},{"$f":"IF($A601=L$1,$A602,\"\")","v":""}]
["White",null,{"$f":"IF($A602=C$1,$A603,\"\")","v":""},{"$f":"IF($A602=D$1,$A603,\"\")","v":""},{"$f":"IF($A602=E$1,$A603,\"\")","v":""},{"$f":"IF($A602=F$1,$A603,\"\")","v":""},{"$f":"IF($A602=G$1,$A603,\"\")","v":"Yellow"},{"$f":"IF($A602=H$1,$A603,\"\")","v":""},{"$f":"IF($A602=I$1,$A603,\"\")","v":""},{"$f":"IF($A602=J$1,$A603,\"\")","v":""},{"$f":"IF($A602=K$1,$A603,\"\")","v":""},{"$f":"IF($A602=L$1,$A603,\"\")","v":""}]
["Yellow",null,{"$f":"IF($A603=C$1,$A604,\"\")","v":"Purple"},{"$f":"IF($A603=D$1,$A604,\"\")","v":""},{"$f":"IF($A603=E$1,$A604,\"\")","v":""},{"$f":"IF($A603=F$1,$A604,\"\")","v":""},{"$f":"IF($A603=G$1,$A604,\"\")","v":""},{"$f":"IF($A603=H$1,$A604,\"\")","v":""},{"$f":"IF($A603=I$1,$A604,\"\")","v":""},{"$f":"IF($A603=J$1,$A604,\"\")","v":""},{"$f":"IF($A603=K$1,$A604,\"\")","v":""},{"$f":"IF($A603=L$1,$A604,\"\")","v":""}]
["Purple",null,{"$f":"IF($A604=C$1,$A605,\"\")","v":""},{"$f":"IF($A604=D$1,$A605,\"\")","v":""},{"$f":"IF($A604=E$1,$A605,\"\")","v":""},{"$f":"IF($A604=F$1,$A605,\"\")","v":""},{"$f":"IF($A604=G$1,$A605,\"\")","v":""},{"$f":"IF($A604=H$1,$A605,\"\")","v":""},{"$f":"IF($A604=I$1,$A605,\"\")","v":""},{"$f":"IF($A604=J$1,$A605,\"\")","v":""},{"$f":"IF($A604=K$1,$A605,\"\")","v":"Black"},{"$f":"IF($A604=L$1,$A605,\"\")","v":""}]
["Black",null,{"$f":"IF($A605=C$1,$A606,\"\")","v":""},{"$f":"IF($A605=D$1,$A606,\"\")","v":""},{"$f":"IF($A605=E$1,$A606,\"\")","v":""},{"$f":"IF($A605=F$1,$A606,\"\")","v":""},{"$f":"IF($A605=G$1,$A606,\"\")","v":""},{"$f":"IF($A605=H$1,$A606,\"\")","v":""},{"$f":"IF($A605=I$1,$A606,\"\")","v":"Pink"},{"$f":"IF($A605=J$1,$A606,\"\")","v":""},{"$f":"IF($A605=K$1,$A606,\"\")","v":""},{"$f":"IF($A605=L$1,$A606,\"\")","v":""}]
["Pink",null,{"$f":"IF($A606=C$1,$A607,\"\")","v":""},{"$f":"IF($A606=D$1,$A607,\"\")","v":""},{"$f":"IF($A606=E$1,$A607,\"\")","v":""},{"$f":"IF($A606=F$1,$A607,\"\")","v":""},{"$f":"IF($A606=G$1,$A607,\"\")","v":""},{"$f":"IF($A606=H$1,$A607,\"\")","v":""},{"$f":"IF($A606=I$1,$A607,\"\")","v":""},{"$f":"IF($A606=J$1,$A607,\"\")","v":"Green"},{"$f":"IF($A606=K$1,$A607,\"\")","v":""},{"$f":"IF($A606=L$1,$A607,\"\")","v":""}]
["Green",null,{"$f":"IF($A607=C$1,$A608,\"\")","v":""},{"$f":"IF($A607=D$1,$A608,\"\")","v":""},{"$f":"IF($A607=E$1,$A608,\"\")","v":""},{"$f":"IF($A607=F$1,$A608,\"\")","v":""},{"$f":"IF($A607=G$1,$A608,\"\")","v":""},{"$f":"IF($A607=H$1,$A608,\"\")","v":""},{"$f":"IF($A607=I$1,$A608,\"\")","v":""},{"$f":"IF($A607=J$1,$A608,\"\")","v":""},{"$f":"IF($A607=K$1,$A608,\"\")","v":""},{"$f":"IF($A607=L$1,$A608,\"\")","v":"Black"}]
["Black",null,{"$f":"IF($A608=C$1,$A609,\"\")","v":""},{"$f":"IF($A608=D$1,$A609,\"\")","v":""},{"$f":"IF($A608=E$1,$A609,\"\")","v":""},{"$f":"IF($A608=F$1,$A609,\"\")","v":""},{"$f":"IF($A608=G$1,$A609,\"\")","v":""},{"$f":"IF($A608=H$1,$A609,\"\")","v":""},{"$f":"IF($A608=I$1,$A609,\"\")","v":"Orange"},{"$f":"IF($A608=J$1,$A609,\"\")","v":""},{"$f":"IF($A608=K$1,$A609,\"\")","v":""},{"$f":"IF($A608=L$1,$A609,\"\")","v":""}]
["Orange",null,{"$f":"IF($A609=C$1,$A610,\"\")","v":""},{"$f":"IF($A609=D$1,$A610,\"\")","v":"Blue"},{"$f":"IF($A609=E$1,$A610,\"\")","v":""},{"$f":"IF($A609=F$1,$A610,\"\")","v":""},{"$f":"IF($A609=G$1,$A610,\"\")","v":""},{"$f":"IF($A609=H$1,$A610,\"\")","v":""},{"$f":"IF($A609=I$1,$A610,\"\")","v":""},{"$f":"IF($A609=J$1,$A610,\"\")","v":""},{"$f":"IF($A609=K$1,$A610,\"\")","v":""},{"$f":"IF($A609=L$1,$A610,\"\")","v":""}]
["Blue",null,{"$f":"IF($A610=C$1,$A611,\"\")","v":""},{"$f":"IF($A610=D$1,$A611,\"\")","v":""},{"$f":"IF($A610=E$1,$A611,\"\")","v":"Red"},{"$f":"IF($A610=F$1,$A611,\"\")","v":""},{"$f":"IF($A610=G$1,$A611,\"\")","v":""},{"$f":"IF($A610=H$1,$A611,\"\")","v":""},{"$f":"IF($A610=I$1,$A611,\"\")","v":""},{"$f":"IF($A610=J$1,$A611,\"\")","v":""},{"$f":"IF($A610=K$1,$A611,\"\")","v":""},{"$f":"IF($A610=L$1,$A611,\"\")","v":""}]
["Red",null,{"$f":"IF($A611=C$1,$A612,\"\")","v":""},{"$f":"IF($A611=D$1,$A612,\"\")","v":""},{"$f":"IF($A611=E$1,$A612,\"\")","v":""},{"$f":"IF($A611=F$1,$A612,\"\")","v":""},{"$f":"IF($A611=G$1,$A612,\"\")","v":""},{"$f":"IF($A611=H$1,$A612,\"\")","v":"Red"},{"$f":"IF($A611=I$1,$A612,\"\")","v":""},{"$f":"IF($A611=J$1,$A612,\"\")","v":""},{"$f":"IF($A611=K$1,$A612,\"\")","v":""},{"$f":"IF($A611=L$1,$A612,\"\")","v":""}]
["Red",null,{"$f":"IF($A612=C$1,$A613,\"\")","v":""},{"$f":"IF($A612=D$1,$A613,\"\")","v":""},{"$f":"IF($A612=E$1,$A613,\"\")","v":""},{"$f":"IF($A612=F$1,$A613,\"\")","v":""},{"$f":"IF($A612=G$1,$A613,\"\")","v":""},{"$f":"IF($A612=H$1,$A613,\"\")","v":"Purple"},{"$f":"IF($A612=I$1,$A613,\"\")","v":""},{"$f":"IF($A612=J$1,$A613,\"\")","v":""},{"$f":"IF($A612=K$1,$A613,\"\")","v":""},{"$f":"IF($A612=L$1,$A613,\"\")","v":""}]
["Purple",null,{"$f":"IF($A613=C$1,$A614,\"\")","v":""},{"$f":"IF($A613=D$1,$A614,\"\")","v":""},{"$f":"IF($A613=E$1,$A614,\"\")","v":""},{"$f":"IF($A613=F$1,$A614,\"\")","v":""},{"$f":"IF($A613=G$1,$A614,\"\")","v":""},{"$f":"IF($A613=H$1,$A614,\"\")","v":""},{"$f":"IF($A613=I$1,$A614,\"\")","v":""},{"$f":"IF($A613=J$1,$A614,\"\")","v":""},{"$f":"IF($A613=K$1,$A614,\"\")","v":"White"},{"$f":"IF($A613=L$1,$A614,\"\")","v":""}]
["White",null,{"$f":"IF($A614=C$1,$A615,\"\")","v":""},{"$f":"IF($A614=D$1,$A615,\"\")","v":""},{"$f":"IF($A614=E$1,$A615,\"\")","v":""},{"$f":"IF($A614=F$1,$A615,\"\")","v":""},{"$f":"IF($A614=G$1,$A615,\"\")","v":"Black"},{"$f":"IF($A614=H$1,$A615,\"\")","v":""},{"$f":"IF($A614=I$1,$A615,\"\")","v":""},{"$f":"IF($A614=J$1,$A615,\"\")","v":""},{"$f":"IF($A614=K$1,$A615,\"\")","v":""},{"$f":"IF($A614=L$1,$A615,\"\")","v":""}]
["Black",null,{"$f":"IF($A615=C$1,$A616,\"\")","v":""},{"$f":"IF($A615=D$1,$A616,\"\")","v":""},{"$f":"IF($A615=E$1,$A616,\"\")","v":""},{"$f":"IF($A615=F$1,$A616,\"\")","v":""},{"$f":"IF($A615=G$1,$A616,\"\")","v":""},{"$f":"IF($A615=H$1,$A616,\"\")","v":""},{"$f":"IF($A615=I$1,$A616,\"\")","v":"Orange"},{"$f":"IF($A615=J$1,$A616,\"\")","v":""},{"$f":"IF($A615=K$1,$A616,\"\")","v":""},{"$f":"IF($A615=L$1,$A616,\"\")","v":""}]
["Orange",null,{"$f":"IF($A616=C$1,$A617,\"\")","v":""},{"$f":"IF($A616=D$1,$A617,\"\")","v":"White"},{"$f":"IF($A616=E$1,$A617,\"\")","v":""},{"$f":"IF($A616=F$1,$A617,\"\")","v":""},{"$f":"IF($A616=G$1,$A617,\"\")","v":""},{"$f":"IF($A616=H$1,$A617,\"\")","v":""},{"$f":"IF($A616=I$1,$A617,\"\")","v":""},{"$f":"IF($A616=J$1,$A617,\"\")","v":""},{"$f":"IF($A616=K$1,$A617,\"\")","v":""},{"$f":"IF($A616=L$1,$A617,\"\")","v":""}]
["White",null,{"$f":"IF($A617=C$1,$A618,\"\")","v":""},{"$f":"IF($A617=D$1,$A618,\"\")","v":""},{"$f":"IF($A617=E$1,$A618,\"\")","v":""},{"$f":"IF($A617=F$1,$A618,\"\")","v":""},{"$f":"IF($A617=G$1,$A618,\"\")","v":"Blue"},{"$f":"IF($A617=H$1,$A618,\"\")","v":""},{"$f":"IF($A617=I$1,$A618,\"\")","v":""},{"$f":"IF($A617=J$1,$A618,\"\")","v":""},{"$f":"IF($A617=K$1,$A618,\"\")","v":""},{"$f":"IF($A617=L$1,$A618,\"\")","v":""}]
["Blue",null,{"$f":"IF($A618=C$1,$A619,\"\")","v":""},{"$f":"IF($A618=D$1,$A619,\"\")","v":""},{"$f":"IF($A618=E$1,$A619,\"\")","v":"Purple"},{"$f":"IF($A618=F$1,$A619,\"\")","v":""},{"$f":"IF($A618=G$1,$A619,\"\")","v":""},{"$f":"IF($A618=H$1,$A619,\"\")","v":""},{"$f":"IF($A618=I$1,$A619,\"\")","v":""},{"$f":"IF($A618=J$1,$A619,\"\")","v":""},{"$f":"IF($A618=K$1,$A619,\"\")","v":""},{"$f":"IF($A618=L$1,$A619,\"\")","v":""}]
["Purple",null,{"$f":"IF($A619=C$1,$A620,\"\")","v":""},{"$f":"IF($A619=D$1,$A620,\"\")","v":""},{"$f":"IF($A619=E$1,$A620,\"\")","v":""},{"$f":"IF($A619=F$1,$A620,\"\")","v":""},{"$f":"IF($A619=G$1,$A620,\"\")","v":""},{"$f":"IF($A619=H$1,$A620,\"\")","v":""},{"$f":"IF($A619=I$1,$A620,\"\")","v":""},{"$f":"IF($A619=J$1,$A620,\"\")","v":""},{"$f":"IF($A619=K$1,$A620,\"\")","v":"Orange"},{"$f":"IF($A619=L$1,$A620,\"\")","v":""}]
["Orange",null,{"$f":"IF($A620=C$1,$A621,\"\")","v":""},{"$f":"IF($A620=D$1,$A621,\"\")","v":"Pink"},{"$f":"IF($A620=E$1,$A621,\"\")","v":""},{"$f":"IF($A620=F$1,$A621,\"\")","v":""},{"$f":"IF($A620=G$1,$A621,\"\")","v":""},{"$f":"IF($A620=H$1,$A621,\"\")","v":""},{"$f":"IF($A620=I$1,$A621,\"\")","v":""},{"$f":"IF($A620=J$1,$A621,\"\")","v":""},{"$f":"IF($A620=K$1,$A621,\"\")","v":""},{"$f":"IF($A620=L$1,$A621,\"\")","v":""}]
["Pink",null,{"$f":"IF($A621=C$1,$A622,\"\")","v":""},{"$f":"IF($A621=D$1,$A622,\"\")","v":""},{"$f":"IF($A621=E$1,$A622,\"\")","v":""},{"$f":"IF($A621=F$1,$A622,\"\")","v":""},{"$f":"IF($A621=G$1,$A622,\"\")","v":""},{"$f":"IF($A621=H$1,$A622,\"\")","v":""},{"$f":"IF($A621=I$1,$A622,\"\")","v":""},{"$f":"IF($A621=J$1,$A622,\"\")","v":"Orange"},{"$f":"IF($A621=K$1,$A622,\"\")","v":""},{"$f":"IF($A621=L$1,$A622,\"\")","v":""}]
["Orange",null,{"$f":"IF($A622=C$1,$A623,\"\")","v":""},{"$f":"IF($A622=D$1,$A623,\"\")","v":"Yellow"},{"$f":"IF($A622=E$1,$A623,\"\")","v":""},{"$f":"IF($A622=F$1,$A623,\"\")","v":""},{"$f":"IF($A622=G$1,$A623,\"\")","v":""},{"$f":"IF($A622=H$1,$A623,\"\")","v":""},{"$f":"IF($A622=I$1,$A623,\"\")","v":""},{"$f":"IF($A622=J$1,$A623,\"\")","v":""},{"$f":"IF($A622=K$1,$A623,\"\")","v":""},{"$f":"IF($A622=L$1,$A623,\"\")","v":""}]
["Yellow",null,{"$f":"IF($A623=C$1,$A624,\"\")","v":"Green"},{"$f":"IF($A623=D$1,$A624,\"\")","v":""},{"$f":"IF($A623=E$1,$A624,\"\")","v":""},{"$f":"IF($A623=F$1,$A624,\"\")","v":""},{"$f":"IF($A623=G$1,$A624,\"\")","v":""},{"$f":"IF($A623=H$1,$A624,\"\")","v":""},{"$f":"IF($A623=I$1,$A624,\"\")","v":""},{"$f":"IF($A623=J$1,$A624,\"\")","v":""},{"$f":"IF($A623=K$1,$A624,\"\")","v":""},{"$f":"IF($A623=L$1,$A624,\"\")","v":""}]
["Green",null,{"$f":"IF($A624=C$1,$A625,\"\")","v":""},{"$f":"IF($A624=D$1,$A625,\"\")","v":""},{"$f":"IF($A624=E$1,$A625,\"\")","v":""},{"$f":"IF($A624=F$1,$A625,\"\")","v":""},{"$f":"IF($A624=G$1,$A625,\"\")","v":""},{"$f":"IF($A624=H$1,$A625,\"\")","v":""},{"$f":"IF($A624=I$1,$A625,\"\")","v":""},{"$f":"IF($A624=J$1,$A625,\"\")","v":""},{"$f":"IF($A624=K$1,$A625,\"\")","v":""},{"$f":"IF($A624=L$1,$A625,\"\")","v":"Blue"}]
["Blue",null,{"$f":"IF($A625=C$1,$A626,\"\")","v":""},{"$f":"IF($A625=D$1,$A626,\"\")","v":""},{"$f":"IF($A625=E$1,$A626,\"\")","v":"Green"},{"$f":"IF($A625=F$1,$A626,\"\")","v":""},{"$f":"IF($A625=G$1,$A626,\"\")","v":""},{"$f":"IF($A625=H$1,$A626,\"\")","v":""},{"$f":"IF($A625=I$1,$A626,\"\")","v":""},{"$f":"IF($A625=J$1,$A626,\"\")","v":""},{"$f":"IF($A625=K$1,$A626,\"\")","v":""},{"$f":"IF($A625=L$1,$A626,\"\")","v":""}]
["Green",null,{"$f":"IF($A626=C$1,$A627,\"\")","v":""},{"$f":"IF($A626=D$1,$A627,\"\")","v":""},{"$f":"IF($A626=E$1,$A627,\"\")","v":""},{"$f":"IF($A626=F$1,$A627,\"\")","v":""},{"$f":"IF($A626=G$1,$A627,\"\")","v":""},{"$f":"IF($A626=H$1,$A627,\"\")","v":""},{"$f":"IF($A626=I$1,$A627,\"\")","v":""},{"$f":"IF($A626=J$1,$A627,\"\")","v":""},{"$f":"IF($A626=K$1,$A627,\"\")","v":""},{"$f":"IF($A626=L$1,$A627,\"\")","v":"Cyan"}]
["Cyan",null,{"$f":"IF($A627=C$1,$A628,\"\")","v":""},{"$f":"IF($A627=D$1,$A628,\"\")","v":""},{"$f":"IF($A627=E$1,$A628,\"\")","v":""},{"$f":"IF($A627=F$1,$A628,\"\")","v":"Cyan"},{"$f":"IF($A627=G$1,$A628,\"\")","v":""},{"$f":"IF($A627=H$1,$A628,\"\")","v":""},{"$f":"IF($A627=I$1,$A628,\"\")","v":""},{"$f":"IF($A627=J$1,$A628,\"\")","v":""},{"$f":"IF($A627=K$1,$A628,\"\")","v":""},{"$f":"IF($A627=L$1,$A628,\"\")","v":""}]
["Cyan",null,{"$f":"IF($A628=C$1,$A629,\"\")","v":""},{"$f":"IF($A628=D$1,$A629,\"\")","v":""},{"$f":"IF($A628=E$1,$A629,\"\")","v":""},{"$f":"IF($A628=F$1,$A629,\"\")","v":"Green"},{"$f":"IF($A628=G$1,$A629,\"\")","v":""},{"$f":"IF($A628=H$1,$A629,\"\")","v":""},{"$f":"IF($A628=I$1,$A629,\"\")","v":""},{"$f":"IF($A628=J$1,$A629,\"\")","v":""},{"$f":"IF($A628=K$1,$A629,\"\")","v":""},{"$f":"IF($A628=L$1,$A629,\"\")","v":""}]
["Green",null,{"$f":"IF($A629=C$1,$A630,\"\")","v":""},{"$f":"IF($A629=D$1,$A630,\"\")","v":""},{"$f":"IF($A629=E$1,$A630,\"\")","v":""},{"$f":"IF($A629=F$1,$A630,\"\")","v":""},{"$f":"IF($A629=G$1,$A630,\"\")","v":""},{"$f":"IF($A629=H$1,$A630,\"\")","v":""},{"$f":"IF($A629=I$1,$A630,\"\")","v":""},{"$f":"IF($A629=J$1,$A630,\"\")","v":""},{"$f":"IF($A629=K$1,$A630,\"\")","v":""},{"$f":"IF($A629=L$1,$A630,\"\")","v":"Orange"}]
["Orange",null,{"$f":"IF($A630=C$1,$A631,\"\")","v":""},{"$f":"IF($A630=D$1,$A631,\"\")","v":"Cyan"},{"$f":"IF($A630=E$1,$A631,\"\")","v":""},{"$f":"IF($A630=F$1,$A631,\"\")","v":""},{"$f":"IF($A630=G$1,$A631,\"\")","v":""},{"$f":"IF($A630=H$1,$A631,\"\")","v":""},{"$f":"IF($A630=I$1,$A631,\"\")","v":""},{"$f":"IF($A630=J$1,$A631,\"\")","v":""},{"$f":"IF($A630=K$1,$A631,\"\")","v":""},{"$f":"IF($A630=L$1,$A631,\"\")","v":""}]
["Cyan",null,{"$f":"IF($A631=C$1,$A632,\"\")","v":""},{"$f":"IF($A631=D$1,$A632,\"\")","v":""},{"$f":"IF($A631=E$1,$A632,\"\")","v":""},{"$f":"IF($A631=F$1,$A632,\"\")","v":"Pink"},{"$f":"IF($A631=G$1,$A632,\"\")","v":""},{"$f":"IF($A631=H$1,$A632,\"\")","v":""},{"$f":"IF($A631=I$1,$A632,\"\")","v":""},{"$f":"IF($A631=J$1,$A632,\"\")","v":""},{"$f":"IF($A631=K$1,$A632,\"\")","v":""},{"$f":"IF($A631=L$1,$A632,\"\")","v":""}]
["Pink",null,{"$f":"IF($A632=C$1,$A633,\"\")","v":""},{"$f":"IF($A632=D$1,$A633,\"\")","v":""},{"$f":"IF($A632=E$1,$A633,\"\")","v":""},{"$f":"IF($A632=F$1,$A633,\"\")","v":""},{"$f":"IF($A632=G$1,$A633,\"\")","v":""},{"$f":"IF($A632=H$1,$A633,\"\")","v":""},{"$f":"IF($A632=I$1,$A633,\"\")","v":""},{"$f":"IF($A632=J$1,$A633,\"\")","v":"Pink"},{"$f":"IF($A632=K$1,$A633,\"\")","v":""},{"$f":"IF($A632=L$1,$A633,\"\")","v":""}]
["Pink",null,{"$f":"IF($A633=C$1,$A634,\"\")","v":""},{"$f":"IF($A633=D$1,$A634,\"\")","v":""},{"$f":"IF($A633=E$1,$A634,\"\")","v":""},{"$f":"IF($A633=F$1,$A634,\"\")","v":""},{"$f":"IF($A633=G$1,$A634,\"\")","v":""},{"$f":"IF($A633=H$1,$A634,\"\")","v":""},{"$f":"IF($A633=I$1,$A634,\"\")","v":""},{"$f":"IF($A633=J$1,$A634,\"\")","v":"Red"},{"$f":"IF($A633=K$1,$A634,\"\")","v":""},{"$f":"IF($A633=L$1,$A634,\"\")","v":""}]
["Red",null,{"$f":"IF($A634=C$1,$A635,\"\")","v":""},{"$f":"IF($A634=D$1,$A635,\"\")","v":""},{"$f":"IF($A634=E$1,$A635,\"\")","v":""},{"$f":"IF($A634=F$1,$A635,\"\")","v":""},{"$f":"IF($A634=G$1,$A635,\"\")","v":""},{"$f":"IF($A634=H$1,$A635,\"\")","v":"Purple"},{"$f":"IF($A634=I$1,$A635,\"\")","v":""},{"$f":"IF($A634=J$1,$A635,\"\")","v":""},{"$f":"IF($A634=K$1,$A635,\"\")","v":""},{"$f":"IF($A634=L$1,$A635,\"\")","v":""}]
["Purple",null,{"$f":"IF($A635=C$1,$A636,\"\")","v":""},{"$f":"IF($A635=D$1,$A636,\"\")","v":""},{"$f":"IF($A635=E$1,$A636,\"\")","v":""},{"$f":"IF($A635=F$1,$A636,\"\")","v":""},{"$f":"IF($A635=G$1,$A636,\"\")","v":""},{"$f":"IF($A635=H$1,$A636,\"\")","v":""},{"$f":"IF($A635=I$1,$A636,\"\")","v":""},{"$f":"IF($A635=J$1,$A636,\"\")","v":""},{"$f":"IF($A635=K$1,$A636,\"\")","v":"Pink"},{"$f":"IF($A635=L$1,$A636,\"\")","v":""}]
["Pink",null,{"$f":"IF($A636=C$1,$A637,\"\")","v":""},{"$f":"IF($A636=D$1,$A637,\"\")","v":""},{"$f":"IF($A636=E$1,$A637,\"\")","v":""},{"$f":"IF($A636=F$1,$A637,\"\")","v":""},{"$f":"IF($A636=G$1,$A637,\"\")","v":""},{"$f":"IF($A636=H$1,$A637,\"\")","v":""},{"$f":"IF($A636=I$1,$A637,\"\")","v":""},{"$f":"IF($A636=J$1,$A637,\"\")","v":"Bl"},{"$f":"IF($A636=K$1,$A637,\"\")","v":""},{"$f":"IF($A636=L$1,$A637,\"\")","v":""}]
["Bl",null,{"$f":"IF($A637=C$1,$A638,\"\")","v":""},{"$f":"IF($A637=D$1,$A638,\"\")","v":""},{"$f":"IF($A637=E$1,$A638,\"\")","v":""},{"$f":"IF($A637=F$1,$A638,\"\")","v":""},{"$f":"IF($A637=G$1,$A638,\"\")","v":""},{"$f":"IF($A637=H$1,$A638,\"\")","v":""},{"$f":"IF($A637=I$1,$A638,\"\")","v":""},{"$f":"IF($A637=J$1,$A638,\"\")","v":""},{"$f":"IF($A637=K$1,$A638,\"\")","v":""},{"$f":"IF($A637=L$1,$A638,\"\")","v":""}]
["Black",null,{"$f":"IF($A638=C$1,$A639,\"\")","v":""},{"$f":"IF($A638=D$1,$A639,\"\")","v":""},{"$f":"IF($A638=E$1,$A639,\"\")","v":""},{"$f":"IF($A638=F$1,$A639,\"\")","v":""},{"$f":"IF($A638=G$1,$A639,\"\")","v":""},{"$f":"IF($A638=H$1,$A639,\"\")","v":""},{"$f":"IF($A638=I$1,$A639,\"\")","v":"Purple"},{"$f":"IF($A638=J$1,$A639,\"\")","v":""},{"$f":"IF($A638=K$1,$A639,\"\")","v":""},{"$f":"IF($A638=L$1,$A639,\"\")","v":""}]
["Purple",null,{"$f":"IF($A639=C$1,$A640,\"\")","v":""},{"$f":"IF($A639=D$1,$A640,\"\")","v":""},{"$f":"IF($A639=E$1,$A640,\"\")","v":""},{"$f":"IF($A639=F$1,$A640,\"\")","v":""},{"$f":"IF($A639=G$1,$A640,\"\")","v":""},{"$f":"IF($A639=H$1,$A640,\"\")","v":""},{"$f":"IF($A639=I$1,$A640,\"\")","v":""},{"$f":"IF($A639=J$1,$A640,\"\")","v":""},{"$f":"IF($A639=K$1,$A640,\"\")","v":"Blue"},{"$f":"IF($A639=L$1,$A640,\"\")","v":""}]
["Blue",null,{"$f":"IF($A640=C$1,$A641,\"\")","v":""},{"$f":"IF($A640=D$1,$A641,\"\")","v":""},{"$f":"IF($A640=E$1,$A641,\"\")","v":"Red"},{"$f":"IF($A640=F$1,$A641,\"\")","v":""},{"$f":"IF($A640=G$1,$A641,\"\")","v":""},{"$f":"IF($A640=H$1,$A641,\"\")","v":""},{"$f":"IF($A640=I$1,$A641,\"\")","v":""},{"$f":"IF($A640=J$1,$A641,\"\")","v":""},{"$f":"IF($A640=K$1,$A641,\"\")","v":""},{"$f":"IF($A640=L$1,$A641,\"\")","v":""}]
["Red",null,{"$f":"IF($A641=C$1,$A642,\"\")","v":""},{"$f":"IF($A641=D$1,$A642,\"\")","v":""},{"$f":"IF($A641=E$1,$A642,\"\")","v":""},{"$f":"IF($A641=F$1,$A642,\"\")","v":""},{"$f":"IF($A641=G$1,$A642,\"\")","v":""},{"$f":"IF($A641=H$1,$A642,\"\")","v":"Blue"},{"$f":"IF($A641=I$1,$A642,\"\")","v":""},{"$f":"IF($A641=J$1,$A642,\"\")","v":""},{"$f":"IF($A641=K$1,$A642,\"\")","v":""},{"$f":"IF($A641=L$1,$A642,\"\")","v":""}]
["Blue",null,{"$f":"IF($A642=C$1,$A643,\"\")","v":""},{"$f":"IF($A642=D$1,$A643,\"\")","v":""},{"$f":"IF($A642=E$1,$A643,\"\")","v":"Red"},{"$f":"IF($A642=F$1,$A643,\"\")","v":""},{"$f":"IF($A642=G$1,$A643,\"\")","v":""},{"$f":"IF($A642=H$1,$A643,\"\")","v":""},{"$f":"IF($A642=I$1,$A643,\"\")","v":""},{"$f":"IF($A642=J$1,$A643,\"\")","v":""},{"$f":"IF($A642=K$1,$A643,\"\")","v":""},{"$f":"IF($A642=L$1,$A643,\"\")","v":""}]
["Red",null,{"$f":"IF($A643=C$1,$A644,\"\")","v":""},{"$f":"IF($A643=D$1,$A644,\"\")","v":""},{"$f":"IF($A643=E$1,$A644,\"\")","v":""},{"$f":"IF($A643=F$1,$A644,\"\")","v":""},{"$f":"IF($A643=G$1,$A644,\"\")","v":""},{"$f":"IF($A643=H$1,$A644,\"\")","v":"Pink"},{"$f":"IF($A643=I$1,$A644,\"\")","v":""},{"$f":"IF($A643=J$1,$A644,\"\")","v":""},{"$f":"IF($A643=K$1,$A644,\"\")","v":""},{"$f":"IF($A643=L$1,$A644,\"\")","v":""}]
["Pink",null,{"$f":"IF($A644=C$1,$A645,\"\")","v":""},{"$f":"IF($A644=D$1,$A645,\"\")","v":""},{"$f":"IF($A644=E$1,$A645,\"\")","v":""},{"$f":"IF($A644=F$1,$A645,\"\")","v":""},{"$f":"IF($A644=G$1,$A645,\"\")","v":""},{"$f":"IF($A644=H$1,$A645,\"\")","v":""},{"$f":"IF($A644=I$1,$A645,\"\")","v":""},{"$f":"IF($A644=J$1,$A645,\"\")","v":"Green"},{"$f":"IF($A644=K$1,$A645,\"\")","v":""},{"$f":"IF($A644=L$1,$A645,\"\")","v":""}]
["Green",null,{"$f":"IF($A645=C$1,$A646,\"\")","v":""},{"$f":"IF($A645=D$1,$A646,\"\")","v":""},{"$f":"IF($A645=E$1,$A646,\"\")","v":""},{"$f":"IF($A645=F$1,$A646,\"\")","v":""},{"$f":"IF($A645=G$1,$A646,\"\")","v":""},{"$f":"IF($A645=H$1,$A646,\"\")","v":""},{"$f":"IF($A645=I$1,$A646,\"\")","v":""},{"$f":"IF($A645=J$1,$A646,\"\")","v":""},{"$f":"IF($A645=K$1,$A646,\"\")","v":""},{"$f":"IF($A645=L$1,$A646,\"\")","v":"White"}]
["White",null,{"$f":"IF($A646=C$1,$A647,\"\")","v":""},{"$f":"IF($A646=D$1,$A647,\"\")","v":""},{"$f":"IF($A646=E$1,$A647,\"\")","v":""},{"$f":"IF($A646=F$1,$A647,\"\")","v":""},{"$f":"IF($A646=G$1,$A647,\"\")","v":"Blue"},{"$f":"IF($A646=H$1,$A647,\"\")","v":""},{"$f":"IF($A646=I$1,$A647,\"\")","v":""},{"$f":"IF($A646=J$1,$A647,\"\")","v":""},{"$f":"IF($A646=K$1,$A647,\"\")","v":""},{"$f":"IF($A646=L$1,$A647,\"\")","v":""}]
["Blue",null,{"$f":"IF($A647=C$1,$A648,\"\")","v":""},{"$f":"IF($A647=D$1,$A648,\"\")","v":""},{"$f":"IF($A647=E$1,$A648,\"\")","v":"Cyan"},{"$f":"IF($A647=F$1,$A648,\"\")","v":""},{"$f":"IF($A647=G$1,$A648,\"\")","v":""},{"$f":"IF($A647=H$1,$A648,\"\")","v":""},{"$f":"IF($A647=I$1,$A648,\"\")","v":""},{"$f":"IF($A647=J$1,$A648,\"\")","v":""},{"$f":"IF($A647=K$1,$A648,\"\")","v":""},{"$f":"IF($A647=L$1,$A648,\"\")","v":""}]
["Cyan",null,{"$f":"IF($A648=C$1,$A649,\"\")","v":""},{"$f":"IF($A648=D$1,$A649,\"\")","v":""},{"$f":"IF($A648=E$1,$A649,\"\")","v":""},{"$f":"IF($A648=F$1,$A649,\"\")","v":"White"},{"$f":"IF($A648=G$1,$A649,\"\")","v":""},{"$f":"IF($A648=H$1,$A649,\"\")","v":""},{"$f":"IF($A648=I$1,$A649,\"\")","v":""},{"$f":"IF($A648=J$1,$A649,\"\")","v":""},{"$f":"IF($A648=K$1,$A649,\"\")","v":""},{"$f":"IF($A648=L$1,$A649,\"\")","v":""}]
["White",null,{"$f":"IF($A649=C$1,$A650,\"\")","v":""},{"$f":"IF($A649=D$1,$A650,\"\")","v":""},{"$f":"IF($A649=E$1,$A650,\"\")","v":""},{"$f":"IF($A649=F$1,$A650,\"\")","v":""},{"$f":"IF($A649=G$1,$A650,\"\")","v":"Black"},{"$f":"IF($A649=H$1,$A650,\"\")","v":""},{"$f":"IF($A649=I$1,$A650,\"\")","v":""},{"$f":"IF($A649=J$1,$A650,\"\")","v":""},{"$f":"IF($A649=K$1,$A650,\"\")","v":""},{"$f":"IF($A649=L$1,$A650,\"\")","v":""}]
["Black",null,{"$f":"IF($A650=C$1,$A651,\"\")","v":""},{"$f":"IF($A650=D$1,$A651,\"\")","v":""},{"$f":"IF($A650=E$1,$A651,\"\")","v":""},{"$f":"IF($A650=F$1,$A651,\"\")","v":""},{"$f":"IF($A650=G$1,$A651,\"\")","v":""},{"$f":"IF($A650=H$1,$A651,\"\")","v":""},{"$f":"IF($A650=I$1,$A651,\"\")","v":"Black"},{"$f":"IF($A650=J$1,$A651,\"\")","v":""},{"$f":"IF($A650=K$1,$A651,\"\")","v":""},{"$f":"IF($A650=L$1,$A651,\"\")","v":""}]
["Black",null,{"$f":"IF($A651=C$1,$A652,\"\")","v":""},{"$f":"IF($A651=D$1,$A652,\"\")","v":""},{"$f":"IF($A651=E$1,$A652,\"\")","v":""},{"$f":"IF($A651=F$1,$A652,\"\")","v":""},{"$f":"IF($A651=G$1,$A652,\"\")","v":""},{"$f":"IF($A651=H$1,$A652,\"\")","v":""},{"$f":"IF($A651=I$1,$A652,\"\")","v":"Pink"},{"$f":"IF($A651=J$1,$A652,\"\")","v":""},{"$f":"IF($A651=K$1,$A652,\"\")","v":""},{"$f":"IF($A651=L$1,$A652,\"\")","v":""}]
["Pink",null,{"$f":"IF($A652=C$1,$A653,\"\")","v":""},{"$f":"IF($A652=D$1,$A653,\"\")","v":""},{"$f":"IF($A652=E$1,$A653,\"\")","v":""},{"$f":"IF($A652=F$1,$A653,\"\")","v":""},{"$f":"IF($A652=G$1,$A653,\"\")","v":""},{"$f":"IF($A652=H$1,$A653,\"\")","v":""},{"$f":"IF($A652=I$1,$A653,\"\")","v":""},{"$f":"IF($A652=J$1,$A653,\"\")","v":"Cyan"},{"$f":"IF($A652=K$1,$A653,\"\")","v":""},{"$f":"IF($A652=L$1,$A653,\"\")","v":""}]
["Cyan",null,{"$f":"IF($A653=C$1,$A654,\"\")","v":""},{"$f":"IF($A653=D$1,$A654,\"\")","v":""},{"$f":"IF($A653=E$1,$A654,\"\")","v":""},{"$f":"IF($A653=F$1,$A654,\"\")","v":"Yellow"},{"$f":"IF($A653=G$1,$A654,\"\")","v":""},{"$f":"IF($A653=H$1,$A654,\"\")","v":""},{"$f":"IF($A653=I$1,$A654,\"\")","v":""},{"$f":"IF($A653=J$1,$A654,\"\")","v":""},{"$f":"IF($A653=K$1,$A654,\"\")","v":""},{"$f":"IF($A653=L$1,$A654,\"\")","v":""}]
["Yellow",null,{"$f":"IF($A654=C$1,$A655,\"\")","v":"Purple"},{"$f":"IF($A654=D$1,$A655,\"\")","v":""},{"$f":"IF($A654=E$1,$A655,\"\")","v":""},{"$f":"IF($A654=F$1,$A655,\"\")","v":""},{"$f":"IF($A654=G$1,$A655,\"\")","v":""},{"$f":"IF($A654=H$1,$A655,\"\")","v":""},{"$f":"IF($A654=I$1,$A655,\"\")","v":""},{"$f":"IF($A654=J$1,$A655,\"\")","v":""},{"$f":"IF($A654=K$1,$A655,\"\")","v":""},{"$f":"IF($A654=L$1,$A655,\"\")","v":""}]
["Purple",null,{"$f":"IF($A655=C$1,$A656,\"\")","v":""},{"$f":"IF($A655=D$1,$A656,\"\")","v":""},{"$f":"IF($A655=E$1,$A656,\"\")","v":""},{"$f":"IF($A655=F$1,$A656,\"\")","v":""},{"$f":"IF($A655=G$1,$A656,\"\")","v":""},{"$f":"IF($A655=H$1,$A656,\"\")","v":""},{"$f":"IF($A655=I$1,$A656,\"\")","v":""},{"$f":"IF($A655=J$1,$A656,\"\")","v":""},{"$f":"IF($A655=K$1,$A656,\"\")","v":"Black"},{"$f":"IF($A655=L$1,$A656,\"\")","v":""}]
["Black",null,{"$f":"IF($A656=C$1,$A657,\"\")","v":""},{"$f":"IF($A656=D$1,$A657,\"\")","v":""},{"$f":"IF($A656=E$1,$A657,\"\")","v":""},{"$f":"IF($A656=F$1,$A657,\"\")","v":""},{"$f":"IF($A656=G$1,$A657,\"\")","v":""},{"$f":"IF($A656=H$1,$A657,\"\")","v":""},{"$f":"IF($A656=I$1,$A657,\"\")","v":"BLue"},{"$f":"IF($A656=J$1,$A657,\"\")","v":""},{"$f":"IF($A656=K$1,$A657,\"\")","v":""},{"$f":"IF($A656=L$1,$A657,\"\")","v":""}]
["BLue",null,{"$f":"IF($A657=C$1,$A658,\"\")","v":""},{"$f":"IF($A657=D$1,$A658,\"\")","v":""},{"$f":"IF($A657=E$1,$A658,\"\")","v":"Blue"},{"$f":"IF($A657=F$1,$A658,\"\")","v":""},{"$f":"IF($A657=G$1,$A658,\"\")","v":""},{"$f":"IF($A657=H$1,$A658,\"\")","v":""},{"$f":"IF($A657=I$1,$A658,\"\")","v":""},{"$f":"IF($A657=J$1,$A658,\"\")","v":""},{"$f":"IF($A657=K$1,$A658,\"\")","v":""},{"$f":"IF($A657=L$1,$A658,\"\")","v":""}]
["Blue",null,{"$f":"IF($A658=C$1,$A659,\"\")","v":""},{"$f":"IF($A658=D$1,$A659,\"\")","v":""},{"$f":"IF($A658=E$1,$A659,\"\")","v":"White"},{"$f":"IF($A658=F$1,$A659,\"\")","v":""},{"$f":"IF($A658=G$1,$A659,\"\")","v":""},{"$f":"IF($A658=H$1,$A659,\"\")","v":""},{"$f":"IF($A658=I$1,$A659,\"\")","v":""},{"$f":"IF($A658=J$1,$A659,\"\")","v":""},{"$f":"IF($A658=K$1,$A659,\"\")","v":""},{"$f":"IF($A658=L$1,$A659,\"\")","v":""}]
["White",null,{"$f":"IF($A659=C$1,$A660,\"\")","v":""},{"$f":"IF($A659=D$1,$A660,\"\")","v":""},{"$f":"IF($A659=E$1,$A660,\"\")","v":""},{"$f":"IF($A659=F$1,$A660,\"\")","v":""},{"$f":"IF($A659=G$1,$A660,\"\")","v":"Orange"},{"$f":"IF($A659=H$1,$A660,\"\")","v":""},{"$f":"IF($A659=I$1,$A660,\"\")","v":""},{"$f":"IF($A659=J$1,$A660,\"\")","v":""},{"$f":"IF($A659=K$1,$A660,\"\")","v":""},{"$f":"IF($A659=L$1,$A660,\"\")","v":""}]
["Orange",null,{"$f":"IF($A660=C$1,$A661,\"\")","v":""},{"$f":"IF($A660=D$1,$A661,\"\")","v":"Purple"},{"$f":"IF($A660=E$1,$A661,\"\")","v":""},{"$f":"IF($A660=F$1,$A661,\"\")","v":""},{"$f":"IF($A660=G$1,$A661,\"\")","v":""},{"$f":"IF($A660=H$1,$A661,\"\")","v":""},{"$f":"IF($A660=I$1,$A661,\"\")","v":""},{"$f":"IF($A660=J$1,$A661,\"\")","v":""},{"$f":"IF($A660=K$1,$A661,\"\")","v":""},{"$f":"IF($A660=L$1,$A661,\"\")","v":""}]
["Purple",null,{"$f":"IF($A661=C$1,$A662,\"\")","v":""},{"$f":"IF($A661=D$1,$A662,\"\")","v":""},{"$f":"IF($A661=E$1,$A662,\"\")","v":""},{"$f":"IF($A661=F$1,$A662,\"\")","v":""},{"$f":"IF($A661=G$1,$A662,\"\")","v":""},{"$f":"IF($A661=H$1,$A662,\"\")","v":""},{"$f":"IF($A661=I$1,$A662,\"\")","v":""},{"$f":"IF($A661=J$1,$A662,\"\")","v":""},{"$f":"IF($A661=K$1,$A662,\"\")","v":"White"},{"$f":"IF($A661=L$1,$A662,\"\")","v":""}]
["White",null,{"$f":"IF($A662=C$1,$A663,\"\")","v":""},{"$f":"IF($A662=D$1,$A663,\"\")","v":""},{"$f":"IF($A662=E$1,$A663,\"\")","v":""},{"$f":"IF($A662=F$1,$A663,\"\")","v":""},{"$f":"IF($A662=G$1,$A663,\"\")","v":"Blue"},{"$f":"IF($A662=H$1,$A663,\"\")","v":""},{"$f":"IF($A662=I$1,$A663,\"\")","v":""},{"$f":"IF($A662=J$1,$A663,\"\")","v":""},{"$f":"IF($A662=K$1,$A663,\"\")","v":""},{"$f":"IF($A662=L$1,$A663,\"\")","v":""}]
["Blue",null,{"$f":"IF($A663=C$1,$A664,\"\")","v":""},{"$f":"IF($A663=D$1,$A664,\"\")","v":""},{"$f":"IF($A663=E$1,$A664,\"\")","v":"Green"},{"$f":"IF($A663=F$1,$A664,\"\")","v":""},{"$f":"IF($A663=G$1,$A664,\"\")","v":""},{"$f":"IF($A663=H$1,$A664,\"\")","v":""},{"$f":"IF($A663=I$1,$A664,\"\")","v":""},{"$f":"IF($A663=J$1,$A664,\"\")","v":""},{"$f":"IF($A663=K$1,$A664,\"\")","v":""},{"$f":"IF($A663=L$1,$A664,\"\")","v":""}]
["Green",null,{"$f":"IF($A664=C$1,$A665,\"\")","v":""},{"$f":"IF($A664=D$1,$A665,\"\")","v":""},{"$f":"IF($A664=E$1,$A665,\"\")","v":""},{"$f":"IF($A664=F$1,$A665,\"\")","v":""},{"$f":"IF($A664=G$1,$A665,\"\")","v":""},{"$f":"IF($A664=H$1,$A665,\"\")","v":""},{"$f":"IF($A664=I$1,$A665,\"\")","v":""},{"$f":"IF($A664=J$1,$A665,\"\")","v":""},{"$f":"IF($A664=K$1,$A665,\"\")","v":""},{"$f":"IF($A664=L$1,$A665,\"\")","v":"Blue"}]
["Blue",null,{"$f":"IF($A665=C$1,$A666,\"\")","v":""},{"$f":"IF($A665=D$1,$A666,\"\")","v":""},{"$f":"IF($A665=E$1,$A666,\"\")","v":"Blue"},{"$f":"IF($A665=F$1,$A666,\"\")","v":""},{"$f":"IF($A665=G$1,$A666,\"\")","v":""},{"$f":"IF($A665=H$1,$A666,\"\")","v":""},{"$f":"IF($A665=I$1,$A666,\"\")","v":""},{"$f":"IF($A665=J$1,$A666,\"\")","v":""},{"$f":"IF($A665=K$1,$A666,\"\")","v":""},{"$f":"IF($A665=L$1,$A666,\"\")","v":""}]
["Blue",null,{"$f":"IF($A666=C$1,$A667,\"\")","v":""},{"$f":"IF($A666=D$1,$A667,\"\")","v":""},{"$f":"IF($A666=E$1,$A667,\"\")","v":"Red"},{"$f":"IF($A666=F$1,$A667,\"\")","v":""},{"$f":"IF($A666=G$1,$A667,\"\")","v":""},{"$f":"IF($A666=H$1,$A667,\"\")","v":""},{"$f":"IF($A666=I$1,$A667,\"\")","v":""},{"$f":"IF($A666=J$1,$A667,\"\")","v":""},{"$f":"IF($A666=K$1,$A667,\"\")","v":""},{"$f":"IF($A666=L$1,$A667,\"\")","v":""}]
["Red",null,{"$f":"IF($A667=C$1,$A668,\"\")","v":""},{"$f":"IF($A667=D$1,$A668,\"\")","v":""},{"$f":"IF($A667=E$1,$A668,\"\")","v":""},{"$f":"IF($A667=F$1,$A668,\"\")","v":""},{"$f":"IF($A667=G$1,$A668,\"\")","v":""},{"$f":"IF($A667=H$1,$A668,\"\")","v":"Red"},{"$f":"IF($A667=I$1,$A668,\"\")","v":""},{"$f":"IF($A667=J$1,$A668,\"\")","v":""},{"$f":"IF($A667=K$1,$A668,\"\")","v":""},{"$f":"IF($A667=L$1,$A668,\"\")","v":""}]
["Red",null,{"$f":"IF($A668=C$1,$A669,\"\")","v":""},{"$f":"IF($A668=D$1,$A669,\"\")","v":""},{"$f":"IF($A668=E$1,$A669,\"\")","v":""},{"$f":"IF($A668=F$1,$A669,\"\")","v":""},{"$f":"IF($A668=G$1,$A669,\"\")","v":""},{"$f":"IF($A668=H$1,$A669,\"\")","v":"Purple"},{"$f":"IF($A668=I$1,$A669,\"\")","v":""},{"$f":"IF($A668=J$1,$A669,\"\")","v":""},{"$f":"IF($A668=K$1,$A669,\"\")","v":""},{"$f":"IF($A668=L$1,$A669,\"\")","v":""}]
["Purple",null,{"$f":"IF($A669=C$1,$A670,\"\")","v":""},{"$f":"IF($A669=D$1,$A670,\"\")","v":""},{"$f":"IF($A669=E$1,$A670,\"\")","v":""},{"$f":"IF($A669=F$1,$A670,\"\")","v":""},{"$f":"IF($A669=G$1,$A670,\"\")","v":""},{"$f":"IF($A669=H$1,$A670,\"\")","v":""},{"$f":"IF($A669=I$1,$A670,\"\")","v":""},{"$f":"IF($A669=J$1,$A670,\"\")","v":""},{"$f":"IF($A669=K$1,$A670,\"\")","v":"Green"},{"$f":"IF($A669=L$1,$A670,\"\")","v":""}]
["Green",null,{"$f":"IF($A670=C$1,$A671,\"\")","v":""},{"$f":"IF($A670=D$1,$A671,\"\")","v":""},{"$f":"IF($A670=E$1,$A671,\"\")","v":""},{"$f":"IF($A670=F$1,$A671,\"\")","v":""},{"$f":"IF($A670=G$1,$A671,\"\")","v":""},{"$f":"IF($A670=H$1,$A671,\"\")","v":""},{"$f":"IF($A670=I$1,$A671,\"\")","v":""},{"$f":"IF($A670=J$1,$A671,\"\")","v":""},{"$f":"IF($A670=K$1,$A671,\"\")","v":""},{"$f":"IF($A670=L$1,$A671,\"\")","v":"Black"}]
["Black",null,{"$f":"IF($A671=C$1,$A672,\"\")","v":""},{"$f":"IF($A671=D$1,$A672,\"\")","v":""},{"$f":"IF($A671=E$1,$A672,\"\")","v":""},{"$f":"IF($A671=F$1,$A672,\"\")","v":""},{"$f":"IF($A671=G$1,$A672,\"\")","v":""},{"$f":"IF($A671=H$1,$A672,\"\")","v":""},{"$f":"IF($A671=I$1,$A672,\"\")","v":"Green"},{"$f":"IF($A671=J$1,$A672,\"\")","v":""},{"$f":"IF($A671=K$1,$A672,\"\")","v":""},{"$f":"IF($A671=L$1,$A672,\"\")","v":""}]
["Green",null,{"$f":"IF($A672=C$1,$A673,\"\")","v":""},{"$f":"IF($A672=D$1,$A673,\"\")","v":""},{"$f":"IF($A672=E$1,$A673,\"\")","v":""},{"$f":"IF($A672=F$1,$A673,\"\")","v":""},{"$f":"IF($A672=G$1,$A673,\"\")","v":""},{"$f":"IF($A672=H$1,$A673,\"\")","v":""},{"$f":"IF($A672=I$1,$A673,\"\")","v":""},{"$f":"IF($A672=J$1,$A673,\"\")","v":""},{"$f":"IF($A672=K$1,$A673,\"\")","v":""},{"$f":"IF($A672=L$1,$A673,\"\")","v":"Green"}]
["Green",null,{"$f":"IF($A673=C$1,$A674,\"\")","v":""},{"$f":"IF($A673=D$1,$A674,\"\")","v":""},{"$f":"IF($A673=E$1,$A674,\"\")","v":""},{"$f":"IF($A673=F$1,$A674,\"\")","v":""},{"$f":"IF($A673=G$1,$A674,\"\")","v":""},{"$f":"IF($A673=H$1,$A674,\"\")","v":""},{"$f":"IF($A673=I$1,$A674,\"\")","v":""},{"$f":"IF($A673=J$1,$A674,\"\")","v":""},{"$f":"IF($A673=K$1,$A674,\"\")","v":""},{"$f":"IF($A673=L$1,$A674,\"\")","v":"White"}]
["White",null,{"$f":"IF($A674=C$1,$A675,\"\")","v":""},{"$f":"IF($A674=D$1,$A675,\"\")","v":""},{"$f":"IF($A674=E$1,$A675,\"\")","v":""},{"$f":"IF($A674=F$1,$A675,\"\")","v":""},{"$f":"IF($A674=G$1,$A675,\"\")","v":"Blue"},{"$f":"IF($A674=H$1,$A675,\"\")","v":""},{"$f":"IF($A674=I$1,$A675,\"\")","v":""},{"$f":"IF($A674=J$1,$A675,\"\")","v":""},{"$f":"IF($A674=K$1,$A675,\"\")","v":""},{"$f":"IF($A674=L$1,$A675,\"\")","v":""}]
["Blue",null,{"$f":"IF($A675=C$1,$A676,\"\")","v":""},{"$f":"IF($A675=D$1,$A676,\"\")","v":""},{"$f":"IF($A675=E$1,$A676,\"\")","v":"Yellow"},{"$f":"IF($A675=F$1,$A676,\"\")","v":""},{"$f":"IF($A675=G$1,$A676,\"\")","v":""},{"$f":"IF($A675=H$1,$A676,\"\")","v":""},{"$f":"IF($A675=I$1,$A676,\"\")","v":""},{"$f":"IF($A675=J$1,$A676,\"\")","v":""},{"$f":"IF($A675=K$1,$A676,\"\")","v":""},{"$f":"IF($A675=L$1,$A676,\"\")","v":""}]
["Yellow",null,{"$f":"IF($A676=C$1,$A677,\"\")","v":"Pink"},{"$f":"IF($A676=D$1,$A677,\"\")","v":""},{"$f":"IF($A676=E$1,$A677,\"\")","v":""},{"$f":"IF($A676=F$1,$A677,\"\")","v":""},{"$f":"IF($A676=G$1,$A677,\"\")","v":""},{"$f":"IF($A676=H$1,$A677,\"\")","v":""},{"$f":"IF($A676=I$1,$A677,\"\")","v":""},{"$f":"IF($A676=J$1,$A677,\"\")","v":""},{"$f":"IF($A676=K$1,$A677,\"\")","v":""},{"$f":"IF($A676=L$1,$A677,\"\")","v":""}]
["Pink",null,{"$f":"IF($A677=C$1,$A678,\"\")","v":""},{"$f":"IF($A677=D$1,$A678,\"\")","v":""},{"$f":"IF($A677=E$1,$A678,\"\")","v":""},{"$f":"IF($A677=F$1,$A678,\"\")","v":""},{"$f":"IF($A677=G$1,$A678,\"\")","v":""},{"$f":"IF($A677=H$1,$A678,\"\")","v":""},{"$f":"IF($A677=I$1,$A678,\"\")","v":""},{"$f":"IF($A677=J$1,$A678,\"\")","v":"Blue"},{"$f":"IF($A677=K$1,$A678,\"\")","v":""},{"$f":"IF($A677=L$1,$A678,\"\")","v":""}]
["Blue",null,{"$f":"IF($A678=C$1,$A679,\"\")","v":""},{"$f":"IF($A678=D$1,$A679,\"\")","v":""},{"$f":"IF($A678=E$1,$A679,\"\")","v":"Blue"},{"$f":"IF($A678=F$1,$A679,\"\")","v":""},{"$f":"IF($A678=G$1,$A679,\"\")","v":""},{"$f":"IF($A678=H$1,$A679,\"\")","v":""},{"$f":"IF($A678=I$1,$A679,\"\")","v":""},{"$f":"IF($A678=J$1,$A679,\"\")","v":""},{"$f":"IF($A678=K$1,$A679,\"\")","v":""},{"$f":"IF($A678=L$1,$A679,\"\")","v":""}]
["Blue",null,{"$f":"IF($A679=C$1,$A680,\"\")","v":""},{"$f":"IF($A679=D$1,$A680,\"\")","v":""},{"$f":"IF($A679=E$1,$A680,\"\")","v":"Blue"},{"$f":"IF($A679=F$1,$A680,\"\")","v":""},{"$f":"IF($A679=G$1,$A680,\"\")","v":""},{"$f":"IF($A679=H$1,$A680,\"\")","v":""},{"$f":"IF($A679=I$1,$A680,\"\")","v":""},{"$f":"IF($A679=J$1,$A680,\"\")","v":""},{"$f":"IF($A679=K$1,$A680,\"\")","v":""},{"$f":"IF($A679=L$1,$A680,\"\")","v":""}]
["Blue",null,{"$f":"IF($A680=C$1,$A681,\"\")","v":""},{"$f":"IF($A680=D$1,$A681,\"\")","v":""},{"$f":"IF($A680=E$1,$A681,\"\")","v":"White"},{"$f":"IF($A680=F$1,$A681,\"\")","v":""},{"$f":"IF($A680=G$1,$A681,\"\")","v":""},{"$f":"IF($A680=H$1,$A681,\"\")","v":""},{"$f":"IF($A680=I$1,$A681,\"\")","v":""},{"$f":"IF($A680=J$1,$A681,\"\")","v":""},{"$f":"IF($A680=K$1,$A681,\"\")","v":""},{"$f":"IF($A680=L$1,$A681,\"\")","v":""}]
["White",null,{"$f":"IF($A681=C$1,$A682,\"\")","v":""},{"$f":"IF($A681=D$1,$A682,\"\")","v":""},{"$f":"IF($A681=E$1,$A682,\"\")","v":""},{"$f":"IF($A681=F$1,$A682,\"\")","v":""},{"$f":"IF($A681=G$1,$A682,\"\")","v":"Cyan"},{"$f":"IF($A681=H$1,$A682,\"\")","v":""},{"$f":"IF($A681=I$1,$A682,\"\")","v":""},{"$f":"IF($A681=J$1,$A682,\"\")","v":""},{"$f":"IF($A681=K$1,$A682,\"\")","v":""},{"$f":"IF($A681=L$1,$A682,\"\")","v":""}]
["Cyan",null,{"$f":"IF($A682=C$1,$A683,\"\")","v":""},{"$f":"IF($A682=D$1,$A683,\"\")","v":""},{"$f":"IF($A682=E$1,$A683,\"\")","v":""},{"$f":"IF($A682=F$1,$A683,\"\")","v":"Orange"},{"$f":"IF($A682=G$1,$A683,\"\")","v":""},{"$f":"IF($A682=H$1,$A683,\"\")","v":""},{"$f":"IF($A682=I$1,$A683,\"\")","v":""},{"$f":"IF($A682=J$1,$A683,\"\")","v":""},{"$f":"IF($A682=K$1,$A683,\"\")","v":""},{"$f":"IF($A682=L$1,$A683,\"\")","v":""}]
["Orange",null,{"$f":"IF($A683=C$1,$A684,\"\")","v":""},{"$f":"IF($A683=D$1,$A684,\"\")","v":"Pink"},{"$f":"IF($A683=E$1,$A684,\"\")","v":""},{"$f":"IF($A683=F$1,$A684,\"\")","v":""},{"$f":"IF($A683=G$1,$A684,\"\")","v":""},{"$f":"IF($A683=H$1,$A684,\"\")","v":""},{"$f":"IF($A683=I$1,$A684,\"\")","v":""},{"$f":"IF($A683=J$1,$A684,\"\")","v":""},{"$f":"IF($A683=K$1,$A684,\"\")","v":""},{"$f":"IF($A683=L$1,$A684,\"\")","v":""}]
["Pink",null,{"$f":"IF($A684=C$1,$A685,\"\")","v":""},{"$f":"IF($A684=D$1,$A685,\"\")","v":""},{"$f":"IF($A684=E$1,$A685,\"\")","v":""},{"$f":"IF($A684=F$1,$A685,\"\")","v":""},{"$f":"IF($A684=G$1,$A685,\"\")","v":""},{"$f":"IF($A684=H$1,$A685,\"\")","v":""},{"$f":"IF($A684=I$1,$A685,\"\")","v":""},{"$f":"IF($A684=J$1,$A685,\"\")","v":"Purple"},{"$f":"IF($A684=K$1,$A685,\"\")","v":""},{"$f":"IF($A684=L$1,$A685,\"\")","v":""}]
["Purple",null,{"$f":"IF($A685=C$1,$A686,\"\")","v":""},{"$f":"IF($A685=D$1,$A686,\"\")","v":""},{"$f":"IF($A685=E$1,$A686,\"\")","v":""},{"$f":"IF($A685=F$1,$A686,\"\")","v":""},{"$f":"IF($A685=G$1,$A686,\"\")","v":""},{"$f":"IF($A685=H$1,$A686,\"\")","v":""},{"$f":"IF($A685=I$1,$A686,\"\")","v":""},{"$f":"IF($A685=J$1,$A686,\"\")","v":""},{"$f":"IF($A685=K$1,$A686,\"\")","v":"Green"},{"$f":"IF($A685=L$1,$A686,\"\")","v":""}]
["Green",null,{"$f":"IF($A686=C$1,$A687,\"\")","v":""},{"$f":"IF($A686=D$1,$A687,\"\")","v":""},{"$f":"IF($A686=E$1,$A687,\"\")","v":""},{"$f":"IF($A686=F$1,$A687,\"\")","v":""},{"$f":"IF($A686=G$1,$A687,\"\")","v":""},{"$f":"IF($A686=H$1,$A687,\"\")","v":""},{"$f":"IF($A686=I$1,$A687,\"\")","v":""},{"$f":"IF($A686=J$1,$A687,\"\")","v":""},{"$f":"IF($A686=K$1,$A687,\"\")","v":""},{"$f":"IF($A686=L$1,$A687,\"\")","v":"Orange"}]
["Orange",null,{"$f":"IF($A687=C$1,$A688,\"\")","v":""},{"$f":"IF($A687=D$1,$A688,\"\")","v":"Blue"},{"$f":"IF($A687=E$1,$A688,\"\")","v":""},{"$f":"IF($A687=F$1,$A688,\"\")","v":""},{"$f":"IF($A687=G$1,$A688,\"\")","v":""},{"$f":"IF($A687=H$1,$A688,\"\")","v":""},{"$f":"IF($A687=I$1,$A688,\"\")","v":""},{"$f":"IF($A687=J$1,$A688,\"\")","v":""},{"$f":"IF($A687=K$1,$A688,\"\")","v":""},{"$f":"IF($A687=L$1,$A688,\"\")","v":""}]
["Blue",null,{"$f":"IF($A688=C$1,$A689,\"\")","v":""},{"$f":"IF($A688=D$1,$A689,\"\")","v":""},{"$f":"IF($A688=E$1,$A689,\"\")","v":"Cyan"},{"$f":"IF($A688=F$1,$A689,\"\")","v":""},{"$f":"IF($A688=G$1,$A689,\"\")","v":""},{"$f":"IF($A688=H$1,$A689,\"\")","v":""},{"$f":"IF($A688=I$1,$A689,\"\")","v":""},{"$f":"IF($A688=J$1,$A689,\"\")","v":""},{"$f":"IF($A688=K$1,$A689,\"\")","v":""},{"$f":"IF($A688=L$1,$A689,\"\")","v":""}]
["Cyan",null,{"$f":"IF($A689=C$1,$A690,\"\")","v":""},{"$f":"IF($A689=D$1,$A690,\"\")","v":""},{"$f":"IF($A689=E$1,$A690,\"\")","v":""},{"$f":"IF($A689=F$1,$A690,\"\")","v":"Blue"},{"$f":"IF($A689=G$1,$A690,\"\")","v":""},{"$f":"IF($A689=H$1,$A690,\"\")","v":""},{"$f":"IF($A689=I$1,$A690,\"\")","v":""},{"$f":"IF($A689=J$1,$A690,\"\")","v":""},{"$f":"IF($A689=K$1,$A690,\"\")","v":""},{"$f":"IF($A689=L$1,$A690,\"\")","v":""}]
["Blue",null,{"$f":"IF($A690=C$1,$A691,\"\")","v":""},{"$f":"IF($A690=D$1,$A691,\"\")","v":""},{"$f":"IF($A690=E$1,$A691,\"\")","v":"Black"},{"$f":"IF($A690=F$1,$A691,\"\")","v":""},{"$f":"IF($A690=G$1,$A691,\"\")","v":""},{"$f":"IF($A690=H$1,$A691,\"\")","v":""},{"$f":"IF($A690=I$1,$A691,\"\")","v":""},{"$f":"IF($A690=J$1,$A691,\"\")","v":""},{"$f":"IF($A690=K$1,$A691,\"\")","v":""},{"$f":"IF($A690=L$1,$A691,\"\")","v":""}]
["Black",null,{"$f":"IF($A691=C$1,$A692,\"\")","v":""},{"$f":"IF($A691=D$1,$A692,\"\")","v":""},{"$f":"IF($A691=E$1,$A692,\"\")","v":""},{"$f":"IF($A691=F$1,$A692,\"\")","v":""},{"$f":"IF($A691=G$1,$A692,\"\")","v":""},{"$f":"IF($A691=H$1,$A692,\"\")","v":""},{"$f":"IF($A691=I$1,$A692,\"\")","v":"Orange"},{"$f":"IF($A691=J$1,$A692,\"\")","v":""},{"$f":"IF($A691=K$1,$A692,\"\")","v":""},{"$f":"IF($A691=L$1,$A692,\"\")","v":""}]
["Orange",null,{"$f":"IF($A692=C$1,$A693,\"\")","v":""},{"$f":"IF($A692=D$1,$A693,\"\")","v":"Pink"},{"$f":"IF($A692=E$1,$A693,\"\")","v":""},{"$f":"IF($A692=F$1,$A693,\"\")","v":""},{"$f":"IF($A692=G$1,$A693,\"\")","v":""},{"$f":"IF($A692=H$1,$A693,\"\")","v":""},{"$f":"IF($A692=I$1,$A693,\"\")","v":""},{"$f":"IF($A692=J$1,$A693,\"\")","v":""},{"$f":"IF($A692=K$1,$A693,\"\")","v":""},{"$f":"IF($A692=L$1,$A693,\"\")","v":""}]
["Pink",null,{"$f":"IF($A693=C$1,$A694,\"\")","v":""},{"$f":"IF($A693=D$1,$A694,\"\")","v":""},{"$f":"IF($A693=E$1,$A694,\"\")","v":""},{"$f":"IF($A693=F$1,$A694,\"\")","v":""},{"$f":"IF($A693=G$1,$A694,\"\")","v":""},{"$f":"IF($A693=H$1,$A694,\"\")","v":""},{"$f":"IF($A693=I$1,$A694,\"\")","v":""},{"$f":"IF($A693=J$1,$A694,\"\")","v":"Cyan"},{"$f":"IF($A693=K$1,$A694,\"\")","v":""},{"$f":"IF($A693=L$1,$A694,\"\")","v":""}]
["Cyan",null,{"$f":"IF($A694=C$1,$A695,\"\")","v":""},{"$f":"IF($A694=D$1,$A695,\"\")","v":""},{"$f":"IF($A694=E$1,$A695,\"\")","v":""},{"$f":"IF($A694=F$1,$A695,\"\")","v":"Black"},{"$f":"IF($A694=G$1,$A695,\"\")","v":""},{"$f":"IF($A694=H$1,$A695,\"\")","v":""},{"$f":"IF($A694=I$1,$A695,\"\")","v":""},{"$f":"IF($A694=J$1,$A695,\"\")","v":""},{"$f":"IF($A694=K$1,$A695,\"\")","v":""},{"$f":"IF($A694=L$1,$A695,\"\")","v":""}]
["Black",null,{"$f":"IF($A695=C$1,$A696,\"\")","v":""},{"$f":"IF($A695=D$1,$A696,\"\")","v":""},{"$f":"IF($A695=E$1,$A696,\"\")","v":""},{"$f":"IF($A695=F$1,$A696,\"\")","v":""},{"$f":"IF($A695=G$1,$A696,\"\")","v":""},{"$f":"IF($A695=H$1,$A696,\"\")","v":""},{"$f":"IF($A695=I$1,$A696,\"\")","v":"Red"},{"$f":"IF($A695=J$1,$A696,\"\")","v":""},{"$f":"IF($A695=K$1,$A696,\"\")","v":""},{"$f":"IF($A695=L$1,$A696,\"\")","v":""}]
["Red",null,{"$f":"IF($A696=C$1,$A697,\"\")","v":""},{"$f":"IF($A696=D$1,$A697,\"\")","v":""},{"$f":"IF($A696=E$1,$A697,\"\")","v":""},{"$f":"IF($A696=F$1,$A697,\"\")","v":""},{"$f":"IF($A696=G$1,$A697,\"\")","v":""},{"$f":"IF($A696=H$1,$A697,\"\")","v":"White"},{"$f":"IF($A696=I$1,$A697,\"\")","v":""},{"$f":"IF($A696=J$1,$A697,\"\")","v":""},{"$f":"IF($A696=K$1,$A697,\"\")","v":""},{"$f":"IF($A696=L$1,$A697,\"\")","v":""}]
["White",null,{"$f":"IF($A697=C$1,$A698,\"\")","v":""},{"$f":"IF($A697=D$1,$A698,\"\")","v":""},{"$f":"IF($A697=E$1,$A698,\"\")","v":""},{"$f":"IF($A697=F$1,$A698,\"\")","v":""},{"$f":"IF($A697=G$1,$A698,\"\")","v":"Cyan"},{"$f":"IF($A697=H$1,$A698,\"\")","v":""},{"$f":"IF($A697=I$1,$A698,\"\")","v":""},{"$f":"IF($A697=J$1,$A698,\"\")","v":""},{"$f":"IF($A697=K$1,$A698,\"\")","v":""},{"$f":"IF($A697=L$1,$A698,\"\")","v":""}]
["Cyan",null,{"$f":"IF($A698=C$1,$A699,\"\")","v":""},{"$f":"IF($A698=D$1,$A699,\"\")","v":""},{"$f":"IF($A698=E$1,$A699,\"\")","v":""},{"$f":"IF($A698=F$1,$A699,\"\")","v":"Orange"},{"$f":"IF($A698=G$1,$A699,\"\")","v":""},{"$f":"IF($A698=H$1,$A699,\"\")","v":""},{"$f":"IF($A698=I$1,$A699,\"\")","v":""},{"$f":"IF($A698=J$1,$A699,\"\")","v":""},{"$f":"IF($A698=K$1,$A699,\"\")","v":""},{"$f":"IF($A698=L$1,$A699,\"\")","v":""}]
["Orange",null,{"$f":"IF($A699=C$1,$A700,\"\")","v":""},{"$f":"IF($A699=D$1,$A700,\"\")","v":"Red"},{"$f":"IF($A699=E$1,$A700,\"\")","v":""},{"$f":"IF($A699=F$1,$A700,\"\")","v":""},{"$f":"IF($A699=G$1,$A700,\"\")","v":""},{"$f":"IF($A699=H$1,$A700,\"\")","v":""},{"$f":"IF($A699=I$1,$A700,\"\")","v":""},{"$f":"IF($A699=J$1,$A700,\"\")","v":""},{"$f":"IF($A699=K$1,$A700,\"\")","v":""},{"$f":"IF($A699=L$1,$A700,\"\")","v":""}]
["Red",null,{"$f":"IF($A700=C$1,$A701,\"\")","v":""},{"$f":"IF($A700=D$1,$A701,\"\")","v":""},{"$f":"IF($A700=E$1,$A701,\"\")","v":""},{"$f":"IF($A700=F$1,$A701,\"\")","v":""},{"$f":"IF($A700=G$1,$A701,\"\")","v":""},{"$f":"IF($A700=H$1,$A701,\"\")","v":"Pink"},{"$f":"IF($A700=I$1,$A701,\"\")","v":""},{"$f":"IF($A700=J$1,$A701,\"\")","v":""},{"$f":"IF($A700=K$1,$A701,\"\")","v":""},{"$f":"IF($A700=L$1,$A701,\"\")","v":""}]
["Pink",null,{"$f":"IF($A701=C$1,$A702,\"\")","v":""},{"$f":"IF($A701=D$1,$A702,\"\")","v":""},{"$f":"IF($A701=E$1,$A702,\"\")","v":""},{"$f":"IF($A701=F$1,$A702,\"\")","v":""},{"$f":"IF($A701=G$1,$A702,\"\")","v":""},{"$f":"IF($A701=H$1,$A702,\"\")","v":""},{"$f":"IF($A701=I$1,$A702,\"\")","v":""},{"$f":"IF($A701=J$1,$A702,\"\")","v":"Green"},{"$f":"IF($A701=K$1,$A702,\"\")","v":""},{"$f":"IF($A701=L$1,$A702,\"\")","v":""}]
["Green",null,null,{"$f":"IF($A702=D$1,$A703,\"\")","v":""},{"$f":"IF($A702=E$1,$A703,\"\")","v":""},{"$f":"IF($A702=F$1,$A703,\"\")","v":""},{"$f":"IF($A702=G$1,$A703,\"\")","v":""},{"$f":"IF($A702=H$1,$A703,\"\")","v":""},{"$f":"IF($A702=I$1,$A703,\"\")","v":""},{"$f":"IF($A702=J$1,$A703,\"\")","v":""},{"$f":"IF($A702=K$1,$A703,\"\")","v":""},{"$f":"IF($A702=L$1,$A703,\"\")","v":0}]

{"sheet":"BerekenenWitteCellen","index":1,"n_rows":23,"n_cols":80,"rows_kept":23,"cut":false,"hidden":false,"merged":[]}
["Yellow",11,14,11,2,14,10,6,6,33,9,3,9,10,5,10,12,8,1,4,5,19,2,43,1,20,2,33,2,20,3,6,9,12,11,37,8,1,35,12,31,6,6,4,12,7,1,4,22,6,26,9,8,20,31,22,27]
["Orange",1,1,15,4,5,1,1,3,18,11,9,17,4,5,24,5,11,3,16,1,7,1,12,9,25,4,7,8,12,1,38,10,16,30,8,12,8,29,1,12,1,13,3,4,3,37,7,5,10,6,20,9,5,8,1,3,8,36,22,7,4,2,8,30,23,4,5,7,4]
["Blue",5,17,14,27,12,23,9,1,11,23,2,3,19,16,1,3,2,8,24,4,3,21,3,4,16,2,4,14,15,5,52,2,2,2,23,26,36,3,10,2,13,1,5,7,9,9,4,6,6,2,18,10,4,4,1,2,9,25,8,7,15,2,5,11,5,2,1,9,3,1,1,8,2,13]
["Cyan",19,11,19,1,4,6,6,9,5,2,3,1,4,8,2,29,22,2,1,6,16,2,25,7,1,4,16,16,9,3,10,2,12,4,10,1,9,11,8,4,23,2,11,17,4,3,32,1,7,3,4,1,16,11,5,9,13,21,16,18,17,10,9,27,1,3,17,5,29,7,5,4,5]
["White",5,3,4,4,6,27,19,22,35,12,13,36,14,5,4,20,6,1,10,2,16,6,5,6,41,19,16,15,2,8,36,9,9,6,15,26,19,1,3,29,17,4,2,9,13,11,1,12,3,29,3,10,3,12,7,16,6]
["Red",1,1,12,14,15,5,13,7,7,2,10,2,5,5,5,18,44,6,2,22,5,52,2,3,4,30,4,7,1,17,12,15,6,2,1,22,3,2,6,6,7,9,7,5,11,1,1,13,2,6,5,8,2,5,1,4,10,7,7,10,12,6,6,1,8,27,4,11,12,1,22,7,2,24,1,28,4,3]
["Black",9,14,2,17,6,11,32,14,7,23,5,2,5,29,9,6,8,5,11,9,2,7,6,2,8,5,3,13,9,3,22,2,2,15,5,6,2,4,2,24,1,4,9,22,1,1,5,11,11,3,3,5,2,8,2,9,7,22,9,6,4,8,1,7,22,7,8,11,16,3,7,23,12,1,5,15,20,4,8]
["Pink",8,8,3,1,4,2,7,21,9,2,20,2,11,5,3,13,7,13,37,16,5,12,8,36,12,5,7,4,19,6,2,6,2,8,3,13,9,2,17,13,5,24,1,43,20,3,3,42,14,6,5,7,3,12,2,1,9,15,11,1,3,8,8,25,7,9,8,2]
["Purple",3,24,5,9,3,1,4,15,6,1,4,17,12,13,1,2,1,5,1,9,17,5,10,2,11,1,16,7,3,17,10,1,15,22,20,4,3,10,8,19,9,15,1,10,27,6,6,3,8,3,21,10,31,8,11,16,6,12,2,1,12,9,3,15,6,9,6,16,4,16,6,8,16,18]
["Green",34,7,21,11,10,21,8,8,7,20,3,1,19,1,8,9,7,2,2,14,10,1,1,22,7,9,6,6,7,4,3,18,4,6,15,16,19,8,3,9,2,1,10,8,13,20,11,10,9,12,23,32,2,1,22,17,1,14,17,2,3,16,19,6,2,1,13,16,1]
[]
[]
[null,"Mow many?","Stdev",null,"Grootste ",1,2,3,4,5,6,7,8,9,10]
["Yellow",27,{"$f":"_xlfn.STDEV.P(B1:AXH1)","v":10.564413092055414},null,null,{"$f":"LARGE($B1:$AXH1,F$13)","v":43},{"$f":"LARGE($B1:$AXH1,G$13)","v":37},35,33,33,31,31,27,26,22]
["Orange",4,{"$f":"_xlfn.STDEV.P(B2:AXH2)","v":9.3472081584325402},null,null,{"$f":"LARGE($B2:$AXH2,F$13)","v":38},37,36,30,30,29,25,24,23,22]
["Blue",13,9.3128895808324277,null,null,{"$f":"LARGE($B3:$AXH3,F$13)","v":52},36,27,26,25,24,23,23,23,21]
["Cyan",5,7.8299385501663261,null,null,{"$f":"LARGE($B4:$AXH4,F$13)","v":32},29,29,27,25,23,22,21,19,19]
["White",6,9.9926103814035354,null,null,{"$f":"LARGE($B5:$AXH5,F$13)","v":41},36,36,35,29,29,27,26,22,20]
["Red",3,9.3311845934564897,null,null,{"$f":"LARGE($B6:$AXH6,F$13)","v":52},44,30,28,27,24,22,22,22,18]
["Black",8,7.035059955590528,null,null,{"$f":"LARGE($B7:$AXH7,F$13)","v":32},29,24,23,23,22,22,22,22,20]
["Pink",2,9.4073978840111199,null,null,{"$f":"LARGE($B8:$AXH8,F$13)","v":43},42,37,36,25,24,21,20,20,19]
["Purple",18,6.8507649410540186,null,null,{"$f":"LARGE($B9:$AXH9,F$13)","v":31},27,24,22,21,20,19,18,17,17]
["Green",1,{"$f":"_xlfn.STDEV.P(B10:AXH10)","v":7.6773575496781223},null,null,{"$f":"LARGE($B10:$AXH10,F$13)","v":34},32,23,22,22,21,21,20,20,19]