{"text_format":"1","workbook":"xlsx","n_sheets":9,"sheets":["Ooien","Rammen","Registratie dekkingen","Registratie lammeren","Berekeningen","Bedrijfsresultaten","Rassen","Resultaten","Setup"],"not_rendered":{"charts":0,"images":0,"macros":1,"external_links":0,"defined_names":0,"comments":1,"pivot_tables":2},"unopened":[],"bounds":{"document_bytes":16777216,"sheet_cells":100000,"rows_first":2000,"rows_last":500,"rows_between":2000,"halvings":0,"cell_chars":16384,"cell_head_chars":4096},"cells_cut":0,"cells_raw":0,"read":"whole","date_system":"1900"}

{"sheet":"Ooien","index":0,"n_rows":220,"n_cols":14,"rows_kept":220,"cut":false,"hidden":false,"merged":[]}
["Neknummer","Ooinummer","ras","geboortedatum","leeftijd",null,null,null,null,null,2]
[5,"BE519886427","ZB","2018-03-01",{"$f":"IF(Opzoek_ooi[[#This Row],[geboortedatum]]=\"\",\"\",(TODAY()-Opzoek_ooi[[#This Row],[geboortedatum]])/365)","v":1.4602739726027398},null,null,null,null,null,2]
[15,"BE527620141","VL","2011-02-15",{"$f":"IF(Opzoek_ooi[[#This Row],[geboortedatum]]=\"\",\"\",(TODAY()-Opzoek_ooi[[#This Row],[geboortedatum]])/365)","v":8.5041095890410965},null,null,null,null,null,2]
[17,"BE127620112","VL","2010-02-27",{"$f":"IF(Opzoek_ooi[[#This Row],[geboortedatum]]=\"\",\"\",(TODAY()-Opzoek_ooi[[#This Row],[geboortedatum]])/365)","v":9.4712328767123282},null,null,null,null,null,3]
[80,"BE127620113","VL","2010-02-27",{"$f":"IF(Opzoek_ooi[[#This Row],[geboortedatum]]=\"\",\"\",(TODAY()-Opzoek_ooi[[#This Row],[geboortedatum]])/365)","v":9.4712328767123282},null,null,null,null,null,5]
[87,"BE677340126","VL","2016-03-10",{"$f":"IF(Opzoek_ooi[[#This Row],[geboortedatum]]=\"\",\"\",(TODAY()-Opzoek_ooi[[#This Row],[geboortedatum]])/365)","v":3.4356164383561643},null,null,null,null,null,5]
[77,"BE577340068","VL","2014-02-26",{"$f":"IF(Opzoek_ooi[[#This Row],[geboortedatum]]=\"\",\"\",(TODAY()-Opzoek_ooi[[#This Row],[geboortedatum]])/365)","v":5.4712328767123291},null,null,null,null,null,5]
[82,"BE977340164","VL","2017-04-13",{"$f":"IF(Opzoek_ooi[[#This Row],[geboortedatum]]=\"\",\"\",(TODAY()-Opzoek_ooi[[#This Row],[geboortedatum]])/365)","v":2.3424657534246576},null,null,null,null,null,2,null,null,{"$f":"SUM(1/COUNTIF(B2:B28,B2:B28))","v":27}]
[81,"BE077340163","VL","2017-03-27",{"$f":"IF(Opzoek_ooi[[#This Row],[geboortedatum]]=\"\",\"\",(TODAY()-Opzoek_ooi[[#This Row],[geboortedatum]])/365)","v":2.3890410958904109},null,null,null,null,null,2]
[21,"BE119886429","ZB","2018-03-01",{"$f":"IF(Opzoek_ooi[[#This Row],[geboortedatum]]=\"\",\"\",(TODAY()-Opzoek_ooi[[#This Row],[geboortedatum]])/365)","v":1.4602739726027398},null,null,null,null,null,2]
[22,"BE276710026","VL","2014-03-01",{"$f":"IF(Opzoek_ooi[[#This Row],[geboortedatum]]=\"\",\"\",(TODAY()-Opzoek_ooi[[#This Row],[geboortedatum]])/365)","v":5.463013698630137},null,null,null,null,null,2]
[78,"BE977340083","VL","2015-03-12",{"$f":"IF(Opzoek_ooi[[#This Row],[geboortedatum]]=\"\",\"\",(TODAY()-Opzoek_ooi[[#This Row],[geboortedatum]])/365)","v":4.4328767123287669}]
[23,"BE919886425","ZB","2018-03-01",{"$f":"IF(Opzoek_ooi[[#This Row],[geboortedatum]]=\"\",\"\",(TODAY()-Opzoek_ooi[[#This Row],[geboortedatum]])/365)","v":1.4602739726027398}]
[24,"BE519886430","ZB","2018-03-01",{"$f":"IF(Opzoek_ooi[[#This Row],[geboortedatum]]=\"\",\"\",(TODAY()-Opzoek_ooi[[#This Row],[geboortedatum]])/365)","v":1.4602739726027398}]
[null,"BE719886426","ZB","2018-03-01",{"$f":"IF(Opzoek_ooi[[#This Row],[geboortedatum]]=\"\",\"\",(TODAY()-Opzoek_ooi[[#This Row],[geboortedatum]])/365)","v":1.4602739726027398}]
[83,"BE777340165","VL","2017-03-30",{"$f":"IF(Opzoek_ooi[[#This Row],[geboortedatum]]=\"\",\"\",(TODAY()-Opzoek_ooi[[#This Row],[geboortedatum]])/365)","v":2.3808219178082193}]
[13,"BE227620120","VL","2010-03-01",{"$f":"IF(Opzoek_ooi[[#This Row],[geboortedatum]]=\"\",\"\",(TODAY()-Opzoek_ooi[[#This Row],[geboortedatum]])/365)","v":9.4657534246575334}]
[79,"BE277340095","VL","2015-03-13",{"$f":"IF(Opzoek_ooi[[#This Row],[geboortedatum]]=\"\",\"\",(TODAY()-Opzoek_ooi[[#This Row],[geboortedatum]])/365)","v":4.4301369863013695}]
[84,"BE277340162","VL","2017-03-31",{"$f":"IF(Opzoek_ooi[[#This Row],[geboortedatum]]=\"\",\"\",(TODAY()-Opzoek_ooi[[#This Row],[geboortedatum]])/365)","v":2.3780821917808219}]
[14,"BE876710023","VL","2014-03-01",{"$f":"IF(Opzoek_ooi[[#This Row],[geboortedatum]]=\"\",\"\",(TODAY()-Opzoek_ooi[[#This Row],[geboortedatum]])/365)","v":5.463013698630137}]
[85,"BE477340161","VL","2017-03-24",{"$f":"IF(Opzoek_ooi[[#This Row],[geboortedatum]]=\"\",\"\",(TODAY()-Opzoek_ooi[[#This Row],[geboortedatum]])/365)","v":2.3972602739726026}]
[76,"BE577340135","VL","2016-03-05",{"$f":"IF(Opzoek_ooi[[#This Row],[geboortedatum]]=\"\",\"\",(TODAY()-Opzoek_ooi[[#This Row],[geboortedatum]])/365)","v":3.4493150684931506}]
[8,"BE176710022","VL","2014-03-01",{"$f":"IF(Opzoek_ooi[[#This Row],[geboortedatum]]=\"\",\"\",(TODAY()-Opzoek_ooi[[#This Row],[geboortedatum]])/365)","v":5.463013698630137}]
[9,"BE120","ZB","2014-03-04",{"$f":"IF(Opzoek_ooi[[#This Row],[geboortedatum]]=\"\",\"\",(TODAY()-Opzoek_ooi[[#This Row],[geboortedatum]])/365)","v":5.4547945205479449}]
[19,"BE377340167","ZB","2014-03-04",{"$f":"IF(Opzoek_ooi[[#This Row],[geboortedatum]]=\"\",\"\",(TODAY()-Opzoek_ooi[[#This Row],[geboortedatum]])/365)","v":5.4547945205479449}]
[88,"BE477340175","VL","2018-02-16",{"$f":"IF(Opzoek_ooi[[#This Row],[geboortedatum]]=\"\",\"\",(TODAY()-Opzoek_ooi[[#This Row],[geboortedatum]])/365)","v":1.4958904109589042}]
[null,"BE577340166","ZB/VL","2017-03-24",{"$f":"IF(Opzoek_ooi[[#This Row],[geboortedatum]]=\"\",\"\",(TODAY()-Opzoek_ooi[[#This Row],[geboortedatum]])/365)","v":2.3972602739726026}]
[86,"BE177340138","VL","2016-03-11",{"$f":"IF(Opzoek_ooi[[#This Row],[geboortedatum]]=\"\",\"\",(TODAY()-Opzoek_ooi[[#This Row],[geboortedatum]])/365)","v":3.4328767123287673}]
[null,null,null,null,{"$f":"IF(Opzoek_ooi[[#This Row],[geboortedatum]]=\"\",\"\",(TODAY()-Opzoek_ooi[[#This Row],[geboortedatum]])/365)","v":""}]
[null,null,null,null,{"$f":"IF(Opzoek_ooi[[#This Row],[geboortedatum]]=\"\",\"\",(TODAY()-Opzoek_ooi[[#This Row],[geboortedatum]])/365)","v":""}]
[null,null,null,null,{"$f":"IF(Opzoek_ooi[[#This Row],[geboortedatum]]=\"\",\"\",(TODAY()-Opzoek_ooi[[#This Row],[geboortedatum]])/365)","v":""}]
[null,null,null,null,{"$f":"IF(Opzoek_ooi[[#This Row],[geboortedatum]]=\"\",\"\",(TODAY()-Opzoek_ooi[[#This Row],[geboortedatum]])/365)","v":""}]
[null,null,null,null,{"$f":"IF(Opzoek_ooi[[#This Row],[geboortedatum]]=\"\",\"\",(TODAY()-Opzoek_ooi[[#This Row],[geboortedatum]])/365)","v":""}]
[null,null,null,null,{"$f":"IF(Opzoek_ooi[[#This Row],[geboortedatum]]=\"\",\"\",(TODAY()-Opzoek_ooi[[#This Row],[geboortedatum]])/365)","v":""}]
[null,null,null,null,{"$f":"IF(Opzoek_ooi[[#This Row],[geboortedatum]]=\"\",\"\",(TODAY()-Opzoek_ooi[[#This Row],[geboortedatum]])/365)","v":""}]
[null,null,null,null,{"$f":"IF(Opzoek_ooi[[#This Row],[geboortedatum]]=\"\",\"\",(TODAY()-Opzoek_ooi[[#This Row],[geboortedatum]])/365)","v":""}]
[null,null,null,null,{"$f":"IF(Opzoek_ooi[[#This Row],[geboortedatum]]=\"\",\"\",(TODAY()-Opzoek_ooi[[#This Row],[geboortedatum]])/365)","v":""}]
[null,null,null,null,{"$f":"IF(Opzoek_ooi[[#This Row],[geboortedatum]]=\"\",\"\",(TODAY()-Opzoek_ooi[[#This Row],[geboortedatum]])/365)","v":""}]
[null,null,null,null,{"$f":"IF(Opzoek_ooi[[#This Row],[geboortedatum]]=\"\",\"\",(TODAY()-Opzoek_ooi[[#This Row],[geboortedatum]])/365)","v":""}]
[null,null,null,null,{"$f":"IF(Opzoek_ooi[[#This Row],[geboortedatum]]=\"\",\"\",(TODAY()-Opzoek_ooi[[#This Row],[geboortedatum]])/365)","v":""}]
[null,null,null,null,{"$f":"IF(Opzoek_ooi[[#This Row],[geboortedatum]]=\"\",\"\",(TODAY()-Opzoek_ooi[[#This Row],[geboortedatum]])/365)","v":""}]
[null,null,null,null,{"$f":"IF(Opzoek_ooi[[#This Row],[geboortedatum]]=\"\",\"\",(TODAY()-Opzoek_ooi[[#This Row],[geboortedatum]])/365)","v":""}]
[null,null,null,null,{"$f":"IF(Opzoek_ooi[[#This Row],[geboortedatum]]=\"\",\"\",(TODAY()-Opzoek_ooi[[#This Row],[geboortedatum]])/365)","v":""}]
[null,null,null,null,{"$f":"IF(Opzoek_ooi[[#This Row],[geboortedatum]]=\"\",\"\",(TODAY()-Opzoek_ooi[[#This Row],[geboortedatum]])/365)","v":""}]
[null,null,null,null,{"$f":"IF(Opzoek_ooi[[#This Row],[geboortedatum]]=\"\",\"\",(TODAY()-Opzoek_ooi[[#This Row],[geboortedatum]])/365)","v":""}]
[null,null,null,null,{"$f":"IF(Opzoek_ooi[[#This Row],[geboortedatum]]=\"\",\"\",(TODAY()-Opzoek_ooi[[#This Row],[geboortedatum]])/365)","v":""}]
[null,null,null,null,{"$f":"IF(Opzoek_ooi[[#This Row],[geboortedatum]]=\"\",\"\",(TODAY()-Opzoek_ooi[[#This Row],[geboortedatum]])/365)","v":""}]
[null,null,null,null,{"$f":"IF(Opzoek_ooi[[#This Row],[geboortedatum]]=\"\",\"\",(TODAY()-Opzoek_ooi[[#This Row],[geboortedatum]])/365)","v":""}]
[null,null,null,null,{"$f":"IF(Opzoek_ooi[[#This Row],[geboortedatum]]=\"\",\"\",(TODAY()-Opzoek_ooi[[#This Row],[geboortedatum]])/365)","v":""}]
[null,null,null,null,{"$f":"IF(Opzoek_ooi[[#This Row],[geboortedatum]]=\"\",\"\",(TODAY()-Opzoek_ooi[[#This Row],[geboortedatum]])/365)","v":""}]
[null,null,null,null,{"$f":"IF(Opzoek_ooi[[#This Row],[geboortedatum]]=\"\",\"\",(TODAY()-Opzoek_ooi[[#This Row],[geboortedatum]])/365)","v":""}]
[null,null,null,null,{"$f":"IF(Opzoek_ooi[[#This Row],[geboortedatum]]=\"\",\"\",(TODAY()-Opzoek_ooi[[#This Row],[geboortedatum]])/365)","v":""}]
[null,null,null,null,{"$f":"IF(Opzoek_ooi[[#This Row],[geboortedatum]]=\"\",\"\",(TODAY()-Opzoek_ooi[[#This Row],[geboortedatum]])/365)","v":""}]
[null,null,null,null,{"$f":"IF(Opzoek_ooi[[#This Row],[geboortedatum]]=\"\",\"\",(TODAY()-Opzoek_ooi[[#This Row],[geboortedatum]])/365)","v":""}]
[null,null,null,null,{"$f":"IF(Opzoek_ooi[[#This Row],[geboortedatum]]=\"\",\"\",(TODAY()-Opzoek_ooi[[#This Row],[geboortedatum]])/365)","v":""}]
[null,null,null,null,{"$f":"IF(Opzoek_ooi[[#This Row],[geboortedatum]]=\"\",\"\",(TODAY()-Opzoek_ooi[[#This Row],[geboortedatum]])/365)","v":""}]
[null,null,null,null,{"$f":"IF(Opzoek_ooi[[#This Row],[geboortedatum]]=\"\",\"\",(TODAY()-Opzoek_ooi[[#This Row],[geboortedatum]])/365)","v":""}]
[null,null,null,null,{"$f":"IF(Opzoek_ooi[[#This Row],[geboortedatum]]=\"\",\"\",(TODAY()-Opzoek_ooi[[#This Row],[geboortedatum]])/365)","v":""}]
[null,null,null,null,{"$f":"IF(Opzoek_ooi[[#This Row],[geboortedatum]]=\"\",\"\",(TODAY()-Opzoek_ooi[[#This Row],[geboortedatum]])/365)","v":""}]
[null,null,null,null,{"$f":"IF(Opzoek_ooi[[#This Row],[geboortedatum]]=\"\",\"\",(TODAY()-Opzoek_ooi[[#This Row],[geboortedatum]])/365)","v":""}]
[null,null,null,null,{"$f":"IF(Opzoek_ooi[[#This Row],[geboortedatum]]=\"\",\"\",(TODAY()-Opzoek_ooi[[#This Row],[geboortedatum]])/365)","v":""}]
[null,null,null,null,{"$f":"IF(Opzoek_ooi[[#This Row],[geboortedatum]]=\"\",\"\",(TODAY()-Opzoek_ooi[[#This Row],[geboortedatum]])/365)","v":""}]
[null,null,null,null,{"$f":"IF(Opzoek_ooi[[#This Row],[geboortedatum]]=\"\",\"\",(TODAY()-Opzoek_ooi[[#This Row],[geboortedatum]])/365)","v":""}]
[null,null,null,null,{"$f":"IF(Opzoek_ooi[[#This Row],[geboortedatum]]=\"\",\"\",(TODAY()-Opzoek_ooi[[#This Row],[geboortedatum]])/365)","v":""}]
[null,null,null,null,{"$f":"IF(Opzoek_ooi[[#This Row],[geboortedatum]]=\"\",\"\",(TODAY()-Opzoek_ooi[[#This Row],[geboortedatum]])/365)","v":""}]
[null,null,null,null,{"$f":"IF(Opzoek_ooi[[#This Row],[geboortedatum]]=\"\",\"\",(TODAY()-Opzoek_ooi[[#This Row],[geboortedatum]])/365)","v":""}]
[null,null,null,null,{"$f":"IF(Opzoek_ooi[[#This Row],[geboortedatum]]=\"\",\"\",(TODAY()-Opzoek_ooi[[#This Row],[geboortedatum]])/365)","v":""}]
[null,null,null,null,{"$f":"IF(Opzoek_ooi[[#This Row],[geboortedatum]]=\"\",\"\",(TODAY()-Opzoek_ooi[[#This Row],[geboortedatum]])/365)","v":""}]
[null,null,null,null,{"$f":"IF(Opzoek_ooi[[#This Row],[geboortedatum]]=\"\",\"\",(TODAY()-Opzoek_ooi[[#This Row],[geboortedatum]])/365)","v":""}]
[null,null,null,null,{"$f":"IF(Opzoek_ooi[[#This Row],[geboortedatum]]=\"\",\"\",(TODAY()-Opzoek_ooi[[#This Row],[geboortedatum]])/365)","v":""}]
[null,null,null,null,{"$f":"IF(Opzoek_ooi[[#This Row],[geboortedatum]]=\"\",\"\",(TODAY()-Opzoek_ooi[[#This Row],[geboortedatum]])/365)","v":""}]
[null,null,null,null,{"$f":"IF(Opzoek_ooi[[#This Row],[geboortedatum]]=\"\",\"\",(TODAY()-Opzoek_ooi[[#This Row],[geboortedatum]])/365)","v":""}]
[null,null,null,null,{"$f":"IF(Opzoek_ooi[[#This Row],[geboortedatum]]=\"\",\"\",(TODAY()-Opzoek_ooi[[#This Row],[geboortedatum]])/365)","v":""}]
[null,null,null,null,{"$f":"IF(Opzoek_ooi[[#This Row],[geboortedatum]]=\"\",\"\",(TODAY()-Opzoek_ooi[[#This Row],[geboortedatum]])/365)","v":""}]
[null,null,null,null,{"$f":"IF(Opzoek_ooi[[#This Row],[geboortedatum]]=\"\",\"\",(TODAY()-Opzoek_ooi[[#This Row],[geboortedatum]])/365)","v":""}]
[null,null,null,null,{"$f":"IF(Opzoek_ooi[[#This Row],[geboortedatum]]=\"\",\"\",(TODAY()-Opzoek_ooi[[#This Row],[geboortedatum]])/365)","v":""}]
[null,null,null,null,{"$f":"IF(Opzoek_ooi[[#This Row],[geboortedatum]]=\"\",\"\",(TODAY()-Opzoek_ooi[[#This Row],[geboortedatum]])/365)","v":""}]
[null,null,null,null,{"$f":"IF(Opzoek_ooi[[#This Row],[geboortedatum]]=\"\",\"\",(TODAY()-Opzoek_ooi[[#This Row],[geboortedatum]])/365)","v":""}]
[null,null,null,null,{"$f":"IF(Opzoek_ooi[[#This Row],[geboortedatum]]=\"\",\"\",(TODAY()-Opzoek_ooi[[#This Row],[geboortedatum]])/365)","v":""}]
[null,null,null,null,{"$f":"IF(Opzoek_ooi[[#This Row],[geboortedatum]]=\"\",\"\",(TODAY()-Opzoek_ooi[[#This Row],[geboortedatum]])/365)","v":""}]
[null,null,null,null,{"$f":"IF(Opzoek_ooi[[#This Row],[geboortedatum]]=\"\",\"\",(TODAY()-Opzoek_ooi[[#This Row],[geboortedatum]])/365)","v":""}]
[null,null,null,null,{"$f":"IF(Opzoek_ooi[[#This Row],[geboortedatum]]=\"\",\"\",(TODAY()-Opzoek_ooi[[#This Row],[geboortedatum]])/365)","v":""}]
[null,null,null,null,{"$f":"IF(Opzoek_ooi[[#This Row],[geboortedatum]]=\"\",\"\",(TODAY()-Opzoek_ooi[[#This Row],[geboortedatum]])/365)","v":""}]
[null,null,null,null,{"$f":"IF(Opzoek_ooi[[#This Row],[geboortedatum]]=\"\",\"\",(TODAY()-Opzoek_ooi[[#This Row],[geboortedatum]])/365)","v":""}]
[null,null,null,null,{"$f":"IF(Opzoek_ooi[[#This Row],[geboortedatum]]=\"\",\"\",(TODAY()-Opzoek_ooi[[#This Row],[geboortedatum]])/365)","v":""}]
[null,null,null,null,{"$f":"IF(Opzoek_ooi[[#This Row],[geboortedatum]]=\"\",\"\",(TODAY()-Opzoek_ooi[[#This Row],[geboortedatum]])/365)","v":""}]
[null,null,null,null,{"$f":"IF(Opzoek_ooi[[#This Row],[geboortedatum]]=\"\",\"\",(TODAY()-Opzoek_ooi[[#This Row],[geboortedatum]])/365)","v":""}]
[null,null,null,null,{"$f":"IF(Opzoek_ooi[[#This Row],[geboortedatum]]=\"\",\"\",(TODAY()-Opzoek_ooi[[#This Row],[geboortedatum]])/365)","v":""}]
[null,null,null,null,{"$f":"IF(Opzoek_ooi[[#This Row],[geboortedatum]]=\"\",\"\",(TODAY()-Opzoek_ooi[[#This Row],[geboortedatum]])/365)","v":""}]
[null,null,null,null,{"$f":"IF(Opzoek_ooi[[#This Row],[geboortedatum]]=\"\",\"\",(TODAY()-Opzoek_ooi[[#This Row],[geboortedatum]])/365)","v":""}]
[null,null,null,null,{"$f":"IF(Opzoek_ooi[[#This Row],[geboortedatum]]=\"\",\"\",(TODAY()-Opzoek_ooi[[#This Row],[geboortedatum]])/365)","v":""}]
[null,null,null,null,{"$f":"IF(Opzoek_ooi[[#This Row],[geboortedatum]]=\"\",\"\",(TODAY()-Opzoek_ooi[[#This Row],[geboortedatum]])/365)","v":""}]
[null,null,null,null,{"$f":"IF(Opzoek_ooi[[#This Row],[geboortedatum]]=\"\",\"\",(TODAY()-Opzoek_ooi[[#This Row],[geboortedatum]])/365)","v":""}]
[null,null,null,null,{"$f":"IF(Opzoek_ooi[[#This Row],[geboortedatum]]=\"\",\"\",(TODAY()-Opzoek_ooi[[#This Row],[geboortedatum]])/365)","v":""}]
[null,null,null,null,{"$f":"IF(Opzoek_ooi[[#This Row],[geboortedatum]]=\"\",\"\",(TODAY()-Opzoek_ooi[[#This Row],[geboortedatum]])/365)","v":""}]
[null,null,null,null,{"$f":"IF(Opzoek_ooi[[#This Row],[geboortedatum]]=\"\",\"\",(TODAY()-Opzoek_ooi[[#This Row],[geboortedatum]])/365)","v":""}]
[null,null,null,null,{"$f":"IF(Opzoek_ooi[[#This Row],[geboortedatum]]=\"\",\"\",(TODAY()-Opzoek_ooi[[#This Row],[geboortedatum]])/365)","v":""}]
[null,null,null,null,{"$f":"IF(Opzoek_ooi[[#This Row],[geboortedatum]]=\"\",\"\",(TODAY()-Opzoek_ooi[[#This Row],[geboortedatum]])/365)","v":""}]
[null,null,null,null,{"$f":"IF(Opzoek_ooi[[#This Row],[geboortedatum]]=\"\",\"\",(TODAY()-Opzoek_ooi[[#This Row],[geboortedatum]])/365)","v":""}]
[null,null,null,null,{"$f":"IF(Opzoek_ooi[[#This Row],[geboortedatum]]=\"\",\"\",(TODAY()-Opzoek_ooi[[#This Row],[geboortedatum]])/365)","v":""}]
[null,null,null,null,{"$f":"IF(Opzoek_ooi[[#This Row],[geboortedatum]]=\"\",\"\",(TODAY()-Opzoek_ooi[[#This Row],[geboortedatum]])/365)","v":""}]
[null,null,null,null,{"$f":"IF(Opzoek_ooi[[#This Row],[geboortedatum]]=\"\",\"\",(TODAY()-Opzoek_ooi[[#This Row],[geboortedatum]])/365)","v":""}]
[null,null,null,null,{"$f":"IF(Opzoek_ooi[[#This Row],[geboortedatum]]=\"\",\"\",(TODAY()-Opzoek_ooi[[#This Row],[geboortedatum]])/365)","v":""}]
[null,null,null,null,{"$f":"IF(Opzoek_ooi[[#This Row],[geboortedatum]]=\"\",\"\",(TODAY()-Opzoek_ooi[[#This Row],[geboortedatum]])/365)","v":""}]
[null,null,null,null,{"$f":"IF(Opzoek_ooi[[#This Row],[geboortedatum]]=\"\",\"\",(TODAY()-Opzoek_ooi[[#This Row],[geboortedatum]])/365)","v":""}]
[null,null,null,null,{"$f":"IF(Opzoek_ooi[[#This Row],[geboortedatum]]=\"\",\"\",(TODAY()-Opzoek_ooi[[#This Row],[geboortedatum]])/365)","v":""}]
[null,null,null,null,{"$f":"IF(Opzoek_ooi[[#This Row],[geboortedatum]]=\"\",\"\",(TODAY()-Opzoek_ooi[[#This Row],[geboortedatum]])/365)","v":""}]
[null,null,null,null,{"$f":"IF(Opzoek_ooi[[#This Row],[geboortedatum]]=\"\",\"\",(TODAY()-Opzoek_ooi[[#This Row],[geboortedatum]])/365)","v":""}]
[null,null,null,null,{"$f":"IF(Opzoek_ooi[[#This Row],[geboortedatum]]=\"\",\"\",(TODAY()-Opzoek_ooi[[#This Row],[geboortedatum]])/365)","v":""}]
[null,null,null,null,{"$f":"IF(Opzoek_ooi[[#This Row],[geboortedatum]]=\"\",\"\",(TODAY()-Opzoek_ooi[[#This Row],[geboortedatum]])/365)","v":""}]
[null,null,null,null,{"$f":"IF(Opzoek_ooi[[#This Row],[geboortedatum]]=\"\",\"\",(TODAY()-Opzoek_ooi[[#This Row],[geboortedatum]])/365)","v":""}]
[null,null,null,null,{"$f":"IF(Opzoek_ooi[[#This Row],[geboortedatum]]=\"\",\"\",(TODAY()-Opzoek_ooi[[#This Row],[geboortedatum]])/365)","v":""}]
[null,null,null,null,{"$f":"IF(Opzoek_ooi[[#This Row],[geboortedatum]]=\"\",\"\",(TODAY()-Opzoek_ooi[[#This Row],[geboortedatum]])/365)","v":""}]
[null,null,null,null,{"$f":"IF(Opzoek_ooi[[#This Row],[geboortedatum]]=\"\",\"\",(TODAY()-Opzoek_ooi[[#This Row],[geboortedatum]])/365)","v":""}]
[null,null,null,null,{"$f":"IF(Opzoek_ooi[[#This Row],[geboortedatum]]=\"\",\"\",(TODAY()-Opzoek_ooi[[#This Row],[geboortedatum]])/365)","v":""}]
[null,null,null,null,{"$f":"IF(Opzoek_ooi[[#This Row],[geboortedatum]]=\"\",\"\",(TODAY()-Opzoek_ooi[[#This Row],[geboortedatum]])/365)","v":""}]
[null,null,null,null,{"$f":"IF(Opzoek_ooi[[#This Row],[geboortedatum]]=\"\",\"\",(TODAY()-Opzoek_ooi[[#This Row],[geboortedatum]])/365)","v":""}]
[null,null,null,null,{"$f":"IF(Opzoek_ooi[[#This Row],[geboortedatum]]=\"\",\"\",(TODAY()-Opzoek_ooi[[#This Row],[geboortedatum]])/365)","v":""}]
[null,null,null,null,{"$f":"IF(Opzoek_ooi[[#This Row],[geboortedatum]]=\"\",\"\",(TODAY()-Opzoek_ooi[[#This Row],[geboortedatum]])/365)","v":""}]
[null,null,null,null,{"$f":"IF(Opzoek_ooi[[#This Row],[geboortedatum]]=\"\",\"\",(TODAY()-Opzoek_ooi[[#This Row],[geboortedatum]])/365)","v":""}]
[null,null,null,null,{"$f":"IF(Opzoek_ooi[[#This Row],[geboortedatum]]=\"\",\"\",(TODAY()-Opzoek_ooi[[#This Row],[geboortedatum]])/365)","v":""}]
[null,null,null,null,{"$f":"IF(Opzoek_ooi[[#This Row],[geboortedatum]]=\"\",\"\",(TODAY()-Opzoek_ooi[[#This Row],[geboortedatum]])/365)","v":""}]
[null,null,null,null,{"$f":"IF(Opzoek_ooi[[#This Row],[geboortedatum]]=\"\",\"\",(TODAY()-Opzoek_ooi[[#This Row],[geboortedatum]])/365)","v":""}]
[null,null,null,null,{"$f":"IF(Opzoek_ooi[[#This Row],[geboortedatum]]=\"\",\"\",(TODAY()-Opzoek_ooi[[#This Row],[geboortedatum]])/365)","v":""}]
[null,null,null,null,{"$f":"IF(Opzoek_ooi[[#This Row],[geboortedatum]]=\"\",\"\",(TODAY()-Opzoek_ooi[[#This Row],[geboortedatum]])/365)","v":""}]
[null,null,null,null,{"$f":"IF(Opzoek_ooi[[#This Row],[geboortedatum]]=\"\",\"\",(TODAY()-Opzoek_ooi[[#This Row],[geboortedatum]])/365)","v":""}]
[null,null,null,null,{"$f":"IF(Opzoek_ooi[[#This Row],[geboortedatum]]=\"\",\"\",(TODAY()-Opzoek_ooi[[#This Row],[geboortedatum]])/365)","v":""}]
[null,null,null,null,{"$f":"IF(Opzoek_ooi[[#This Row],[geboortedatum]]=\"\",\"\",(TODAY()-Opzoek_ooi[[#This Row],[geboortedatum]])/365)","v":""}]
[null,null,null,null,{"$f":"IF(Opzoek_ooi[[#This Row],[geboortedatum]]=\"\",\"\",(TODAY()-Opzoek_ooi[[#This Row],[geboortedatum]])/365)","v":""}]
[null,null,null,null,{"$f":"IF(Opzoek_ooi[[#This Row],[geboortedatum]]=\"\",\"\",(TODAY()-Opzoek_ooi[[#This Row],[geboortedatum]])/365)","v":""}]
[null,null,null,null,{"$f":"IF(Opzoek_ooi[[#This Row],[geboortedatum]]=\"\",\"\",(TODAY()-Opzoek_ooi[[#This Row],[geboortedatum]])/365)","v":""}]
[null,null,null,null,{"$f":"IF(Opzoek_ooi[[#This Row],[geboortedatum]]=\"\",\"\",(TODAY()-Opzoek_ooi[[#This Row],[geboortedatum]])/365)","v":""}]
[null,null,null,null,{"$f":"IF(Opzoek_ooi[[#This Row],[geboortedatum]]=\"\",\"\",(TODAY()-Opzoek_ooi[[#This Row],[geboortedatum]])/365)","v":""}]
[null,null,null,null,{"$f":"IF(Opzoek_ooi[[#This Row],[geboortedatum]]=\"\",\"\",(TODAY()-Opzoek_ooi[[#This Row],[geboortedatum]])/365)","v":""}]
[null,null,null,null,{"$f":"IF(Opzoek_ooi[[#This Row],[geboortedatum]]=\"\",\"\",(TODAY()-Opzoek_ooi[[#This Row],[geboortedatum]])/365)","v":""}]
[null,null,null,null,{"$f":"IF(Opzoek_ooi[[#This Row],[geboortedatum]]=\"\",\"\",(TODAY()-Opzoek_ooi[[#This Row],[geboortedatum]])/365)","v":""}]
[null,null,null,null,{"$f":"IF(Opzoek_ooi[[#This Row],[geboortedatum]]=\"\",\"\",(TODAY()-Opzoek_ooi[[#This Row],[geboortedatum]])/365)","v":""}]
[null,null,null,null,{"$f":"IF(Opzoek_ooi[[#This Row],[geboortedatum]]=\"\",\"\",(TODAY()-Opzoek_ooi[[#This Row],[geboortedatum]])/365)","v":""}]
[null,null,null,null,{"$f":"IF(Opzoek_ooi[[#This Row],[geboortedatum]]=\"\",\"\",(TODAY()-Opzoek_ooi[[#This Row],[geboortedatum]])/365)","v":""}]
[null,null,null,null,{"$f":"IF(Opzoek_ooi[[#This Row],[geboortedatum]]=\"\",\"\",(TODAY()-Opzoek_ooi[[#This Row],[geboortedatum]])/365)","v":""}]
[null,null,null,null,{"$f":"IF(Opzoek_ooi[[#This Row],[geboortedatum]]=\"\",\"\",(TODAY()-Opzoek_ooi[[#This Row],[geboortedatum]])/365)","v":""}]
[null,null,null,null,{"$f":"IF(Opzoek_ooi[[#This Row],[geboortedatum]]=\"\",\"\",(TODAY()-Opzoek_ooi[[#This Row],[geboortedatum]])/365)","v":""}]
[null,null,null,null,{"$f":"IF(Opzoek_ooi[[#This Row],[geboortedatum]]=\"\",\"\",(TODAY()-Opzoek_ooi[[#This Row],[geboortedatum]])/365)","v":""}]
[null,null,null,null,{"$f":"IF(Opzoek_ooi[[#This Row],[geboortedatum]]=\"\",\"\",(TODAY()-Opzoek_ooi[[#This Row],[geboortedatum]])/365)","v":""}]
[null,null,null,null,{"$f":"IF(Opzoek_ooi[[#This Row],[geboortedatum]]=\"\",\"\",(TODAY()-Opzoek_ooi[[#This Row],[geboortedatum]])/365)","v":""}]
[null,null,null,null,{"$f":"IF(Opzoek_ooi[[#This Row],[geboortedatum]]=\"\",\"\",(TODAY()-Opzoek_ooi[[#This Row],[geboortedatum]])/365)","v":""}]
[null,null,null,null,{"$f":"IF(Opzoek_ooi[[#This Row],[geboortedatum]]=\"\",\"\",(TODAY()-Opzoek_ooi[[#This Row],[geboortedatum]])/365)","v":""}]
[null,null,null,null,{"$f":"IF(Opzoek_ooi[[#This Row],[geboortedatum]]=\"\",\"\",(TODAY()-Opzoek_ooi[[#This Row],[geboortedatum]])/365)","v":""}]
[null,null,null,null,{"$f":"IF(Opzoek_ooi[[#This Row],[geboortedatum]]=\"\",\"\",(TODAY()-Opzoek_ooi[[#This Row],[geboortedatum]])/365)","v":""}]
[null,null,null,null,{"$f":"IF(Opzoek_ooi[[#This Row],[geboortedatum]]=\"\",\"\",(TODAY()-Opzoek_ooi[[#This Row],[geboortedatum]])/365)","v":""}]
[null,null,null,null,{"$f":"IF(Opzoek_ooi[[#This Row],[geboortedatum]]=\"\",\"\",(TODAY()-Opzoek_ooi[[#This Row],[geboortedatum]])/365)","v":""}]
[null,null,null,null,{"$f":"IF(Opzoek_ooi[[#This Row],[geboortedatum]]=\"\",\"\",(TODAY()-Opzoek_ooi[[#This Row],[geboortedatum]])/365)","v":""}]
[null,null,null,null,{"$f":"IF(Opzoek_ooi[[#This Row],[geboortedatum]]=\"\",\"\",(TODAY()-Opzoek_ooi[[#This Row],[geboortedatum]])/365)","v":""}]
[null,null,null,null,{"$f":"IF(Opzoek_ooi[[#This Row],[geboortedatum]]=\"\",\"\",(TODAY()-Opzoek_ooi[[#This Row],[geboortedatum]])/365)","v":""}]
[null,null,null,null,{"$f":"IF(Opzoek_ooi[[#This Row],[geboortedatum]]=\"\",\"\",(TODAY()-Opzoek_ooi[[#This Row],[geboortedatum]])/365)","v":""}]
[null,null,null,null,{"$f":"IF(Opzoek_ooi[[#This Row],[geboortedatum]]=\"\",\"\",(TODAY()-Opzoek_ooi[[#This Row],[geboortedatum]])/365)","v":""}]
[null,null,null,null,{"$f":"IF(Opzoek_ooi[[#This Row],[geboortedatum]]=\"\",\"\",(TODAY()-Opzoek_ooi[[#This Row],[geboortedatum]])/365)","v":""}]
[null,null,null,null,{"$f":"IF(Opzoek_ooi[[#This Row],[geboortedatum]]=\"\",\"\",(TODAY()-Opzoek_ooi[[#This Row],[geboortedatum]])/365)","v":""}]
[null,null,null,null,{"$f":"IF(Opzoek_ooi[[#This Row],[geboortedatum]]=\"\",\"\",(TODAY()-Opzoek_ooi[[#This Row],[geboortedatum]])/365)","v":""}]
[null,null,null,null,{"$f":"IF(Opzoek_ooi[[#This Row],[geboortedatum]]=\"\",\"\",(TODAY()-Opzoek_ooi[[#This Row],[geboortedatum]])/365)","v":""}]
[null,null,null,null,{"$f":"IF(Opzoek_ooi[[#This Row],[geboortedatum]]=\"\",\"\",(TODAY()-Opzoek_ooi[[#This Row],[geboortedatum]])/365)","v":""}]
[null,null,null,null,{"$f":"IF(Opzoek_ooi[[#This Row],[geboortedatum]]=\"\",\"\",(TODAY()-Opzoek_ooi[[#This Row],[geboortedatum]])/365)","v":""}]
[null,null,null,null,{"$f":"IF(Opzoek_ooi[[#This Row],[geboortedatum]]=\"\",\"\",(TODAY()-Opzoek_ooi[[#This Row],[geboortedatum]])/365)","v":""}]
[null,null,null,null,{"$f":"IF(Opzoek_ooi[[#This Row],[geboortedatum]]=\"\",\"\",(TODAY()-Opzoek_ooi[[#This Row],[geboortedatum]])/365)","v":""}]
[null,null,null,null,{"$f":"IF(Opzoek_ooi[[#This Row],[geboortedatum]]=\"\",\"\",(TODAY()-Opzoek_ooi[[#This Row],[geboortedatum]])/365)","v":""}]
[null,null,null,null,{"$f":"IF(Opzoek_ooi[[#This Row],[geboortedatum]]=\"\",\"\",(TODAY()-Opzoek_ooi[[#This Row],[geboortedatum]])/365)","v":""}]
[null,null,null,null,{"$f":"IF(Opzoek_ooi[[#This Row],[geboortedatum]]=\"\",\"\",(TODAY()-Opzoek_ooi[[#This Row],[geboortedatum]])/365)","v":""}]
[null,null,null,null,{"$f":"IF(Opzoek_ooi[[#This Row],[geboortedatum]]=\"\",\"\",(TODAY()-Opzoek_ooi[[#This Row],[geboortedatum]])/365)","v":""}]
[null,null,null,null,{"$f":"IF(Opzoek_ooi[[#This Row],[geboortedatum]]=\"\",\"\",(TODAY()-Opzoek_ooi[[#This Row],[geboortedatum]])/365)","v":""}]
[null,null,null,null,{"$f":"IF(Opzoek_ooi[[#This Row],[geboortedatum]]=\"\",\"\",(TODAY()-Opzoek_ooi[[#This Row],[geboortedatum]])/365)","v":""}]
[null,null,null,null,{"$f":"IF(Opzoek_ooi[[#This Row],[geboortedatum]]=\"\",\"\",(TODAY()-Opzoek_ooi[[#This Row],[geboortedatum]])/365)","v":""}]
[null,null,null,null,{"$f":"IF(Opzoek_ooi[[#This Row],[geboortedatum]]=\"\",\"\",(TODAY()-Opzoek_ooi[[#This Row],[geboortedatum]])/365)","v":""}]
[null,null,null,null,{"$f":"IF(Opzoek_ooi[[#This Row],[geboortedatum]]=\"\",\"\",(TODAY()-Opzoek_ooi[[#This Row],[geboortedatum]])/365)","v":""}]
[null,null,null,null,{"$f":"IF(Opzoek_ooi[[#This Row],[geboortedatum]]=\"\",\"\",(TODAY()-Opzoek_ooi[[#This Row],[geboortedatum]])/365)","v":""}]
[null,null,null,null,{"$f":"IF(Opzoek_ooi[[#This Row],[geboortedatum]]=\"\",\"\",(TODAY()-Opzoek_ooi[[#This Row],[geboortedatum]])/365)","v":""}]
[null,null,null,null,{"$f":"IF(Opzoek_ooi[[#This Row],[geboortedatum]]=\"\",\"\",(TODAY()-Opzoek_ooi[[#This Row],[geboortedatum]])/365)","v":""}]
[null,null,null,null,{"$f":"IF(Opzoek_ooi[[#This Row],[geboortedatum]]=\"\",\"\",(TODAY()-Opzoek_ooi[[#This Row],[geboortedatum]])/365)","v":""}]
[null,null,null,null,{"$f":"IF(Opzoek_ooi[[#This Row],[geboortedatum]]=\"\",\"\",(TODAY()-Opzoek_ooi[[#This Row],[geboortedatum]])/365)","v":""}]
[null,null,null,null,{"$f":"IF(Opzoek_ooi[[#This Row],[geboortedatum]]=\"\",\"\",(TODAY()-Opzoek_ooi[[#This Row],[geboortedatum]])/365)","v":""}]
[null,null,null,null,{"$f":"IF(Opzoek_ooi[[#This Row],[geboortedatum]]=\"\",\"\",(TODAY()-Opzoek_ooi[[#This Row],[geboortedatum]])/365)","v":""}]
[null,null,null,null,{"$f":"IF(Opzoek_ooi[[#This Row],[geboortedatum]]=\"\",\"\",(TODAY()-Opzoek_ooi[[#This Row],[geboortedatum]])/365)","v":""}]
[null,null,null,null,{"$f":"IF(Opzoek_ooi[[#This Row],[geboortedatum]]=\"\",\"\",(TODAY()-Opzoek_ooi[[#This Row],[geboortedatum]])/365)","v":""}]
[null,null,null,null,{"$f":"IF(Opzoek_ooi[[#This Row],[geboortedatum]]=\"\",\"\",(TODAY()-Opzoek_ooi[[#This Row],[geboortedatum]])/365)","v":""}]
[null,null,null,null,{"$f":"IF(Opzoek_ooi[[#This Row],[geboortedatum]]=\"\",\"\",(TODAY()-Opzoek_ooi[[#This Row],[geboortedatum]])/365)","v":""}]
[null,null,null,null,{"$f":"IF(Opzoek_ooi[[#This Row],[geboortedatum]]=\"\",\"\",(TODAY()-Opzoek_ooi[[#This Row],[geboortedatum]])/365)","v":""}]
[null,null,null,null,{"$f":"IF(Opzoek_ooi[[#This Row],[geboortedatum]]=\"\",\"\",(TODAY()-Opzoek_ooi[[#This Row],[geboortedatum]])/365)","v":""}]
[null,null,null,null,{"$f":"IF(Opzoek_ooi[[#This Row],[geboortedatum]]=\"\",\"\",(TODAY()-Opzoek_ooi[[#This Row],[geboortedatum]])/365)","v":""}]
[null,null,null,null,{"$f":"IF(Opzoek_ooi[[#This Row],[geboortedatum]]=\"\",\"\",(TODAY()-Opzoek_ooi[[#This Row],[geboortedatum]])/365)","v":""}]
[null,null,null,null,{"$f":"IF(Opzoek_ooi[[#This Row],[geboortedatum]]=\"\",\"\",(TODAY()-Opzoek_ooi[[#This Row],[geboortedatum]])/365)","v":""}]
[null,null,null,null,{"$f":"IF(Opzoek_ooi[[#This Row],[geboortedatum]]=\"\",\"\",(TODAY()-Opzoek_ooi[[#This Row],[geboortedatum]])/365)","v":""}]
[null,null,null,null,{"$f":"IF(Opzoek_ooi[[#This Row],[geboortedatum]]=\"\",\"\",(TODAY()-Opzoek_ooi[[#This Row],[geboortedatum]])/365)","v":""}]
[null,null,null,null,{"$f":"IF(Opzoek_ooi[[#This Row],[geboortedatum]]=\"\",\"\",(TODAY()-Opzoek_ooi[[#This Row],[geboortedatum]])/365)","v":""}]
[null,null,null,null,{"$f":"IF(Opzoek_ooi[[#This Row],[geboortedatum]]=\"\",\"\",(TODAY()-Opzoek_ooi[[#This Row],[geboortedatum]])/365)","v":""}]
[null,null,null,null,{"$f":"IF(Opzoek_ooi[[#This Row],[geboortedatum]]=\"\",\"\",(TODAY()-Opzoek_ooi[[#This Row],[geboortedatum]])/365)","v":""}]
[null,null,null,null,{"$f":"IF(Opzoek_ooi[[#This Row],[geboortedatum]]=\"\",\"\",(TODAY()-Opzoek_ooi[[#This Row],[geboortedatum]])/365)","v":""}]
[null,null,null,null,{"$f":"IF(Opzoek_ooi[[#This Row],[geboortedatum]]=\"\",\"\",(TODAY()-Opzoek_ooi[[#This Row],[geboortedatum]])/365)","v":""}]
[null,null,null,null,{"$f":"IF(Opzoek_ooi[[#This Row],[geboortedatum]]=\"\",\"\",(TODAY()-Opzoek_ooi[[#This Row],[geboortedatum]])/365)","v":""}]
[null,null,null,null,{"$f":"IF(Opzoek_ooi[[#This Row],[geboortedatum]]=\"\",\"\",(TODAY()-Opzoek_ooi[[#This Row],[geboortedatum]])/365)","v":""}]
[null,null,null,null,{"$f":"IF(Opzoek_ooi[[#This Row],[geboortedatum]]=\"\",\"\",(TODAY()-Opzoek_ooi[[#This Row],[geboortedatum]])/365)","v":""}]
[null,null,null,null,{"$f":"IF(Opzoek_ooi[[#This Row],[geboortedatum]]=\"\",\"\",(TODAY()-Opzoek_ooi[[#This Row],[geboortedatum]])/365)","v":""}]
[null,null,null,null,{"$f":"IF(Opzoek_ooi[[#This Row],[geboortedatum]]=\"\",\"\",(TODAY()-Opzoek_ooi[[#This Row],[geboortedatum]])/365)","v":""}]
[null,null,null,null,{"$f":"IF(Opzoek_ooi[[#This Row],[geboortedatum]]=\"\",\"\",(TODAY()-Opzoek_ooi[[#This Row],[geboortedatum]])/365)","v":""}]
[null,null,null,null,{"$f":"IF(Opzoek_ooi[[#This Row],[geboortedatum]]=\"\",\"\",(TODAY()-Opzoek_ooi[[#This Row],[geboortedatum]])/365)","v":""}]
[null,null,null,null,{"$f":"IF(Opzoek_ooi[[#This Row],[geboortedatum]]=\"\",\"\",(TODAY()-Opzoek_ooi[[#This Row],[geboortedatum]])/365)","v":""}]
[null,null,null,null,{"$f":"IF(Opzoek_ooi[[#This Row],[geboortedatum]]=\"\",\"\",(TODAY()-Opzoek_ooi[[#This Row],[geboortedatum]])/365)","v":""}]
[null,null,null,null,{"$f":"IF(Opzoek_ooi[[#This Row],[geboortedatum]]=\"\",\"\",(TODAY()-Opzoek_ooi[[#This Row],[geboortedatum]])/365)","v":""}]
[null,null,null,null,{"$f":"IF(Opzoek_ooi[[#This Row],[geboortedatum]]=\"\",\"\",(TODAY()-Opzoek_ooi[[#This Row],[geboortedatum]])/365)","v":""}]
[null,null,null,null,{"$f":"IF(Opzoek_ooi[[#This Row],[geboortedatum]]=\"\",\"\",(TODAY()-Opzoek_ooi[[#This Row],[geboortedatum]])/365)","v":""}]
[null,null,null,null,{"$f":"IF(Opzoek_ooi[[#This Row],[geboortedatum]]=\"\",\"\",(TODAY()-Opzoek_ooi[[#This Row],[geboortedatum]])/365)","v":""}]
[null,null,null,null,{"$f":"IF(Opzoek_ooi[[#This Row],[geboortedatum]]=\"\",\"\",(TODAY()-Opzoek_ooi[[#This Row],[geboortedatum]])/365)","v":""}]
[null,null,null,null,{"$f":"IF(Opzoek_ooi[[#This Row],[geboortedatum]]=\"\",\"\",(TODAY()-Opzoek_ooi[[#This Row],[geboortedatum]])/365)","v":""}]
[null,null,null,null,{"$f":"IF(Opzoek_ooi[[#This Row],[geboortedatum]]=\"\",\"\",(TODAY()-Opzoek_ooi[[#This Row],[geboortedatum]])/365)","v":""}]
[null,null,null,null,{"$f":"IF(Opzoek_ooi[[#This Row],[geboortedatum]]=\"\",\"\",(TODAY()-Opzoek_ooi[[#This Row],[geboortedatum]])/365)","v":""}]
[null,null,null,null,{"$f":"IF(Opzoek_ooi[[#This Row],[geboortedatum]]=\"\",\"\",(TODAY()-Opzoek_ooi[[#This Row],[geboortedatum]])/365)","v":""}]
[null,null,null,null,{"$f":"IF(Opzoek_ooi[[#This Row],[geboortedatum]]=\"\",\"\",(TODAY()-Opzoek_ooi[[#This Row],[geboortedatum]])/365)","v":""}]
[null,null,null,null,{"$f":"IF(Opzoek_ooi[[#This Row],[geboortedatum]]=\"\",\"\",(TODAY()-Opzoek_ooi[[#This Row],[geboortedatum]])/365)","v":""}]
[null,null,null,null,{"$f":"IF(Opzoek_ooi[[#This Row],[geboortedatum]]=\"\",\"\",(TODAY()-Opzoek_ooi[[#This Row],[geboortedatum]])/365)","v":""}]
[null,null,null,null,{"$f":"IF(Opzoek_ooi[[#This Row],[geboortedatum]]=\"\",\"\",(TODAY()-Opzoek_ooi[[#This Row],[geboortedatum]])/365)","v":""}]
[null,null,null,null,{"$f":"IF(Opzoek_ooi[[#This Row],[geboortedatum]]=\"\",\"\",(TODAY()-Opzoek_ooi[[#This Row],[geboortedatum]])/365)","v":""}]
[null,null,null,null,{"$f":"IF(Opzoek_ooi[[#This Row],[geboortedatum]]=\"\",\"\",(TODAY()-Opzoek_ooi[[#This Row],[geboortedatum]])/365)","v":""}]

{"sheet":"Rammen","index":1,"n_rows":6,"n_cols":4,"rows_kept":6,"cut":false,"hidden":false,"merged":[]}
["Ramnummer","geboortedatum","RAS","leeftijd"]
["BE277340193","2018-03-01","FT",{"$f":"IF(B2=\"\",\"\",(TODAY()-Tabel5[[#This Row],[geboortedatum]])/365)","v":1.4602739726027398}]
["BE79560447","2015-03-21","VL",{"$f":"IF(B3=\"\",\"\",(TODAY()-Tabel5[[#This Row],[geboortedatum]])/365)","v":4.4082191780821915}]
[null,null,null,{"$f":"IF(B4=\"\",\"\",(TODAY()-Tabel5[[#This Row],[geboortedatum]])/365)","v":""}]
[null,null,null,{"$f":"IF(B5=\"\",\"\",(TODAY()-Tabel5[[#This Row],[geboortedatum]])/365)","v":""}]
[null,null,null,{"$f":"IF(B6=\"\",\"\",(TODAY()-Tabel5[[#This Row],[geboortedatum]])/365)","v":""}]

{"sheet":"Registratie dekkingen","index":2,"n_rows":28,"n_cols":9,"rows_kept":28,"cut":false,"hidden":false,"merged":[]}
["Ooi","Dekdatum","Ram","Herdekdatum","Ram2","Verwachte aflamdatum","Datum vaccinatie","Aflamdatum","Draagtijd"]
[{"$f":"Opzoek_ooi[[#This Row],[Ooinummer]]","v":"BE519886427"},"2018-10-20","BE277340193",null,"BE79560447",{"$f":"IF(Table6[[#This Row],[Herdekdatum]]>Table6[[#This Row],[Dekdatum]],Table6[[#This Row],[Herdekdatum]]+145,Table6[[#This Row],[Dekdatum]]+145)","v":"2019-03-14"},{"$f":"Table6[[#This Row],[Verwachte aflamdatum]]-25","v":"2019-02-17"},"2019-03-14",{"$f":"Table6[[#This Row],[Aflamdatum]]-Table6[[#This Row],[Dekdatum]]","v":145}]
[{"$f":"Opzoek_ooi[[#This Row],[Ooinummer]]","v":"BE527620141"},"2018-10-22","BE277340193",null,"BE79560447",{"$f":"IF(Table6[[#This Row],[Herdekdatum]]>Table6[[#This Row],[Dekdatum]],Table6[[#This Row],[Herdekdatum]]+145,Table6[[#This Row],[Dekdatum]]+145)","v":"2019-03-16"},{"$f":"Table6[[#This Row],[Verwachte aflamdatum]]-25","v":"2019-02-19"},"2019-03-16",{"$f":"Table6[[#This Row],[Aflamdatum]]-Table6[[#This Row],[Dekdatum]]","v":145}]
[{"$f":"Opzoek_ooi[[#This Row],[Ooinummer]]","v":"BE127620112"},"2018-10-20","BE277340193",null,"BE79560447",{"$f":"IF(Table6[[#This Row],[Herdekdatum]]>Table6[[#This Row],[Dekdatum]],Table6[[#This Row],[Herdekdatum]]+145,Table6[[#This Row],[Dekdatum]]+145)","v":"2019-03-14"},{"$f":"Table6[[#This Row],[Verwachte aflamdatum]]-25","v":"2019-02-17"},"2019-03-14",{"$f":"Table6[[#This Row],[Aflamdatum]]-Table6[[#This Row],[Dekdatum]]","v":145}]
[{"$f":"Opzoek_ooi[[#This Row],[Ooinummer]]","v":"BE127620113"},"2018-10-05","BE79560447",null,"BE79560447",{"$f":"IF(Table6[[#This Row],[Herdekdatum]]>Table6[[#This Row],[Dekdatum]],Table6[[#This Row],[Herdekdatum]]+145,Table6[[#This Row],[Dekdatum]]+145)","v":"2019-02-27"},{"$f":"Table6[[#This Row],[Verwachte aflamdatum]]-25","v":"2019-02-02"},"2019-02-25",{"$f":"Table6[[#This Row],[Aflamdatum]]-Table6[[#This Row],[Dekdatum]]","v":143}]
[{"$f":"Opzoek_ooi[[#This Row],[Ooinummer]]","v":"BE677340126"},"2018-10-05","BE79560447",null,"BE79560447",{"$f":"IF(Table6[[#This Row],[Herdekdatum]]>Table6[[#This Row],[Dekdatum]],Table6[[#This Row],[Herdekdatum]]+145,Table6[[#This Row],[Dekdatum]]+145)","v":"2019-02-27"},{"$f":"Table6[[#This Row],[Verwachte aflamdatum]]-25","v":"2019-02-02"},"2019-03-12",{"$f":"Table6[[#This Row],[Aflamdatum]]-Table6[[#This Row],[Dekdatum]]","v":158}]
[{"$f":"Opzoek_ooi[[#This Row],[Ooinummer]]","v":"BE577340068"},"2018-10-06","BE79560447",null,"BE79560447",{"$f":"IF(Table6[[#This Row],[Herdekdatum]]>Table6[[#This Row],[Dekdatum]],Table6[[#This Row],[Herdekdatum]]+145,Table6[[#This Row],[Dekdatum]]+145)","v":"2019-02-28"},{"$f":"Table6[[#This Row],[Verwachte aflamdatum]]-25","v":"2019-02-03"},"2019-02-26",{"$f":"Table6[[#This Row],[Aflamdatum]]-Table6[[#This Row],[Dekdatum]]","v":143}]
[{"$f":"Opzoek_ooi[[#This Row],[Ooinummer]]","v":"BE977340164"},"2018-10-07","BE79560447",null,"BE79560447",{"$f":"IF(Table6[[#This Row],[Herdekdatum]]>Table6[[#This Row],[Dekdatum]],Table6[[#This Row],[Herdekdatum]]+145,Table6[[#This Row],[Dekdatum]]+145)","v":"2019-03-01"},{"$f":"Table6[[#This Row],[Verwachte aflamdatum]]-25","v":"2019-02-04"},"2019-02-28",{"$f":"Table6[[#This Row],[Aflamdatum]]-Table6[[#This Row],[Dekdatum]]","v":144}]
[{"$f":"Opzoek_ooi[[#This Row],[Ooinummer]]","v":"BE077340163"},"2018-10-10","BE79560447",null,"BE79560447",{"$f":"IF(Table6[[#This Row],[Herdekdatum]]>Table6[[#This Row],[Dekdatum]],Table6[[#This Row],[Herdekdatum]]+145,Table6[[#This Row],[Dekdatum]]+145)","v":"2019-03-04"},{"$f":"Table6[[#This Row],[Verwachte aflamdatum]]-25","v":"2019-02-07"},"2019-03-02",{"$f":"Table6[[#This Row],[Aflamdatum]]-Table6[[#This Row],[Dekdatum]]","v":143}]
[{"$f":"Opzoek_ooi[[#This Row],[Ooinummer]]","v":"BE119886429"},"2018-10-11","BE277340193",null,"BE79560447",{"$f":"IF(Table6[[#This Row],[Herdekdatum]]>Table6[[#This Row],[Dekdatum]],Table6[[#This Row],[Herdekdatum]]+145,Table6[[#This Row],[Dekdatum]]+145)","v":"2019-03-05"},{"$f":"Table6[[#This Row],[Verwachte aflamdatum]]-25","v":"2019-02-08"},"2019-03-01",{"$f":"Table6[[#This Row],[Aflamdatum]]-Table6[[#This Row],[Dekdatum]]","v":141}]
[{"$f":"Opzoek_ooi[[#This Row],[Ooinummer]]","v":"BE276710026"},"2018-10-11","BE277340193",null,"BE79560447",{"$f":"IF(Table6[[#This Row],[Herdekdatum]]>Table6[[#This Row],[Dekdatum]],Table6[[#This Row],[Herdekdatum]]+145,Table6[[#This Row],[Dekdatum]]+145)","v":"2019-03-05"},{"$f":"Table6[[#This Row],[Verwachte aflamdatum]]-25","v":"2019-02-08"},"2019-03-07",{"$f":"Table6[[#This Row],[Aflamdatum]]-Table6[[#This Row],[Dekdatum]]","v":147}]
[{"$f":"Opzoek_ooi[[#This Row],[Ooinummer]]","v":"BE977340083"},"2018-10-14","BE79560447",null,"BE79560447",{"$f":"IF(Table6[[#This Row],[Herdekdatum]]>Table6[[#This Row],[Dekdatum]],Table6[[#This Row],[Herdekdatum]]+145,Table6[[#This Row],[Dekdatum]]+145)","v":"2019-03-08"},{"$f":"Table6[[#This Row],[Verwachte aflamdatum]]-25","v":"2019-02-11"},"2019-03-10",{"$f":"Table6[[#This Row],[Aflamdatum]]-Table6[[#This Row],[Dekdatum]]","v":147}]
[{"$f":"Opzoek_ooi[[#This Row],[Ooinummer]]","v":"BE919886425"},"2018-10-15","BE277340193",null,"BE79560447",{"$f":"IF(Table6[[#This Row],[Herdekdatum]]>Table6[[#This Row],[Dekdatum]],Table6[[#This Row],[Herdekdatum]]+145,Table6[[#This Row],[Dekdatum]]+145)","v":"2019-03-09"},{"$f":"Table6[[#This Row],[Verwachte aflamdatum]]-25","v":"2019-02-12"},"2019-03-07",{"$f":"Table6[[#This Row],[Aflamdatum]]-Table6[[#This Row],[Dekdatum]]","v":143}]
[{"$f":"Opzoek_ooi[[#This Row],[Ooinummer]]","v":"BE519886430"},"2018-10-15","BE277340193",null,"BE79560447",{"$f":"IF(Table6[[#This Row],[Herdekdatum]]>Table6[[#This Row],[Dekdatum]],Table6[[#This Row],[Herdekdatum]]+145,Table6[[#This Row],[Dekdatum]]+145)","v":"2019-03-09"},{"$f":"Table6[[#This Row],[Verwachte aflamdatum]]-25","v":"2019-02-12"},"2019-03-05",{"$f":"Table6[[#This Row],[Aflamdatum]]-Table6[[#This Row],[Dekdatum]]","v":141}]
[{"$f":"Opzoek_ooi[[#This Row],[Ooinummer]]","v":"BE719886426"},"2018-10-16","BE277340193",null,"BE79560447",{"$f":"IF(Table6[[#This Row],[Herdekdatum]]>Table6[[#This Row],[Dekdatum]],Table6[[#This Row],[Herdekdatum]]+145,Table6[[#This Row],[Dekdatum]]+145)","v":"2019-03-10"},{"$f":"Table6[[#This Row],[Verwachte aflamdatum]]-25","v":"2019-02-13"},"2019-03-15",{"$f":"Table6[[#This Row],[Aflamdatum]]-Table6[[#This Row],[Dekdatum]]","v":150}]
[{"$f":"Opzoek_ooi[[#This Row],[Ooinummer]]","v":"BE777340165"},"2018-10-16","BE79560447",null,"BE79560447",{"$f":"IF(Table6[[#This Row],[Herdekdatum]]>Table6[[#This Row],[Dekdatum]],Table6[[#This Row],[Herdekdatum]]+145,Table6[[#This Row],[Dekdatum]]+145)","v":"2019-03-10"},{"$f":"Table6[[#This Row],[Verwachte aflamdatum]]-25","v":"2019-02-13"},"2019-03-07",{"$f":"Table6[[#This Row],[Aflamdatum]]-Table6[[#This Row],[Dekdatum]]","v":142}]
[{"$f":"Opzoek_ooi[[#This Row],[Ooinummer]]","v":"BE227620120"},"2018-10-17","BE277340193",null,"BE79560447",{"$f":"IF(Table6[[#This Row],[Herdekdatum]]>Table6[[#This Row],[Dekdatum]],Table6[[#This Row],[Herdekdatum]]+145,Table6[[#This Row],[Dekdatum]]+145)","v":"2019-03-11"},{"$f":"Table6[[#This Row],[Verwachte aflamdatum]]-25","v":"2019-02-14"},"2019-03-12",{"$f":"Table6[[#This Row],[Aflamdatum]]-Table6[[#This Row],[Dekdatum]]","v":146}]
[{"$f":"Opzoek_ooi[[#This Row],[Ooinummer]]","v":"BE277340095"},"2018-10-19","BE79560447",null,"BE79560447",{"$f":"IF(Table6[[#This Row],[Herdekdatum]]>Table6[[#This Row],[Dekdatum]],Table6[[#This Row],[Herdekdatum]]+145,Table6[[#This Row],[Dekdatum]]+145)","v":"2019-03-13"},{"$f":"Table6[[#This Row],[Verwachte aflamdatum]]-25","v":"2019-02-16"},"2019-03-17",{"$f":"Table6[[#This Row],[Aflamdatum]]-Table6[[#This Row],[Dekdatum]]","v":149}]
[{"$f":"Opzoek_ooi[[#This Row],[Ooinummer]]","v":"BE277340162"},"2018-10-19","BE79560447","2019-01-24","BE79560447",{"$f":"IF(Table6[[#This Row],[Herdekdatum]]>Table6[[#This Row],[Dekdatum]],Table6[[#This Row],[Herdekdatum]]+145,Table6[[#This Row],[Dekdatum]]+145)","v":"2019-06-18"},{"$f":"Table6[[#This Row],[Verwachte aflamdatum]]-25","v":"2019-05-24"},"2019-05-21",{"$f":"Table6[[#This Row],[Aflamdatum]]-Table6[[#This Row],[Dekdatum]]","v":214}]
[{"$f":"Opzoek_ooi[[#This Row],[Ooinummer]]","v":"BE876710023"},"2018-10-20","BE277340193",null,"BE79560447",{"$f":"IF(Table6[[#This Row],[Herdekdatum]]>Table6[[#This Row],[Dekdatum]],Table6[[#This Row],[Herdekdatum]]+145,Table6[[#This Row],[Dekdatum]]+145)","v":"2019-03-14"},{"$f":"Table6[[#This Row],[Verwachte aflamdatum]]-25","v":"2019-02-17"},"2019-03-16",{"$f":"Table6[[#This Row],[Aflamdatum]]-Table6[[#This Row],[Dekdatum]]","v":147}]
[{"$f":"Opzoek_ooi[[#This Row],[Ooinummer]]","v":"BE477340161"},"2018-10-22","BE79560447",null,"BE79560447",{"$f":"IF(Table6[[#This Row],[Herdekdatum]]>Table6[[#This Row],[Dekdatum]],Table6[[#This Row],[Herdekdatum]]+145,Table6[[#This Row],[Dekdatum]]+145)","v":"2019-03-16"},{"$f":"Table6[[#This Row],[Verwachte aflamdatum]]-25","v":"2019-02-19"},"2019-03-16",{"$f":"Table6[[#This Row],[Aflamdatum]]-Table6[[#This Row],[Dekdatum]]","v":145}]
[{"$f":"Opzoek_ooi[[#This Row],[Ooinummer]]","v":"BE577340135"},"2018-10-23","BE79560447",null,"BE79560447",{"$f":"IF(Table6[[#This Row],[Herdekdatum]]>Table6[[#This Row],[Dekdatum]],Table6[[#This Row],[Herdekdatum]]+145,Table6[[#This Row],[Dekdatum]]+145)","v":"2019-03-17"},{"$f":"Table6[[#This Row],[Verwachte aflamdatum]]-25","v":"2019-02-20"},"2019-03-27",{"$f":"Table6[[#This Row],[Aflamdatum]]-Table6[[#This Row],[Dekdatum]]","v":155}]
[{"$f":"Opzoek_ooi[[#This Row],[Ooinummer]]","v":"BE176710022"},"2018-10-25","BE277340193",null,"BE79560447",{"$f":"IF(Table6[[#This Row],[Herdekdatum]]>Table6[[#This Row],[Dekdatum]],Table6[[#This Row],[Herdekdatum]]+145,Table6[[#This Row],[Dekdatum]]+145)","v":"2019-03-19"},{"$f":"Table6[[#This Row],[Verwachte aflamdatum]]-25","v":"2019-02-22"},"2019-03-22",{"$f":"Table6[[#This Row],[Aflamdatum]]-Table6[[#This Row],[Dekdatum]]","v":148}]
[{"$f":"Opzoek_ooi[[#This Row],[Ooinummer]]","v":"BE120"},"2018-10-25","BE277340193",null,"BE79560447",{"$f":"IF(Table6[[#This Row],[Herdekdatum]]>Table6[[#This Row],[Dekdatum]],Table6[[#This Row],[Herdekdatum]]+145,Table6[[#This Row],[Dekdatum]]+145)","v":"2019-03-19"},{"$f":"Table6[[#This Row],[Verwachte aflamdatum]]-25","v":"2019-02-22"},"2019-03-20",{"$f":"Table6[[#This Row],[Aflamdatum]]-Table6[[#This Row],[Dekdatum]]","v":146}]
[{"$f":"Opzoek_ooi[[#This Row],[Ooinummer]]","v":"BE377340167"},"2018-10-25","BE277340193",null,"BE79560447",{"$f":"IF(Table6[[#This Row],[Herdekdatum]]>Table6[[#This Row],[Dekdatum]],Table6[[#This Row],[Herdekdatum]]+145,Table6[[#This Row],[Dekdatum]]+145)","v":"2019-03-19"},{"$f":"Table6[[#This Row],[Verwachte aflamdatum]]-25","v":"2019-02-22"},"2019-03-19",{"$f":"Table6[[#This Row],[Aflamdatum]]-Table6[[#This Row],[Dekdatum]]","v":145}]
[{"$f":"Opzoek_ooi[[#This Row],[Ooinummer]]","v":"BE477340175"},"2018-10-25","BE79560447",null,"BE79560447",{"$f":"IF(Table6[[#This Row],[Herdekdatum]]>Table6[[#This Row],[Dekdatum]],Table6[[#This Row],[Herdekdatum]]+145,Table6[[#This Row],[Dekdatum]]+145)","v":"2019-03-19"},{"$f":"Table6[[#This Row],[Verwachte aflamdatum]]-25","v":"2019-02-22"},"2019-03-19",{"$f":"Table6[[#This Row],[Aflamdatum]]-Table6[[#This Row],[Dekdatum]]","v":145}]
[{"$f":"Opzoek_ooi[[#This Row],[Ooinummer]]","v":"BE577340166"},"2018-10-26","BE277340193",null,"BE79560447",{"$f":"IF(Table6[[#This Row],[Herdekdatum]]>Table6[[#This Row],[Dekdatum]],Table6[[#This Row],[Herdekdatum]]+145,Table6[[#This Row],[Dekdatum]]+145)","v":"2019-03-20"},{"$f":"Table6[[#This Row],[Verwachte aflamdatum]]-25","v":"2019-02-23"},"2019-03-20",{"$f":"Table6[[#This Row],[Aflamdatum]]-Table6[[#This Row],[Dekdatum]]","v":145}]
[{"$f":"Opzoek_ooi[[#This Row],[Ooinummer]]","v":"BE177340138"},"2018-11-01","BE79560447",null,"BE79560447",{"$f":"IF(Table6[[#This Row],[Herdekdatum]]>Table6[[#This Row],[Dekdatum]],Table6[[#This Row],[Herdekdatum]]+145,Table6[[#This Row],[Dekdatum]]+145)","v":"2019-03-26"},{"$f":"Table6[[#This Row],[Verwachte aflamdatum]]-25","v":"2019-03-01"},"2019-03-20",{"$f":"Table6[[#This Row],[Aflamdatum]]-Table6[[#This Row],[Dekdatum]]","v":139}]

{"sheet":"Registratie lammeren","index":3,"n_rows":501,"n_cols":17,"rows_kept":501,"cut":false,"hidden":false,"merged":[]}
["Ooi","Werp-datum","Lam-nummer","geslacht","Ras","geboorte-gewicht","Opfok met kunstmelk","Dood in geboorte","Dood na geboorte","Speen-datum","Speen-gewicht","groei tot spenen (g/dag)","Verkoop-datum","Verkoop-gewicht","groei tot verkoop (g/dag)","Verkoop-prijs","Opmerkingen"]
["BE127620113","2019-02-25",222,"R","VL/FT",4,null,null,null,"2019-07-31",55,{"$f":"IF(lammering[[#This Row],[Speen-gewicht]]=\"\",\"\",Berekeningen!J2*1000)","v":326.92307692307691},"2019-08-09",50,{"$f":"IF(lammering[[#This Row],[Verkoop-gewicht]]=\"\",\"\",Berekeningen!L2*1000)","v":278.78787878787881}]
["BE577340068","2019-02-26",210,"R","VL/VL",2.4,null,null,null,"2019-07-31",39,{"$f":"IF(lammering[[#This Row],[Speen-gewicht]]=\"\",\"\",Berekeningen!J3*1000)","v":236.12903225806454},"2019-08-09",45,{"$f":"IF(lammering[[#This Row],[Verkoop-gewicht]]=\"\",\"\",Berekeningen!L3*1000)","v":259.7560975609756}]
["BE577340068","2019-02-26","GESTOLEN","O","VL/VL",3,null,null,null,null,null,{"$f":"IF(lammering[[#This Row],[Speen-gewicht]]=\"\",\"\",Berekeningen!J4*1000)","v":""},null,null,{"$f":"IF(lammering[[#This Row],[Verkoop-gewicht]]=\"\",\"\",Berekeningen!L4*1000)","v":""}]
["BE577340068","2019-02-26",null,"R","VL/VL",2.5,null,"Ja",null,null,null,{"$f":"IF(lammering[[#This Row],[Speen-gewicht]]=\"\",\"\",Berekeningen!J5*1000)","v":""},null,null,{"$f":"IF(lammering[[#This Row],[Verkoop-gewicht]]=\"\",\"\",Berekeningen!L5*1000)","v":""}]
["BE977340164","2019-02-28",209,"O","VL/VL",2.2000000000000002,null,null,null,"2019-07-31",39,{"$f":"IF(lammering[[#This Row],[Speen-gewicht]]=\"\",\"\",Berekeningen!J6*1000)","v":240.52287581699343},"2019-07-31",39,{"$f":"IF(lammering[[#This Row],[Verkoop-gewicht]]=\"\",\"\",Berekeningen!L6*1000)","v":240.52287581699343},100]
["BE977340164","2019-02-28",208,"O","VL/VL",3,null,null,null,"2019-07-31",40,{"$f":"IF(lammering[[#This Row],[Speen-gewicht]]=\"\",\"\",Berekeningen!J7*1000)","v":241.83006535947712},"2019-07-31",40,{"$f":"IF(lammering[[#This Row],[Verkoop-gewicht]]=\"\",\"\",Berekeningen!L7*1000)","v":241.83006535947712},100]
["BE077340163","2019-03-02",203,"O","VL/VL",3.4,null,null,null,"2019-07-27",42,{"$f":"IF(lammering[[#This Row],[Speen-gewicht]]=\"\",\"\",Berekeningen!J8*1000)","v":262.58503401360542},null,null,{"$f":"IF(lammering[[#This Row],[Verkoop-gewicht]]=\"\",\"\",Berekeningen!L8*1000)","v":""}]
["BE077340163","2019-03-02",213,"O","VL/VL",2.6,null,null,null,"2019-07-27",41,{"$f":"IF(lammering[[#This Row],[Speen-gewicht]]=\"\",\"\",Berekeningen!J9*1000)","v":261.22448979591832},null,null,{"$f":"IF(lammering[[#This Row],[Verkoop-gewicht]]=\"\",\"\",Berekeningen!L9*1000)","v":""}]
["BE077340163","2019-03-02",94,"R","VL/VL",3,null,null,null,"2019-07-27",48,{"$f":"IF(lammering[[#This Row],[Speen-gewicht]]=\"\",\"\",Berekeningen!J10*1000)","v":306.12244897959187},"2019-07-27",48,{"$f":"IF(lammering[[#This Row],[Verkoop-gewicht]]=\"\",\"\",Berekeningen!L10*1000)","v":306.12244897959187}]
["BE519886430","2019-03-05",239,"O","ZB/FT",4.8,null,null,null,"2019-08-09",55,{"$f":"IF(lammering[[#This Row],[Speen-gewicht]]=\"\",\"\",Berekeningen!J11*1000)","v":319.74522292993635},null,null,{"$f":"IF(lammering[[#This Row],[Verkoop-gewicht]]=\"\",\"\",Berekeningen!L11*1000)","v":""}]
["BE519886430","2019-03-05",236,"R","ZB/FT",4,null,null,null,"2019-08-09",45,{"$f":"IF(lammering[[#This Row],[Speen-gewicht]]=\"\",\"\",Berekeningen!J12*1000)","v":261.14649681528664},null,null,{"$f":"IF(lammering[[#This Row],[Verkoop-gewicht]]=\"\",\"\",Berekeningen!L12*1000)","v":""}]
["BE119886429","2019-03-07",227,"O","ZB/FT",2.9,null,null,null,"2019-07-31",37,{"$f":"IF(lammering[[#This Row],[Speen-gewicht]]=\"\",\"\",Berekeningen!J13*1000)","v":233.56164383561645},"2019-07-31",37,{"$f":"IF(lammering[[#This Row],[Verkoop-gewicht]]=\"\",\"\",Berekeningen!L13*1000)","v":233.56164383561645},80]
["BE119886429","2019-03-07",225,"R","ZB/FT",3.5,null,null,null,"2019-07-31",43,{"$f":"IF(lammering[[#This Row],[Speen-gewicht]]=\"\",\"\",Berekeningen!J14*1000)","v":270.54794520547949},"2019-07-31",43,{"$f":"IF(lammering[[#This Row],[Verkoop-gewicht]]=\"\",\"\",Berekeningen!L14*1000)","v":270.54794520547949},80]
["BE119886429","2019-03-07",90,"R","ZB/FT",4.2,null,null,null,"2019-07-27",52,{"$f":"IF(lammering[[#This Row],[Speen-gewicht]]=\"\",\"\",Berekeningen!J15*1000)","v":336.61971830985914},"2019-07-27",52,{"$f":"IF(lammering[[#This Row],[Verkoop-gewicht]]=\"\",\"\",Berekeningen!L15*1000)","v":336.61971830985914}]
["BE276710026","2019-03-07",27,"O","VL/FT",4,null,null,null,"2019-07-27",46,{"$f":"IF(lammering[[#This Row],[Speen-gewicht]]=\"\",\"\",Berekeningen!J16*1000)","v":295.77464788732397},null,null,{"$f":"IF(lammering[[#This Row],[Verkoop-gewicht]]=\"\",\"\",Berekeningen!L16*1000)","v":""}]
["BE276710026","2019-03-07","GESTOLEN","O","VL/FT",3.9,null,null,null,null,null,{"$f":"IF(lammering[[#This Row],[Speen-gewicht]]=\"\",\"\",Berekeningen!J17*1000)","v":""},null,null,{"$f":"IF(lammering[[#This Row],[Verkoop-gewicht]]=\"\",\"\",Berekeningen!L17*1000)","v":""}]
["BE919886425","2019-03-07",238,"O","ZB/FT",4,null,null,null,"2019-08-09",56,{"$f":"IF(lammering[[#This Row],[Speen-gewicht]]=\"\",\"\",Berekeningen!J18*1000)","v":335.48387096774195},null,null,{"$f":"IF(lammering[[#This Row],[Verkoop-gewicht]]=\"\",\"\",Berekeningen!L18*1000)","v":""}]
["BE919886425","2019-03-07",237,"R","ZB/FT",3,null,null,null,"2019-08-09",63,{"$f":"IF(lammering[[#This Row],[Speen-gewicht]]=\"\",\"\",Berekeningen!J19*1000)","v":387.09677419354836},"2019-08-09",63,{"$f":"IF(lammering[[#This Row],[Verkoop-gewicht]]=\"\",\"\",Berekeningen!L19*1000)","v":387.09677419354836}]
["BE919886425","2019-03-07",null,"R","ZB/FT",3,null,"Ja",null,null,null,{"$f":"IF(lammering[[#This Row],[Speen-gewicht]]=\"\",\"\",Berekeningen!J20*1000)","v":""},null,null,{"$f":"IF(lammering[[#This Row],[Verkoop-gewicht]]=\"\",\"\",Berekeningen!L20*1000)","v":""}]
["BE777340165","2019-03-07",null,"O","VL/VL",2.8,null,null,"Ja",null,null,{"$f":"IF(lammering[[#This Row],[Speen-gewicht]]=\"\",\"\",Berekeningen!J21*1000)","v":""},null,null,{"$f":"IF(lammering[[#This Row],[Verkoop-gewicht]]=\"\",\"\",Berekeningen!L21*1000)","v":""}]
["BE777340165","2019-03-07",220,"R","VL/VL",2.5,null,null,null,"2019-07-31",44,{"$f":"IF(lammering[[#This Row],[Speen-gewicht]]=\"\",\"\",Berekeningen!J22*1000)","v":284.2465753424658},"2019-07-31",44,{"$f":"IF(lammering[[#This Row],[Verkoop-gewicht]]=\"\",\"\",Berekeningen!L22*1000)","v":284.2465753424658},80]
["BE977340083","2019-03-10",218,"O","VL/VL",5,null,null,null,"2019-07-31",50,{"$f":"IF(lammering[[#This Row],[Speen-gewicht]]=\"\",\"\",Berekeningen!J23*1000)","v":314.68531468531467},"2019-07-31",50,{"$f":"IF(lammering[[#This Row],[Verkoop-gewicht]]=\"\",\"\",Berekeningen!L23*1000)","v":314.68531468531467},100]
["BE677340126","2019-03-12",215,"O","VL/VL",2.9,null,null,null,"2019-07-27",43,{"$f":"IF(lammering[[#This Row],[Speen-gewicht]]=\"\",\"\",Berekeningen!J24*1000)","v":292.70072992700727},null,null,{"$f":"IF(lammering[[#This Row],[Verkoop-gewicht]]=\"\",\"\",Berekeningen!L24*1000)","v":""}]
["BE677340126","2019-03-12",205,"O","VL/VL",3.2,null,null,null,"2019-07-27",44,{"$f":"IF(lammering[[#This Row],[Speen-gewicht]]=\"\",\"\",Berekeningen!J25*1000)","v":297.81021897810217},null,null,{"$f":"IF(lammering[[#This Row],[Verkoop-gewicht]]=\"\",\"\",Berekeningen!L25*1000)","v":""}]
["BE677340126","2019-03-12",201,"R","VL/VL",2.6,null,null,null,"2019-07-27",54,{"$f":"IF(lammering[[#This Row],[Speen-gewicht]]=\"\",\"\",Berekeningen!J26*1000)","v":375.18248175182475},"2019-08-09",53,{"$f":"IF(lammering[[#This Row],[Verkoop-gewicht]]=\"\",\"\",Berekeningen!L26*1000)","v":335.99999999999994}]
["BE227620120","2019-03-12",229,"O","VL/FT",4,null,null,null,"2019-07-31",38,{"$f":"IF(lammering[[#This Row],[Speen-gewicht]]=\"\",\"\",Berekeningen!J27*1000)","v":241.13475177304963},"2019-07-31",38,{"$f":"IF(lammering[[#This Row],[Verkoop-gewicht]]=\"\",\"\",Berekeningen!L27*1000)","v":241.13475177304963},100]
["BE227620120","2019-03-12",234,"O","VL/FT",5,"Ja",null,null,"2019-07-31",46,{"$f":"IF(lammering[[#This Row],[Speen-gewicht]]=\"\",\"\",Berekeningen!J28*1000)","v":290.78014184397159},"2019-07-31",46,{"$f":"IF(lammering[[#This Row],[Verkoop-gewicht]]=\"\",\"\",Berekeningen!L28*1000)","v":290.78014184397159},80]
["BE227620120","2019-03-12",230,"R","VL/FT",4.5999999999999996,"Ja",null,null,"2019-07-31",42,{"$f":"IF(lammering[[#This Row],[Speen-gewicht]]=\"\",\"\",Berekeningen!J29*1000)","v":265.24822695035459},"2019-07-31",42,{"$f":"IF(lammering[[#This Row],[Verkoop-gewicht]]=\"\",\"\",Berekeningen!L29*1000)","v":265.24822695035459},80]
["BE127620112","2019-03-14","GESTOLEN","O","VL/FT",4.8,null,null,null,null,null,{"$f":"IF(lammering[[#This Row],[Speen-gewicht]]=\"\",\"\",Berekeningen!J30*1000)","v":""},null,null,{"$f":"IF(lammering[[#This Row],[Verkoop-gewicht]]=\"\",\"\",Berekeningen!L30*1000)","v":""}]
["BE127620112","2019-03-14","GESTOLEN","R","VL/FT",4.9000000000000004,null,null,null,null,null,{"$f":"IF(lammering[[#This Row],[Speen-gewicht]]=\"\",\"\",Berekeningen!J31*1000)","v":""},null,null,{"$f":"IF(lammering[[#This Row],[Verkoop-gewicht]]=\"\",\"\",Berekeningen!L31*1000)","v":""}]
["BE719886426","2019-03-15",199,"R","ZB/FT",1.8,null,null,null,"2019-07-31",48,{"$f":"IF(lammering[[#This Row],[Speen-gewicht]]=\"\",\"\",Berekeningen!J32*1000)","v":334.78260869565219},"2019-07-31",48,{"$f":"IF(lammering[[#This Row],[Verkoop-gewicht]]=\"\",\"\",Berekeningen!L32*1000)","v":334.78260869565219},80]
["BE719886426","2019-03-15",212,"R","ZB/FT",2,null,null,null,"2019-07-31",46,{"$f":"IF(lammering[[#This Row],[Speen-gewicht]]=\"\",\"\",Berekeningen!J33*1000)","v":318.84057971014488},"2019-07-31",46,{"$f":"IF(lammering[[#This Row],[Verkoop-gewicht]]=\"\",\"\",Berekeningen!L33*1000)","v":318.84057971014488},80]
["BE719886426","2019-03-15",211,"R","ZB/FT",3.5,null,null,null,"2019-07-31",57,{"$f":"IF(lammering[[#This Row],[Speen-gewicht]]=\"\",\"\",Berekeningen!J34*1000)","v":387.68115942028987},"2019-07-31",57,{"$f":"IF(lammering[[#This Row],[Verkoop-gewicht]]=\"\",\"\",Berekeningen!L34*1000)","v":387.68115942028987},80]
["BE876710023","2019-03-16",221,"R","ZB/FT",6.5,null,null,null,"2019-07-31",56,{"$f":"IF(lammering[[#This Row],[Speen-gewicht]]=\"\",\"\",Berekeningen!J35*1000)","v":361.31386861313871},"2019-08-09",55,{"$f":"IF(lammering[[#This Row],[Verkoop-gewicht]]=\"\",\"\",Berekeningen!L35*1000)","v":332.1917808219178}]
["BE477340161","2019-03-16",207,"O","VL/VL",3.8,null,null,null,"2019-07-27",40,{"$f":"IF(lammering[[#This Row],[Speen-gewicht]]=\"\",\"\",Berekeningen!J36*1000)","v":272.18045112781959},null,null,{"$f":"IF(lammering[[#This Row],[Verkoop-gewicht]]=\"\",\"\",Berekeningen!L36*1000)","v":""}]
["BE477340161","2019-03-16",85,"R","VL/VL",3.8,null,null,null,"2019-07-27",45,{"$f":"IF(lammering[[#This Row],[Speen-gewicht]]=\"\",\"\",Berekeningen!J37*1000)","v":309.77443609022561},"2019-07-27",45,{"$f":"IF(lammering[[#This Row],[Verkoop-gewicht]]=\"\",\"\",Berekeningen!L37*1000)","v":309.77443609022561}]
["BE527620141","2019-03-16",233,"O","VL/FT",3.9,null,null,null,"2019-07-31",34,{"$f":"IF(lammering[[#This Row],[Speen-gewicht]]=\"\",\"\",Berekeningen!J38*1000)","v":219.70802919708029},"2019-07-31",34,{"$f":"IF(lammering[[#This Row],[Verkoop-gewicht]]=\"\",\"\",Berekeningen!L38*1000)","v":219.70802919708029},80]
["BE527620141","2019-03-16",232,"O","VL/FT",4.9000000000000004,null,null,null,"2019-07-31",48,{"$f":"IF(lammering[[#This Row],[Speen-gewicht]]=\"\",\"\",Berekeningen!J39*1000)","v":314.59854014598545},"2019-07-31",48,{"$f":"IF(lammering[[#This Row],[Verkoop-gewicht]]=\"\",\"\",Berekeningen!L39*1000)","v":314.59854014598545},80]
["BE277340095","2019-03-17",223,"R","VL/FT",4.3,null,null,null,"2019-07-31",51,{"$f":"IF(lammering[[#This Row],[Speen-gewicht]]=\"\",\"\",Berekeningen!J40*1000)","v":343.38235294117646},"2019-08-09",51,{"$f":"IF(lammering[[#This Row],[Verkoop-gewicht]]=\"\",\"\",Berekeningen!L40*1000)","v":322.06896551724139}]
["BE277340095","2019-03-17",null,"R","VL/VL",2.8,null,"Ja",null,null,null,{"$f":"IF(lammering[[#This Row],[Speen-gewicht]]=\"\",\"\",Berekeningen!J41*1000)","v":""},null,null,{"$f":"IF(lammering[[#This Row],[Verkoop-gewicht]]=\"\",\"\",Berekeningen!L41*1000)","v":""}]
["BE277340095","2019-03-17",null,"O","VL/VL",3.8,null,"Ja",null,null,null,{"$f":"IF(lammering[[#This Row],[Speen-gewicht]]=\"\",\"\",Berekeningen!J42*1000)","v":""},null,null,{"$f":"IF(lammering[[#This Row],[Verkoop-gewicht]]=\"\",\"\",Berekeningen!L42*1000)","v":""}]
["BE377340167","2019-03-19",244,"O","VL/FT",4.5,null,null,null,"2019-08-09",35,{"$f":"IF(lammering[[#This Row],[Speen-gewicht]]=\"\",\"\",Berekeningen!J43*1000)","v":213.28671328671328},null,null,{"$f":"IF(lammering[[#This Row],[Verkoop-gewicht]]=\"\",\"\",Berekeningen!L43*1000)","v":""}]
["BE377340167","2019-03-19",243,"O","VL/FT",4.7,null,null,null,"2019-08-09",49,{"$f":"IF(lammering[[#This Row],[Speen-gewicht]]=\"\",\"\",Berekeningen!J44*1000)","v":309.79020979020976},null,null,{"$f":"IF(lammering[[#This Row],[Verkoop-gewicht]]=\"\",\"\",Berekeningen!L44*1000)","v":""}]
["BE377340167","2019-03-19",null,"R","VL/FT",4.2,null,"Ja",null,null,null,{"$f":"IF(lammering[[#This Row],[Speen-gewicht]]=\"\",\"\",Berekeningen!J45*1000)","v":""},null,null,{"$f":"IF(lammering[[#This Row],[Verkoop-gewicht]]=\"\",\"\",Berekeningen!L45*1000)","v":""}]
["BE477340175","2019-03-19","GESTOLEN","O","VL/VL",2.4,null,null,null,null,null,{"$f":"IF(lammering[[#This Row],[Speen-gewicht]]=\"\",\"\",Berekeningen!J46*1000)","v":""},null,null,{"$f":"IF(lammering[[#This Row],[Verkoop-gewicht]]=\"\",\"\",Berekeningen!L46*1000)","v":""}]
["BE477340175","2019-03-19",206,"R","VL/VL",3,null,null,null,"2019-07-31",38,{"$f":"IF(lammering[[#This Row],[Speen-gewicht]]=\"\",\"\",Berekeningen!J47*1000)","v":261.19402985074623},"2019-07-31",38,{"$f":"IF(lammering[[#This Row],[Verkoop-gewicht]]=\"\",\"\",Berekeningen!L47*1000)","v":261.19402985074623},80]
["BE577340166","2019-03-20",242,"O","VL/FT",4.0999999999999996,null,null,null,"2019-08-09",49,{"$f":"IF(lammering[[#This Row],[Speen-gewicht]]=\"\",\"\",Berekeningen!J48*1000)","v":316.19718309859149},null,null,{"$f":"IF(lammering[[#This Row],[Verkoop-gewicht]]=\"\",\"\",Berekeningen!L48*1000)","v":""}]
["BE577340166","2019-03-20",235,"R","VL/FT",5,null,null,null,"2019-08-09",61,{"$f":"IF(lammering[[#This Row],[Speen-gewicht]]=\"\",\"\",Berekeningen!J49*1000)","v":394.36619718309856},null,null,{"$f":"IF(lammering[[#This Row],[Verkoop-gewicht]]=\"\",\"\",Berekeningen!L49*1000)","v":""}]
["BE177340138","2019-03-20",200,"O","VL/VL",2.1,null,null,null,"2019-07-27",36,{"$f":"IF(lammering[[#This Row],[Speen-gewicht]]=\"\",\"\",Berekeningen!J50*1000)","v":262.7906976744186},null,null,{"$f":"IF(lammering[[#This Row],[Verkoop-gewicht]]=\"\",\"\",Berekeningen!L50*1000)","v":""}]
["BE177340138","2019-03-20",204,"O","VL/VL",2.9,null,null,null,"2019-07-31",38,{"$f":"IF(lammering[[#This Row],[Speen-gewicht]]=\"\",\"\",Berekeningen!J51*1000)","v":263.90977443609029},"2019-07-31",38,{"$f":"IF(lammering[[#This Row],[Verkoop-gewicht]]=\"\",\"\",Berekeningen!L51*1000)","v":263.90977443609029},100]
["BE177340138","2019-03-20",202,"O","VL/VL",2.8,null,null,null,"2019-07-31",36,{"$f":"IF(lammering[[#This Row],[Speen-gewicht]]=\"\",\"\",Berekeningen!J52*1000)","v":249.62406015037598},"2019-07-31",36,{"$f":"IF(lammering[[#This Row],[Verkoop-gewicht]]=\"\",\"\",Berekeningen!L52*1000)","v":249.62406015037598},90]
["BE177340138","2019-03-20",197,"R","VL/VL",3.1,null,null,null,"2019-07-27",36,{"$f":"IF(lammering[[#This Row],[Speen-gewicht]]=\"\",\"\",Berekeningen!J53*1000)","v":255.03875968992244},null,null,{"$f":"IF(lammering[[#This Row],[Verkoop-gewicht]]=\"\",\"\",Berekeningen!L53*1000)","v":""}]
["BE120","2019-03-20",226,"O","ZB/FT",3.8,null,null,null,"2019-07-31",30,{"$f":"IF(lammering[[#This Row],[Speen-gewicht]]=\"\",\"\",Berekeningen!J54*1000)","v":196.99248120300751},"2019-07-31",30,{"$f":"IF(lammering[[#This Row],[Verkoop-gewicht]]=\"\",\"\",Berekeningen!L54*1000)","v":196.99248120300751},70]
["BE120","2019-03-20",228,"O","ZB/FT",5,null,null,null,"2019-07-31",45,{"$f":"IF(lammering[[#This Row],[Speen-gewicht]]=\"\",\"\",Berekeningen!J55*1000)","v":300.75187969924809},"2019-07-31",45,{"$f":"IF(lammering[[#This Row],[Verkoop-gewicht]]=\"\",\"\",Berekeningen!L55*1000)","v":300.75187969924809},80]
["BE120","2019-03-20",217,"O","ZB/FT",5.0999999999999996,null,null,null,"2019-07-31",32,{"$f":"IF(lammering[[#This Row],[Speen-gewicht]]=\"\",\"\",Berekeningen!J56*1000)","v":202.25563909774436},"2019-07-31",32,{"$f":"IF(lammering[[#This Row],[Verkoop-gewicht]]=\"\",\"\",Berekeningen!L56*1000)","v":202.25563909774436},70]
["BE176710022","2019-03-22",214,"O","ZB/FT",1.8,null,null,null,"2019-07-31",36,{"$f":"IF(lammering[[#This Row],[Speen-gewicht]]=\"\",\"\",Berekeningen!J57*1000)","v":261.06870229007632},"2019-07-31",36,{"$f":"IF(lammering[[#This Row],[Verkoop-gewicht]]=\"\",\"\",Berekeningen!L57*1000)","v":261.06870229007632},90]
["BE176710022","2019-03-22",216,"O","VL/FT",3.6,null,null,null,"2019-07-31",40,{"$f":"IF(lammering[[#This Row],[Speen-gewicht]]=\"\",\"\",Berekeningen!J58*1000)","v":277.86259541984731},"2019-07-31",40,{"$f":"IF(lammering[[#This Row],[Verkoop-gewicht]]=\"\",\"\",Berekeningen!L58*1000)","v":277.86259541984731},80]
["BE176710022","2019-03-22",198,"R","VL/FT",4.5999999999999996,null,null,null,"2019-07-31",50,{"$f":"IF(lammering[[#This Row],[Speen-gewicht]]=\"\",\"\",Berekeningen!J59*1000)","v":346.56488549618319},"2019-07-31",50,{"$f":"IF(lammering[[#This Row],[Verkoop-gewicht]]=\"\",\"\",Berekeningen!L59*1000)","v":346.56488549618319},80]
["BE577340135","2019-03-27",219,"O","VL/VL",3.9,null,null,null,"2019-07-31",38,{"$f":"IF(lammering[[#This Row],[Speen-gewicht]]=\"\",\"\",Berekeningen!J60*1000)","v":270.63492063492066},"2019-07-31",38,{"$f":"IF(lammering[[#This Row],[Verkoop-gewicht]]=\"\",\"\",Berekeningen!L60*1000)","v":270.63492063492066},90]
["BE577340135","2019-03-27",231,"R","VL/VL",3.2,"Ja",null,null,"2019-07-31",31,{"$f":"IF(lammering[[#This Row],[Speen-gewicht]]=\"\",\"\",Berekeningen!J61*1000)","v":220.63492063492063},"2019-07-31",31,{"$f":"IF(lammering[[#This Row],[Verkoop-gewicht]]=\"\",\"\",Berekeningen!L61*1000)","v":220.63492063492063},70]
["BE519886427","2019-03-14",241,"O","ZB/FT",3.1,null,null,null,"2019-08-09",47,{"$f":"IF(lammering[[#This Row],[Speen-gewicht]]=\"\",\"\",Berekeningen!J62*1000)","v":296.62162162162161},null,null,{"$f":"IF(lammering[[#This Row],[Verkoop-gewicht]]=\"\",\"\",Berekeningen!L62*1000)","v":""}]
["BE519886427","2019-03-14",240,"O","ZB/FT",5.0999999999999996,null,null,null,"2019-08-09",55,{"$f":"IF(lammering[[#This Row],[Speen-gewicht]]=\"\",\"\",Berekeningen!J63*1000)","v":337.16216216216213},null,null,{"$f":"IF(lammering[[#This Row],[Verkoop-gewicht]]=\"\",\"\",Berekeningen!L63*1000)","v":""}]
["BE277340162","2019-05-21",224,"R","VL/FT",3,null,null,null,"2019-07-31",32,{"$f":"IF(lammering[[#This Row],[Speen-gewicht]]=\"\",\"\",Berekeningen!J64*1000)","v":408.45070422535213},"2019-07-31",32,{"$f":"IF(lammering[[#This Row],[Verkoop-gewicht]]=\"\",\"\",Berekeningen!L64*1000)","v":408.45070422535213},70]
[null,null,null,null,null,null,null,null,null,null,null,{"$f":"IF(lammering[[#This Row],[Speen-gewicht]]=\"\",\"\",Berekeningen!J65*1000)","v":""},null,null,{"$f":"IF(lammering[[#This Row],[Verkoop-gewicht]]=\"\",\"\",Berekeningen!L65*1000)","v":""}]
[null,null,null,null,null,null,null,null,null,null,null,{"$f":"IF(lammering[[#This Row],[Speen-gewicht]]=\"\",\"\",Berekeningen!J66*1000)","v":""},null,null,{"$f":"IF(lammering[[#This Row],[Verkoop-gewicht]]=\"\",\"\",Berekeningen!L66*1000)","v":""}]
[null,null,null,null,null,null,null,null,null,null,null,{"$f":"IF(lammering[[#This Row],[Speen-gewicht]]=\"\",\"\",Berekeningen!J67*1000)","v":""},null,null,{"$f":"IF(lammering[[#This Row],[Verkoop-gewicht]]=\"\",\"\",Berekeningen!L67*1000)","v":""}]
[null,null,null,null,null,null,null,null,null,null,null,{"$f":"IF(lammering[[#This Row],[Speen-gewicht]]=\"\",\"\",Berekeningen!J68*1000)","v":""},null,null,{"$f":"IF(lammering[[#This Row],[Verkoop-gewicht]]=\"\",\"\",Berekeningen!L68*1000)","v":""}]
[null,null,null,null,null,null,null,null,null,null,null,{"$f":"IF(lammering[[#This Row],[Speen-gewicht]]=\"\",\"\",Berekeningen!J69*1000)","v":""},null,null,{"$f":"IF(lammering[[#This Row],[Verkoop-gewicht]]=\"\",\"\",Berekeningen!L69*1000)","v":""}]
[null,null,null,null,null,null,null,null,null,null,null,{"$f":"IF(lammering[[#This Row],[Speen-gewicht]]=\"\",\"\",Berekeningen!J70*1000)","v":""},null,null,{"$f":"IF(lammering[[#This Row],[Verkoop-gewicht]]=\"\",\"\",Berekeningen!L70*1000)","v":""}]
[null,null,null,null,null,null,null,null,null,null,null,{"$f":"IF(lammering[[#This Row],[Speen-gewicht]]=\"\",\"\",Berekeningen!J71*1000)","v":""},null,null,{"$f":"IF(lammering[[#This Row],[Verkoop-gewicht]]=\"\",\"\",Berekeningen!L71*1000)","v":""}]
[null,null,null,null,null,null,null,null,null,null,null,{"$f":"IF(lammering[[#This Row],[Speen-gewicht]]=\"\",\"\",Berekeningen!J72*1000)","v":""},null,null,{"$f":"IF(lammering[[#This Row],[Verkoop-gewicht]]=\"\",\"\",Berekeningen!L72*1000)","v":""}]
[null,null,null,null,null,null,null,null,null,null,null,{"$f":"IF(lammering[[#This Row],[Speen-gewicht]]=\"\",\"\",Berekeningen!J73*1000)","v":""},null,null,{"$f":"IF(lammering[[#This Row],[Verkoop-gewicht]]=\"\",\"\",Berekeningen!L73*1000)","v":""}]
[null,null,null,null,null,null,null,null,null,null,null,{"$f":"IF(lammering[[#This Row],[Speen-gewicht]]=\"\",\"\",Berekeningen!J74*1000)","v":""},null,null,{"$f":"IF(lammering[[#This Row],[Verkoop-gewicht]]=\"\",\"\",Berekeningen!L74*1000)","v":""}]
[null,null,null,null,null,null,null,null,null,null,null,{"$f":"IF(lammering[[#This Row],[Speen-gewicht]]=\"\",\"\",Berekeningen!J75*1000)","v":""},null,null,{"$f":"IF(lammering[[#This Row],[Verkoop-gewicht]]=\"\",\"\",Berekeningen!L75*1000)","v":""}]
[null,null,null,null,null,null,null,null,null,null,null,{"$f":"IF(lammering[[#This Row],[Speen-gewicht]]=\"\",\"\",Berekeningen!J76*1000)","v":""},null,null,{"$f":"IF(lammering[[#This Row],[Verkoop-gewicht]]=\"\",\"\",Berekeningen!L76*1000)","v":""}]
[null,null,null,null,null,null,null,null,null,null,null,{"$f":"IF(lammering[[#This Row],[Speen-gewicht]]=\"\",\"\",Berekeningen!J77*1000)","v":""},null,null,{"$f":"IF(lammering[[#This Row],[Verkoop-gewicht]]=\"\",\"\",Berekeningen!L77*1000)","v":""}]
[null,null,null,null,null,null,null,null,null,null,null,{"$f":"IF(lammering[[#This Row],[Speen-gewicht]]=\"\",\"\",Berekeningen!J78*1000)","v":""},null,null,{"$f":"IF(lammering[[#This Row],[Verkoop-gewicht]]=\"\",\"\",Berekeningen!L78*1000)","v":""}]
[null,null,null,null,null,null,null,null,null,null,null,{"$f":"IF(lammering[[#This Row],[Speen-gewicht]]=\"\",\"\",Berekeningen!J79*1000)","v":""},null,null,{"$f":"IF(lammering[[#This Row],[Verkoop-gewicht]]=\"\",\"\",Berekeningen!L79*1000)","v":""}]
[null,null,null,null,null,null,null,null,null,null,null,{"$f":"IF(lammering[[#This Row],[Speen-gewicht]]=\"\",\"\",Berekeningen!J80*1000)","v":""},null,null,{"$f":"IF(lammering[[#This Row],[Verkoop-gewicht]]=\"\",\"\",Berekeningen!L80*1000)","v":""}]
[null,null,null,null,null,null,null,null,null,null,null,{"$f":"IF(lammering[[#This Row],[Speen-gewicht]]=\"\",\"\",Berekeningen!J81*1000)","v":""},null,null,{"$f":"IF(lammering[[#This Row],[Verkoop-gewicht]]=\"\",\"\",Berekeningen!L81*1000)","v":""}]
[null,null,null,null,null,null,null,null,null,null,null,{"$f":"IF(lammering[[#This Row],[Speen-gewicht]]=\"\",\"\",Berekeningen!J82*1000)","v":""},null,null,{"$f":"IF(lammering[[#This Row],[Verkoop-gewicht]]=\"\",\"\",Berekeningen!L82*1000)","v":""}]
[null,null,null,null,null,null,null,null,null,null,null,{"$f":"IF(lammering[[#This Row],[Speen-gewicht]]=\"\",\"\",Berekeningen!J83*1000)","v":""},null,null,{"$f":"IF(lammering[[#This Row],[Verkoop-gewicht]]=\"\",\"\",Berekeningen!L83*1000)","v":""}]
[null,null,null,null,null,null,null,null,null,null,null,{"$f":"IF(lammering[[#This Row],[Speen-gewicht]]=\"\",\"\",Berekeningen!J84*1000)","v":""},null,null,{"$f":"IF(lammering[[#This Row],[Verkoop-gewicht]]=\"\",\"\",Berekeningen!L84*1000)","v":""}]
[null,null,null,null,null,null,null,null,null,null,null,{"$f":"IF(lammering[[#This Row],[Speen-gewicht]]=\"\",\"\",Berekeningen!J85*1000)","v":""},null,null,{"$f":"IF(lammering[[#This Row],[Verkoop-gewicht]]=\"\",\"\",Berekeningen!L85*1000)","v":""}]
[null,null,null,null,null,null,null,null,null,null,null,{"$f":"IF(lammering[[#This Row],[Speen-gewicht]]=\"\",\"\",Berekeningen!J86*1000)","v":""},null,null,{"$f":"IF(lammering[[#This Row],[Verkoop-gewicht]]=\"\",\"\",Berekeningen!L86*1000)","v":""}]
[null,null,null,null,null,null,null,null,null,null,null,{"$f":"IF(lammering[[#This Row],[Speen-gewicht]]=\"\",\"\",Berekeningen!J87*1000)","v":""},null,null,{"$f":"IF(lammering[[#This Row],[Verkoop-gewicht]]=\"\",\"\",Berekeningen!L87*1000)","v":""}]
[null,null,null,null,null,null,null,null,null,null,null,{"$f":"IF(lammering[[#This Row],[Speen-gewicht]]=\"\",\"\",Berekeningen!J88*1000)","v":""},null,null,{"$f":"IF(lammering[[#This Row],[Verkoop-gewicht]]=\"\",\"\",Berekeningen!L88*1000)","v":""}]
[null,null,null,null,null,null,null,null,null,null,null,{"$f":"IF(lammering[[#This Row],[Speen-gewicht]]=\"\",\"\",Berekeningen!J89*1000)","v":""},null,null,{"$f":"IF(lammering[[#This Row],[Verkoop-gewicht]]=\"\",\"\",Berekeningen!L89*1000)","v":""}]
[null,null,null,null,null,null,null,null,null,null,null,{"$f":"IF(lammering[[#This Row],[Speen-gewicht]]=\"\",\"\",Berekeningen!J90*1000)","v":""},null,null,{"$f":"IF(lammering[[#This Row],[Verkoop-gewicht]]=\"\",\"\",Berekeningen!L90*1000)","v":""}]
[null,null,null,null,null,null,null,null,null,null,null,{"$f":"IF(lammering[[#This Row],[Speen-gewicht]]=\"\",\"\",Berekeningen!J91*1000)","v":""},null,null,{"$f":"IF(lammering[[#This Row],[Verkoop-gewicht]]=\"\",\"\",Berekeningen!L91*1000)","v":""}]
[null,null,null,null,null,null,null,null,null,null,null,{"$f":"IF(lammering[[#This Row],[Speen-gewicht]]=\"\",\"\",Berekeningen!J92*1000)","v":""},null,null,{"$f":"IF(lammering[[#This Row],[Verkoop-gewicht]]=\"\",\"\",Berekeningen!L92*1000)","v":""}]
[null,null,null,null,null,null,null,null,null,null,null,{"$f":"IF(lammering[[#This Row],[Speen-gewicht]]=\"\",\"\",Berekeningen!J93*1000)","v":""},null,null,{"$f":"IF(lammering[[#This Row],[Verkoop-gewicht]]=\"\",\"\",Berekeningen!L93*1000)","v":""}]
[null,null,null,null,null,null,null,null,null,null,null,{"$f":"IF(lammering[[#This Row],[Speen-gewicht]]=\"\",\"\",Berekeningen!J94*1000)","v":""},null,null,{"$f":"IF(lammering[[#This Row],[Verkoop-gewicht]]=\"\",\"\",Berekeningen!L94*1000)","v":""}]
[null,null,null,null,null,null,null,null,null,null,null,{"$f":"IF(lammering[[#This Row],[Speen-gewicht]]=\"\",\"\",Berekeningen!J95*1000)","v":""},null,null,{"$f":"IF(lammering[[#This Row],[Verkoop-gewicht]]=\"\",\"\",Berekeningen!L95*1000)","v":""}]
[null,null,null,null,null,null,null,null,null,null,null,{"$f":"IF(lammering[[#This Row],[Speen-gewicht]]=\"\",\"\",Berekeningen!J96*1000)","v":""},null,null,{"$f":"IF(lammering[[#This Row],[Verkoop-gewicht]]=\"\",\"\",Berekeningen!L96*1000)","v":""}]
[null,null,null,null,null,null,null,null,null,null,null,{"$f":"IF(lammering[[#This Row],[Speen-gewicht]]=\"\",\"\",Berekeningen!J97*1000)","v":""},null,null,{"$f":"IF(lammering[[#This Row],[Verkoop-gewicht]]=\"\",\"\",Berekeningen!L97*1000)","v":""}]
[null,null,null,null,null,null,null,null,null,null,null,{"$f":"IF(lammering[[#This Row],[Speen-gewicht]]=\"\",\"\",Berekeningen!J98*1000)","v":""},null,null,{"$f":"IF(lammering[[#This Row],[Verkoop-gewicht]]=\"\",\"\",Berekeningen!L98*1000)","v":""}]
[null,null,null,null,null,null,null,null,null,null,null,{"$f":"IF(lammering[[#This Row],[Speen-gewicht]]=\"\",\"\",Berekeningen!J99*1000)","v":""},null,null,{"$f":"IF(lammering[[#This Row],[Verkoop-gewicht]]=\"\",\"\",Berekeningen!L99*1000)","v":""}]
[null,null,null,null,null,null,null,null,null,null,null,{"$f":"IF(lammering[[#This Row],[Speen-gewicht]]=\"\",\"\",Berekeningen!J100*1000)","v":""},null,null,{"$f":"IF(lammering[[#This Row],[Verkoop-gewicht]]=\"\",\"\",Berekeningen!L100*1000)","v":""}]
[null,null,null,null,null,null,null,null,null,null,null,{"$f":"IF(lammering[[#This Row],[Speen-gewicht]]=\"\",\"\",Berekeningen!J101*1000)","v":""},null,null,{"$f":"IF(lammering[[#This Row],[Verkoop-gewicht]]=\"\",\"\",Berekeningen!L101*1000)","v":""}]
[null,null,null,null,null,null,null,null,null,null,null,{"$f":"IF(lammering[[#This Row],[Speen-gewicht]]=\"\",\"\",Berekeningen!J102*1000)","v":""},null,null,{"$f":"IF(lammering[[#This Row],[Verkoop-gewicht]]=\"\",\"\",Berekeningen!L102*1000)","v":""}]
[null,null,null,null,null,null,null,null,null,null,null,{"$f":"IF(lammering[[#This Row],[Speen-gewicht]]=\"\",\"\",Berekeningen!J103*1000)","v":""},null,null,{"$f":"IF(lammering[[#This Row],[Verkoop-gewicht]]=\"\",\"\",Berekeningen!L103*1000)","v":""}]
[null,null,null,null,null,null,null,null,null,null,null,{"$f":"IF(lammering[[#This Row],[Speen-gewicht]]=\"\",\"\",Berekeningen!J104*1000)","v":""},null,null,{"$f":"IF(lammering[[#This Row],[Verkoop-gewicht]]=\"\",\"\",Berekeningen!L104*1000)","v":""}]
[null,null,null,null,null,null,null,null,null,null,null,{"$f":"IF(lammering[[#This Row],[Speen-gewicht]]=\"\",\"\",Berekeningen!J105*1000)","v":""},null,null,{"$f":"IF(lammering[[#This Row],[Verkoop-gewicht]]=\"\",\"\",Berekeningen!L105*1000)","v":""}]
[null,null,null,null,null,null,null,null,null,null,null,{"$f":"IF(lammering[[#This Row],[Speen-gewicht]]=\"\",\"\",Berekeningen!J106*1000)","v":""},null,null,{"$f":"IF(lammering[[#This Row],[Verkoop-gewicht]]=\"\",\"\",Berekeningen!L106*1000)","v":""}]
[null,null,null,null,null,null,null,null,null,null,null,{"$f":"IF(lammering[[#This Row],[Speen-gewicht]]=\"\",\"\",Berekeningen!J107*1000)","v":""},null,null,{"$f":"IF(lammering[[#This Row],[Verkoop-gewicht]]=\"\",\"\",Berekeningen!L107*1000)","v":""}]
[null,null,null,null,null,null,null,null,null,null,null,{"$f":"IF(lammering[[#This Row],[Speen-gewicht]]=\"\",\"\",Berekeningen!J108*1000)","v":""},null,null,{"$f":"IF(lammering[[#This Row],[Verkoop-gewicht]]=\"\",\"\",Berekeningen!L108*1000)","v":""}]
[null,null,null,null,null,null,null,null,null,null,null,{"$f":"IF(lammering[[#This Row],[Speen-gewicht]]=\"\",\"\",Berekeningen!J109*1000)","v":""},null,null,{"$f":"IF(lammering[[#This Row],[Verkoop-gewicht]]=\"\",\"\",Berekeningen!L109*1000)","v":""}]
[null,null,null,null,null,null,null,null,null,null,null,{"$f":"IF(lammering[[#This Row],[Speen-gewicht]]=\"\",\"\",Berekeningen!J110*1000)","v":""},null,null,{"$f":"IF(lammering[[#This Row],[Verkoop-gewicht]]=\"\",\"\",Berekeningen!L110*1000)","v":""}]
[null,null,null,null,null,null,null,null,null,null,null,{"$f":"IF(lammering[[#This Row],[Speen-gewicht]]=\"\",\"\",Berekeningen!J111*1000)","v":""},null,null,{"$f":"IF(lammering[[#This Row],[Verkoop-gewicht]]=\"\",\"\",Berekeningen!L111*1000)","v":""}]
[null,null,null,null,null,null,null,null,null,null,null,{"$f":"IF(lammering[[#This Row],[Speen-gewicht]]=\"\",\"\",Berekeningen!J112*1000)","v":""},null,null,{"$f":"IF(lammering[[#This Row],[Verkoop-gewicht]]=\"\",\"\",Berekeningen!L112*1000)","v":""}]
[null,null,null,null,null,null,null,null,null,null,null,{"$f":"IF(lammering[[#This Row],[Speen-gewicht]]=\"\",\"\",Berekeningen!J113*1000)","v":""},null,null,{"$f":"IF(lammering[[#This Row],[Verkoop-gewicht]]=\"\",\"\",Berekeningen!L113*1000)","v":""}]
[null,null,null,null,null,null,null,null,null,null,null,{"$f":"IF(lammering[[#This Row],[Speen-gewicht]]=\"\",\"\",Berekeningen!J114*1000)","v":""},null,null,{"$f":"IF(lammering[[#This Row],[Verkoop-gewicht]]=\"\",\"\",Berekeningen!L114*1000)","v":""}]
[null,null,null,null,null,null,null,null,null,null,null,{"$f":"IF(lammering[[#This Row],[Speen-gewicht]]=\"\",\"\",Berekeningen!J115*1000)","v":""},null,null,{"$f":"IF(lammering[[#This Row],[Verkoop-gewicht]]=\"\",\"\",Berekeningen!L115*1000)","v":""}]
[null,null,null,null,null,null,null,null,null,null,null,{"$f":"IF(lammering[[#This Row],[Speen-gewicht]]=\"\",\"\",Berekeningen!J116*1000)","v":""},null,null,{"$f":"IF(lammering[[#This Row],[Verkoop-gewicht]]=\"\",\"\",Berekeningen!L116*1000)","v":""}]
[null,null,null,null,null,null,null,null,null,null,null,{"$f":"IF(lammering[[#This Row],[Speen-gewicht]]=\"\",\"\",Berekeningen!J117*1000)","v":""},null,null,{"$f":"IF(lammering[[#This Row],[Verkoop-gewicht]]=\"\",\"\",Berekeningen!L117*1000)","v":""}]
[null,null,null,null,null,null,null,null,null,null,null,{"$f":"IF(lammering[[#This Row],[Speen-gewicht]]=\"\",\"\",Berekeningen!J118*1000)","v":""},null,null,{"$f":"IF(lammering[[#This Row],[Verkoop-gewicht]]=\"\",\"\",Berekeningen!L118*1000)","v":""}]
[null,null,null,null,null,null,null,null,null,null,null,{"$f":"IF(lammering[[#This Row],[Speen-gewicht]]=\"\",\"\",Berekeningen!J119*1000)","v":""},null,null,{"$f":"IF(lammering[[#This Row],[Verkoop-gewicht]]=\"\",\"\",Berekeningen!L119*1000)","v":""}]
[null,null,null,null,null,null,null,null,null,null,null,{"$f":"IF(lammering[[#This Row],[Speen-gewicht]]=\"\",\"\",Berekeningen!J120*1000)","v":""},null,null,{"$f":"IF(lammering[[#This Row],[Verkoop-gewicht]]=\"\",\"\",Berekeningen!L120*1000)","v":""}]
[null,null,null,null,null,null,null,null,null,null,null,{"$f":"IF(lammering[[#This Row],[Speen-gewicht]]=\"\",\"\",Berekeningen!J121*1000)","v":""},null,null,{"$f":"IF(lammering[[#This Row],[Verkoop-gewicht]]=\"\",\"\",Berekeningen!L121*1000)","v":""}]
[null,null,null,null,null,null,null,null,null,null,null,{"$f":"IF(lammering[[#This Row],[Speen-gewicht]]=\"\",\"\",Berekeningen!J122*1000)","v":""},null,null,{"$f":"IF(lammering[[#This Row],[Verkoop-gewicht]]=\"\",\"\",Berekeningen!L122*1000)","v":""}]
[null,null,null,null,null,null,null,null,null,null,null,{"$f":"IF(lammering[[#This Row],[Speen-gewicht]]=\"\",\"\",Berekeningen!J123*1000)","v":""},null,null,{"$f":"IF(lammering[[#This Row],[Verkoop-gewicht]]=\"\",\"\",Berekeningen!L123*1000)","v":""}]
[null,null,null,null,null,null,null,null,null,null,null,{"$f":"IF(lammering[[#This Row],[Speen-gewicht]]=\"\",\"\",Berekeningen!J124*1000)","v":""},null,null,{"$f":"IF(lammering[[#This Row],[Verkoop-gewicht]]=\"\",\"\",Berekeningen!L124*1000)","v":""}]
[null,null,null,null,null,null,null,null,null,null,null,{"$f":"IF(lammering[[#This Row],[Speen-gewicht]]=\"\",\"\",Berekeningen!J125*1000)","v":""},null,null,{"$f":"IF(lammering[[#This Row],[Verkoop-gewicht]]=\"\",\"\",Berekeningen!L125*1000)","v":""}]
[null,null,null,null,null,null,null,null,null,null,null,{"$f":"IF(lammering[[#This Row],[Speen-gewicht]]=\"\",\"\",Berekeningen!J126*1000)","v":""},null,null,{"$f":"IF(lammering[[#This Row],[Verkoop-gewicht]]=\"\",\"\",Berekeningen!L126*1000)","v":""}]
[null,null,null,null,null,null,null,null,null,null,null,{"$f":"IF(lammering[[#This Row],[Speen-gewicht]]=\"\",\"\",Berekeningen!J127*1000)","v":""},null,null,{"$f":"IF(lammering[[#This Row],[Verkoop-gewicht]]=\"\",\"\",Berekeningen!L127*1000)","v":""}]
[null,null,null,null,null,null,null,null,null,null,null,{"$f":"IF(lammering[[#This Row],[Speen-gewicht]]=\"\",\"\",Berekeningen!J128*1000)","v":""},null,null,{"$f":"IF(lammering[[#This Row],[Verkoop-gewicht]]=\"\",\"\",Berekeningen!L128*1000)","v":""}]
[null,null,null,null,null,null,null,null,null,null,null,{"$f":"IF(lammering[[#This Row],[Speen-gewicht]]=\"\",\"\",Berekeningen!J129*1000)","v":""},null,null,{"$f":"IF(lammering[[#This Row],[Verkoop-gewicht]]=\"\",\"\",Berekeningen!L129*1000)","v":""}]
[null,null,null,null,null,null,null,null,null,null,null,{"$f":"IF(lammering[[#This Row],[Speen-gewicht]]=\"\",\"\",Berekeningen!J130*1000)","v":""},null,null,{"$f":"IF(lammering[[#This Row],[Verkoop-gewicht]]=\"\",\"\",Berekeningen!L130*1000)","v":""}]
[null,null,null,null,null,null,null,null,null,null,null,{"$f":"IF(lammering[[#This Row],[Speen-gewicht]]=\"\",\"\",Berekeningen!J131*1000)","v":""},null,null,{"$f":"IF(lammering[[#This Row],[Verkoop-gewicht]]=\"\",\"\",Berekeningen!L131*1000)","v":""}]
[null,null,null,null,null,null,null,null,null,null,null,{"$f":"IF(lammering[[#This Row],[Speen-gewicht]]=\"\",\"\",Berekeningen!J132*1000)","v":""},null,null,{"$f":"IF(lammering[[#This Row],[Verkoop-gewicht]]=\"\",\"\",Berekeningen!L132*1000)","v":""}]
[null,null,null,null,null,null,null,null,null,null,null,{"$f":"IF(lammering[[#This Row],[Speen-gewicht]]=\"\",\"\",Berekeningen!J133*1000)","v":""},null,null,{"$f":"IF(lammering[[#This Row],[Verkoop-gewicht]]=\"\",\"\",Berekeningen!L133*1000)","v":""}]
[null,null,null,null,null,null,null,null,null,null,null,{"$f":"IF(lammering[[#This Row],[Speen-gewicht]]=\"\",\"\",Berekeningen!J134*1000)","v":""},null,null,{"$f":"IF(lammering[[#This Row],[Verkoop-gewicht]]=\"\",\"\",Berekeningen!L134*1000)","v":""}]
[null,null,null,null,null,null,null,null,null,null,null,{"$f":"IF(lammering[[#This Row],[Speen-gewicht]]=\"\",\"\",Berekeningen!J135*1000)","v":""},null,null,{"$f":"IF(lammering[[#This Row],[Verkoop-gewicht]]=\"\",\"\",Berekeningen!L135*1000)","v":""}]
[null,null,null,null,null,null,null,null,null,null,null,{"$f":"IF(lammering[[#This Row],[Speen-gewicht]]=\"\",\"\",Berekeningen!J136*1000)","v":""},null,null,{"$f":"IF(lammering[[#This Row],[Verkoop-gewicht]]=\"\",\"\",Berekeningen!L136*1000)","v":""}]
[null,null,null,null,null,null,null,null,null,null,null,{"$f":"IF(lammering[[#This Row],[Speen-gewicht]]=\"\",\"\",Berekeningen!J137*1000)","v":""},null,null,{"$f":"IF(lammering[[#This Row],[Verkoop-gewicht]]=\"\",\"\",Berekeningen!L137*1000)","v":""}]
[null,null,null,null,null,null,null,null,null,null,null,{"$f":"IF(lammering[[#This Row],[Speen-gewicht]]=\"\",\"\",Berekeningen!J138*1000)","v":""},null,null,{"$f":"IF(lammering[[#This Row],[Verkoop-gewicht]]=\"\",\"\",Berekeningen!L138*1000)","v":""}]
[null,null,null,null,null,null,null,null,null,null,null,{"$f":"IF(lammering[[#This Row],[Speen-gewicht]]=\"\",\"\",Berekeningen!J139*1000)","v":""},null,null,{"$f":"IF(lammering[[#This Row],[Verkoop-gewicht]]=\"\",\"\",Berekeningen!L139*1000)","v":""}]
[null,null,null,null,null,null,null,null,null,null,null,{"$f":"IF(lammering[[#This Row],[Speen-gewicht]]=\"\",\"\",Berekeningen!J140*1000)","v":""},null,null,{"$f":"IF(lammering[[#This Row],[Verkoop-gewicht]]=\"\",\"\",Berekeningen!L140*1000)","v":""}]
[null,null,null,null,null,null,null,null,null,null,null,{"$f":"IF(lammering[[#This Row],[Speen-gewicht]]=\"\",\"\",Berekeningen!J141*1000)","v":""},null,null,{"$f":"IF(lammering[[#This Row],[Verkoop-gewicht]]=\"\",\"\",Berekeningen!L141*1000)","v":""}]
[null,null,null,null,null,null,null,null,null,null,null,{"$f":"IF(lammering[[#This Row],[Speen-gewicht]]=\"\",\"\",Berekeningen!J142*1000)","v":""},null,null,{"$f":"IF(lammering[[#This Row],[Verkoop-gewicht]]=\"\",\"\",Berekeningen!L142*1000)","v":""}]
[null,null,null,null,null,null,null,null,null,null,null,{"$f":"IF(lammering[[#This Row],[Speen-gewicht]]=\"\",\"\",Berekeningen!J143*1000)","v":""},null,null,{"$f":"IF(lammering[[#This Row],[Verkoop-gewicht]]=\"\",\"\",Berekeningen!L143*1000)","v":""}]
[null,null,null,null,null,null,null,null,null,null,null,{"$f":"IF(lammering[[#This Row],[Speen-gewicht]]=\"\",\"\",Berekeningen!J144*1000)","v":""},null,null,{"$f":"IF(lammering[[#This Row],[Verkoop-gewicht]]=\"\",\"\",Berekeningen!L144*1000)","v":""}]
[null,null,null,null,null,null,null,null,null,null,null,{"$f":"IF(lammering[[#This Row],[Speen-gewicht]]=\"\",\"\",Berekeningen!J145*1000)","v":""},null,null,{"$f":"IF(lammering[[#This Row],[Verkoop-gewicht]]=\"\",\"\",Berekeningen!L145*1000)","v":""}]
[null,null,null,null,null,null,null,null,null,null,null,{"$f":"IF(lammering[[#This Row],[Speen-gewicht]]=\"\",\"\",Berekeningen!J146*1000)","v":""},null,null,{"$f":"IF(lammering[[#This Row],[Verkoop-gewicht]]=\"\",\"\",Berekeningen!L146*1000)","v":""}]
[null,null,null,null,null,null,null,null,null,null,null,{"$f":"IF(lammering[[#This Row],[Speen-gewicht]]=\"\",\"\",Berekeningen!J147*1000)","v":""},null,null,{"$f":"IF(lammering[[#This Row],[Verkoop-gewicht]]=\"\",\"\",Berekeningen!L147*1000)","v":""}]
[null,null,null,null,null,null,null,null,null,null,null,{"$f":"IF(lammering[[#This Row],[Speen-gewicht]]=\"\",\"\",Berekeningen!J148*1000)","v":""},null,null,{"$f":"IF(lammering[[#This Row],[Verkoop-gewicht]]=\"\",\"\",Berekeningen!L148*1000)","v":""}]
[null,null,null,null,null,null,null,null,null,null,null,{"$f":"IF(lammering[[#This Row],[Speen-gewicht]]=\"\",\"\",Berekeningen!J149*1000)","v":""},null,null,{"$f":"IF(lammering[[#This Row],[Verkoop-gewicht]]=\"\",\"\",Berekeningen!L149*1000)","v":""}]
[null,null,null,null,null,null,null,null,null,null,null,{"$f":"IF(lammering[[#This Row],[Speen-gewicht]]=\"\",\"\",Berekeningen!J150*1000)","v":""},null,null,{"$f":"IF(lammering[[#This Row],[Verkoop-gewicht]]=\"\",\"\",Berekeningen!L150*1000)","v":""}]
[null,null,null,null,null,null,null,null,null,null,null,{"$f":"IF(lammering[[#This Row],[Speen-gewicht]]=\"\",\"\",Berekeningen!J151*1000)","v":""},null,null,{"$f":"IF(lammering[[#This Row],[Verkoop-gewicht]]=\"\",\"\",Berekeningen!L151*1000)","v":""}]
[null,null,null,null,null,null,null,null,null,null,null,{"$f":"IF(lammering[[#This Row],[Speen-gewicht]]=\"\",\"\",Berekeningen!J152*1000)","v":""},null,null,{"$f":"IF(lammering[[#This Row],[Verkoop-gewicht]]=\"\",\"\",Berekeningen!L152*1000)","v":""}]
[null,null,null,null,null,null,null,null,null,null,null,{"$f":"IF(lammering[[#This Row],[Speen-gewicht]]=\"\",\"\",Berekeningen!J153*1000)","v":""},null,null,{"$f":"IF(lammering[[#This Row],[Verkoop-gewicht]]=\"\",\"\",Berekeningen!L153*1000)","v":""}]
[null,null,null,null,null,null,null,null,null,null,null,{"$f":"IF(lammering[[#This Row],[Speen-gewicht]]=\"\",\"\",Berekeningen!J154*1000)","v":""},null,null,{"$f":"IF(lammering[[#This Row],[Verkoop-gewicht]]=\"\",\"\",Berekeningen!L154*1000)","v":""}]
[null,null,null,null,null,null,null,null,null,null,null,{"$f":"IF(lammering[[#This Row],[Speen-gewicht]]=\"\",\"\",Berekeningen!J155*1000)","v":""},null,null,{"$f":"IF(lammering[[#This Row],[Verkoop-gewicht]]=\"\",\"\",Berekeningen!L155*1000)","v":""}]
[null,null,null,null,null,null,null,null,null,null,null,{"$f":"IF(lammering[[#This Row],[Speen-gewicht]]=\"\",\"\",Berekeningen!J156*1000)","v":""},null,null,{"$f":"IF(lammering[[#This Row],[Verkoop-gewicht]]=\"\",\"\",Berekeningen!L156*1000)","v":""}]
[null,null,null,null,null,null,null,null,null,null,null,{"$f":"IF(lammering[[#This Row],[Speen-gewicht]]=\"\",\"\",Berekeningen!J157*1000)","v":""},null,null,{"$f":"IF(lammering[[#This Row],[Verkoop-gewicht]]=\"\",\"\",Berekeningen!L157*1000)","v":""}]
[null,null,null,null,null,null,null,null,null,null,null,{"$f":"IF(lammering[[#This Row],[Speen-gewicht]]=\"\",\"\",Berekeningen!J158*1000)","v":""},null,null,{"$f":"IF(lammering[[#This Row],[Verkoop-gewicht]]=\"\",\"\",Berekeningen!L158*1000)","v":""}]
[null,null,null,null,null,null,null,null,null,null,null,{"$f":"IF(lammering[[#This Row],[Speen-gewicht]]=\"\",\"\",Berekeningen!J159*1000)","v":""},null,null,{"$f":"IF(lammering[[#This Row],[Verkoop-gewicht]]=\"\",\"\",Berekeningen!L159*1000)","v":""}]
[null,null,null,null,null,null,null,null,null,null,null,{"$f":"IF(lammering[[#This Row],[Speen-gewicht]]=\"\",\"\",Berekeningen!J160*1000)","v":""},null,null,{"$f":"IF(lammering[[#This Row],[Verkoop-gewicht]]=\"\",\"\",Berekeningen!L160*1000)","v":""}]
[null,null,null,null,null,null,null,null,null,null,null,{"$f":"IF(lammering[[#This Row],[Speen-gewicht]]=\"\",\"\",Berekeningen!J161*1000)","v":""},null,null,{"$f":"IF(lammering[[#This Row],[Verkoop-gewicht]]=\"\",\"\",Berekeningen!L161*1000)","v":""}]
[null,null,null,null,null,null,null,null,null,null,null,{"$f":"IF(lammering[[#This Row],[Speen-gewicht]]=\"\",\"\",Berekeningen!J162*1000)","v":""},null,null,{"$f":"IF(lammering[[#This Row],[Verkoop-gewicht]]=\"\",\"\",Berekeningen!L162*1000)","v":""}]
[null,null,null,null,null,null,null,null,null,null,null,{"$f":"IF(lammering[[#This Row],[Speen-gewicht]]=\"\",\"\",Berekeningen!J163*1000)","v":""},null,null,{"$f":"IF(lammering[[#This Row],[Verkoop-gewicht]]=\"\",\"\",Berekeningen!L163*1000)","v":""}]
[null,null,null,null,null,null,null,null,null,null,null,{"$f":"IF(lammering[[#This Row],[Speen-gewicht]]=\"\",\"\",Berekeningen!J164*1000)","v":""},null,null,{"$f":"IF(lammering[[#This Row],[Verkoop-gewicht]]=\"\",\"\",Berekeningen!L164*1000)","v":""}]
[null,null,null,null,null,null,null,null,null,null,null,{"$f":"IF(lammering[[#This Row],[Speen-gewicht]]=\"\",\"\",Berekeningen!J165*1000)","v":""},null,null,{"$f":"IF(lammering[[#This Row],[Verkoop-gewicht]]=\"\",\"\",Berekeningen!L165*1000)","v":""}]
[null,null,null,null,null,null,null,null,null,null,null,{"$f":"IF(lammering[[#This Row],[Speen-gewicht]]=\"\",\"\",Berekeningen!J166*1000)","v":""},null,null,{"$f":"IF(lammering[[#This Row],[Verkoop-gewicht]]=\"\",\"\",Berekeningen!L166*1000)","v":""}]
[null,null,null,null,null,null,null,null,null,null,null,{"$f":"IF(lammering[[#This Row],[Speen-gewicht]]=\"\",\"\",Berekeningen!J167*1000)","v":""},null,null,{"$f":"IF(lammering[[#This Row],[Verkoop-gewicht]]=\"\",\"\",Berekeningen!L167*1000)","v":""}]
[null,null,null,null,null,null,null,null,null,null,null,{"$f":"IF(lammering[[#This Row],[Speen-gewicht]]=\"\",\"\",Berekeningen!J168*1000)","v":""},null,null,{"$f":"IF(lammering[[#This Row],[Verkoop-gewicht]]=\"\",\"\",Berekeningen!L168*1000)","v":""}]
[null,null,null,null,null,null,null,null,null,null,null,{"$f":"IF(lammering[[#This Row],[Speen-gewicht]]=\"\",\"\",Berekeningen!J169*1000)","v":""},null,null,{"$f":"IF(lammering[[#This Row],[Verkoop-gewicht]]=\"\",\"\",Berekeningen!L169*1000)","v":""}]
[null,null,null,null,null,null,null,null,null,null,null,{"$f":"IF(lammering[[#This Row],[Speen-gewicht]]=\"\",\"\",Berekeningen!J170*1000)","v":""},null,null,{"$f":"IF(lammering[[#This Row],[Verkoop-gewicht]]=\"\",\"\",Berekeningen!L170*1000)","v":""}]
[null,null,null,null,null,null,null,null,null,null,null,{"$f":"IF(lammering[[#This Row],[Speen-gewicht]]=\"\",\"\",Berekeningen!J171*1000)","v":""},null,null,{"$f":"IF(lammering[[#This Row],[Verkoop-gewicht]]=\"\",\"\",Berekeningen!L171*1000)","v":""}]
[null,null,null,null,null,null,null,null,null,null,null,{"$f":"IF(lammering[[#This Row],[Speen-gewicht]]=\"\",\"\",Berekeningen!J172*1000)","v":""},null,null,{"$f":"IF(lammering[[#This Row],[Verkoop-gewicht]]=\"\",\"\",Berekeningen!L172*1000)","v":""}]
[null,null,null,null,null,null,null,null,null,null,null,{"$f":"IF(lammering[[#This Row],[Speen-gewicht]]=\"\",\"\",Berekeningen!J173*1000)","v":""},null,null,{"$f":"IF(lammering[[#This Row],[Verkoop-gewicht]]=\"\",\"\",Berekeningen!L173*1000)","v":""}]
[null,null,null,null,null,null,null,null,null,null,null,{"$f":"IF(lammering[[#This Row],[Speen-gewicht]]=\"\",\"\",Berekeningen!J174*1000)","v":""},null,null,{"$f":"IF(lammering[[#This Row],[Verkoop-gewicht]]=\"\",\"\",Berekeningen!L174*1000)","v":""}]
[null,null,null,null,null,null,null,null,null,null,null,{"$f":"IF(lammering[[#This Row],[Speen-gewicht]]=\"\",\"\",Berekeningen!J175*1000)","v":""},null,null,{"$f":"IF(lammering[[#This Row],[Verkoop-gewicht]]=\"\",\"\",Berekeningen!L175*1000)","v":""}]
[null,null,null,null,null,null,null,null,null,null,null,{"$f":"IF(lammering[[#This Row],[Speen-gewicht]]=\"\",\"\",Berekeningen!J176*1000)","v":""},null,null,{"$f":"IF(lammering[[#This Row],[Verkoop-gewicht]]=\"\",\"\",Berekeningen!L176*1000)","v":""}]
[null,null,null,null,null,null,null,null,null,null,null,{"$f":"IF(lammering[[#This Row],[Speen-gewicht]]=\"\",\"\",Berekeningen!J177*1000)","v":""},null,null,{"$f":"IF(lammering[[#This Row],[Verkoop-gewicht]]=\"\",\"\",Berekeningen!L177*1000)","v":""}]
[null,null,null,null,null,null,null,null,null,null,null,{"$f":"IF(lammering[[#This Row],[Speen-gewicht]]=\"\",\"\",Berekeningen!J178*1000)","v":""},null,null,{"$f":"IF(lammering[[#This Row],[Verkoop-gewicht]]=\"\",\"\",Berekeningen!L178*1000)","v":""}]
[null,null,null,null,null,null,null,null,null,null,null,{"$f":"IF(lammering[[#This Row],[Speen-gewicht]]=\"\",\"\",Berekeningen!J179*1000)","v":""},null,null,{"$f":"IF(lammering[[#This Row],[Verkoop-gewicht]]=\"\",\"\",Berekeningen!L179*1000)","v":""}]
[null,null,null,null,null,null,null,null,null,null,null,{"$f":"IF(lammering[[#This Row],[Speen-gewicht]]=\"\",\"\",Berekeningen!J180*1000)","v":""},null,null,{"$f":"IF(lammering[[#This Row],[Verkoop-gewicht]]=\"\",\"\",Berekeningen!L180*1000)","v":""}]
[null,null,null,null,null,null,null,null,null,null,null,{"$f":"IF(lammering[[#This Row],[Speen-gewicht]]=\"\",\"\",Berekeningen!J181*1000)","v":""},null,null,{"$f":"IF(lammering[[#This Row],[Verkoop-gewicht]]=\"\",\"\",Berekeningen!L181*1000)","v":""}]
[null,null,null,null,null,null,null,null,null,null,null,{"$f":"IF(lammering[[#This Row],[Speen-gewicht]]=\"\",\"\",Berekeningen!J182*1000)","v":""},null,null,{"$f":"IF(lammering[[#This Row],[Verkoop-gewicht]]=\"\",\"\",Berekeningen!L182*1000)","v":""}]
[null,null,null,null,null,null,null,null,null,null,null,{"$f":"IF(lammering[[#This Row],[Speen-gewicht]]=\"\",\"\",Berekeningen!J183*1000)","v":""},null,null,{"$f":"IF(lammering[[#This Row],[Verkoop-gewicht]]=\"\",\"\",Berekeningen!L183*1000)","v":""}]
[null,null,null,null,null,null,null,null,null,null,null,{"$f":"IF(lammering[[#This Row],[Speen-gewicht]]=\"\",\"\",Berekeningen!J184*1000)","v":""},null,null,{"$f":"IF(lammering[[#This Row],[Verkoop-gewicht]]=\"\",\"\",Berekeningen!L184*1000)","v":""}]
[null,null,null,null,null,null,null,null,null,null,null,{"$f":"IF(lammering[[#This Row],[Speen-gewicht]]=\"\",\"\",Berekeningen!J185*1000)","v":""},null,null,{"$f":"IF(lammering[[#This Row],[Verkoop-gewicht]]=\"\",\"\",Berekeningen!L185*1000)","v":""}]
[null,null,null,null,null,null,null,null,null,null,null,{"$f":"IF(lammering[[#This Row],[Speen-gewicht]]=\"\",\"\",Berekeningen!J186*1000)","v":""},null,null,{"$f":"IF(lammering[[#This Row],[Verkoop-gewicht]]=\"\",\"\",Berekeningen!L186*1000)","v":""}]
[null,null,null,null,null,null,null,null,null,null,null,{"$f":"IF(lammering[[#This Row],[Speen-gewicht]]=\"\",\"\",Berekeningen!J187*1000)","v":""},null,null,{"$f":"IF(lammering[[#This Row],[Verkoop-gewicht]]=\"\",\"\",Berekeningen!L187*1000)","v":""}]
[null,null,null,null,null,null,null,null,null,null,null,{"$f":"IF(lammering[[#This Row],[Speen-gewicht]]=\"\",\"\",Berekeningen!J188*1000)","v":""},null,null,{"$f":"IF(lammering[[#This Row],[Verkoop-gewicht]]=\"\",\"\",Berekeningen!L188*1000)","v":""}]
[null,null,null,null,null,null,null,null,null,null,null,{"$f":"IF(lammering[[#This Row],[Speen-gewicht]]=\"\",\"\",Berekeningen!J189*1000)","v":""},null,null,{"$f":"IF(lammering[[#This Row],[Verkoop-gewicht]]=\"\",\"\",Berekeningen!L189*1000)","v":""}]
[null,null,null,null,null,null,null,null,null,null,null,{"$f":"IF(lammering[[#This Row],[Speen-gewicht]]=\"\",\"\",Berekeningen!J190*1000)","v":""},null,null,{"$f":"IF(lammering[[#This Row],[Verkoop-gewicht]]=\"\",\"\",Berekeningen!L190*1000)","v":""}]
[null,null,null,null,null,null,null,null,null,null,null,{"$f":"IF(lammering[[#This Row],[Speen-gewicht]]=\"\",\"\",Berekeningen!J191*1000)","v":""},null,null,{"$f":"IF(lammering[[#This Row],[Verkoop-gewicht]]=\"\",\"\",Berekeningen!L191*1000)","v":""}]
[null,null,null,null,null,null,null,null,null,null,null,{"$f":"IF(lammering[[#This Row],[Speen-gewicht]]=\"\",\"\",Berekeningen!J192*1000)","v":""},null,null,{"$f":"IF(lammering[[#This Row],[Verkoop-gewicht]]=\"\",\"\",Berekeningen!L192*1000)","v":""}]
[null,null,null,null,null,null,null,null,null,null,null,{"$f":"IF(lammering[[#This Row],[Speen-gewicht]]=\"\",\"\",Berekeningen!J193*1000)","v":""},null,null,{"$f":"IF(lammering[[#This Row],[Verkoop-gewicht]]=\"\",\"\",Berekeningen!L193*1000)","v":""}]
[null,null,null,null,null,null,null,null,null,null,null,{"$f":"IF(lammering[[#This Row],[Speen-gewicht]]=\"\",\"\",Berekeningen!J194*1000)","v":""},null,null,{"$f":"IF(lammering[[#This Row],[Verkoop-gewicht]]=\"\",\"\",Berekeningen!L194*1000)","v":""}]
[null,null,null,null,null,null,null,null,null,null,null,{"$f":"IF(lammering[[#This Row],[Speen-gewicht]]=\"\",\"\",Berekeningen!J195*1000)","v":""},null,null,{"$f":"IF(lammering[[#This Row],[Verkoop-gewicht]]=\"\",\"\",Berekeningen!L195*1000)","v":""}]
[null,null,null,null,null,null,null,null,null,null,null,{"$f":"IF(lammering[[#This Row],[Speen-gewicht]]=\"\",\"\",Berekeningen!J196*1000)","v":""},null,null,{"$f":"IF(lammering[[#This Row],[Verkoop-gewicht]]=\"\",\"\",Berekeningen!L196*1000)","v":""}]
[null,null,null,null,null,null,null,null,null,null,null,{"$f":"IF(lammering[[#This Row],[Speen-gewicht]]=\"\",\"\",Berekeningen!J197*1000)","v":""},null,null,{"$f":"IF(lammering[[#This Row],[Verkoop-gewicht]]=\"\",\"\",Berekeningen!L197*1000)","v":""}]
[null,null,null,null,null,null,null,null,null,null,null,{"$f":"IF(lammering[[#This Row],[Speen-gewicht]]=\"\",\"\",Berekeningen!J198*1000)","v":""},null,null,{"$f":"IF(lammering[[#This Row],[Verkoop-gewicht]]=\"\",\"\",Berekeningen!L198*1000)","v":""}]
[null,null,null,null,null,null,null,null,null,null,null,{"$f":"IF(lammering[[#This Row],[Speen-gewicht]]=\"\",\"\",Berekeningen!J199*1000)","v":""},null,null,{"$f":"IF(lammering[[#This Row],[Verkoop-gewicht]]=\"\",\"\",Berekeningen!L199*1000)","v":""}]
[null,null,null,null,null,null,null,null,null,null,null,{"$f":"IF(lammering[[#This Row],[Speen-gewicht]]=\"\",\"\",Berekeningen!J200*1000)","v":""},null,null,{"$f":"IF(lammering[[#This Row],[Verkoop-gewicht]]=\"\",\"\",Berekeningen!L200*1000)","v":""}]
[null,null,null,null,null,null,null,null,null,null,null,{"$f":"IF(lammering[[#This Row],[Speen-gewicht]]=\"\",\"\",Berekeningen!J201*1000)","v":""},null,null,{"$f":"IF(lammering[[#This Row],[Verkoop-gewicht]]=\"\",\"\",Berekeningen!L201*1000)","v":""}]
[null,null,null,null,null,null,null,null,null,null,null,{"$f":"IF(lammering[[#This Row],[Speen-gewicht]]=\"\",\"\",Berekeningen!J202*1000)","v":""},null,null,{"$f":"IF(lammering[[#This Row],[Verkoop-gewicht]]=\"\",\"\",Berekeningen!L202*1000)","v":""}]
[null,null,null,null,null,null,null,null,null,null,null,{"$f":"IF(lammering[[#This Row],[Speen-gewicht]]=\"\",\"\",Berekeningen!J203*1000)","v":""},null,null,{"$f":"IF(lammering[[#This Row],[Verkoop-gewicht]]=\"\",\"\",Berekeningen!L203*1000)","v":""}]
[null,null,null,null,null,null,null,null,null,null,null,{"$f":"IF(lammering[[#This Row],[Speen-gewicht]]=\"\",\"\",Berekeningen!J204*1000)","v":""},null,null,{"$f":"IF(lammering[[#This Row],[Verkoop-gewicht]]=\"\",\"\",Berekeningen!L204*1000)","v":""}]
[null,null,null,null,null,null,null,null,null,null,null,{"$f":"IF(lammering[[#This Row],[Speen-gewicht]]=\"\",\"\",Berekeningen!J205*1000)","v":""},null,null,{"$f":"IF(lammering[[#This Row],[Verkoop-gewicht]]=\"\",\"\",Berekeningen!L205*1000)","v":""}]
[null,null,null,null,null,null,null,null,null,null,null,{"$f":"IF(lammering[[#This Row],[Speen-gewicht]]=\"\",\"\",Berekeningen!J206*1000)","v":""},null,null,{"$f":"IF(lammering[[#This Row],[Verkoop-gewicht]]=\"\",\"\",Berekeningen!L206*1000)","v":""}]
[null,null,null,null,null,null,null,null,null,null,null,{"$f":"IF(lammering[[#This Row],[Speen-gewicht]]=\"\",\"\",Berekeningen!J207*1000)","v":""},null,null,{"$f":"IF(lammering[[#This Row],[Verkoop-gewicht]]=\"\",\"\",Berekeningen!L207*1000)","v":""}]
[null,null,null,null,null,null,null,null,null,null,null,{"$f":"IF(lammering[[#This Row],[Speen-gewicht]]=\"\",\"\",Berekeningen!J208*1000)","v":""},null,null,{"$f":"IF(lammering[[#This Row],[Verkoop-gewicht]]=\"\",\"\",Berekeningen!L208*1000)","v":""}]
[null,null,null,null,null,null,null,null,null,null,null,{"$f":"IF(lammering[[#This Row],[Speen-gewicht]]=\"\",\"\",Berekeningen!J209*1000)","v":""},null,null,{"$f":"IF(lammering[[#This Row],[Verkoop-gewicht]]=\"\",\"\",Berekeningen!L209*1000)","v":""}]
[null,null,null,null,null,null,null,null,null,null,null,{"$f":"IF(lammering[[#This Row],[Speen-gewicht]]=\"\",\"\",Berekeningen!J210*1000)","v":""},null,null,{"$f":"IF(lammering[[#This Row],[Verkoop-gewicht]]=\"\",\"\",Berekeningen!L210*1000)","v":""}]
[null,null,null,null,null,null,null,null,null,null,null,{"$f":"IF(lammering[[#This Row],[Speen-gewicht]]=\"\",\"\",Berekeningen!J211*1000)","v":""},null,null,{"$f":"IF(lammering[[#This Row],[Verkoop-gewicht]]=\"\",\"\",Berekeningen!L211*1000)","v":""}]
[null,null,null,null,null,null,null,null,null,null,null,{"$f":"IF(lammering[[#This Row],[Speen-gewicht]]=\"\",\"\",Berekeningen!J212*1000)","v":""},null,null,{"$f":"IF(lammering[[#This Row],[Verkoop-gewicht]]=\"\",\"\",Berekeningen!L212*1000)","v":""}]
[null,null,null,null,null,null,null,null,null,null,null,{"$f":"IF(lammering[[#This Row],[Speen-gewicht]]=\"\",\"\",Berekeningen!J213*1000)","v":""},null,null,{"$f":"IF(lammering[[#This Row],[Verkoop-gewicht]]=\"\",\"\",Berekeningen!L213*1000)","v":""}]
[null,null,null,null,null,null,null,null,null,null,null,{"$f":"IF(lammering[[#This Row],[Speen-gewicht]]=\"\",\"\",Berekeningen!J214*1000)","v":""},null,null,{"$f":"IF(lammering[[#This Row],[Verkoop-gewicht]]=\"\",\"\",Berekeningen!L214*1000)","v":""}]
[null,null,null,null,null,null,null,null,null,null,null,{"$f":"IF(lammering[[#This Row],[Speen-gewicht]]=\"\",\"\",Berekeningen!J215*1000)","v":""},null,null,{"$f":"IF(lammering[[#This Row],[Verkoop-gewicht]]=\"\",\"\",Berekeningen!L215*1000)","v":""}]
[null,null,null,null,null,null,null,null,null,null,null,{"$f":"IF(lammering[[#This Row],[Speen-gewicht]]=\"\",\"\",Berekeningen!J216*1000)","v":""},null,null,{"$f":"IF(lammering[[#This Row],[Verkoop-gewicht]]=\"\",\"\",Berekeningen!L216*1000)","v":""}]
[null,null,null,null,null,null,null,null,null,null,null,{"$f":"IF(lammering[[#This Row],[Speen-gewicht]]=\"\",\"\",Berekeningen!J217*1000)","v":""},null,null,{"$f":"IF(lammering[[#This Row],[Verkoop-gewicht]]=\"\",\"\",Berekeningen!L217*1000)","v":""}]
[null,null,null,null,null,null,null,null,null,null,null,{"$f":"IF(lammering[[#This Row],[Speen-gewicht]]=\"\",\"\",Berekeningen!J218*1000)","v":""},null,null,{"$f":"IF(lammering[[#This Row],[Verkoop-gewicht]]=\"\",\"\",Berekeningen!L218*1000)","v":""}]
[null,null,null,null,null,null,null,null,null,null,null,{"$f":"IF(lammering[[#This Row],[Speen-gewicht]]=\"\",\"\",Berekeningen!J219*1000)","v":""},null,null,{"$f":"IF(lammering[[#This Row],[Verkoop-gewicht]]=\"\",\"\",Berekeningen!L219*1000)","v":""}]
[null,null,null,null,null,null,null,null,null,null,null,{"$f":"IF(lammering[[#This Row],[Speen-gewicht]]=\"\",\"\",Berekeningen!J220*1000)","v":""},null,null,{"$f":"IF(lammering[[#This Row],[Verkoop-gewicht]]=\"\",\"\",Berekeningen!L220*1000)","v":""}]
[null,null,null,null,null,null,null,null,null,null,null,{"$f":"IF(lammering[[#This Row],[Speen-gewicht]]=\"\",\"\",Berekeningen!J221*1000)","v":""},null,null,{"$f":"IF(lammering[[#This Row],[Verkoop-gewicht]]=\"\",\"\",Berekeningen!L221*1000)","v":""}]
[null,null,null,null,null,null,null,null,null,null,null,{"$f":"IF(lammering[[#This Row],[Speen-gewicht]]=\"\",\"\",Berekeningen!J222*1000)","v":""},null,null,{"$f":"IF(lammering[[#This Row],[Verkoop-gewicht]]=\"\",\"\",Berekeningen!L222*1000)","v":""}]
[null,null,null,null,null,null,null,null,null,null,null,{"$f":"IF(lammering[[#This Row],[Speen-gewicht]]=\"\",\"\",Berekeningen!J223*1000)","v":""},null,null,{"$f":"IF(lammering[[#This Row],[Verkoop-gewicht]]=\"\",\"\",Berekeningen!L223*1000)","v":""}]
[null,null,null,null,null,null,null,null,null,null,null,{"$f":"IF(lammering[[#This Row],[Speen-gewicht]]=\"\",\"\",Berekeningen!J224*1000)","v":""},null,null,{"$f":"IF(lammering[[#This Row],[Verkoop-gewicht]]=\"\",\"\",Berekeningen!L224*1000)","v":""}]
[null,null,null,null,null,null,null,null,null,null,null,{"$f":"IF(lammering[[#This Row],[Speen-gewicht]]=\"\",\"\",Berekeningen!J225*1000)","v":""},null,null,{"$f":"IF(lammering[[#This Row],[Verkoop-gewicht]]=\"\",\"\",Berekeningen!L225*1000)","v":""}]
[null,null,null,null,null,null,null,null,null,null,null,{"$f":"IF(lammering[[#This Row],[Speen-gewicht]]=\"\",\"\",Berekeningen!J226*1000)","v":""},null,null,{"$f":"IF(lammering[[#This Row],[Verkoop-gewicht]]=\"\",\"\",Berekeningen!L226*1000)","v":""}]
[null,null,null,null,null,null,null,null,null,null,null,{"$f":"IF(lammering[[#This Row],[Speen-gewicht]]=\"\",\"\",Berekeningen!J227*1000)","v":""},null,null,{"$f":"IF(lammering[[#This Row],[Verkoop-gewicht]]=\"\",\"\",Berekeningen!L227*1000)","v":""}]
[null,null,null,null,null,null,null,null,null,null,null,{"$f":"IF(lammering[[#This Row],[Speen-gewicht]]=\"\",\"\",Berekeningen!J228*1000)","v":""},null,null,{"$f":"IF(lammering[[#This Row],[Verkoop-gewicht]]=\"\",\"\",Berekeningen!L228*1000)","v":""}]
[null,null,null,null,null,null,null,null,null,null,null,{"$f":"IF(lammering[[#This Row],[Speen-gewicht]]=\"\",\"\",Berekeningen!J229*1000)","v":""},null,null,{"$f":"IF(lammering[[#This Row],[Verkoop-gewicht]]=\"\",\"\",Berekeningen!L229*1000)","v":""}]
[null,null,null,null,null,null,null,null,null,null,null,{"$f":"IF(lammering[[#This Row],[Speen-gewicht]]=\"\",\"\",Berekeningen!J230*1000)","v":""},null,null,{"$f":"IF(lammering[[#This Row],[Verkoop-gewicht]]=\"\",\"\",Berekeningen!L230*1000)","v":""}]
[null,null,null,null,null,null,null,null,null,null,null,{"$f":"IF(lammering[[#This Row],[Speen-gewicht]]=\"\",\"\",Berekeningen!J231*1000)","v":""},null,null,{"$f":"IF(lammering[[#This Row],[Verkoop-gewicht]]=\"\",\"\",Berekeningen!L231*1000)","v":""}]
[null,null,null,null,null,null,null,null,null,null,null,{"$f":"IF(lammering[[#This Row],[Speen-gewicht]]=\"\",\"\",Berekeningen!J232*1000)","v":""},null,null,{"$f":"IF(lammering[[#This Row],[Verkoop-gewicht]]=\"\",\"\",Berekeningen!L232*1000)","v":""}]
[null,null,null,null,null,null,null,null,null,null,null,{"$f":"IF(lammering[[#This Row],[Speen-gewicht]]=\"\",\"\",Berekeningen!J233*1000)","v":""},null,null,{"$f":"IF(lammering[[#This Row],[Verkoop-gewicht]]=\"\",\"\",Berekeningen!L233*1000)","v":""}]
[null,null,null,null,null,null,null,null,null,null,null,{"$f":"IF(lammering[[#This Row],[Speen-gewicht]]=\"\",\"\",Berekeningen!J234*1000)","v":""},null,null,{"$f":"IF(lammering[[#This Row],[Verkoop-gewicht]]=\"\",\"\",Berekeningen!L234*1000)","v":""}]
[null,null,null,null,null,null,null,null,null,null,null,{"$f":"IF(lammering[[#This Row],[Speen-gewicht]]=\"\",\"\",Berekeningen!J235*1000)","v":""},null,null,{"$f":"IF(lammering[[#This Row],[Verkoop-gewicht]]=\"\",\"\",Berekeningen!L235*1000)","v":""}]
[null,null,null,null,null,null,null,null,null,null,null,{"$f":"IF(lammering[[#This Row],[Speen-gewicht]]=\"\",\"\",Berekeningen!J236*1000)","v":""},null,null,{"$f":"IF(lammering[[#This Row],[Verkoop-gewicht]]=\"\",\"\",Berekeningen!L236*1000)","v":""}]
[null,null,null,null,null,null,null,null,null,null,null,{"$f":"IF(lammering[[#This Row],[Speen-gewicht]]=\"\",\"\",Berekeningen!J237*1000)","v":""},null,null,{"$f":"IF(lammering[[#This Row],[Verkoop-gewicht]]=\"\",\"\",Berekeningen!L237*1000)","v":""}]
[null,null,null,null,null,null,null,null,null,null,null,{"$f":"IF(lammering[[#This Row],[Speen-gewicht]]=\"\",\"\",Berekeningen!J238*1000)","v":""},null,null,{"$f":"IF(lammering[[#This Row],[Verkoop-gewicht]]=\"\",\"\",Berekeningen!L238*1000)","v":""}]
[null,null,null,null,null,null,null,null,null,null,null,{"$f":"IF(lammering[[#This Row],[Speen-gewicht]]=\"\",\"\",Berekeningen!J239*1000)","v":""},null,null,{"$f":"IF(lammering[[#This Row],[Verkoop-gewicht]]=\"\",\"\",Berekeningen!L239*1000)","v":""}]
[null,null,null,null,null,null,null,null,null,null,null,{"$f":"IF(lammering[[#This Row],[Speen-gewicht]]=\"\",\"\",Berekeningen!J240*1000)","v":""},null,null,{"$f":"IF(lammering[[#This Row],[Verkoop-gewicht]]=\"\",\"\",Berekeningen!L240*1000)","v":""}]
[null,null,null,null,null,null,null,null,null,null,null,{"$f":"IF(lammering[[#This Row],[Speen-gewicht]]=\"\",\"\",Berekeningen!J241*1000)","v":""},null,null,{"$f":"IF(lammering[[#This Row],[Verkoop-gewicht]]=\"\",\"\",Berekeningen!L241*1000)","v":""}]
[null,null,null,null,null,null,null,null,null,null,null,{"$f":"IF(lammering[[#This Row],[Speen-gewicht]]=\"\",\"\",Berekeningen!J242*1000)","v":""},null,null,{"$f":"IF(lammering[[#This Row],[Verkoop-gewicht]]=\"\",\"\",Berekeningen!L242*1000)","v":""}]
[null,null,null,null,null,null,null,null,null,null,null,{"$f":"IF(lammering[[#This Row],[Speen-gewicht]]=\"\",\"\",Berekeningen!J243*1000)","v":""},null,null,{"$f":"IF(lammering[[#This Row],[Verkoop-gewicht]]=\"\",\"\",Berekeningen!L243*1000)","v":""}]
[null,null,null,null,null,null,null,null,null,null,null,{"$f":"IF(lammering[[#This Row],[Speen-gewicht]]=\"\",\"\",Berekeningen!J244*1000)","v":""},null,null,{"$f":"IF(lammering[[#This Row],[Verkoop-gewicht]]=\"\",\"\",Berekeningen!L244*1000)","v":""}]
[null,null,null,null,null,null,null,null,null,null,null,{"$f":"IF(lammering[[#This Row],[Speen-gewicht]]=\"\",\"\",Berekeningen!J245*1000)","v":""},null,null,{"$f":"IF(lammering[[#This Row],[Verkoop-gewicht]]=\"\",\"\",Berekeningen!L245*1000)","v":""}]
[null,null,null,null,null,null,null,null,null,null,null,{"$f":"IF(lammering[[#This Row],[Speen-gewicht]]=\"\",\"\",Berekeningen!J246*1000)","v":""},null,null,{"$f":"IF(lammering[[#This Row],[Verkoop-gewicht]]=\"\",\"\",Berekeningen!L246*1000)","v":""}]
[null,null,null,null,null,null,null,null,null,null,null,{"$f":"IF(lammering[[#This Row],[Speen-gewicht]]=\"\",\"\",Berekeningen!J247*1000)","v":""},null,null,{"$f":"IF(lammering[[#This Row],[Verkoop-gewicht]]=\"\",\"\",Berekeningen!L247*1000)","v":""}]
[null,null,null,null,null,null,null,null,null,null,null,{"$f":"IF(lammering[[#This Row],[Speen-gewicht]]=\"\",\"\",Berekeningen!J248*1000)","v":""},null,null,{"$f":"IF(lammering[[#This Row],[Verkoop-gewicht]]=\"\",\"\",Berekeningen!L248*1000)","v":""}]
[null,null,null,null,null,null,null,null,null,null,null,{"$f":"IF(lammering[[#This Row],[Speen-gewicht]]=\"\",\"\",Berekeningen!J249*1000)","v":""},null,null,{"$f":"IF(lammering[[#This Row],[Verkoop-gewicht]]=\"\",\"\",Berekeningen!L249*1000)","v":""}]
[null,null,null,null,null,null,null,null,null,null,null,{"$f":"IF(lammering[[#This Row],[Speen-gewicht]]=\"\",\"\",Berekeningen!J250*1000)","v":""},null,null,{"$f":"IF(lammering[[#This Row],[Verkoop-gewicht]]=\"\",\"\",Berekeningen!L250*1000)","v":""}]
[null,null,null,null,null,null,null,null,null,null,null,{"$f":"IF(lammering[[#This Row],[Speen-gewicht]]=\"\",\"\",Berekeningen!J251*1000)","v":""},null,null,{"$f":"IF(lammering[[#This Row],[Verkoop-gewicht]]=\"\",\"\",Berekeningen!L251*1000)","v":""}]
[null,null,null,null,null,null,null,null,null,null,null,{"$f":"IF(lammering[[#This Row],[Speen-gewicht]]=\"\",\"\",Berekeningen!J252*1000)","v":""},null,null,{"$f":"IF(lammering[[#This Row],[Verkoop-gewicht]]=\"\",\"\",Berekeningen!L252*1000)","v":""}]
[null,null,null,null,null,null,null,null,null,null,null,{"$f":"IF(lammering[[#This Row],[Speen-gewicht]]=\"\",\"\",Berekeningen!J253*1000)","v":""},null,null,{"$f":"IF(lammering[[#This Row],[Verkoop-gewicht]]=\"\",\"\",Berekeningen!L253*1000)","v":""}]
[null,null,null,null,null,null,null,null,null,null,null,{"$f":"IF(lammering[[#This Row],[Speen-gewicht]]=\"\",\"\",Berekeningen!J254*1000)","v":""},null,null,{"$f":"IF(lammering[[#This Row],[Verkoop-gewicht]]=\"\",\"\",Berekeningen!L254*1000)","v":""}]
[null,null,null,null,null,null,null,null,null,null,null,{"$f":"IF(lammering[[#This Row],[Speen-gewicht]]=\"\",\"\",Berekeningen!J255*1000)","v":""},null,null,{"$f":"IF(lammering[[#This Row],[Verkoop-gewicht]]=\"\",\"\",Berekeningen!L255*1000)","v":""}]
[null,null,null,null,null,null,null,null,null,null,null,{"$f":"IF(lammering[[#This Row],[Speen-gewicht]]=\"\",\"\",Berekeningen!J256*1000)","v":""},null,null,{"$f":"IF(lammering[[#This Row],[Verkoop-gewicht]]=\"\",\"\",Berekeningen!L256*1000)","v":""}]
[null,null,null,null,null,null,null,null,null,null,null,{"$f":"IF(lammering[[#This Row],[Speen-gewicht]]=\"\",\"\",Berekeningen!J257*1000)","v":""},null,null,{"$f":"IF(lammering[[#This Row],[Verkoop-gewicht]]=\"\",\"\",Berekeningen!L257*1000)","v":""}]
[null,null,null,null,null,null,null,null,null,null,null,{"$f":"IF(lammering[[#This Row],[Speen-gewicht]]=\"\",\"\",Berekeningen!J258*1000)","v":""},null,null,{"$f":"IF(lammering[[#This Row],[Verkoop-gewicht]]=\"\",\"\",Berekeningen!L258*1000)","v":""}]
[null,null,null,null,null,null,null,null,null,null,null,{"$f":"IF(lammering[[#This Row],[Speen-gewicht]]=\"\",\"\",Berekeningen!J259*1000)","v":""},null,null,{"$f":"IF(lammering[[#This Row],[Verkoop-gewicht]]=\"\",\"\",Berekeningen!L259*1000)","v":""}]
[null,null,null,null,null,null,null,null,null,null,null,{"$f":"IF(lammering[[#This Row],[Speen-gewicht]]=\"\",\"\",Berekeningen!J260*1000)","v":""},null,null,{"$f":"IF(lammering[[#This Row],[Verkoop-gewicht]]=\"\",\"\",Berekeningen!L260*1000)","v":""}]
[null,null,null,null,null,null,null,null,null,null,null,{"$f":"IF(lammering[[#This Row],[Speen-gewicht]]=\"\",\"\",Berekeningen!J261*1000)","v":""},null,null,{"$f":"IF(lammering[[#This Row],[Verkoop-gewicht]]=\"\",\"\",Berekeningen!L261*1000)","v":""}]
[null,null,null,null,null,null,null,null,null,null,null,{"$f":"IF(lammering[[#This Row],[Speen-gewicht]]=\"\",\"\",Berekeningen!J262*1000)","v":""},null,null,{"$f":"IF(lammering[[#This Row],[Verkoop-gewicht]]=\"\",\"\",Berekeningen!L262*1000)","v":""}]
[null,null,null,null,null,null,null,null,null,null,null,{"$f":"IF(lammering[[#This Row],[Speen-gewicht]]=\"\",\"\",Berekeningen!J263*1000)","v":""},null,null,{"$f":"IF(lammering[[#This Row],[Verkoop-gewicht]]=\"\",\"\",Berekeningen!L263*1000)","v":""}]
[null,null,null,null,null,null,null,null,null,null,null,{"$f":"IF(lammering[[#This Row],[Speen-gewicht]]=\"\",\"\",Berekeningen!J264*1000)","v":""},null,null,{"$f":"IF(lammering[[#This Row],[Verkoop-gewicht]]=\"\",\"\",Berekeningen!L264*1000)","v":""}]
[null,null,null,null,null,null,null,null,null,null,null,{"$f":"IF(lammering[[#This Row],[Speen-gewicht]]=\"\",\"\",Berekeningen!J265*1000)","v":""},null,null,{"$f":"IF(lammering[[#This Row],[Verkoop-gewicht]]=\"\",\"\",Berekeningen!L265*1000)","v":""}]
[null,null,null,null,null,null,null,null,null,null,null,{"$f":"IF(lammering[[#This Row],[Speen-gewicht]]=\"\",\"\",Berekeningen!J266*1000)","v":""},null,null,{"$f":"IF(lammering[[#This Row],[Verkoop-gewicht]]=\"\",\"\",Berekeningen!L266*1000)","v":""}]
[null,null,null,null,null,null,null,null,null,null,null,{"$f":"IF(lammering[[#This Row],[Speen-gewicht]]=\"\",\"\",Berekeningen!J267*1000)","v":""},null,null,{"$f":"IF(lammering[[#This Row],[Verkoop-gewicht]]=\"\",\"\",Berekeningen!L267*1000)","v":""}]
[null,null,null,null,null,null,null,null,null,null,null,{"$f":"IF(lammering[[#This Row],[Speen-gewicht]]=\"\",\"\",Berekeningen!J268*1000)","v":""},null,null,{"$f":"IF(lammering[[#This Row],[Verkoop-gewicht]]=\"\",\"\",Berekeningen!L268*1000)","v":""}]
[null,null,null,null,null,null,null,null,null,null,null,{"$f":"IF(lammering[[#This Row],[Speen-gewicht]]=\"\",\"\",Berekeningen!J269*1000)","v":""},null,null,{"$f":"IF(lammering[[#This Row],[Verkoop-gewicht]]=\"\",\"\",Berekeningen!L269*1000)","v":""}]
[null,null,null,null,null,null,null,null,null,null,null,{"$f":"IF(lammering[[#This Row],[Speen-gewicht]]=\"\",\"\",Berekeningen!J270*1000)","v":""},null,null,{"$f":"IF(lammering[[#This Row],[Verkoop-gewicht]]=\"\",\"\",Berekeningen!L270*1000)","v":""}]
[null,null,null,null,null,null,null,null,null,null,null,{"$f":"IF(lammering[[#This Row],[Speen-gewicht]]=\"\",\"\",Berekeningen!J271*1000)","v":""},null,null,{"$f":"IF(lammering[[#This Row],[Verkoop-gewicht]]=\"\",\"\",Berekeningen!L271*1000)","v":""}]
[null,null,null,null,null,null,null,null,null,null,null,{"$f":"IF(lammering[[#This Row],[Speen-gewicht]]=\"\",\"\",Berekeningen!J272*1000)","v":""},null,null,{"$f":"IF(lammering[[#This Row],[Verkoop-gewicht]]=\"\",\"\",Berekeningen!L272*1000)","v":""}]
[null,null,null,null,null,null,null,null,null,null,null,{"$f":"IF(lammering[[#This Row],[Speen-gewicht]]=\"\",\"\",Berekeningen!J273*1000)","v":""},null,null,{"$f":"IF(lammering[[#This Row],[Verkoop-gewicht]]=\"\",\"\",Berekeningen!L273*1000)","v":""}]
[null,null,null,null,null,null,null,null,null,null,null,{"$f":"IF(lammering[[#This Row],[Speen-gewicht]]=\"\",\"\",Berekeningen!J274*1000)","v":""},null,null,{"$f":"IF(lammering[[#This Row],[Verkoop-gewicht]]=\"\",\"\",Berekeningen!L274*1000)","v":""}]
[null,null,null,null,null,null,null,null,null,null,null,{"$f":"IF(lammering[[#This Row],[Speen-gewicht]]=\"\",\"\",Berekeningen!J275*1000)","v":""},null,null,{"$f":"IF(lammering[[#This Row],[Verkoop-gewicht]]=\"\",\"\",Berekeningen!L275*1000)","v":""}]
[null,null,null,null,null,null,null,null,null,null,null,{"$f":"IF(lammering[[#This Row],[Speen-gewicht]]=\"\",\"\",Berekeningen!J276*1000)","v":""},null,null,{"$f":"IF(lammering[[#This Row],[Verkoop-gewicht]]=\"\",\"\",Berekeningen!L276*1000)","v":""}]
[null,null,null,null,null,null,null,null,null,null,null,{"$f":"IF(lammering[[#This Row],[Speen-gewicht]]=\"\",\"\",Berekeningen!J277*1000)","v":""},null,null,{"$f":"IF(lammering[[#This Row],[Verkoop-gewicht]]=\"\",\"\",Berekeningen!L277*1000)","v":""}]
[null,null,null,null,null,null,null,null,null,null,null,{"$f":"IF(lammering[[#This Row],[Speen-gewicht]]=\"\",\"\",Berekeningen!J278*1000)","v":""},null,null,{"$f":"IF(lammering[[#This Row],[Verkoop-gewicht]]=\"\",\"\",Berekeningen!L278*1000)","v":""}]
[null,null,null,null,null,null,null,null,null,null,null,{"$f":"IF(lammering[[#This Row],[Speen-gewicht]]=\"\",\"\",Berekeningen!J279*1000)","v":""},null,null,{"$f":"IF(lammering[[#This Row],[Verkoop-gewicht]]=\"\",\"\",Berekeningen!L279*1000)","v":""}]
[null,null,null,null,null,null,null,null,null,null,null,{"$f":"IF(lammering[[#This Row],[Speen-gewicht]]=\"\",\"\",Berekeningen!J280*1000)","v":""},null,null,{"$f":"IF(lammering[[#This Row],[Verkoop-gewicht]]=\"\",\"\",Berekeningen!L280*1000)","v":""}]
[null,null,null,null,null,null,null,null,null,null,null,{"$f":"IF(lammering[[#This Row],[Speen-gewicht]]=\"\",\"\",Berekeningen!J281*1000)","v":""},null,null,{"$f":"IF(lammering[[#This Row],[Verkoop-gewicht]]=\"\",\"\",Berekeningen!L281*1000)","v":""}]
[null,null,null,null,null,null,null,null,null,null,null,{"$f":"IF(lammering[[#This Row],[Speen-gewicht]]=\"\",\"\",Berekeningen!J282*1000)","v":""},null,null,{"$f":"IF(lammering[[#This Row],[Verkoop-gewicht]]=\"\",\"\",Berekeningen!L282*1000)","v":""}]
[null,null,null,null,null,null,null,null,null,null,null,{"$f":"IF(lammering[[#This Row],[Speen-gewicht]]=\"\",\"\",Berekeningen!J283*1000)","v":""},null,null,{"$f":"IF(lammering[[#This Row],[Verkoop-gewicht]]=\"\",\"\",Berekeningen!L283*1000)","v":""}]
[null,null,null,null,null,null,null,null,null,null,null,{"$f":"IF(lammering[[#This Row],[Speen-gewicht]]=\"\",\"\",Berekeningen!J284*1000)","v":""},null,null,{"$f":"IF(lammering[[#This Row],[Verkoop-gewicht]]=\"\",\"\",Berekeningen!L284*1000)","v":""}]
[null,null,null,null,null,null,null,null,null,null,null,{"$f":"IF(lammering[[#This Row],[Speen-gewicht]]=\"\",\"\",Berekeningen!J285*1000)","v":""},null,null,{"$f":"IF(lammering[[#This Row],[Verkoop-gewicht]]=\"\",\"\",Berekeningen!L285*1000)","v":""}]
[null,null,null,null,null,null,null,null,null,null,null,{"$f":"IF(lammering[[#This Row],[Speen-gewicht]]=\"\",\"\",Berekeningen!J286*1000)","v":""},null,null,{"$f":"IF(lammering[[#This Row],[Verkoop-gewicht]]=\"\",\"\",Berekeningen!L286*1000)","v":""}]
[null,null,null,null,null,null,null,null,null,null,null,{"$f":"IF(lammering[[#This Row],[Speen-gewicht]]=\"\",\"\",Berekeningen!J287*1000)","v":""},null,null,{"$f":"IF(lammering[[#This Row],[Verkoop-gewicht]]=\"\",\"\",Berekeningen!L287*1000)","v":""}]
[null,null,null,null,null,null,null,null,null,null,null,{"$f":"IF(lammering[[#This Row],[Speen-gewicht]]=\"\",\"\",Berekeningen!J288*1000)","v":""},null,null,{"$f":"IF(lammering[[#This Row],[Verkoop-gewicht]]=\"\",\"\",Berekeningen!L288*1000)","v":""}]
[null,null,null,null,null,null,null,null,null,null,null,{"$f":"IF(lammering[[#This Row],[Speen-gewicht]]=\"\",\"\",Berekeningen!J289*1000)","v":""},null,null,{"$f":"IF(lammering[[#This Row],[Verkoop-gewicht]]=\"\",\"\",Berekeningen!L289*1000)","v":""}]
[null,null,null,null,null,null,null,null,null,null,null,{"$f":"IF(lammering[[#This Row],[Speen-gewicht]]=\"\",\"\",Berekeningen!J290*1000)","v":""},null,null,{"$f":"IF(lammering[[#This Row],[Verkoop-gewicht]]=\"\",\"\",Berekeningen!L290*1000)","v":""}]
[null,null,null,null,null,null,null,null,null,null,null,{"$f":"IF(lammering[[#This Row],[Speen-gewicht]]=\"\",\"\",Berekeningen!J291*1000)","v":""},null,null,{"$f":"IF(lammering[[#This Row],[Verkoop-gewicht]]=\"\",\"\",Berekeningen!L291*1000)","v":""}]
[null,null,null,null,null,null,null,null,null,null,null,{"$f":"IF(lammering[[#This Row],[Speen-gewicht]]=\"\",\"\",Berekeningen!J292*1000)","v":""},null,null,{"$f":"IF(lammering[[#This Row],[Verkoop-gewicht]]=\"\",\"\",Berekeningen!L292*1000)","v":""}]
[null,null,null,null,null,null,null,null,null,null,null,{"$f":"IF(lammering[[#This Row],[Speen-gewicht]]=\"\",\"\",Berekeningen!J293*1000)","v":""},null,null,{"$f":"IF(lammering[[#This Row],[Verkoop-gewicht]]=\"\",\"\",Berekeningen!L293*1000)","v":""}]
[null,null,null,null,null,null,null,null,null,null,null,{"$f":"IF(lammering[[#This Row],[Speen-gewicht]]=\"\",\"\",Berekeningen!J294*1000)","v":""},null,null,{"$f":"IF(lammering[[#This Row],[Verkoop-gewicht]]=\"\",\"\",Berekeningen!L294*1000)","v":""}]
[null,null,null,null,null,null,null,null,null,null,null,{"$f":"IF(lammering[[#This Row],[Speen-gewicht]]=\"\",\"\",Berekeningen!J295*1000)","v":""},null,null,{"$f":"IF(lammering[[#This Row],[Verkoop-gewicht]]=\"\",\"\",Berekeningen!L295*1000)","v":""}]
[null,null,null,null,null,null,null,null,null,null,null,{"$f":"IF(lammering[[#This Row],[Speen-gewicht]]=\"\",\"\",Berekeningen!J296*1000)","v":""},null,null,{"$f":"IF(lammering[[#This Row],[Verkoop-gewicht]]=\"\",\"\",Berekeningen!L296*1000)","v":""}]
[null,null,null,null,null,null,null,null,null,null,null,{"$f":"IF(lammering[[#This Row],[Speen-gewicht]]=\"\",\"\",Berekeningen!J297*1000)","v":""},null,null,{"$f":"IF(lammering[[#This Row],[Verkoop-gewicht]]=\"\",\"\",Berekeningen!L297*1000)","v":""}]
[null,null,null,null,null,null,null,null,null,null,null,{"$f":"IF(lammering[[#This Row],[Speen-gewicht]]=\"\",\"\",Berekeningen!J298*1000)","v":""},null,null,{"$f":"IF(lammering[[#This Row],[Verkoop-gewicht]]=\"\",\"\",Berekeningen!L298*1000)","v":""}]
[null,null,null,null,null,null,null,null,null,null,null,{"$f":"IF(lammering[[#This Row],[Speen-gewicht]]=\"\",\"\",Berekeningen!J299*1000)","v":""},null,null,{"$f":"IF(lammering[[#This Row],[Verkoop-gewicht]]=\"\",\"\",Berekeningen!L299*1000)","v":""}]
[null,null,null,null,null,null,null,null,null,null,null,{"$f":"IF(lammering[[#This Row],[Speen-gewicht]]=\"\",\"\",Berekeningen!J300*1000)","v":""},null,null,{"$f":"IF(lammering[[#This Row],[Verkoop-gewicht]]=\"\",\"\",Berekeningen!L300*1000)","v":""}]
[null,null,null,null,null,null,null,null,null,null,null,{"$f":"IF(lammering[[#This Row],[Speen-gewicht]]=\"\",\"\",Berekeningen!J301*1000)","v":""},null,null,{"$f":"IF(lammering[[#This Row],[Verkoop-gewicht]]=\"\",\"\",Berekeningen!L301*1000)","v":""}]
[null,null,null,null,null,null,null,null,null,null,null,{"$f":"IF(lammering[[#This Row],[Speen-gewicht]]=\"\",\"\",Berekeningen!J302*1000)","v":""},null,null,{"$f":"IF(lammering[[#This Row],[Verkoop-gewicht]]=\"\",\"\",Berekeningen!L302*1000)","v":""}]
[null,null,null,null,null,null,null,null,null,null,null,{"$f":"IF(lammering[[#This Row],[Speen-gewicht]]=\"\",\"\",Berekeningen!J303*1000)","v":""},null,null,{"$f":"IF(lammering[[#This Row],[Verkoop-gewicht]]=\"\",\"\",Berekeningen!L303*1000)","v":""}]
[null,null,null,null,null,null,null,null,null,null,null,{"$f":"IF(lammering[[#This Row],[Speen-gewicht]]=\"\",\"\",Berekeningen!J304*1000)","v":""},null,null,{"$f":"IF(lammering[[#This Row],[Verkoop-gewicht]]=\"\",\"\",Berekeningen!L304*1000)","v":""}]
[null,null,null,null,null,null,null,null,null,null,null,{"$f":"IF(lammering[[#This Row],[Speen-gewicht]]=\"\",\"\",Berekeningen!J305*1000)","v":""},null,null,{"$f":"IF(lammering[[#This Row],[Verkoop-gewicht]]=\"\",\"\",Berekeningen!L305*1000)","v":""}]
[null,null,null,null,null,null,null,null,null,null,null,{"$f":"IF(lammering[[#This Row],[Speen-gewicht]]=\"\",\"\",Berekeningen!J306*1000)","v":""},null,null,{"$f":"IF(lammering[[#This Row],[Verkoop-gewicht]]=\"\",\"\",Berekeningen!L306*1000)","v":""}]
[null,null,null,null,null,null,null,null,null,null,null,{"$f":"IF(lammering[[#This Row],[Speen-gewicht]]=\"\",\"\",Berekeningen!J307*1000)","v":""},null,null,{"$f":"IF(lammering[[#This Row],[Verkoop-gewicht]]=\"\",\"\",Berekeningen!L307*1000)","v":""}]
[null,null,null,null,null,null,null,null,null,null,null,{"$f":"IF(lammering[[#This Row],[Speen-gewicht]]=\"\",\"\",Berekeningen!J308*1000)","v":""},null,null,{"$f":"IF(lammering[[#This Row],[Verkoop-gewicht]]=\"\",\"\",Berekeningen!L308*1000)","v":""}]
[null,null,null,null,null,null,null,null,null,null,null,{"$f":"IF(lammering[[#This Row],[Speen-gewicht]]=\"\",\"\",Berekeningen!J309*1000)","v":""},null,null,{"$f":"IF(lammering[[#This Row],[Verkoop-gewicht]]=\"\",\"\",Berekeningen!L309*1000)","v":""}]
[null,null,null,null,null,null,null,null,null,null,null,{"$f":"IF(lammering[[#This Row],[Speen-gewicht]]=\"\",\"\",Berekeningen!J310*1000)","v":""},null,null,{"$f":"IF(lammering[[#This Row],[Verkoop-gewicht]]=\"\",\"\",Berekeningen!L310*1000)","v":""}]
[null,null,null,null,null,null,null,null,null,null,null,{"$f":"IF(lammering[[#This Row],[Speen-gewicht]]=\"\",\"\",Berekeningen!J311*1000)","v":""},null,null,{"$f":"IF(lammering[[#This Row],[Verkoop-gewicht]]=\"\",\"\",Berekeningen!L311*1000)","v":""}]
[null,null,null,null,null,null,null,null,null,null,null,{"$f":"IF(lammering[[#This Row],[Speen-gewicht]]=\"\",\"\",Berekeningen!J312*1000)","v":""},null,null,{"$f":"IF(lammering[[#This Row],[Verkoop-gewicht]]=\"\",\"\",Berekeningen!L312*1000)","v":""}]
[null,null,null,null,null,null,null,null,null,null,null,{"$f":"IF(lammering[[#This Row],[Speen-gewicht]]=\"\",\"\",Berekeningen!J313*1000)","v":""},null,null,{"$f":"IF(lammering[[#This Row],[Verkoop-gewicht]]=\"\",\"\",Berekeningen!L313*1000)","v":""}]
[null,null,null,null,null,null,null,null,null,null,null,{"$f":"IF(lammering[[#This Row],[Speen-gewicht]]=\"\",\"\",Berekeningen!J314*1000)","v":""},null,null,{"$f":"IF(lammering[[#This Row],[Verkoop-gewicht]]=\"\",\"\",Berekeningen!L314*1000)","v":""}]
[null,null,null,null,null,null,null,null,null,null,null,{"$f":"IF(lammering[[#This Row],[Speen-gewicht]]=\"\",\"\",Berekeningen!J315*1000)","v":""},null,null,{"$f":"IF(lammering[[#This Row],[Verkoop-gewicht]]=\"\",\"\",Berekeningen!L315*1000)","v":""}]
[null,null,null,null,null,null,null,null,null,null,null,{"$f":"IF(lammering[[#This Row],[Speen-gewicht]]=\"\",\"\",Berekeningen!J316*1000)","v":""},null,null,{"$f":"IF(lammering[[#This Row],[Verkoop-gewicht]]=\"\",\"\",Berekeningen!L316*1000)","v":""}]
[null,null,null,null,null,null,null,null,null,null,null,{"$f":"IF(lammering[[#This Row],[Speen-gewicht]]=\"\",\"\",Berekeningen!J317*1000)","v":""},null,null,{"$f":"IF(lammering[[#This Row],[Verkoop-gewicht]]=\"\",\"\",Berekeningen!L317*1000)","v":""}]
[null,null,null,null,null,null,null,null,null,null,null,{"$f":"IF(lammering[[#This Row],[Speen-gewicht]]=\"\",\"\",Berekeningen!J318*1000)","v":""},null,null,{"$f":"IF(lammering[[#This Row],[Verkoop-gewicht]]=\"\",\"\",Berekeningen!L318*1000)","v":""}]
[null,null,null,null,null,null,null,null,null,null,null,{"$f":"IF(lammering[[#This Row],[Speen-gewicht]]=\"\",\"\",Berekeningen!J319*1000)","v":""},null,null,{"$f":"IF(lammering[[#This Row],[Verkoop-gewicht]]=\"\",\"\",Berekeningen!L319*1000)","v":""}]
[null,null,null,null,null,null,null,null,null,null,null,{"$f":"IF(lammering[[#This Row],[Speen-gewicht]]=\"\",\"\",Berekeningen!J320*1000)","v":""},null,null,{"$f":"IF(lammering[[#This Row],[Verkoop-gewicht]]=\"\",\"\",Berekeningen!L320*1000)","v":""}]
[null,null,null,null,null,null,null,null,null,null,null,{"$f":"IF(lammering[[#This Row],[Speen-gewicht]]=\"\",\"\",Berekeningen!J321*1000)","v":""},null,null,{"$f":"IF(lammering[[#This Row],[Verkoop-gewicht]]=\"\",\"\",Berekeningen!L321*1000)","v":""}]
[null,null,null,null,null,null,null,null,null,null,null,{"$f":"IF(lammering[[#This Row],[Speen-gewicht]]=\"\",\"\",Berekeningen!J322*1000)","v":""},null,null,{"$f":"IF(lammering[[#This Row],[Verkoop-gewicht]]=\"\",\"\",Berekeningen!L322*1000)","v":""}]
[null,null,null,null,null,null,null,null,null,null,null,{"$f":"IF(lammering[[#This Row],[Speen-gewicht]]=\"\",\"\",Berekeningen!J323*1000)","v":""},null,null,{"$f":"IF(lammering[[#This Row],[Verkoop-gewicht]]=\"\",\"\",Berekeningen!L323*1000)","v":""}]
[null,null,null,null,null,null,null,null,null,null,null,{"$f":"IF(lammering[[#This Row],[Speen-gewicht]]=\"\",\"\",Berekeningen!J324*1000)","v":""},null,null,{"$f":"IF(lammering[[#This Row],[Verkoop-gewicht]]=\"\",\"\",Berekeningen!L324*1000)","v":""}]
[null,null,null,null,null,null,null,null,null,null,null,{"$f":"IF(lammering[[#This Row],[Speen-gewicht]]=\"\",\"\",Berekeningen!J325*1000)","v":""},null,null,{"$f":"IF(lammering[[#This Row],[Verkoop-gewicht]]=\"\",\"\",Berekeningen!L325*1000)","v":""}]
[null,null,null,null,null,null,null,null,null,null,null,{"$f":"IF(lammering[[#This Row],[Speen-gewicht]]=\"\",\"\",Berekeningen!J326*1000)","v":""},null,null,{"$f":"IF(lammering[[#This Row],[Verkoop-gewicht]]=\"\",\"\",Berekeningen!L326*1000)","v":""}]
[null,null,null,null,null,null,null,null,null,null,null,{"$f":"IF(lammering[[#This Row],[Speen-gewicht]]=\"\",\"\",Berekeningen!J327*1000)","v":""},null,null,{"$f":"IF(lammering[[#This Row],[Verkoop-gewicht]]=\"\",\"\",Berekeningen!L327*1000)","v":""}]
[null,null,null,null,null,null,null,null,null,null,null,{"$f":"IF(lammering[[#This Row],[Speen-gewicht]]=\"\",\"\",Berekeningen!J328*1000)","v":""},null,null,{"$f":"IF(lammering[[#This Row],[Verkoop-gewicht]]=\"\",\"\",Berekeningen!L328*1000)","v":""}]
[null,null,null,null,null,null,null,null,null,null,null,{"$f":"IF(lammering[[#This Row],[Speen-gewicht]]=\"\",\"\",Berekeningen!J329*1000)","v":""},null,null,{"$f":"IF(lammering[[#This Row],[Verkoop-gewicht]]=\"\",\"\",Berekeningen!L329*1000)","v":""}]
[null,null,null,null,null,null,null,null,null,null,null,{"$f":"IF(lammering[[#This Row],[Speen-gewicht]]=\"\",\"\",Berekeningen!J330*1000)","v":""},null,null,{"$f":"IF(lammering[[#This Row],[Verkoop-gewicht]]=\"\",\"\",Berekeningen!L330*1000)","v":""}]
[null,null,null,null,null,null,null,null,null,null,null,{"$f":"IF(lammering[[#This Row],[Speen-gewicht]]=\"\",\"\",Berekeningen!J331*1000)","v":""},null,null,{"$f":"IF(lammering[[#This Row],[Verkoop-gewicht]]=\"\",\"\",Berekeningen!L331*1000)","v":""}]
[null,null,null,null,null,null,null,null,null,null,null,{"$f":"IF(lammering[[#This Row],[Speen-gewicht]]=\"\",\"\",Berekeningen!J332*1000)","v":""},null,null,{"$f":"IF(lammering[[#This Row],[Verkoop-gewicht]]=\"\",\"\",Berekeningen!L332*1000)","v":""}]
[null,null,null,null,null,null,null,null,null,null,null,{"$f":"IF(lammering[[#This Row],[Speen-gewicht]]=\"\",\"\",Berekeningen!J333*1000)","v":""},null,null,{"$f":"IF(lammering[[#This Row],[Verkoop-gewicht]]=\"\",\"\",Berekeningen!L333*1000)","v":""}]
[null,null,null,null,null,null,null,null,null,null,null,{"$f":"IF(lammering[[#This Row],[Speen-gewicht]]=\"\",\"\",Berekeningen!J334*1000)","v":""},null,null,{"$f":"IF(lammering[[#This Row],[Verkoop-gewicht]]=\"\",\"\",Berekeningen!L334*1000)","v":""}]
[null,null,null,null,null,null,null,null,null,null,null,{"$f":"IF(lammering[[#This Row],[Speen-gewicht]]=\"\",\"\",Berekeningen!J335*1000)","v":""},null,null,{"$f":"IF(lammering[[#This Row],[Verkoop-gewicht]]=\"\",\"\",Berekeningen!L335*1000)","v":""}]
[null,null,null,null,null,null,null,null,null,null,null,{"$f":"IF(lammering[[#This Row],[Speen-gewicht]]=\"\",\"\",Berekeningen!J336*1000)","v":""},null,null,{"$f":"IF(lammering[[#This Row],[Verkoop-gewicht]]=\"\",\"\",Berekeningen!L336*1000)","v":""}]
[null,null,null,null,null,null,null,null,null,null,null,{"$f":"IF(lammering[[#This Row],[Speen-gewicht]]=\"\",\"\",Berekeningen!J337*1000)","v":""},null,null,{"$f":"IF(lammering[[#This Row],[Verkoop-gewicht]]=\"\",\"\",Berekeningen!L337*1000)","v":""}]
[null,null,null,null,null,null,null,null,null,null,null,{"$f":"IF(lammering[[#This Row],[Speen-gewicht]]=\"\",\"\",Berekeningen!J338*1000)","v":""},null,null,{"$f":"IF(lammering[[#This Row],[Verkoop-gewicht]]=\"\",\"\",Berekeningen!L338*1000)","v":""}]
[null,null,null,null,null,null,null,null,null,null,null,{"$f":"IF(lammering[[#This Row],[Speen-gewicht]]=\"\",\"\",Berekeningen!J339*1000)","v":""},null,null,{"$f":"IF(lammering[[#This Row],[Verkoop-gewicht]]=\"\",\"\",Berekeningen!L339*1000)","v":""}]
[null,null,null,null,null,null,null,null,null,null,null,{"$f":"IF(lammering[[#This Row],[Speen-gewicht]]=\"\",\"\",Berekeningen!J340*1000)","v":""},null,null,{"$f":"IF(lammering[[#This Row],[Verkoop-gewicht]]=\"\",\"\",Berekeningen!L340*1000)","v":""}]
[null,null,null,null,null,null,null,null,null,null,null,{"$f":"IF(lammering[[#This Row],[Speen-gewicht]]=\"\",\"\",Berekeningen!J341*1000)","v":""},null,null,{"$f":"IF(lammering[[#This Row],[Verkoop-gewicht]]=\"\",\"\",Berekeningen!L341*1000)","v":""}]
[null,null,null,null,null,null,null,null,null,null,null,{"$f":"IF(lammering[[#This Row],[Speen-gewicht]]=\"\",\"\",Berekeningen!J342*1000)","v":""},null,null,{"$f":"IF(lammering[[#This Row],[Verkoop-gewicht]]=\"\",\"\",Berekeningen!L342*1000)","v":""}]
[null,null,null,null,null,null,null,null,null,null,null,{"$f":"IF(lammering[[#This Row],[Speen-gewicht]]=\"\",\"\",Berekeningen!J343*1000)","v":""},null,null,{"$f":"IF(lammering[[#This Row],[Verkoop-gewicht]]=\"\",\"\",Berekeningen!L343*1000)","v":""}]
[null,null,null,null,null,null,null,null,null,null,null,{"$f":"IF(lammering[[#This Row],[Speen-gewicht]]=\"\",\"\",Berekeningen!J344*1000)","v":""},null,null,{"$f":"IF(lammering[[#This Row],[Verkoop-gewicht]]=\"\",\"\",Berekeningen!L344*1000)","v":""}]
[null,null,null,null,null,null,null,null,null,null,null,{"$f":"IF(lammering[[#This Row],[Speen-gewicht]]=\"\",\"\",Berekeningen!J345*1000)","v":""},null,null,{"$f":"IF(lammering[[#This Row],[Verkoop-gewicht]]=\"\",\"\",Berekeningen!L345*1000)","v":""}]
[null,null,null,null,null,null,null,null,null,null,null,{"$f":"IF(lammering[[#This Row],[Speen-gewicht]]=\"\",\"\",Berekeningen!J346*1000)","v":""},null,null,{"$f":"IF(lammering[[#This Row],[Verkoop-gewicht]]=\"\",\"\",Berekeningen!L346*1000)","v":""}]
[null,null,null,null,null,null,null,null,null,null,null,{"$f":"IF(lammering[[#This Row],[Speen-gewicht]]=\"\",\"\",Berekeningen!J347*1000)","v":""},null,null,{"$f":"IF(lammering[[#This Row],[Verkoop-gewicht]]=\"\",\"\",Berekeningen!L347*1000)","v":""}]
[null,null,null,null,null,null,null,null,null,null,null,{"$f":"IF(lammering[[#This Row],[Speen-gewicht]]=\"\",\"\",Berekeningen!J348*1000)","v":""},null,null,{"$f":"IF(lammering[[#This Row],[Verkoop-gewicht]]=\"\",\"\",Berekeningen!L348*1000)","v":""}]
[null,null,null,null,null,null,null,null,null,null,null,{"$f":"IF(lammering[[#This Row],[Speen-gewicht]]=\"\",\"\",Berekeningen!J349*1000)","v":""},null,null,{"$f":"IF(lammering[[#This Row],[Verkoop-gewicht]]=\"\",\"\",Berekeningen!L349*1000)","v":""}]
[null,null,null,null,null,null,null,null,null,null,null,{"$f":"IF(lammering[[#This Row],[Speen-gewicht]]=\"\",\"\",Berekeningen!J350*1000)","v":""},null,null,{"$f":"IF(lammering[[#This Row],[Verkoop-gewicht]]=\"\",\"\",Berekeningen!L350*1000)","v":""}]
[null,null,null,null,null,null,null,null,null,null,null,{"$f":"IF(lammering[[#This Row],[Speen-gewicht]]=\"\",\"\",Berekeningen!J351*1000)","v":""},null,null,{"$f":"IF(lammering[[#This Row],[Verkoop-gewicht]]=\"\",\"\",Berekeningen!L351*1000)","v":""}]
[null,null,null,null,null,null,null,null,null,null,null,{"$f":"IF(lammering[[#This Row],[Speen-gewicht]]=\"\",\"\",Berekeningen!J352*1000)","v":""},null,null,{"$f":"IF(lammering[[#This Row],[Verkoop-gewicht]]=\"\",\"\",Berekeningen!L352*1000)","v":""}]
[null,null,null,null,null,null,null,null,null,null,null,{"$f":"IF(lammering[[#This Row],[Speen-gewicht]]=\"\",\"\",Berekeningen!J353*1000)","v":""},null,null,{"$f":"IF(lammering[[#This Row],[Verkoop-gewicht]]=\"\",\"\",Berekeningen!L353*1000)","v":""}]
[null,null,null,null,null,null,null,null,null,null,null,{"$f":"IF(lammering[[#This Row],[Speen-gewicht]]=\"\",\"\",Berekeningen!J354*1000)","v":""},null,null,{"$f":"IF(lammering[[#This Row],[Verkoop-gewicht]]=\"\",\"\",Berekeningen!L354*1000)","v":""}]
[null,null,null,null,null,null,null,null,null,null,null,{"$f":"IF(lammering[[#This Row],[Speen-gewicht]]=\"\",\"\",Berekeningen!J355*1000)","v":""},null,null,{"$f":"IF(lammering[[#This Row],[Verkoop-gewicht]]=\"\",\"\",Berekeningen!L355*1000)","v":""}]
[null,null,null,null,null,null,null,null,null,null,null,{"$f":"IF(lammering[[#This Row],[Speen-gewicht]]=\"\",\"\",Berekeningen!J356*1000)","v":""},null,null,{"$f":"IF(lammering[[#This Row],[Verkoop-gewicht]]=\"\",\"\",Berekeningen!L356*1000)","v":""}]
[null,null,null,null,null,null,null,null,null,null,null,{"$f":"IF(lammering[[#This Row],[Speen-gewicht]]=\"\",\"\",Berekeningen!J357*1000)","v":""},null,null,{"$f":"IF(lammering[[#This Row],[Verkoop-gewicht]]=\"\",\"\",Berekeningen!L357*1000)","v":""}]
[null,null,null,null,null,null,null,null,null,null,null,{"$f":"IF(lammering[[#This Row],[Speen-gewicht]]=\"\",\"\",Berekeningen!J358*1000)","v":""},null,null,{"$f":"IF(lammering[[#This Row],[Verkoop-gewicht]]=\"\",\"\",Berekeningen!L358*1000)","v":""}]
[null,null,null,null,null,null,null,null,null,null,null,{"$f":"IF(lammering[[#This Row],[Speen-gewicht]]=\"\",\"\",Berekeningen!J359*1000)","v":""},null,null,{"$f":"IF(lammering[[#This Row],[Verkoop-gewicht]]=\"\",\"\",Berekeningen!L359*1000)","v":""}]
[null,null,null,null,null,null,null,null,null,null,null,{"$f":"IF(lammering[[#This Row],[Speen-gewicht]]=\"\",\"\",Berekeningen!J360*1000)","v":""},null,null,{"$f":"IF(lammering[[#This Row],[Verkoop-gewicht]]=\"\",\"\",Berekeningen!L360*1000)","v":""}]
[null,null,null,null,null,null,null,null,null,null,null,{"$f":"IF(lammering[[#This Row],[Speen-gewicht]]=\"\",\"\",Berekeningen!J361*1000)","v":""},null,null,{"$f":"IF(lammering[[#This Row],[Verkoop-gewicht]]=\"\",\"\",Berekeningen!L361*1000)","v":""}]
[null,null,null,null,null,null,null,null,null,null,null,{"$f":"IF(lammering[[#This Row],[Speen-gewicht]]=\"\",\"\",Berekeningen!J362*1000)","v":""},null,null,{"$f":"IF(lammering[[#This Row],[Verkoop-gewicht]]=\"\",\"\",Berekeningen!L362*1000)","v":""}]
[null,null,null,null,null,null,null,null,null,null,null,{"$f":"IF(lammering[[#This Row],[Speen-gewicht]]=\"\",\"\",Berekeningen!J363*1000)","v":""},null,null,{"$f":"IF(lammering[[#This Row],[Verkoop-gewicht]]=\"\",\"\",Berekeningen!L363*1000)","v":""}]
[null,null,null,null,null,null,null,null,null,null,null,{"$f":"IF(lammering[[#This Row],[Speen-gewicht]]=\"\",\"\",Berekeningen!J364*1000)","v":""},null,null,{"$f":"IF(lammering[[#This Row],[Verkoop-gewicht]]=\"\",\"\",Berekeningen!L364*1000)","v":""}]
[null,null,null,null,null,null,null,null,null,null,null,{"$f":"IF(lammering[[#This Row],[Speen-gewicht]]=\"\",\"\",Berekeningen!J365*1000)","v":""},null,null,{"$f":"IF(lammering[[#This Row],[Verkoop-gewicht]]=\"\",\"\",Berekeningen!L365*1000)","v":""}]
[null,null,null,null,null,null,null,null,null,null,null,{"$f":"IF(lammering[[#This Row],[Speen-gewicht]]=\"\",\"\",Berekeningen!J366*1000)","v":""},null,null,{"$f":"IF(lammering[[#This Row],[Verkoop-gewicht]]=\"\",\"\",Berekeningen!L366*1000)","v":""}]
[null,null,null,null,null,null,null,null,null,null,null,{"$f":"IF(lammering[[#This Row],[Speen-gewicht]]=\"\",\"\",Berekeningen!J367*1000)","v":""},null,null,{"$f":"IF(lammering[[#This Row],[Verkoop-gewicht]]=\"\",\"\",Berekeningen!L367*1000)","v":""}]
[null,null,null,null,null,null,null,null,null,null,null,{"$f":"IF(lammering[[#This Row],[Speen-gewicht]]=\"\",\"\",Berekeningen!J368*1000)","v":""},null,null,{"$f":"IF(lammering[[#This Row],[Verkoop-gewicht]]=\"\",\"\",Berekeningen!L368*1000)","v":""}]
[null,null,null,null,null,null,null,null,null,null,null,{"$f":"IF(lammering[[#This Row],[Speen-gewicht]]=\"\",\"\",Berekeningen!J369*1000)","v":""},null,null,{"$f":"IF(lammering[[#This Row],[Verkoop-gewicht]]=\"\",\"\",Berekeningen!L369*1000)","v":""}]
[null,null,null,null,null,null,null,null,null,null,null,{"$f":"IF(lammering[[#This Row],[Speen-gewicht]]=\"\",\"\",Berekeningen!J370*1000)","v":""},null,null,{"$f":"IF(lammering[[#This Row],[Verkoop-gewicht]]=\"\",\"\",Berekeningen!L370*1000)","v":""}]
[null,null,null,null,null,null,null,null,null,null,null,{"$f":"IF(lammering[[#This Row],[Speen-gewicht]]=\"\",\"\",Berekeningen!J371*1000)","v":""},null,null,{"$f":"IF(lammering[[#This Row],[Verkoop-gewicht]]=\"\",\"\",Berekeningen!L371*1000)","v":""}]
[null,null,null,null,null,null,null,null,null,null,null,{"$f":"IF(lammering[[#This Row],[Speen-gewicht]]=\"\",\"\",Berekeningen!J372*1000)","v":""},null,null,{"$f":"IF(lammering[[#This Row],[Verkoop-gewicht]]=\"\",\"\",Berekeningen!L372*1000)","v":""}]
[null,null,null,null,null,null,null,null,null,null,null,{"$f":"IF(lammering[[#This Row],[Speen-gewicht]]=\"\",\"\",Berekeningen!J373*1000)","v":""},null,null,{"$f":"IF(lammering[[#This Row],[Verkoop-gewicht]]=\"\",\"\",Berekeningen!L373*1000)","v":""}]
[null,null,null,null,null,null,null,null,null,null,null,{"$f":"IF(lammering[[#This Row],[Speen-gewicht]]=\"\",\"\",Berekeningen!J374*1000)","v":""},null,null,{"$f":"IF(lammering[[#This Row],[Verkoop-gewicht]]=\"\",\"\",Berekeningen!L374*1000)","v":""}]
[null,null,null,null,null,null,null,null,null,null,null,{"$f":"IF(lammering[[#This Row],[Speen-gewicht]]=\"\",\"\",Berekeningen!J375*1000)","v":""},null,null,{"$f":"IF(lammering[[#This Row],[Verkoop-gewicht]]=\"\",\"\",Berekeningen!L375*1000)","v":""}]
[null,null,null,null,null,null,null,null,null,null,null,{"$f":"IF(lammering[[#This Row],[Speen-gewicht]]=\"\",\"\",Berekeningen!J376*1000)","v":""},null,null,{"$f":"IF(lammering[[#This Row],[Verkoop-gewicht]]=\"\",\"\",Berekeningen!L376*1000)","v":""}]
[null,null,null,null,null,null,null,null,null,null,null,{"$f":"IF(lammering[[#This Row],[Speen-gewicht]]=\"\",\"\",Berekeningen!J377*1000)","v":""},null,null,{"$f":"IF(lammering[[#This Row],[Verkoop-gewicht]]=\"\",\"\",Berekeningen!L377*1000)","v":""}]
[null,null,null,null,null,null,null,null,null,null,null,{"$f":"IF(lammering[[#This Row],[Speen-gewicht]]=\"\",\"\",Berekeningen!J378*1000)","v":""},null,null,{"$f":"IF(lammering[[#This Row],[Verkoop-gewicht]]=\"\",\"\",Berekeningen!L378*1000)","v":""}]
[null,null,null,null,null,null,null,null,null,null,null,{"$f":"IF(lammering[[#This Row],[Speen-gewicht]]=\"\",\"\",Berekeningen!J379*1000)","v":""},null,null,{"$f":"IF(lammering[[#This Row],[Verkoop-gewicht]]=\"\",\"\",Berekeningen!L379*1000)","v":""}]
[null,null,null,null,null,null,null,null,null,null,null,{"$f":"IF(lammering[[#This Row],[Speen-gewicht]]=\"\",\"\",Berekeningen!J380*1000)","v":""},null,null,{"$f":"IF(lammering[[#This Row],[Verkoop-gewicht]]=\"\",\"\",Berekeningen!L380*1000)","v":""}]
[null,null,null,null,null,null,null,null,null,null,null,{"$f":"IF(lammering[[#This Row],[Speen-gewicht]]=\"\",\"\",Berekeningen!J381*1000)","v":""},null,null,{"$f":"IF(lammering[[#This Row],[Verkoop-gewicht]]=\"\",\"\",Berekeningen!L381*1000)","v":""}]
[null,null,null,null,null,null,null,null,null,null,null,{"$f":"IF(lammering[[#This Row],[Speen-gewicht]]=\"\",\"\",Berekeningen!J382*1000)","v":""},null,null,{"$f":"IF(lammering[[#This Row],[Verkoop-gewicht]]=\"\",\"\",Berekeningen!L382*1000)","v":""}]
[null,null,null,null,null,null,null,null,null,null,null,{"$f":"IF(lammering[[#This Row],[Speen-gewicht]]=\"\",\"\",Berekeningen!J383*1000)","v":""},null,null,{"$f":"IF(lammering[[#This Row],[Verkoop-gewicht]]=\"\",\"\",Berekeningen!L383*1000)","v":""}]
[null,null,null,null,null,null,null,null,null,null,null,{"$f":"IF(lammering[[#This Row],[Speen-gewicht]]=\"\",\"\",Berekeningen!J384*1000)","v":""},null,null,{"$f":"IF(lammering[[#This Row],[Verkoop-gewicht]]=\"\",\"\",Berekeningen!L384*1000)","v":""}]
[null,null,null,null,null,null,null,null,null,null,null,{"$f":"IF(lammering[[#This Row],[Speen-gewicht]]=\"\",\"\",Berekeningen!J385*1000)","v":""},null,null,{"$f":"IF(lammering[[#This Row],[Verkoop-gewicht]]=\"\",\"\",Berekeningen!L385*1000)","v":""}]
[null,null,null,null,null,null,null,null,null,null,null,{"$f":"IF(lammering[[#This Row],[Speen-gewicht]]=\"\",\"\",Berekeningen!J386*1000)","v":""},null,null,{"$f":"IF(lammering[[#This Row],[Verkoop-gewicht]]=\"\",\"\",Berekeningen!L386*1000)","v":""}]
[null,null,null,null,null,null,null,null,null,null,null,{"$f":"IF(lammering[[#This Row],[Speen-gewicht]]=\"\",\"\",Berekeningen!J387*1000)","v":""},null,null,{"$f":"IF(lammering[[#This Row],[Verkoop-gewicht]]=\"\",\"\",Berekeningen!L387*1000)","v":""}]
[null,null,null,null,null,null,null,null,null,null,null,{"$f":"IF(lammering[[#This Row],[Speen-gewicht]]=\"\",\"\",Berekeningen!J388*1000)","v":""},null,null,{"$f":"IF(lammering[[#This Row],[Verkoop-gewicht]]=\"\",\"\",Berekeningen!L388*1000)","v":""}]
[null,null,null,null,null,null,null,null,null,null,null,{"$f":"IF(lammering[[#This Row],[Speen-gewicht]]=\"\",\"\",Berekeningen!J389*1000)","v":""},null,null,{"$f":"IF(lammering[[#This Row],[Verkoop-gewicht]]=\"\",\"\",Berekeningen!L389*1000)","v":""}]
[null,null,null,null,null,null,null,null,null,null,null,{"$f":"IF(lammering[[#This Row],[Speen-gewicht]]=\"\",\"\",Berekeningen!J390*1000)","v":""},null,null,{"$f":"IF(lammering[[#This Row],[Verkoop-gewicht]]=\"\",\"\",Berekeningen!L390*1000)","v":""}]
[null,null,null,null,null,null,null,null,null,null,null,{"$f":"IF(lammering[[#This Row],[Speen-gewicht]]=\"\",\"\",Berekeningen!J391*1000)","v":""},null,null,{"$f":"IF(lammering[[#This Row],[Verkoop-gewicht]]=\"\",\"\",Berekeningen!L391*1000)","v":""}]
[null,null,null,null,null,null,null,null,null,null,null,{"$f":"IF(lammering[[#This Row],[Speen-gewicht]]=\"\",\"\",Berekeningen!J392*1000)","v":""},null,null,{"$f":"IF(lammering[[#This Row],[Verkoop-gewicht]]=\"\",\"\",Berekeningen!L392*1000)","v":""}]
[null,null,null,null,null,null,null,null,null,null,null,{"$f":"IF(lammering[[#This Row],[Speen-gewicht]]=\"\",\"\",Berekeningen!J393*1000)","v":""},null,null,{"$f":"IF(lammering[[#This Row],[Verkoop-gewicht]]=\"\",\"\",Berekeningen!L393*1000)","v":""}]
[null,null,null,null,null,null,null,null,null,null,null,{"$f":"IF(lammering[[#This Row],[Speen-gewicht]]=\"\",\"\",Berekeningen!J394*1000)","v":""},null,null,{"$f":"IF(lammering[[#This Row],[Verkoop-gewicht]]=\"\",\"\",Berekeningen!L394*1000)","v":""}]
[null,null,null,null,null,null,null,null,null,null,null,{"$f":"IF(lammering[[#This Row],[Speen-gewicht]]=\"\",\"\",Berekeningen!J395*1000)","v":""},null,null,{"$f":"IF(lammering[[#This Row],[Verkoop-gewicht]]=\"\",\"\",Berekeningen!L395*1000)","v":""}]
[null,null,null,null,null,null,null,null,null,null,null,{"$f":"IF(lammering[[#This Row],[Speen-gewicht]]=\"\",\"\",Berekeningen!J396*1000)","v":""},null,null,{"$f":"IF(lammering[[#This Row],[Verkoop-gewicht]]=\"\",\"\",Berekeningen!L396*1000)","v":""}]
[null,null,null,null,null,null,null,null,null,null,null,{"$f":"IF(lammering[[#This Row],[Speen-gewicht]]=\"\",\"\",Berekeningen!J397*1000)","v":""},null,null,{"$f":"IF(lammering[[#This Row],[Verkoop-gewicht]]=\"\",\"\",Berekeningen!L397*1000)","v":""}]
[null,null,null,null,null,null,null,null,null,null,null,{"$f":"IF(lammering[[#This Row],[Speen-gewicht]]=\"\",\"\",Berekeningen!J398*1000)","v":""},null,null,{"$f":"IF(lammering[[#This Row],[Verkoop-gewicht]]=\"\",\"\",Berekeningen!L398*1000)","v":""}]
[null,null,null,null,null,null,null,null,null,null,null,{"$f":"IF(lammering[[#This Row],[Speen-gewicht]]=\"\",\"\",Berekeningen!J399*1000)","v":""},null,null,{"$f":"IF(lammering[[#This Row],[Verkoop-gewicht]]=\"\",\"\",Berekeningen!L399*1000)","v":""}]
[null,null,null,null,null,null,null,null,null,null,null,{"$f":"IF(lammering[[#This Row],[Speen-gewicht]]=\"\",\"\",Berekeningen!J400*1000)","v":""},null,null,{"$f":"IF(lammering[[#This Row],[Verkoop-gewicht]]=\"\",\"\",Berekeningen!L400*1000)","v":""}]
[null,null,null,null,null,null,null,null,null,null,null,{"$f":"IF(lammering[[#This Row],[Speen-gewicht]]=\"\",\"\",Berekeningen!J401*1000)","v":""},null,null,{"$f":"IF(lammering[[#This Row],[Verkoop-gewicht]]=\"\",\"\",Berekeningen!L401*1000)","v":""}]
[null,null,null,null,null,null,null,null,null,null,null,{"$f":"IF(lammering[[#This Row],[Speen-gewicht]]=\"\",\"\",Berekeningen!J402*1000)","v":""},null,null,{"$f":"IF(lammering[[#This Row],[Verkoop-gewicht]]=\"\",\"\",Berekeningen!L402*1000)","v":""}]
[null,null,null,null,null,null,null,null,null,null,null,{"$f":"IF(lammering[[#This Row],[Speen-gewicht]]=\"\",\"\",Berekeningen!J403*1000)","v":""},null,null,{"$f":"IF(lammering[[#This Row],[Verkoop-gewicht]]=\"\",\"\",Berekeningen!L403*1000)","v":""}]
[null,null,null,null,null,null,null,null,null,null,null,{"$f":"IF(lammering[[#This Row],[Speen-gewicht]]=\"\",\"\",Berekeningen!J404*1000)","v":""},null,null,{"$f":"IF(lammering[[#This Row],[Verkoop-gewicht]]=\"\",\"\",Berekeningen!L404*1000)","v":""}]
[null,null,null,null,null,null,null,null,null,null,null,{"$f":"IF(lammering[[#This Row],[Speen-gewicht]]=\"\",\"\",Berekeningen!J405*1000)","v":""},null,null,{"$f":"IF(lammering[[#This Row],[Verkoop-gewicht]]=\"\",\"\",Berekeningen!L405*1000)","v":""}]
[null,null,null,null,null,null,null,null,null,null,null,{"$f":"IF(lammering[[#This Row],[Speen-gewicht]]=\"\",\"\",Berekeningen!J406*1000)","v":""},null,null,{"$f":"IF(lammering[[#This Row],[Verkoop-gewicht]]=\"\",\"\",Berekeningen!L406*1000)","v":""}]
[null,null,null,null,null,null,null,null,null,null,null,{"$f":"IF(lammering[[#This Row],[Speen-gewicht]]=\"\",\"\",Berekeningen!J407*1000)","v":""},null,null,{"$f":"IF(lammering[[#This Row],[Verkoop-gewicht]]=\"\",\"\",Berekeningen!L407*1000)","v":""}]
[null,null,null,null,null,null,null,null,null,null,null,{"$f":"IF(lammering[[#This Row],[Speen-gewicht]]=\"\",\"\",Berekeningen!J408*1000)","v":""},null,null,{"$f":"IF(lammering[[#This Row],[Verkoop-gewicht]]=\"\",\"\",Berekeningen!L408*1000)","v":""}]
[null,null,null,null,null,null,null,null,null,null,null,{"$f":"IF(lammering[[#This Row],[Speen-gewicht]]=\"\",\"\",Berekeningen!J409*1000)","v":""},null,null,{"$f":"IF(lammering[[#This Row],[Verkoop-gewicht]]=\"\",\"\",Berekeningen!L409*1000)","v":""}]
[null,null,null,null,null,null,null,null,null,null,null,{"$f":"IF(lammering[[#This Row],[Speen-gewicht]]=\"\",\"\",Berekeningen!J410*1000)","v":""},null,null,{"$f":"IF(lammering[[#This Row],[Verkoop-gewicht]]=\"\",\"\",Berekeningen!L410*1000)","v":""}]
[null,null,null,null,null,null,null,null,null,null,null,{"$f":"IF(lammering[[#This Row],[Speen-gewicht]]=\"\",\"\",Berekeningen!J411*1000)","v":""},null,null,{"$f":"IF(lammering[[#This Row],[Verkoop-gewicht]]=\"\",\"\",Berekeningen!L411*1000)","v":""}]
[null,null,null,null,null,null,null,null,null,null,null,{"$f":"IF(lammering[[#This Row],[Speen-gewicht]]=\"\",\"\",Berekeningen!J412*1000)","v":""},null,null,{"$f":"IF(lammering[[#This Row],[Verkoop-gewicht]]=\"\",\"\",Berekeningen!L412*1000)","v":""}]
[null,null,null,null,null,null,null,null,null,null,null,{"$f":"IF(lammering[[#This Row],[Speen-gewicht]]=\"\",\"\",Berekeningen!J413*1000)","v":""},null,null,{"$f":"IF(lammering[[#This Row],[Verkoop-gewicht]]=\"\",\"\",Berekeningen!L413*1000)","v":""}]
[null,null,null,null,null,null,null,null,null,null,null,{"$f":"IF(lammering[[#This Row],[Speen-gewicht]]=\"\",\"\",Berekeningen!J414*1000)","v":""},null,null,{"$f":"IF(lammering[[#This Row],[Verkoop-gewicht]]=\"\",\"\",Berekeningen!L414*1000)","v":""}]
[null,null,null,null,null,null,null,null,null,null,null,{"$f":"IF(lammering[[#This Row],[Speen-gewicht]]=\"\",\"\",Berekeningen!J415*1000)","v":""},null,null,{"$f":"IF(lammering[[#This Row],[Verkoop-gewicht]]=\"\",\"\",Berekeningen!L415*1000)","v":""}]
[null,null,null,null,null,null,null,null,null,null,null,{"$f":"IF(lammering[[#This Row],[Speen-gewicht]]=\"\",\"\",Berekeningen!J416*1000)","v":""},null,null,{"$f":"IF(lammering[[#This Row],[Verkoop-gewicht]]=\"\",\"\",Berekeningen!L416*1000)","v":""}]
[null,null,null,null,null,null,null,null,null,null,null,{"$f":"IF(lammering[[#This Row],[Speen-gewicht]]=\"\",\"\",Berekeningen!J417*1000)","v":""},null,null,{"$f":"IF(lammering[[#This Row],[Verkoop-gewicht]]=\"\",\"\",Berekeningen!L417*1000)","v":""}]
[null,null,null,null,null,null,null,null,null,null,null,{"$f":"IF(lammering[[#This Row],[Speen-gewicht]]=\"\",\"\",Berekeningen!J418*1000)","v":""},null,null,{"$f":"IF(lammering[[#This Row],[Verkoop-gewicht]]=\"\",\"\",Berekeningen!L418*1000)","v":""}]
[null,null,null,null,null,null,null,null,null,null,null,{"$f":"IF(lammering[[#This Row],[Speen-gewicht]]=\"\",\"\",Berekeningen!J419*1000)","v":""},null,null,{"$f":"IF(lammering[[#This Row],[Verkoop-gewicht]]=\"\",\"\",Berekeningen!L419*1000)","v":""}]
[null,null,null,null,null,null,null,null,null,null,null,{"$f":"IF(lammering[[#This Row],[Speen-gewicht]]=\"\",\"\",Berekeningen!J420*1000)","v":""},null,null,{"$f":"IF(lammering[[#This Row],[Verkoop-gewicht]]=\"\",\"\",Berekeningen!L420*1000)","v":""}]
[null,null,null,null,null,null,null,null,null,null,null,{"$f":"IF(lammering[[#This Row],[Speen-gewicht]]=\"\",\"\",Berekeningen!J421*1000)","v":""},null,null,{"$f":"IF(lammering[[#This Row],[Verkoop-gewicht]]=\"\",\"\",Berekeningen!L421*1000)","v":""}]
[null,null,null,null,null,null,null,null,null,null,null,{"$f":"IF(lammering[[#This Row],[Speen-gewicht]]=\"\",\"\",Berekeningen!J422*1000)","v":""},null,null,{"$f":"IF(lammering[[#This Row],[Verkoop-gewicht]]=\"\",\"\",Berekeningen!L422*1000)","v":""}]
[null,null,null,null,null,null,null,null,null,null,null,{"$f":"IF(lammering[[#This Row],[Speen-gewicht]]=\"\",\"\",Berekeningen!J423*1000)","v":""},null,null,{"$f":"IF(lammering[[#This Row],[Verkoop-gewicht]]=\"\",\"\",Berekeningen!L423*1000)","v":""}]
[null,null,null,null,null,null,null,null,null,null,null,{"$f":"IF(lammering[[#This Row],[Speen-gewicht]]=\"\",\"\",Berekeningen!J424*1000)","v":""},null,null,{"$f":"IF(lammering[[#This Row],[Verkoop-gewicht]]=\"\",\"\",Berekeningen!L424*1000)","v":""}]
[null,null,null,null,null,null,null,null,null,null,null,{"$f":"IF(lammering[[#This Row],[Speen-gewicht]]=\"\",\"\",Berekeningen!J425*1000)","v":""},null,null,{"$f":"IF(lammering[[#This Row],[Verkoop-gewicht]]=\"\",\"\",Berekeningen!L425*1000)","v":""}]
[null,null,null,null,null,null,null,null,null,null,null,{"$f":"IF(lammering[[#This Row],[Speen-gewicht]]=\"\",\"\",Berekeningen!J426*1000)","v":""},null,null,{"$f":"IF(lammering[[#This Row],[Verkoop-gewicht]]=\"\",\"\",Berekeningen!L426*1000)","v":""}]
[null,null,null,null,null,null,null,null,null,null,null,{"$f":"IF(lammering[[#This Row],[Speen-gewicht]]=\"\",\"\",Berekeningen!J427*1000)","v":""},null,null,{"$f":"IF(lammering[[#This Row],[Verkoop-gewicht]]=\"\",\"\",Berekeningen!L427*1000)","v":""}]
[null,null,null,null,null,null,null,null,null,null,null,{"$f":"IF(lammering[[#This Row],[Speen-gewicht]]=\"\",\"\",Berekeningen!J428*1000)","v":""},null,null,{"$f":"IF(lammering[[#This Row],[Verkoop-gewicht]]=\"\",\"\",Berekeningen!L428*1000)","v":""}]
[null,null,null,null,null,null,null,null,null,null,null,{"$f":"IF(lammering[[#This Row],[Speen-gewicht]]=\"\",\"\",Berekeningen!J429*1000)","v":""},null,null,{"$f":"IF(lammering[[#This Row],[Verkoop-gewicht]]=\"\",\"\",Berekeningen!L429*1000)","v":""}]
[null,null,null,null,null,null,null,null,null,null,null,{"$f":"IF(lammering[[#This Row],[Speen-gewicht]]=\"\",\"\",Berekeningen!J430*1000)","v":""},null,null,{"$f":"IF(lammering[[#This Row],[Verkoop-gewicht]]=\"\",\"\",Berekeningen!L430*1000)","v":""}]
[null,null,null,null,null,null,null,null,null,null,null,{"$f":"IF(lammering[[#This Row],[Speen-gewicht]]=\"\",\"\",Berekeningen!J431*1000)","v":""},null,null,{"$f":"IF(lammering[[#This Row],[Verkoop-gewicht]]=\"\",\"\",Berekeningen!L431*1000)","v":""}]
[null,null,null,null,null,null,null,null,null,null,null,{"$f":"IF(lammering[[#This Row],[Speen-gewicht]]=\"\",\"\",Berekeningen!J432*1000)","v":""},null,null,{"$f":"IF(lammering[[#This Row],[Verkoop-gewicht]]=\"\",\"\",Berekeningen!L432*1000)","v":""}]
[null,null,null,null,null,null,null,null,null,null,null,{"$f":"IF(lammering[[#This Row],[Speen-gewicht]]=\"\",\"\",Berekeningen!J433*1000)","v":""},null,null,{"$f":"IF(lammering[[#This Row],[Verkoop-gewicht]]=\"\",\"\",Berekeningen!L433*1000)","v":""}]
[null,null,null,null,null,null,null,null,null,null,null,{"$f":"IF(lammering[[#This Row],[Speen-gewicht]]=\"\",\"\",Berekeningen!J434*1000)","v":""},null,null,{"$f":"IF(lammering[[#This Row],[Verkoop-gewicht]]=\"\",\"\",Berekeningen!L434*1000)","v":""}]
[null,null,null,null,null,null,null,null,null,null,null,{"$f":"IF(lammering[[#This Row],[Speen-gewicht]]=\"\",\"\",Berekeningen!J435*1000)","v":""},null,null,{"$f":"IF(lammering[[#This Row],[Verkoop-gewicht]]=\"\",\"\",Berekeningen!L435*1000)","v":""}]
[null,null,null,null,null,null,null,null,null,null,null,{"$f":"IF(lammering[[#This Row],[Speen-gewicht]]=\"\",\"\",Berekeningen!J436*1000)","v":""},null,null,{"$f":"IF(lammering[[#This Row],[Verkoop-gewicht]]=\"\",\"\",Berekeningen!L436*1000)","v":""}]
[null,null,null,null,null,null,null,null,null,null,null,{"$f":"IF(lammering[[#This Row],[Speen-gewicht]]=\"\",\"\",Berekeningen!J437*1000)","v":""},null,null,{"$f":"IF(lammering[[#This Row],[Verkoop-gewicht]]=\"\",\"\",Berekeningen!L437*1000)","v":""}]
[null,null,null,null,null,null,null,null,null,null,null,{"$f":"IF(lammering[[#This Row],[Speen-gewicht]]=\"\",\"\",Berekeningen!J438*1000)","v":""},null,null,{"$f":"IF(lammering[[#This Row],[Verkoop-gewicht]]=\"\",\"\",Berekeningen!L438*1000)","v":""}]
[null,null,null,null,null,null,null,null,null,null,null,{"$f":"IF(lammering[[#This Row],[Speen-gewicht]]=\"\",\"\",Berekeningen!J439*1000)","v":""},null,null,{"$f":"IF(lammering[[#This Row],[Verkoop-gewicht]]=\"\",\"\",Berekeningen!L439*1000)","v":""}]
[null,null,null,null,null,null,null,null,null,null,null,{"$f":"IF(lammering[[#This Row],[Speen-gewicht]]=\"\",\"\",Berekeningen!J440*1000)","v":""},null,null,{"$f":"IF(lammering[[#This Row],[Verkoop-gewicht]]=\"\",\"\",Berekeningen!L440*1000)","v":""}]
[null,null,null,null,null,null,null,null,null,null,null,{"$f":"IF(lammering[[#This Row],[Speen-gewicht]]=\"\",\"\",Berekeningen!J441*1000)","v":""},null,null,{"$f":"IF(lammering[[#This Row],[Verkoop-gewicht]]=\"\",\"\",Berekeningen!L441*1000)","v":""}]
[null,null,null,null,null,null,null,null,null,null,null,{"$f":"IF(lammering[[#This Row],[Speen-gewicht]]=\"\",\"\",Berekeningen!J442*1000)","v":""},null,null,{"$f":"IF(lammering[[#This Row],[Verkoop-gewicht]]=\"\",\"\",Berekeningen!L442*1000)","v":""}]
[null,null,null,null,null,null,null,null,null,null,null,{"$f":"IF(lammering[[#This Row],[Speen-gewicht]]=\"\",\"\",Berekeningen!J443*1000)","v":""},null,null,{"$f":"IF(lammering[[#This Row],[Verkoop-gewicht]]=\"\",\"\",Berekeningen!L443*1000)","v":""}]
[null,null,null,null,null,null,null,null,null,null,null,{"$f":"IF(lammering[[#This Row],[Speen-gewicht]]=\"\",\"\",Berekeningen!J444*1000)","v":""},null,null,{"$f":"IF(lammering[[#This Row],[Verkoop-gewicht]]=\"\",\"\",Berekeningen!L444*1000)","v":""}]
[null,null,null,null,null,null,null,null,null,null,null,{"$f":"IF(lammering[[#This Row],[Speen-gewicht]]=\"\",\"\",Berekeningen!J445*1000)","v":""},null,null,{"$f":"IF(lammering[[#This Row],[Verkoop-gewicht]]=\"\",\"\",Berekeningen!L445*1000)","v":""}]
[null,null,null,null,null,null,null,null,null,null,null,{"$f":"IF(lammering[[#This Row],[Speen-gewicht]]=\"\",\"\",Berekeningen!J446*1000)","v":""},null,null,{"$f":"IF(lammering[[#This Row],[Verkoop-gewicht]]=\"\",\"\",Berekeningen!L446*1000)","v":""}]
[null,null,null,null,null,null,null,null,null,null,null,{"$f":"IF(lammering[[#This Row],[Speen-gewicht]]=\"\",\"\",Berekeningen!J447*1000)","v":""},null,null,{"$f":"IF(lammering[[#This Row],[Verkoop-gewicht]]=\"\",\"\",Berekeningen!L447*1000)","v":""}]
[null,null,null,null,null,null,null,null,null,null,null,{"$f":"IF(lammering[[#This Row],[Speen-gewicht]]=\"\",\"\",Berekeningen!J448*1000)","v":""},null,null,{"$f":"IF(lammering[[#This Row],[Verkoop-gewicht]]=\"\",\"\",Berekeningen!L448*1000)","v":""}]
[null,null,null,null,null,null,null,null,null,null,null,{"$f":"IF(lammering[[#This Row],[Speen-gewicht]]=\"\",\"\",Berekeningen!J449*1000)","v":""},null,null,{"$f":"IF(lammering[[#This Row],[Verkoop-gewicht]]=\"\",\"\",Berekeningen!L449*1000)","v":""}]
[null,null,null,null,null,null,null,null,null,null,null,{"$f":"IF(lammering[[#This Row],[Speen-gewicht]]=\"\",\"\",Berekeningen!J450*1000)","v":""},null,null,{"$f":"IF(lammering[[#This Row],[Verkoop-gewicht]]=\"\",\"\",Berekeningen!L450*1000)","v":""}]
[null,null,null,null,null,null,null,null,null,null,null,{"$f":"IF(lammering[[#This Row],[Speen-gewicht]]=\"\",\"\",Berekeningen!J451*1000)","v":""},null,null,{"$f":"IF(lammering[[#This Row],[Verkoop-gewicht]]=\"\",\"\",Berekeningen!L451*1000)","v":""}]
[null,null,null,null,null,null,null,null,null,null,null,{"$f":"IF(lammering[[#This Row],[Speen-gewicht]]=\"\",\"\",Berekeningen!J452*1000)","v":""},null,null,{"$f":"IF(lammering[[#This Row],[Verkoop-gewicht]]=\"\",\"\",Berekeningen!L452*1000)","v":""}]
[null,null,null,null,null,null,null,null,null,null,null,{"$f":"IF(lammering[[#This Row],[Speen-gewicht]]=\"\",\"\",Berekeningen!J453*1000)","v":""},null,null,{"$f":"IF(lammering[[#This Row],[Verkoop-gewicht]]=\"\",\"\",Berekeningen!L453*1000)","v":""}]
[null,null,null,null,null,null,null,null,null,null,null,{"$f":"IF(lammering[[#This Row],[Speen-gewicht]]=\"\",\"\",Berekeningen!J454*1000)","v":""},null,null,{"$f":"IF(lammering[[#This Row],[Verkoop-gewicht]]=\"\",\"\",Berekeningen!L454*1000)","v":""}]
[null,null,null,null,null,null,null,null,null,null,null,{"$f":"IF(lammering[[#This Row],[Speen-gewicht]]=\"\",\"\",Berekeningen!J455*1000)","v":""},null,null,{"$f":"IF(lammering[[#This Row],[Verkoop-gewicht]]=\"\",\"\",Berekeningen!L455*1000)","v":""}]
[null,null,null,null,null,null,null,null,null,null,null,{"$f":"IF(lammering[[#This Row],[Speen-gewicht]]=\"\",\"\",Berekeningen!J456*1000)","v":""},null,null,{"$f":"IF(lammering[[#This Row],[Verkoop-gewicht]]=\"\",\"\",Berekeningen!L456*1000)","v":""}]
[null,null,null,null,null,null,null,null,null,null,null,{"$f":"IF(lammering[[#This Row],[Speen-gewicht]]=\"\",\"\",Berekeningen!J457*1000)","v":""},null,null,{"$f":"IF(lammering[[#This Row],[Verkoop-gewicht]]=\"\",\"\",Berekeningen!L457*1000)","v":""}]
[null,null,null,null,null,null,null,null,null,null,null,{"$f":"IF(lammering[[#This Row],[Speen-gewicht]]=\"\",\"\",Berekeningen!J458*1000)","v":""},null,null,{"$f":"IF(lammering[[#This Row],[Verkoop-gewicht]]=\"\",\"\",Berekeningen!L458*1000)","v":""}]
[null,null,null,null,null,null,null,null,null,null,null,{"$f":"IF(lammering[[#This Row],[Speen-gewicht]]=\"\",\"\",Berekeningen!J459*1000)","v":""},null,null,{"$f":"IF(lammering[[#This Row],[Verkoop-gewicht]]=\"\",\"\",Berekeningen!L459*1000)","v":""}]
[null,null,null,null,null,null,null,null,null,null,null,{"$f":"IF(lammering[[#This Row],[Speen-gewicht]]=\"\",\"\",Berekeningen!J460*1000)","v":""},null,null,{"$f":"IF(lammering[[#This Row],[Verkoop-gewicht]]=\"\",\"\",Berekeningen!L460*1000)","v":""}]
[null,null,null,null,null,null,null,null,null,null,null,{"$f":"IF(lammering[[#This Row],[Speen-gewicht]]=\"\",\"\",Berekeningen!J461*1000)","v":""},null,null,{"$f":"IF(lammering[[#This Row],[Verkoop-gewicht]]=\"\",\"\",Berekeningen!L461*1000)","v":""}]
[null,null,null,null,null,null,null,null,null,null,null,{"$f":"IF(lammering[[#This Row],[Speen-gewicht]]=\"\",\"\",Berekeningen!J462*1000)","v":""},null,null,{"$f":"IF(lammering[[#This Row],[Verkoop-gewicht]]=\"\",\"\",Berekeningen!L462*1000)","v":""}]
[null,null,null,null,null,null,null,null,null,null,null,{"$f":"IF(lammering[[#This Row],[Speen-gewicht]]=\"\",\"\",Berekeningen!J463*1000)","v":""},null,null,{"$f":"IF(lammering[[#This Row],[Verkoop-gewicht]]=\"\",\"\",Berekeningen!L463*1000)","v":""}]
[null,null,null,null,null,null,null,null,null,null,null,{"$f":"IF(lammering[[#This Row],[Speen-gewicht]]=\"\",\"\",Berekeningen!J464*1000)","v":""},null,null,{"$f":"IF(lammering[[#This Row],[Verkoop-gewicht]]=\"\",\"\",Berekeningen!L464*1000)","v":""}]
[null,null,null,null,null,null,null,null,null,null,null,{"$f":"IF(lammering[[#This Row],[Speen-gewicht]]=\"\",\"\",Berekeningen!J465*1000)","v":""},null,null,{"$f":"IF(lammering[[#This Row],[Verkoop-gewicht]]=\"\",\"\",Berekeningen!L465*1000)","v":""}]
[null,null,null,null,null,null,null,null,null,null,null,{"$f":"IF(lammering[[#This Row],[Speen-gewicht]]=\"\",\"\",Berekeningen!J466*1000)","v":""},null,null,{"$f":"IF(lammering[[#This Row],[Verkoop-gewicht]]=\"\",\"\",Berekeningen!L466*1000)","v":""}]
[null,null,null,null,null,null,null,null,null,null,null,{"$f":"IF(lammering[[#This Row],[Speen-gewicht]]=\"\",\"\",Berekeningen!J467*1000)","v":""},null,null,{"$f":"IF(lammering[[#This Row],[Verkoop-gewicht]]=\"\",\"\",Berekeningen!L467*1000)","v":""}]
[null,null,null,null,null,null,null,null,null,null,null,{"$f":"IF(lammering[[#This Row],[Speen-gewicht]]=\"\",\"\",Berekeningen!J468*1000)","v":""},null,null,{"$f":"IF(lammering[[#This Row],[Verkoop-gewicht]]=\"\",\"\",Berekeningen!L468*1000)","v":""}]
[null,null,null,null,null,null,null,null,null,null,null,{"$f":"IF(lammering[[#This Row],[Speen-gewicht]]=\"\",\"\",Berekeningen!J469*1000)","v":""},null,null,{"$f":"IF(lammering[[#This Row],[Verkoop-gewicht]]=\"\",\"\",Berekeningen!L469*1000)","v":""}]
[null,null,null,null,null,null,null,null,null,null,null,{"$f":"IF(lammering[[#This Row],[Speen-gewicht]]=\"\",\"\",Berekeningen!J470*1000)","v":""},null,null,{"$f":"IF(lammering[[#This Row],[Verkoop-gewicht]]=\"\",\"\",Berekeningen!L470*1000)","v":""}]
[null,null,null,null,null,null,null,null,null,null,null,{"$f":"IF(lammering[[#This Row],[Speen-gewicht]]=\"\",\"\",Berekeningen!J471*1000)","v":""},null,null,{"$f":"IF(lammering[[#This Row],[Verkoop-gewicht]]=\"\",\"\",Berekeningen!L471*1000)","v":""}]
[null,null,null,null,null,null,null,null,null,null,null,{"$f":"IF(lammering[[#This Row],[Speen-gewicht]]=\"\",\"\",Berekeningen!J472*1000)","v":""},null,null,{"$f":"IF(lammering[[#This Row],[Verkoop-gewicht]]=\"\",\"\",Berekeningen!L472*1000)","v":""}]
[null,null,null,null,null,null,null,null,null,null,null,{"$f":"IF(lammering[[#This Row],[Speen-gewicht]]=\"\",\"\",Berekeningen!J473*1000)","v":""},null,null,{"$f":"IF(lammering[[#This Row],[Verkoop-gewicht]]=\"\",\"\",Berekeningen!L473*1000)","v":""}]
[null,null,null,null,null,null,null,null,null,null,null,{"$f":"IF(lammering[[#This Row],[Speen-gewicht]]=\"\",\"\",Berekeningen!J474*1000)","v":""},null,null,{"$f":"IF(lammering[[#This Row],[Verkoop-gewicht]]=\"\",\"\",Berekeningen!L474*1000)","v":""}]
[null,null,null,null,null,null,null,null,null,null,null,{"$f":"IF(lammering[[#This Row],[Speen-gewicht]]=\"\",\"\",Berekeningen!J475*1000)","v":""},null,null,{"$f":"IF(lammering[[#This Row],[Verkoop-gewicht]]=\"\",\"\",Berekeningen!L475*1000)","v":""}]
[null,null,null,null,null,null,null,null,null,null,null,{"$f":"IF(lammering[[#This Row],[Speen-gewicht]]=\"\",\"\",Berekeningen!J476*1000)","v":""},null,null,{"$f":"IF(lammering[[#This Row],[Verkoop-gewicht]]=\"\",\"\",Berekeningen!L476*1000)","v":""}]
[null,null,null,null,null,null,null,null,null,null,null,{"$f":"IF(lammering[[#This Row],[Speen-gewicht]]=\"\",\"\",Berekeningen!J477*1000)","v":""},null,null,{"$f":"IF(lammering[[#This Row],[Verkoop-gewicht]]=\"\",\"\",Berekeningen!L477*1000)","v":""}]
[null,null,null,null,null,null,null,null,null,null,null,{"$f":"IF(lammering[[#This Row],[Speen-gewicht]]=\"\",\"\",Berekeningen!J478*1000)","v":""},null,null,{"$f":"IF(lammering[[#This Row],[Verkoop-gewicht]]=\"\",\"\",Berekeningen!L478*1000)","v":""}]
[null,null,null,null,null,null,null,null,null,null,null,{"$f":"IF(lammering[[#This Row],[Speen-gewicht]]=\"\",\"\",Berekeningen!J479*1000)","v":""},null,null,{"$f":"IF(lammering[[#This Row],[Verkoop-gewicht]]=\"\",\"\",Berekeningen!L479*1000)","v":""}]
[null,null,null,null,null,null,null,null,null,null,null,{"$f":"IF(lammering[[#This Row],[Speen-gewicht]]=\"\",\"\",Berekeningen!J480*1000)","v":""},null,null,{"$f":"IF(lammering[[#This Row],[Verkoop-gewicht]]=\"\",\"\",Berekeningen!L480*1000)","v":""}]
[null,null,null,null,null,null,null,null,null,null,null,{"$f":"IF(lammering[[#This Row],[Speen-gewicht]]=\"\",\"\",Berekeningen!J481*1000)","v":""},null,null,{"$f":"IF(lammering[[#This Row],[Verkoop-gewicht]]=\"\",\"\",Berekeningen!L481*1000)","v":""}]
[null,null,null,null,null,null,null,null,null,null,null,{"$f":"IF(lammering[[#This Row],[Speen-gewicht]]=\"\",\"\",Berekeningen!J482*1000)","v":""},null,null,{"$f":"IF(lammering[[#This Row],[Verkoop-gewicht]]=\"\",\"\",Berekeningen!L482*1000)","v":""}]
[null,null,null,null,null,null,null,null,null,null,null,{"$f":"IF(lammering[[#This Row],[Speen-gewicht]]=\"\",\"\",Berekeningen!J483*1000)","v":""},null,null,{"$f":"IF(lammering[[#This Row],[Verkoop-gewicht]]=\"\",\"\",Berekeningen!L483*1000)","v":""}]
[null,null,null,null,null,null,null,null,null,null,null,{"$f":"IF(lammering[[#This Row],[Speen-gewicht]]=\"\",\"\",Berekeningen!J484*1000)","v":""},null,null,{"$f":"IF(lammering[[#This Row],[Verkoop-gewicht]]=\"\",\"\",Berekeningen!L484*1000)","v":""}]
[null,null,null,null,null,null,null,null,null,null,null,{"$f":"IF(lammering[[#This Row],[Speen-gewicht]]=\"\",\"\",Berekeningen!J485*1000)","v":""},null,null,{"$f":"IF(lammering[[#This Row],[Verkoop-gewicht]]=\"\",\"\",Berekeningen!L485*1000)","v":""}]
[null,null,null,null,null,null,null,null,null,null,null,{"$f":"IF(lammering[[#This Row],[Speen-gewicht]]=\"\",\"\",Berekeningen!J486*1000)","v":""},null,null,{"$f":"IF(lammering[[#This Row],[Verkoop-gewicht]]=\"\",\"\",Berekeningen!L486*1000)","v":""}]
[null,null,null,null,null,null,null,null,null,null,null,{"$f":"IF(lammering[[#This Row],[Speen-gewicht]]=\"\",\"\",Berekeningen!J487*1000)","v":""},null,null,{"$f":"IF(lammering[[#This Row],[Verkoop-gewicht]]=\"\",\"\",Berekeningen!L487*1000)","v":""}]
[null,null,null,null,null,null,null,null,null,null,null,{"$f":"IF(lammering[[#This Row],[Speen-gewicht]]=\"\",\"\",Berekeningen!J488*1000)","v":""},null,null,{"$f":"IF(lammering[[#This Row],[Verkoop-gewicht]]=\"\",\"\",Berekeningen!L488*1000)","v":""}]
[null,null,null,null,null,null,null,null,null,null,null,{"$f":"IF(lammering[[#This Row],[Speen-gewicht]]=\"\",\"\",Berekeningen!J489*1000)","v":""},null,null,{"$f":"IF(lammering[[#This Row],[Verkoop-gewicht]]=\"\",\"\",Berekeningen!L489*1000)","v":""}]
[null,null,null,null,null,null,null,null,null,null,null,{"$f":"IF(lammering[[#This Row],[Speen-gewicht]]=\"\",\"\",Berekeningen!J490*1000)","v":""},null,null,{"$f":"IF(lammering[[#This Row],[Verkoop-gewicht]]=\"\",\"\",Berekeningen!L490*1000)","v":""}]
[null,null,null,null,null,null,null,null,null,null,null,{"$f":"IF(lammering[[#This Row],[Speen-gewicht]]=\"\",\"\",Berekeningen!J491*1000)","v":""},null,null,{"$f":"IF(lammering[[#This Row],[Verkoop-gewicht]]=\"\",\"\",Berekeningen!L491*1000)","v":""}]
[null,null,null,null,null,null,null,null,null,null,null,{"$f":"IF(lammering[[#This Row],[Speen-gewicht]]=\"\",\"\",Berekeningen!J492*1000)","v":""},null,null,{"$f":"IF(lammering[[#This Row],[Verkoop-gewicht]]=\"\",\"\",Berekeningen!L492*1000)","v":""}]
[null,null,null,null,null,null,null,null,null,null,null,{"$f":"IF(lammering[[#This Row],[Speen-gewicht]]=\"\",\"\",Berekeningen!J493*1000)","v":""},null,null,{"$f":"IF(lammering[[#This Row],[Verkoop-gewicht]]=\"\",\"\",Berekeningen!L493*1000)","v":""}]
[null,null,null,null,null,null,null,null,null,null,null,{"$f":"IF(lammering[[#This Row],[Speen-gewicht]]=\"\",\"\",Berekeningen!J494*1000)","v":""},null,null,{"$f":"IF(lammering[[#This Row],[Verkoop-gewicht]]=\"\",\"\",Berekeningen!L494*1000)","v":""}]
[null,null,null,null,null,null,null,null,null,null,null,{"$f":"IF(lammering[[#This Row],[Speen-gewicht]]=\"\",\"\",Berekeningen!J495*1000)","v":""},null,null,{"$f":"IF(lammering[[#This Row],[Verkoop-gewicht]]=\"\",\"\",Berekeningen!L495*1000)","v":""}]
[null,null,null,null,null,null,null,null,null,null,null,{"$f":"IF(lammering[[#This Row],[Speen-gewicht]]=\"\",\"\",Berekeningen!J496*1000)","v":""},null,null,{"$f":"IF(lammering[[#This Row],[Verkoop-gewicht]]=\"\",\"\",Berekeningen!L496*1000)","v":""}]
[null,null,null,null,null,null,null,null,null,null,null,{"$f":"IF(lammering[[#This Row],[Speen-gewicht]]=\"\",\"\",Berekeningen!J497*1000)","v":""},null,null,{"$f":"IF(lammering[[#This Row],[Verkoop-gewicht]]=\"\",\"\",Berekeningen!L497*1000)","v":""}]
[null,null,null,null,null,null,null,null,null,null,null,{"$f":"IF(lammering[[#This Row],[Speen-gewicht]]=\"\",\"\",Berekeningen!J498*1000)","v":""},null,null,{"$f":"IF(lammering[[#This Row],[Verkoop-gewicht]]=\"\",\"\",Berekeningen!L498*1000)","v":""}]
[null,null,null,null,null,null,null,null,null,null,null,{"$f":"IF(lammering[[#This Row],[Speen-gewicht]]=\"\",\"\",Berekeningen!J499*1000)","v":""},null,null,{"$f":"IF(lammering[[#This Row],[Verkoop-gewicht]]=\"\",\"\",Berekeningen!L499*1000)","v":""}]
[null,null,null,null,null,null,null,null,null,null,null,{"$f":"IF(lammering[[#This Row],[Speen-gewicht]]=\"\",\"\",Berekeningen!J500*1000)","v":""},null,null,{"$f":"IF(lammering[[#This Row],[Verkoop-gewicht]]=\"\",\"\",Berekeningen!L500*1000)","v":""}]
[null,null,null,null,null,null,null,null,null,null,null,{"$f":"IF(lammering[[#This Row],[Speen-gewicht]]=\"\",\"\",Berekeningen!J501*1000)","v":""},null,null,{"$f":"IF(lammering[[#This Row],[Verkoop-gewicht]]=\"\",\"\",Berekeningen!L501*1000)","v":""}]

{"sheet":"Berekeningen","index":4,"n_rows":500,"n_cols":24,"rows_kept":500,"cut":false,"hidden":true,"merged":[]}
["Ooien - nr","aantal lammeringen","nummer ooi per lammering","aantal lammeren","aantal dode lammeren bij geboorte","aantal levende lammeren bij geboorte","aantal levende lammeren bij verkoop","kunstmelk","vrouwelijke lammeren","groei per dag geboorte tot spenen","groei per dag spenen tot verkoop","groei per dag geboorte tot verkoop","groei ooien per dag geboorte tot spenen","groei ooien per dag spenen tot verkoop","groei ooien per dag geboorte tot verkoop","groei rammen per dag geboorte tot spenen","groei rammen per dag spenen tot verkoop","groei rammen per dag geboorte tot verkoop","groei","groei ooien","groei rammen","ooien","lammering per ooi","lammeringen per ooi als gelammerd"]
[{"$f":"lammering[[#This Row],[Ooi]]","v":"BE127620113"},{"$f":"IF(A2=0,0,IF(A2=A1,0,1))","v":1},{"$f":"IF(B2=1,A2,0)","v":"BE127620113"},{"$f":"IF(lammering[[#This Row],[Lam-nummer]]=\"\",0,1)","v":1},{"$f":"IF(lammering[[#This Row],[Dood in geboorte]]=\"ja\",1,0)","v":0},{"$f":"IF(lammering[[#This Row],[Ooi]]=\"\",0,IF(Berekeningen!E2=0,1,0))","v":1},{"$f":"IF(lammering[[#This Row],[Dood in geboorte]]=\"Ja\",0,IF(lammering[[#This Row],[Dood na geboorte]]=\"ja\",0,1))","v":1},{"$f":"IF(lammering[[#This Row],[Opfok met kunstmelk]]=\"Ja\",1,0)","v":0},{"$f":"IF(lammering[[#This Row],[geslacht]]=\"O\",1,0)","v":0},{"$f":"IF(lammering[[#This Row],[Speen-datum]]=\"\",\"\",(lammering[[#This Row],[Speen-gewicht]]-lammering[[#This Row],[geboorte-gewicht]])/(lammering[[#This Row],[Speen-datum]]-lammering[[#This Row],[Werp-datum]]))","v":0.32692307692307693},{"$f":"IF(lammering[[#This Row],[Verkoop-datum]]=\"\",\"\",(lammering[[#This Row],[Verkoop-gewicht]]-lammering[[#This Row],[Speen-gewicht]])/(lammering[[#This Row],[Verkoop-datum]]-lammering[[#This Row],[Speen-datum]]))","v":-0.55555555555555558},{"$f":"IF(lammering[[#This Row],[Verkoop-datum]]=\"\",\"\",(lammering[[#This Row],[Verkoop-gewicht]]-lammering[[#This Row],[geboorte-gewicht]])/(lammering[[#This Row],[Verkoop-datum]]-lammering[[#This Row],[Werp-datum]]))","v":0.27878787878787881},{"$f":"IF($I2=1,J2,\"\")","v":""},{"$f":"IF($I2=1,K2,\"\")","v":""},{"$f":"IF($I2=1,L2,\"\")","v":""},{"$f":"IF($I2=0,J2,\"\")","v":0.32692307692307693},{"$f":"IF($I2=0,K2,\"\")","v":-0.55555555555555558},{"$f":"IF($I2=0,L2,\"\")","v":0.27878787878787881},{"$f":"IF(lammering[[#This Row],[Verkoop-gewicht]]=\"\",\"\",lammering[[#This Row],[Verkoop-gewicht]]-lammering[[#This Row],[geboorte-gewicht]])","v":46},{"$f":"IF(I2=1,S2,\"\")","v":""},{"$f":"IF(I2=0,S2,\"\")","v":46},{"$f":"Opzoek_ooi[[#This Row],[Ooinummer]]","v":"BE519886427"},{"$f":"IF(V2=0,\"\",COUNTIF(C$2:C$500,V2))","v":1},{"$f":"IF(W2>0,W2,\"\")","v":1}]
[{"$f":"lammering[[#This Row],[Ooi]]","v":"BE577340068"},{"$f":"IF(A3=0,0,IF(A3=A2,0,1))","v":1},{"$f":"IF(B3=1,A3,0)","v":"BE577340068"},{"$f":"IF(lammering[[#This Row],[Lam-nummer]]=\"\",0,1)","v":1},{"$f":"IF(lammering[[#This Row],[Dood in geboorte]]=\"ja\",1,0)","v":0},{"$f":"IF(lammering[[#This Row],[Ooi]]=\"\",0,IF(Berekeningen!E3=0,1,0))","v":1},{"$f":"IF(lammering[[#This Row],[Dood in geboorte]]=\"Ja\",0,IF(lammering[[#This Row],[Dood na geboorte]]=\"ja\",0,1))","v":1},{"$f":"IF(lammering[[#This Row],[Opfok met kunstmelk]]=\"Ja\",1,0)","v":0},{"$f":"IF(lammering[[#This Row],[geslacht]]=\"O\",1,0)","v":0},{"$f":"IF(lammering[[#This Row],[Speen-datum]]=\"\",\"\",(lammering[[#This Row],[Speen-gewicht]]-lammering[[#This Row],[geboorte-gewicht]])/(lammering[[#This Row],[Speen-datum]]-lammering[[#This Row],[Werp-datum]]))","v":0.23612903225806453},{"$f":"IF(lammering[[#This Row],[Verkoop-datum]]=\"\",\"\",(lammering[[#This Row],[Verkoop-gewicht]]-lammering[[#This Row],[Speen-gewicht]])/(lammering[[#This Row],[Verkoop-datum]]-lammering[[#This Row],[Speen-datum]]))","v":0.66666666666666663},{"$f":"IF(lammering[[#This Row],[Verkoop-datum]]=\"\",\"\",(lammering[[#This Row],[Verkoop-gewicht]]-lammering[[#This Row],[geboorte-gewicht]])/(lammering[[#This Row],[Verkoop-datum]]-lammering[[#This Row],[Werp-datum]]))","v":0.25975609756097562},{"$f":"IF($I3=1,J3,\"\")","v":""},{"$f":"IF($I3=1,K3,\"\")","v":""},{"$f":"IF($I3=1,L3,\"\")","v":""},{"$f":"IF($I3=0,J3,\"\")","v":0.23612903225806453},{"$f":"IF($I3=0,K3,\"\")","v":0.66666666666666663},{"$f":"IF($I3=0,L3,\"\")","v":0.25975609756097562},{"$f":"IF(lammering[[#This Row],[Verkoop-gewicht]]=\"\",\"\",lammering[[#This Row],[Verkoop-gewicht]]-lammering[[#This Row],[geboorte-gewicht]])","v":42.6},{"$f":"IF(I3=1,S3,\"\")","v":""},{"$f":"IF(I3=0,S3,\"\")","v":42.6},{"$f":"Opzoek_ooi[[#This Row],[Ooinummer]]","v":"BE527620141"},1,{"$f":"IF(W3>0,W3,\"\")","v":1}]
[{"$f":"lammering[[#This Row],[Ooi]]","v":"BE577340068"},0,0,{"$f":"IF(lammering[[#This Row],[Lam-nummer]]=\"\",0,1)","v":1},{"$f":"IF(lammering[[#This Row],[Dood in geboorte]]=\"ja\",1,0)","v":0},{"$f":"IF(lammering[[#This Row],[Ooi]]=\"\",0,IF(Berekeningen!E4=0,1,0))","v":1},{"$f":"IF(lammering[[#This Row],[Dood in geboorte]]=\"Ja\",0,IF(lammering[[#This Row],[Dood na geboorte]]=\"ja\",0,1))","v":1},{"$f":"IF(lammering[[#This Row],[Opfok met kunstmelk]]=\"Ja\",1,0)","v":0},{"$f":"IF(lammering[[#This Row],[geslacht]]=\"O\",1,0)","v":1},{"$f":"IF(lammering[[#This Row],[Speen-datum]]=\"\",\"\",(lammering[[#This Row],[Speen-gewicht]]-lammering[[#This Row],[geboorte-gewicht]])/(lammering[[#This Row],[Speen-datum]]-lammering[[#This Row],[Werp-datum]]))","v":""},{"$f":"IF(lammering[[#This Row],[Verkoop-datum]]=\"\",\"\",(lammering[[#This Row],[Verkoop-gewicht]]-lammering[[#This Row],[Speen-gewicht]])/(lammering[[#This Row],[Verkoop-datum]]-lammering[[#This Row],[Speen-datum]]))","v":""},{"$f":"IF(lammering[[#This Row],[Verkoop-datum]]=\"\",\"\",(lammering[[#This Row],[Verkoop-gewicht]]-lammering[[#This Row],[geboorte-gewicht]])/(lammering[[#This Row],[Verkoop-datum]]-lammering[[#This Row],[Werp-datum]]))","v":""},"","","","","","",{"$f":"IF(lammering[[#This Row],[Verkoop-gewicht]]=\"\",\"\",lammering[[#This Row],[Verkoop-gewicht]]-lammering[[#This Row],[geboorte-gewicht]])","v":""},"","",{"$f":"Opzoek_ooi[[#This Row],[Ooinummer]]","v":"BE127620112"},1,1]
[{"$f":"lammering[[#This Row],[Ooi]]","v":"BE577340068"},0,0,{"$f":"IF(lammering[[#This Row],[Lam-nummer]]=\"\",0,1)","v":0},{"$f":"IF(lammering[[#This Row],[Dood in geboorte]]=\"ja\",1,0)","v":1},{"$f":"IF(lammering[[#This Row],[Ooi]]=\"\",0,IF(Berekeningen!E5=0,1,0))","v":0},{"$f":"IF(lammering[[#This Row],[Dood in geboorte]]=\"Ja\",0,IF(lammering[[#This Row],[Dood na geboorte]]=\"ja\",0,1))","v":0},{"$f":"IF(lammering[[#This Row],[Opfok met kunstmelk]]=\"Ja\",1,0)","v":0},{"$f":"IF(lammering[[#This Row],[geslacht]]=\"O\",1,0)","v":0},{"$f":"IF(lammering[[#This Row],[Speen-datum]]=\"\",\"\",(lammering[[#This Row],[Speen-gewicht]]-lammering[[#This Row],[geboorte-gewicht]])/(lammering[[#This Row],[Speen-datum]]-lammering[[#This Row],[Werp-datum]]))","v":""},{"$f":"IF(lammering[[#This Row],[Verkoop-datum]]=\"\",\"\",(lammering[[#This Row],[Verkoop-gewicht]]-lammering[[#This Row],[Speen-gewicht]])/(lammering[[#This Row],[Verkoop-datum]]-lammering[[#This Row],[Speen-datum]]))","v":""},{"$f":"IF(lammering[[#This Row],[Verkoop-datum]]=\"\",\"\",(lammering[[#This Row],[Verkoop-gewicht]]-lammering[[#This Row],[geboorte-gewicht]])/(lammering[[#This Row],[Verkoop-datum]]-lammering[[#This Row],[Werp-datum]]))","v":""},"","","","","","",{"$f":"IF(lammering[[#This Row],[Verkoop-gewicht]]=\"\",\"\",lammering[[#This Row],[Verkoop-gewicht]]-lammering[[#This Row],[geboorte-gewicht]])","v":""},"","",{"$f":"Opzoek_ooi[[#This Row],[Ooinummer]]","v":"BE127620113"},1,1]
[{"$f":"lammering[[#This Row],[Ooi]]","v":"BE977340164"},1,"BE977340164",{"$f":"IF(lammering[[#This Row],[Lam-nummer]]=\"\",0,1)","v":1},{"$f":"IF(lammering[[#This Row],[Dood in geboorte]]=\"ja\",1,0)","v":0},{"$f":"IF(lammering[[#This Row],[Ooi]]=\"\",0,IF(Berekeningen!E6=0,1,0))","v":1},{"$f":"IF(lammering[[#This Row],[Dood in geboorte]]=\"Ja\",0,IF(lammering[[#This Row],[Dood na geboorte]]=\"ja\",0,1))","v":1},{"$f":"IF(lammering[[#This Row],[Opfok met kunstmelk]]=\"Ja\",1,0)","v":0},{"$f":"IF(lammering[[#This Row],[geslacht]]=\"O\",1,0)","v":1},{"$f":"IF(lammering[[#This Row],[Speen-datum]]=\"\",\"\",(lammering[[#This Row],[Speen-gewicht]]-lammering[[#This Row],[geboorte-gewicht]])/(lammering[[#This Row],[Speen-datum]]-lammering[[#This Row],[Werp-datum]]))","v":0.24052287581699344},{"$f":"IF(lammering[[#This Row],[Verkoop-datum]]=\"\",\"\",(lammering[[#This Row],[Verkoop-gewicht]]-lammering[[#This Row],[Speen-gewicht]])/(lammering[[#This Row],[Verkoop-datum]]-lammering[[#This Row],[Speen-datum]]))","v":{"$error":"#DIV/0!"}},{"$f":"IF(lammering[[#This Row],[Verkoop-datum]]=\"\",\"\",(lammering[[#This Row],[Verkoop-gewicht]]-lammering[[#This Row],[geboorte-gewicht]])/(lammering[[#This Row],[Verkoop-datum]]-lammering[[#This Row],[Werp-datum]]))","v":0.24052287581699344},0.24052287581699344,{"$error":"#DIV/0!"},0.24052287581699344,"","","",{"$f":"IF(lammering[[#This Row],[Verkoop-gewicht]]=\"\",\"\",lammering[[#This Row],[Verkoop-gewicht]]-lammering[[#This Row],[geboorte-gewicht]])","v":36.799999999999997},36.799999999999997,"",{"$f":"Opzoek_ooi[[#This Row],[Ooinummer]]","v":"BE677340126"},1,1]
[{"$f":"lammering[[#This Row],[Ooi]]","v":"BE977340164"},0,0,{"$f":"IF(lammering[[#This Row],[Lam-nummer]]=\"\",0,1)","v":1},{"$f":"IF(lammering[[#This Row],[Dood in geboorte]]=\"ja\",1,0)","v":0},{"$f":"IF(lammering[[#This Row],[Ooi]]=\"\",0,IF(Berekeningen!E7=0,1,0))","v":1},{"$f":"IF(lammering[[#This Row],[Dood in geboorte]]=\"Ja\",0,IF(lammering[[#This Row],[Dood na geboorte]]=\"ja\",0,1))","v":1},{"$f":"IF(lammering[[#This Row],[Opfok met kunstmelk]]=\"Ja\",1,0)","v":0},{"$f":"IF(lammering[[#This Row],[geslacht]]=\"O\",1,0)","v":1},{"$f":"IF(lammering[[#This Row],[Speen-datum]]=\"\",\"\",(lammering[[#This Row],[Speen-gewicht]]-lammering[[#This Row],[geboorte-gewicht]])/(lammering[[#This Row],[Speen-datum]]-lammering[[#This Row],[Werp-datum]]))","v":0.24183006535947713},{"$f":"IF(lammering[[#This Row],[Verkoop-datum]]=\"\",\"\",(lammering[[#This Row],[Verkoop-gewicht]]-lammering[[#This Row],[Speen-gewicht]])/(lammering[[#This Row],[Verkoop-datum]]-lammering[[#This Row],[Speen-datum]]))","v":{"$error":"#DIV/0!"}},{"$f":"IF(lammering[[#This Row],[Verkoop-datum]]=\"\",\"\",(lammering[[#This Row],[Verkoop-gewicht]]-lammering[[#This Row],[geboorte-gewicht]])/(lammering[[#This Row],[Verkoop-datum]]-lammering[[#This Row],[Werp-datum]]))","v":0.24183006535947713},0.24183006535947713,{"$error":"#DIV/0!"},0.24183006535947713,"","","",{"$f":"IF(lammering[[#This Row],[Verkoop-gewicht]]=\"\",\"\",lammering[[#This Row],[Verkoop-gewicht]]-lammering[[#This Row],[geboorte-gewicht]])","v":37},37,"",{"$f":"Opzoek_ooi[[#This Row],[Ooinummer]]","v":"BE577340068"},1,1]
[{"$f":"lammering[[#This Row],[Ooi]]","v":"BE077340163"},1,"BE077340163",{"$f":"IF(lammering[[#This Row],[Lam-nummer]]=\"\",0,1)","v":1},{"$f":"IF(lammering[[#This Row],[Dood in geboorte]]=\"ja\",1,0)","v":0},{"$f":"IF(lammering[[#This Row],[Ooi]]=\"\",0,IF(Berekeningen!E8=0,1,0))","v":1},{"$f":"IF(lammering[[#This Row],[Dood in geboorte]]=\"Ja\",0,IF(lammering[[#This Row],[Dood na geboorte]]=\"ja\",0,1))","v":1},{"$f":"IF(lammering[[#This Row],[Opfok met kunstmelk]]=\"Ja\",1,0)","v":0},{"$f":"IF(lammering[[#This Row],[geslacht]]=\"O\",1,0)","v":1},{"$f":"IF(lammering[[#This Row],[Speen-datum]]=\"\",\"\",(lammering[[#This Row],[Speen-gewicht]]-lammering[[#This Row],[geboorte-gewicht]])/(lammering[[#This Row],[Speen-datum]]-lammering[[#This Row],[Werp-datum]]))","v":0.26258503401360545},{"$f":"IF(lammering[[#This Row],[Verkoop-datum]]=\"\",\"\",(lammering[[#This Row],[Verkoop-gewicht]]-lammering[[#This Row],[Speen-gewicht]])/(lammering[[#This Row],[Verkoop-datum]]-lammering[[#This Row],[Speen-datum]]))","v":""},{"$f":"IF(lammering[[#This Row],[Verkoop-datum]]=\"\",\"\",(lammering[[#This Row],[Verkoop-gewicht]]-lammering[[#This Row],[geboorte-gewicht]])/(lammering[[#This Row],[Verkoop-datum]]-lammering[[#This Row],[Werp-datum]]))","v":""},0.26258503401360545,"","","","","",{"$f":"IF(lammering[[#This Row],[Verkoop-gewicht]]=\"\",\"\",lammering[[#This Row],[Verkoop-gewicht]]-lammering[[#This Row],[geboorte-gewicht]])","v":""},"","",{"$f":"Opzoek_ooi[[#This Row],[Ooinummer]]","v":"BE977340164"},1,1]
[{"$f":"lammering[[#This Row],[Ooi]]","v":"BE077340163"},0,0,{"$f":"IF(lammering[[#This Row],[Lam-nummer]]=\"\",0,1)","v":1},{"$f":"IF(lammering[[#This Row],[Dood in geboorte]]=\"ja\",1,0)","v":0},{"$f":"IF(lammering[[#This Row],[Ooi]]=\"\",0,IF(Berekeningen!E9=0,1,0))","v":1},{"$f":"IF(lammering[[#This Row],[Dood in geboorte]]=\"Ja\",0,IF(lammering[[#This Row],[Dood na geboorte]]=\"ja\",0,1))","v":1},{"$f":"IF(lammering[[#This Row],[Opfok met kunstmelk]]=\"Ja\",1,0)","v":0},{"$f":"IF(lammering[[#This Row],[geslacht]]=\"O\",1,0)","v":1},{"$f":"IF(lammering[[#This Row],[Speen-datum]]=\"\",\"\",(lammering[[#This Row],[Speen-gewicht]]-lammering[[#This Row],[geboorte-gewicht]])/(lammering[[#This Row],[Speen-datum]]-lammering[[#This Row],[Werp-datum]]))","v":0.26122448979591834},{"$f":"IF(lammering[[#This Row],[Verkoop-datum]]=\"\",\"\",(lammering[[#This Row],[Verkoop-gewicht]]-lammering[[#This Row],[Speen-gewicht]])/(lammering[[#This Row],[Verkoop-datum]]-lammering[[#This Row],[Speen-datum]]))","v":""},{"$f":"IF(lammering[[#This Row],[Verkoop-datum]]=\"\",\"\",(lammering[[#This Row],[Verkoop-gewicht]]-lammering[[#This Row],[geboorte-gewicht]])/(lammering[[#This Row],[Verkoop-datum]]-lammering[[#This Row],[Werp-datum]]))","v":""},0.26122448979591834,"","","","","",{"$f":"IF(lammering[[#This Row],[Verkoop-gewicht]]=\"\",\"\",lammering[[#This Row],[Verkoop-gewicht]]-lammering[[#This Row],[geboorte-gewicht]])","v":""},"","",{"$f":"Opzoek_ooi[[#This Row],[Ooinummer]]","v":"BE077340163"},1,1]
[{"$f":"lammering[[#This Row],[Ooi]]","v":"BE077340163"},0,0,{"$f":"IF(lammering[[#This Row],[Lam-nummer]]=\"\",0,1)","v":1},{"$f":"IF(lammering[[#This Row],[Dood in geboorte]]=\"ja\",1,0)","v":0},{"$f":"IF(lammering[[#This Row],[Ooi]]=\"\",0,IF(Berekeningen!E10=0,1,0))","v":1},{"$f":"IF(lammering[[#This Row],[Dood in geboorte]]=\"Ja\",0,IF(lammering[[#This Row],[Dood na geboorte]]=\"ja\",0,1))","v":1},{"$f":"IF(lammering[[#This Row],[Opfok met kunstmelk]]=\"Ja\",1,0)","v":0},{"$f":"IF(lammering[[#This Row],[geslacht]]=\"O\",1,0)","v":0},{"$f":"IF(lammering[[#This Row],[Speen-datum]]=\"\",\"\",(lammering[[#This Row],[Speen-gewicht]]-lammering[[#This Row],[geboorte-gewicht]])/(lammering[[#This Row],[Speen-datum]]-lammering[[#This Row],[Werp-datum]]))","v":0.30612244897959184},{"$f":"IF(lammering[[#This Row],[Verkoop-datum]]=\"\",\"\",(lammering[[#This Row],[Verkoop-gewicht]]-lammering[[#This Row],[Speen-gewicht]])/(lammering[[#This Row],[Verkoop-datum]]-lammering[[#This Row],[Speen-datum]]))","v":{"$error":"#DIV/0!"}},{"$f":"IF(lammering[[#This Row],[Verkoop-datum]]=\"\",\"\",(lammering[[#This Row],[Verkoop-gewicht]]-lammering[[#This Row],[geboorte-gewicht]])/(lammering[[#This Row],[Verkoop-datum]]-lammering[[#This Row],[Werp-datum]]))","v":0.30612244897959184},"","","",0.30612244897959184,{"$error":"#DIV/0!"},0.30612244897959184,{"$f":"IF(lammering[[#This Row],[Verkoop-gewicht]]=\"\",\"\",lammering[[#This Row],[Verkoop-gewicht]]-lammering[[#This Row],[geboorte-gewicht]])","v":45},"",45,{"$f":"Opzoek_ooi[[#This Row],[Ooinummer]]","v":"BE119886429"},1,1]
[{"$f":"lammering[[#This Row],[Ooi]]","v":"BE519886430"},1,"BE519886430",{"$f":"IF(lammering[[#This Row],[Lam-nummer]]=\"\",0,1)","v":1},{"$f":"IF(lammering[[#This Row],[Dood in geboorte]]=\"ja\",1,0)","v":0},{"$f":"IF(lammering[[#This Row],[Ooi]]=\"\",0,IF(Berekeningen!E11=0,1,0))","v":1},{"$f":"IF(D11=0,0,IF(lammering[[#This Row],[Dood in geboorte]]=\"Ja\",0,IF(lammering[[#This Row],[Dood na geboorte]]=\"ja\",0,1)))","v":1},{"$f":"IF(lammering[[#This Row],[Opfok met kunstmelk]]=\"Ja\",1,0)","v":0},{"$f":"IF(lammering[[#This Row],[geslacht]]=\"O\",1,0)","v":1},{"$f":"IF(lammering[[#This Row],[Speen-datum]]=\"\",\"\",(lammering[[#This Row],[Speen-gewicht]]-lammering[[#This Row],[geboorte-gewicht]])/(lammering[[#This Row],[Speen-datum]]-lammering[[#This Row],[Werp-datum]]))","v":0.31974522292993635},{"$f":"IF(lammering[[#This Row],[Verkoop-datum]]=\"\",\"\",(lammering[[#This Row],[Verkoop-gewicht]]-lammering[[#This Row],[Speen-gewicht]])/(lammering[[#This Row],[Verkoop-datum]]-lammering[[#This Row],[Speen-datum]]))","v":""},{"$f":"IF(lammering[[#This Row],[Verkoop-datum]]=\"\",\"\",(lammering[[#This Row],[Verkoop-gewicht]]-lammering[[#This Row],[geboorte-gewicht]])/(lammering[[#This Row],[Verkoop-datum]]-lammering[[#This Row],[Werp-datum]]))","v":""},0.31974522292993635,"","","","","",{"$f":"IF(lammering[[#This Row],[Verkoop-gewicht]]=\"\",\"\",lammering[[#This Row],[Verkoop-gewicht]]-lammering[[#This Row],[geboorte-gewicht]])","v":""},"","",{"$f":"Opzoek_ooi[[#This Row],[Ooinummer]]","v":"BE276710026"},1,1]
[{"$f":"lammering[[#This Row],[Ooi]]","v":"BE519886430"},0,0,{"$f":"IF(lammering[[#This Row],[Lam-nummer]]=\"\",0,1)","v":1},{"$f":"IF(lammering[[#This Row],[Dood in geboorte]]=\"ja\",1,0)","v":0},{"$f":"IF(lammering[[#This Row],[Ooi]]=\"\",0,IF(Berekeningen!E12=0,1,0))","v":1},{"$f":"IF(D12=0,0,IF(lammering[[#This Row],[Dood in geboorte]]=\"Ja\",0,IF(lammering[[#This Row],[Dood na geboorte]]=\"ja\",0,1)))","v":1},{"$f":"IF(lammering[[#This Row],[Opfok met kunstmelk]]=\"Ja\",1,0)","v":0},{"$f":"IF(lammering[[#This Row],[geslacht]]=\"O\",1,0)","v":0},{"$f":"IF(lammering[[#This Row],[Speen-datum]]=\"\",\"\",(lammering[[#This Row],[Speen-gewicht]]-lammering[[#This Row],[geboorte-gewicht]])/(lammering[[#This Row],[Speen-datum]]-lammering[[#This Row],[Werp-datum]]))","v":0.26114649681528662},{"$f":"IF(lammering[[#This Row],[Verkoop-datum]]=\"\",\"\",(lammering[[#This Row],[Verkoop-gewicht]]-lammering[[#This Row],[Speen-gewicht]])/(lammering[[#This Row],[Verkoop-datum]]-lammering[[#This Row],[Speen-datum]]))","v":""},{"$f":"IF(lammering[[#This Row],[Verkoop-datum]]=\"\",\"\",(lammering[[#This Row],[Verkoop-gewicht]]-lammering[[#This Row],[geboorte-gewicht]])/(lammering[[#This Row],[Verkoop-datum]]-lammering[[#This Row],[Werp-datum]]))","v":""},"","","",0.26114649681528662,"","",{"$f":"IF(lammering[[#This Row],[Verkoop-gewicht]]=\"\",\"\",lammering[[#This Row],[Verkoop-gewicht]]-lammering[[#This Row],[geboorte-gewicht]])","v":""},"","",{"$f":"Opzoek_ooi[[#This Row],[Ooinummer]]","v":"BE977340083"},1,1]
[{"$f":"lammering[[#This Row],[Ooi]]","v":"BE119886429"},1,"BE119886429",{"$f":"IF(lammering[[#This Row],[Lam-nummer]]=\"\",0,1)","v":1},{"$f":"IF(lammering[[#This Row],[Dood in geboorte]]=\"ja\",1,0)","v":0},{"$f":"IF(lammering[[#This Row],[Ooi]]=\"\",0,IF(Berekeningen!E13=0,1,0))","v":1},{"$f":"IF(D13=0,0,IF(lammering[[#This Row],[Dood in geboorte]]=\"Ja\",0,IF(lammering[[#This Row],[Dood na geboorte]]=\"ja\",0,1)))","v":1},{"$f":"IF(lammering[[#This Row],[Opfok met kunstmelk]]=\"Ja\",1,0)","v":0},{"$f":"IF(lammering[[#This Row],[geslacht]]=\"O\",1,0)","v":1},{"$f":"IF(lammering[[#This Row],[Speen-datum]]=\"\",\"\",(lammering[[#This Row],[Speen-gewicht]]-lammering[[#This Row],[geboorte-gewicht]])/(lammering[[#This Row],[Speen-datum]]-lammering[[#This Row],[Werp-datum]]))","v":0.23356164383561645},{"$f":"IF(lammering[[#This Row],[Verkoop-datum]]=\"\",\"\",(lammering[[#This Row],[Verkoop-gewicht]]-lammering[[#This Row],[Speen-gewicht]])/(lammering[[#This Row],[Verkoop-datum]]-lammering[[#This Row],[Speen-datum]]))","v":{"$error":"#DIV/0!"}},{"$f":"IF(lammering[[#This Row],[Verkoop-datum]]=\"\",\"\",(lammering[[#This Row],[Verkoop-gewicht]]-lammering[[#This Row],[geboorte-gewicht]])/(lammering[[#This Row],[Verkoop-datum]]-lammering[[#This Row],[Werp-datum]]))","v":0.23356164383561645},0.23356164383561645,{"$error":"#DIV/0!"},0.23356164383561645,"","","",{"$f":"IF(lammering[[#This Row],[Verkoop-gewicht]]=\"\",\"\",lammering[[#This Row],[Verkoop-gewicht]]-lammering[[#This Row],[geboorte-gewicht]])","v":34.1},34.1,"",{"$f":"Opzoek_ooi[[#This Row],[Ooinummer]]","v":"BE919886425"},1,1]
[{"$f":"lammering[[#This Row],[Ooi]]","v":"BE119886429"},0,0,{"$f":"IF(lammering[[#This Row],[Lam-nummer]]=\"\",0,1)","v":1},{"$f":"IF(lammering[[#This Row],[Dood in geboorte]]=\"ja\",1,0)","v":0},{"$f":"IF(lammering[[#This Row],[Ooi]]=\"\",0,IF(Berekeningen!E14=0,1,0))","v":1},{"$f":"IF(D14=0,0,IF(lammering[[#This Row],[Dood in geboorte]]=\"Ja\",0,IF(lammering[[#This Row],[Dood na geboorte]]=\"ja\",0,1)))","v":1},{"$f":"IF(lammering[[#This Row],[Opfok met kunstmelk]]=\"Ja\",1,0)","v":0},{"$f":"IF(lammering[[#This Row],[geslacht]]=\"O\",1,0)","v":0},{"$f":"IF(lammering[[#This Row],[Speen-datum]]=\"\",\"\",(lammering[[#This Row],[Speen-gewicht]]-lammering[[#This Row],[geboorte-gewicht]])/(lammering[[#This Row],[Speen-datum]]-lammering[[#This Row],[Werp-datum]]))","v":0.27054794520547948},{"$f":"IF(lammering[[#This Row],[Verkoop-datum]]=\"\",\"\",(lammering[[#This Row],[Verkoop-gewicht]]-lammering[[#This Row],[Speen-gewicht]])/(lammering[[#This Row],[Verkoop-datum]]-lammering[[#This Row],[Speen-datum]]))","v":{"$error":"#DIV/0!"}},{"$f":"IF(lammering[[#This Row],[Verkoop-datum]]=\"\",\"\",(lammering[[#This Row],[Verkoop-gewicht]]-lammering[[#This Row],[geboorte-gewicht]])/(lammering[[#This Row],[Verkoop-datum]]-lammering[[#This Row],[Werp-datum]]))","v":0.27054794520547948},"","","",0.27054794520547948,{"$error":"#DIV/0!"},0.27054794520547948,{"$f":"IF(lammering[[#This Row],[Verkoop-gewicht]]=\"\",\"\",lammering[[#This Row],[Verkoop-gewicht]]-lammering[[#This Row],[geboorte-gewicht]])","v":39.5},"",39.5,{"$f":"Opzoek_ooi[[#This Row],[Ooinummer]]","v":"BE519886430"},1,1]
[{"$f":"lammering[[#This Row],[Ooi]]","v":"BE119886429"},{"$f":"IF(A15=0,0,IF(A15=A14,0,1))","v":0},0,{"$f":"IF(lammering[[#This Row],[Lam-nummer]]=\"\",0,1)","v":1},{"$f":"IF(lammering[[#This Row],[Dood in geboorte]]=\"ja\",1,0)","v":0},{"$f":"IF(lammering[[#This Row],[Ooi]]=\"\",0,IF(Berekeningen!E15=0,1,0))","v":1},{"$f":"IF(D15=0,0,IF(lammering[[#This Row],[Dood in geboorte]]=\"Ja\",0,IF(lammering[[#This Row],[Dood na geboorte]]=\"ja\",0,1)))","v":1},{"$f":"IF(lammering[[#This Row],[Opfok met kunstmelk]]=\"Ja\",1,0)","v":0},{"$f":"IF(lammering[[#This Row],[geslacht]]=\"O\",1,0)","v":0},{"$f":"IF(lammering[[#This Row],[Speen-datum]]=\"\",\"\",(lammering[[#This Row],[Speen-gewicht]]-lammering[[#This Row],[geboorte-gewicht]])/(lammering[[#This Row],[Speen-datum]]-lammering[[#This Row],[Werp-datum]]))","v":0.33661971830985915},{"$f":"IF(lammering[[#This Row],[Verkoop-datum]]=\"\",\"\",(lammering[[#This Row],[Verkoop-gewicht]]-lammering[[#This Row],[Speen-gewicht]])/(lammering[[#This Row],[Verkoop-datum]]-lammering[[#This Row],[Speen-datum]]))","v":{"$error":"#DIV/0!"}},{"$f":"IF(lammering[[#This Row],[Verkoop-datum]]=\"\",\"\",(lammering[[#This Row],[Verkoop-gewicht]]-lammering[[#This Row],[geboorte-gewicht]])/(lammering[[#This Row],[Verkoop-datum]]-lammering[[#This Row],[Werp-datum]]))","v":0.33661971830985915},{"$f":"IF($I15=1,J15,\"\")","v":""},{"$f":"IF($I15=1,K15,\"\")","v":""},{"$f":"IF($I15=1,L15,\"\")","v":""},{"$f":"IF($I15=0,J15,\"\")","v":0.33661971830985915},{"$f":"IF($I15=0,K15,\"\")","v":{"$error":"#DIV/0!"}},{"$f":"IF($I15=0,L15,\"\")","v":0.33661971830985915},{"$f":"IF(lammering[[#This Row],[Verkoop-gewicht]]=\"\",\"\",lammering[[#This Row],[Verkoop-gewicht]]-lammering[[#This Row],[geboorte-gewicht]])","v":47.8},{"$f":"IF(I15=1,S15,\"\")","v":""},{"$f":"IF(I15=0,S15,\"\")","v":47.8},{"$f":"Opzoek_ooi[[#This Row],[Ooinummer]]","v":"BE719886426"},1,1]
[{"$f":"lammering[[#This Row],[Ooi]]","v":"BE276710026"},1,"BE276710026",{"$f":"IF(lammering[[#This Row],[Lam-nummer]]=\"\",0,1)","v":1},{"$f":"IF(lammering[[#This Row],[Dood in geboorte]]=\"ja\",1,0)","v":0},{"$f":"IF(lammering[[#This Row],[Ooi]]=\"\",0,IF(Berekeningen!E16=0,1,0))","v":1},{"$f":"IF(D16=0,0,IF(lammering[[#This Row],[Dood in geboorte]]=\"Ja\",0,IF(lammering[[#This Row],[Dood na geboorte]]=\"ja\",0,1)))","v":1},{"$f":"IF(lammering[[#This Row],[Opfok met kunstmelk]]=\"Ja\",1,0)","v":0},{"$f":"IF(lammering[[#This Row],[geslacht]]=\"O\",1,0)","v":1},{"$f":"IF(lammering[[#This Row],[Speen-datum]]=\"\",\"\",(lammering[[#This Row],[Speen-gewicht]]-lammering[[#This Row],[geboorte-gewicht]])/(lammering[[#This Row],[Speen-datum]]-lammering[[#This Row],[Werp-datum]]))","v":0.29577464788732394},{"$f":"IF(lammering[[#This Row],[Verkoop-datum]]=\"\",\"\",(lammering[[#This Row],[Verkoop-gewicht]]-lammering[[#This Row],[Speen-gewicht]])/(lammering[[#This Row],[Verkoop-datum]]-lammering[[#This Row],[Speen-datum]]))","v":""},{"$f":"IF(lammering[[#This Row],[Verkoop-datum]]=\"\",\"\",(lammering[[#This Row],[Verkoop-gewicht]]-lammering[[#This Row],[geboorte-gewicht]])/(lammering[[#This Row],[Verkoop-datum]]-lammering[[#This Row],[Werp-datum]]))","v":""},0.29577464788732394,"","","","","",{"$f":"IF(lammering[[#This Row],[Verkoop-gewicht]]=\"\",\"\",lammering[[#This Row],[Verkoop-gewicht]]-lammering[[#This Row],[geboorte-gewicht]])","v":""},"","",{"$f":"Opzoek_ooi[[#This Row],[Ooinummer]]","v":"BE777340165"},{"$f":"IF(V16=0,\"\",COUNTIF(C$2:C$500,V16))","v":1},1]
[{"$f":"lammering[[#This Row],[Ooi]]","v":"BE276710026"},0,0,{"$f":"IF(lammering[[#This Row],[Lam-nummer]]=\"\",0,1)","v":1},{"$f":"IF(lammering[[#This Row],[Dood in geboorte]]=\"ja\",1,0)","v":0},{"$f":"IF(lammering[[#This Row],[Ooi]]=\"\",0,IF(Berekeningen!E17=0,1,0))","v":1},{"$f":"IF(D17=0,0,IF(lammering[[#This Row],[Dood in geboorte]]=\"Ja\",0,IF(lammering[[#This Row],[Dood na geboorte]]=\"ja\",0,1)))","v":1},{"$f":"IF(lammering[[#This Row],[Opfok met kunstmelk]]=\"Ja\",1,0)","v":0},{"$f":"IF(lammering[[#This Row],[geslacht]]=\"O\",1,0)","v":1},{"$f":"IF(lammering[[#This Row],[Speen-datum]]=\"\",\"\",(lammering[[#This Row],[Speen-gewicht]]-lammering[[#This Row],[geboorte-gewicht]])/(lammering[[#This Row],[Speen-datum]]-lammering[[#This Row],[Werp-datum]]))","v":""},{"$f":"IF(lammering[[#This Row],[Verkoop-datum]]=\"\",\"\",(lammering[[#This Row],[Verkoop-gewicht]]-lammering[[#This Row],[Speen-gewicht]])/(lammering[[#This Row],[Verkoop-datum]]-lammering[[#This Row],[Speen-datum]]))","v":""},{"$f":"IF(lammering[[#This Row],[Verkoop-datum]]=\"\",\"\",(lammering[[#This Row],[Verkoop-gewicht]]-lammering[[#This Row],[geboorte-gewicht]])/(lammering[[#This Row],[Verkoop-datum]]-lammering[[#This Row],[Werp-datum]]))","v":""},"","","","","","",{"$f":"IF(lammering[[#This Row],[Verkoop-gewicht]]=\"\",\"\",lammering[[#This Row],[Verkoop-gewicht]]-lammering[[#This Row],[geboorte-gewicht]])","v":""},"","",{"$f":"Opzoek_ooi[[#This Row],[Ooinummer]]","v":"BE227620120"},1,1]
[{"$f":"lammering[[#This Row],[Ooi]]","v":"BE919886425"},1,"BE919886425",{"$f":"IF(lammering[[#This Row],[Lam-nummer]]=\"\",0,1)","v":1},{"$f":"IF(lammering[[#This Row],[Dood in geboorte]]=\"ja\",1,0)","v":0},{"$f":"IF(lammering[[#This Row],[Ooi]]=\"\",0,IF(Berekeningen!E18=0,1,0))","v":1},{"$f":"IF(D18=0,0,IF(lammering[[#This Row],[Dood in geboorte]]=\"Ja\",0,IF(lammering[[#This Row],[Dood na geboorte]]=\"ja\",0,1)))","v":1},{"$f":"IF(lammering[[#This Row],[Opfok met kunstmelk]]=\"Ja\",1,0)","v":0},{"$f":"IF(lammering[[#This Row],[geslacht]]=\"O\",1,0)","v":1},{"$f":"IF(lammering[[#This Row],[Speen-datum]]=\"\",\"\",(lammering[[#This Row],[Speen-gewicht]]-lammering[[#This Row],[geboorte-gewicht]])/(lammering[[#This Row],[Speen-datum]]-lammering[[#This Row],[Werp-datum]]))","v":0.33548387096774196},{"$f":"IF(lammering[[#This Row],[Verkoop-datum]]=\"\",\"\",(lammering[[#This Row],[Verkoop-gewicht]]-lammering[[#This Row],[Speen-gewicht]])/(lammering[[#This Row],[Verkoop-datum]]-lammering[[#This Row],[Speen-datum]]))","v":""},{"$f":"IF(lammering[[#This Row],[Verkoop-datum]]=\"\",\"\",(lammering[[#This Row],[Verkoop-gewicht]]-lammering[[#This Row],[geboorte-gewicht]])/(lammering[[#This Row],[Verkoop-datum]]-lammering[[#This Row],[Werp-datum]]))","v":""},0.33548387096774196,"","","","","",{"$f":"IF(lammering[[#This Row],[Verkoop-gewicht]]=\"\",\"\",lammering[[#This Row],[Verkoop-gewicht]]-lammering[[#This Row],[geboorte-gewicht]])","v":""},"","",{"$f":"Opzoek_ooi[[#This Row],[Ooinummer]]","v":"BE277340095"},1,1]
[{"$f":"lammering[[#This Row],[Ooi]]","v":"BE919886425"},0,0,{"$f":"IF(lammering[[#This Row],[Lam-nummer]]=\"\",0,1)","v":1},{"$f":"IF(lammering[[#This Row],[Dood in geboorte]]=\"ja\",1,0)","v":0},{"$f":"IF(lammering[[#This Row],[Ooi]]=\"\",0,IF(Berekeningen!E19=0,1,0))","v":1},{"$f":"IF(D19=0,0,IF(lammering[[#This Row],[Dood in geboorte]]=\"Ja\",0,IF(lammering[[#This Row],[Dood na geboorte]]=\"ja\",0,1)))","v":1},{"$f":"IF(lammering[[#This Row],[Opfok met kunstmelk]]=\"Ja\",1,0)","v":0},{"$f":"IF(lammering[[#This Row],[geslacht]]=\"O\",1,0)","v":0},{"$f":"IF(lammering[[#This Row],[Speen-datum]]=\"\",\"\",(lammering[[#This Row],[Speen-gewicht]]-lammering[[#This Row],[geboorte-gewicht]])/(lammering[[#This Row],[Speen-datum]]-lammering[[#This Row],[Werp-datum]]))","v":0.38709677419354838},{"$f":"IF(lammering[[#This Row],[Verkoop-datum]]=\"\",\"\",(lammering[[#This Row],[Verkoop-gewicht]]-lammering[[#This Row],[Speen-gewicht]])/(lammering[[#This Row],[Verkoop-datum]]-lammering[[#This Row],[Speen-datum]]))","v":{"$error":"#DIV/0!"}},{"$f":"IF(lammering[[#This Row],[Verkoop-datum]]=\"\",\"\",(lammering[[#This Row],[Verkoop-gewicht]]-lammering[[#This Row],[geboorte-gewicht]])/(lammering[[#This Row],[Verkoop-datum]]-lammering[[#This Row],[Werp-datum]]))","v":0.38709677419354838},"","","",0.38709677419354838,{"$error":"#DIV/0!"},0.38709677419354838,{"$f":"IF(lammering[[#This Row],[Verkoop-gewicht]]=\"\",\"\",lammering[[#This Row],[Verkoop-gewicht]]-lammering[[#This Row],[geboorte-gewicht]])","v":60},"",60,{"$f":"Opzoek_ooi[[#This Row],[Ooinummer]]","v":"BE277340162"},1,1]
[{"$f":"lammering[[#This Row],[Ooi]]","v":"BE919886425"},0,0,{"$f":"IF(lammering[[#This Row],[Lam-nummer]]=\"\",0,1)","v":0},{"$f":"IF(lammering[[#This Row],[Dood in geboorte]]=\"ja\",1,0)","v":1},{"$f":"IF(lammering[[#This Row],[Ooi]]=\"\",0,IF(Berekeningen!E20=0,1,0))","v":0},{"$f":"IF(D20=0,0,IF(lammering[[#This Row],[Dood in geboorte]]=\"Ja\",0,IF(lammering[[#This Row],[Dood na geboorte]]=\"ja\",0,1)))","v":0},{"$f":"IF(lammering[[#This Row],[Opfok met kunstmelk]]=\"Ja\",1,0)","v":0},{"$f":"IF(lammering[[#This Row],[geslacht]]=\"O\",1,0)","v":0},{"$f":"IF(lammering[[#This Row],[Speen-datum]]=\"\",\"\",(lammering[[#This Row],[Speen-gewicht]]-lammering[[#This Row],[geboorte-gewicht]])/(lammering[[#This Row],[Speen-datum]]-lammering[[#This Row],[Werp-datum]]))","v":""},{"$f":"IF(lammering[[#This Row],[Verkoop-datum]]=\"\",\"\",(lammering[[#This Row],[Verkoop-gewicht]]-lammering[[#This Row],[Speen-gewicht]])/(lammering[[#This Row],[Verkoop-datum]]-lammering[[#This Row],[Speen-datum]]))","v":""},{"$f":"IF(lammering[[#This Row],[Verkoop-datum]]=\"\",\"\",(lammering[[#This Row],[Verkoop-gewicht]]-lammering[[#This Row],[geboorte-gewicht]])/(lammering[[#This Row],[Verkoop-datum]]-lammering[[#This Row],[Werp-datum]]))","v":""},"","","","","","",{"$f":"IF(lammering[[#This Row],[Verkoop-gewicht]]=\"\",\"\",lammering[[#This Row],[Verkoop-gewicht]]-lammering[[#This Row],[geboorte-gewicht]])","v":""},"","",{"$f":"Opzoek_ooi[[#This Row],[Ooinummer]]","v":"BE876710023"},1,1]
[{"$f":"lammering[[#This Row],[Ooi]]","v":"BE777340165"},1,"BE777340165",{"$f":"IF(lammering[[#This Row],[Lam-nummer]]=\"\",0,1)","v":0},{"$f":"IF(lammering[[#This Row],[Dood in geboorte]]=\"ja\",1,0)","v":0},{"$f":"IF(lammering[[#This Row],[Ooi]]=\"\",0,IF(Berekeningen!E21=0,1,0))","v":1},{"$f":"IF(D21=0,0,IF(lammering[[#This Row],[Dood in geboorte]]=\"Ja\",0,IF(lammering[[#This Row],[Dood na geboorte]]=\"ja\",0,1)))","v":0},{"$f":"IF(lammering[[#This Row],[Opfok met kunstmelk]]=\"Ja\",1,0)","v":0},{"$f":"IF(lammering[[#This Row],[geslacht]]=\"O\",1,0)","v":1},{"$f":"IF(lammering[[#This Row],[Speen-datum]]=\"\",\"\",(lammering[[#This Row],[Speen-gewicht]]-lammering[[#This Row],[geboorte-gewicht]])/(lammering[[#This Row],[Speen-datum]]-lammering[[#This Row],[Werp-datum]]))","v":""},{"$f":"IF(lammering[[#This Row],[Verkoop-datum]]=\"\",\"\",(lammering[[#This Row],[Verkoop-gewicht]]-lammering[[#This Row],[Speen-gewicht]])/(lammering[[#This Row],[Verkoop-datum]]-lammering[[#This Row],[Speen-datum]]))","v":""},{"$f":"IF(lammering[[#This Row],[Verkoop-datum]]=\"\",\"\",(lammering[[#This Row],[Verkoop-gewicht]]-lammering[[#This Row],[geboorte-gewicht]])/(lammering[[#This Row],[Verkoop-datum]]-lammering[[#This Row],[Werp-datum]]))","v":""},"","","","","","",{"$f":"IF(lammering[[#This Row],[Verkoop-gewicht]]=\"\",\"\",lammering[[#This Row],[Verkoop-gewicht]]-lammering[[#This Row],[geboorte-gewicht]])","v":""},"","",{"$f":"Opzoek_ooi[[#This Row],[Ooinummer]]","v":"BE477340161"},1,1]
[{"$f":"lammering[[#This Row],[Ooi]]","v":"BE777340165"},0,0,{"$f":"IF(lammering[[#This Row],[Lam-nummer]]=\"\",0,1)","v":1},{"$f":"IF(lammering[[#This Row],[Dood in geboorte]]=\"ja\",1,0)","v":0},{"$f":"IF(lammering[[#This Row],[Ooi]]=\"\",0,IF(Berekeningen!E22=0,1,0))","v":1},{"$f":"IF(D22=0,0,IF(lammering[[#This Row],[Dood in geboorte]]=\"Ja\",0,IF(lammering[[#This Row],[Dood na geboorte]]=\"ja\",0,1)))","v":1},{"$f":"IF(lammering[[#This Row],[Opfok met kunstmelk]]=\"Ja\",1,0)","v":0},{"$f":"IF(lammering[[#This Row],[geslacht]]=\"O\",1,0)","v":0},{"$f":"IF(lammering[[#This Row],[Speen-datum]]=\"\",\"\",(lammering[[#This Row],[Speen-gewicht]]-lammering[[#This Row],[geboorte-gewicht]])/(lammering[[#This Row],[Speen-datum]]-lammering[[#This Row],[Werp-datum]]))","v":0.28424657534246578},{"$f":"IF(lammering[[#This Row],[Verkoop-datum]]=\"\",\"\",(lammering[[#This Row],[Verkoop-gewicht]]-lammering[[#This Row],[Speen-gewicht]])/(lammering[[#This Row],[Verkoop-datum]]-lammering[[#This Row],[Speen-datum]]))","v":{"$error":"#DIV/0!"}},{"$f":"IF(lammering[[#This Row],[Verkoop-datum]]=\"\",\"\",(lammering[[#This Row],[Verkoop-gewicht]]-lammering[[#This Row],[geboorte-gewicht]])/(lammering[[#This Row],[Verkoop-datum]]-lammering[[#This Row],[Werp-datum]]))","v":0.28424657534246578},"","","",0.28424657534246578,{"$error":"#DIV/0!"},0.28424657534246578,{"$f":"IF(lammering[[#This Row],[Verkoop-gewicht]]=\"\",\"\",lammering[[#This Row],[Verkoop-gewicht]]-lammering[[#This Row],[geboorte-gewicht]])","v":41.5},"",41.5,{"$f":"Opzoek_ooi[[#This Row],[Ooinummer]]","v":"BE577340135"},1,1]
[{"$f":"lammering[[#This Row],[Ooi]]","v":"BE977340083"},1,"BE977340083",{"$f":"IF(lammering[[#This Row],[Lam-nummer]]=\"\",0,1)","v":1},{"$f":"IF(lammering[[#This Row],[Dood in geboorte]]=\"ja\",1,0)","v":0},{"$f":"IF(lammering[[#This Row],[Ooi]]=\"\",0,IF(Berekeningen!E23=0,1,0))","v":1},{"$f":"IF(D23=0,0,IF(lammering[[#This Row],[Dood in geboorte]]=\"Ja\",0,IF(lammering[[#This Row],[Dood na geboorte]]=\"ja\",0,1)))","v":1},{"$f":"IF(lammering[[#This Row],[Opfok met kunstmelk]]=\"Ja\",1,0)","v":0},{"$f":"IF(lammering[[#This Row],[geslacht]]=\"O\",1,0)","v":1},{"$f":"IF(lammering[[#This Row],[Speen-datum]]=\"\",\"\",(lammering[[#This Row],[Speen-gewicht]]-lammering[[#This Row],[geboorte-gewicht]])/(lammering[[#This Row],[Speen-datum]]-lammering[[#This Row],[Werp-datum]]))","v":0.31468531468531469},{"$f":"IF(lammering[[#This Row],[Verkoop-datum]]=\"\",\"\",(lammering[[#This Row],[Verkoop-gewicht]]-lammering[[#This Row],[Speen-gewicht]])/(lammering[[#This Row],[Verkoop-datum]]-lammering[[#This Row],[Speen-datum]]))","v":{"$error":"#DIV/0!"}},{"$f":"IF(lammering[[#This Row],[Verkoop-datum]]=\"\",\"\",(lammering[[#This Row],[Verkoop-gewicht]]-lammering[[#This Row],[geboorte-gewicht]])/(lammering[[#This Row],[Verkoop-datum]]-lammering[[#This Row],[Werp-datum]]))","v":0.31468531468531469},0.31468531468531469,{"$error":"#DIV/0!"},0.31468531468531469,"","","",{"$f":"IF(lammering[[#This Row],[Verkoop-gewicht]]=\"\",\"\",lammering[[#This Row],[Verkoop-gewicht]]-lammering[[#This Row],[geboorte-gewicht]])","v":45},45,"",{"$f":"Opzoek_ooi[[#This Row],[Ooinummer]]","v":"BE176710022"},1,1]
[{"$f":"lammering[[#This Row],[Ooi]]","v":"BE677340126"},1,"BE677340126",{"$f":"IF(lammering[[#This Row],[Lam-nummer]]=\"\",0,1)","v":1},{"$f":"IF(lammering[[#This Row],[Dood in geboorte]]=\"ja\",1,0)","v":0},{"$f":"IF(lammering[[#This Row],[Ooi]]=\"\",0,IF(Berekeningen!E24=0,1,0))","v":1},{"$f":"IF(D24=0,0,IF(lammering[[#This Row],[Dood in geboorte]]=\"Ja\",0,IF(lammering[[#This Row],[Dood na geboorte]]=\"ja\",0,1)))","v":1},{"$f":"IF(lammering[[#This Row],[Opfok met kunstmelk]]=\"Ja\",1,0)","v":0},{"$f":"IF(lammering[[#This Row],[geslacht]]=\"O\",1,0)","v":1},{"$f":"IF(lammering[[#This Row],[Speen-datum]]=\"\",\"\",(lammering[[#This Row],[Speen-gewicht]]-lammering[[#This Row],[geboorte-gewicht]])/(lammering[[#This Row],[Speen-datum]]-lammering[[#This Row],[Werp-datum]]))","v":0.2927007299270073},{"$f":"IF(lammering[[#This Row],[Verkoop-datum]]=\"\",\"\",(lammering[[#This Row],[Verkoop-gewicht]]-lammering[[#This Row],[Speen-gewicht]])/(lammering[[#This Row],[Verkoop-datum]]-lammering[[#This Row],[Speen-datum]]))","v":""},{"$f":"IF(lammering[[#This Row],[Verkoop-datum]]=\"\",\"\",(lammering[[#This Row],[Verkoop-gewicht]]-lammering[[#This Row],[geboorte-gewicht]])/(lammering[[#This Row],[Verkoop-datum]]-lammering[[#This Row],[Werp-datum]]))","v":""},0.2927007299270073,"","","","","",{"$f":"IF(lammering[[#This Row],[Verkoop-gewicht]]=\"\",\"\",lammering[[#This Row],[Verkoop-gewicht]]-lammering[[#This Row],[geboorte-gewicht]])","v":""},"","",{"$f":"Opzoek_ooi[[#This Row],[Ooinummer]]","v":"BE120"},1,1]
[{"$f":"lammering[[#This Row],[Ooi]]","v":"BE677340126"},0,0,{"$f":"IF(lammering[[#This Row],[Lam-nummer]]=\"\",0,1)","v":1},{"$f":"IF(lammering[[#This Row],[Dood in geboorte]]=\"ja\",1,0)","v":0},{"$f":"IF(lammering[[#This Row],[Ooi]]=\"\",0,IF(Berekeningen!E25=0,1,0))","v":1},{"$f":"IF(D25=0,0,IF(lammering[[#This Row],[Dood in geboorte]]=\"Ja\",0,IF(lammering[[#This Row],[Dood na geboorte]]=\"ja\",0,1)))","v":1},{"$f":"IF(lammering[[#This Row],[Opfok met kunstmelk]]=\"Ja\",1,0)","v":0},{"$f":"IF(lammering[[#This Row],[geslacht]]=\"O\",1,0)","v":1},{"$f":"IF(lammering[[#This Row],[Speen-datum]]=\"\",\"\",(lammering[[#This Row],[Speen-gewicht]]-lammering[[#This Row],[geboorte-gewicht]])/(lammering[[#This Row],[Speen-datum]]-lammering[[#This Row],[Werp-datum]]))","v":0.29781021897810217},{"$f":"IF(lammering[[#This Row],[Verkoop-datum]]=\"\",\"\",(lammering[[#This Row],[Verkoop-gewicht]]-lammering[[#This Row],[Speen-gewicht]])/(lammering[[#This Row],[Verkoop-datum]]-lammering[[#This Row],[Speen-datum]]))","v":""},{"$f":"IF(lammering[[#This Row],[Verkoop-datum]]=\"\",\"\",(lammering[[#This Row],[Verkoop-gewicht]]-lammering[[#This Row],[geboorte-gewicht]])/(lammering[[#This Row],[Verkoop-datum]]-lammering[[#This Row],[Werp-datum]]))","v":""},0.29781021897810217,"","","","","",{"$f":"IF(lammering[[#This Row],[Verkoop-gewicht]]=\"\",\"\",lammering[[#This Row],[Verkoop-gewicht]]-lammering[[#This Row],[geboorte-gewicht]])","v":""},"","",{"$f":"Opzoek_ooi[[#This Row],[Ooinummer]]","v":"BE377340167"},1,1]
[{"$f":"lammering[[#This Row],[Ooi]]","v":"BE677340126"},0,0,{"$f":"IF(lammering[[#This Row],[Lam-nummer]]=\"\",0,1)","v":1},{"$f":"IF(lammering[[#This Row],[Dood in geboorte]]=\"ja\",1,0)","v":0},{"$f":"IF(lammering[[#This Row],[Ooi]]=\"\",0,IF(Berekeningen!E26=0,1,0))","v":1},{"$f":"IF(D26=0,0,IF(lammering[[#This Row],[Dood in geboorte]]=\"Ja\",0,IF(lammering[[#This Row],[Dood na geboorte]]=\"ja\",0,1)))","v":1},{"$f":"IF(lammering[[#This Row],[Opfok met kunstmelk]]=\"Ja\",1,0)","v":0},{"$f":"IF(lammering[[#This Row],[geslacht]]=\"O\",1,0)","v":0},{"$f":"IF(lammering[[#This Row],[Speen-datum]]=\"\",\"\",(lammering[[#This Row],[Speen-gewicht]]-lammering[[#This Row],[geboorte-gewicht]])/(lammering[[#This Row],[Speen-datum]]-lammering[[#This Row],[Werp-datum]]))","v":0.37518248175182478},{"$f":"IF(lammering[[#This Row],[Verkoop-datum]]=\"\",\"\",(lammering[[#This Row],[Verkoop-gewicht]]-lammering[[#This Row],[Speen-gewicht]])/(lammering[[#This Row],[Verkoop-datum]]-lammering[[#This Row],[Speen-datum]]))","v":-7.6923076923076927E-2},{"$f":"IF(lammering[[#This Row],[Verkoop-datum]]=\"\",\"\",(lammering[[#This Row],[Verkoop-gewicht]]-lammering[[#This Row],[geboorte-gewicht]])/(lammering[[#This Row],[Verkoop-datum]]-lammering[[#This Row],[Werp-datum]]))","v":0.33599999999999997},"","","",0.37518248175182478,-7.6923076923076927E-2,0.33599999999999997,{"$f":"IF(lammering[[#This Row],[Verkoop-gewicht]]=\"\",\"\",lammering[[#This Row],[Verkoop-gewicht]]-lammering[[#This Row],[geboorte-gewicht]])","v":50.4},"",50.4,{"$f":"Opzoek_ooi[[#This Row],[Ooinummer]]","v":"BE477340175"},1,1]
[{"$f":"lammering[[#This Row],[Ooi]]","v":"BE227620120"},1,"BE227620120",{"$f":"IF(lammering[[#This Row],[Lam-nummer]]=\"\",0,1)","v":1},{"$f":"IF(lammering[[#This Row],[Dood in geboorte]]=\"ja\",1,0)","v":0},{"$f":"IF(lammering[[#This Row],[Ooi]]=\"\",0,IF(Berekeningen!E27=0,1,0))","v":1},{"$f":"IF(D27=0,0,IF(lammering[[#This Row],[Dood in geboorte]]=\"Ja\",0,IF(lammering[[#This Row],[Dood na geboorte]]=\"ja\",0,1)))","v":1},{"$f":"IF(lammering[[#This Row],[Opfok met kunstmelk]]=\"Ja\",1,0)","v":0},{"$f":"IF(lammering[[#This Row],[geslacht]]=\"O\",1,0)","v":1},{"$f":"IF(lammering[[#This Row],[Speen-datum]]=\"\",\"\",(lammering[[#This Row],[Speen-gewicht]]-lammering[[#This Row],[geboorte-gewicht]])/(lammering[[#This Row],[Speen-datum]]-lammering[[#This Row],[Werp-datum]]))","v":0.24113475177304963},{"$f":"IF(lammering[[#This Row],[Verkoop-datum]]=\"\",\"\",(lammering[[#This Row],[Verkoop-gewicht]]-lammering[[#This Row],[Speen-gewicht]])/(lammering[[#This Row],[Verkoop-datum]]-lammering[[#This Row],[Speen-datum]]))","v":{"$error":"#DIV/0!"}},{"$f":"IF(lammering[[#This Row],[Verkoop-datum]]=\"\",\"\",(lammering[[#This Row],[Verkoop-gewicht]]-lammering[[#This Row],[geboorte-gewicht]])/(lammering[[#This Row],[Verkoop-datum]]-lammering[[#This Row],[Werp-datum]]))","v":0.24113475177304963},0.24113475177304963,{"$error":"#DIV/0!"},0.24113475177304963,"","","",{"$f":"IF(lammering[[#This Row],[Verkoop-gewicht]]=\"\",\"\",lammering[[#This Row],[Verkoop-gewicht]]-lammering[[#This Row],[geboorte-gewicht]])","v":34},34,"",{"$f":"Opzoek_ooi[[#This Row],[Ooinummer]]","v":"BE577340166"},1,1]
[{"$f":"lammering[[#This Row],[Ooi]]","v":"BE227620120"},0,0,{"$f":"IF(lammering[[#This Row],[Lam-nummer]]=\"\",0,1)","v":1},{"$f":"IF(lammering[[#This Row],[Dood in geboorte]]=\"ja\",1,0)","v":0},{"$f":"IF(lammering[[#This Row],[Ooi]]=\"\",0,IF(Berekeningen!E28=0,1,0))","v":1},{"$f":"IF(D28=0,0,IF(lammering[[#This Row],[Dood in geboorte]]=\"Ja\",0,IF(lammering[[#This Row],[Dood na geboorte]]=\"ja\",0,1)))","v":1},{"$f":"IF(lammering[[#This Row],[Opfok met kunstmelk]]=\"Ja\",1,0)","v":1},{"$f":"IF(lammering[[#This Row],[geslacht]]=\"O\",1,0)","v":1},{"$f":"IF(lammering[[#This Row],[Speen-datum]]=\"\",\"\",(lammering[[#This Row],[Speen-gewicht]]-lammering[[#This Row],[geboorte-gewicht]])/(lammering[[#This Row],[Speen-datum]]-lammering[[#This Row],[Werp-datum]]))","v":0.29078014184397161},{"$f":"IF(lammering[[#This Row],[Verkoop-datum]]=\"\",\"\",(lammering[[#This Row],[Verkoop-gewicht]]-lammering[[#This Row],[Speen-gewicht]])/(lammering[[#This Row],[Verkoop-datum]]-lammering[[#This Row],[Speen-datum]]))","v":{"$error":"#DIV/0!"}},{"$f":"IF(lammering[[#This Row],[Verkoop-datum]]=\"\",\"\",(lammering[[#This Row],[Verkoop-gewicht]]-lammering[[#This Row],[geboorte-gewicht]])/(lammering[[#This Row],[Verkoop-datum]]-lammering[[#This Row],[Werp-datum]]))","v":0.29078014184397161},0.29078014184397161,{"$error":"#DIV/0!"},0.29078014184397161,"","","",{"$f":"IF(lammering[[#This Row],[Verkoop-gewicht]]=\"\",\"\",lammering[[#This Row],[Verkoop-gewicht]]-lammering[[#This Row],[geboorte-gewicht]])","v":41},41,"",{"$f":"Opzoek_ooi[[#This Row],[Ooinummer]]","v":"BE177340138"},1,1]
[{"$f":"lammering[[#This Row],[Ooi]]","v":"BE227620120"},0,0,{"$f":"IF(lammering[[#This Row],[Lam-nummer]]=\"\",0,1)","v":1},{"$f":"IF(lammering[[#This Row],[Dood in geboorte]]=\"ja\",1,0)","v":0},{"$f":"IF(lammering[[#This Row],[Ooi]]=\"\",0,IF(Berekeningen!E29=0,1,0))","v":1},{"$f":"IF(D29=0,0,IF(lammering[[#This Row],[Dood in geboorte]]=\"Ja\",0,IF(lammering[[#This Row],[Dood na geboorte]]=\"ja\",0,1)))","v":1},{"$f":"IF(lammering[[#This Row],[Opfok met kunstmelk]]=\"Ja\",1,0)","v":1},{"$f":"IF(lammering[[#This Row],[geslacht]]=\"O\",1,0)","v":0},{"$f":"IF(lammering[[#This Row],[Speen-datum]]=\"\",\"\",(lammering[[#This Row],[Speen-gewicht]]-lammering[[#This Row],[geboorte-gewicht]])/(lammering[[#This Row],[Speen-datum]]-lammering[[#This Row],[Werp-datum]]))","v":0.2652482269503546},{"$f":"IF(lammering[[#This Row],[Verkoop-datum]]=\"\",\"\",(lammering[[#This Row],[Verkoop-gewicht]]-lammering[[#This Row],[Speen-gewicht]])/(lammering[[#This Row],[Verkoop-datum]]-lammering[[#This Row],[Speen-datum]]))","v":{"$error":"#DIV/0!"}},{"$f":"IF(lammering[[#This Row],[Verkoop-datum]]=\"\",\"\",(lammering[[#This Row],[Verkoop-gewicht]]-lammering[[#This Row],[geboorte-gewicht]])/(lammering[[#This Row],[Verkoop-datum]]-lammering[[#This Row],[Werp-datum]]))","v":0.2652482269503546},"","","",0.2652482269503546,{"$error":"#DIV/0!"},0.2652482269503546,{"$f":"IF(lammering[[#This Row],[Verkoop-gewicht]]=\"\",\"\",lammering[[#This Row],[Verkoop-gewicht]]-lammering[[#This Row],[geboorte-gewicht]])","v":37.4},"",37.4,{"$f":"Opzoek_ooi[[#This Row],[Ooinummer]]","v":0},"",""]
[{"$f":"lammering[[#This Row],[Ooi]]","v":"BE127620112"},1,"BE127620112",{"$f":"IF(lammering[[#This Row],[Lam-nummer]]=\"\",0,1)","v":1},{"$f":"IF(lammering[[#This Row],[Dood in geboorte]]=\"ja\",1,0)","v":0},{"$f":"IF(lammering[[#This Row],[Ooi]]=\"\",0,IF(Berekeningen!E30=0,1,0))","v":1},{"$f":"IF(D30=0,0,IF(lammering[[#This Row],[Dood in geboorte]]=\"Ja\",0,IF(lammering[[#This Row],[Dood na geboorte]]=\"ja\",0,1)))","v":1},{"$f":"IF(lammering[[#This Row],[Opfok met kunstmelk]]=\"Ja\",1,0)","v":0},{"$f":"IF(lammering[[#This Row],[geslacht]]=\"O\",1,0)","v":1},{"$f":"IF(lammering[[#This Row],[Speen-datum]]=\"\",\"\",(lammering[[#This Row],[Speen-gewicht]]-lammering[[#This Row],[geboorte-gewicht]])/(lammering[[#This Row],[Speen-datum]]-lammering[[#This Row],[Werp-datum]]))","v":""},{"$f":"IF(lammering[[#This Row],[Verkoop-datum]]=\"\",\"\",(lammering[[#This Row],[Verkoop-gewicht]]-lammering[[#This Row],[Speen-gewicht]])/(lammering[[#This Row],[Verkoop-datum]]-lammering[[#This Row],[Speen-datum]]))","v":""},{"$f":"IF(lammering[[#This Row],[Verkoop-datum]]=\"\",\"\",(lammering[[#This Row],[Verkoop-gewicht]]-lammering[[#This Row],[geboorte-gewicht]])/(lammering[[#This Row],[Verkoop-datum]]-lammering[[#This Row],[Werp-datum]]))","v":""},"","","","","","",{"$f":"IF(lammering[[#This Row],[Verkoop-gewicht]]=\"\",\"\",lammering[[#This Row],[Verkoop-gewicht]]-lammering[[#This Row],[geboorte-gewicht]])","v":""},"","",{"$f":"Opzoek_ooi[[#This Row],[Ooinummer]]","v":0},"",""]
[{"$f":"lammering[[#This Row],[Ooi]]","v":"BE127620112"},0,0,{"$f":"IF(lammering[[#This Row],[Lam-nummer]]=\"\",0,1)","v":1},{"$f":"IF(lammering[[#This Row],[Dood in geboorte]]=\"ja\",1,0)","v":0},{"$f":"IF(lammering[[#This Row],[Ooi]]=\"\",0,IF(Berekeningen!E31=0,1,0))","v":1},{"$f":"IF(D31=0,0,IF(lammering[[#This Row],[Dood in geboorte]]=\"Ja\",0,IF(lammering[[#This Row],[Dood na geboorte]]=\"ja\",0,1)))","v":1},{"$f":"IF(lammering[[#This Row],[Opfok met kunstmelk]]=\"Ja\",1,0)","v":0},{"$f":"IF(lammering[[#This Row],[geslacht]]=\"O\",1,0)","v":0},{"$f":"IF(lammering[[#This Row],[Speen-datum]]=\"\",\"\",(lammering[[#This Row],[Speen-gewicht]]-lammering[[#This Row],[geboorte-gewicht]])/(lammering[[#This Row],[Speen-datum]]-lammering[[#This Row],[Werp-datum]]))","v":""},{"$f":"IF(lammering[[#This Row],[Verkoop-datum]]=\"\",\"\",(lammering[[#This Row],[Verkoop-gewicht]]-lammering[[#This Row],[Speen-gewicht]])/(lammering[[#This Row],[Verkoop-datum]]-lammering[[#This Row],[Speen-datum]]))","v":""},{"$f":"IF(lammering[[#This Row],[Verkoop-datum]]=\"\",\"\",(lammering[[#This Row],[Verkoop-gewicht]]-lammering[[#This Row],[geboorte-gewicht]])/(lammering[[#This Row],[Verkoop-datum]]-lammering[[#This Row],[Werp-datum]]))","v":""},"","","","","","",{"$f":"IF(lammering[[#This Row],[Verkoop-gewicht]]=\"\",\"\",lammering[[#This Row],[Verkoop-gewicht]]-lammering[[#This Row],[geboorte-gewicht]])","v":""},"","",{"$f":"Opzoek_ooi[[#This Row],[Ooinummer]]","v":0},"",""]
[{"$f":"lammering[[#This Row],[Ooi]]","v":"BE719886426"},1,"BE719886426",{"$f":"IF(lammering[[#This Row],[Lam-nummer]]=\"\",0,1)","v":1},{"$f":"IF(lammering[[#This Row],[Dood in geboorte]]=\"ja\",1,0)","v":0},{"$f":"IF(lammering[[#This Row],[Ooi]]=\"\",0,IF(Berekeningen!E32=0,1,0))","v":1},{"$f":"IF(D32=0,0,IF(lammering[[#This Row],[Dood in geboorte]]=\"Ja\",0,IF(lammering[[#This Row],[Dood na geboorte]]=\"ja\",0,1)))","v":1},{"$f":"IF(lammering[[#This Row],[Opfok met kunstmelk]]=\"Ja\",1,0)","v":0},{"$f":"IF(lammering[[#This Row],[geslacht]]=\"O\",1,0)","v":0},{"$f":"IF(lammering[[#This Row],[Speen-datum]]=\"\",\"\",(lammering[[#This Row],[Speen-gewicht]]-lammering[[#This Row],[geboorte-gewicht]])/(lammering[[#This Row],[Speen-datum]]-lammering[[#This Row],[Werp-datum]]))","v":0.33478260869565218},{"$f":"IF(lammering[[#This Row],[Verkoop-datum]]=\"\",\"\",(lammering[[#This Row],[Verkoop-gewicht]]-lammering[[#This Row],[Speen-gewicht]])/(lammering[[#This Row],[Verkoop-datum]]-lammering[[#This Row],[Speen-datum]]))","v":{"$error":"#DIV/0!"}},{"$f":"IF(lammering[[#This Row],[Verkoop-datum]]=\"\",\"\",(lammering[[#This Row],[Verkoop-gewicht]]-lammering[[#This Row],[geboorte-gewicht]])/(lammering[[#This Row],[Verkoop-datum]]-lammering[[#This Row],[Werp-datum]]))","v":0.33478260869565218},"","","",0.33478260869565218,{"$error":"#DIV/0!"},0.33478260869565218,{"$f":"IF(lammering[[#This Row],[Verkoop-gewicht]]=\"\",\"\",lammering[[#This Row],[Verkoop-gewicht]]-lammering[[#This Row],[geboorte-gewicht]])","v":46.2},"",46.2,{"$f":"Opzoek_ooi[[#This Row],[Ooinummer]]","v":0},"",""]
[{"$f":"lammering[[#This Row],[Ooi]]","v":"BE719886426"},0,0,{"$f":"IF(lammering[[#This Row],[Lam-nummer]]=\"\",0,1)","v":1},{"$f":"IF(lammering[[#This Row],[Dood in geboorte]]=\"ja\",1,0)","v":0},{"$f":"IF(lammering[[#This Row],[Ooi]]=\"\",0,IF(Berekeningen!E33=0,1,0))","v":1},{"$f":"IF(D33=0,0,IF(lammering[[#This Row],[Dood in geboorte]]=\"Ja\",0,IF(lammering[[#This Row],[Dood na geboorte]]=\"ja\",0,1)))","v":1},{"$f":"IF(lammering[[#This Row],[Opfok met kunstmelk]]=\"Ja\",1,0)","v":0},{"$f":"IF(lammering[[#This Row],[geslacht]]=\"O\",1,0)","v":0},{"$f":"IF(lammering[[#This Row],[Speen-datum]]=\"\",\"\",(lammering[[#This Row],[Speen-gewicht]]-lammering[[#This Row],[geboorte-gewicht]])/(lammering[[#This Row],[Speen-datum]]-lammering[[#This Row],[Werp-datum]]))","v":0.3188405797101449},{"$f":"IF(lammering[[#This Row],[Verkoop-datum]]=\"\",\"\",(lammering[[#This Row],[Verkoop-gewicht]]-lammering[[#This Row],[Speen-gewicht]])/(lammering[[#This Row],[Verkoop-datum]]-lammering[[#This Row],[Speen-datum]]))","v":{"$error":"#DIV/0!"}},{"$f":"IF(lammering[[#This Row],[Verkoop-datum]]=\"\",\"\",(lammering[[#This Row],[Verkoop-gewicht]]-lammering[[#This Row],[geboorte-gewicht]])/(lammering[[#This Row],[Verkoop-datum]]-lammering[[#This Row],[Werp-datum]]))","v":0.3188405797101449},"","","",0.3188405797101449,{"$error":"#DIV/0!"},0.3188405797101449,{"$f":"IF(lammering[[#This Row],[Verkoop-gewicht]]=\"\",\"\",lammering[[#This Row],[Verkoop-gewicht]]-lammering[[#This Row],[geboorte-gewicht]])","v":44},"",44,{"$f":"Opzoek_ooi[[#This Row],[Ooinummer]]","v":0},"",""]
[{"$f":"lammering[[#This Row],[Ooi]]","v":"BE719886426"},0,0,{"$f":"IF(lammering[[#This Row],[Lam-nummer]]=\"\",0,1)","v":1},{"$f":"IF(lammering[[#This Row],[Dood in geboorte]]=\"ja\",1,0)","v":0},{"$f":"IF(lammering[[#This Row],[Ooi]]=\"\",0,IF(Berekeningen!E34=0,1,0))","v":1},{"$f":"IF(D34=0,0,IF(lammering[[#This Row],[Dood in geboorte]]=\"Ja\",0,IF(lammering[[#This Row],[Dood na geboorte]]=\"ja\",0,1)))","v":1},{"$f":"IF(lammering[[#This Row],[Opfok met kunstmelk]]=\"Ja\",1,0)","v":0},{"$f":"IF(lammering[[#This Row],[geslacht]]=\"O\",1,0)","v":0},{"$f":"IF(lammering[[#This Row],[Speen-datum]]=\"\",\"\",(lammering[[#This Row],[Speen-gewicht]]-lammering[[#This Row],[geboorte-gewicht]])/(lammering[[#This Row],[Speen-datum]]-lammering[[#This Row],[Werp-datum]]))","v":0.38768115942028986},{"$f":"IF(lammering[[#This Row],[Verkoop-datum]]=\"\",\"\",(lammering[[#This Row],[Verkoop-gewicht]]-lammering[[#This Row],[Speen-gewicht]])/(lammering[[#This Row],[Verkoop-datum]]-lammering[[#This Row],[Speen-datum]]))","v":{"$error":"#DIV/0!"}},{"$f":"IF(lammering[[#This Row],[Verkoop-datum]]=\"\",\"\",(lammering[[#This Row],[Verkoop-gewicht]]-lammering[[#This Row],[geboorte-gewicht]])/(lammering[[#This Row],[Verkoop-datum]]-lammering[[#This Row],[Werp-datum]]))","v":0.38768115942028986},"","","",0.38768115942028986,{"$error":"#DIV/0!"},0.38768115942028986,{"$f":"IF(lammering[[#This Row],[Verkoop-gewicht]]=\"\",\"\",lammering[[#This Row],[Verkoop-gewicht]]-lammering[[#This Row],[geboorte-gewicht]])","v":53.5},"",53.5,{"$f":"Opzoek_ooi[[#This Row],[Ooinummer]]","v":0},"",""]
[{"$f":"lammering[[#This Row],[Ooi]]","v":"BE876710023"},1,"BE876710023",{"$f":"IF(lammering[[#This Row],[Lam-nummer]]=\"\",0,1)","v":1},{"$f":"IF(lammering[[#This Row],[Dood in geboorte]]=\"ja\",1,0)","v":0},{"$f":"IF(lammering[[#This Row],[Ooi]]=\"\",0,IF(Berekeningen!E35=0,1,0))","v":1},{"$f":"IF(D35=0,0,IF(lammering[[#This Row],[Dood in geboorte]]=\"Ja\",0,IF(lammering[[#This Row],[Dood na geboorte]]=\"ja\",0,1)))","v":1},{"$f":"IF(lammering[[#This Row],[Opfok met kunstmelk]]=\"Ja\",1,0)","v":0},{"$f":"IF(lammering[[#This Row],[geslacht]]=\"O\",1,0)","v":0},{"$f":"IF(lammering[[#This Row],[Speen-datum]]=\"\",\"\",(lammering[[#This Row],[Speen-gewicht]]-lammering[[#This Row],[geboorte-gewicht]])/(lammering[[#This Row],[Speen-datum]]-lammering[[#This Row],[Werp-datum]]))","v":0.36131386861313869},{"$f":"IF(lammering[[#This Row],[Verkoop-datum]]=\"\",\"\",(lammering[[#This Row],[Verkoop-gewicht]]-lammering[[#This Row],[Speen-gewicht]])/(lammering[[#This Row],[Verkoop-datum]]-lammering[[#This Row],[Speen-datum]]))","v":-0.1111111111111111},{"$f":"IF(lammering[[#This Row],[Verkoop-datum]]=\"\",\"\",(lammering[[#This Row],[Verkoop-gewicht]]-lammering[[#This Row],[geboorte-gewicht]])/(lammering[[#This Row],[Verkoop-datum]]-lammering[[#This Row],[Werp-datum]]))","v":0.3321917808219178},"","","",0.36131386861313869,-0.1111111111111111,0.3321917808219178,{"$f":"IF(lammering[[#This Row],[Verkoop-gewicht]]=\"\",\"\",lammering[[#This Row],[Verkoop-gewicht]]-lammering[[#This Row],[geboorte-gewicht]])","v":48.5},"",48.5,{"$f":"Opzoek_ooi[[#This Row],[Ooinummer]]","v":0},"",""]
[{"$f":"lammering[[#This Row],[Ooi]]","v":"BE477340161"},1,"BE477340161",{"$f":"IF(lammering[[#This Row],[Lam-nummer]]=\"\",0,1)","v":1},{"$f":"IF(lammering[[#This Row],[Dood in geboorte]]=\"ja\",1,0)","v":0},{"$f":"IF(lammering[[#This Row],[Ooi]]=\"\",0,IF(Berekeningen!E36=0,1,0))","v":1},{"$f":"IF(D36=0,0,IF(lammering[[#This Row],[Dood in geboorte]]=\"Ja\",0,IF(lammering[[#This Row],[Dood na geboorte]]=\"ja\",0,1)))","v":1},{"$f":"IF(lammering[[#This Row],[Opfok met kunstmelk]]=\"Ja\",1,0)","v":0},{"$f":"IF(lammering[[#This Row],[geslacht]]=\"O\",1,0)","v":1},{"$f":"IF(lammering[[#This Row],[Speen-datum]]=\"\",\"\",(lammering[[#This Row],[Speen-gewicht]]-lammering[[#This Row],[geboorte-gewicht]])/(lammering[[#This Row],[Speen-datum]]-lammering[[#This Row],[Werp-datum]]))","v":0.27218045112781958},{"$f":"IF(lammering[[#This Row],[Verkoop-datum]]=\"\",\"\",(lammering[[#This Row],[Verkoop-gewicht]]-lammering[[#This Row],[Speen-gewicht]])/(lammering[[#This Row],[Verkoop-datum]]-lammering[[#This Row],[Speen-datum]]))","v":""},{"$f":"IF(lammering[[#This Row],[Verkoop-datum]]=\"\",\"\",(lammering[[#This Row],[Verkoop-gewicht]]-lammering[[#This Row],[geboorte-gewicht]])/(lammering[[#This Row],[Verkoop-datum]]-lammering[[#This Row],[Werp-datum]]))","v":""},0.27218045112781958,"","","","","",{"$f":"IF(lammering[[#This Row],[Verkoop-gewicht]]=\"\",\"\",lammering[[#This Row],[Verkoop-gewicht]]-lammering[[#This Row],[geboorte-gewicht]])","v":""},"","",{"$f":"Opzoek_ooi[[#This Row],[Ooinummer]]","v":0},"",""]
[{"$f":"lammering[[#This Row],[Ooi]]","v":"BE477340161"},0,0,{"$f":"IF(lammering[[#This Row],[Lam-nummer]]=\"\",0,1)","v":1},{"$f":"IF(lammering[[#This Row],[Dood in geboorte]]=\"ja\",1,0)","v":0},{"$f":"IF(lammering[[#This Row],[Ooi]]=\"\",0,IF(Berekeningen!E37=0,1,0))","v":1},{"$f":"IF(D37=0,0,IF(lammering[[#This Row],[Dood in geboorte]]=\"Ja\",0,IF(lammering[[#This Row],[Dood na geboorte]]=\"ja\",0,1)))","v":1},{"$f":"IF(lammering[[#This Row],[Opfok met kunstmelk]]=\"Ja\",1,0)","v":0},{"$f":"IF(lammering[[#This Row],[geslacht]]=\"O\",1,0)","v":0},{"$f":"IF(lammering[[#This Row],[Speen-datum]]=\"\",\"\",(lammering[[#This Row],[Speen-gewicht]]-lammering[[#This Row],[geboorte-gewicht]])/(lammering[[#This Row],[Speen-datum]]-lammering[[#This Row],[Werp-datum]]))","v":0.30977443609022559},{"$f":"IF(lammering[[#This Row],[Verkoop-datum]]=\"\",\"\",(lammering[[#This Row],[Verkoop-gewicht]]-lammering[[#This Row],[Speen-gewicht]])/(lammering[[#This Row],[Verkoop-datum]]-lammering[[#This Row],[Speen-datum]]))","v":{"$error":"#DIV/0!"}},{"$f":"IF(lammering[[#This Row],[Verkoop-datum]]=\"\",\"\",(lammering[[#This Row],[Verkoop-gewicht]]-lammering[[#This Row],[geboorte-gewicht]])/(lammering[[#This Row],[Verkoop-datum]]-lammering[[#This Row],[Werp-datum]]))","v":0.30977443609022559},"","","",0.30977443609022559,{"$error":"#DIV/0!"},0.30977443609022559,{"$f":"IF(lammering[[#This Row],[Verkoop-gewicht]]=\"\",\"\",lammering[[#This Row],[Verkoop-gewicht]]-lammering[[#This Row],[geboorte-gewicht]])","v":41.2},"",41.2,{"$f":"Opzoek_ooi[[#This Row],[Ooinummer]]","v":0},"",""]
[{"$f":"lammering[[#This Row],[Ooi]]","v":"BE527620141"},1,"BE527620141",{"$f":"IF(lammering[[#This Row],[Lam-nummer]]=\"\",0,1)","v":1},{"$f":"IF(lammering[[#This Row],[Dood in geboorte]]=\"ja\",1,0)","v":0},{"$f":"IF(lammering[[#This Row],[Ooi]]=\"\",0,IF(Berekeningen!E38=0,1,0))","v":1},{"$f":"IF(D38=0,0,IF(lammering[[#This Row],[Dood in geboorte]]=\"Ja\",0,IF(lammering[[#This Row],[Dood na geboorte]]=\"ja\",0,1)))","v":1},{"$f":"IF(lammering[[#This Row],[Opfok met kunstmelk]]=\"Ja\",1,0)","v":0},{"$f":"IF(lammering[[#This Row],[geslacht]]=\"O\",1,0)","v":1},{"$f":"IF(lammering[[#This Row],[Speen-datum]]=\"\",\"\",(lammering[[#This Row],[Speen-gewicht]]-lammering[[#This Row],[geboorte-gewicht]])/(lammering[[#This Row],[Speen-datum]]-lammering[[#This Row],[Werp-datum]]))","v":0.2197080291970803},{"$f":"IF(lammering[[#This Row],[Verkoop-datum]]=\"\",\"\",(lammering[[#This Row],[Verkoop-gewicht]]-lammering[[#This Row],[Speen-gewicht]])/(lammering[[#This Row],[Verkoop-datum]]-lammering[[#This Row],[Speen-datum]]))","v":{"$error":"#DIV/0!"}},{"$f":"IF(lammering[[#This Row],[Verkoop-datum]]=\"\",\"\",(lammering[[#This Row],[Verkoop-gewicht]]-lammering[[#This Row],[geboorte-gewicht]])/(lammering[[#This Row],[Verkoop-datum]]-lammering[[#This Row],[Werp-datum]]))","v":0.2197080291970803},0.2197080291970803,{"$error":"#DIV/0!"},0.2197080291970803,"","","",{"$f":"IF(lammering[[#This Row],[Verkoop-gewicht]]=\"\",\"\",lammering[[#This Row],[Verkoop-gewicht]]-lammering[[#This Row],[geboorte-gewicht]])","v":30.1},30.1,"",{"$f":"Opzoek_ooi[[#This Row],[Ooinummer]]","v":0},"",""]
[{"$f":"lammering[[#This Row],[Ooi]]","v":"BE527620141"},0,0,{"$f":"IF(lammering[[#This Row],[Lam-nummer]]=\"\",0,1)","v":1},{"$f":"IF(lammering[[#This Row],[Dood in geboorte]]=\"ja\",1,0)","v":0},{"$f":"IF(lammering[[#This Row],[Ooi]]=\"\",0,IF(Berekeningen!E39=0,1,0))","v":1},{"$f":"IF(D39=0,0,IF(lammering[[#This Row],[Dood in geboorte]]=\"Ja\",0,IF(lammering[[#This Row],[Dood na geboorte]]=\"ja\",0,1)))","v":1},{"$f":"IF(lammering[[#This Row],[Opfok met kunstmelk]]=\"Ja\",1,0)","v":0},{"$f":"IF(lammering[[#This Row],[geslacht]]=\"O\",1,0)","v":1},{"$f":"IF(lammering[[#This Row],[Speen-datum]]=\"\",\"\",(lammering[[#This Row],[Speen-gewicht]]-lammering[[#This Row],[geboorte-gewicht]])/(lammering[[#This Row],[Speen-datum]]-lammering[[#This Row],[Werp-datum]]))","v":0.31459854014598543},{"$f":"IF(lammering[[#This Row],[Verkoop-datum]]=\"\",\"\",(lammering[[#This Row],[Verkoop-gewicht]]-lammering[[#This Row],[Speen-gewicht]])/(lammering[[#This Row],[Verkoop-datum]]-lammering[[#This Row],[Speen-datum]]))","v":{"$error":"#DIV/0!"}},{"$f":"IF(lammering[[#This Row],[Verkoop-datum]]=\"\",\"\",(lammering[[#This Row],[Verkoop-gewicht]]-lammering[[#This Row],[geboorte-gewicht]])/(lammering[[#This Row],[Verkoop-datum]]-lammering[[#This Row],[Werp-datum]]))","v":0.31459854014598543},0.31459854014598543,{"$error":"#DIV/0!"},0.31459854014598543,"","","",{"$f":"IF(lammering[[#This Row],[Verkoop-gewicht]]=\"\",\"\",lammering[[#This Row],[Verkoop-gewicht]]-lammering[[#This Row],[geboorte-gewicht]])","v":43.1},43.1,"",{"$f":"Opzoek_ooi[[#This Row],[Ooinummer]]","v":0},"",""]
[{"$f":"lammering[[#This Row],[Ooi]]","v":"BE277340095"},1,"BE277340095",{"$f":"IF(lammering[[#This Row],[Lam-nummer]]=\"\",0,1)","v":1},{"$f":"IF(lammering[[#This Row],[Dood in geboorte]]=\"ja\",1,0)","v":0},{"$f":"IF(lammering[[#This Row],[Ooi]]=\"\",0,IF(Berekeningen!E40=0,1,0))","v":1},{"$f":"IF(D40=0,0,IF(lammering[[#This Row],[Dood in geboorte]]=\"Ja\",0,IF(lammering[[#This Row],[Dood na geboorte]]=\"ja\",0,1)))","v":1},{"$f":"IF(lammering[[#This Row],[Opfok met kunstmelk]]=\"Ja\",1,0)","v":0},{"$f":"IF(lammering[[#This Row],[geslacht]]=\"O\",1,0)","v":0},{"$f":"IF(lammering[[#This Row],[Speen-datum]]=\"\",\"\",(lammering[[#This Row],[Speen-gewicht]]-lammering[[#This Row],[geboorte-gewicht]])/(lammering[[#This Row],[Speen-datum]]-lammering[[#This Row],[Werp-datum]]))","v":0.34338235294117647},{"$f":"IF(lammering[[#This Row],[Verkoop-datum]]=\"\",\"\",(lammering[[#This Row],[Verkoop-gewicht]]-lammering[[#This Row],[Speen-gewicht]])/(lammering[[#This Row],[Verkoop-datum]]-lammering[[#This Row],[Speen-datum]]))","v":0},{"$f":"IF(lammering[[#This Row],[Verkoop-datum]]=\"\",\"\",(lammering[[#This Row],[Verkoop-gewicht]]-lammering[[#This Row],[geboorte-gewicht]])/(lammering[[#This Row],[Verkoop-datum]]-lammering[[#This Row],[Werp-datum]]))","v":0.3220689655172414},"","","",0.34338235294117647,0,0.3220689655172414,{"$f":"IF(lammering[[#This Row],[Verkoop-gewicht]]=\"\",\"\",lammering[[#This Row],[Verkoop-gewicht]]-lammering[[#This Row],[geboorte-gewicht]])","v":46.7},"",46.7,{"$f":"Opzoek_ooi[[#This Row],[Ooinummer]]","v":0},"",""]
[{"$f":"lammering[[#This Row],[Ooi]]","v":"BE277340095"},0,0,{"$f":"IF(lammering[[#This Row],[Lam-nummer]]=\"\",0,1)","v":0},{"$f":"IF(lammering[[#This Row],[Dood in geboorte]]=\"ja\",1,0)","v":1},{"$f":"IF(lammering[[#This Row],[Ooi]]=\"\",0,IF(Berekeningen!E41=0,1,0))","v":0},{"$f":"IF(D41=0,0,IF(lammering[[#This Row],[Dood in geboorte]]=\"Ja\",0,IF(lammering[[#This Row],[Dood na geboorte]]=\"ja\",0,1)))","v":0},{"$f":"IF(lammering[[#This Row],[Opfok met kunstmelk]]=\"Ja\",1,0)","v":0},{"$f":"IF(lammering[[#This Row],[geslacht]]=\"O\",1,0)","v":0},{"$f":"IF(lammering[[#This Row],[Speen-datum]]=\"\",\"\",(lammering[[#This Row],[Speen-gewicht]]-lammering[[#This Row],[geboorte-gewicht]])/(lammering[[#This Row],[Speen-datum]]-lammering[[#This Row],[Werp-datum]]))","v":""},{"$f":"IF(lammering[[#This Row],[Verkoop-datum]]=\"\",\"\",(lammering[[#This Row],[Verkoop-gewicht]]-lammering[[#This Row],[Speen-gewicht]])/(lammering[[#This Row],[Verkoop-datum]]-lammering[[#This Row],[Speen-datum]]))","v":""},{"$f":"IF(lammering[[#This Row],[Verkoop-datum]]=\"\",\"\",(lammering[[#This Row],[Verkoop-gewicht]]-lammering[[#This Row],[geboorte-gewicht]])/(lammering[[#This Row],[Verkoop-datum]]-lammering[[#This Row],[Werp-datum]]))","v":""},"","","","","","",{"$f":"IF(lammering[[#This Row],[Verkoop-gewicht]]=\"\",\"\",lammering[[#This Row],[Verkoop-gewicht]]-lammering[[#This Row],[geboorte-gewicht]])","v":""},"","",{"$f":"Opzoek_ooi[[#This Row],[Ooinummer]]","v":0},"",""]
[{"$f":"lammering[[#This Row],[Ooi]]","v":"BE277340095"},0,0,{"$f":"IF(lammering[[#This Row],[Lam-nummer]]=\"\",0,1)","v":0},{"$f":"IF(lammering[[#This Row],[Dood in geboorte]]=\"ja\",1,0)","v":1},{"$f":"IF(lammering[[#This Row],[Ooi]]=\"\",0,IF(Berekeningen!E42=0,1,0))","v":0},{"$f":"IF(D42=0,0,IF(lammering[[#This Row],[Dood in geboorte]]=\"Ja\",0,IF(lammering[[#This Row],[Dood na geboorte]]=\"ja\",0,1)))","v":0},{"$f":"IF(lammering[[#This Row],[Opfok met kunstmelk]]=\"Ja\",1,0)","v":0},{"$f":"IF(lammering[[#This Row],[geslacht]]=\"O\",1,0)","v":1},{"$f":"IF(lammering[[#This Row],[Speen-datum]]=\"\",\"\",(lammering[[#This Row],[Speen-gewicht]]-lammering[[#This Row],[geboorte-gewicht]])/(lammering[[#This Row],[Speen-datum]]-lammering[[#This Row],[Werp-datum]]))","v":""},{"$f":"IF(lammering[[#This Row],[Verkoop-datum]]=\"\",\"\",(lammering[[#This Row],[Verkoop-gewicht]]-lammering[[#This Row],[Speen-gewicht]])/(lammering[[#This Row],[Verkoop-datum]]-lammering[[#This Row],[Speen-datum]]))","v":""},{"$f":"IF(lammering[[#This Row],[Verkoop-datum]]=\"\",\"\",(lammering[[#This Row],[Verkoop-gewicht]]-lammering[[#This Row],[geboorte-gewicht]])/(lammering[[#This Row],[Verkoop-datum]]-lammering[[#This Row],[Werp-datum]]))","v":""},"","","","","","",{"$f":"IF(lammering[[#This Row],[Verkoop-gewicht]]=\"\",\"\",lammering[[#This Row],[Verkoop-gewicht]]-lammering[[#This Row],[geboorte-gewicht]])","v":""},"","",{"$f":"Opzoek_ooi[[#This Row],[Ooinummer]]","v":0},"",""]
[{"$f":"lammering[[#This Row],[Ooi]]","v":"BE377340167"},1,"BE377340167",{"$f":"IF(lammering[[#This Row],[Lam-nummer]]=\"\",0,1)","v":1},{"$f":"IF(lammering[[#This Row],[Dood in geboorte]]=\"ja\",1,0)","v":0},{"$f":"IF(lammering[[#This Row],[Ooi]]=\"\",0,IF(Berekeningen!E43=0,1,0))","v":1},{"$f":"IF(D43=0,0,IF(lammering[[#This Row],[Dood in geboorte]]=\"Ja\",0,IF(lammering[[#This Row],[Dood na geboorte]]=\"ja\",0,1)))","v":1},{"$f":"IF(lammering[[#This Row],[Opfok met kunstmelk]]=\"Ja\",1,0)","v":0},{"$f":"IF(lammering[[#This Row],[geslacht]]=\"O\",1,0)","v":1},{"$f":"IF(lammering[[#This Row],[Speen-datum]]=\"\",\"\",(lammering[[#This Row],[Speen-gewicht]]-lammering[[#This Row],[geboorte-gewicht]])/(lammering[[#This Row],[Speen-datum]]-lammering[[#This Row],[Werp-datum]]))","v":0.21328671328671328},{"$f":"IF(lammering[[#This Row],[Verkoop-datum]]=\"\",\"\",(lammering[[#This Row],[Verkoop-gewicht]]-lammering[[#This Row],[Speen-gewicht]])/(lammering[[#This Row],[Verkoop-datum]]-lammering[[#This Row],[Speen-datum]]))","v":""},{"$f":"IF(lammering[[#This Row],[Verkoop-datum]]=\"\",\"\",(lammering[[#This Row],[Verkoop-gewicht]]-lammering[[#This Row],[geboorte-gewicht]])/(lammering[[#This Row],[Verkoop-datum]]-lammering[[#This Row],[Werp-datum]]))","v":""},0.21328671328671328,"","","","","",{"$f":"IF(lammering[[#This Row],[Verkoop-gewicht]]=\"\",\"\",lammering[[#This Row],[Verkoop-gewicht]]-lammering[[#This Row],[geboorte-gewicht]])","v":""},"","",{"$f":"Opzoek_ooi[[#This Row],[Ooinummer]]","v":0},"",""]
[{"$f":"lammering[[#This Row],[Ooi]]","v":"BE377340167"},0,0,{"$f":"IF(lammering[[#This Row],[Lam-nummer]]=\"\",0,1)","v":1},{"$f":"IF(lammering[[#This Row],[Dood in geboorte]]=\"ja\",1,0)","v":0},{"$f":"IF(lammering[[#This Row],[Ooi]]=\"\",0,IF(Berekeningen!E44=0,1,0))","v":1},{"$f":"IF(D44=0,0,IF(lammering[[#This Row],[Dood in geboorte]]=\"Ja\",0,IF(lammering[[#This Row],[Dood na geboorte]]=\"ja\",0,1)))","v":1},{"$f":"IF(lammering[[#This Row],[Opfok met kunstmelk]]=\"Ja\",1,0)","v":0},{"$f":"IF(lammering[[#This Row],[geslacht]]=\"O\",1,0)","v":1},{"$f":"IF(lammering[[#This Row],[Speen-datum]]=\"\",\"\",(lammering[[#This Row],[Speen-gewicht]]-lammering[[#This Row],[geboorte-gewicht]])/(lammering[[#This Row],[Speen-datum]]-lammering[[#This Row],[Werp-datum]]))","v":0.30979020979020977},{"$f":"IF(lammering[[#This Row],[Verkoop-datum]]=\"\",\"\",(lammering[[#This Row],[Verkoop-gewicht]]-lammering[[#This Row],[Speen-gewicht]])/(lammering[[#This Row],[Verkoop-datum]]-lammering[[#This Row],[Speen-datum]]))","v":""},{"$f":"IF(lammering[[#This Row],[Verkoop-datum]]=\"\",\"\",(lammering[[#This Row],[Verkoop-gewicht]]-lammering[[#This Row],[geboorte-gewicht]])/(lammering[[#This Row],[Verkoop-datum]]-lammering[[#This Row],[Werp-datum]]))","v":""},0.30979020979020977,"","","","","",{"$f":"IF(lammering[[#This Row],[Verkoop-gewicht]]=\"\",\"\",lammering[[#This Row],[Verkoop-gewicht]]-lammering[[#This Row],[geboorte-gewicht]])","v":""},"","",{"$f":"Opzoek_ooi[[#This Row],[Ooinummer]]","v":0},"",""]
[{"$f":"lammering[[#This Row],[Ooi]]","v":"BE377340167"},0,0,{"$f":"IF(lammering[[#This Row],[Lam-nummer]]=\"\",0,1)","v":0},{"$f":"IF(lammering[[#This Row],[Dood in geboorte]]=\"ja\",1,0)","v":1},{"$f":"IF(lammering[[#This Row],[Ooi]]=\"\",0,IF(Berekeningen!E45=0,1,0))","v":0},{"$f":"IF(D45=0,0,IF(lammering[[#This Row],[Dood in geboorte]]=\"Ja\",0,IF(lammering[[#This Row],[Dood na geboorte]]=\"ja\",0,1)))","v":0},{"$f":"IF(lammering[[#This Row],[Opfok met kunstmelk]]=\"Ja\",1,0)","v":0},{"$f":"IF(lammering[[#This Row],[geslacht]]=\"O\",1,0)","v":0},{"$f":"IF(lammering[[#This Row],[Speen-datum]]=\"\",\"\",(lammering[[#This Row],[Speen-gewicht]]-lammering[[#This Row],[geboorte-gewicht]])/(lammering[[#This Row],[Speen-datum]]-lammering[[#This Row],[Werp-datum]]))","v":""},{"$f":"IF(lammering[[#This Row],[Verkoop-datum]]=\"\",\"\",(lammering[[#This Row],[Verkoop-gewicht]]-lammering[[#This Row],[Speen-gewicht]])/(lammering[[#This Row],[Verkoop-datum]]-lammering[[#This Row],[Speen-datum]]))","v":""},{"$f":"IF(lammering[[#This Row],[Verkoop-datum]]=\"\",\"\",(lammering[[#This Row],[Verkoop-gewicht]]-lammering[[#This Row],[geboorte-gewicht]])/(lammering[[#This Row],[Verkoop-datum]]-lammering[[#This Row],[Werp-datum]]))","v":""},"","","","","","",{"$f":"IF(lammering[[#This Row],[Verkoop-gewicht]]=\"\",\"\",lammering[[#This Row],[Verkoop-gewicht]]-lammering[[#This Row],[geboorte-gewicht]])","v":""},"","",{"$f":"Opzoek_ooi[[#This Row],[Ooinummer]]","v":0},"",""]
[{"$f":"lammering[[#This Row],[Ooi]]","v":"BE477340175"},1,"BE477340175",{"$f":"IF(lammering[[#This Row],[Lam-nummer]]=\"\",0,1)","v":1},{"$f":"IF(lammering[[#This Row],[Dood in geboorte]]=\"ja\",1,0)","v":0},{"$f":"IF(lammering[[#This Row],[Ooi]]=\"\",0,IF(Berekeningen!E46=0,1,0))","v":1},{"$f":"IF(D46=0,0,IF(lammering[[#This Row],[Dood in geboorte]]=\"Ja\",0,IF(lammering[[#This Row],[Dood na geboorte]]=\"ja\",0,1)))","v":1},{"$f":"IF(lammering[[#This Row],[Opfok met kunstmelk]]=\"Ja\",1,0)","v":0},{"$f":"IF(lammering[[#This Row],[geslacht]]=\"O\",1,0)","v":1},{"$f":"IF(lammering[[#This Row],[Speen-datum]]=\"\",\"\",(lammering[[#This Row],[Speen-gewicht]]-lammering[[#This Row],[geboorte-gewicht]])/(lammering[[#This Row],[Speen-datum]]-lammering[[#This Row],[Werp-datum]]))","v":""},{"$f":"IF(lammering[[#This Row],[Verkoop-datum]]=\"\",\"\",(lammering[[#This Row],[Verkoop-gewicht]]-lammering[[#This Row],[Speen-gewicht]])/(lammering[[#This Row],[Verkoop-datum]]-lammering[[#This Row],[Speen-datum]]))","v":""},{"$f":"IF(lammering[[#This Row],[Verkoop-datum]]=\"\",\"\",(lammering[[#This Row],[Verkoop-gewicht]]-lammering[[#This Row],[geboorte-gewicht]])/(lammering[[#This Row],[Verkoop-datum]]-lammering[[#This Row],[Werp-datum]]))","v":""},"","","","","","",{"$f":"IF(lammering[[#This Row],[Verkoop-gewicht]]=\"\",\"\",lammering[[#This Row],[Verkoop-gewicht]]-lammering[[#This Row],[geboorte-gewicht]])","v":""},"","",{"$f":"Opzoek_ooi[[#This Row],[Ooinummer]]","v":0},"",""]
[{"$f":"lammering[[#This Row],[Ooi]]","v":"BE477340175"},0,0,{"$f":"IF(lammering[[#This Row],[Lam-nummer]]=\"\",0,1)","v":1},{"$f":"IF(lammering[[#This Row],[Dood in geboorte]]=\"ja\",1,0)","v":0},{"$f":"IF(lammering[[#This Row],[Ooi]]=\"\",0,IF(Berekeningen!E47=0,1,0))","v":1},{"$f":"IF(D47=0,0,IF(lammering[[#This Row],[Dood in geboorte]]=\"Ja\",0,IF(lammering[[#This Row],[Dood na geboorte]]=\"ja\",0,1)))","v":1},{"$f":"IF(lammering[[#This Row],[Opfok met kunstmelk]]=\"Ja\",1,0)","v":0},{"$f":"IF(lammering[[#This Row],[geslacht]]=\"O\",1,0)","v":0},{"$f":"IF(lammering[[#This Row],[Speen-datum]]=\"\",\"\",(lammering[[#This Row],[Speen-gewicht]]-lammering[[#This Row],[geboorte-gewicht]])/(lammering[[#This Row],[Speen-datum]]-lammering[[#This Row],[Werp-datum]]))","v":0.26119402985074625},{"$f":"IF(lammering[[#This Row],[Verkoop-datum]]=\"\",\"\",(lammering[[#This Row],[Verkoop-gewicht]]-lammering[[#This Row],[Speen-gewicht]])/(lammering[[#This Row],[Verkoop-datum]]-lammering[[#This Row],[Speen-datum]]))","v":{"$error":"#DIV/0!"}},{"$f":"IF(lammering[[#This Row],[Verkoop-datum]]=\"\",\"\",(lammering[[#This Row],[Verkoop-gewicht]]-lammering[[#This Row],[geboorte-gewicht]])/(lammering[[#This Row],[Verkoop-datum]]-lammering[[#This Row],[Werp-datum]]))","v":0.26119402985074625},"","","",0.26119402985074625,{"$error":"#DIV/0!"},0.26119402985074625,{"$f":"IF(lammering[[#This Row],[Verkoop-gewicht]]=\"\",\"\",lammering[[#This Row],[Verkoop-gewicht]]-lammering[[#This Row],[geboorte-gewicht]])","v":35},"",35,{"$f":"Opzoek_ooi[[#This Row],[Ooinummer]]","v":0},"",""]
[{"$f":"lammering[[#This Row],[Ooi]]","v":"BE577340166"},1,"BE577340166",{"$f":"IF(lammering[[#This Row],[Lam-nummer]]=\"\",0,1)","v":1},{"$f":"IF(lammering[[#This Row],[Dood in geboorte]]=\"ja\",1,0)","v":0},{"$f":"IF(lammering[[#This Row],[Ooi]]=\"\",0,IF(Berekeningen!E48=0,1,0))","v":1},{"$f":"IF(D48=0,0,IF(lammering[[#This Row],[Dood in geboorte]]=\"Ja\",0,IF(lammering[[#This Row],[Dood na geboorte]]=\"ja\",0,1)))","v":1},{"$f":"IF(lammering[[#This Row],[Opfok met kunstmelk]]=\"Ja\",1,0)","v":0},{"$f":"IF(lammering[[#This Row],[geslacht]]=\"O\",1,0)","v":1},{"$f":"IF(lammering[[#This Row],[Speen-datum]]=\"\",\"\",(lammering[[#This Row],[Speen-gewicht]]-lammering[[#This Row],[geboorte-gewicht]])/(lammering[[#This Row],[Speen-datum]]-lammering[[#This Row],[Werp-datum]]))","v":0.31619718309859152},{"$f":"IF(lammering[[#This Row],[Verkoop-datum]]=\"\",\"\",(lammering[[#This Row],[Verkoop-gewicht]]-lammering[[#This Row],[Speen-gewicht]])/(lammering[[#This Row],[Verkoop-datum]]-lammering[[#This Row],[Speen-datum]]))","v":""},{"$f":"IF(lammering[[#This Row],[Verkoop-datum]]=\"\",\"\",(lammering[[#This Row],[Verkoop-gewicht]]-lammering[[#This Row],[geboorte-gewicht]])/(lammering[[#This Row],[Verkoop-datum]]-lammering[[#This Row],[Werp-datum]]))","v":""},0.31619718309859152,"","","","","",{"$f":"IF(lammering[[#This Row],[Verkoop-gewicht]]=\"\",\"\",lammering[[#This Row],[Verkoop-gewicht]]-lammering[[#This Row],[geboorte-gewicht]])","v":""},"","",{"$f":"Opzoek_ooi[[#This Row],[Ooinummer]]","v":0},"",""]
[{"$f":"lammering[[#This Row],[Ooi]]","v":"BE577340166"},0,0,{"$f":"IF(lammering[[#This Row],[Lam-nummer]]=\"\",0,1)","v":1},{"$f":"IF(lammering[[#This Row],[Dood in geboorte]]=\"ja\",1,0)","v":0},{"$f":"IF(lammering[[#This Row],[Ooi]]=\"\",0,IF(Berekeningen!E49=0,1,0))","v":1},{"$f":"IF(D49=0,0,IF(lammering[[#This Row],[Dood in geboorte]]=\"Ja\",0,IF(lammering[[#This Row],[Dood na geboorte]]=\"ja\",0,1)))","v":1},{"$f":"IF(lammering[[#This Row],[Opfok met kunstmelk]]=\"Ja\",1,0)","v":0},{"$f":"IF(lammering[[#This Row],[geslacht]]=\"O\",1,0)","v":0},{"$f":"IF(lammering[[#This Row],[Speen-datum]]=\"\",\"\",(lammering[[#This Row],[Speen-gewicht]]-lammering[[#This Row],[geboorte-gewicht]])/(lammering[[#This Row],[Speen-datum]]-lammering[[#This Row],[Werp-datum]]))","v":0.39436619718309857},{"$f":"IF(lammering[[#This Row],[Verkoop-datum]]=\"\",\"\",(lammering[[#This Row],[Verkoop-gewicht]]-lammering[[#This Row],[Speen-gewicht]])/(lammering[[#This Row],[Verkoop-datum]]-lammering[[#This Row],[Speen-datum]]))","v":""},{"$f":"IF(lammering[[#This Row],[Verkoop-datum]]=\"\",\"\",(lammering[[#This Row],[Verkoop-gewicht]]-lammering[[#This Row],[geboorte-gewicht]])/(lammering[[#This Row],[Verkoop-datum]]-lammering[[#This Row],[Werp-datum]]))","v":""},"","","",0.39436619718309857,"","",{"$f":"IF(lammering[[#This Row],[Verkoop-gewicht]]=\"\",\"\",lammering[[#This Row],[Verkoop-gewicht]]-lammering[[#This Row],[geboorte-gewicht]])","v":""},"","",{"$f":"Opzoek_ooi[[#This Row],[Ooinummer]]","v":0},"",""]
[{"$f":"lammering[[#This Row],[Ooi]]","v":"BE177340138"},1,"BE177340138",{"$f":"IF(lammering[[#This Row],[Lam-nummer]]=\"\",0,1)","v":1},{"$f":"IF(lammering[[#This Row],[Dood in geboorte]]=\"ja\",1,0)","v":0},{"$f":"IF(lammering[[#This Row],[Ooi]]=\"\",0,IF(Berekeningen!E50=0,1,0))","v":1},{"$f":"IF(D50=0,0,IF(lammering[[#This Row],[Dood in geboorte]]=\"Ja\",0,IF(lammering[[#This Row],[Dood na geboorte]]=\"ja\",0,1)))","v":1},{"$f":"IF(lammering[[#This Row],[Opfok met kunstmelk]]=\"Ja\",1,0)","v":0},{"$f":"IF(lammering[[#This Row],[geslacht]]=\"O\",1,0)","v":1},{"$f":"IF(lammering[[#This Row],[Speen-datum]]=\"\",\"\",(lammering[[#This Row],[Speen-gewicht]]-lammering[[#This Row],[geboorte-gewicht]])/(lammering[[#This Row],[Speen-datum]]-lammering[[#This Row],[Werp-datum]]))","v":0.26279069767441859},{"$f":"IF(lammering[[#This Row],[Verkoop-datum]]=\"\",\"\",(lammering[[#This Row],[Verkoop-gewicht]]-lammering[[#This Row],[Speen-gewicht]])/(lammering[[#This Row],[Verkoop-datum]]-lammering[[#This Row],[Speen-datum]]))","v":""},{"$f":"IF(lammering[[#This Row],[Verkoop-datum]]=\"\",\"\",(lammering[[#This Row],[Verkoop-gewicht]]-lammering[[#This Row],[geboorte-gewicht]])/(lammering[[#This Row],[Verkoop-datum]]-lammering[[#This Row],[Werp-datum]]))","v":""},0.26279069767441859,"","","","","",{"$f":"IF(lammering[[#This Row],[Verkoop-gewicht]]=\"\",\"\",lammering[[#This Row],[Verkoop-gewicht]]-lammering[[#This Row],[geboorte-gewicht]])","v":""},"","",{"$f":"Opzoek_ooi[[#This Row],[Ooinummer]]","v":0},"",""]
[{"$f":"lammering[[#This Row],[Ooi]]","v":"BE177340138"},0,0,{"$f":"IF(lammering[[#This Row],[Lam-nummer]]=\"\",0,1)","v":1},{"$f":"IF(lammering[[#This Row],[Dood in geboorte]]=\"ja\",1,0)","v":0},{"$f":"IF(lammering[[#This Row],[Ooi]]=\"\",0,IF(Berekeningen!E51=0,1,0))","v":1},{"$f":"IF(D51=0,0,IF(lammering[[#This Row],[Dood in geboorte]]=\"Ja\",0,IF(lammering[[#This Row],[Dood na geboorte]]=\"ja\",0,1)))","v":1},{"$f":"IF(lammering[[#This Row],[Opfok met kunstmelk]]=\"Ja\",1,0)","v":0},{"$f":"IF(lammering[[#This Row],[geslacht]]=\"O\",1,0)","v":1},{"$f":"IF(lammering[[#This Row],[Speen-datum]]=\"\",\"\",(lammering[[#This Row],[Speen-gewicht]]-lammering[[#This Row],[geboorte-gewicht]])/(lammering[[#This Row],[Speen-datum]]-lammering[[#This Row],[Werp-datum]]))","v":0.26390977443609026},{"$f":"IF(lammering[[#This Row],[Verkoop-datum]]=\"\",\"\",(lammering[[#This Row],[Verkoop-gewicht]]-lammering[[#This Row],[Speen-gewicht]])/(lammering[[#This Row],[Verkoop-datum]]-lammering[[#This Row],[Speen-datum]]))","v":{"$error":"#DIV/0!"}},{"$f":"IF(lammering[[#This Row],[Verkoop-datum]]=\"\",\"\",(lammering[[#This Row],[Verkoop-gewicht]]-lammering[[#This Row],[geboorte-gewicht]])/(lammering[[#This Row],[Verkoop-datum]]-lammering[[#This Row],[Werp-datum]]))","v":0.26390977443609026},0.26390977443609026,{"$error":"#DIV/0!"},0.26390977443609026,"","","",{"$f":"IF(lammering[[#This Row],[Verkoop-gewicht]]=\"\",\"\",lammering[[#This Row],[Verkoop-gewicht]]-lammering[[#This Row],[geboorte-gewicht]])","v":35.1},35.1,"",{"$f":"Opzoek_ooi[[#This Row],[Ooinummer]]","v":0},"",""]
[{"$f":"lammering[[#This Row],[Ooi]]","v":"BE177340138"},0,0,{"$f":"IF(lammering[[#This Row],[Lam-nummer]]=\"\",0,1)","v":1},{"$f":"IF(lammering[[#This Row],[Dood in geboorte]]=\"ja\",1,0)","v":0},{"$f":"IF(lammering[[#This Row],[Ooi]]=\"\",0,IF(Berekeningen!E52=0,1,0))","v":1},{"$f":"IF(D52=0,0,IF(lammering[[#This Row],[Dood in geboorte]]=\"Ja\",0,IF(lammering[[#This Row],[Dood na geboorte]]=\"ja\",0,1)))","v":1},{"$f":"IF(lammering[[#This Row],[Opfok met kunstmelk]]=\"Ja\",1,0)","v":0},{"$f":"IF(lammering[[#This Row],[geslacht]]=\"O\",1,0)","v":1},{"$f":"IF(lammering[[#This Row],[Speen-datum]]=\"\",\"\",(lammering[[#This Row],[Speen-gewicht]]-lammering[[#This Row],[geboorte-gewicht]])/(lammering[[#This Row],[Speen-datum]]-lammering[[#This Row],[Werp-datum]]))","v":0.24962406015037597},{"$f":"IF(lammering[[#This Row],[Verkoop-datum]]=\"\",\"\",(lammering[[#This Row],[Verkoop-gewicht]]-lammering[[#This Row],[Speen-gewicht]])/(lammering[[#This Row],[Verkoop-datum]]-lammering[[#This Row],[Speen-datum]]))","v":{"$error":"#DIV/0!"}},{"$f":"IF(lammering[[#This Row],[Verkoop-datum]]=\"\",\"\",(lammering[[#This Row],[Verkoop-gewicht]]-lammering[[#This Row],[geboorte-gewicht]])/(lammering[[#This Row],[Verkoop-datum]]-lammering[[#This Row],[Werp-datum]]))","v":0.24962406015037597},0.24962406015037597,{"$error":"#DIV/0!"},0.24962406015037597,"","","",{"$f":"IF(lammering[[#This Row],[Verkoop-gewicht]]=\"\",\"\",lammering[[#This Row],[Verkoop-gewicht]]-lammering[[#This Row],[geboorte-gewicht]])","v":33.200000000000003},33.200000000000003,"",{"$f":"Opzoek_ooi[[#This Row],[Ooinummer]]","v":0},"",""]
[{"$f":"lammering[[#This Row],[Ooi]]","v":"BE177340138"},0,0,{"$f":"IF(lammering[[#This Row],[Lam-nummer]]=\"\",0,1)","v":1},{"$f":"IF(lammering[[#This Row],[Dood in geboorte]]=\"ja\",1,0)","v":0},{"$f":"IF(lammering[[#This Row],[Ooi]]=\"\",0,IF(Berekeningen!E53=0,1,0))","v":1},{"$f":"IF(D53=0,0,IF(lammering[[#This Row],[Dood in geboorte]]=\"Ja\",0,IF(lammering[[#This Row],[Dood na geboorte]]=\"ja\",0,1)))","v":1},{"$f":"IF(lammering[[#This Row],[Opfok met kunstmelk]]=\"Ja\",1,0)","v":0},{"$f":"IF(lammering[[#This Row],[geslacht]]=\"O\",1,0)","v":0},{"$f":"IF(lammering[[#This Row],[Speen-datum]]=\"\",\"\",(lammering[[#This Row],[Speen-gewicht]]-lammering[[#This Row],[geboorte-gewicht]])/(lammering[[#This Row],[Speen-datum]]-lammering[[#This Row],[Werp-datum]]))","v":0.25503875968992246},{"$f":"IF(lammering[[#This Row],[Verkoop-datum]]=\"\",\"\",(lammering[[#This Row],[Verkoop-gewicht]]-lammering[[#This Row],[Speen-gewicht]])/(lammering[[#This Row],[Verkoop-datum]]-lammering[[#This Row],[Speen-datum]]))","v":""},{"$f":"IF(lammering[[#This Row],[Verkoop-datum]]=\"\",\"\",(lammering[[#This Row],[Verkoop-gewicht]]-lammering[[#This Row],[geboorte-gewicht]])/(lammering[[#This Row],[Verkoop-datum]]-lammering[[#This Row],[Werp-datum]]))","v":""},"","","",0.25503875968992246,"","",{"$f":"IF(lammering[[#This Row],[Verkoop-gewicht]]=\"\",\"\",lammering[[#This Row],[Verkoop-gewicht]]-lammering[[#This Row],[geboorte-gewicht]])","v":""},"","",{"$f":"Opzoek_ooi[[#This Row],[Ooinummer]]","v":0},"",""]
[{"$f":"lammering[[#This Row],[Ooi]]","v":"BE120"},1,"BE120",{"$f":"IF(lammering[[#This Row],[Lam-nummer]]=\"\",0,1)","v":1},{"$f":"IF(lammering[[#This Row],[Dood in geboorte]]=\"ja\",1,0)","v":0},{"$f":"IF(lammering[[#This Row],[Ooi]]=\"\",0,IF(Berekeningen!E54=0,1,0))","v":1},{"$f":"IF(D54=0,0,IF(lammering[[#This Row],[Dood in geboorte]]=\"Ja\",0,IF(lammering[[#This Row],[Dood na geboorte]]=\"ja\",0,1)))","v":1},{"$f":"IF(lammering[[#This Row],[Opfok met kunstmelk]]=\"Ja\",1,0)","v":0},{"$f":"IF(lammering[[#This Row],[geslacht]]=\"O\",1,0)","v":1},{"$f":"IF(lammering[[#This Row],[Speen-datum]]=\"\",\"\",(lammering[[#This Row],[Speen-gewicht]]-lammering[[#This Row],[geboorte-gewicht]])/(lammering[[#This Row],[Speen-datum]]-lammering[[#This Row],[Werp-datum]]))","v":0.19699248120300752},{"$f":"IF(lammering[[#This Row],[Verkoop-datum]]=\"\",\"\",(lammering[[#This Row],[Verkoop-gewicht]]-lammering[[#This Row],[Speen-gewicht]])/(lammering[[#This Row],[Verkoop-datum]]-lammering[[#This Row],[Speen-datum]]))","v":{"$error":"#DIV/0!"}},{"$f":"IF(lammering[[#This Row],[Verkoop-datum]]=\"\",\"\",(lammering[[#This Row],[Verkoop-gewicht]]-lammering[[#This Row],[geboorte-gewicht]])/(lammering[[#This Row],[Verkoop-datum]]-lammering[[#This Row],[Werp-datum]]))","v":0.19699248120300752},0.19699248120300752,{"$error":"#DIV/0!"},0.19699248120300752,"","","",{"$f":"IF(lammering[[#This Row],[Verkoop-gewicht]]=\"\",\"\",lammering[[#This Row],[Verkoop-gewicht]]-lammering[[#This Row],[geboorte-gewicht]])","v":26.2},26.2,"",{"$f":"Opzoek_ooi[[#This Row],[Ooinummer]]","v":0},"",""]
[{"$f":"lammering[[#This Row],[Ooi]]","v":"BE120"},0,0,{"$f":"IF(lammering[[#This Row],[Lam-nummer]]=\"\",0,1)","v":1},{"$f":"IF(lammering[[#This Row],[Dood in geboorte]]=\"ja\",1,0)","v":0},{"$f":"IF(lammering[[#This Row],[Ooi]]=\"\",0,IF(Berekeningen!E55=0,1,0))","v":1},{"$f":"IF(D55=0,0,IF(lammering[[#This Row],[Dood in geboorte]]=\"Ja\",0,IF(lammering[[#This Row],[Dood na geboorte]]=\"ja\",0,1)))","v":1},{"$f":"IF(lammering[[#This Row],[Opfok met kunstmelk]]=\"Ja\",1,0)","v":0},{"$f":"IF(lammering[[#This Row],[geslacht]]=\"O\",1,0)","v":1},{"$f":"IF(lammering[[#This Row],[Speen-datum]]=\"\",\"\",(lammering[[#This Row],[Speen-gewicht]]-lammering[[#This Row],[geboorte-gewicht]])/(lammering[[#This Row],[Speen-datum]]-lammering[[#This Row],[Werp-datum]]))","v":0.3007518796992481},{"$f":"IF(lammering[[#This Row],[Verkoop-datum]]=\"\",\"\",(lammering[[#This Row],[Verkoop-gewicht]]-lammering[[#This Row],[Speen-gewicht]])/(lammering[[#This Row],[Verkoop-datum]]-lammering[[#This Row],[Speen-datum]]))","v":{"$error":"#DIV/0!"}},{"$f":"IF(lammering[[#This Row],[Verkoop-datum]]=\"\",\"\",(lammering[[#This Row],[Verkoop-gewicht]]-lammering[[#This Row],[geboorte-gewicht]])/(lammering[[#This Row],[Verkoop-datum]]-lammering[[#This Row],[Werp-datum]]))","v":0.3007518796992481},0.3007518796992481,{"$error":"#DIV/0!"},0.3007518796992481,"","","",{"$f":"IF(lammering[[#This Row],[Verkoop-gewicht]]=\"\",\"\",lammering[[#This Row],[Verkoop-gewicht]]-lammering[[#This Row],[geboorte-gewicht]])","v":40},40,"",{"$f":"Opzoek_ooi[[#This Row],[Ooinummer]]","v":0},"",""]
[{"$f":"lammering[[#This Row],[Ooi]]","v":"BE120"},0,0,{"$f":"IF(lammering[[#This Row],[Lam-nummer]]=\"\",0,1)","v":1},{"$f":"IF(lammering[[#This Row],[Dood in geboorte]]=\"ja\",1,0)","v":0},{"$f":"IF(lammering[[#This Row],[Ooi]]=\"\",0,IF(Berekeningen!E56=0,1,0))","v":1},{"$f":"IF(D56=0,0,IF(lammering[[#This Row],[Dood in geboorte]]=\"Ja\",0,IF(lammering[[#This Row],[Dood na geboorte]]=\"ja\",0,1)))","v":1},{"$f":"IF(lammering[[#This Row],[Opfok met kunstmelk]]=\"Ja\",1,0)","v":0},{"$f":"IF(lammering[[#This Row],[geslacht]]=\"O\",1,0)","v":1},{"$f":"IF(lammering[[#This Row],[Speen-datum]]=\"\",\"\",(lammering[[#This Row],[Speen-gewicht]]-lammering[[#This Row],[geboorte-gewicht]])/(lammering[[#This Row],[Speen-datum]]-lammering[[#This Row],[Werp-datum]]))","v":0.20225563909774436},{"$f":"IF(lammering[[#This Row],[Verkoop-datum]]=\"\",\"\",(lammering[[#This Row],[Verkoop-gewicht]]-lammering[[#This Row],[Speen-gewicht]])/(lammering[[#This Row],[Verkoop-datum]]-lammering[[#This Row],[Speen-datum]]))","v":{"$error":"#DIV/0!"}},{"$f":"IF(lammering[[#This Row],[Verkoop-datum]]=\"\",\"\",(lammering[[#This Row],[Verkoop-gewicht]]-lammering[[#This Row],[geboorte-gewicht]])/(lammering[[#This Row],[Verkoop-datum]]-lammering[[#This Row],[Werp-datum]]))","v":0.20225563909774436},0.20225563909774436,{"$error":"#DIV/0!"},0.20225563909774436,"","","",{"$f":"IF(lammering[[#This Row],[Verkoop-gewicht]]=\"\",\"\",lammering[[#This Row],[Verkoop-gewicht]]-lammering[[#This Row],[geboorte-gewicht]])","v":26.9},26.9,"",{"$f":"Opzoek_ooi[[#This Row],[Ooinummer]]","v":0},"",""]
[{"$f":"lammering[[#This Row],[Ooi]]","v":"BE176710022"},1,"BE176710022",{"$f":"IF(lammering[[#This Row],[Lam-nummer]]=\"\",0,1)","v":1},{"$f":"IF(lammering[[#This Row],[Dood in geboorte]]=\"ja\",1,0)","v":0},{"$f":"IF(lammering[[#This Row],[Ooi]]=\"\",0,IF(Berekeningen!E57=0,1,0))","v":1},{"$f":"IF(D57=0,0,IF(lammering[[#This Row],[Dood in geboorte]]=\"Ja\",0,IF(lammering[[#This Row],[Dood na geboorte]]=\"ja\",0,1)))","v":1},{"$f":"IF(lammering[[#This Row],[Opfok met kunstmelk]]=\"Ja\",1,0)","v":0},{"$f":"IF(lammering[[#This Row],[geslacht]]=\"O\",1,0)","v":1},{"$f":"IF(lammering[[#This Row],[Speen-datum]]=\"\",\"\",(lammering[[#This Row],[Speen-gewicht]]-lammering[[#This Row],[geboorte-gewicht]])/(lammering[[#This Row],[Speen-datum]]-lammering[[#This Row],[Werp-datum]]))","v":0.26106870229007634},{"$f":"IF(lammering[[#This Row],[Verkoop-datum]]=\"\",\"\",(lammering[[#This Row],[Verkoop-gewicht]]-lammering[[#This Row],[Speen-gewicht]])/(lammering[[#This Row],[Verkoop-datum]]-lammering[[#This Row],[Speen-datum]]))","v":{"$error":"#DIV/0!"}},{"$f":"IF(lammering[[#This Row],[Verkoop-datum]]=\"\",\"\",(lammering[[#This Row],[Verkoop-gewicht]]-lammering[[#This Row],[geboorte-gewicht]])/(lammering[[#This Row],[Verkoop-datum]]-lammering[[#This Row],[Werp-datum]]))","v":0.26106870229007634},0.26106870229007634,{"$error":"#DIV/0!"},0.26106870229007634,"","","",{"$f":"IF(lammering[[#This Row],[Verkoop-gewicht]]=\"\",\"\",lammering[[#This Row],[Verkoop-gewicht]]-lammering[[#This Row],[geboorte-gewicht]])","v":34.200000000000003},34.200000000000003,"",{"$f":"Opzoek_ooi[[#This Row],[Ooinummer]]","v":0},"",""]
[{"$f":"lammering[[#This Row],[Ooi]]","v":"BE176710022"},0,0,{"$f":"IF(lammering[[#This Row],[Lam-nummer]]=\"\",0,1)","v":1},{"$f":"IF(lammering[[#This Row],[Dood in geboorte]]=\"ja\",1,0)","v":0},{"$f":"IF(lammering[[#This Row],[Ooi]]=\"\",0,IF(Berekeningen!E58=0,1,0))","v":1},{"$f":"IF(D58=0,0,IF(lammering[[#This Row],[Dood in geboorte]]=\"Ja\",0,IF(lammering[[#This Row],[Dood na geboorte]]=\"ja\",0,1)))","v":1},{"$f":"IF(lammering[[#This Row],[Opfok met kunstmelk]]=\"Ja\",1,0)","v":0},{"$f":"IF(lammering[[#This Row],[geslacht]]=\"O\",1,0)","v":1},{"$f":"IF(lammering[[#This Row],[Speen-datum]]=\"\",\"\",(lammering[[#This Row],[Speen-gewicht]]-lammering[[#This Row],[geboorte-gewicht]])/(lammering[[#This Row],[Speen-datum]]-lammering[[#This Row],[Werp-datum]]))","v":0.27786259541984731},{"$f":"IF(lammering[[#This Row],[Verkoop-datum]]=\"\",\"\",(lammering[[#This Row],[Verkoop-gewicht]]-lammering[[#This Row],[Speen-gewicht]])/(lammering[[#This Row],[Verkoop-datum]]-lammering[[#This Row],[Speen-datum]]))","v":{"$error":"#DIV/0!"}},{"$f":"IF(lammering[[#This Row],[Verkoop-datum]]=\"\",\"\",(lammering[[#This Row],[Verkoop-gewicht]]-lammering[[#This Row],[geboorte-gewicht]])/(lammering[[#This Row],[Verkoop-datum]]-lammering[[#This Row],[Werp-datum]]))","v":0.27786259541984731},0.27786259541984731,{"$error":"#DIV/0!"},0.27786259541984731,"","","",{"$f":"IF(lammering[[#This Row],[Verkoop-gewicht]]=\"\",\"\",lammering[[#This Row],[Verkoop-gewicht]]-lammering[[#This Row],[geboorte-gewicht]])","v":36.4},36.4,"",{"$f":"Opzoek_ooi[[#This Row],[Ooinummer]]","v":0},"",""]
[{"$f":"lammering[[#This Row],[Ooi]]","v":"BE176710022"},0,0,{"$f":"IF(lammering[[#This Row],[Lam-nummer]]=\"\",0,1)","v":1},{"$f":"IF(lammering[[#This Row],[Dood in geboorte]]=\"ja\",1,0)","v":0},{"$f":"IF(lammering[[#This Row],[Ooi]]=\"\",0,IF(Berekeningen!E59=0,1,0))","v":1},{"$f":"IF(D59=0,0,IF(lammering[[#This Row],[Dood in geboorte]]=\"Ja\",0,IF(lammering[[#This Row],[Dood na geboorte]]=\"ja\",0,1)))","v":1},{"$f":"IF(lammering[[#This Row],[Opfok met kunstmelk]]=\"Ja\",1,0)","v":0},{"$f":"IF(lammering[[#This Row],[geslacht]]=\"O\",1,0)","v":0},{"$f":"IF(lammering[[#This Row],[Speen-datum]]=\"\",\"\",(lammering[[#This Row],[Speen-gewicht]]-lammering[[#This Row],[geboorte-gewicht]])/(lammering[[#This Row],[Speen-datum]]-lammering[[#This Row],[Werp-datum]]))","v":0.34656488549618319},{"$f":"IF(lammering[[#This Row],[Verkoop-datum]]=\"\",\"\",(lammering[[#This Row],[Verkoop-gewicht]]-lammering[[#This Row],[Speen-gewicht]])/(lammering[[#This Row],[Verkoop-datum]]-lammering[[#This Row],[Speen-datum]]))","v":{"$error":"#DIV/0!"}},{"$f":"IF(lammering[[#This Row],[Verkoop-datum]]=\"\",\"\",(lammering[[#This Row],[Verkoop-gewicht]]-lammering[[#This Row],[geboorte-gewicht]])/(lammering[[#This Row],[Verkoop-datum]]-lammering[[#This Row],[Werp-datum]]))","v":0.34656488549618319},"","","",0.34656488549618319,{"$error":"#DIV/0!"},0.34656488549618319,{"$f":"IF(lammering[[#This Row],[Verkoop-gewicht]]=\"\",\"\",lammering[[#This Row],[Verkoop-gewicht]]-lammering[[#This Row],[geboorte-gewicht]])","v":45.4},"",45.4,{"$f":"Opzoek_ooi[[#This Row],[Ooinummer]]","v":0},"",""]
[{"$f":"lammering[[#This Row],[Ooi]]","v":"BE577340135"},1,"BE577340135",{"$f":"IF(lammering[[#This Row],[Lam-nummer]]=\"\",0,1)","v":1},{"$f":"IF(lammering[[#This Row],[Dood in geboorte]]=\"ja\",1,0)","v":0},{"$f":"IF(lammering[[#This Row],[Ooi]]=\"\",0,IF(Berekeningen!E60=0,1,0))","v":1},{"$f":"IF(D60=0,0,IF(lammering[[#This Row],[Dood in geboorte]]=\"Ja\",0,IF(lammering[[#This Row],[Dood na geboorte]]=\"ja\",0,1)))","v":1},{"$f":"IF(lammering[[#This Row],[Opfok met kunstmelk]]=\"Ja\",1,0)","v":0},{"$f":"IF(lammering[[#This Row],[geslacht]]=\"O\",1,0)","v":1},{"$f":"IF(lammering[[#This Row],[Speen-datum]]=\"\",\"\",(lammering[[#This Row],[Speen-gewicht]]-lammering[[#This Row],[geboorte-gewicht]])/(lammering[[#This Row],[Speen-datum]]-lammering[[#This Row],[Werp-datum]]))","v":0.27063492063492067},{"$f":"IF(lammering[[#This Row],[Verkoop-datum]]=\"\",\"\",(lammering[[#This Row],[Verkoop-gewicht]]-lammering[[#This Row],[Speen-gewicht]])/(lammering[[#This Row],[Verkoop-datum]]-lammering[[#This Row],[Speen-datum]]))","v":{"$error":"#DIV/0!"}},{"$f":"IF(lammering[[#This Row],[Verkoop-datum]]=\"\",\"\",(lammering[[#This Row],[Verkoop-gewicht]]-lammering[[#This Row],[geboorte-gewicht]])/(lammering[[#This Row],[Verkoop-datum]]-lammering[[#This Row],[Werp-datum]]))","v":0.27063492063492067},0.27063492063492067,{"$error":"#DIV/0!"},0.27063492063492067,"","","",{"$f":"IF(lammering[[#This Row],[Verkoop-gewicht]]=\"\",\"\",lammering[[#This Row],[Verkoop-gewicht]]-lammering[[#This Row],[geboorte-gewicht]])","v":34.1},34.1,"",{"$f":"Opzoek_ooi[[#This Row],[Ooinummer]]","v":0},"",""]
[{"$f":"lammering[[#This Row],[Ooi]]","v":"BE577340135"},0,0,{"$f":"IF(lammering[[#This Row],[Lam-nummer]]=\"\",0,1)","v":1},{"$f":"IF(lammering[[#This Row],[Dood in geboorte]]=\"ja\",1,0)","v":0},{"$f":"IF(lammering[[#This Row],[Ooi]]=\"\",0,IF(Berekeningen!E61=0,1,0))","v":1},{"$f":"IF(D61=0,0,IF(lammering[[#This Row],[Dood in geboorte]]=\"Ja\",0,IF(lammering[[#This Row],[Dood na geboorte]]=\"ja\",0,1)))","v":1},{"$f":"IF(lammering[[#This Row],[Opfok met kunstmelk]]=\"Ja\",1,0)","v":1},{"$f":"IF(lammering[[#This Row],[geslacht]]=\"O\",1,0)","v":0},{"$f":"IF(lammering[[#This Row],[Speen-datum]]=\"\",\"\",(lammering[[#This Row],[Speen-gewicht]]-lammering[[#This Row],[geboorte-gewicht]])/(lammering[[#This Row],[Speen-datum]]-lammering[[#This Row],[Werp-datum]]))","v":0.22063492063492063},{"$f":"IF(lammering[[#This Row],[Verkoop-datum]]=\"\",\"\",(lammering[[#This Row],[Verkoop-gewicht]]-lammering[[#This Row],[Speen-gewicht]])/(lammering[[#This Row],[Verkoop-datum]]-lammering[[#This Row],[Speen-datum]]))","v":{"$error":"#DIV/0!"}},{"$f":"IF(lammering[[#This Row],[Verkoop-datum]]=\"\",\"\",(lammering[[#This Row],[Verkoop-gewicht]]-lammering[[#This Row],[geboorte-gewicht]])/(lammering[[#This Row],[Verkoop-datum]]-lammering[[#This Row],[Werp-datum]]))","v":0.22063492063492063},"","","",0.22063492063492063,{"$error":"#DIV/0!"},0.22063492063492063,{"$f":"IF(lammering[[#This Row],[Verkoop-gewicht]]=\"\",\"\",lammering[[#This Row],[Verkoop-gewicht]]-lammering[[#This Row],[geboorte-gewicht]])","v":27.8},"",27.8,{"$f":"Opzoek_ooi[[#This Row],[Ooinummer]]","v":0},"",""]
[{"$f":"lammering[[#This Row],[Ooi]]","v":"BE519886427"},1,"BE519886427",{"$f":"IF(lammering[[#This Row],[Lam-nummer]]=\"\",0,1)","v":1},{"$f":"IF(lammering[[#This Row],[Dood in geboorte]]=\"ja\",1,0)","v":0},{"$f":"IF(lammering[[#This Row],[Ooi]]=\"\",0,IF(Berekeningen!E62=0,1,0))","v":1},{"$f":"IF(D62=0,0,IF(lammering[[#This Row],[Dood in geboorte]]=\"Ja\",0,IF(lammering[[#This Row],[Dood na geboorte]]=\"ja\",0,1)))","v":1},{"$f":"IF(lammering[[#This Row],[Opfok met kunstmelk]]=\"Ja\",1,0)","v":0},{"$f":"IF(lammering[[#This Row],[geslacht]]=\"O\",1,0)","v":1},{"$f":"IF(lammering[[#This Row],[Speen-datum]]=\"\",\"\",(lammering[[#This Row],[Speen-gewicht]]-lammering[[#This Row],[geboorte-gewicht]])/(lammering[[#This Row],[Speen-datum]]-lammering[[#This Row],[Werp-datum]]))","v":0.29662162162162159},{"$f":"IF(lammering[[#This Row],[Verkoop-datum]]=\"\",\"\",(lammering[[#This Row],[Verkoop-gewicht]]-lammering[[#This Row],[Speen-gewicht]])/(lammering[[#This Row],[Verkoop-datum]]-lammering[[#This Row],[Speen-datum]]))","v":""},{"$f":"IF(lammering[[#This Row],[Verkoop-datum]]=\"\",\"\",(lammering[[#This Row],[Verkoop-gewicht]]-lammering[[#This Row],[geboorte-gewicht]])/(lammering[[#This Row],[Verkoop-datum]]-lammering[[#This Row],[Werp-datum]]))","v":""},0.29662162162162159,"","","","","",{"$f":"IF(lammering[[#This Row],[Verkoop-gewicht]]=\"\",\"\",lammering[[#This Row],[Verkoop-gewicht]]-lammering[[#This Row],[geboorte-gewicht]])","v":""},"","",{"$f":"Opzoek_ooi[[#This Row],[Ooinummer]]","v":0},"",""]
[{"$f":"lammering[[#This Row],[Ooi]]","v":"BE519886427"},0,0,{"$f":"IF(lammering[[#This Row],[Lam-nummer]]=\"\",0,1)","v":1},{"$f":"IF(lammering[[#This Row],[Dood in geboorte]]=\"ja\",1,0)","v":0},{"$f":"IF(lammering[[#This Row],[Ooi]]=\"\",0,IF(Berekeningen!E63=0,1,0))","v":1},{"$f":"IF(D63=0,0,IF(lammering[[#This Row],[Dood in geboorte]]=\"Ja\",0,IF(lammering[[#This Row],[Dood na geboorte]]=\"ja\",0,1)))","v":1},{"$f":"IF(lammering[[#This Row],[Opfok met kunstmelk]]=\"Ja\",1,0)","v":0},{"$f":"IF(lammering[[#This Row],[geslacht]]=\"O\",1,0)","v":1},{"$f":"IF(lammering[[#This Row],[Speen-datum]]=\"\",\"\",(lammering[[#This Row],[Speen-gewicht]]-lammering[[#This Row],[geboorte-gewicht]])/(lammering[[#This Row],[Speen-datum]]-lammering[[#This Row],[Werp-datum]]))","v":0.33716216216216216},{"$f":"IF(lammering[[#This Row],[Verkoop-datum]]=\"\",\"\",(lammering[[#This Row],[Verkoop-gewicht]]-lammering[[#This Row],[Speen-gewicht]])/(lammering[[#This Row],[Verkoop-datum]]-lammering[[#This Row],[Speen-datum]]))","v":""},{"$f":"IF(lammering[[#This Row],[Verkoop-datum]]=\"\",\"\",(lammering[[#This Row],[Verkoop-gewicht]]-lammering[[#This Row],[geboorte-gewicht]])/(lammering[[#This Row],[Verkoop-datum]]-lammering[[#This Row],[Werp-datum]]))","v":""},0.33716216216216216,"","","","","",{"$f":"IF(lammering[[#This Row],[Verkoop-gewicht]]=\"\",\"\",lammering[[#This Row],[Verkoop-gewicht]]-lammering[[#This Row],[geboorte-gewicht]])","v":""},"","",{"$f":"Opzoek_ooi[[#This Row],[Ooinummer]]","v":0},"",""]
[{"$f":"lammering[[#This Row],[Ooi]]","v":"BE277340162"},1,"BE277340162",{"$f":"IF(lammering[[#This Row],[Lam-nummer]]=\"\",0,1)","v":1},{"$f":"IF(lammering[[#This Row],[Dood in geboorte]]=\"ja\",1,0)","v":0},{"$f":"IF(lammering[[#This Row],[Ooi]]=\"\",0,IF(Berekeningen!E64=0,1,0))","v":1},{"$f":"IF(D64=0,0,IF(lammering[[#This Row],[Dood in geboorte]]=\"Ja\",0,IF(lammering[[#This Row],[Dood na geboorte]]=\"ja\",0,1)))","v":1},{"$f":"IF(lammering[[#This Row],[Opfok met kunstmelk]]=\"Ja\",1,0)","v":0},{"$f":"IF(lammering[[#This Row],[geslacht]]=\"O\",1,0)","v":0},{"$f":"IF(lammering[[#This Row],[Speen-datum]]=\"\",\"\",(lammering[[#This Row],[Speen-gewicht]]-lammering[[#This Row],[geboorte-gewicht]])/(lammering[[#This Row],[Speen-datum]]-lammering[[#This Row],[Werp-datum]]))","v":0.40845070422535212},{"$f":"IF(lammering[[#This Row],[Verkoop-datum]]=\"\",\"\",(lammering[[#This Row],[Verkoop-gewicht]]-lammering[[#This Row],[Speen-gewicht]])/(lammering[[#This Row],[Verkoop-datum]]-lammering[[#This Row],[Speen-datum]]))","v":{"$error":"#DIV/0!"}},{"$f":"IF(lammering[[#This Row],[Verkoop-datum]]=\"\",\"\",(lammering[[#This Row],[Verkoop-gewicht]]-lammering[[#This Row],[geboorte-gewicht]])/(lammering[[#This Row],[Verkoop-datum]]-lammering[[#This Row],[Werp-datum]]))","v":0.40845070422535212},"","","",0.40845070422535212,{"$error":"#DIV/0!"},0.40845070422535212,{"$f":"IF(lammering[[#This Row],[Verkoop-gewicht]]=\"\",\"\",lammering[[#This Row],[Verkoop-gewicht]]-lammering[[#This Row],[geboorte-gewicht]])","v":29},"",29,{"$f":"Opzoek_ooi[[#This Row],[Ooinummer]]","v":0},"",""]
[{"$f":"lammering[[#This Row],[Ooi]]","v":0},0,0,{"$f":"IF(lammering[[#This Row],[Lam-nummer]]=\"\",0,1)","v":0},{"$f":"IF(lammering[[#This Row],[Dood in geboorte]]=\"ja\",1,0)","v":0},{"$f":"IF(lammering[[#This Row],[Ooi]]=\"\",0,IF(Berekeningen!E65=0,1,0))","v":0},{"$f":"IF(D65=0,0,IF(lammering[[#This Row],[Dood in geboorte]]=\"Ja\",0,IF(lammering[[#This Row],[Dood na geboorte]]=\"ja\",0,1)))","v":0},{"$f":"IF(lammering[[#This Row],[Opfok met kunstmelk]]=\"Ja\",1,0)","v":0},{"$f":"IF(lammering[[#This Row],[geslacht]]=\"O\",1,0)","v":0},{"$f":"IF(lammering[[#This Row],[Speen-datum]]=\"\",\"\",(lammering[[#This Row],[Speen-gewicht]]-lammering[[#This Row],[geboorte-gewicht]])/(lammering[[#This Row],[Speen-datum]]-lammering[[#This Row],[Werp-datum]]))","v":""},{"$f":"IF(lammering[[#This Row],[Verkoop-datum]]=\"\",\"\",(lammering[[#This Row],[Verkoop-gewicht]]-lammering[[#This Row],[Speen-gewicht]])/(lammering[[#This Row],[Verkoop-datum]]-lammering[[#This Row],[Speen-datum]]))","v":""},{"$f":"IF(lammering[[#This Row],[Verkoop-datum]]=\"\",\"\",(lammering[[#This Row],[Verkoop-gewicht]]-lammering[[#This Row],[geboorte-gewicht]])/(lammering[[#This Row],[Verkoop-datum]]-lammering[[#This Row],[Werp-datum]]))","v":""},"","","","","","",{"$f":"IF(lammering[[#This Row],[Verkoop-gewicht]]=\"\",\"\",lammering[[#This Row],[Verkoop-gewicht]]-lammering[[#This Row],[geboorte-gewicht]])","v":""},"","",{"$f":"Opzoek_ooi[[#This Row],[Ooinummer]]","v":0},"",""]
[{"$f":"lammering[[#This Row],[Ooi]]","v":0},0,0,{"$f":"IF(lammering[[#This Row],[Lam-nummer]]=\"\",0,1)","v":0},{"$f":"IF(lammering[[#This Row],[Dood in geboorte]]=\"ja\",1,0)","v":0},{"$f":"IF(lammering[[#This Row],[Ooi]]=\"\",0,IF(Berekeningen!E66=0,1,0))","v":0},{"$f":"IF(D66=0,0,IF(lammering[[#This Row],[Dood in geboorte]]=\"Ja\",0,IF(lammering[[#This Row],[Dood na geboorte]]=\"ja\",0,1)))","v":0},{"$f":"IF(lammering[[#This Row],[Opfok met kunstmelk]]=\"Ja\",1,0)","v":0},{"$f":"IF(lammering[[#This Row],[geslacht]]=\"O\",1,0)","v":0},{"$f":"IF(lammering[[#This Row],[Speen-datum]]=\"\",\"\",(lammering[[#This Row],[Speen-gewicht]]-lammering[[#This Row],[geboorte-gewicht]])/(lammering[[#This Row],[Speen-datum]]-lammering[[#This Row],[Werp-datum]]))","v":""},{"$f":"IF(lammering[[#This Row],[Verkoop-datum]]=\"\",\"\",(lammering[[#This Row],[Verkoop-gewicht]]-lammering[[#This Row],[Speen-gewicht]])/(lammering[[#This Row],[Verkoop-datum]]-lammering[[#This Row],[Speen-datum]]))","v":""},{"$f":"IF(lammering[[#This Row],[Verkoop-datum]]=\"\",\"\",(lammering[[#This Row],[Verkoop-gewicht]]-lammering[[#This Row],[geboorte-gewicht]])/(lammering[[#This Row],[Verkoop-datum]]-lammering[[#This Row],[Werp-datum]]))","v":""},"","","","","","",{"$f":"IF(lammering[[#This Row],[Verkoop-gewicht]]=\"\",\"\",lammering[[#This Row],[Verkoop-gewicht]]-lammering[[#This Row],[geboorte-gewicht]])","v":""},"","",{"$f":"Opzoek_ooi[[#This Row],[Ooinummer]]","v":0},"",""]
[{"$f":"lammering[[#This Row],[Ooi]]","v":0},{"$f":"IF(A67=0,0,IF(A67=A66,0,1))","v":0},{"$f":"IF(B67=1,A67,0)","v":0},{"$f":"IF(lammering[[#This Row],[Lam-nummer]]=\"\",0,1)","v":0},{"$f":"IF(lammering[[#This Row],[Dood in geboorte]]=\"ja\",1,0)","v":0},{"$f":"IF(lammering[[#This Row],[Ooi]]=\"\",0,IF(Berekeningen!E67=0,1,0))","v":0},{"$f":"IF(D67=0,0,IF(lammering[[#This Row],[Dood in geboorte]]=\"Ja\",0,IF(lammering[[#This Row],[Dood na geboorte]]=\"ja\",0,1)))","v":0},{"$f":"IF(lammering[[#This Row],[Opfok met kunstmelk]]=\"Ja\",1,0)","v":0},{"$f":"IF(lammering[[#This Row],[geslacht]]=\"O\",1,0)","v":0},{"$f":"IF(lammering[[#This Row],[Speen-datum]]=\"\",\"\",(lammering[[#This Row],[Speen-gewicht]]-lammering[[#This Row],[geboorte-gewicht]])/(lammering[[#This Row],[Speen-datum]]-lammering[[#This Row],[Werp-datum]]))","v":""},{"$f":"IF(lammering[[#This Row],[Verkoop-datum]]=\"\",\"\",(lammering[[#This Row],[Verkoop-gewicht]]-lammering[[#This Row],[Speen-gewicht]])/(lammering[[#This Row],[Verkoop-datum]]-lammering[[#This Row],[Speen-datum]]))","v":""},{"$f":"IF(lammering[[#This Row],[Verkoop-datum]]=\"\",\"\",(lammering[[#This Row],[Verkoop-gewicht]]-lammering[[#This Row],[geboorte-gewicht]])/(lammering[[#This Row],[Verkoop-datum]]-lammering[[#This Row],[Werp-datum]]))","v":""},"","","","","","",{"$f":"IF(lammering[[#This Row],[Verkoop-gewicht]]=\"\",\"\",lammering[[#This Row],[Verkoop-gewicht]]-lammering[[#This Row],[geboorte-gewicht]])","v":""},"","",{"$f":"Opzoek_ooi[[#This Row],[Ooinummer]]","v":0},"",{"$f":"IF(W67>0,W67,\"\")","v":""}]
[{"$f":"lammering[[#This Row],[Ooi]]","v":0},0,0,{"$f":"IF(lammering[[#This Row],[Lam-nummer]]=\"\",0,1)","v":0},{"$f":"IF(lammering[[#This Row],[Dood in geboorte]]=\"ja\",1,0)","v":0},{"$f":"IF(lammering[[#This Row],[Ooi]]=\"\",0,IF(Berekeningen!E68=0,1,0))","v":0},{"$f":"IF(D68=0,0,IF(lammering[[#This Row],[Dood in geboorte]]=\"Ja\",0,IF(lammering[[#This Row],[Dood na geboorte]]=\"ja\",0,1)))","v":0},{"$f":"IF(lammering[[#This Row],[Opfok met kunstmelk]]=\"Ja\",1,0)","v":0},{"$f":"IF(lammering[[#This Row],[geslacht]]=\"O\",1,0)","v":0},{"$f":"IF(lammering[[#This Row],[Speen-datum]]=\"\",\"\",(lammering[[#This Row],[Speen-gewicht]]-lammering[[#This Row],[geboorte-gewicht]])/(lammering[[#This Row],[Speen-datum]]-lammering[[#This Row],[Werp-datum]]))","v":""},{"$f":"IF(lammering[[#This Row],[Verkoop-datum]]=\"\",\"\",(lammering[[#This Row],[Verkoop-gewicht]]-lammering[[#This Row],[Speen-gewicht]])/(lammering[[#This Row],[Verkoop-datum]]-lammering[[#This Row],[Speen-datum]]))","v":""},{"$f":"IF(lammering[[#This Row],[Verkoop-datum]]=\"\",\"\",(lammering[[#This Row],[Verkoop-gewicht]]-lammering[[#This Row],[geboorte-gewicht]])/(lammering[[#This Row],[Verkoop-datum]]-lammering[[#This Row],[Werp-datum]]))","v":""},"","","","","","",{"$f":"IF(lammering[[#This Row],[Verkoop-gewicht]]=\"\",\"\",lammering[[#This Row],[Verkoop-gewicht]]-lammering[[#This Row],[geboorte-gewicht]])","v":""},"","",{"$f":"Opzoek_ooi[[#This Row],[Ooinummer]]","v":0},"",""]
[{"$f":"lammering[[#This Row],[Ooi]]","v":0},0,0,{"$f":"IF(lammering[[#This Row],[Lam-nummer]]=\"\",0,1)","v":0},{"$f":"IF(lammering[[#This Row],[Dood in geboorte]]=\"ja\",1,0)","v":0},{"$f":"IF(lammering[[#This Row],[Ooi]]=\"\",0,IF(Berekeningen!E69=0,1,0))","v":0},{"$f":"IF(D69=0,0,IF(lammering[[#This Row],[Dood in geboorte]]=\"Ja\",0,IF(lammering[[#This Row],[Dood na geboorte]]=\"ja\",0,1)))","v":0},{"$f":"IF(lammering[[#This Row],[Opfok met kunstmelk]]=\"Ja\",1,0)","v":0},{"$f":"IF(lammering[[#This Row],[geslacht]]=\"O\",1,0)","v":0},{"$f":"IF(lammering[[#This Row],[Speen-datum]]=\"\",\"\",(lammering[[#This Row],[Speen-gewicht]]-lammering[[#This Row],[geboorte-gewicht]])/(lammering[[#This Row],[Speen-datum]]-lammering[[#This Row],[Werp-datum]]))","v":""},{"$f":"IF(lammering[[#This Row],[Verkoop-datum]]=\"\",\"\",(lammering[[#This Row],[Verkoop-gewicht]]-lammering[[#This Row],[Speen-gewicht]])/(lammering[[#This Row],[Verkoop-datum]]-lammering[[#This Row],[Speen-datum]]))","v":""},{"$f":"IF(lammering[[#This Row],[Verkoop-datum]]=\"\",\"\",(lammering[[#This Row],[Verkoop-gewicht]]-lammering[[#This Row],[geboorte-gewicht]])/(lammering[[#This Row],[Verkoop-datum]]-lammering[[#This Row],[Werp-datum]]))","v":""},"","","","","","",{"$f":"IF(lammering[[#This Row],[Verkoop-gewicht]]=\"\",\"\",lammering[[#This Row],[Verkoop-gewicht]]-lammering[[#This Row],[geboorte-gewicht]])","v":""},"","",{"$f":"Opzoek_ooi[[#This Row],[Ooinummer]]","v":0},"",""]
[{"$f":"lammering[[#This Row],[Ooi]]","v":0},0,0,{"$f":"IF(lammering[[#This Row],[Lam-nummer]]=\"\",0,1)","v":0},{"$f":"IF(lammering[[#This Row],[Dood in geboorte]]=\"ja\",1,0)","v":0},{"$f":"IF(lammering[[#This Row],[Ooi]]=\"\",0,IF(Berekeningen!E70=0,1,0))","v":0},{"$f":"IF(D70=0,0,IF(lammering[[#This Row],[Dood in geboorte]]=\"Ja\",0,IF(lammering[[#This Row],[Dood na geboorte]]=\"ja\",0,1)))","v":0},{"$f":"IF(lammering[[#This Row],[Opfok met kunstmelk]]=\"Ja\",1,0)","v":0},{"$f":"IF(lammering[[#This Row],[geslacht]]=\"O\",1,0)","v":0},{"$f":"IF(lammering[[#This Row],[Speen-datum]]=\"\",\"\",(lammering[[#This Row],[Speen-gewicht]]-lammering[[#This Row],[geboorte-gewicht]])/(lammering[[#This Row],[Speen-datum]]-lammering[[#This Row],[Werp-datum]]))","v":""},{"$f":"IF(lammering[[#This Row],[Verkoop-datum]]=\"\",\"\",(lammering[[#This Row],[Verkoop-gewicht]]-lammering[[#This Row],[Speen-gewicht]])/(lammering[[#This Row],[Verkoop-datum]]-lammering[[#This Row],[Speen-datum]]))","v":""},{"$f":"IF(lammering[[#This Row],[Verkoop-datum]]=\"\",\"\",(lammering[[#This Row],[Verkoop-gewicht]]-lammering[[#This Row],[geboorte-gewicht]])/(lammering[[#This Row],[Verkoop-datum]]-lammering[[#This Row],[Werp-datum]]))","v":""},"","","","","","",{"$f":"IF(lammering[[#This Row],[Verkoop-gewicht]]=\"\",\"\",lammering[[#This Row],[Verkoop-gewicht]]-lammering[[#This Row],[geboorte-gewicht]])","v":""},"","",{"$f":"Opzoek_ooi[[#This Row],[Ooinummer]]","v":0},"",""]
[{"$f":"lammering[[#This Row],[Ooi]]","v":0},0,0,{"$f":"IF(lammering[[#This Row],[Lam-nummer]]=\"\",0,1)","v":0},{"$f":"IF(lammering[[#This Row],[Dood in geboorte]]=\"ja\",1,0)","v":0},{"$f":"IF(lammering[[#This Row],[Ooi]]=\"\",0,IF(Berekeningen!E71=0,1,0))","v":0},{"$f":"IF(D71=0,0,IF(lammering[[#This Row],[Dood in geboorte]]=\"Ja\",0,IF(lammering[[#This Row],[Dood na geboorte]]=\"ja\",0,1)))","v":0},{"$f":"IF(lammering[[#This Row],[Opfok met kunstmelk]]=\"Ja\",1,0)","v":0},{"$f":"IF(lammering[[#This Row],[geslacht]]=\"O\",1,0)","v":0},{"$f":"IF(lammering[[#This Row],[Speen-datum]]=\"\",\"\",(lammering[[#This Row],[Speen-gewicht]]-lammering[[#This Row],[geboorte-gewicht]])/(lammering[[#This Row],[Speen-datum]]-lammering[[#This Row],[Werp-datum]]))","v":""},{"$f":"IF(lammering[[#This Row],[Verkoop-datum]]=\"\",\"\",(lammering[[#This Row],[Verkoop-gewicht]]-lammering[[#This Row],[Speen-gewicht]])/(lammering[[#This Row],[Verkoop-datum]]-lammering[[#This Row],[Speen-datum]]))","v":""},{"$f":"IF(lammering[[#This Row],[Verkoop-datum]]=\"\",\"\",(lammering[[#This Row],[Verkoop-gewicht]]-lammering[[#This Row],[geboorte-gewicht]])/(lammering[[#This Row],[Verkoop-datum]]-lammering[[#This Row],[Werp-datum]]))","v":""},"","","","","","",{"$f":"IF(lammering[[#This Row],[Verkoop-gewicht]]=\"\",\"\",lammering[[#This Row],[Verkoop-gewicht]]-lammering[[#This Row],[geboorte-gewicht]])","v":""},"","",{"$f":"Opzoek_ooi[[#This Row],[Ooinummer]]","v":0},"",""]
[{"$f":"lammering[[#This Row],[Ooi]]","v":0},0,0,{"$f":"IF(lammering[[#This Row],[Lam-nummer]]=\"\",0,1)","v":0},{"$f":"IF(lammering[[#This Row],[Dood in geboorte]]=\"ja\",1,0)","v":0},{"$f":"IF(lammering[[#This Row],[Ooi]]=\"\",0,IF(Berekeningen!E72=0,1,0))","v":0},{"$f":"IF(D72=0,0,IF(lammering[[#This Row],[Dood in geboorte]]=\"Ja\",0,IF(lammering[[#This Row],[Dood na geboorte]]=\"ja\",0,1)))","v":0},{"$f":"IF(lammering[[#This Row],[Opfok met kunstmelk]]=\"Ja\",1,0)","v":0},{"$f":"IF(lammering[[#This Row],[geslacht]]=\"O\",1,0)","v":0},{"$f":"IF(lammering[[#This Row],[Speen-datum]]=\"\",\"\",(lammering[[#This Row],[Speen-gewicht]]-lammering[[#This Row],[geboorte-gewicht]])/(lammering[[#This Row],[Speen-datum]]-lammering[[#This Row],[Werp-datum]]))","v":""},{"$f":"IF(lammering[[#This Row],[Verkoop-datum]]=\"\",\"\",(lammering[[#This Row],[Verkoop-gewicht]]-lammering[[#This Row],[Speen-gewicht]])/(lammering[[#This Row],[Verkoop-datum]]-lammering[[#This Row],[Speen-datum]]))","v":""},{"$f":"IF(lammering[[#This Row],[Verkoop-datum]]=\"\",\"\",(lammering[[#This Row],[Verkoop-gewicht]]-lammering[[#This Row],[geboorte-gewicht]])/(lammering[[#This Row],[Verkoop-datum]]-lammering[[#This Row],[Werp-datum]]))","v":""},"","","","","","",{"$f":"IF(lammering[[#This Row],[Verkoop-gewicht]]=\"\",\"\",lammering[[#This Row],[Verkoop-gewicht]]-lammering[[#This Row],[geboorte-gewicht]])","v":""},"","",{"$f":"Opzoek_ooi[[#This Row],[Ooinummer]]","v":0},"",""]
[{"$f":"lammering[[#This Row],[Ooi]]","v":0},0,0,{"$f":"IF(lammering[[#This Row],[Lam-nummer]]=\"\",0,1)","v":0},{"$f":"IF(lammering[[#This Row],[Dood in geboorte]]=\"ja\",1,0)","v":0},{"$f":"IF(lammering[[#This Row],[Ooi]]=\"\",0,IF(Berekeningen!E73=0,1,0))","v":0},{"$f":"IF(D73=0,0,IF(lammering[[#This Row],[Dood in geboorte]]=\"Ja\",0,IF(lammering[[#This Row],[Dood na geboorte]]=\"ja\",0,1)))","v":0},{"$f":"IF(lammering[[#This Row],[Opfok met kunstmelk]]=\"Ja\",1,0)","v":0},{"$f":"IF(lammering[[#This Row],[geslacht]]=\"O\",1,0)","v":0},{"$f":"IF(lammering[[#This Row],[Speen-datum]]=\"\",\"\",(lammering[[#This Row],[Speen-gewicht]]-lammering[[#This Row],[geboorte-gewicht]])/(lammering[[#This Row],[Speen-datum]]-lammering[[#This Row],[Werp-datum]]))","v":""},{"$f":"IF(lammering[[#This Row],[Verkoop-datum]]=\"\",\"\",(lammering[[#This Row],[Verkoop-gewicht]]-lammering[[#This Row],[Speen-gewicht]])/(lammering[[#This Row],[Verkoop-datum]]-lammering[[#This Row],[Speen-datum]]))","v":""},{"$f":"IF(lammering[[#This Row],[Verkoop-datum]]=\"\",\"\",(lammering[[#This Row],[Verkoop-gewicht]]-lammering[[#This Row],[geboorte-gewicht]])/(lammering[[#This Row],[Verkoop-datum]]-lammering[[#This Row],[Werp-datum]]))","v":""},"","","","","","",{"$f":"IF(lammering[[#This Row],[Verkoop-gewicht]]=\"\",\"\",lammering[[#This Row],[Verkoop-gewicht]]-lammering[[#This Row],[geboorte-gewicht]])","v":""},"","",{"$f":"Opzoek_ooi[[#This Row],[Ooinummer]]","v":0},"",""]
[{"$f":"lammering[[#This Row],[Ooi]]","v":0},0,0,{"$f":"IF(lammering[[#This Row],[Lam-nummer]]=\"\",0,1)","v":0},{"$f":"IF(lammering[[#This Row],[Dood in geboorte]]=\"ja\",1,0)","v":0},{"$f":"IF(lammering[[#This Row],[Ooi]]=\"\",0,IF(Berekeningen!E74=0,1,0))","v":0},{"$f":"IF(D74=0,0,IF(lammering[[#This Row],[Dood in geboorte]]=\"Ja\",0,IF(lammering[[#This Row],[Dood na geboorte]]=\"ja\",0,1)))","v":0},{"$f":"IF(lammering[[#This Row],[Opfok met kunstmelk]]=\"Ja\",1,0)","v":0},{"$f":"IF(lammering[[#This Row],[geslacht]]=\"O\",1,0)","v":0},{"$f":"IF(lammering[[#This Row],[Speen-datum]]=\"\",\"\",(lammering[[#This Row],[Speen-gewicht]]-lammering[[#This Row],[geboorte-gewicht]])/(lammering[[#This Row],[Speen-datum]]-lammering[[#This Row],[Werp-datum]]))","v":""},{"$f":"IF(lammering[[#This Row],[Verkoop-datum]]=\"\",\"\",(lammering[[#This Row],[Verkoop-gewicht]]-lammering[[#This Row],[Speen-gewicht]])/(lammering[[#This Row],[Verkoop-datum]]-lammering[[#This Row],[Speen-datum]]))","v":""},{"$f":"IF(lammering[[#This Row],[Verkoop-datum]]=\"\",\"\",(lammering[[#This Row],[Verkoop-gewicht]]-lammering[[#This Row],[geboorte-gewicht]])/(lammering[[#This Row],[Verkoop-datum]]-lammering[[#This Row],[Werp-datum]]))","v":""},"","","","","","",{"$f":"IF(lammering[[#This Row],[Verkoop-gewicht]]=\"\",\"\",lammering[[#This Row],[Verkoop-gewicht]]-lammering[[#This Row],[geboorte-gewicht]])","v":""},"","",{"$f":"Opzoek_ooi[[#This Row],[Ooinummer]]","v":0},"",""]
[{"$f":"lammering[[#This Row],[Ooi]]","v":0},0,0,{"$f":"IF(lammering[[#This Row],[Lam-nummer]]=\"\",0,1)","v":0},{"$f":"IF(lammering[[#This Row],[Dood in geboorte]]=\"ja\",1,0)","v":0},{"$f":"IF(lammering[[#This Row],[Ooi]]=\"\",0,IF(Berekeningen!E75=0,1,0))","v":0},{"$f":"IF(D75=0,0,IF(lammering[[#This Row],[Dood in geboorte]]=\"Ja\",0,IF(lammering[[#This Row],[Dood na geboorte]]=\"ja\",0,1)))","v":0},{"$f":"IF(lammering[[#This Row],[Opfok met kunstmelk]]=\"Ja\",1,0)","v":0},{"$f":"IF(lammering[[#This Row],[geslacht]]=\"O\",1,0)","v":0},{"$f":"IF(lammering[[#This Row],[Speen-datum]]=\"\",\"\",(lammering[[#This Row],[Speen-gewicht]]-lammering[[#This Row],[geboorte-gewicht]])/(lammering[[#This Row],[Speen-datum]]-lammering[[#This Row],[Werp-datum]]))","v":""},{"$f":"IF(lammering[[#This Row],[Verkoop-datum]]=\"\",\"\",(lammering[[#This Row],[Verkoop-gewicht]]-lammering[[#This Row],[Speen-gewicht]])/(lammering[[#This Row],[Verkoop-datum]]-lammering[[#This Row],[Speen-datum]]))","v":""},{"$f":"IF(lammering[[#This Row],[Verkoop-datum]]=\"\",\"\",(lammering[[#This Row],[Verkoop-gewicht]]-lammering[[#This Row],[geboorte-gewicht]])/(lammering[[#This Row],[Verkoop-datum]]-lammering[[#This Row],[Werp-datum]]))","v":""},"","","","","","",{"$f":"IF(lammering[[#This Row],[Verkoop-gewicht]]=\"\",\"\",lammering[[#This Row],[Verkoop-gewicht]]-lammering[[#This Row],[geboorte-gewicht]])","v":""},"","",{"$f":"Opzoek_ooi[[#This Row],[Ooinummer]]","v":0},"",""]
[{"$f":"lammering[[#This Row],[Ooi]]","v":0},0,0,{"$f":"IF(lammering[[#This Row],[Lam-nummer]]=\"\",0,1)","v":0},{"$f":"IF(lammering[[#This Row],[Dood in geboorte]]=\"ja\",1,0)","v":0},{"$f":"IF(lammering[[#This Row],[Ooi]]=\"\",0,IF(Berekeningen!E76=0,1,0))","v":0},{"$f":"IF(D76=0,0,IF(lammering[[#This Row],[Dood in geboorte]]=\"Ja\",0,IF(lammering[[#This Row],[Dood na geboorte]]=\"ja\",0,1)))","v":0},{"$f":"IF(lammering[[#This Row],[Opfok met kunstmelk]]=\"Ja\",1,0)","v":0},{"$f":"IF(lammering[[#This Row],[geslacht]]=\"O\",1,0)","v":0},{"$f":"IF(lammering[[#This Row],[Speen-datum]]=\"\",\"\",(lammering[[#This Row],[Speen-gewicht]]-lammering[[#This Row],[geboorte-gewicht]])/(lammering[[#This Row],[Speen-datum]]-lammering[[#This Row],[Werp-datum]]))","v":""},{"$f":"IF(lammering[[#This Row],[Verkoop-datum]]=\"\",\"\",(lammering[[#This Row],[Verkoop-gewicht]]-lammering[[#This Row],[Speen-gewicht]])/(lammering[[#This Row],[Verkoop-datum]]-lammering[[#This Row],[Speen-datum]]))","v":""},{"$f":"IF(lammering[[#This Row],[Verkoop-datum]]=\"\",\"\",(lammering[[#This Row],[Verkoop-gewicht]]-lammering[[#This Row],[geboorte-gewicht]])/(lammering[[#This Row],[Verkoop-datum]]-lammering[[#This Row],[Werp-datum]]))","v":""},"","","","","","",{"$f":"IF(lammering[[#This Row],[Verkoop-gewicht]]=\"\",\"\",lammering[[#This Row],[Verkoop-gewicht]]-lammering[[#This Row],[geboorte-gewicht]])","v":""},"","",{"$f":"Opzoek_ooi[[#This Row],[Ooinummer]]","v":0},"",""]
[{"$f":"lammering[[#This Row],[Ooi]]","v":0},0,0,{"$f":"IF(lammering[[#This Row],[Lam-nummer]]=\"\",0,1)","v":0},{"$f":"IF(lammering[[#This Row],[Dood in geboorte]]=\"ja\",1,0)","v":0},{"$f":"IF(lammering[[#This Row],[Ooi]]=\"\",0,IF(Berekeningen!E77=0,1,0))","v":0},{"$f":"IF(D77=0,0,IF(lammering[[#This Row],[Dood in geboorte]]=\"Ja\",0,IF(lammering[[#This Row],[Dood na geboorte]]=\"ja\",0,1)))","v":0},{"$f":"IF(lammering[[#This Row],[Opfok met kunstmelk]]=\"Ja\",1,0)","v":0},{"$f":"IF(lammering[[#This Row],[geslacht]]=\"O\",1,0)","v":0},{"$f":"IF(lammering[[#This Row],[Speen-datum]]=\"\",\"\",(lammering[[#This Row],[Speen-gewicht]]-lammering[[#This Row],[geboorte-gewicht]])/(lammering[[#This Row],[Speen-datum]]-lammering[[#This Row],[Werp-datum]]))","v":""},{"$f":"IF(lammering[[#This Row],[Verkoop-datum]]=\"\",\"\",(lammering[[#This Row],[Verkoop-gewicht]]-lammering[[#This Row],[Speen-gewicht]])/(lammering[[#This Row],[Verkoop-datum]]-lammering[[#This Row],[Speen-datum]]))","v":""},{"$f":"IF(lammering[[#This Row],[Verkoop-datum]]=\"\",\"\",(lammering[[#This Row],[Verkoop-gewicht]]-lammering[[#This Row],[geboorte-gewicht]])/(lammering[[#This Row],[Verkoop-datum]]-lammering[[#This Row],[Werp-datum]]))","v":""},"","","","","","",{"$f":"IF(lammering[[#This Row],[Verkoop-gewicht]]=\"\",\"\",lammering[[#This Row],[Verkoop-gewicht]]-lammering[[#This Row],[geboorte-gewicht]])","v":""},"","",{"$f":"Opzoek_ooi[[#This Row],[Ooinummer]]","v":0},"",""]
[{"$f":"lammering[[#This Row],[Ooi]]","v":0},0,0,{"$f":"IF(lammering[[#This Row],[Lam-nummer]]=\"\",0,1)","v":0},{"$f":"IF(lammering[[#This Row],[Dood in geboorte]]=\"ja\",1,0)","v":0},{"$f":"IF(lammering[[#This Row],[Ooi]]=\"\",0,IF(Berekeningen!E78=0,1,0))","v":0},{"$f":"IF(D78=0,0,IF(lammering[[#This Row],[Dood in geboorte]]=\"Ja\",0,IF(lammering[[#This Row],[Dood na geboorte]]=\"ja\",0,1)))","v":0},{"$f":"IF(lammering[[#This Row],[Opfok met kunstmelk]]=\"Ja\",1,0)","v":0},{"$f":"IF(lammering[[#This Row],[geslacht]]=\"O\",1,0)","v":0},{"$f":"IF(lammering[[#This Row],[Speen-datum]]=\"\",\"\",(lammering[[#This Row],[Speen-gewicht]]-lammering[[#This Row],[geboorte-gewicht]])/(lammering[[#This Row],[Speen-datum]]-lammering[[#This Row],[Werp-datum]]))","v":""},{"$f":"IF(lammering[[#This Row],[Verkoop-datum]]=\"\",\"\",(lammering[[#This Row],[Verkoop-gewicht]]-lammering[[#This Row],[Speen-gewicht]])/(lammering[[#This Row],[Verkoop-datum]]-lammering[[#This Row],[Speen-datum]]))","v":""},{"$f":"IF(lammering[[#This Row],[Verkoop-datum]]=\"\",\"\",(lammering[[#This Row],[Verkoop-gewicht]]-lammering[[#This Row],[geboorte-gewicht]])/(lammering[[#This Row],[Verkoop-datum]]-lammering[[#This Row],[Werp-datum]]))","v":""},"","","","","","",{"$f":"IF(lammering[[#This Row],[Verkoop-gewicht]]=\"\",\"\",lammering[[#This Row],[Verkoop-gewicht]]-lammering[[#This Row],[geboorte-gewicht]])","v":""},"","",{"$f":"Opzoek_ooi[[#This Row],[Ooinummer]]","v":0},"",""]
[{"$f":"lammering[[#This Row],[Ooi]]","v":0},0,0,{"$f":"IF(lammering[[#This Row],[Lam-nummer]]=\"\",0,1)","v":0},{"$f":"IF(lammering[[#This Row],[Dood in geboorte]]=\"ja\",1,0)","v":0},{"$f":"IF(lammering[[#This Row],[Ooi]]=\"\",0,IF(Berekeningen!E79=0,1,0))","v":0},{"$f":"IF(D79=0,0,IF(lammering[[#This Row],[Dood in geboorte]]=\"Ja\",0,IF(lammering[[#This Row],[Dood na geboorte]]=\"ja\",0,1)))","v":0},{"$f":"IF(lammering[[#This Row],[Opfok met kunstmelk]]=\"Ja\",1,0)","v":0},{"$f":"IF(lammering[[#This Row],[geslacht]]=\"O\",1,0)","v":0},{"$f":"IF(lammering[[#This Row],[Speen-datum]]=\"\",\"\",(lammering[[#This Row],[Speen-gewicht]]-lammering[[#This Row],[geboorte-gewicht]])/(lammering[[#This Row],[Speen-datum]]-lammering[[#This Row],[Werp-datum]]))","v":""},{"$f":"IF(lammering[[#This Row],[Verkoop-datum]]=\"\",\"\",(lammering[[#This Row],[Verkoop-gewicht]]-lammering[[#This Row],[Speen-gewicht]])/(lammering[[#This Row],[Verkoop-datum]]-lammering[[#This Row],[Speen-datum]]))","v":""},{"$f":"IF(lammering[[#This Row],[Verkoop-datum]]=\"\",\"\",(lammering[[#This Row],[Verkoop-gewicht]]-lammering[[#This Row],[geboorte-gewicht]])/(lammering[[#This Row],[Verkoop-datum]]-lammering[[#This Row],[Werp-datum]]))","v":""},{"$f":"IF($I79=1,J79,\"\")","v":""},{"$f":"IF($I79=1,K79,\"\")","v":""},{"$f":"IF($I79=1,L79,\"\")","v":""},{"$f":"IF($I79=0,J79,\"\")","v":""},{"$f":"IF($I79=0,K79,\"\")","v":""},{"$f":"IF($I79=0,L79,\"\")","v":""},{"$f":"IF(lammering[[#This Row],[Verkoop-gewicht]]=\"\",\"\",lammering[[#This Row],[Verkoop-gewicht]]-lammering[[#This Row],[geboorte-gewicht]])","v":""},{"$f":"IF(I79=1,S79,\"\")","v":""},{"$f":"IF(I79=0,S79,\"\")","v":""},{"$f":"Opzoek_ooi[[#This Row],[Ooinummer]]","v":0},"",""]
[{"$f":"lammering[[#This Row],[Ooi]]","v":0},0,0,{"$f":"IF(lammering[[#This Row],[Lam-nummer]]=\"\",0,1)","v":0},{"$f":"IF(lammering[[#This Row],[Dood in geboorte]]=\"ja\",1,0)","v":0},{"$f":"IF(lammering[[#This Row],[Ooi]]=\"\",0,IF(Berekeningen!E80=0,1,0))","v":0},{"$f":"IF(D80=0,0,IF(lammering[[#This Row],[Dood in geboorte]]=\"Ja\",0,IF(lammering[[#This Row],[Dood na geboorte]]=\"ja\",0,1)))","v":0},{"$f":"IF(lammering[[#This Row],[Opfok met kunstmelk]]=\"Ja\",1,0)","v":0},{"$f":"IF(lammering[[#This Row],[geslacht]]=\"O\",1,0)","v":0},{"$f":"IF(lammering[[#This Row],[Speen-datum]]=\"\",\"\",(lammering[[#This Row],[Speen-gewicht]]-lammering[[#This Row],[geboorte-gewicht]])/(lammering[[#This Row],[Speen-datum]]-lammering[[#This Row],[Werp-datum]]))","v":""},{"$f":"IF(lammering[[#This Row],[Verkoop-datum]]=\"\",\"\",(lammering[[#This Row],[Verkoop-gewicht]]-lammering[[#This Row],[Speen-gewicht]])/(lammering[[#This Row],[Verkoop-datum]]-lammering[[#This Row],[Speen-datum]]))","v":""},{"$f":"IF(lammering[[#This Row],[Verkoop-datum]]=\"\",\"\",(lammering[[#This Row],[Verkoop-gewicht]]-lammering[[#This Row],[geboorte-gewicht]])/(lammering[[#This Row],[Verkoop-datum]]-lammering[[#This Row],[Werp-datum]]))","v":""},"","","","","","",{"$f":"IF(lammering[[#This Row],[Verkoop-gewicht]]=\"\",\"\",lammering[[#This Row],[Verkoop-gewicht]]-lammering[[#This Row],[geboorte-gewicht]])","v":""},"","",{"$f":"Opzoek_ooi[[#This Row],[Ooinummer]]","v":0},{"$f":"IF(V80=0,\"\",COUNTIF(C$2:C$500,V80))","v":""},""]
[{"$f":"lammering[[#This Row],[Ooi]]","v":0},0,0,{"$f":"IF(lammering[[#This Row],[Lam-nummer]]=\"\",0,1)","v":0},{"$f":"IF(lammering[[#This Row],[Dood in geboorte]]=\"ja\",1,0)","v":0},{"$f":"IF(lammering[[#This Row],[Ooi]]=\"\",0,IF(Berekeningen!E81=0,1,0))","v":0},{"$f":"IF(D81=0,0,IF(lammering[[#This Row],[Dood in geboorte]]=\"Ja\",0,IF(lammering[[#This Row],[Dood na geboorte]]=\"ja\",0,1)))","v":0},{"$f":"IF(lammering[[#This Row],[Opfok met kunstmelk]]=\"Ja\",1,0)","v":0},{"$f":"IF(lammering[[#This Row],[geslacht]]=\"O\",1,0)","v":0},{"$f":"IF(lammering[[#This Row],[Speen-datum]]=\"\",\"\",(lammering[[#This Row],[Speen-gewicht]]-lammering[[#This Row],[geboorte-gewicht]])/(lammering[[#This Row],[Speen-datum]]-lammering[[#This Row],[Werp-datum]]))","v":""},{"$f":"IF(lammering[[#This Row],[Verkoop-datum]]=\"\",\"\",(lammering[[#This Row],[Verkoop-gewicht]]-lammering[[#This Row],[Speen-gewicht]])/(lammering[[#This Row],[Verkoop-datum]]-lammering[[#This Row],[Speen-datum]]))","v":""},{"$f":"IF(lammering[[#This Row],[Verkoop-datum]]=\"\",\"\",(lammering[[#This Row],[Verkoop-gewicht]]-lammering[[#This Row],[geboorte-gewicht]])/(lammering[[#This Row],[Verkoop-datum]]-lammering[[#This Row],[Werp-datum]]))","v":""},"","","","","","",{"$f":"IF(lammering[[#This Row],[Verkoop-gewicht]]=\"\",\"\",lammering[[#This Row],[Verkoop-gewicht]]-lammering[[#This Row],[geboorte-gewicht]])","v":""},"","",{"$f":"Opzoek_ooi[[#This Row],[Ooinummer]]","v":0},"",""]
[{"$f":"lammering[[#This Row],[Ooi]]","v":0},0,0,{"$f":"IF(lammering[[#This Row],[Lam-nummer]]=\"\",0,1)","v":0},{"$f":"IF(lammering[[#This Row],[Dood in geboorte]]=\"ja\",1,0)","v":0},{"$f":"IF(lammering[[#This Row],[Ooi]]=\"\",0,IF(Berekeningen!E82=0,1,0))","v":0},{"$f":"IF(D82=0,0,IF(lammering[[#This Row],[Dood in geboorte]]=\"Ja\",0,IF(lammering[[#This Row],[Dood na geboorte]]=\"ja\",0,1)))","v":0},{"$f":"IF(lammering[[#This Row],[Opfok met kunstmelk]]=\"Ja\",1,0)","v":0},{"$f":"IF(lammering[[#This Row],[geslacht]]=\"O\",1,0)","v":0},{"$f":"IF(lammering[[#This Row],[Speen-datum]]=\"\",\"\",(lammering[[#This Row],[Speen-gewicht]]-lammering[[#This Row],[geboorte-gewicht]])/(lammering[[#This Row],[Speen-datum]]-lammering[[#This Row],[Werp-datum]]))","v":""},{"$f":"IF(lammering[[#This Row],[Verkoop-datum]]=\"\",\"\",(lammering[[#This Row],[Verkoop-gewicht]]-lammering[[#This Row],[Speen-gewicht]])/(lammering[[#This Row],[Verkoop-datum]]-lammering[[#This Row],[Speen-datum]]))","v":""},{"$f":"IF(lammering[[#This Row],[Verkoop-datum]]=\"\",\"\",(lammering[[#This Row],[Verkoop-gewicht]]-lammering[[#This Row],[geboorte-gewicht]])/(lammering[[#This Row],[Verkoop-datum]]-lammering[[#This Row],[Werp-datum]]))","v":""},"","","","","","",{"$f":"IF(lammering[[#This Row],[Verkoop-gewicht]]=\"\",\"\",lammering[[#This Row],[Verkoop-gewicht]]-lammering[[#This Row],[geboorte-gewicht]])","v":""},"","",{"$f":"Opzoek_ooi[[#This Row],[Ooinummer]]","v":0},"",""]
[{"$f":"lammering[[#This Row],[Ooi]]","v":0},0,0,{"$f":"IF(lammering[[#This Row],[Lam-nummer]]=\"\",0,1)","v":0},{"$f":"IF(lammering[[#This Row],[Dood in geboorte]]=\"ja\",1,0)","v":0},{"$f":"IF(lammering[[#This Row],[Ooi]]=\"\",0,IF(Berekeningen!E83=0,1,0))","v":0},{"$f":"IF(D83=0,0,IF(lammering[[#This Row],[Dood in geboorte]]=\"Ja\",0,IF(lammering[[#This Row],[Dood na geboorte]]=\"ja\",0,1)))","v":0},{"$f":"IF(lammering[[#This Row],[Opfok met kunstmelk]]=\"Ja\",1,0)","v":0},{"$f":"IF(lammering[[#This Row],[geslacht]]=\"O\",1,0)","v":0},{"$f":"IF(lammering[[#This Row],[Speen-datum]]=\"\",\"\",(lammering[[#This Row],[Speen-gewicht]]-lammering[[#This Row],[geboorte-gewicht]])/(lammering[[#This Row],[Speen-datum]]-lammering[[#This Row],[Werp-datum]]))","v":""},{"$f":"IF(lammering[[#This Row],[Verkoop-datum]]=\"\",\"\",(lammering[[#This Row],[Verkoop-gewicht]]-lammering[[#This Row],[Speen-gewicht]])/(lammering[[#This Row],[Verkoop-datum]]-lammering[[#This Row],[Speen-datum]]))","v":""},{"$f":"IF(lammering[[#This Row],[Verkoop-datum]]=\"\",\"\",(lammering[[#This Row],[Verkoop-gewicht]]-lammering[[#This Row],[geboorte-gewicht]])/(lammering[[#This Row],[Verkoop-datum]]-lammering[[#This Row],[Werp-datum]]))","v":""},"","","","","","",{"$f":"IF(lammering[[#This Row],[Verkoop-gewicht]]=\"\",\"\",lammering[[#This Row],[Verkoop-gewicht]]-lammering[[#This Row],[geboorte-gewicht]])","v":""},"","",{"$f":"Opzoek_ooi[[#This Row],[Ooinummer]]","v":0},"",""]
[{"$f":"lammering[[#This Row],[Ooi]]","v":0},0,0,{"$f":"IF(lammering[[#This Row],[Lam-nummer]]=\"\",0,1)","v":0},{"$f":"IF(lammering[[#This Row],[Dood in geboorte]]=\"ja\",1,0)","v":0},{"$f":"IF(lammering[[#This Row],[Ooi]]=\"\",0,IF(Berekeningen!E84=0,1,0))","v":0},{"$f":"IF(D84=0,0,IF(lammering[[#This Row],[Dood in geboorte]]=\"Ja\",0,IF(lammering[[#This Row],[Dood na geboorte]]=\"ja\",0,1)))","v":0},{"$f":"IF(lammering[[#This Row],[Opfok met kunstmelk]]=\"Ja\",1,0)","v":0},{"$f":"IF(lammering[[#This Row],[geslacht]]=\"O\",1,0)","v":0},{"$f":"IF(lammering[[#This Row],[Speen-datum]]=\"\",\"\",(lammering[[#This Row],[Speen-gewicht]]-lammering[[#This Row],[geboorte-gewicht]])/(lammering[[#This Row],[Speen-datum]]-lammering[[#This Row],[Werp-datum]]))","v":""},{"$f":"IF(lammering[[#This Row],[Verkoop-datum]]=\"\",\"\",(lammering[[#This Row],[Verkoop-gewicht]]-lammering[[#This Row],[Speen-gewicht]])/(lammering[[#This Row],[Verkoop-datum]]-lammering[[#This Row],[Speen-datum]]))","v":""},{"$f":"IF(lammering[[#This Row],[Verkoop-datum]]=\"\",\"\",(lammering[[#This Row],[Verkoop-gewicht]]-lammering[[#This Row],[geboorte-gewicht]])/(lammering[[#This Row],[Verkoop-datum]]-lammering[[#This Row],[Werp-datum]]))","v":""},"","","","","","",{"$f":"IF(lammering[[#This Row],[Verkoop-gewicht]]=\"\",\"\",lammering[[#This Row],[Verkoop-gewicht]]-lammering[[#This Row],[geboorte-gewicht]])","v":""},"","",{"$f":"Opzoek_ooi[[#This Row],[Ooinummer]]","v":0},"",""]
[{"$f":"lammering[[#This Row],[Ooi]]","v":0},0,0,{"$f":"IF(lammering[[#This Row],[Lam-nummer]]=\"\",0,1)","v":0},{"$f":"IF(lammering[[#This Row],[Dood in geboorte]]=\"ja\",1,0)","v":0},{"$f":"IF(lammering[[#This Row],[Ooi]]=\"\",0,IF(Berekeningen!E85=0,1,0))","v":0},{"$f":"IF(D85=0,0,IF(lammering[[#This Row],[Dood in geboorte]]=\"Ja\",0,IF(lammering[[#This Row],[Dood na geboorte]]=\"ja\",0,1)))","v":0},{"$f":"IF(lammering[[#This Row],[Opfok met kunstmelk]]=\"Ja\",1,0)","v":0},{"$f":"IF(lammering[[#This Row],[geslacht]]=\"O\",1,0)","v":0},{"$f":"IF(lammering[[#This Row],[Speen-datum]]=\"\",\"\",(lammering[[#This Row],[Speen-gewicht]]-lammering[[#This Row],[geboorte-gewicht]])/(lammering[[#This Row],[Speen-datum]]-lammering[[#This Row],[Werp-datum]]))","v":""},{"$f":"IF(lammering[[#This Row],[Verkoop-datum]]=\"\",\"\",(lammering[[#This Row],[Verkoop-gewicht]]-lammering[[#This Row],[Speen-gewicht]])/(lammering[[#This Row],[Verkoop-datum]]-lammering[[#This Row],[Speen-datum]]))","v":""},{"$f":"IF(lammering[[#This Row],[Verkoop-datum]]=\"\",\"\",(lammering[[#This Row],[Verkoop-gewicht]]-lammering[[#This Row],[geboorte-gewicht]])/(lammering[[#This Row],[Verkoop-datum]]-lammering[[#This Row],[Werp-datum]]))","v":""},"","","","","","",{"$f":"IF(lammering[[#This Row],[Verkoop-gewicht]]=\"\",\"\",lammering[[#This Row],[Verkoop-gewicht]]-lammering[[#This Row],[geboorte-gewicht]])","v":""},"","",{"$f":"Opzoek_ooi[[#This Row],[Ooinummer]]","v":0},"",""]
[{"$f":"lammering[[#This Row],[Ooi]]","v":0},0,0,{"$f":"IF(lammering[[#This Row],[Lam-nummer]]=\"\",0,1)","v":0},{"$f":"IF(lammering[[#This Row],[Dood in geboorte]]=\"ja\",1,0)","v":0},{"$f":"IF(lammering[[#This Row],[Ooi]]=\"\",0,IF(Berekeningen!E86=0,1,0))","v":0},{"$f":"IF(D86=0,0,IF(lammering[[#This Row],[Dood in geboorte]]=\"Ja\",0,IF(lammering[[#This Row],[Dood na geboorte]]=\"ja\",0,1)))","v":0},{"$f":"IF(lammering[[#This Row],[Opfok met kunstmelk]]=\"Ja\",1,0)","v":0},{"$f":"IF(lammering[[#This Row],[geslacht]]=\"O\",1,0)","v":0},{"$f":"IF(lammering[[#This Row],[Speen-datum]]=\"\",\"\",(lammering[[#This Row],[Speen-gewicht]]-lammering[[#This Row],[geboorte-gewicht]])/(lammering[[#This Row],[Speen-datum]]-lammering[[#This Row],[Werp-datum]]))","v":""},{"$f":"IF(lammering[[#This Row],[Verkoop-datum]]=\"\",\"\",(lammering[[#This Row],[Verkoop-gewicht]]-lammering[[#This Row],[Speen-gewicht]])/(lammering[[#This Row],[Verkoop-datum]]-lammering[[#This Row],[Speen-datum]]))","v":""},{"$f":"IF(lammering[[#This Row],[Verkoop-datum]]=\"\",\"\",(lammering[[#This Row],[Verkoop-gewicht]]-lammering[[#This Row],[geboorte-gewicht]])/(lammering[[#This Row],[Verkoop-datum]]-lammering[[#This Row],[Werp-datum]]))","v":""},"","","","","","",{"$f":"IF(lammering[[#This Row],[Verkoop-gewicht]]=\"\",\"\",lammering[[#This Row],[Verkoop-gewicht]]-lammering[[#This Row],[geboorte-gewicht]])","v":""},"","",{"$f":"Opzoek_ooi[[#This Row],[Ooinummer]]","v":0},"",""]
[{"$f":"lammering[[#This Row],[Ooi]]","v":0},0,0,{"$f":"IF(lammering[[#This Row],[Lam-nummer]]=\"\",0,1)","v":0},{"$f":"IF(lammering[[#This Row],[Dood in geboorte]]=\"ja\",1,0)","v":0},{"$f":"IF(lammering[[#This Row],[Ooi]]=\"\",0,IF(Berekeningen!E87=0,1,0))","v":0},{"$f":"IF(D87=0,0,IF(lammering[[#This Row],[Dood in geboorte]]=\"Ja\",0,IF(lammering[[#This Row],[Dood na geboorte]]=\"ja\",0,1)))","v":0},{"$f":"IF(lammering[[#This Row],[Opfok met kunstmelk]]=\"Ja\",1,0)","v":0},{"$f":"IF(lammering[[#This Row],[geslacht]]=\"O\",1,0)","v":0},{"$f":"IF(lammering[[#This Row],[Speen-datum]]=\"\",\"\",(lammering[[#This Row],[Speen-gewicht]]-lammering[[#This Row],[geboorte-gewicht]])/(lammering[[#This Row],[Speen-datum]]-lammering[[#This Row],[Werp-datum]]))","v":""},{"$f":"IF(lammering[[#This Row],[Verkoop-datum]]=\"\",\"\",(lammering[[#This Row],[Verkoop-gewicht]]-lammering[[#This Row],[Speen-gewicht]])/(lammering[[#This Row],[Verkoop-datum]]-lammering[[#This Row],[Speen-datum]]))","v":""},{"$f":"IF(lammering[[#This Row],[Verkoop-datum]]=\"\",\"\",(lammering[[#This Row],[Verkoop-gewicht]]-lammering[[#This Row],[geboorte-gewicht]])/(lammering[[#This Row],[Verkoop-datum]]-lammering[[#This Row],[Werp-datum]]))","v":""},"","","","","","",{"$f":"IF(lammering[[#This Row],[Verkoop-gewicht]]=\"\",\"\",lammering[[#This Row],[Verkoop-gewicht]]-lammering[[#This Row],[geboorte-gewicht]])","v":""},"","",{"$f":"Opzoek_ooi[[#This Row],[Ooinummer]]","v":0},"",""]
[{"$f":"lammering[[#This Row],[Ooi]]","v":0},0,0,{"$f":"IF(lammering[[#This Row],[Lam-nummer]]=\"\",0,1)","v":0},{"$f":"IF(lammering[[#This Row],[Dood in geboorte]]=\"ja\",1,0)","v":0},{"$f":"IF(lammering[[#This Row],[Ooi]]=\"\",0,IF(Berekeningen!E88=0,1,0))","v":0},{"$f":"IF(D88=0,0,IF(lammering[[#This Row],[Dood in geboorte]]=\"Ja\",0,IF(lammering[[#This Row],[Dood na geboorte]]=\"ja\",0,1)))","v":0},{"$f":"IF(lammering[[#This Row],[Opfok met kunstmelk]]=\"Ja\",1,0)","v":0},{"$f":"IF(lammering[[#This Row],[geslacht]]=\"O\",1,0)","v":0},{"$f":"IF(lammering[[#This Row],[Speen-datum]]=\"\",\"\",(lammering[[#This Row],[Speen-gewicht]]-lammering[[#This Row],[geboorte-gewicht]])/(lammering[[#This Row],[Speen-datum]]-lammering[[#This Row],[Werp-datum]]))","v":""},{"$f":"IF(lammering[[#This Row],[Verkoop-datum]]=\"\",\"\",(lammering[[#This Row],[Verkoop-gewicht]]-lammering[[#This Row],[Speen-gewicht]])/(lammering[[#This Row],[Verkoop-datum]]-lammering[[#This Row],[Speen-datum]]))","v":""},{"$f":"IF(lammering[[#This Row],[Verkoop-datum]]=\"\",\"\",(lammering[[#This Row],[Verkoop-gewicht]]-lammering[[#This Row],[geboorte-gewicht]])/(lammering[[#This Row],[Verkoop-datum]]-lammering[[#This Row],[Werp-datum]]))","v":""},"","","","","","",{"$f":"IF(lammering[[#This Row],[Verkoop-gewicht]]=\"\",\"\",lammering[[#This Row],[Verkoop-gewicht]]-lammering[[#This Row],[geboorte-gewicht]])","v":""},"","",{"$f":"Opzoek_ooi[[#This Row],[Ooinummer]]","v":0},"",""]
[{"$f":"lammering[[#This Row],[Ooi]]","v":0},0,0,{"$f":"IF(lammering[[#This Row],[Lam-nummer]]=\"\",0,1)","v":0},{"$f":"IF(lammering[[#This Row],[Dood in geboorte]]=\"ja\",1,0)","v":0},{"$f":"IF(lammering[[#This Row],[Ooi]]=\"\",0,IF(Berekeningen!E89=0,1,0))","v":0},{"$f":"IF(D89=0,0,IF(lammering[[#This Row],[Dood in geboorte]]=\"Ja\",0,IF(lammering[[#This Row],[Dood na geboorte]]=\"ja\",0,1)))","v":0},{"$f":"IF(lammering[[#This Row],[Opfok met kunstmelk]]=\"Ja\",1,0)","v":0},{"$f":"IF(lammering[[#This Row],[geslacht]]=\"O\",1,0)","v":0},{"$f":"IF(lammering[[#This Row],[Speen-datum]]=\"\",\"\",(lammering[[#This Row],[Speen-gewicht]]-lammering[[#This Row],[geboorte-gewicht]])/(lammering[[#This Row],[Speen-datum]]-lammering[[#This Row],[Werp-datum]]))","v":""},{"$f":"IF(lammering[[#This Row],[Verkoop-datum]]=\"\",\"\",(lammering[[#This Row],[Verkoop-gewicht]]-lammering[[#This Row],[Speen-gewicht]])/(lammering[[#This Row],[Verkoop-datum]]-lammering[[#This Row],[Speen-datum]]))","v":""},{"$f":"IF(lammering[[#This Row],[Verkoop-datum]]=\"\",\"\",(lammering[[#This Row],[Verkoop-gewicht]]-lammering[[#This Row],[geboorte-gewicht]])/(lammering[[#This Row],[Verkoop-datum]]-lammering[[#This Row],[Werp-datum]]))","v":""},"","","","","","",{"$f":"IF(lammering[[#This Row],[Verkoop-gewicht]]=\"\",\"\",lammering[[#This Row],[Verkoop-gewicht]]-lammering[[#This Row],[geboorte-gewicht]])","v":""},"","",{"$f":"Opzoek_ooi[[#This Row],[Ooinummer]]","v":0},"",""]
[{"$f":"lammering[[#This Row],[Ooi]]","v":0},0,0,{"$f":"IF(lammering[[#This Row],[Lam-nummer]]=\"\",0,1)","v":0},{"$f":"IF(lammering[[#This Row],[Dood in geboorte]]=\"ja\",1,0)","v":0},{"$f":"IF(lammering[[#This Row],[Ooi]]=\"\",0,IF(Berekeningen!E90=0,1,0))","v":0},{"$f":"IF(D90=0,0,IF(lammering[[#This Row],[Dood in geboorte]]=\"Ja\",0,IF(lammering[[#This Row],[Dood na geboorte]]=\"ja\",0,1)))","v":0},{"$f":"IF(lammering[[#This Row],[Opfok met kunstmelk]]=\"Ja\",1,0)","v":0},{"$f":"IF(lammering[[#This Row],[geslacht]]=\"O\",1,0)","v":0},{"$f":"IF(lammering[[#This Row],[Speen-datum]]=\"\",\"\",(lammering[[#This Row],[Speen-gewicht]]-lammering[[#This Row],[geboorte-gewicht]])/(lammering[[#This Row],[Speen-datum]]-lammering[[#This Row],[Werp-datum]]))","v":""},{"$f":"IF(lammering[[#This Row],[Verkoop-datum]]=\"\",\"\",(lammering[[#This Row],[Verkoop-gewicht]]-lammering[[#This Row],[Speen-gewicht]])/(lammering[[#This Row],[Verkoop-datum]]-lammering[[#This Row],[Speen-datum]]))","v":""},{"$f":"IF(lammering[[#This Row],[Verkoop-datum]]=\"\",\"\",(lammering[[#This Row],[Verkoop-gewicht]]-lammering[[#This Row],[geboorte-gewicht]])/(lammering[[#This Row],[Verkoop-datum]]-lammering[[#This Row],[Werp-datum]]))","v":""},"","","","","","",{"$f":"IF(lammering[[#This Row],[Verkoop-gewicht]]=\"\",\"\",lammering[[#This Row],[Verkoop-gewicht]]-lammering[[#This Row],[geboorte-gewicht]])","v":""},"","",{"$f":"Opzoek_ooi[[#This Row],[Ooinummer]]","v":0},"",""]
[{"$f":"lammering[[#This Row],[Ooi]]","v":0},0,0,{"$f":"IF(lammering[[#This Row],[Lam-nummer]]=\"\",0,1)","v":0},{"$f":"IF(lammering[[#This Row],[Dood in geboorte]]=\"ja\",1,0)","v":0},{"$f":"IF(lammering[[#This Row],[Ooi]]=\"\",0,IF(Berekeningen!E91=0,1,0))","v":0},{"$f":"IF(D91=0,0,IF(lammering[[#This Row],[Dood in geboorte]]=\"Ja\",0,IF(lammering[[#This Row],[Dood na geboorte]]=\"ja\",0,1)))","v":0},{"$f":"IF(lammering[[#This Row],[Opfok met kunstmelk]]=\"Ja\",1,0)","v":0},{"$f":"IF(lammering[[#This Row],[geslacht]]=\"O\",1,0)","v":0},{"$f":"IF(lammering[[#This Row],[Speen-datum]]=\"\",\"\",(lammering[[#This Row],[Speen-gewicht]]-lammering[[#This Row],[geboorte-gewicht]])/(lammering[[#This Row],[Speen-datum]]-lammering[[#This Row],[Werp-datum]]))","v":""},{"$f":"IF(lammering[[#This Row],[Verkoop-datum]]=\"\",\"\",(lammering[[#This Row],[Verkoop-gewicht]]-lammering[[#This Row],[Speen-gewicht]])/(lammering[[#This Row],[Verkoop-datum]]-lammering[[#This Row],[Speen-datum]]))","v":""},{"$f":"IF(lammering[[#This Row],[Verkoop-datum]]=\"\",\"\",(lammering[[#This Row],[Verkoop-gewicht]]-lammering[[#This Row],[geboorte-gewicht]])/(lammering[[#This Row],[Verkoop-datum]]-lammering[[#This Row],[Werp-datum]]))","v":""},"","","","","","",{"$f":"IF(lammering[[#This Row],[Verkoop-gewicht]]=\"\",\"\",lammering[[#This Row],[Verkoop-gewicht]]-lammering[[#This Row],[geboorte-gewicht]])","v":""},"","",{"$f":"Opzoek_ooi[[#This Row],[Ooinummer]]","v":0},"",""]
[{"$f":"lammering[[#This Row],[Ooi]]","v":0},0,0,{"$f":"IF(lammering[[#This Row],[Lam-nummer]]=\"\",0,1)","v":0},{"$f":"IF(lammering[[#This Row],[Dood in geboorte]]=\"ja\",1,0)","v":0},{"$f":"IF(lammering[[#This Row],[Ooi]]=\"\",0,IF(Berekeningen!E92=0,1,0))","v":0},{"$f":"IF(D92=0,0,IF(lammering[[#This Row],[Dood in geboorte]]=\"Ja\",0,IF(lammering[[#This Row],[Dood na geboorte]]=\"ja\",0,1)))","v":0},{"$f":"IF(lammering[[#This Row],[Opfok met kunstmelk]]=\"Ja\",1,0)","v":0},{"$f":"IF(lammering[[#This Row],[geslacht]]=\"O\",1,0)","v":0},{"$f":"IF(lammering[[#This Row],[Speen-datum]]=\"\",\"\",(lammering[[#This Row],[Speen-gewicht]]-lammering[[#This Row],[geboorte-gewicht]])/(lammering[[#This Row],[Speen-datum]]-lammering[[#This Row],[Werp-datum]]))","v":""},{"$f":"IF(lammering[[#This Row],[Verkoop-datum]]=\"\",\"\",(lammering[[#This Row],[Verkoop-gewicht]]-lammering[[#This Row],[Speen-gewicht]])/(lammering[[#This Row],[Verkoop-datum]]-lammering[[#This Row],[Speen-datum]]))","v":""},{"$f":"IF(lammering[[#This Row],[Verkoop-datum]]=\"\",\"\",(lammering[[#This Row],[Verkoop-gewicht]]-lammering[[#This Row],[geboorte-gewicht]])/(lammering[[#This Row],[Verkoop-datum]]-lammering[[#This Row],[Werp-datum]]))","v":""},"","","","","","",{"$f":"IF(lammering[[#This Row],[Verkoop-gewicht]]=\"\",\"\",lammering[[#This Row],[Verkoop-gewicht]]-lammering[[#This Row],[geboorte-gewicht]])","v":""},"","",{"$f":"Opzoek_ooi[[#This Row],[Ooinummer]]","v":0},"",""]
[{"$f":"lammering[[#This Row],[Ooi]]","v":0},0,0,{"$f":"IF(lammering[[#This Row],[Lam-nummer]]=\"\",0,1)","v":0},{"$f":"IF(lammering[[#This Row],[Dood in geboorte]]=\"ja\",1,0)","v":0},{"$f":"IF(lammering[[#This Row],[Ooi]]=\"\",0,IF(Berekeningen!E93=0,1,0))","v":0},{"$f":"IF(D93=0,0,IF(lammering[[#This Row],[Dood in geboorte]]=\"Ja\",0,IF(lammering[[#This Row],[Dood na geboorte]]=\"ja\",0,1)))","v":0},{"$f":"IF(lammering[[#This Row],[Opfok met kunstmelk]]=\"Ja\",1,0)","v":0},{"$f":"IF(lammering[[#This Row],[geslacht]]=\"O\",1,0)","v":0},{"$f":"IF(lammering[[#This Row],[Speen-datum]]=\"\",\"\",(lammering[[#This Row],[Speen-gewicht]]-lammering[[#This Row],[geboorte-gewicht]])/(lammering[[#This Row],[Speen-datum]]-lammering[[#This Row],[Werp-datum]]))","v":""},{"$f":"IF(lammering[[#This Row],[Verkoop-datum]]=\"\",\"\",(lammering[[#This Row],[Verkoop-gewicht]]-lammering[[#This Row],[Speen-gewicht]])/(lammering[[#This Row],[Verkoop-datum]]-lammering[[#This Row],[Speen-datum]]))","v":""},{"$f":"IF(lammering[[#This Row],[Verkoop-datum]]=\"\",\"\",(lammering[[#This Row],[Verkoop-gewicht]]-lammering[[#This Row],[geboorte-gewicht]])/(lammering[[#This Row],[Verkoop-datum]]-lammering[[#This Row],[Werp-datum]]))","v":""},"","","","","","",{"$f":"IF(lammering[[#This Row],[Verkoop-gewicht]]=\"\",\"\",lammering[[#This Row],[Verkoop-gewicht]]-lammering[[#This Row],[geboorte-gewicht]])","v":""},"","",{"$f":"Opzoek_ooi[[#This Row],[Ooinummer]]","v":0},"",""]
[{"$f":"lammering[[#This Row],[Ooi]]","v":0},0,0,{"$f":"IF(lammering[[#This Row],[Lam-nummer]]=\"\",0,1)","v":0},{"$f":"IF(lammering[[#This Row],[Dood in geboorte]]=\"ja\",1,0)","v":0},{"$f":"IF(lammering[[#This Row],[Ooi]]=\"\",0,IF(Berekeningen!E94=0,1,0))","v":0},{"$f":"IF(D94=0,0,IF(lammering[[#This Row],[Dood in geboorte]]=\"Ja\",0,IF(lammering[[#This Row],[Dood na geboorte]]=\"ja\",0,1)))","v":0},{"$f":"IF(lammering[[#This Row],[Opfok met kunstmelk]]=\"Ja\",1,0)","v":0},{"$f":"IF(lammering[[#This Row],[geslacht]]=\"O\",1,0)","v":0},{"$f":"IF(lammering[[#This Row],[Speen-datum]]=\"\",\"\",(lammering[[#This Row],[Speen-gewicht]]-lammering[[#This Row],[geboorte-gewicht]])/(lammering[[#This Row],[Speen-datum]]-lammering[[#This Row],[Werp-datum]]))","v":""},{"$f":"IF(lammering[[#This Row],[Verkoop-datum]]=\"\",\"\",(lammering[[#This Row],[Verkoop-gewicht]]-lammering[[#This Row],[Speen-gewicht]])/(lammering[[#This Row],[Verkoop-datum]]-lammering[[#This Row],[Speen-datum]]))","v":""},{"$f":"IF(lammering[[#This Row],[Verkoop-datum]]=\"\",\"\",(lammering[[#This Row],[Verkoop-gewicht]]-lammering[[#This Row],[geboorte-gewicht]])/(lammering[[#This Row],[Verkoop-datum]]-lammering[[#This Row],[Werp-datum]]))","v":""},"","","","","","",{"$f":"IF(lammering[[#This Row],[Verkoop-gewicht]]=\"\",\"\",lammering[[#This Row],[Verkoop-gewicht]]-lammering[[#This Row],[geboorte-gewicht]])","v":""},"","",{"$f":"Opzoek_ooi[[#This Row],[Ooinummer]]","v":0},"",""]
[{"$f":"lammering[[#This Row],[Ooi]]","v":0},0,0,{"$f":"IF(lammering[[#This Row],[Lam-nummer]]=\"\",0,1)","v":0},{"$f":"IF(lammering[[#This Row],[Dood in geboorte]]=\"ja\",1,0)","v":0},{"$f":"IF(lammering[[#This Row],[Ooi]]=\"\",0,IF(Berekeningen!E95=0,1,0))","v":0},{"$f":"IF(D95=0,0,IF(lammering[[#This Row],[Dood in geboorte]]=\"Ja\",0,IF(lammering[[#This Row],[Dood na geboorte]]=\"ja\",0,1)))","v":0},{"$f":"IF(lammering[[#This Row],[Opfok met kunstmelk]]=\"Ja\",1,0)","v":0},{"$f":"IF(lammering[[#This Row],[geslacht]]=\"O\",1,0)","v":0},{"$f":"IF(lammering[[#This Row],[Speen-datum]]=\"\",\"\",(lammering[[#This Row],[Speen-gewicht]]-lammering[[#This Row],[geboorte-gewicht]])/(lammering[[#This Row],[Speen-datum]]-lammering[[#This Row],[Werp-datum]]))","v":""},{"$f":"IF(lammering[[#This Row],[Verkoop-datum]]=\"\",\"\",(lammering[[#This Row],[Verkoop-gewicht]]-lammering[[#This Row],[Speen-gewicht]])/(lammering[[#This Row],[Verkoop-datum]]-lammering[[#This Row],[Speen-datum]]))","v":""},{"$f":"IF(lammering[[#This Row],[Verkoop-datum]]=\"\",\"\",(lammering[[#This Row],[Verkoop-gewicht]]-lammering[[#This Row],[geboorte-gewicht]])/(lammering[[#This Row],[Verkoop-datum]]-lammering[[#This Row],[Werp-datum]]))","v":""},"","","","","","",{"$f":"IF(lammering[[#This Row],[Verkoop-gewicht]]=\"\",\"\",lammering[[#This Row],[Verkoop-gewicht]]-lammering[[#This Row],[geboorte-gewicht]])","v":""},"","",{"$f":"Opzoek_ooi[[#This Row],[Ooinummer]]","v":0},"",""]
[{"$f":"lammering[[#This Row],[Ooi]]","v":0},0,0,{"$f":"IF(lammering[[#This Row],[Lam-nummer]]=\"\",0,1)","v":0},{"$f":"IF(lammering[[#This Row],[Dood in geboorte]]=\"ja\",1,0)","v":0},{"$f":"IF(lammering[[#This Row],[Ooi]]=\"\",0,IF(Berekeningen!E96=0,1,0))","v":0},{"$f":"IF(D96=0,0,IF(lammering[[#This Row],[Dood in geboorte]]=\"Ja\",0,IF(lammering[[#This Row],[Dood na geboorte]]=\"ja\",0,1)))","v":0},{"$f":"IF(lammering[[#This Row],[Opfok met kunstmelk]]=\"Ja\",1,0)","v":0},{"$f":"IF(lammering[[#This Row],[geslacht]]=\"O\",1,0)","v":0},{"$f":"IF(lammering[[#This Row],[Speen-datum]]=\"\",\"\",(lammering[[#This Row],[Speen-gewicht]]-lammering[[#This Row],[geboorte-gewicht]])/(lammering[[#This Row],[Speen-datum]]-lammering[[#This Row],[Werp-datum]]))","v":""},{"$f":"IF(lammering[[#This Row],[Verkoop-datum]]=\"\",\"\",(lammering[[#This Row],[Verkoop-gewicht]]-lammering[[#This Row],[Speen-gewicht]])/(lammering[[#This Row],[Verkoop-datum]]-lammering[[#This Row],[Speen-datum]]))","v":""},{"$f":"IF(lammering[[#This Row],[Verkoop-datum]]=\"\",\"\",(lammering[[#This Row],[Verkoop-gewicht]]-lammering[[#This Row],[geboorte-gewicht]])/(lammering[[#This Row],[Verkoop-datum]]-lammering[[#This Row],[Werp-datum]]))","v":""},"","","","","","",{"$f":"IF(lammering[[#This Row],[Verkoop-gewicht]]=\"\",\"\",lammering[[#This Row],[Verkoop-gewicht]]-lammering[[#This Row],[geboorte-gewicht]])","v":""},"","",{"$f":"Opzoek_ooi[[#This Row],[Ooinummer]]","v":0},"",""]
[{"$f":"lammering[[#This Row],[Ooi]]","v":0},0,0,{"$f":"IF(lammering[[#This Row],[Lam-nummer]]=\"\",0,1)","v":0},{"$f":"IF(lammering[[#This Row],[Dood in geboorte]]=\"ja\",1,0)","v":0},{"$f":"IF(lammering[[#This Row],[Ooi]]=\"\",0,IF(Berekeningen!E97=0,1,0))","v":0},{"$f":"IF(D97=0,0,IF(lammering[[#This Row],[Dood in geboorte]]=\"Ja\",0,IF(lammering[[#This Row],[Dood na geboorte]]=\"ja\",0,1)))","v":0},{"$f":"IF(lammering[[#This Row],[Opfok met kunstmelk]]=\"Ja\",1,0)","v":0},{"$f":"IF(lammering[[#This Row],[geslacht]]=\"O\",1,0)","v":0},{"$f":"IF(lammering[[#This Row],[Speen-datum]]=\"\",\"\",(lammering[[#This Row],[Speen-gewicht]]-lammering[[#This Row],[geboorte-gewicht]])/(lammering[[#This Row],[Speen-datum]]-lammering[[#This Row],[Werp-datum]]))","v":""},{"$f":"IF(lammering[[#This Row],[Verkoop-datum]]=\"\",\"\",(lammering[[#This Row],[Verkoop-gewicht]]-lammering[[#This Row],[Speen-gewicht]])/(lammering[[#This Row],[Verkoop-datum]]-lammering[[#This Row],[Speen-datum]]))","v":""},{"$f":"IF(lammering[[#This Row],[Verkoop-datum]]=\"\",\"\",(lammering[[#This Row],[Verkoop-gewicht]]-lammering[[#This Row],[geboorte-gewicht]])/(lammering[[#This Row],[Verkoop-datum]]-lammering[[#This Row],[Werp-datum]]))","v":""},"","","","","","",{"$f":"IF(lammering[[#This Row],[Verkoop-gewicht]]=\"\",\"\",lammering[[#This Row],[Verkoop-gewicht]]-lammering[[#This Row],[geboorte-gewicht]])","v":""},"","",{"$f":"Opzoek_ooi[[#This Row],[Ooinummer]]","v":0},"",""]
[{"$f":"lammering[[#This Row],[Ooi]]","v":0},0,0,{"$f":"IF(lammering[[#This Row],[Lam-nummer]]=\"\",0,1)","v":0},{"$f":"IF(lammering[[#This Row],[Dood in geboorte]]=\"ja\",1,0)","v":0},{"$f":"IF(lammering[[#This Row],[Ooi]]=\"\",0,IF(Berekeningen!E98=0,1,0))","v":0},{"$f":"IF(D98=0,0,IF(lammering[[#This Row],[Dood in geboorte]]=\"Ja\",0,IF(lammering[[#This Row],[Dood na geboorte]]=\"ja\",0,1)))","v":0},{"$f":"IF(lammering[[#This Row],[Opfok met kunstmelk]]=\"Ja\",1,0)","v":0},{"$f":"IF(lammering[[#This Row],[geslacht]]=\"O\",1,0)","v":0},{"$f":"IF(lammering[[#This Row],[Speen-datum]]=\"\",\"\",(lammering[[#This Row],[Speen-gewicht]]-lammering[[#This Row],[geboorte-gewicht]])/(lammering[[#This Row],[Speen-datum]]-lammering[[#This Row],[Werp-datum]]))","v":""},{"$f":"IF(lammering[[#This Row],[Verkoop-datum]]=\"\",\"\",(lammering[[#This Row],[Verkoop-gewicht]]-lammering[[#This Row],[Speen-gewicht]])/(lammering[[#This Row],[Verkoop-datum]]-lammering[[#This Row],[Speen-datum]]))","v":""},{"$f":"IF(lammering[[#This Row],[Verkoop-datum]]=\"\",\"\",(lammering[[#This Row],[Verkoop-gewicht]]-lammering[[#This Row],[geboorte-gewicht]])/(lammering[[#This Row],[Verkoop-datum]]-lammering[[#This Row],[Werp-datum]]))","v":""},"","","","","","",{"$f":"IF(lammering[[#This Row],[Verkoop-gewicht]]=\"\",\"\",lammering[[#This Row],[Verkoop-gewicht]]-lammering[[#This Row],[geboorte-gewicht]])","v":""},"","",{"$f":"Opzoek_ooi[[#This Row],[Ooinummer]]","v":0},"",""]
[{"$f":"lammering[[#This Row],[Ooi]]","v":0},0,0,{"$f":"IF(lammering[[#This Row],[Lam-nummer]]=\"\",0,1)","v":0},{"$f":"IF(lammering[[#This Row],[Dood in geboorte]]=\"ja\",1,0)","v":0},{"$f":"IF(lammering[[#This Row],[Ooi]]=\"\",0,IF(Berekeningen!E99=0,1,0))","v":0},{"$f":"IF(D99=0,0,IF(lammering[[#This Row],[Dood in geboorte]]=\"Ja\",0,IF(lammering[[#This Row],[Dood na geboorte]]=\"ja\",0,1)))","v":0},{"$f":"IF(lammering[[#This Row],[Opfok met kunstmelk]]=\"Ja\",1,0)","v":0},{"$f":"IF(lammering[[#This Row],[geslacht]]=\"O\",1,0)","v":0},{"$f":"IF(lammering[[#This Row],[Speen-datum]]=\"\",\"\",(lammering[[#This Row],[Speen-gewicht]]-lammering[[#This Row],[geboorte-gewicht]])/(lammering[[#This Row],[Speen-datum]]-lammering[[#This Row],[Werp-datum]]))","v":""},{"$f":"IF(lammering[[#This Row],[Verkoop-datum]]=\"\",\"\",(lammering[[#This Row],[Verkoop-gewicht]]-lammering[[#This Row],[Speen-gewicht]])/(lammering[[#This Row],[Verkoop-datum]]-lammering[[#This Row],[Speen-datum]]))","v":""},{"$f":"IF(lammering[[#This Row],[Verkoop-datum]]=\"\",\"\",(lammering[[#This Row],[Verkoop-gewicht]]-lammering[[#This Row],[geboorte-gewicht]])/(lammering[[#This Row],[Verkoop-datum]]-lammering[[#This Row],[Werp-datum]]))","v":""},"","","","","","",{"$f":"IF(lammering[[#This Row],[Verkoop-gewicht]]=\"\",\"\",lammering[[#This Row],[Verkoop-gewicht]]-lammering[[#This Row],[geboorte-gewicht]])","v":""},"","",{"$f":"Opzoek_ooi[[#This Row],[Ooinummer]]","v":0},"",""]
[{"$f":"lammering[[#This Row],[Ooi]]","v":0},0,0,{"$f":"IF(lammering[[#This Row],[Lam-nummer]]=\"\",0,1)","v":0},{"$f":"IF(lammering[[#This Row],[Dood in geboorte]]=\"ja\",1,0)","v":0},{"$f":"IF(lammering[[#This Row],[Ooi]]=\"\",0,IF(Berekeningen!E100=0,1,0))","v":0},{"$f":"IF(D100=0,0,IF(lammering[[#This Row],[Dood in geboorte]]=\"Ja\",0,IF(lammering[[#This Row],[Dood na geboorte]]=\"ja\",0,1)))","v":0},{"$f":"IF(lammering[[#This Row],[Opfok met kunstmelk]]=\"Ja\",1,0)","v":0},{"$f":"IF(lammering[[#This Row],[geslacht]]=\"O\",1,0)","v":0},{"$f":"IF(lammering[[#This Row],[Speen-datum]]=\"\",\"\",(lammering[[#This Row],[Speen-gewicht]]-lammering[[#This Row],[geboorte-gewicht]])/(lammering[[#This Row],[Speen-datum]]-lammering[[#This Row],[Werp-datum]]))","v":""},{"$f":"IF(lammering[[#This Row],[Verkoop-datum]]=\"\",\"\",(lammering[[#This Row],[Verkoop-gewicht]]-lammering[[#This Row],[Speen-gewicht]])/(lammering[[#This Row],[Verkoop-datum]]-lammering[[#This Row],[Speen-datum]]))","v":""},{"$f":"IF(lammering[[#This Row],[Verkoop-datum]]=\"\",\"\",(lammering[[#This Row],[Verkoop-gewicht]]-lammering[[#This Row],[geboorte-gewicht]])/(lammering[[#This Row],[Verkoop-datum]]-lammering[[#This Row],[Werp-datum]]))","v":""},"","","","","","",{"$f":"IF(lammering[[#This Row],[Verkoop-gewicht]]=\"\",\"\",lammering[[#This Row],[Verkoop-gewicht]]-lammering[[#This Row],[geboorte-gewicht]])","v":""},"","",{"$f":"Opzoek_ooi[[#This Row],[Ooinummer]]","v":0},"",""]
[{"$f":"lammering[[#This Row],[Ooi]]","v":0},0,0,{"$f":"IF(lammering[[#This Row],[Lam-nummer]]=\"\",0,1)","v":0},{"$f":"IF(lammering[[#This Row],[Dood in geboorte]]=\"ja\",1,0)","v":0},{"$f":"IF(lammering[[#This Row],[Ooi]]=\"\",0,IF(Berekeningen!E101=0,1,0))","v":0},{"$f":"IF(D101=0,0,IF(lammering[[#This Row],[Dood in geboorte]]=\"Ja\",0,IF(lammering[[#This Row],[Dood na geboorte]]=\"ja\",0,1)))","v":0},{"$f":"IF(lammering[[#This Row],[Opfok met kunstmelk]]=\"Ja\",1,0)","v":0},{"$f":"IF(lammering[[#This Row],[geslacht]]=\"O\",1,0)","v":0},{"$f":"IF(lammering[[#This Row],[Speen-datum]]=\"\",\"\",(lammering[[#This Row],[Speen-gewicht]]-lammering[[#This Row],[geboorte-gewicht]])/(lammering[[#This Row],[Speen-datum]]-lammering[[#This Row],[Werp-datum]]))","v":""},{"$f":"IF(lammering[[#This Row],[Verkoop-datum]]=\"\",\"\",(lammering[[#This Row],[Verkoop-gewicht]]-lammering[[#This Row],[Speen-gewicht]])/(lammering[[#This Row],[Verkoop-datum]]-lammering[[#This Row],[Speen-datum]]))","v":""},{"$f":"IF(lammering[[#This Row],[Verkoop-datum]]=\"\",\"\",(lammering[[#This Row],[Verkoop-gewicht]]-lammering[[#This Row],[geboorte-gewicht]])/(lammering[[#This Row],[Verkoop-datum]]-lammering[[#This Row],[Werp-datum]]))","v":""},"","","","","","",{"$f":"IF(lammering[[#This Row],[Verkoop-gewicht]]=\"\",\"\",lammering[[#This Row],[Verkoop-gewicht]]-lammering[[#This Row],[geboorte-gewicht]])","v":""},"","",{"$f":"Opzoek_ooi[[#This Row],[Ooinummer]]","v":0},"",""]
[{"$f":"lammering[[#This Row],[Ooi]]","v":0},0,0,{"$f":"IF(lammering[[#This Row],[Lam-nummer]]=\"\",0,1)","v":0},{"$f":"IF(lammering[[#This Row],[Dood in geboorte]]=\"ja\",1,0)","v":0},{"$f":"IF(lammering[[#This Row],[Ooi]]=\"\",0,IF(Berekeningen!E102=0,1,0))","v":0},{"$f":"IF(D102=0,0,IF(lammering[[#This Row],[Dood in geboorte]]=\"Ja\",0,IF(lammering[[#This Row],[Dood na geboorte]]=\"ja\",0,1)))","v":0},{"$f":"IF(lammering[[#This Row],[Opfok met kunstmelk]]=\"Ja\",1,0)","v":0},{"$f":"IF(lammering[[#This Row],[geslacht]]=\"O\",1,0)","v":0},{"$f":"IF(lammering[[#This Row],[Speen-datum]]=\"\",\"\",(lammering[[#This Row],[Speen-gewicht]]-lammering[[#This Row],[geboorte-gewicht]])/(lammering[[#This Row],[Speen-datum]]-lammering[[#This Row],[Werp-datum]]))","v":""},{"$f":"IF(lammering[[#This Row],[Verkoop-datum]]=\"\",\"\",(lammering[[#This Row],[Verkoop-gewicht]]-lammering[[#This Row],[Speen-gewicht]])/(lammering[[#This Row],[Verkoop-datum]]-lammering[[#This Row],[Speen-datum]]))","v":""},{"$f":"IF(lammering[[#This Row],[Verkoop-datum]]=\"\",\"\",(lammering[[#This Row],[Verkoop-gewicht]]-lammering[[#This Row],[geboorte-gewicht]])/(lammering[[#This Row],[Verkoop-datum]]-lammering[[#This Row],[Werp-datum]]))","v":""},"","","","","","",{"$f":"IF(lammering[[#This Row],[Verkoop-gewicht]]=\"\",\"\",lammering[[#This Row],[Verkoop-gewicht]]-lammering[[#This Row],[geboorte-gewicht]])","v":""},"","",{"$f":"Opzoek_ooi[[#This Row],[Ooinummer]]","v":0},"",""]
[{"$f":"lammering[[#This Row],[Ooi]]","v":0},0,0,{"$f":"IF(lammering[[#This Row],[Lam-nummer]]=\"\",0,1)","v":0},{"$f":"IF(lammering[[#This Row],[Dood in geboorte]]=\"ja\",1,0)","v":0},{"$f":"IF(lammering[[#This Row],[Ooi]]=\"\",0,IF(Berekeningen!E103=0,1,0))","v":0},{"$f":"IF(D103=0,0,IF(lammering[[#This Row],[Dood in geboorte]]=\"Ja\",0,IF(lammering[[#This Row],[Dood na geboorte]]=\"ja\",0,1)))","v":0},{"$f":"IF(lammering[[#This Row],[Opfok met kunstmelk]]=\"Ja\",1,0)","v":0},{"$f":"IF(lammering[[#This Row],[geslacht]]=\"O\",1,0)","v":0},{"$f":"IF(lammering[[#This Row],[Speen-datum]]=\"\",\"\",(lammering[[#This Row],[Speen-gewicht]]-lammering[[#This Row],[geboorte-gewicht]])/(lammering[[#This Row],[Speen-datum]]-lammering[[#This Row],[Werp-datum]]))","v":""},{"$f":"IF(lammering[[#This Row],[Verkoop-datum]]=\"\",\"\",(lammering[[#This Row],[Verkoop-gewicht]]-lammering[[#This Row],[Speen-gewicht]])/(lammering[[#This Row],[Verkoop-datum]]-lammering[[#This Row],[Speen-datum]]))","v":""},{"$f":"IF(lammering[[#This Row],[Verkoop-datum]]=\"\",\"\",(lammering[[#This Row],[Verkoop-gewicht]]-lammering[[#This Row],[geboorte-gewicht]])/(lammering[[#This Row],[Verkoop-datum]]-lammering[[#This Row],[Werp-datum]]))","v":""},"","","","","","",{"$f":"IF(lammering[[#This Row],[Verkoop-gewicht]]=\"\",\"\",lammering[[#This Row],[Verkoop-gewicht]]-lammering[[#This Row],[geboorte-gewicht]])","v":""},"","",{"$f":"Opzoek_ooi[[#This Row],[Ooinummer]]","v":0},"",""]
[{"$f":"lammering[[#This Row],[Ooi]]","v":0},0,0,{"$f":"IF(lammering[[#This Row],[Lam-nummer]]=\"\",0,1)","v":0},{"$f":"IF(lammering[[#This Row],[Dood in geboorte]]=\"ja\",1,0)","v":0},{"$f":"IF(lammering[[#This Row],[Ooi]]=\"\",0,IF(Berekeningen!E104=0,1,0))","v":0},{"$f":"IF(D104=0,0,IF(lammering[[#This Row],[Dood in geboorte]]=\"Ja\",0,IF(lammering[[#This Row],[Dood na geboorte]]=\"ja\",0,1)))","v":0},{"$f":"IF(lammering[[#This Row],[Opfok met kunstmelk]]=\"Ja\",1,0)","v":0},{"$f":"IF(lammering[[#This Row],[geslacht]]=\"O\",1,0)","v":0},{"$f":"IF(lammering[[#This Row],[Speen-datum]]=\"\",\"\",(lammering[[#This Row],[Speen-gewicht]]-lammering[[#This Row],[geboorte-gewicht]])/(lammering[[#This Row],[Speen-datum]]-lammering[[#This Row],[Werp-datum]]))","v":""},{"$f":"IF(lammering[[#This Row],[Verkoop-datum]]=\"\",\"\",(lammering[[#This Row],[Verkoop-gewicht]]-lammering[[#This Row],[Speen-gewicht]])/(lammering[[#This Row],[Verkoop-datum]]-lammering[[#This Row],[Speen-datum]]))","v":""},{"$f":"IF(lammering[[#This Row],[Verkoop-datum]]=\"\",\"\",(lammering[[#This Row],[Verkoop-gewicht]]-lammering[[#This Row],[geboorte-gewicht]])/(lammering[[#This Row],[Verkoop-datum]]-lammering[[#This Row],[Werp-datum]]))","v":""},"","","","","","",{"$f":"IF(lammering[[#This Row],[Verkoop-gewicht]]=\"\",\"\",lammering[[#This Row],[Verkoop-gewicht]]-lammering[[#This Row],[geboorte-gewicht]])","v":""},"","",{"$f":"Opzoek_ooi[[#This Row],[Ooinummer]]","v":0},"",""]
[{"$f":"lammering[[#This Row],[Ooi]]","v":0},0,0,{"$f":"IF(lammering[[#This Row],[Lam-nummer]]=\"\",0,1)","v":0},{"$f":"IF(lammering[[#This Row],[Dood in geboorte]]=\"ja\",1,0)","v":0},{"$f":"IF(lammering[[#This Row],[Ooi]]=\"\",0,IF(Berekeningen!E105=0,1,0))","v":0},{"$f":"IF(D105=0,0,IF(lammering[[#This Row],[Dood in geboorte]]=\"Ja\",0,IF(lammering[[#This Row],[Dood na geboorte]]=\"ja\",0,1)))","v":0},{"$f":"IF(lammering[[#This Row],[Opfok met kunstmelk]]=\"Ja\",1,0)","v":0},{"$f":"IF(lammering[[#This Row],[geslacht]]=\"O\",1,0)","v":0},{"$f":"IF(lammering[[#This Row],[Speen-datum]]=\"\",\"\",(lammering[[#This Row],[Speen-gewicht]]-lammering[[#This Row],[geboorte-gewicht]])/(lammering[[#This Row],[Speen-datum]]-lammering[[#This Row],[Werp-datum]]))","v":""},{"$f":"IF(lammering[[#This Row],[Verkoop-datum]]=\"\",\"\",(lammering[[#This Row],[Verkoop-gewicht]]-lammering[[#This Row],[Speen-gewicht]])/(lammering[[#This Row],[Verkoop-datum]]-lammering[[#This Row],[Speen-datum]]))","v":""},{"$f":"IF(lammering[[#This Row],[Verkoop-datum]]=\"\",\"\",(lammering[[#This Row],[Verkoop-gewicht]]-lammering[[#This Row],[geboorte-gewicht]])/(lammering[[#This Row],[Verkoop-datum]]-lammering[[#This Row],[Werp-datum]]))","v":""},"","","","","","",{"$f":"IF(lammering[[#This Row],[Verkoop-gewicht]]=\"\",\"\",lammering[[#This Row],[Verkoop-gewicht]]-lammering[[#This Row],[geboorte-gewicht]])","v":""},"","",{"$f":"Opzoek_ooi[[#This Row],[Ooinummer]]","v":0},"",""]
[{"$f":"lammering[[#This Row],[Ooi]]","v":0},0,0,{"$f":"IF(lammering[[#This Row],[Lam-nummer]]=\"\",0,1)","v":0},{"$f":"IF(lammering[[#This Row],[Dood in geboorte]]=\"ja\",1,0)","v":0},{"$f":"IF(lammering[[#This Row],[Ooi]]=\"\",0,IF(Berekeningen!E106=0,1,0))","v":0},{"$f":"IF(D106=0,0,IF(lammering[[#This Row],[Dood in geboorte]]=\"Ja\",0,IF(lammering[[#This Row],[Dood na geboorte]]=\"ja\",0,1)))","v":0},{"$f":"IF(lammering[[#This Row],[Opfok met kunstmelk]]=\"Ja\",1,0)","v":0},{"$f":"IF(lammering[[#This Row],[geslacht]]=\"O\",1,0)","v":0},{"$f":"IF(lammering[[#This Row],[Speen-datum]]=\"\",\"\",(lammering[[#This Row],[Speen-gewicht]]-lammering[[#This Row],[geboorte-gewicht]])/(lammering[[#This Row],[Speen-datum]]-lammering[[#This Row],[Werp-datum]]))","v":""},{"$f":"IF(lammering[[#This Row],[Verkoop-datum]]=\"\",\"\",(lammering[[#This Row],[Verkoop-gewicht]]-lammering[[#This Row],[Speen-gewicht]])/(lammering[[#This Row],[Verkoop-datum]]-lammering[[#This Row],[Speen-datum]]))","v":""},{"$f":"IF(lammering[[#This Row],[Verkoop-datum]]=\"\",\"\",(lammering[[#This Row],[Verkoop-gewicht]]-lammering[[#This Row],[geboorte-gewicht]])/(lammering[[#This Row],[Verkoop-datum]]-lammering[[#This Row],[Werp-datum]]))","v":""},"","","","","","",{"$f":"IF(lammering[[#This Row],[Verkoop-gewicht]]=\"\",\"\",lammering[[#This Row],[Verkoop-gewicht]]-lammering[[#This Row],[geboorte-gewicht]])","v":""},"","",{"$f":"Opzoek_ooi[[#This Row],[Ooinummer]]","v":0},"",""]
[{"$f":"lammering[[#This Row],[Ooi]]","v":0},0,0,{"$f":"IF(lammering[[#This Row],[Lam-nummer]]=\"\",0,1)","v":0},{"$f":"IF(lammering[[#This Row],[Dood in geboorte]]=\"ja\",1,0)","v":0},{"$f":"IF(lammering[[#This Row],[Ooi]]=\"\",0,IF(Berekeningen!E107=0,1,0))","v":0},{"$f":"IF(D107=0,0,IF(lammering[[#This Row],[Dood in geboorte]]=\"Ja\",0,IF(lammering[[#This Row],[Dood na geboorte]]=\"ja\",0,1)))","v":0},{"$f":"IF(lammering[[#This Row],[Opfok met kunstmelk]]=\"Ja\",1,0)","v":0},{"$f":"IF(lammering[[#This Row],[geslacht]]=\"O\",1,0)","v":0},{"$f":"IF(lammering[[#This Row],[Speen-datum]]=\"\",\"\",(lammering[[#This Row],[Speen-gewicht]]-lammering[[#This Row],[geboorte-gewicht]])/(lammering[[#This Row],[Speen-datum]]-lammering[[#This Row],[Werp-datum]]))","v":""},{"$f":"IF(lammering[[#This Row],[Verkoop-datum]]=\"\",\"\",(lammering[[#This Row],[Verkoop-gewicht]]-lammering[[#This Row],[Speen-gewicht]])/(lammering[[#This Row],[Verkoop-datum]]-lammering[[#This Row],[Speen-datum]]))","v":""},{"$f":"IF(lammering[[#This Row],[Verkoop-datum]]=\"\",\"\",(lammering[[#This Row],[Verkoop-gewicht]]-lammering[[#This Row],[geboorte-gewicht]])/(lammering[[#This Row],[Verkoop-datum]]-lammering[[#This Row],[Werp-datum]]))","v":""},"","","","","","",{"$f":"IF(lammering[[#This Row],[Verkoop-gewicht]]=\"\",\"\",lammering[[#This Row],[Verkoop-gewicht]]-lammering[[#This Row],[geboorte-gewicht]])","v":""},"","",{"$f":"Opzoek_ooi[[#This Row],[Ooinummer]]","v":0},"",""]
[{"$f":"lammering[[#This Row],[Ooi]]","v":0},0,0,{"$f":"IF(lammering[[#This Row],[Lam-nummer]]=\"\",0,1)","v":0},{"$f":"IF(lammering[[#This Row],[Dood in geboorte]]=\"ja\",1,0)","v":0},{"$f":"IF(lammering[[#This Row],[Ooi]]=\"\",0,IF(Berekeningen!E108=0,1,0))","v":0},{"$f":"IF(D108=0,0,IF(lammering[[#This Row],[Dood in geboorte]]=\"Ja\",0,IF(lammering[[#This Row],[Dood na geboorte]]=\"ja\",0,1)))","v":0},{"$f":"IF(lammering[[#This Row],[Opfok met kunstmelk]]=\"Ja\",1,0)","v":0},{"$f":"IF(lammering[[#This Row],[geslacht]]=\"O\",1,0)","v":0},{"$f":"IF(lammering[[#This Row],[Speen-datum]]=\"\",\"\",(lammering[[#This Row],[Speen-gewicht]]-lammering[[#This Row],[geboorte-gewicht]])/(lammering[[#This Row],[Speen-datum]]-lammering[[#This Row],[Werp-datum]]))","v":""},{"$f":"IF(lammering[[#This Row],[Verkoop-datum]]=\"\",\"\",(lammering[[#This Row],[Verkoop-gewicht]]-lammering[[#This Row],[Speen-gewicht]])/(lammering[[#This Row],[Verkoop-datum]]-lammering[[#This Row],[Speen-datum]]))","v":""},{"$f":"IF(lammering[[#This Row],[Verkoop-datum]]=\"\",\"\",(lammering[[#This Row],[Verkoop-gewicht]]-lammering[[#This Row],[geboorte-gewicht]])/(lammering[[#This Row],[Verkoop-datum]]-lammering[[#This Row],[Werp-datum]]))","v":""},"","","","","","",{"$f":"IF(lammering[[#This Row],[Verkoop-gewicht]]=\"\",\"\",lammering[[#This Row],[Verkoop-gewicht]]-lammering[[#This Row],[geboorte-gewicht]])","v":""},"","",{"$f":"Opzoek_ooi[[#This Row],[Ooinummer]]","v":0},"",""]
[{"$f":"lammering[[#This Row],[Ooi]]","v":0},0,0,{"$f":"IF(lammering[[#This Row],[Lam-nummer]]=\"\",0,1)","v":0},{"$f":"IF(lammering[[#This Row],[Dood in geboorte]]=\"ja\",1,0)","v":0},{"$f":"IF(lammering[[#This Row],[Ooi]]=\"\",0,IF(Berekeningen!E109=0,1,0))","v":0},{"$f":"IF(D109=0,0,IF(lammering[[#This Row],[Dood in geboorte]]=\"Ja\",0,IF(lammering[[#This Row],[Dood na geboorte]]=\"ja\",0,1)))","v":0},{"$f":"IF(lammering[[#This Row],[Opfok met kunstmelk]]=\"Ja\",1,0)","v":0},{"$f":"IF(lammering[[#This Row],[geslacht]]=\"O\",1,0)","v":0},{"$f":"IF(lammering[[#This Row],[Speen-datum]]=\"\",\"\",(lammering[[#This Row],[Speen-gewicht]]-lammering[[#This Row],[geboorte-gewicht]])/(lammering[[#This Row],[Speen-datum]]-lammering[[#This Row],[Werp-datum]]))","v":""},{"$f":"IF(lammering[[#This Row],[Verkoop-datum]]=\"\",\"\",(lammering[[#This Row],[Verkoop-gewicht]]-lammering[[#This Row],[Speen-gewicht]])/(lammering[[#This Row],[Verkoop-datum]]-lammering[[#This Row],[Speen-datum]]))","v":""},{"$f":"IF(lammering[[#This Row],[Verkoop-datum]]=\"\",\"\",(lammering[[#This Row],[Verkoop-gewicht]]-lammering[[#This Row],[geboorte-gewicht]])/(lammering[[#This Row],[Verkoop-datum]]-lammering[[#This Row],[Werp-datum]]))","v":""},"","","","","","",{"$f":"IF(lammering[[#This Row],[Verkoop-gewicht]]=\"\",\"\",lammering[[#This Row],[Verkoop-gewicht]]-lammering[[#This Row],[geboorte-gewicht]])","v":""},"","",{"$f":"Opzoek_ooi[[#This Row],[Ooinummer]]","v":0},"",""]
[{"$f":"lammering[[#This Row],[Ooi]]","v":0},0,0,{"$f":"IF(lammering[[#This Row],[Lam-nummer]]=\"\",0,1)","v":0},{"$f":"IF(lammering[[#This Row],[Dood in geboorte]]=\"ja\",1,0)","v":0},{"$f":"IF(lammering[[#This Row],[Ooi]]=\"\",0,IF(Berekeningen!E110=0,1,0))","v":0},{"$f":"IF(D110=0,0,IF(lammering[[#This Row],[Dood in geboorte]]=\"Ja\",0,IF(lammering[[#This Row],[Dood na geboorte]]=\"ja\",0,1)))","v":0},{"$f":"IF(lammering[[#This Row],[Opfok met kunstmelk]]=\"Ja\",1,0)","v":0},{"$f":"IF(lammering[[#This Row],[geslacht]]=\"O\",1,0)","v":0},{"$f":"IF(lammering[[#This Row],[Speen-datum]]=\"\",\"\",(lammering[[#This Row],[Speen-gewicht]]-lammering[[#This Row],[geboorte-gewicht]])/(lammering[[#This Row],[Speen-datum]]-lammering[[#This Row],[Werp-datum]]))","v":""},{"$f":"IF(lammering[[#This Row],[Verkoop-datum]]=\"\",\"\",(lammering[[#This Row],[Verkoop-gewicht]]-lammering[[#This Row],[Speen-gewicht]])/(lammering[[#This Row],[Verkoop-datum]]-lammering[[#This Row],[Speen-datum]]))","v":""},{"$f":"IF(lammering[[#This Row],[Verkoop-datum]]=\"\",\"\",(lammering[[#This Row],[Verkoop-gewicht]]-lammering[[#This Row],[geboorte-gewicht]])/(lammering[[#This Row],[Verkoop-datum]]-lammering[[#This Row],[Werp-datum]]))","v":""},"","","","","","",{"$f":"IF(lammering[[#This Row],[Verkoop-gewicht]]=\"\",\"\",lammering[[#This Row],[Verkoop-gewicht]]-lammering[[#This Row],[geboorte-gewicht]])","v":""},"","",{"$f":"Opzoek_ooi[[#This Row],[Ooinummer]]","v":0},"",""]
[{"$f":"lammering[[#This Row],[Ooi]]","v":0},0,0,{"$f":"IF(lammering[[#This Row],[Lam-nummer]]=\"\",0,1)","v":0},{"$f":"IF(lammering[[#This Row],[Dood in geboorte]]=\"ja\",1,0)","v":0},{"$f":"IF(lammering[[#This Row],[Ooi]]=\"\",0,IF(Berekeningen!E111=0,1,0))","v":0},{"$f":"IF(D111=0,0,IF(lammering[[#This Row],[Dood in geboorte]]=\"Ja\",0,IF(lammering[[#This Row],[Dood na geboorte]]=\"ja\",0,1)))","v":0},{"$f":"IF(lammering[[#This Row],[Opfok met kunstmelk]]=\"Ja\",1,0)","v":0},{"$f":"IF(lammering[[#This Row],[geslacht]]=\"O\",1,0)","v":0},{"$f":"IF(lammering[[#This Row],[Speen-datum]]=\"\",\"\",(lammering[[#This Row],[Speen-gewicht]]-lammering[[#This Row],[geboorte-gewicht]])/(lammering[[#This Row],[Speen-datum]]-lammering[[#This Row],[Werp-datum]]))","v":""},{"$f":"IF(lammering[[#This Row],[Verkoop-datum]]=\"\",\"\",(lammering[[#This Row],[Verkoop-gewicht]]-lammering[[#This Row],[Speen-gewicht]])/(lammering[[#This Row],[Verkoop-datum]]-lammering[[#This Row],[Speen-datum]]))","v":""},{"$f":"IF(lammering[[#This Row],[Verkoop-datum]]=\"\",\"\",(lammering[[#This Row],[Verkoop-gewicht]]-lammering[[#This Row],[geboorte-gewicht]])/(lammering[[#This Row],[Verkoop-datum]]-lammering[[#This Row],[Werp-datum]]))","v":""},"","","","","","",{"$f":"IF(lammering[[#This Row],[Verkoop-gewicht]]=\"\",\"\",lammering[[#This Row],[Verkoop-gewicht]]-lammering[[#This Row],[geboorte-gewicht]])","v":""},"","",{"$f":"Opzoek_ooi[[#This Row],[Ooinummer]]","v":0},"",""]
[{"$f":"lammering[[#This Row],[Ooi]]","v":0},0,0,{"$f":"IF(lammering[[#This Row],[Lam-nummer]]=\"\",0,1)","v":0},{"$f":"IF(lammering[[#This Row],[Dood in geboorte]]=\"ja\",1,0)","v":0},{"$f":"IF(lammering[[#This Row],[Ooi]]=\"\",0,IF(Berekeningen!E112=0,1,0))","v":0},{"$f":"IF(D112=0,0,IF(lammering[[#This Row],[Dood in geboorte]]=\"Ja\",0,IF(lammering[[#This Row],[Dood na geboorte]]=\"ja\",0,1)))","v":0},{"$f":"IF(lammering[[#This Row],[Opfok met kunstmelk]]=\"Ja\",1,0)","v":0},{"$f":"IF(lammering[[#This Row],[geslacht]]=\"O\",1,0)","v":0},{"$f":"IF(lammering[[#This Row],[Speen-datum]]=\"\",\"\",(lammering[[#This Row],[Speen-gewicht]]-lammering[[#This Row],[geboorte-gewicht]])/(lammering[[#This Row],[Speen-datum]]-lammering[[#This Row],[Werp-datum]]))","v":""},{"$f":"IF(lammering[[#This Row],[Verkoop-datum]]=\"\",\"\",(lammering[[#This Row],[Verkoop-gewicht]]-lammering[[#This Row],[Speen-gewicht]])/(lammering[[#This Row],[Verkoop-datum]]-lammering[[#This Row],[Speen-datum]]))","v":""},{"$f":"IF(lammering[[#This Row],[Verkoop-datum]]=\"\",\"\",(lammering[[#This Row],[Verkoop-gewicht]]-lammering[[#This Row],[geboorte-gewicht]])/(lammering[[#This Row],[Verkoop-datum]]-lammering[[#This Row],[Werp-datum]]))","v":""},"","","","","","",{"$f":"IF(lammering[[#This Row],[Verkoop-gewicht]]=\"\",\"\",lammering[[#This Row],[Verkoop-gewicht]]-lammering[[#This Row],[geboorte-gewicht]])","v":""},"","",{"$f":"Opzoek_ooi[[#This Row],[Ooinummer]]","v":0},"",""]
[{"$f":"lammering[[#This Row],[Ooi]]","v":0},0,0,{"$f":"IF(lammering[[#This Row],[Lam-nummer]]=\"\",0,1)","v":0},{"$f":"IF(lammering[[#This Row],[Dood in geboorte]]=\"ja\",1,0)","v":0},{"$f":"IF(lammering[[#This Row],[Ooi]]=\"\",0,IF(Berekeningen!E113=0,1,0))","v":0},{"$f":"IF(D113=0,0,IF(lammering[[#This Row],[Dood in geboorte]]=\"Ja\",0,IF(lammering[[#This Row],[Dood na geboorte]]=\"ja\",0,1)))","v":0},{"$f":"IF(lammering[[#This Row],[Opfok met kunstmelk]]=\"Ja\",1,0)","v":0},{"$f":"IF(lammering[[#This Row],[geslacht]]=\"O\",1,0)","v":0},{"$f":"IF(lammering[[#This Row],[Speen-datum]]=\"\",\"\",(lammering[[#This Row],[Speen-gewicht]]-lammering[[#This Row],[geboorte-gewicht]])/(lammering[[#This Row],[Speen-datum]]-lammering[[#This Row],[Werp-datum]]))","v":""},{"$f":"IF(lammering[[#This Row],[Verkoop-datum]]=\"\",\"\",(lammering[[#This Row],[Verkoop-gewicht]]-lammering[[#This Row],[Speen-gewicht]])/(lammering[[#This Row],[Verkoop-datum]]-lammering[[#This Row],[Speen-datum]]))","v":""},{"$f":"IF(lammering[[#This Row],[Verkoop-datum]]=\"\",\"\",(lammering[[#This Row],[Verkoop-gewicht]]-lammering[[#This Row],[geboorte-gewicht]])/(lammering[[#This Row],[Verkoop-datum]]-lammering[[#This Row],[Werp-datum]]))","v":""},"","","","","","",{"$f":"IF(lammering[[#This Row],[Verkoop-gewicht]]=\"\",\"\",lammering[[#This Row],[Verkoop-gewicht]]-lammering[[#This Row],[geboorte-gewicht]])","v":""},"","",{"$f":"Opzoek_ooi[[#This Row],[Ooinummer]]","v":0},"",""]
[{"$f":"lammering[[#This Row],[Ooi]]","v":0},0,0,{"$f":"IF(lammering[[#This Row],[Lam-nummer]]=\"\",0,1)","v":0},{"$f":"IF(lammering[[#This Row],[Dood in geboorte]]=\"ja\",1,0)","v":0},{"$f":"IF(lammering[[#This Row],[Ooi]]=\"\",0,IF(Berekeningen!E114=0,1,0))","v":0},{"$f":"IF(D114=0,0,IF(lammering[[#This Row],[Dood in geboorte]]=\"Ja\",0,IF(lammering[[#This Row],[Dood na geboorte]]=\"ja\",0,1)))","v":0},{"$f":"IF(lammering[[#This Row],[Opfok met kunstmelk]]=\"Ja\",1,0)","v":0},{"$f":"IF(lammering[[#This Row],[geslacht]]=\"O\",1,0)","v":0},{"$f":"IF(lammering[[#This Row],[Speen-datum]]=\"\",\"\",(lammering[[#This Row],[Speen-gewicht]]-lammering[[#This Row],[geboorte-gewicht]])/(lammering[[#This Row],[Speen-datum]]-lammering[[#This Row],[Werp-datum]]))","v":""},{"$f":"IF(lammering[[#This Row],[Verkoop-datum]]=\"\",\"\",(lammering[[#This Row],[Verkoop-gewicht]]-lammering[[#This Row],[Speen-gewicht]])/(lammering[[#This Row],[Verkoop-datum]]-lammering[[#This Row],[Speen-datum]]))","v":""},{"$f":"IF(lammering[[#This Row],[Verkoop-datum]]=\"\",\"\",(lammering[[#This Row],[Verkoop-gewicht]]-lammering[[#This Row],[geboorte-gewicht]])/(lammering[[#This Row],[Verkoop-datum]]-lammering[[#This Row],[Werp-datum]]))","v":""},"","","","","","",{"$f":"IF(lammering[[#This Row],[Verkoop-gewicht]]=\"\",\"\",lammering[[#This Row],[Verkoop-gewicht]]-lammering[[#This Row],[geboorte-gewicht]])","v":""},"","",{"$f":"Opzoek_ooi[[#This Row],[Ooinummer]]","v":0},"",""]
[{"$f":"lammering[[#This Row],[Ooi]]","v":0},0,0,{"$f":"IF(lammering[[#This Row],[Lam-nummer]]=\"\",0,1)","v":0},{"$f":"IF(lammering[[#This Row],[Dood in geboorte]]=\"ja\",1,0)","v":0},{"$f":"IF(lammering[[#This Row],[Ooi]]=\"\",0,IF(Berekeningen!E115=0,1,0))","v":0},{"$f":"IF(D115=0,0,IF(lammering[[#This Row],[Dood in geboorte]]=\"Ja\",0,IF(lammering[[#This Row],[Dood na geboorte]]=\"ja\",0,1)))","v":0},{"$f":"IF(lammering[[#This Row],[Opfok met kunstmelk]]=\"Ja\",1,0)","v":0},{"$f":"IF(lammering[[#This Row],[geslacht]]=\"O\",1,0)","v":0},{"$f":"IF(lammering[[#This Row],[Speen-datum]]=\"\",\"\",(lammering[[#This Row],[Speen-gewicht]]-lammering[[#This Row],[geboorte-gewicht]])/(lammering[[#This Row],[Speen-datum]]-lammering[[#This Row],[Werp-datum]]))","v":""},{"$f":"IF(lammering[[#This Row],[Verkoop-datum]]=\"\",\"\",(lammering[[#This Row],[Verkoop-gewicht]]-lammering[[#This Row],[Speen-gewicht]])/(lammering[[#This Row],[Verkoop-datum]]-lammering[[#This Row],[Speen-datum]]))","v":""},{"$f":"IF(lammering[[#This Row],[Verkoop-datum]]=\"\",\"\",(lammering[[#This Row],[Verkoop-gewicht]]-lammering[[#This Row],[geboorte-gewicht]])/(lammering[[#This Row],[Verkoop-datum]]-lammering[[#This Row],[Werp-datum]]))","v":""},"","","","","","",{"$f":"IF(lammering[[#This Row],[Verkoop-gewicht]]=\"\",\"\",lammering[[#This Row],[Verkoop-gewicht]]-lammering[[#This Row],[geboorte-gewicht]])","v":""},"","",{"$f":"Opzoek_ooi[[#This Row],[Ooinummer]]","v":0},"",""]
[{"$f":"lammering[[#This Row],[Ooi]]","v":0},0,0,{"$f":"IF(lammering[[#This Row],[Lam-nummer]]=\"\",0,1)","v":0},{"$f":"IF(lammering[[#This Row],[Dood in geboorte]]=\"ja\",1,0)","v":0},{"$f":"IF(lammering[[#This Row],[Ooi]]=\"\",0,IF(Berekeningen!E116=0,1,0))","v":0},{"$f":"IF(D116=0,0,IF(lammering[[#This Row],[Dood in geboorte]]=\"Ja\",0,IF(lammering[[#This Row],[Dood na geboorte]]=\"ja\",0,1)))","v":0},{"$f":"IF(lammering[[#This Row],[Opfok met kunstmelk]]=\"Ja\",1,0)","v":0},{"$f":"IF(lammering[[#This Row],[geslacht]]=\"O\",1,0)","v":0},{"$f":"IF(lammering[[#This Row],[Speen-datum]]=\"\",\"\",(lammering[[#This Row],[Speen-gewicht]]-lammering[[#This Row],[geboorte-gewicht]])/(lammering[[#This Row],[Speen-datum]]-lammering[[#This Row],[Werp-datum]]))","v":""},{"$f":"IF(lammering[[#This Row],[Verkoop-datum]]=\"\",\"\",(lammering[[#This Row],[Verkoop-gewicht]]-lammering[[#This Row],[Speen-gewicht]])/(lammering[[#This Row],[Verkoop-datum]]-lammering[[#This Row],[Speen-datum]]))","v":""},{"$f":"IF(lammering[[#This Row],[Verkoop-datum]]=\"\",\"\",(lammering[[#This Row],[Verkoop-gewicht]]-lammering[[#This Row],[geboorte-gewicht]])/(lammering[[#This Row],[Verkoop-datum]]-lammering[[#This Row],[Werp-datum]]))","v":""},"","","","","","",{"$f":"IF(lammering[[#This Row],[Verkoop-gewicht]]=\"\",\"\",lammering[[#This Row],[Verkoop-gewicht]]-lammering[[#This Row],[geboorte-gewicht]])","v":""},"","",{"$f":"Opzoek_ooi[[#This Row],[Ooinummer]]","v":0},"",""]
[{"$f":"lammering[[#This Row],[Ooi]]","v":0},0,0,{"$f":"IF(lammering[[#This Row],[Lam-nummer]]=\"\",0,1)","v":0},{"$f":"IF(lammering[[#This Row],[Dood in geboorte]]=\"ja\",1,0)","v":0},{"$f":"IF(lammering[[#This Row],[Ooi]]=\"\",0,IF(Berekeningen!E117=0,1,0))","v":0},{"$f":"IF(D117=0,0,IF(lammering[[#This Row],[Dood in geboorte]]=\"Ja\",0,IF(lammering[[#This Row],[Dood na geboorte]]=\"ja\",0,1)))","v":0},{"$f":"IF(lammering[[#This Row],[Opfok met kunstmelk]]=\"Ja\",1,0)","v":0},{"$f":"IF(lammering[[#This Row],[geslacht]]=\"O\",1,0)","v":0},{"$f":"IF(lammering[[#This Row],[Speen-datum]]=\"\",\"\",(lammering[[#This Row],[Speen-gewicht]]-lammering[[#This Row],[geboorte-gewicht]])/(lammering[[#This Row],[Speen-datum]]-lammering[[#This Row],[Werp-datum]]))","v":""},{"$f":"IF(lammering[[#This Row],[Verkoop-datum]]=\"\",\"\",(lammering[[#This Row],[Verkoop-gewicht]]-lammering[[#This Row],[Speen-gewicht]])/(lammering[[#This Row],[Verkoop-datum]]-lammering[[#This Row],[Speen-datum]]))","v":""},{"$f":"IF(lammering[[#This Row],[Verkoop-datum]]=\"\",\"\",(lammering[[#This Row],[Verkoop-gewicht]]-lammering[[#This Row],[geboorte-gewicht]])/(lammering[[#This Row],[Verkoop-datum]]-lammering[[#This Row],[Werp-datum]]))","v":""},"","","","","","",{"$f":"IF(lammering[[#This Row],[Verkoop-gewicht]]=\"\",\"\",lammering[[#This Row],[Verkoop-gewicht]]-lammering[[#This Row],[geboorte-gewicht]])","v":""},"","",{"$f":"Opzoek_ooi[[#This Row],[Ooinummer]]","v":0},"",""]
[{"$f":"lammering[[#This Row],[Ooi]]","v":0},0,0,{"$f":"IF(lammering[[#This Row],[Lam-nummer]]=\"\",0,1)","v":0},{"$f":"IF(lammering[[#This Row],[Dood in geboorte]]=\"ja\",1,0)","v":0},{"$f":"IF(lammering[[#This Row],[Ooi]]=\"\",0,IF(Berekeningen!E118=0,1,0))","v":0},{"$f":"IF(D118=0,0,IF(lammering[[#This Row],[Dood in geboorte]]=\"Ja\",0,IF(lammering[[#This Row],[Dood na geboorte]]=\"ja\",0,1)))","v":0},{"$f":"IF(lammering[[#This Row],[Opfok met kunstmelk]]=\"Ja\",1,0)","v":0},{"$f":"IF(lammering[[#This Row],[geslacht]]=\"O\",1,0)","v":0},{"$f":"IF(lammering[[#This Row],[Speen-datum]]=\"\",\"\",(lammering[[#This Row],[Speen-gewicht]]-lammering[[#This Row],[geboorte-gewicht]])/(lammering[[#This Row],[Speen-datum]]-lammering[[#This Row],[Werp-datum]]))","v":""},{"$f":"IF(lammering[[#This Row],[Verkoop-datum]]=\"\",\"\",(lammering[[#This Row],[Verkoop-gewicht]]-lammering[[#This Row],[Speen-gewicht]])/(lammering[[#This Row],[Verkoop-datum]]-lammering[[#This Row],[Speen-datum]]))","v":""},{"$f":"IF(lammering[[#This Row],[Verkoop-datum]]=\"\",\"\",(lammering[[#This Row],[Verkoop-gewicht]]-lammering[[#This Row],[geboorte-gewicht]])/(lammering[[#This Row],[Verkoop-datum]]-lammering[[#This Row],[Werp-datum]]))","v":""},"","","","","","",{"$f":"IF(lammering[[#This Row],[Verkoop-gewicht]]=\"\",\"\",lammering[[#This Row],[Verkoop-gewicht]]-lammering[[#This Row],[geboorte-gewicht]])","v":""},"","",{"$f":"Opzoek_ooi[[#This Row],[Ooinummer]]","v":0},"",""]
[{"$f":"lammering[[#This Row],[Ooi]]","v":0},0,0,{"$f":"IF(lammering[[#This Row],[Lam-nummer]]=\"\",0,1)","v":0},{"$f":"IF(lammering[[#This Row],[Dood in geboorte]]=\"ja\",1,0)","v":0},{"$f":"IF(lammering[[#This Row],[Ooi]]=\"\",0,IF(Berekeningen!E119=0,1,0))","v":0},{"$f":"IF(D119=0,0,IF(lammering[[#This Row],[Dood in geboorte]]=\"Ja\",0,IF(lammering[[#This Row],[Dood na geboorte]]=\"ja\",0,1)))","v":0},{"$f":"IF(lammering[[#This Row],[Opfok met kunstmelk]]=\"Ja\",1,0)","v":0},{"$f":"IF(lammering[[#This Row],[geslacht]]=\"O\",1,0)","v":0},{"$f":"IF(lammering[[#This Row],[Speen-datum]]=\"\",\"\",(lammering[[#This Row],[Speen-gewicht]]-lammering[[#This Row],[geboorte-gewicht]])/(lammering[[#This Row],[Speen-datum]]-lammering[[#This Row],[Werp-datum]]))","v":""},{"$f":"IF(lammering[[#This Row],[Verkoop-datum]]=\"\",\"\",(lammering[[#This Row],[Verkoop-gewicht]]-lammering[[#This Row],[Speen-gewicht]])/(lammering[[#This Row],[Verkoop-datum]]-lammering[[#This Row],[Speen-datum]]))","v":""},{"$f":"IF(lammering[[#This Row],[Verkoop-datum]]=\"\",\"\",(lammering[[#This Row],[Verkoop-gewicht]]-lammering[[#This Row],[geboorte-gewicht]])/(lammering[[#This Row],[Verkoop-datum]]-lammering[[#This Row],[Werp-datum]]))","v":""},"","","","","","",{"$f":"IF(lammering[[#This Row],[Verkoop-gewicht]]=\"\",\"\",lammering[[#This Row],[Verkoop-gewicht]]-lammering[[#This Row],[geboorte-gewicht]])","v":""},"","",{"$f":"Opzoek_ooi[[#This Row],[Ooinummer]]","v":0},"",""]
[{"$f":"lammering[[#This Row],[Ooi]]","v":0},0,0,{"$f":"IF(lammering[[#This Row],[Lam-nummer]]=\"\",0,1)","v":0},{"$f":"IF(lammering[[#This Row],[Dood in geboorte]]=\"ja\",1,0)","v":0},{"$f":"IF(lammering[[#This Row],[Ooi]]=\"\",0,IF(Berekeningen!E120=0,1,0))","v":0},{"$f":"IF(D120=0,0,IF(lammering[[#This Row],[Dood in geboorte]]=\"Ja\",0,IF(lammering[[#This Row],[Dood na geboorte]]=\"ja\",0,1)))","v":0},{"$f":"IF(lammering[[#This Row],[Opfok met kunstmelk]]=\"Ja\",1,0)","v":0},{"$f":"IF(lammering[[#This Row],[geslacht]]=\"O\",1,0)","v":0},{"$f":"IF(lammering[[#This Row],[Speen-datum]]=\"\",\"\",(lammering[[#This Row],[Speen-gewicht]]-lammering[[#This Row],[geboorte-gewicht]])/(lammering[[#This Row],[Speen-datum]]-lammering[[#This Row],[Werp-datum]]))","v":""},{"$f":"IF(lammering[[#This Row],[Verkoop-datum]]=\"\",\"\",(lammering[[#This Row],[Verkoop-gewicht]]-lammering[[#This Row],[Speen-gewicht]])/(lammering[[#This Row],[Verkoop-datum]]-lammering[[#This Row],[Speen-datum]]))","v":""},{"$f":"IF(lammering[[#This Row],[Verkoop-datum]]=\"\",\"\",(lammering[[#This Row],[Verkoop-gewicht]]-lammering[[#This Row],[geboorte-gewicht]])/(lammering[[#This Row],[Verkoop-datum]]-lammering[[#This Row],[Werp-datum]]))","v":""},"","","","","","",{"$f":"IF(lammering[[#This Row],[Verkoop-gewicht]]=\"\",\"\",lammering[[#This Row],[Verkoop-gewicht]]-lammering[[#This Row],[geboorte-gewicht]])","v":""},"","",{"$f":"Opzoek_ooi[[#This Row],[Ooinummer]]","v":0},"",""]
[{"$f":"lammering[[#This Row],[Ooi]]","v":0},0,0,{"$f":"IF(lammering[[#This Row],[Lam-nummer]]=\"\",0,1)","v":0},{"$f":"IF(lammering[[#This Row],[Dood in geboorte]]=\"ja\",1,0)","v":0},{"$f":"IF(lammering[[#This Row],[Ooi]]=\"\",0,IF(Berekeningen!E121=0,1,0))","v":0},{"$f":"IF(D121=0,0,IF(lammering[[#This Row],[Dood in geboorte]]=\"Ja\",0,IF(lammering[[#This Row],[Dood na geboorte]]=\"ja\",0,1)))","v":0},{"$f":"IF(lammering[[#This Row],[Opfok met kunstmelk]]=\"Ja\",1,0)","v":0},{"$f":"IF(lammering[[#This Row],[geslacht]]=\"O\",1,0)","v":0},{"$f":"IF(lammering[[#This Row],[Speen-datum]]=\"\",\"\",(lammering[[#This Row],[Speen-gewicht]]-lammering[[#This Row],[geboorte-gewicht]])/(lammering[[#This Row],[Speen-datum]]-lammering[[#This Row],[Werp-datum]]))","v":""},{"$f":"IF(lammering[[#This Row],[Verkoop-datum]]=\"\",\"\",(lammering[[#This Row],[Verkoop-gewicht]]-lammering[[#This Row],[Speen-gewicht]])/(lammering[[#This Row],[Verkoop-datum]]-lammering[[#This Row],[Speen-datum]]))","v":""},{"$f":"IF(lammering[[#This Row],[Verkoop-datum]]=\"\",\"\",(lammering[[#This Row],[Verkoop-gewicht]]-lammering[[#This Row],[geboorte-gewicht]])/(lammering[[#This Row],[Verkoop-datum]]-lammering[[#This Row],[Werp-datum]]))","v":""},"","","","","","",{"$f":"IF(lammering[[#This Row],[Verkoop-gewicht]]=\"\",\"\",lammering[[#This Row],[Verkoop-gewicht]]-lammering[[#This Row],[geboorte-gewicht]])","v":""},"","",{"$f":"Opzoek_ooi[[#This Row],[Ooinummer]]","v":0},"",""]
[{"$f":"lammering[[#This Row],[Ooi]]","v":0},0,0,{"$f":"IF(lammering[[#This Row],[Lam-nummer]]=\"\",0,1)","v":0},{"$f":"IF(lammering[[#This Row],[Dood in geboorte]]=\"ja\",1,0)","v":0},{"$f":"IF(lammering[[#This Row],[Ooi]]=\"\",0,IF(Berekeningen!E122=0,1,0))","v":0},{"$f":"IF(D122=0,0,IF(lammering[[#This Row],[Dood in geboorte]]=\"Ja\",0,IF(lammering[[#This Row],[Dood na geboorte]]=\"ja\",0,1)))","v":0},{"$f":"IF(lammering[[#This Row],[Opfok met kunstmelk]]=\"Ja\",1,0)","v":0},{"$f":"IF(lammering[[#This Row],[geslacht]]=\"O\",1,0)","v":0},{"$f":"IF(lammering[[#This Row],[Speen-datum]]=\"\",\"\",(lammering[[#This Row],[Speen-gewicht]]-lammering[[#This Row],[geboorte-gewicht]])/(lammering[[#This Row],[Speen-datum]]-lammering[[#This Row],[Werp-datum]]))","v":""},{"$f":"IF(lammering[[#This Row],[Verkoop-datum]]=\"\",\"\",(lammering[[#This Row],[Verkoop-gewicht]]-lammering[[#This Row],[Speen-gewicht]])/(lammering[[#This Row],[Verkoop-datum]]-lammering[[#This Row],[Speen-datum]]))","v":""},{"$f":"IF(lammering[[#This Row],[Verkoop-datum]]=\"\",\"\",(lammering[[#This Row],[Verkoop-gewicht]]-lammering[[#This Row],[geboorte-gewicht]])/(lammering[[#This Row],[Verkoop-datum]]-lammering[[#This Row],[Werp-datum]]))","v":""},"","","","","","",{"$f":"IF(lammering[[#This Row],[Verkoop-gewicht]]=\"\",\"\",lammering[[#This Row],[Verkoop-gewicht]]-lammering[[#This Row],[geboorte-gewicht]])","v":""},"","",{"$f":"Opzoek_ooi[[#This Row],[Ooinummer]]","v":0},"",""]
[{"$f":"lammering[[#This Row],[Ooi]]","v":0},0,0,{"$f":"IF(lammering[[#This Row],[Lam-nummer]]=\"\",0,1)","v":0},{"$f":"IF(lammering[[#This Row],[Dood in geboorte]]=\"ja\",1,0)","v":0},{"$f":"IF(lammering[[#This Row],[Ooi]]=\"\",0,IF(Berekeningen!E123=0,1,0))","v":0},{"$f":"IF(D123=0,0,IF(lammering[[#This Row],[Dood in geboorte]]=\"Ja\",0,IF(lammering[[#This Row],[Dood na geboorte]]=\"ja\",0,1)))","v":0},{"$f":"IF(lammering[[#This Row],[Opfok met kunstmelk]]=\"Ja\",1,0)","v":0},{"$f":"IF(lammering[[#This Row],[geslacht]]=\"O\",1,0)","v":0},{"$f":"IF(lammering[[#This Row],[Speen-datum]]=\"\",\"\",(lammering[[#This Row],[Speen-gewicht]]-lammering[[#This Row],[geboorte-gewicht]])/(lammering[[#This Row],[Speen-datum]]-lammering[[#This Row],[Werp-datum]]))","v":""},{"$f":"IF(lammering[[#This Row],[Verkoop-datum]]=\"\",\"\",(lammering[[#This Row],[Verkoop-gewicht]]-lammering[[#This Row],[Speen-gewicht]])/(lammering[[#This Row],[Verkoop-datum]]-lammering[[#This Row],[Speen-datum]]))","v":""},{"$f":"IF(lammering[[#This Row],[Verkoop-datum]]=\"\",\"\",(lammering[[#This Row],[Verkoop-gewicht]]-lammering[[#This Row],[geboorte-gewicht]])/(lammering[[#This Row],[Verkoop-datum]]-lammering[[#This Row],[Werp-datum]]))","v":""},"","","","","","",{"$f":"IF(lammering[[#This Row],[Verkoop-gewicht]]=\"\",\"\",lammering[[#This Row],[Verkoop-gewicht]]-lammering[[#This Row],[geboorte-gewicht]])","v":""},"","",{"$f":"Opzoek_ooi[[#This Row],[Ooinummer]]","v":0},"",""]
[{"$f":"lammering[[#This Row],[Ooi]]","v":0},0,0,{"$f":"IF(lammering[[#This Row],[Lam-nummer]]=\"\",0,1)","v":0},{"$f":"IF(lammering[[#This Row],[Dood in geboorte]]=\"ja\",1,0)","v":0},{"$f":"IF(lammering[[#This Row],[Ooi]]=\"\",0,IF(Berekeningen!E124=0,1,0))","v":0},{"$f":"IF(D124=0,0,IF(lammering[[#This Row],[Dood in geboorte]]=\"Ja\",0,IF(lammering[[#This Row],[Dood na geboorte]]=\"ja\",0,1)))","v":0},{"$f":"IF(lammering[[#This Row],[Opfok met kunstmelk]]=\"Ja\",1,0)","v":0},{"$f":"IF(lammering[[#This Row],[geslacht]]=\"O\",1,0)","v":0},{"$f":"IF(lammering[[#This Row],[Speen-datum]]=\"\",\"\",(lammering[[#This Row],[Speen-gewicht]]-lammering[[#This Row],[geboorte-gewicht]])/(lammering[[#This Row],[Speen-datum]]-lammering[[#This Row],[Werp-datum]]))","v":""},{"$f":"IF(lammering[[#This Row],[Verkoop-datum]]=\"\",\"\",(lammering[[#This Row],[Verkoop-gewicht]]-lammering[[#This Row],[Speen-gewicht]])/(lammering[[#This Row],[Verkoop-datum]]-lammering[[#This Row],[Speen-datum]]))","v":""},{"$f":"IF(lammering[[#This Row],[Verkoop-datum]]=\"\",\"\",(lammering[[#This Row],[Verkoop-gewicht]]-lammering[[#This Row],[geboorte-gewicht]])/(lammering[[#This Row],[Verkoop-datum]]-lammering[[#This Row],[Werp-datum]]))","v":""},"","","","","","",{"$f":"IF(lammering[[#This Row],[Verkoop-gewicht]]=\"\",\"\",lammering[[#This Row],[Verkoop-gewicht]]-lammering[[#This Row],[geboorte-gewicht]])","v":""},"","",{"$f":"Opzoek_ooi[[#This Row],[Ooinummer]]","v":0},"",""]
[{"$f":"lammering[[#This Row],[Ooi]]","v":0},0,0,{"$f":"IF(lammering[[#This Row],[Lam-nummer]]=\"\",0,1)","v":0},{"$f":"IF(lammering[[#This Row],[Dood in geboorte]]=\"ja\",1,0)","v":0},{"$f":"IF(lammering[[#This Row],[Ooi]]=\"\",0,IF(Berekeningen!E125=0,1,0))","v":0},{"$f":"IF(D125=0,0,IF(lammering[[#This Row],[Dood in geboorte]]=\"Ja\",0,IF(lammering[[#This Row],[Dood na geboorte]]=\"ja\",0,1)))","v":0},{"$f":"IF(lammering[[#This Row],[Opfok met kunstmelk]]=\"Ja\",1,0)","v":0},{"$f":"IF(lammering[[#This Row],[geslacht]]=\"O\",1,0)","v":0},{"$f":"IF(lammering[[#This Row],[Speen-datum]]=\"\",\"\",(lammering[[#This Row],[Speen-gewicht]]-lammering[[#This Row],[geboorte-gewicht]])/(lammering[[#This Row],[Speen-datum]]-lammering[[#This Row],[Werp-datum]]))","v":""},{"$f":"IF(lammering[[#This Row],[Verkoop-datum]]=\"\",\"\",(lammering[[#This Row],[Verkoop-gewicht]]-lammering[[#This Row],[Speen-gewicht]])/(lammering[[#This Row],[Verkoop-datum]]-lammering[[#This Row],[Speen-datum]]))","v":""},{"$f":"IF(lammering[[#This Row],[Verkoop-datum]]=\"\",\"\",(lammering[[#This Row],[Verkoop-gewicht]]-lammering[[#This Row],[geboorte-gewicht]])/(lammering[[#This Row],[Verkoop-datum]]-lammering[[#This Row],[Werp-datum]]))","v":""},"","","","","","",{"$f":"IF(lammering[[#This Row],[Verkoop-gewicht]]=\"\",\"\",lammering[[#This Row],[Verkoop-gewicht]]-lammering[[#This Row],[geboorte-gewicht]])","v":""},"","",{"$f":"Opzoek_ooi[[#This Row],[Ooinummer]]","v":0},"",""]
[{"$f":"lammering[[#This Row],[Ooi]]","v":0},0,0,{"$f":"IF(lammering[[#This Row],[Lam-nummer]]=\"\",0,1)","v":0},{"$f":"IF(lammering[[#This Row],[Dood in geboorte]]=\"ja\",1,0)","v":0},{"$f":"IF(lammering[[#This Row],[Ooi]]=\"\",0,IF(Berekeningen!E126=0,1,0))","v":0},{"$f":"IF(D126=0,0,IF(lammering[[#This Row],[Dood in geboorte]]=\"Ja\",0,IF(lammering[[#This Row],[Dood na geboorte]]=\"ja\",0,1)))","v":0},{"$f":"IF(lammering[[#This Row],[Opfok met kunstmelk]]=\"Ja\",1,0)","v":0},{"$f":"IF(lammering[[#This Row],[geslacht]]=\"O\",1,0)","v":0},{"$f":"IF(lammering[[#This Row],[Speen-datum]]=\"\",\"\",(lammering[[#This Row],[Speen-gewicht]]-lammering[[#This Row],[geboorte-gewicht]])/(lammering[[#This Row],[Speen-datum]]-lammering[[#This Row],[Werp-datum]]))","v":""},{"$f":"IF(lammering[[#This Row],[Verkoop-datum]]=\"\",\"\",(lammering[[#This Row],[Verkoop-gewicht]]-lammering[[#This Row],[Speen-gewicht]])/(lammering[[#This Row],[Verkoop-datum]]-lammering[[#This Row],[Speen-datum]]))","v":""},{"$f":"IF(lammering[[#This Row],[Verkoop-datum]]=\"\",\"\",(lammering[[#This Row],[Verkoop-gewicht]]-lammering[[#This Row],[geboorte-gewicht]])/(lammering[[#This Row],[Verkoop-datum]]-lammering[[#This Row],[Werp-datum]]))","v":""},"","","","","","",{"$f":"IF(lammering[[#This Row],[Verkoop-gewicht]]=\"\",\"\",lammering[[#This Row],[Verkoop-gewicht]]-lammering[[#This Row],[geboorte-gewicht]])","v":""},"","",{"$f":"Opzoek_ooi[[#This Row],[Ooinummer]]","v":0},"",""]
[{"$f":"lammering[[#This Row],[Ooi]]","v":0},0,0,{"$f":"IF(lammering[[#This Row],[Lam-nummer]]=\"\",0,1)","v":0},{"$f":"IF(lammering[[#This Row],[Dood in geboorte]]=\"ja\",1,0)","v":0},{"$f":"IF(lammering[[#This Row],[Ooi]]=\"\",0,IF(Berekeningen!E127=0,1,0))","v":0},{"$f":"IF(D127=0,0,IF(lammering[[#This Row],[Dood in geboorte]]=\"Ja\",0,IF(lammering[[#This Row],[Dood na geboorte]]=\"ja\",0,1)))","v":0},{"$f":"IF(lammering[[#This Row],[Opfok met kunstmelk]]=\"Ja\",1,0)","v":0},{"$f":"IF(lammering[[#This Row],[geslacht]]=\"O\",1,0)","v":0},{"$f":"IF(lammering[[#This Row],[Speen-datum]]=\"\",\"\",(lammering[[#This Row],[Speen-gewicht]]-lammering[[#This Row],[geboorte-gewicht]])/(lammering[[#This Row],[Speen-datum]]-lammering[[#This Row],[Werp-datum]]))","v":""},{"$f":"IF(lammering[[#This Row],[Verkoop-datum]]=\"\",\"\",(lammering[[#This Row],[Verkoop-gewicht]]-lammering[[#This Row],[Speen-gewicht]])/(lammering[[#This Row],[Verkoop-datum]]-lammering[[#This Row],[Speen-datum]]))","v":""},{"$f":"IF(lammering[[#This Row],[Verkoop-datum]]=\"\",\"\",(lammering[[#This Row],[Verkoop-gewicht]]-lammering[[#This Row],[geboorte-gewicht]])/(lammering[[#This Row],[Verkoop-datum]]-lammering[[#This Row],[Werp-datum]]))","v":""},"","","","","","",{"$f":"IF(lammering[[#This Row],[Verkoop-gewicht]]=\"\",\"\",lammering[[#This Row],[Verkoop-gewicht]]-lammering[[#This Row],[geboorte-gewicht]])","v":""},"","",{"$f":"Opzoek_ooi[[#This Row],[Ooinummer]]","v":0},"",""]
[{"$f":"lammering[[#This Row],[Ooi]]","v":0},0,0,{"$f":"IF(lammering[[#This Row],[Lam-nummer]]=\"\",0,1)","v":0},{"$f":"IF(lammering[[#This Row],[Dood in geboorte]]=\"ja\",1,0)","v":0},{"$f":"IF(lammering[[#This Row],[Ooi]]=\"\",0,IF(Berekeningen!E128=0,1,0))","v":0},{"$f":"IF(D128=0,0,IF(lammering[[#This Row],[Dood in geboorte]]=\"Ja\",0,IF(lammering[[#This Row],[Dood na geboorte]]=\"ja\",0,1)))","v":0},{"$f":"IF(lammering[[#This Row],[Opfok met kunstmelk]]=\"Ja\",1,0)","v":0},{"$f":"IF(lammering[[#This Row],[geslacht]]=\"O\",1,0)","v":0},{"$f":"IF(lammering[[#This Row],[Speen-datum]]=\"\",\"\",(lammering[[#This Row],[Speen-gewicht]]-lammering[[#This Row],[geboorte-gewicht]])/(lammering[[#This Row],[Speen-datum]]-lammering[[#This Row],[Werp-datum]]))","v":""},{"$f":"IF(lammering[[#This Row],[Verkoop-datum]]=\"\",\"\",(lammering[[#This Row],[Verkoop-gewicht]]-lammering[[#This Row],[Speen-gewicht]])/(lammering[[#This Row],[Verkoop-datum]]-lammering[[#This Row],[Speen-datum]]))","v":""},{"$f":"IF(lammering[[#This Row],[Verkoop-datum]]=\"\",\"\",(lammering[[#This Row],[Verkoop-gewicht]]-lammering[[#This Row],[geboorte-gewicht]])/(lammering[[#This Row],[Verkoop-datum]]-lammering[[#This Row],[Werp-datum]]))","v":""},"","","","","","",{"$f":"IF(lammering[[#This Row],[Verkoop-gewicht]]=\"\",\"\",lammering[[#This Row],[Verkoop-gewicht]]-lammering[[#This Row],[geboorte-gewicht]])","v":""},"","",{"$f":"Opzoek_ooi[[#This Row],[Ooinummer]]","v":0},"",""]
[{"$f":"lammering[[#This Row],[Ooi]]","v":0},0,0,{"$f":"IF(lammering[[#This Row],[Lam-nummer]]=\"\",0,1)","v":0},{"$f":"IF(lammering[[#This Row],[Dood in geboorte]]=\"ja\",1,0)","v":0},{"$f":"IF(lammering[[#This Row],[Ooi]]=\"\",0,IF(Berekeningen!E129=0,1,0))","v":0},{"$f":"IF(D129=0,0,IF(lammering[[#This Row],[Dood in geboorte]]=\"Ja\",0,IF(lammering[[#This Row],[Dood na geboorte]]=\"ja\",0,1)))","v":0},{"$f":"IF(lammering[[#This Row],[Opfok met kunstmelk]]=\"Ja\",1,0)","v":0},{"$f":"IF(lammering[[#This Row],[geslacht]]=\"O\",1,0)","v":0},{"$f":"IF(lammering[[#This Row],[Speen-datum]]=\"\",\"\",(lammering[[#This Row],[Speen-gewicht]]-lammering[[#This Row],[geboorte-gewicht]])/(lammering[[#This Row],[Speen-datum]]-lammering[[#This Row],[Werp-datum]]))","v":""},{"$f":"IF(lammering[[#This Row],[Verkoop-datum]]=\"\",\"\",(lammering[[#This Row],[Verkoop-gewicht]]-lammering[[#This Row],[Speen-gewicht]])/(lammering[[#This Row],[Verkoop-datum]]-lammering[[#This Row],[Speen-datum]]))","v":""},{"$f":"IF(lammering[[#This Row],[Verkoop-datum]]=\"\",\"\",(lammering[[#This Row],[Verkoop-gewicht]]-lammering[[#This Row],[geboorte-gewicht]])/(lammering[[#This Row],[Verkoop-datum]]-lammering[[#This Row],[Werp-datum]]))","v":""},"","","","","","",{"$f":"IF(lammering[[#This Row],[Verkoop-gewicht]]=\"\",\"\",lammering[[#This Row],[Verkoop-gewicht]]-lammering[[#This Row],[geboorte-gewicht]])","v":""},"","",{"$f":"Opzoek_ooi[[#This Row],[Ooinummer]]","v":0},"",""]
[{"$f":"lammering[[#This Row],[Ooi]]","v":0},0,0,{"$f":"IF(lammering[[#This Row],[Lam-nummer]]=\"\",0,1)","v":0},{"$f":"IF(lammering[[#This Row],[Dood in geboorte]]=\"ja\",1,0)","v":0},{"$f":"IF(lammering[[#This Row],[Ooi]]=\"\",0,IF(Berekeningen!E130=0,1,0))","v":0},{"$f":"IF(D130=0,0,IF(lammering[[#This Row],[Dood in geboorte]]=\"Ja\",0,IF(lammering[[#This Row],[Dood na geboorte]]=\"ja\",0,1)))","v":0},{"$f":"IF(lammering[[#This Row],[Opfok met kunstmelk]]=\"Ja\",1,0)","v":0},{"$f":"IF(lammering[[#This Row],[geslacht]]=\"O\",1,0)","v":0},{"$f":"IF(lammering[[#This Row],[Speen-datum]]=\"\",\"\",(lammering[[#This Row],[Speen-gewicht]]-lammering[[#This Row],[geboorte-gewicht]])/(lammering[[#This Row],[Speen-datum]]-lammering[[#This Row],[Werp-datum]]))","v":""},{"$f":"IF(lammering[[#This Row],[Verkoop-datum]]=\"\",\"\",(lammering[[#This Row],[Verkoop-gewicht]]-lammering[[#This Row],[Speen-gewicht]])/(lammering[[#This Row],[Verkoop-datum]]-lammering[[#This Row],[Speen-datum]]))","v":""},{"$f":"IF(lammering[[#This Row],[Verkoop-datum]]=\"\",\"\",(lammering[[#This Row],[Verkoop-gewicht]]-lammering[[#This Row],[geboorte-gewicht]])/(lammering[[#This Row],[Verkoop-datum]]-lammering[[#This Row],[Werp-datum]]))","v":""},"","","","","","",{"$f":"IF(lammering[[#This Row],[Verkoop-gewicht]]=\"\",\"\",lammering[[#This Row],[Verkoop-gewicht]]-lammering[[#This Row],[geboorte-gewicht]])","v":""},"","",{"$f":"Opzoek_ooi[[#This Row],[Ooinummer]]","v":0},"",""]
[{"$f":"lammering[[#This Row],[Ooi]]","v":0},{"$f":"IF(A131=0,0,IF(A131=A130,0,1))","v":0},{"$f":"IF(B131=1,A131,0)","v":0},{"$f":"IF(lammering[[#This Row],[Lam-nummer]]=\"\",0,1)","v":0},{"$f":"IF(lammering[[#This Row],[Dood in geboorte]]=\"ja\",1,0)","v":0},{"$f":"IF(lammering[[#This Row],[Ooi]]=\"\",0,IF(Berekeningen!E131=0,1,0))","v":0},{"$f":"IF(D131=0,0,IF(lammering[[#This Row],[Dood in geboorte]]=\"Ja\",0,IF(lammering[[#This Row],[Dood na geboorte]]=\"ja\",0,1)))","v":0},{"$f":"IF(lammering[[#This Row],[Opfok met kunstmelk]]=\"Ja\",1,0)","v":0},{"$f":"IF(lammering[[#This Row],[geslacht]]=\"O\",1,0)","v":0},{"$f":"IF(lammering[[#This Row],[Speen-datum]]=\"\",\"\",(lammering[[#This Row],[Speen-gewicht]]-lammering[[#This Row],[geboorte-gewicht]])/(lammering[[#This Row],[Speen-datum]]-lammering[[#This Row],[Werp-datum]]))","v":""},{"$f":"IF(lammering[[#This Row],[Verkoop-datum]]=\"\",\"\",(lammering[[#This Row],[Verkoop-gewicht]]-lammering[[#This Row],[Speen-gewicht]])/(lammering[[#This Row],[Verkoop-datum]]-lammering[[#This Row],[Speen-datum]]))","v":""},{"$f":"IF(lammering[[#This Row],[Verkoop-datum]]=\"\",\"\",(lammering[[#This Row],[Verkoop-gewicht]]-lammering[[#This Row],[geboorte-gewicht]])/(lammering[[#This Row],[Verkoop-datum]]-lammering[[#This Row],[Werp-datum]]))","v":""},"","","","","","",{"$f":"IF(lammering[[#This Row],[Verkoop-gewicht]]=\"\",\"\",lammering[[#This Row],[Verkoop-gewicht]]-lammering[[#This Row],[geboorte-gewicht]])","v":""},"","",{"$f":"Opzoek_ooi[[#This Row],[Ooinummer]]","v":0},"",{"$f":"IF(W131>0,W131,\"\")","v":""}]
[{"$f":"lammering[[#This Row],[Ooi]]","v":0},0,0,{"$f":"IF(lammering[[#This Row],[Lam-nummer]]=\"\",0,1)","v":0},{"$f":"IF(lammering[[#This Row],[Dood in geboorte]]=\"ja\",1,0)","v":0},{"$f":"IF(lammering[[#This Row],[Ooi]]=\"\",0,IF(Berekeningen!E132=0,1,0))","v":0},{"$f":"IF(D132=0,0,IF(lammering[[#This Row],[Dood in geboorte]]=\"Ja\",0,IF(lammering[[#This Row],[Dood na geboorte]]=\"ja\",0,1)))","v":0},{"$f":"IF(lammering[[#This Row],[Opfok met kunstmelk]]=\"Ja\",1,0)","v":0},{"$f":"IF(lammering[[#This Row],[geslacht]]=\"O\",1,0)","v":0},{"$f":"IF(lammering[[#This Row],[Speen-datum]]=\"\",\"\",(lammering[[#This Row],[Speen-gewicht]]-lammering[[#This Row],[geboorte-gewicht]])/(lammering[[#This Row],[Speen-datum]]-lammering[[#This Row],[Werp-datum]]))","v":""},{"$f":"IF(lammering[[#This Row],[Verkoop-datum]]=\"\",\"\",(lammering[[#This Row],[Verkoop-gewicht]]-lammering[[#This Row],[Speen-gewicht]])/(lammering[[#This Row],[Verkoop-datum]]-lammering[[#This Row],[Speen-datum]]))","v":""},{"$f":"IF(lammering[[#This Row],[Verkoop-datum]]=\"\",\"\",(lammering[[#This Row],[Verkoop-gewicht]]-lammering[[#This Row],[geboorte-gewicht]])/(lammering[[#This Row],[Verkoop-datum]]-lammering[[#This Row],[Werp-datum]]))","v":""},"","","","","","",{"$f":"IF(lammering[[#This Row],[Verkoop-gewicht]]=\"\",\"\",lammering[[#This Row],[Verkoop-gewicht]]-lammering[[#This Row],[geboorte-gewicht]])","v":""},"","",{"$f":"Opzoek_ooi[[#This Row],[Ooinummer]]","v":0},"",""]
[{"$f":"lammering[[#This Row],[Ooi]]","v":0},0,0,{"$f":"IF(lammering[[#This Row],[Lam-nummer]]=\"\",0,1)","v":0},{"$f":"IF(lammering[[#This Row],[Dood in geboorte]]=\"ja\",1,0)","v":0},{"$f":"IF(lammering[[#This Row],[Ooi]]=\"\",0,IF(Berekeningen!E133=0,1,0))","v":0},{"$f":"IF(D133=0,0,IF(lammering[[#This Row],[Dood in geboorte]]=\"Ja\",0,IF(lammering[[#This Row],[Dood na geboorte]]=\"ja\",0,1)))","v":0},{"$f":"IF(lammering[[#This Row],[Opfok met kunstmelk]]=\"Ja\",1,0)","v":0},{"$f":"IF(lammering[[#This Row],[geslacht]]=\"O\",1,0)","v":0},{"$f":"IF(lammering[[#This Row],[Speen-datum]]=\"\",\"\",(lammering[[#This Row],[Speen-gewicht]]-lammering[[#This Row],[geboorte-gewicht]])/(lammering[[#This Row],[Speen-datum]]-lammering[[#This Row],[Werp-datum]]))","v":""},{"$f":"IF(lammering[[#This Row],[Verkoop-datum]]=\"\",\"\",(lammering[[#This Row],[Verkoop-gewicht]]-lammering[[#This Row],[Speen-gewicht]])/(lammering[[#This Row],[Verkoop-datum]]-lammering[[#This Row],[Speen-datum]]))","v":""},{"$f":"IF(lammering[[#This Row],[Verkoop-datum]]=\"\",\"\",(lammering[[#This Row],[Verkoop-gewicht]]-lammering[[#This Row],[geboorte-gewicht]])/(lammering[[#This Row],[Verkoop-datum]]-lammering[[#This Row],[Werp-datum]]))","v":""},"","","","","","",{"$f":"IF(lammering[[#This Row],[Verkoop-gewicht]]=\"\",\"\",lammering[[#This Row],[Verkoop-gewicht]]-lammering[[#This Row],[geboorte-gewicht]])","v":""},"","",{"$f":"Opzoek_ooi[[#This Row],[Ooinummer]]","v":0},"",""]
[{"$f":"lammering[[#This Row],[Ooi]]","v":0},0,0,{"$f":"IF(lammering[[#This Row],[Lam-nummer]]=\"\",0,1)","v":0},{"$f":"IF(lammering[[#This Row],[Dood in geboorte]]=\"ja\",1,0)","v":0},{"$f":"IF(lammering[[#This Row],[Ooi]]=\"\",0,IF(Berekeningen!E134=0,1,0))","v":0},{"$f":"IF(D134=0,0,IF(lammering[[#This Row],[Dood in geboorte]]=\"Ja\",0,IF(lammering[[#This Row],[Dood na geboorte]]=\"ja\",0,1)))","v":0},{"$f":"IF(lammering[[#This Row],[Opfok met kunstmelk]]=\"Ja\",1,0)","v":0},{"$f":"IF(lammering[[#This Row],[geslacht]]=\"O\",1,0)","v":0},{"$f":"IF(lammering[[#This Row],[Speen-datum]]=\"\",\"\",(lammering[[#This Row],[Speen-gewicht]]-lammering[[#This Row],[geboorte-gewicht]])/(lammering[[#This Row],[Speen-datum]]-lammering[[#This Row],[Werp-datum]]))","v":""},{"$f":"IF(lammering[[#This Row],[Verkoop-datum]]=\"\",\"\",(lammering[[#This Row],[Verkoop-gewicht]]-lammering[[#This Row],[Speen-gewicht]])/(lammering[[#This Row],[Verkoop-datum]]-lammering[[#This Row],[Speen-datum]]))","v":""},{"$f":"IF(lammering[[#This Row],[Verkoop-datum]]=\"\",\"\",(lammering[[#This Row],[Verkoop-gewicht]]-lammering[[#This Row],[geboorte-gewicht]])/(lammering[[#This Row],[Verkoop-datum]]-lammering[[#This Row],[Werp-datum]]))","v":""},"","","","","","",{"$f":"IF(lammering[[#This Row],[Verkoop-gewicht]]=\"\",\"\",lammering[[#This Row],[Verkoop-gewicht]]-lammering[[#This Row],[geboorte-gewicht]])","v":""},"","",{"$f":"Opzoek_ooi[[#This Row],[Ooinummer]]","v":0},"",""]
[{"$f":"lammering[[#This Row],[Ooi]]","v":0},0,0,{"$f":"IF(lammering[[#This Row],[Lam-nummer]]=\"\",0,1)","v":0},{"$f":"IF(lammering[[#This Row],[Dood in geboorte]]=\"ja\",1,0)","v":0},{"$f":"IF(lammering[[#This Row],[Ooi]]=\"\",0,IF(Berekeningen!E135=0,1,0))","v":0},{"$f":"IF(D135=0,0,IF(lammering[[#This Row],[Dood in geboorte]]=\"Ja\",0,IF(lammering[[#This Row],[Dood na geboorte]]=\"ja\",0,1)))","v":0},{"$f":"IF(lammering[[#This Row],[Opfok met kunstmelk]]=\"Ja\",1,0)","v":0},{"$f":"IF(lammering[[#This Row],[geslacht]]=\"O\",1,0)","v":0},{"$f":"IF(lammering[[#This Row],[Speen-datum]]=\"\",\"\",(lammering[[#This Row],[Speen-gewicht]]-lammering[[#This Row],[geboorte-gewicht]])/(lammering[[#This Row],[Speen-datum]]-lammering[[#This Row],[Werp-datum]]))","v":""},{"$f":"IF(lammering[[#This Row],[Verkoop-datum]]=\"\",\"\",(lammering[[#This Row],[Verkoop-gewicht]]-lammering[[#This Row],[Speen-gewicht]])/(lammering[[#This Row],[Verkoop-datum]]-lammering[[#This Row],[Speen-datum]]))","v":""},{"$f":"IF(lammering[[#This Row],[Verkoop-datum]]=\"\",\"\",(lammering[[#This Row],[Verkoop-gewicht]]-lammering[[#This Row],[geboorte-gewicht]])/(lammering[[#This Row],[Verkoop-datum]]-lammering[[#This Row],[Werp-datum]]))","v":""},"","","","","","",{"$f":"IF(lammering[[#This Row],[Verkoop-gewicht]]=\"\",\"\",lammering[[#This Row],[Verkoop-gewicht]]-lammering[[#This Row],[geboorte-gewicht]])","v":""},"","",{"$f":"Opzoek_ooi[[#This Row],[Ooinummer]]","v":0},"",""]
[{"$f":"lammering[[#This Row],[Ooi]]","v":0},0,0,{"$f":"IF(lammering[[#This Row],[Lam-nummer]]=\"\",0,1)","v":0},{"$f":"IF(lammering[[#This Row],[Dood in geboorte]]=\"ja\",1,0)","v":0},{"$f":"IF(lammering[[#This Row],[Ooi]]=\"\",0,IF(Berekeningen!E136=0,1,0))","v":0},{"$f":"IF(D136=0,0,IF(lammering[[#This Row],[Dood in geboorte]]=\"Ja\",0,IF(lammering[[#This Row],[Dood na geboorte]]=\"ja\",0,1)))","v":0},{"$f":"IF(lammering[[#This Row],[Opfok met kunstmelk]]=\"Ja\",1,0)","v":0},{"$f":"IF(lammering[[#This Row],[geslacht]]=\"O\",1,0)","v":0},{"$f":"IF(lammering[[#This Row],[Speen-datum]]=\"\",\"\",(lammering[[#This Row],[Speen-gewicht]]-lammering[[#This Row],[geboorte-gewicht]])/(lammering[[#This Row],[Speen-datum]]-lammering[[#This Row],[Werp-datum]]))","v":""},{"$f":"IF(lammering[[#This Row],[Verkoop-datum]]=\"\",\"\",(lammering[[#This Row],[Verkoop-gewicht]]-lammering[[#This Row],[Speen-gewicht]])/(lammering[[#This Row],[Verkoop-datum]]-lammering[[#This Row],[Speen-datum]]))","v":""},{"$f":"IF(lammering[[#This Row],[Verkoop-datum]]=\"\",\"\",(lammering[[#This Row],[Verkoop-gewicht]]-lammering[[#This Row],[geboorte-gewicht]])/(lammering[[#This Row],[Verkoop-datum]]-lammering[[#This Row],[Werp-datum]]))","v":""},"","","","","","",{"$f":"IF(lammering[[#This Row],[Verkoop-gewicht]]=\"\",\"\",lammering[[#This Row],[Verkoop-gewicht]]-lammering[[#This Row],[geboorte-gewicht]])","v":""},"","",{"$f":"Opzoek_ooi[[#This Row],[Ooinummer]]","v":0},"",""]
[{"$f":"lammering[[#This Row],[Ooi]]","v":0},0,0,{"$f":"IF(lammering[[#This Row],[Lam-nummer]]=\"\",0,1)","v":0},{"$f":"IF(lammering[[#This Row],[Dood in geboorte]]=\"ja\",1,0)","v":0},{"$f":"IF(lammering[[#This Row],[Ooi]]=\"\",0,IF(Berekeningen!E137=0,1,0))","v":0},{"$f":"IF(D137=0,0,IF(lammering[[#This Row],[Dood in geboorte]]=\"Ja\",0,IF(lammering[[#This Row],[Dood na geboorte]]=\"ja\",0,1)))","v":0},{"$f":"IF(lammering[[#This Row],[Opfok met kunstmelk]]=\"Ja\",1,0)","v":0},{"$f":"IF(lammering[[#This Row],[geslacht]]=\"O\",1,0)","v":0},{"$f":"IF(lammering[[#This Row],[Speen-datum]]=\"\",\"\",(lammering[[#This Row],[Speen-gewicht]]-lammering[[#This Row],[geboorte-gewicht]])/(lammering[[#This Row],[Speen-datum]]-lammering[[#This Row],[Werp-datum]]))","v":""},{"$f":"IF(lammering[[#This Row],[Verkoop-datum]]=\"\",\"\",(lammering[[#This Row],[Verkoop-gewicht]]-lammering[[#This Row],[Speen-gewicht]])/(lammering[[#This Row],[Verkoop-datum]]-lammering[[#This Row],[Speen-datum]]))","v":""},{"$f":"IF(lammering[[#This Row],[Verkoop-datum]]=\"\",\"\",(lammering[[#This Row],[Verkoop-gewicht]]-lammering[[#This Row],[geboorte-gewicht]])/(lammering[[#This Row],[Verkoop-datum]]-lammering[[#This Row],[Werp-datum]]))","v":""},"","","","","","",{"$f":"IF(lammering[[#This Row],[Verkoop-gewicht]]=\"\",\"\",lammering[[#This Row],[Verkoop-gewicht]]-lammering[[#This Row],[geboorte-gewicht]])","v":""},"","",{"$f":"Opzoek_ooi[[#This Row],[Ooinummer]]","v":0},"",""]
[{"$f":"lammering[[#This Row],[Ooi]]","v":0},0,0,{"$f":"IF(lammering[[#This Row],[Lam-nummer]]=\"\",0,1)","v":0},{"$f":"IF(lammering[[#This Row],[Dood in geboorte]]=\"ja\",1,0)","v":0},{"$f":"IF(lammering[[#This Row],[Ooi]]=\"\",0,IF(Berekeningen!E138=0,1,0))","v":0},{"$f":"IF(D138=0,0,IF(lammering[[#This Row],[Dood in geboorte]]=\"Ja\",0,IF(lammering[[#This Row],[Dood na geboorte]]=\"ja\",0,1)))","v":0},{"$f":"IF(lammering[[#This Row],[Opfok met kunstmelk]]=\"Ja\",1,0)","v":0},{"$f":"IF(lammering[[#This Row],[geslacht]]=\"O\",1,0)","v":0},{"$f":"IF(lammering[[#This Row],[Speen-datum]]=\"\",\"\",(lammering[[#This Row],[Speen-gewicht]]-lammering[[#This Row],[geboorte-gewicht]])/(lammering[[#This Row],[Speen-datum]]-lammering[[#This Row],[Werp-datum]]))","v":""},{"$f":"IF(lammering[[#This Row],[Verkoop-datum]]=\"\",\"\",(lammering[[#This Row],[Verkoop-gewicht]]-lammering[[#This Row],[Speen-gewicht]])/(lammering[[#This Row],[Verkoop-datum]]-lammering[[#This Row],[Speen-datum]]))","v":""},{"$f":"IF(lammering[[#This Row],[Verkoop-datum]]=\"\",\"\",(lammering[[#This Row],[Verkoop-gewicht]]-lammering[[#This Row],[geboorte-gewicht]])/(lammering[[#This Row],[Verkoop-datum]]-lammering[[#This Row],[Werp-datum]]))","v":""},"","","","","","",{"$f":"IF(lammering[[#This Row],[Verkoop-gewicht]]=\"\",\"\",lammering[[#This Row],[Verkoop-gewicht]]-lammering[[#This Row],[geboorte-gewicht]])","v":""},"","",{"$f":"Opzoek_ooi[[#This Row],[Ooinummer]]","v":0},"",""]
[{"$f":"lammering[[#This Row],[Ooi]]","v":0},0,0,{"$f":"IF(lammering[[#This Row],[Lam-nummer]]=\"\",0,1)","v":0},{"$f":"IF(lammering[[#This Row],[Dood in geboorte]]=\"ja\",1,0)","v":0},{"$f":"IF(lammering[[#This Row],[Ooi]]=\"\",0,IF(Berekeningen!E139=0,1,0))","v":0},{"$f":"IF(D139=0,0,IF(lammering[[#This Row],[Dood in geboorte]]=\"Ja\",0,IF(lammering[[#This Row],[Dood na geboorte]]=\"ja\",0,1)))","v":0},{"$f":"IF(lammering[[#This Row],[Opfok met kunstmelk]]=\"Ja\",1,0)","v":0},{"$f":"IF(lammering[[#This Row],[geslacht]]=\"O\",1,0)","v":0},{"$f":"IF(lammering[[#This Row],[Speen-datum]]=\"\",\"\",(lammering[[#This Row],[Speen-gewicht]]-lammering[[#This Row],[geboorte-gewicht]])/(lammering[[#This Row],[Speen-datum]]-lammering[[#This Row],[Werp-datum]]))","v":""},{"$f":"IF(lammering[[#This Row],[Verkoop-datum]]=\"\",\"\",(lammering[[#This Row],[Verkoop-gewicht]]-lammering[[#This Row],[Speen-gewicht]])/(lammering[[#This Row],[Verkoop-datum]]-lammering[[#This Row],[Speen-datum]]))","v":""},{"$f":"IF(lammering[[#This Row],[Verkoop-datum]]=\"\",\"\",(lammering[[#This Row],[Verkoop-gewicht]]-lammering[[#This Row],[geboorte-gewicht]])/(lammering[[#This Row],[Verkoop-datum]]-lammering[[#This Row],[Werp-datum]]))","v":""},"","","","","","",{"$f":"IF(lammering[[#This Row],[Verkoop-gewicht]]=\"\",\"\",lammering[[#This Row],[Verkoop-gewicht]]-lammering[[#This Row],[geboorte-gewicht]])","v":""},"","",{"$f":"Opzoek_ooi[[#This Row],[Ooinummer]]","v":0},"",""]
[{"$f":"lammering[[#This Row],[Ooi]]","v":0},0,0,{"$f":"IF(lammering[[#This Row],[Lam-nummer]]=\"\",0,1)","v":0},{"$f":"IF(lammering[[#This Row],[Dood in geboorte]]=\"ja\",1,0)","v":0},{"$f":"IF(lammering[[#This Row],[Ooi]]=\"\",0,IF(Berekeningen!E140=0,1,0))","v":0},{"$f":"IF(D140=0,0,IF(lammering[[#This Row],[Dood in geboorte]]=\"Ja\",0,IF(lammering[[#This Row],[Dood na geboorte]]=\"ja\",0,1)))","v":0},{"$f":"IF(lammering[[#This Row],[Opfok met kunstmelk]]=\"Ja\",1,0)","v":0},{"$f":"IF(lammering[[#This Row],[geslacht]]=\"O\",1,0)","v":0},{"$f":"IF(lammering[[#This Row],[Speen-datum]]=\"\",\"\",(lammering[[#This Row],[Speen-gewicht]]-lammering[[#This Row],[geboorte-gewicht]])/(lammering[[#This Row],[Speen-datum]]-lammering[[#This Row],[Werp-datum]]))","v":""},{"$f":"IF(lammering[[#This Row],[Verkoop-datum]]=\"\",\"\",(lammering[[#This Row],[Verkoop-gewicht]]-lammering[[#This Row],[Speen-gewicht]])/(lammering[[#This Row],[Verkoop-datum]]-lammering[[#This Row],[Speen-datum]]))","v":""},{"$f":"IF(lammering[[#This Row],[Verkoop-datum]]=\"\",\"\",(lammering[[#This Row],[Verkoop-gewicht]]-lammering[[#This Row],[geboorte-gewicht]])/(lammering[[#This Row],[Verkoop-datum]]-lammering[[#This Row],[Werp-datum]]))","v":""},"","","","","","",{"$f":"IF(lammering[[#This Row],[Verkoop-gewicht]]=\"\",\"\",lammering[[#This Row],[Verkoop-gewicht]]-lammering[[#This Row],[geboorte-gewicht]])","v":""},"","",{"$f":"Opzoek_ooi[[#This Row],[Ooinummer]]","v":0},"",""]
[{"$f":"lammering[[#This Row],[Ooi]]","v":0},0,0,{"$f":"IF(lammering[[#This Row],[Lam-nummer]]=\"\",0,1)","v":0},{"$f":"IF(lammering[[#This Row],[Dood in geboorte]]=\"ja\",1,0)","v":0},{"$f":"IF(lammering[[#This Row],[Ooi]]=\"\",0,IF(Berekeningen!E141=0,1,0))","v":0},{"$f":"IF(D141=0,0,IF(lammering[[#This Row],[Dood in geboorte]]=\"Ja\",0,IF(lammering[[#This Row],[Dood na geboorte]]=\"ja\",0,1)))","v":0},{"$f":"IF(lammering[[#This Row],[Opfok met kunstmelk]]=\"Ja\",1,0)","v":0},{"$f":"IF(lammering[[#This Row],[geslacht]]=\"O\",1,0)","v":0},{"$f":"IF(lammering[[#This Row],[Speen-datum]]=\"\",\"\",(lammering[[#This Row],[Speen-gewicht]]-lammering[[#This Row],[geboorte-gewicht]])/(lammering[[#This Row],[Speen-datum]]-lammering[[#This Row],[Werp-datum]]))","v":""},{"$f":"IF(lammering[[#This Row],[Verkoop-datum]]=\"\",\"\",(lammering[[#This Row],[Verkoop-gewicht]]-lammering[[#This Row],[Speen-gewicht]])/(lammering[[#This Row],[Verkoop-datum]]-lammering[[#This Row],[Speen-datum]]))","v":""},{"$f":"IF(lammering[[#This Row],[Verkoop-datum]]=\"\",\"\",(lammering[[#This Row],[Verkoop-gewicht]]-lammering[[#This Row],[geboorte-gewicht]])/(lammering[[#This Row],[Verkoop-datum]]-lammering[[#This Row],[Werp-datum]]))","v":""},"","","","","","",{"$f":"IF(lammering[[#This Row],[Verkoop-gewicht]]=\"\",\"\",lammering[[#This Row],[Verkoop-gewicht]]-lammering[[#This Row],[geboorte-gewicht]])","v":""},"","",{"$f":"Opzoek_ooi[[#This Row],[Ooinummer]]","v":0},"",""]
[{"$f":"lammering[[#This Row],[Ooi]]","v":0},0,0,{"$f":"IF(lammering[[#This Row],[Lam-nummer]]=\"\",0,1)","v":0},{"$f":"IF(lammering[[#This Row],[Dood in geboorte]]=\"ja\",1,0)","v":0},{"$f":"IF(lammering[[#This Row],[Ooi]]=\"\",0,IF(Berekeningen!E142=0,1,0))","v":0},{"$f":"IF(D142=0,0,IF(lammering[[#This Row],[Dood in geboorte]]=\"Ja\",0,IF(lammering[[#This Row],[Dood na geboorte]]=\"ja\",0,1)))","v":0},{"$f":"IF(lammering[[#This Row],[Opfok met kunstmelk]]=\"Ja\",1,0)","v":0},{"$f":"IF(lammering[[#This Row],[geslacht]]=\"O\",1,0)","v":0},{"$f":"IF(lammering[[#This Row],[Speen-datum]]=\"\",\"\",(lammering[[#This Row],[Speen-gewicht]]-lammering[[#This Row],[geboorte-gewicht]])/(lammering[[#This Row],[Speen-datum]]-lammering[[#This Row],[Werp-datum]]))","v":""},{"$f":"IF(lammering[[#This Row],[Verkoop-datum]]=\"\",\"\",(lammering[[#This Row],[Verkoop-gewicht]]-lammering[[#This Row],[Speen-gewicht]])/(lammering[[#This Row],[Verkoop-datum]]-lammering[[#This Row],[Speen-datum]]))","v":""},{"$f":"IF(lammering[[#This Row],[Verkoop-datum]]=\"\",\"\",(lammering[[#This Row],[Verkoop-gewicht]]-lammering[[#This Row],[geboorte-gewicht]])/(lammering[[#This Row],[Verkoop-datum]]-lammering[[#This Row],[Werp-datum]]))","v":""},"","","","","","",{"$f":"IF(lammering[[#This Row],[Verkoop-gewicht]]=\"\",\"\",lammering[[#This Row],[Verkoop-gewicht]]-lammering[[#This Row],[geboorte-gewicht]])","v":""},"","",{"$f":"Opzoek_ooi[[#This Row],[Ooinummer]]","v":0},"",""]
[{"$f":"lammering[[#This Row],[Ooi]]","v":0},0,0,{"$f":"IF(lammering[[#This Row],[Lam-nummer]]=\"\",0,1)","v":0},{"$f":"IF(lammering[[#This Row],[Dood in geboorte]]=\"ja\",1,0)","v":0},{"$f":"IF(lammering[[#This Row],[Ooi]]=\"\",0,IF(Berekeningen!E143=0,1,0))","v":0},{"$f":"IF(D143=0,0,IF(lammering[[#This Row],[Dood in geboorte]]=\"Ja\",0,IF(lammering[[#This Row],[Dood na geboorte]]=\"ja\",0,1)))","v":0},{"$f":"IF(lammering[[#This Row],[Opfok met kunstmelk]]=\"Ja\",1,0)","v":0},{"$f":"IF(lammering[[#This Row],[geslacht]]=\"O\",1,0)","v":0},{"$f":"IF(lammering[[#This Row],[Speen-datum]]=\"\",\"\",(lammering[[#This Row],[Speen-gewicht]]-lammering[[#This Row],[geboorte-gewicht]])/(lammering[[#This Row],[Speen-datum]]-lammering[[#This Row],[Werp-datum]]))","v":""},{"$f":"IF(lammering[[#This Row],[Verkoop-datum]]=\"\",\"\",(lammering[[#This Row],[Verkoop-gewicht]]-lammering[[#This Row],[Speen-gewicht]])/(lammering[[#This Row],[Verkoop-datum]]-lammering[[#This Row],[Speen-datum]]))","v":""},{"$f":"IF(lammering[[#This Row],[Verkoop-datum]]=\"\",\"\",(lammering[[#This Row],[Verkoop-gewicht]]-lammering[[#This Row],[geboorte-gewicht]])/(lammering[[#This Row],[Verkoop-datum]]-lammering[[#This Row],[Werp-datum]]))","v":""},{"$f":"IF($I143=1,J143,\"\")","v":""},{"$f":"IF($I143=1,K143,\"\")","v":""},{"$f":"IF($I143=1,L143,\"\")","v":""},{"$f":"IF($I143=0,J143,\"\")","v":""},{"$f":"IF($I143=0,K143,\"\")","v":""},{"$f":"IF($I143=0,L143,\"\")","v":""},{"$f":"IF(lammering[[#This Row],[Verkoop-gewicht]]=\"\",\"\",lammering[[#This Row],[Verkoop-gewicht]]-lammering[[#This Row],[geboorte-gewicht]])","v":""},{"$f":"IF(I143=1,S143,\"\")","v":""},{"$f":"IF(I143=0,S143,\"\")","v":""},{"$f":"Opzoek_ooi[[#This Row],[Ooinummer]]","v":0},"",""]
[{"$f":"lammering[[#This Row],[Ooi]]","v":0},0,0,{"$f":"IF(lammering[[#This Row],[Lam-nummer]]=\"\",0,1)","v":0},{"$f":"IF(lammering[[#This Row],[Dood in geboorte]]=\"ja\",1,0)","v":0},{"$f":"IF(lammering[[#This Row],[Ooi]]=\"\",0,IF(Berekeningen!E144=0,1,0))","v":0},{"$f":"IF(D144=0,0,IF(lammering[[#This Row],[Dood in geboorte]]=\"Ja\",0,IF(lammering[[#This Row],[Dood na geboorte]]=\"ja\",0,1)))","v":0},{"$f":"IF(lammering[[#This Row],[Opfok met kunstmelk]]=\"Ja\",1,0)","v":0},{"$f":"IF(lammering[[#This Row],[geslacht]]=\"O\",1,0)","v":0},{"$f":"IF(lammering[[#This Row],[Speen-datum]]=\"\",\"\",(lammering[[#This Row],[Speen-gewicht]]-lammering[[#This Row],[geboorte-gewicht]])/(lammering[[#This Row],[Speen-datum]]-lammering[[#This Row],[Werp-datum]]))","v":""},{"$f":"IF(lammering[[#This Row],[Verkoop-datum]]=\"\",\"\",(lammering[[#This Row],[Verkoop-gewicht]]-lammering[[#This Row],[Speen-gewicht]])/(lammering[[#This Row],[Verkoop-datum]]-lammering[[#This Row],[Speen-datum]]))","v":""},{"$f":"IF(lammering[[#This Row],[Verkoop-datum]]=\"\",\"\",(lammering[[#This Row],[Verkoop-gewicht]]-lammering[[#This Row],[geboorte-gewicht]])/(lammering[[#This Row],[Verkoop-datum]]-lammering[[#This Row],[Werp-datum]]))","v":""},"","","","","","",{"$f":"IF(lammering[[#This Row],[Verkoop-gewicht]]=\"\",\"\",lammering[[#This Row],[Verkoop-gewicht]]-lammering[[#This Row],[geboorte-gewicht]])","v":""},"","",{"$f":"Opzoek_ooi[[#This Row],[Ooinummer]]","v":0},{"$f":"IF(V144=0,\"\",COUNTIF(C$2:C$500,V144))","v":""},""]
[{"$f":"lammering[[#This Row],[Ooi]]","v":0},0,0,{"$f":"IF(lammering[[#This Row],[Lam-nummer]]=\"\",0,1)","v":0},{"$f":"IF(lammering[[#This Row],[Dood in geboorte]]=\"ja\",1,0)","v":0},{"$f":"IF(lammering[[#This Row],[Ooi]]=\"\",0,IF(Berekeningen!E145=0,1,0))","v":0},{"$f":"IF(D145=0,0,IF(lammering[[#This Row],[Dood in geboorte]]=\"Ja\",0,IF(lammering[[#This Row],[Dood na geboorte]]=\"ja\",0,1)))","v":0},{"$f":"IF(lammering[[#This Row],[Opfok met kunstmelk]]=\"Ja\",1,0)","v":0},{"$f":"IF(lammering[[#This Row],[geslacht]]=\"O\",1,0)","v":0},{"$f":"IF(lammering[[#This Row],[Speen-datum]]=\"\",\"\",(lammering[[#This Row],[Speen-gewicht]]-lammering[[#This Row],[geboorte-gewicht]])/(lammering[[#This Row],[Speen-datum]]-lammering[[#This Row],[Werp-datum]]))","v":""},{"$f":"IF(lammering[[#This Row],[Verkoop-datum]]=\"\",\"\",(lammering[[#This Row],[Verkoop-gewicht]]-lammering[[#This Row],[Speen-gewicht]])/(lammering[[#This Row],[Verkoop-datum]]-lammering[[#This Row],[Speen-datum]]))","v":""},{"$f":"IF(lammering[[#This Row],[Verkoop-datum]]=\"\",\"\",(lammering[[#This Row],[Verkoop-gewicht]]-lammering[[#This Row],[geboorte-gewicht]])/(lammering[[#This Row],[Verkoop-datum]]-lammering[[#This Row],[Werp-datum]]))","v":""},"","","","","","",{"$f":"IF(lammering[[#This Row],[Verkoop-gewicht]]=\"\",\"\",lammering[[#This Row],[Verkoop-gewicht]]-lammering[[#This Row],[geboorte-gewicht]])","v":""},"","",{"$f":"Opzoek_ooi[[#This Row],[Ooinummer]]","v":0},"",""]
[{"$f":"lammering[[#This Row],[Ooi]]","v":0},0,0,{"$f":"IF(lammering[[#This Row],[Lam-nummer]]=\"\",0,1)","v":0},{"$f":"IF(lammering[[#This Row],[Dood in geboorte]]=\"ja\",1,0)","v":0},{"$f":"IF(lammering[[#This Row],[Ooi]]=\"\",0,IF(Berekeningen!E146=0,1,0))","v":0},{"$f":"IF(D146=0,0,IF(lammering[[#This Row],[Dood in geboorte]]=\"Ja\",0,IF(lammering[[#This Row],[Dood na geboorte]]=\"ja\",0,1)))","v":0},{"$f":"IF(lammering[[#This Row],[Opfok met kunstmelk]]=\"Ja\",1,0)","v":0},{"$f":"IF(lammering[[#This Row],[geslacht]]=\"O\",1,0)","v":0},{"$f":"IF(lammering[[#This Row],[Speen-datum]]=\"\",\"\",(lammering[[#This Row],[Speen-gewicht]]-lammering[[#This Row],[geboorte-gewicht]])/(lammering[[#This Row],[Speen-datum]]-lammering[[#This Row],[Werp-datum]]))","v":""},{"$f":"IF(lammering[[#This Row],[Verkoop-datum]]=\"\",\"\",(lammering[[#This Row],[Verkoop-gewicht]]-lammering[[#This Row],[Speen-gewicht]])/(lammering[[#This Row],[Verkoop-datum]]-lammering[[#This Row],[Speen-datum]]))","v":""},{"$f":"IF(lammering[[#This Row],[Verkoop-datum]]=\"\",\"\",(lammering[[#This Row],[Verkoop-gewicht]]-lammering[[#This Row],[geboorte-gewicht]])/(lammering[[#This Row],[Verkoop-datum]]-lammering[[#This Row],[Werp-datum]]))","v":""},"","","","","","",{"$f":"IF(lammering[[#This Row],[Verkoop-gewicht]]=\"\",\"\",lammering[[#This Row],[Verkoop-gewicht]]-lammering[[#This Row],[geboorte-gewicht]])","v":""},"","",{"$f":"Opzoek_ooi[[#This Row],[Ooinummer]]","v":0},"",""]
[{"$f":"lammering[[#This Row],[Ooi]]","v":0},0,0,{"$f":"IF(lammering[[#This Row],[Lam-nummer]]=\"\",0,1)","v":0},{"$f":"IF(lammering[[#This Row],[Dood in geboorte]]=\"ja\",1,0)","v":0},{"$f":"IF(lammering[[#This Row],[Ooi]]=\"\",0,IF(Berekeningen!E147=0,1,0))","v":0},{"$f":"IF(D147=0,0,IF(lammering[[#This Row],[Dood in geboorte]]=\"Ja\",0,IF(lammering[[#This Row],[Dood na geboorte]]=\"ja\",0,1)))","v":0},{"$f":"IF(lammering[[#This Row],[Opfok met kunstmelk]]=\"Ja\",1,0)","v":0},{"$f":"IF(lammering[[#This Row],[geslacht]]=\"O\",1,0)","v":0},{"$f":"IF(lammering[[#This Row],[Speen-datum]]=\"\",\"\",(lammering[[#This Row],[Speen-gewicht]]-lammering[[#This Row],[geboorte-gewicht]])/(lammering[[#This Row],[Speen-datum]]-lammering[[#This Row],[Werp-datum]]))","v":""},{"$f":"IF(lammering[[#This Row],[Verkoop-datum]]=\"\",\"\",(lammering[[#This Row],[Verkoop-gewicht]]-lammering[[#This Row],[Speen-gewicht]])/(lammering[[#This Row],[Verkoop-datum]]-lammering[[#This Row],[Speen-datum]]))","v":""},{"$f":"IF(lammering[[#This Row],[Verkoop-datum]]=\"\",\"\",(lammering[[#This Row],[Verkoop-gewicht]]-lammering[[#This Row],[geboorte-gewicht]])/(lammering[[#This Row],[Verkoop-datum]]-lammering[[#This Row],[Werp-datum]]))","v":""},"","","","","","",{"$f":"IF(lammering[[#This Row],[Verkoop-gewicht]]=\"\",\"\",lammering[[#This Row],[Verkoop-gewicht]]-lammering[[#This Row],[geboorte-gewicht]])","v":""},"","",{"$f":"Opzoek_ooi[[#This Row],[Ooinummer]]","v":0},"",""]
[{"$f":"lammering[[#This Row],[Ooi]]","v":0},0,0,{"$f":"IF(lammering[[#This Row],[Lam-nummer]]=\"\",0,1)","v":0},{"$f":"IF(lammering[[#This Row],[Dood in geboorte]]=\"ja\",1,0)","v":0},{"$f":"IF(lammering[[#This Row],[Ooi]]=\"\",0,IF(Berekeningen!E148=0,1,0))","v":0},{"$f":"IF(D148=0,0,IF(lammering[[#This Row],[Dood in geboorte]]=\"Ja\",0,IF(lammering[[#This Row],[Dood na geboorte]]=\"ja\",0,1)))","v":0},{"$f":"IF(lammering[[#This Row],[Opfok met kunstmelk]]=\"Ja\",1,0)","v":0},{"$f":"IF(lammering[[#This Row],[geslacht]]=\"O\",1,0)","v":0},{"$f":"IF(lammering[[#This Row],[Speen-datum]]=\"\",\"\",(lammering[[#This Row],[Speen-gewicht]]-lammering[[#This Row],[geboorte-gewicht]])/(lammering[[#This Row],[Speen-datum]]-lammering[[#This Row],[Werp-datum]]))","v":""},{"$f":"IF(lammering[[#This Row],[Verkoop-datum]]=\"\",\"\",(lammering[[#This Row],[Verkoop-gewicht]]-lammering[[#This Row],[Speen-gewicht]])/(lammering[[#This Row],[Verkoop-datum]]-lammering[[#This Row],[Speen-datum]]))","v":""},{"$f":"IF(lammering[[#This Row],[Verkoop-datum]]=\"\",\"\",(lammering[[#This Row],[Verkoop-gewicht]]-lammering[[#This Row],[geboorte-gewicht]])/(lammering[[#This Row],[Verkoop-datum]]-lammering[[#This Row],[Werp-datum]]))","v":""},"","","","","","",{"$f":"IF(lammering[[#This Row],[Verkoop-gewicht]]=\"\",\"\",lammering[[#This Row],[Verkoop-gewicht]]-lammering[[#This Row],[geboorte-gewicht]])","v":""},"","",{"$f":"Opzoek_ooi[[#This Row],[Ooinummer]]","v":0},"",""]
[{"$f":"lammering[[#This Row],[Ooi]]","v":0},0,0,{"$f":"IF(lammering[[#This Row],[Lam-nummer]]=\"\",0,1)","v":0},{"$f":"IF(lammering[[#This Row],[Dood in geboorte]]=\"ja\",1,0)","v":0},{"$f":"IF(lammering[[#This Row],[Ooi]]=\"\",0,IF(Berekeningen!E149=0,1,0))","v":0},{"$f":"IF(D149=0,0,IF(lammering[[#This Row],[Dood in geboorte]]=\"Ja\",0,IF(lammering[[#This Row],[Dood na geboorte]]=\"ja\",0,1)))","v":0},{"$f":"IF(lammering[[#This Row],[Opfok met kunstmelk]]=\"Ja\",1,0)","v":0},{"$f":"IF(lammering[[#This Row],[geslacht]]=\"O\",1,0)","v":0},{"$f":"IF(lammering[[#This Row],[Speen-datum]]=\"\",\"\",(lammering[[#This Row],[Speen-gewicht]]-lammering[[#This Row],[geboorte-gewicht]])/(lammering[[#This Row],[Speen-datum]]-lammering[[#This Row],[Werp-datum]]))","v":""},{"$f":"IF(lammering[[#This Row],[Verkoop-datum]]=\"\",\"\",(lammering[[#This Row],[Verkoop-gewicht]]-lammering[[#This Row],[Speen-gewicht]])/(lammering[[#This Row],[Verkoop-datum]]-lammering[[#This Row],[Speen-datum]]))","v":""},{"$f":"IF(lammering[[#This Row],[Verkoop-datum]]=\"\",\"\",(lammering[[#This Row],[Verkoop-gewicht]]-lammering[[#This Row],[geboorte-gewicht]])/(lammering[[#This Row],[Verkoop-datum]]-lammering[[#This Row],[Werp-datum]]))","v":""},"","","","","","",{"$f":"IF(lammering[[#This Row],[Verkoop-gewicht]]=\"\",\"\",lammering[[#This Row],[Verkoop-gewicht]]-lammering[[#This Row],[geboorte-gewicht]])","v":""},"","",{"$f":"Opzoek_ooi[[#This Row],[Ooinummer]]","v":0},"",""]
[{"$f":"lammering[[#This Row],[Ooi]]","v":0},0,0,{"$f":"IF(lammering[[#This Row],[Lam-nummer]]=\"\",0,1)","v":0},{"$f":"IF(lammering[[#This Row],[Dood in geboorte]]=\"ja\",1,0)","v":0},{"$f":"IF(lammering[[#This Row],[Ooi]]=\"\",0,IF(Berekeningen!E150=0,1,0))","v":0},{"$f":"IF(D150=0,0,IF(lammering[[#This Row],[Dood in geboorte]]=\"Ja\",0,IF(lammering[[#This Row],[Dood na geboorte]]=\"ja\",0,1)))","v":0},{"$f":"IF(lammering[[#This Row],[Opfok met kunstmelk]]=\"Ja\",1,0)","v":0},{"$f":"IF(lammering[[#This Row],[geslacht]]=\"O\",1,0)","v":0},{"$f":"IF(lammering[[#This Row],[Speen-datum]]=\"\",\"\",(lammering[[#This Row],[Speen-gewicht]]-lammering[[#This Row],[geboorte-gewicht]])/(lammering[[#This Row],[Speen-datum]]-lammering[[#This Row],[Werp-datum]]))","v":""},{"$f":"IF(lammering[[#This Row],[Verkoop-datum]]=\"\",\"\",(lammering[[#This Row],[Verkoop-gewicht]]-lammering[[#This Row],[Speen-gewicht]])/(lammering[[#This Row],[Verkoop-datum]]-lammering[[#This Row],[Speen-datum]]))","v":""},{"$f":"IF(lammering[[#This Row],[Verkoop-datum]]=\"\",\"\",(lammering[[#This Row],[Verkoop-gewicht]]-lammering[[#This Row],[geboorte-gewicht]])/(lammering[[#This Row],[Verkoop-datum]]-lammering[[#This Row],[Werp-datum]]))","v":""},"","","","","","",{"$f":"IF(lammering[[#This Row],[Verkoop-gewicht]]=\"\",\"\",lammering[[#This Row],[Verkoop-gewicht]]-lammering[[#This Row],[geboorte-gewicht]])","v":""},"","",{"$f":"Opzoek_ooi[[#This Row],[Ooinummer]]","v":0},"",""]
[{"$f":"lammering[[#This Row],[Ooi]]","v":0},0,0,{"$f":"IF(lammering[[#This Row],[Lam-nummer]]=\"\",0,1)","v":0},{"$f":"IF(lammering[[#This Row],[Dood in geboorte]]=\"ja\",1,0)","v":0},{"$f":"IF(lammering[[#This Row],[Ooi]]=\"\",0,IF(Berekeningen!E151=0,1,0))","v":0},{"$f":"IF(D151=0,0,IF(lammering[[#This Row],[Dood in geboorte]]=\"Ja\",0,IF(lammering[[#This Row],[Dood na geboorte]]=\"ja\",0,1)))","v":0},{"$f":"IF(lammering[[#This Row],[Opfok met kunstmelk]]=\"Ja\",1,0)","v":0},{"$f":"IF(lammering[[#This Row],[geslacht]]=\"O\",1,0)","v":0},{"$f":"IF(lammering[[#This Row],[Speen-datum]]=\"\",\"\",(lammering[[#This Row],[Speen-gewicht]]-lammering[[#This Row],[geboorte-gewicht]])/(lammering[[#This Row],[Speen-datum]]-lammering[[#This Row],[Werp-datum]]))","v":""},{"$f":"IF(lammering[[#This Row],[Verkoop-datum]]=\"\",\"\",(lammering[[#This Row],[Verkoop-gewicht]]-lammering[[#This Row],[Speen-gewicht]])/(lammering[[#This Row],[Verkoop-datum]]-lammering[[#This Row],[Speen-datum]]))","v":""},{"$f":"IF(lammering[[#This Row],[Verkoop-datum]]=\"\",\"\",(lammering[[#This Row],[Verkoop-gewicht]]-lammering[[#This Row],[geboorte-gewicht]])/(lammering[[#This Row],[Verkoop-datum]]-lammering[[#This Row],[Werp-datum]]))","v":""},"","","","","","",{"$f":"IF(lammering[[#This Row],[Verkoop-gewicht]]=\"\",\"\",lammering[[#This Row],[Verkoop-gewicht]]-lammering[[#This Row],[geboorte-gewicht]])","v":""},"","",{"$f":"Opzoek_ooi[[#This Row],[Ooinummer]]","v":0},"",""]
[{"$f":"lammering[[#This Row],[Ooi]]","v":0},0,0,{"$f":"IF(lammering[[#This Row],[Lam-nummer]]=\"\",0,1)","v":0},{"$f":"IF(lammering[[#This Row],[Dood in geboorte]]=\"ja\",1,0)","v":0},{"$f":"IF(lammering[[#This Row],[Ooi]]=\"\",0,IF(Berekeningen!E152=0,1,0))","v":0},{"$f":"IF(D152=0,0,IF(lammering[[#This Row],[Dood in geboorte]]=\"Ja\",0,IF(lammering[[#This Row],[Dood na geboorte]]=\"ja\",0,1)))","v":0},{"$f":"IF(lammering[[#This Row],[Opfok met kunstmelk]]=\"Ja\",1,0)","v":0},{"$f":"IF(lammering[[#This Row],[geslacht]]=\"O\",1,0)","v":0},{"$f":"IF(lammering[[#This Row],[Speen-datum]]=\"\",\"\",(lammering[[#This Row],[Speen-gewicht]]-lammering[[#This Row],[geboorte-gewicht]])/(lammering[[#This Row],[Speen-datum]]-lammering[[#This Row],[Werp-datum]]))","v":""},{"$f":"IF(lammering[[#This Row],[Verkoop-datum]]=\"\",\"\",(lammering[[#This Row],[Verkoop-gewicht]]-lammering[[#This Row],[Speen-gewicht]])/(lammering[[#This Row],[Verkoop-datum]]-lammering[[#This Row],[Speen-datum]]))","v":""},{"$f":"IF(lammering[[#This Row],[Verkoop-datum]]=\"\",\"\",(lammering[[#This Row],[Verkoop-gewicht]]-lammering[[#This Row],[geboorte-gewicht]])/(lammering[[#This Row],[Verkoop-datum]]-lammering[[#This Row],[Werp-datum]]))","v":""},"","","","","","",{"$f":"IF(lammering[[#This Row],[Verkoop-gewicht]]=\"\",\"\",lammering[[#This Row],[Verkoop-gewicht]]-lammering[[#This Row],[geboorte-gewicht]])","v":""},"","",{"$f":"Opzoek_ooi[[#This Row],[Ooinummer]]","v":0},"",""]
[{"$f":"lammering[[#This Row],[Ooi]]","v":0},0,0,{"$f":"IF(lammering[[#This Row],[Lam-nummer]]=\"\",0,1)","v":0},{"$f":"IF(lammering[[#This Row],[Dood in geboorte]]=\"ja\",1,0)","v":0},{"$f":"IF(lammering[[#This Row],[Ooi]]=\"\",0,IF(Berekeningen!E153=0,1,0))","v":0},{"$f":"IF(D153=0,0,IF(lammering[[#This Row],[Dood in geboorte]]=\"Ja\",0,IF(lammering[[#This Row],[Dood na geboorte]]=\"ja\",0,1)))","v":0},{"$f":"IF(lammering[[#This Row],[Opfok met kunstmelk]]=\"Ja\",1,0)","v":0},{"$f":"IF(lammering[[#This Row],[geslacht]]=\"O\",1,0)","v":0},{"$f":"IF(lammering[[#This Row],[Speen-datum]]=\"\",\"\",(lammering[[#This Row],[Speen-gewicht]]-lammering[[#This Row],[geboorte-gewicht]])/(lammering[[#This Row],[Speen-datum]]-lammering[[#This Row],[Werp-datum]]))","v":""},{"$f":"IF(lammering[[#This Row],[Verkoop-datum]]=\"\",\"\",(lammering[[#This Row],[Verkoop-gewicht]]-lammering[[#This Row],[Speen-gewicht]])/(lammering[[#This Row],[Verkoop-datum]]-lammering[[#This Row],[Speen-datum]]))","v":""},{"$f":"IF(lammering[[#This Row],[Verkoop-datum]]=\"\",\"\",(lammering[[#This Row],[Verkoop-gewicht]]-lammering[[#This Row],[geboorte-gewicht]])/(lammering[[#This Row],[Verkoop-datum]]-lammering[[#This Row],[Werp-datum]]))","v":""},"","","","","","",{"$f":"IF(lammering[[#This Row],[Verkoop-gewicht]]=\"\",\"\",lammering[[#This Row],[Verkoop-gewicht]]-lammering[[#This Row],[geboorte-gewicht]])","v":""},"","",{"$f":"Opzoek_ooi[[#This Row],[Ooinummer]]","v":0},"",""]
[{"$f":"lammering[[#This Row],[Ooi]]","v":0},0,0,{"$f":"IF(lammering[[#This Row],[Lam-nummer]]=\"\",0,1)","v":0},{"$f":"IF(lammering[[#This Row],[Dood in geboorte]]=\"ja\",1,0)","v":0},{"$f":"IF(lammering[[#This Row],[Ooi]]=\"\",0,IF(Berekeningen!E154=0,1,0))","v":0},{"$f":"IF(D154=0,0,IF(lammering[[#This Row],[Dood in geboorte]]=\"Ja\",0,IF(lammering[[#This Row],[Dood na geboorte]]=\"ja\",0,1)))","v":0},{"$f":"IF(lammering[[#This Row],[Opfok met kunstmelk]]=\"Ja\",1,0)","v":0},{"$f":"IF(lammering[[#This Row],[geslacht]]=\"O\",1,0)","v":0},{"$f":"IF(lammering[[#This Row],[Speen-datum]]=\"\",\"\",(lammering[[#This Row],[Speen-gewicht]]-lammering[[#This Row],[geboorte-gewicht]])/(lammering[[#This Row],[Speen-datum]]-lammering[[#This Row],[Werp-datum]]))","v":""},{"$f":"IF(lammering[[#This Row],[Verkoop-datum]]=\"\",\"\",(lammering[[#This Row],[Verkoop-gewicht]]-lammering[[#This Row],[Speen-gewicht]])/(lammering[[#This Row],[Verkoop-datum]]-lammering[[#This Row],[Speen-datum]]))","v":""},{"$f":"IF(lammering[[#This Row],[Verkoop-datum]]=\"\",\"\",(lammering[[#This Row],[Verkoop-gewicht]]-lammering[[#This Row],[geboorte-gewicht]])/(lammering[[#This Row],[Verkoop-datum]]-lammering[[#This Row],[Werp-datum]]))","v":""},"","","","","","",{"$f":"IF(lammering[[#This Row],[Verkoop-gewicht]]=\"\",\"\",lammering[[#This Row],[Verkoop-gewicht]]-lammering[[#This Row],[geboorte-gewicht]])","v":""},"","",{"$f":"Opzoek_ooi[[#This Row],[Ooinummer]]","v":0},"",""]
[{"$f":"lammering[[#This Row],[Ooi]]","v":0},0,0,{"$f":"IF(lammering[[#This Row],[Lam-nummer]]=\"\",0,1)","v":0},{"$f":"IF(lammering[[#This Row],[Dood in geboorte]]=\"ja\",1,0)","v":0},{"$f":"IF(lammering[[#This Row],[Ooi]]=\"\",0,IF(Berekeningen!E155=0,1,0))","v":0},{"$f":"IF(D155=0,0,IF(lammering[[#This Row],[Dood in geboorte]]=\"Ja\",0,IF(lammering[[#This Row],[Dood na geboorte]]=\"ja\",0,1)))","v":0},{"$f":"IF(lammering[[#This Row],[Opfok met kunstmelk]]=\"Ja\",1,0)","v":0},{"$f":"IF(lammering[[#This Row],[geslacht]]=\"O\",1,0)","v":0},{"$f":"IF(lammering[[#This Row],[Speen-datum]]=\"\",\"\",(lammering[[#This Row],[Speen-gewicht]]-lammering[[#This Row],[geboorte-gewicht]])/(lammering[[#This Row],[Speen-datum]]-lammering[[#This Row],[Werp-datum]]))","v":""},{"$f":"IF(lammering[[#This Row],[Verkoop-datum]]=\"\",\"\",(lammering[[#This Row],[Verkoop-gewicht]]-lammering[[#This Row],[Speen-gewicht]])/(lammering[[#This Row],[Verkoop-datum]]-lammering[[#This Row],[Speen-datum]]))","v":""},{"$f":"IF(lammering[[#This Row],[Verkoop-datum]]=\"\",\"\",(lammering[[#This Row],[Verkoop-gewicht]]-lammering[[#This Row],[geboorte-gewicht]])/(lammering[[#This Row],[Verkoop-datum]]-lammering[[#This Row],[Werp-datum]]))","v":""},"","","","","","",{"$f":"IF(lammering[[#This Row],[Verkoop-gewicht]]=\"\",\"\",lammering[[#This Row],[Verkoop-gewicht]]-lammering[[#This Row],[geboorte-gewicht]])","v":""},"","",{"$f":"Opzoek_ooi[[#This Row],[Ooinummer]]","v":0},"",""]
[{"$f":"lammering[[#This Row],[Ooi]]","v":0},0,0,{"$f":"IF(lammering[[#This Row],[Lam-nummer]]=\"\",0,1)","v":0},{"$f":"IF(lammering[[#This Row],[Dood in geboorte]]=\"ja\",1,0)","v":0},{"$f":"IF(lammering[[#This Row],[Ooi]]=\"\",0,IF(Berekeningen!E156=0,1,0))","v":0},{"$f":"IF(D156=0,0,IF(lammering[[#This Row],[Dood in geboorte]]=\"Ja\",0,IF(lammering[[#This Row],[Dood na geboorte]]=\"ja\",0,1)))","v":0},{"$f":"IF(lammering[[#This Row],[Opfok met kunstmelk]]=\"Ja\",1,0)","v":0},{"$f":"IF(lammering[[#This Row],[geslacht]]=\"O\",1,0)","v":0},{"$f":"IF(lammering[[#This Row],[Speen-datum]]=\"\",\"\",(lammering[[#This Row],[Speen-gewicht]]-lammering[[#This Row],[geboorte-gewicht]])/(lammering[[#This Row],[Speen-datum]]-lammering[[#This Row],[Werp-datum]]))","v":""},{"$f":"IF(lammering[[#This Row],[Verkoop-datum]]=\"\",\"\",(lammering[[#This Row],[Verkoop-gewicht]]-lammering[[#This Row],[Speen-gewicht]])/(lammering[[#This Row],[Verkoop-datum]]-lammering[[#This Row],[Speen-datum]]))","v":""},{"$f":"IF(lammering[[#This Row],[Verkoop-datum]]=\"\",\"\",(lammering[[#This Row],[Verkoop-gewicht]]-lammering[[#This Row],[geboorte-gewicht]])/(lammering[[#This Row],[Verkoop-datum]]-lammering[[#This Row],[Werp-datum]]))","v":""},"","","","","","",{"$f":"IF(lammering[[#This Row],[Verkoop-gewicht]]=\"\",\"\",lammering[[#This Row],[Verkoop-gewicht]]-lammering[[#This Row],[geboorte-gewicht]])","v":""},"","",{"$f":"Opzoek_ooi[[#This Row],[Ooinummer]]","v":0},"",""]
[{"$f":"lammering[[#This Row],[Ooi]]","v":0},0,0,{"$f":"IF(lammering[[#This Row],[Lam-nummer]]=\"\",0,1)","v":0},{"$f":"IF(lammering[[#This Row],[Dood in geboorte]]=\"ja\",1,0)","v":0},{"$f":"IF(lammering[[#This Row],[Ooi]]=\"\",0,IF(Berekeningen!E157=0,1,0))","v":0},{"$f":"IF(D157=0,0,IF(lammering[[#This Row],[Dood in geboorte]]=\"Ja\",0,IF(lammering[[#This Row],[Dood na geboorte]]=\"ja\",0,1)))","v":0},{"$f":"IF(lammering[[#This Row],[Opfok met kunstmelk]]=\"Ja\",1,0)","v":0},{"$f":"IF(lammering[[#This Row],[geslacht]]=\"O\",1,0)","v":0},{"$f":"IF(lammering[[#This Row],[Speen-datum]]=\"\",\"\",(lammering[[#This Row],[Speen-gewicht]]-lammering[[#This Row],[geboorte-gewicht]])/(lammering[[#This Row],[Speen-datum]]-lammering[[#This Row],[Werp-datum]]))","v":""},{"$f":"IF(lammering[[#This Row],[Verkoop-datum]]=\"\",\"\",(lammering[[#This Row],[Verkoop-gewicht]]-lammering[[#This Row],[Speen-gewicht]])/(lammering[[#This Row],[Verkoop-datum]]-lammering[[#This Row],[Speen-datum]]))","v":""},{"$f":"IF(lammering[[#This Row],[Verkoop-datum]]=\"\",\"\",(lammering[[#This Row],[Verkoop-gewicht]]-lammering[[#This Row],[geboorte-gewicht]])/(lammering[[#This Row],[Verkoop-datum]]-lammering[[#This Row],[Werp-datum]]))","v":""},"","","","","","",{"$f":"IF(lammering[[#This Row],[Verkoop-gewicht]]=\"\",\"\",lammering[[#This Row],[Verkoop-gewicht]]-lammering[[#This Row],[geboorte-gewicht]])","v":""},"","",{"$f":"Opzoek_ooi[[#This Row],[Ooinummer]]","v":0},"",""]
[{"$f":"lammering[[#This Row],[Ooi]]","v":0},0,0,{"$f":"IF(lammering[[#This Row],[Lam-nummer]]=\"\",0,1)","v":0},{"$f":"IF(lammering[[#This Row],[Dood in geboorte]]=\"ja\",1,0)","v":0},{"$f":"IF(lammering[[#This Row],[Ooi]]=\"\",0,IF(Berekeningen!E158=0,1,0))","v":0},{"$f":"IF(D158=0,0,IF(lammering[[#This Row],[Dood in geboorte]]=\"Ja\",0,IF(lammering[[#This Row],[Dood na geboorte]]=\"ja\",0,1)))","v":0},{"$f":"IF(lammering[[#This Row],[Opfok met kunstmelk]]=\"Ja\",1,0)","v":0},{"$f":"IF(lammering[[#This Row],[geslacht]]=\"O\",1,0)","v":0},{"$f":"IF(lammering[[#This Row],[Speen-datum]]=\"\",\"\",(lammering[[#This Row],[Speen-gewicht]]-lammering[[#This Row],[geboorte-gewicht]])/(lammering[[#This Row],[Speen-datum]]-lammering[[#This Row],[Werp-datum]]))","v":""},{"$f":"IF(lammering[[#This Row],[Verkoop-datum]]=\"\",\"\",(lammering[[#This Row],[Verkoop-gewicht]]-lammering[[#This Row],[Speen-gewicht]])/(lammering[[#This Row],[Verkoop-datum]]-lammering[[#This Row],[Speen-datum]]))","v":""},{"$f":"IF(lammering[[#This Row],[Verkoop-datum]]=\"\",\"\",(lammering[[#This Row],[Verkoop-gewicht]]-lammering[[#This Row],[geboorte-gewicht]])/(lammering[[#This Row],[Verkoop-datum]]-lammering[[#This Row],[Werp-datum]]))","v":""},"","","","","","",{"$f":"IF(lammering[[#This Row],[Verkoop-gewicht]]=\"\",\"\",lammering[[#This Row],[Verkoop-gewicht]]-lammering[[#This Row],[geboorte-gewicht]])","v":""},"","",{"$f":"Opzoek_ooi[[#This Row],[Ooinummer]]","v":0},"",""]
[{"$f":"lammering[[#This Row],[Ooi]]","v":0},0,0,{"$f":"IF(lammering[[#This Row],[Lam-nummer]]=\"\",0,1)","v":0},{"$f":"IF(lammering[[#This Row],[Dood in geboorte]]=\"ja\",1,0)","v":0},{"$f":"IF(lammering[[#This Row],[Ooi]]=\"\",0,IF(Berekeningen!E159=0,1,0))","v":0},{"$f":"IF(D159=0,0,IF(lammering[[#This Row],[Dood in geboorte]]=\"Ja\",0,IF(lammering[[#This Row],[Dood na geboorte]]=\"ja\",0,1)))","v":0},{"$f":"IF(lammering[[#This Row],[Opfok met kunstmelk]]=\"Ja\",1,0)","v":0},{"$f":"IF(lammering[[#This Row],[geslacht]]=\"O\",1,0)","v":0},{"$f":"IF(lammering[[#This Row],[Speen-datum]]=\"\",\"\",(lammering[[#This Row],[Speen-gewicht]]-lammering[[#This Row],[geboorte-gewicht]])/(lammering[[#This Row],[Speen-datum]]-lammering[[#This Row],[Werp-datum]]))","v":""},{"$f":"IF(lammering[[#This Row],[Verkoop-datum]]=\"\",\"\",(lammering[[#This Row],[Verkoop-gewicht]]-lammering[[#This Row],[Speen-gewicht]])/(lammering[[#This Row],[Verkoop-datum]]-lammering[[#This Row],[Speen-datum]]))","v":""},{"$f":"IF(lammering[[#This Row],[Verkoop-datum]]=\"\",\"\",(lammering[[#This Row],[Verkoop-gewicht]]-lammering[[#This Row],[geboorte-gewicht]])/(lammering[[#This Row],[Verkoop-datum]]-lammering[[#This Row],[Werp-datum]]))","v":""},"","","","","","",{"$f":"IF(lammering[[#This Row],[Verkoop-gewicht]]=\"\",\"\",lammering[[#This Row],[Verkoop-gewicht]]-lammering[[#This Row],[geboorte-gewicht]])","v":""},"","",{"$f":"Opzoek_ooi[[#This Row],[Ooinummer]]","v":0},"",""]
[{"$f":"lammering[[#This Row],[Ooi]]","v":0},0,0,{"$f":"IF(lammering[[#This Row],[Lam-nummer]]=\"\",0,1)","v":0},{"$f":"IF(lammering[[#This Row],[Dood in geboorte]]=\"ja\",1,0)","v":0},{"$f":"IF(lammering[[#This Row],[Ooi]]=\"\",0,IF(Berekeningen!E160=0,1,0))","v":0},{"$f":"IF(D160=0,0,IF(lammering[[#This Row],[Dood in geboorte]]=\"Ja\",0,IF(lammering[[#This Row],[Dood na geboorte]]=\"ja\",0,1)))","v":0},{"$f":"IF(lammering[[#This Row],[Opfok met kunstmelk]]=\"Ja\",1,0)","v":0},{"$f":"IF(lammering[[#This Row],[geslacht]]=\"O\",1,0)","v":0},{"$f":"IF(lammering[[#This Row],[Speen-datum]]=\"\",\"\",(lammering[[#This Row],[Speen-gewicht]]-lammering[[#This Row],[geboorte-gewicht]])/(lammering[[#This Row],[Speen-datum]]-lammering[[#This Row],[Werp-datum]]))","v":""},{"$f":"IF(lammering[[#This Row],[Verkoop-datum]]=\"\",\"\",(lammering[[#This Row],[Verkoop-gewicht]]-lammering[[#This Row],[Speen-gewicht]])/(lammering[[#This Row],[Verkoop-datum]]-lammering[[#This Row],[Speen-datum]]))","v":""},{"$f":"IF(lammering[[#This Row],[Verkoop-datum]]=\"\",\"\",(lammering[[#This Row],[Verkoop-gewicht]]-lammering[[#This Row],[geboorte-gewicht]])/(lammering[[#This Row],[Verkoop-datum]]-lammering[[#This Row],[Werp-datum]]))","v":""},"","","","","","",{"$f":"IF(lammering[[#This Row],[Verkoop-gewicht]]=\"\",\"\",lammering[[#This Row],[Verkoop-gewicht]]-lammering[[#This Row],[geboorte-gewicht]])","v":""},"","",{"$f":"Opzoek_ooi[[#This Row],[Ooinummer]]","v":0},"",""]
[{"$f":"lammering[[#This Row],[Ooi]]","v":0},0,0,{"$f":"IF(lammering[[#This Row],[Lam-nummer]]=\"\",0,1)","v":0},{"$f":"IF(lammering[[#This Row],[Dood in geboorte]]=\"ja\",1,0)","v":0},{"$f":"IF(lammering[[#This Row],[Ooi]]=\"\",0,IF(Berekeningen!E161=0,1,0))","v":0},{"$f":"IF(D161=0,0,IF(lammering[[#This Row],[Dood in geboorte]]=\"Ja\",0,IF(lammering[[#This Row],[Dood na geboorte]]=\"ja\",0,1)))","v":0},{"$f":"IF(lammering[[#This Row],[Opfok met kunstmelk]]=\"Ja\",1,0)","v":0},{"$f":"IF(lammering[[#This Row],[geslacht]]=\"O\",1,0)","v":0},{"$f":"IF(lammering[[#This Row],[Speen-datum]]=\"\",\"\",(lammering[[#This Row],[Speen-gewicht]]-lammering[[#This Row],[geboorte-gewicht]])/(lammering[[#This Row],[Speen-datum]]-lammering[[#This Row],[Werp-datum]]))","v":""},{"$f":"IF(lammering[[#This Row],[Verkoop-datum]]=\"\",\"\",(lammering[[#This Row],[Verkoop-gewicht]]-lammering[[#This Row],[Speen-gewicht]])/(lammering[[#This Row],[Verkoop-datum]]-lammering[[#This Row],[Speen-datum]]))","v":""},{"$f":"IF(lammering[[#This Row],[Verkoop-datum]]=\"\",\"\",(lammering[[#This Row],[Verkoop-gewicht]]-lammering[[#This Row],[geboorte-gewicht]])/(lammering[[#This Row],[Verkoop-datum]]-lammering[[#This Row],[Werp-datum]]))","v":""},"","","","","","",{"$f":"IF(lammering[[#This Row],[Verkoop-gewicht]]=\"\",\"\",lammering[[#This Row],[Verkoop-gewicht]]-lammering[[#This Row],[geboorte-gewicht]])","v":""},"","",{"$f":"Opzoek_ooi[[#This Row],[Ooinummer]]","v":0},"",""]
[{"$f":"lammering[[#This Row],[Ooi]]","v":0},0,0,{"$f":"IF(lammering[[#This Row],[Lam-nummer]]=\"\",0,1)","v":0},{"$f":"IF(lammering[[#This Row],[Dood in geboorte]]=\"ja\",1,0)","v":0},{"$f":"IF(lammering[[#This Row],[Ooi]]=\"\",0,IF(Berekeningen!E162=0,1,0))","v":0},{"$f":"IF(D162=0,0,IF(lammering[[#This Row],[Dood in geboorte]]=\"Ja\",0,IF(lammering[[#This Row],[Dood na geboorte]]=\"ja\",0,1)))","v":0},{"$f":"IF(lammering[[#This Row],[Opfok met kunstmelk]]=\"Ja\",1,0)","v":0},{"$f":"IF(lammering[[#This Row],[geslacht]]=\"O\",1,0)","v":0},{"$f":"IF(lammering[[#This Row],[Speen-datum]]=\"\",\"\",(lammering[[#This Row],[Speen-gewicht]]-lammering[[#This Row],[geboorte-gewicht]])/(lammering[[#This Row],[Speen-datum]]-lammering[[#This Row],[Werp-datum]]))","v":""},{"$f":"IF(lammering[[#This Row],[Verkoop-datum]]=\"\",\"\",(lammering[[#This Row],[Verkoop-gewicht]]-lammering[[#This Row],[Speen-gewicht]])/(lammering[[#This Row],[Verkoop-datum]]-lammering[[#This Row],[Speen-datum]]))","v":""},{"$f":"IF(lammering[[#This Row],[Verkoop-datum]]=\"\",\"\",(lammering[[#This Row],[Verkoop-gewicht]]-lammering[[#This Row],[geboorte-gewicht]])/(lammering[[#This Row],[Verkoop-datum]]-lammering[[#This Row],[Werp-datum]]))","v":""},"","","","","","",{"$f":"IF(lammering[[#This Row],[Verkoop-gewicht]]=\"\",\"\",lammering[[#This Row],[Verkoop-gewicht]]-lammering[[#This Row],[geboorte-gewicht]])","v":""},"","",{"$f":"Opzoek_ooi[[#This Row],[Ooinummer]]","v":0},"",""]
[{"$f":"lammering[[#This Row],[Ooi]]","v":0},0,0,{"$f":"IF(lammering[[#This Row],[Lam-nummer]]=\"\",0,1)","v":0},{"$f":"IF(lammering[[#This Row],[Dood in geboorte]]=\"ja\",1,0)","v":0},{"$f":"IF(lammering[[#This Row],[Ooi]]=\"\",0,IF(Berekeningen!E163=0,1,0))","v":0},{"$f":"IF(D163=0,0,IF(lammering[[#This Row],[Dood in geboorte]]=\"Ja\",0,IF(lammering[[#This Row],[Dood na geboorte]]=\"ja\",0,1)))","v":0},{"$f":"IF(lammering[[#This Row],[Opfok met kunstmelk]]=\"Ja\",1,0)","v":0},{"$f":"IF(lammering[[#This Row],[geslacht]]=\"O\",1,0)","v":0},{"$f":"IF(lammering[[#This Row],[Speen-datum]]=\"\",\"\",(lammering[[#This Row],[Speen-gewicht]]-lammering[[#This Row],[geboorte-gewicht]])/(lammering[[#This Row],[Speen-datum]]-lammering[[#This Row],[Werp-datum]]))","v":""},{"$f":"IF(lammering[[#This Row],[Verkoop-datum]]=\"\",\"\",(lammering[[#This Row],[Verkoop-gewicht]]-lammering[[#This Row],[Speen-gewicht]])/(lammering[[#This Row],[Verkoop-datum]]-lammering[[#This Row],[Speen-datum]]))","v":""},{"$f":"IF(lammering[[#This Row],[Verkoop-datum]]=\"\",\"\",(lammering[[#This Row],[Verkoop-gewicht]]-lammering[[#This Row],[geboorte-gewicht]])/(lammering[[#This Row],[Verkoop-datum]]-lammering[[#This Row],[Werp-datum]]))","v":""},"","","","","","",{"$f":"IF(lammering[[#This Row],[Verkoop-gewicht]]=\"\",\"\",lammering[[#This Row],[Verkoop-gewicht]]-lammering[[#This Row],[geboorte-gewicht]])","v":""},"","",{"$f":"Opzoek_ooi[[#This Row],[Ooinummer]]","v":0},"",""]
[{"$f":"lammering[[#This Row],[Ooi]]","v":0},0,0,{"$f":"IF(lammering[[#This Row],[Lam-nummer]]=\"\",0,1)","v":0},{"$f":"IF(lammering[[#This Row],[Dood in geboorte]]=\"ja\",1,0)","v":0},{"$f":"IF(lammering[[#This Row],[Ooi]]=\"\",0,IF(Berekeningen!E164=0,1,0))","v":0},{"$f":"IF(D164=0,0,IF(lammering[[#This Row],[Dood in geboorte]]=\"Ja\",0,IF(lammering[[#This Row],[Dood na geboorte]]=\"ja\",0,1)))","v":0},{"$f":"IF(lammering[[#This Row],[Opfok met kunstmelk]]=\"Ja\",1,0)","v":0},{"$f":"IF(lammering[[#This Row],[geslacht]]=\"O\",1,0)","v":0},{"$f":"IF(lammering[[#This Row],[Speen-datum]]=\"\",\"\",(lammering[[#This Row],[Speen-gewicht]]-lammering[[#This Row],[geboorte-gewicht]])/(lammering[[#This Row],[Speen-datum]]-lammering[[#This Row],[Werp-datum]]))","v":""},{"$f":"IF(lammering[[#This Row],[Verkoop-datum]]=\"\",\"\",(lammering[[#This Row],[Verkoop-gewicht]]-lammering[[#This Row],[Speen-gewicht]])/(lammering[[#This Row],[Verkoop-datum]]-lammering[[#This Row],[Speen-datum]]))","v":""},{"$f":"IF(lammering[[#This Row],[Verkoop-datum]]=\"\",\"\",(lammering[[#This Row],[Verkoop-gewicht]]-lammering[[#This Row],[geboorte-gewicht]])/(lammering[[#This Row],[Verkoop-datum]]-lammering[[#This Row],[Werp-datum]]))","v":""},"","","","","","",{"$f":"IF(lammering[[#This Row],[Verkoop-gewicht]]=\"\",\"\",lammering[[#This Row],[Verkoop-gewicht]]-lammering[[#This Row],[geboorte-gewicht]])","v":""},"","",{"$f":"Opzoek_ooi[[#This Row],[Ooinummer]]","v":0},"",""]
[{"$f":"lammering[[#This Row],[Ooi]]","v":0},0,0,{"$f":"IF(lammering[[#This Row],[Lam-nummer]]=\"\",0,1)","v":0},{"$f":"IF(lammering[[#This Row],[Dood in geboorte]]=\"ja\",1,0)","v":0},{"$f":"IF(lammering[[#This Row],[Ooi]]=\"\",0,IF(Berekeningen!E165=0,1,0))","v":0},{"$f":"IF(D165=0,0,IF(lammering[[#This Row],[Dood in geboorte]]=\"Ja\",0,IF(lammering[[#This Row],[Dood na geboorte]]=\"ja\",0,1)))","v":0},{"$f":"IF(lammering[[#This Row],[Opfok met kunstmelk]]=\"Ja\",1,0)","v":0},{"$f":"IF(lammering[[#This Row],[geslacht]]=\"O\",1,0)","v":0},{"$f":"IF(lammering[[#This Row],[Speen-datum]]=\"\",\"\",(lammering[[#This Row],[Speen-gewicht]]-lammering[[#This Row],[geboorte-gewicht]])/(lammering[[#This Row],[Speen-datum]]-lammering[[#This Row],[Werp-datum]]))","v":""},{"$f":"IF(lammering[[#This Row],[Verkoop-datum]]=\"\",\"\",(lammering[[#This Row],[Verkoop-gewicht]]-lammering[[#This Row],[Speen-gewicht]])/(lammering[[#This Row],[Verkoop-datum]]-lammering[[#This Row],[Speen-datum]]))","v":""},{"$f":"IF(lammering[[#This Row],[Verkoop-datum]]=\"\",\"\",(lammering[[#This Row],[Verkoop-gewicht]]-lammering[[#This Row],[geboorte-gewicht]])/(lammering[[#This Row],[Verkoop-datum]]-lammering[[#This Row],[Werp-datum]]))","v":""},"","","","","","",{"$f":"IF(lammering[[#This Row],[Verkoop-gewicht]]=\"\",\"\",lammering[[#This Row],[Verkoop-gewicht]]-lammering[[#This Row],[geboorte-gewicht]])","v":""},"","",{"$f":"Opzoek_ooi[[#This Row],[Ooinummer]]","v":0},"",""]
[{"$f":"lammering[[#This Row],[Ooi]]","v":0},0,0,{"$f":"IF(lammering[[#This Row],[Lam-nummer]]=\"\",0,1)","v":0},{"$f":"IF(lammering[[#This Row],[Dood in geboorte]]=\"ja\",1,0)","v":0},{"$f":"IF(lammering[[#This Row],[Ooi]]=\"\",0,IF(Berekeningen!E166=0,1,0))","v":0},{"$f":"IF(D166=0,0,IF(lammering[[#This Row],[Dood in geboorte]]=\"Ja\",0,IF(lammering[[#This Row],[Dood na geboorte]]=\"ja\",0,1)))","v":0},{"$f":"IF(lammering[[#This Row],[Opfok met kunstmelk]]=\"Ja\",1,0)","v":0},{"$f":"IF(lammering[[#This Row],[geslacht]]=\"O\",1,0)","v":0},{"$f":"IF(lammering[[#This Row],[Speen-datum]]=\"\",\"\",(lammering[[#This Row],[Speen-gewicht]]-lammering[[#This Row],[geboorte-gewicht]])/(lammering[[#This Row],[Speen-datum]]-lammering[[#This Row],[Werp-datum]]))","v":""},{"$f":"IF(lammering[[#This Row],[Verkoop-datum]]=\"\",\"\",(lammering[[#This Row],[Verkoop-gewicht]]-lammering[[#This Row],[Speen-gewicht]])/(lammering[[#This Row],[Verkoop-datum]]-lammering[[#This Row],[Speen-datum]]))","v":""},{"$f":"IF(lammering[[#This Row],[Verkoop-datum]]=\"\",\"\",(lammering[[#This Row],[Verkoop-gewicht]]-lammering[[#This Row],[geboorte-gewicht]])/(lammering[[#This Row],[Verkoop-datum]]-lammering[[#This Row],[Werp-datum]]))","v":""},"","","","","","",{"$f":"IF(lammering[[#This Row],[Verkoop-gewicht]]=\"\",\"\",lammering[[#This Row],[Verkoop-gewicht]]-lammering[[#This Row],[geboorte-gewicht]])","v":""},"","",{"$f":"Opzoek_ooi[[#This Row],[Ooinummer]]","v":0},"",""]
[{"$f":"lammering[[#This Row],[Ooi]]","v":0},0,0,{"$f":"IF(lammering[[#This Row],[Lam-nummer]]=\"\",0,1)","v":0},{"$f":"IF(lammering[[#This Row],[Dood in geboorte]]=\"ja\",1,0)","v":0},{"$f":"IF(lammering[[#This Row],[Ooi]]=\"\",0,IF(Berekeningen!E167=0,1,0))","v":0},{"$f":"IF(D167=0,0,IF(lammering[[#This Row],[Dood in geboorte]]=\"Ja\",0,IF(lammering[[#This Row],[Dood na geboorte]]=\"ja\",0,1)))","v":0},{"$f":"IF(lammering[[#This Row],[Opfok met kunstmelk]]=\"Ja\",1,0)","v":0},{"$f":"IF(lammering[[#This Row],[geslacht]]=\"O\",1,0)","v":0},{"$f":"IF(lammering[[#This Row],[Speen-datum]]=\"\",\"\",(lammering[[#This Row],[Speen-gewicht]]-lammering[[#This Row],[geboorte-gewicht]])/(lammering[[#This Row],[Speen-datum]]-lammering[[#This Row],[Werp-datum]]))","v":""},{"$f":"IF(lammering[[#This Row],[Verkoop-datum]]=\"\",\"\",(lammering[[#This Row],[Verkoop-gewicht]]-lammering[[#This Row],[Speen-gewicht]])/(lammering[[#This Row],[Verkoop-datum]]-lammering[[#This Row],[Speen-datum]]))","v":""},{"$f":"IF(lammering[[#This Row],[Verkoop-datum]]=\"\",\"\",(lammering[[#This Row],[Verkoop-gewicht]]-lammering[[#This Row],[geboorte-gewicht]])/(lammering[[#This Row],[Verkoop-datum]]-lammering[[#This Row],[Werp-datum]]))","v":""},"","","","","","",{"$f":"IF(lammering[[#This Row],[Verkoop-gewicht]]=\"\",\"\",lammering[[#This Row],[Verkoop-gewicht]]-lammering[[#This Row],[geboorte-gewicht]])","v":""},"","",{"$f":"Opzoek_ooi[[#This Row],[Ooinummer]]","v":0},"",""]
[{"$f":"lammering[[#This Row],[Ooi]]","v":0},0,0,{"$f":"IF(lammering[[#This Row],[Lam-nummer]]=\"\",0,1)","v":0},{"$f":"IF(lammering[[#This Row],[Dood in geboorte]]=\"ja\",1,0)","v":0},{"$f":"IF(lammering[[#This Row],[Ooi]]=\"\",0,IF(Berekeningen!E168=0,1,0))","v":0},{"$f":"IF(D168=0,0,IF(lammering[[#This Row],[Dood in geboorte]]=\"Ja\",0,IF(lammering[[#This Row],[Dood na geboorte]]=\"ja\",0,1)))","v":0},{"$f":"IF(lammering[[#This Row],[Opfok met kunstmelk]]=\"Ja\",1,0)","v":0},{"$f":"IF(lammering[[#This Row],[geslacht]]=\"O\",1,0)","v":0},{"$f":"IF(lammering[[#This Row],[Speen-datum]]=\"\",\"\",(lammering[[#This Row],[Speen-gewicht]]-lammering[[#This Row],[geboorte-gewicht]])/(lammering[[#This Row],[Speen-datum]]-lammering[[#This Row],[Werp-datum]]))","v":""},{"$f":"IF(lammering[[#This Row],[Verkoop-datum]]=\"\",\"\",(lammering[[#This Row],[Verkoop-gewicht]]-lammering[[#This Row],[Speen-gewicht]])/(lammering[[#This Row],[Verkoop-datum]]-lammering[[#This Row],[Speen-datum]]))","v":""},{"$f":"IF(lammering[[#This Row],[Verkoop-datum]]=\"\",\"\",(lammering[[#This Row],[Verkoop-gewicht]]-lammering[[#This Row],[geboorte-gewicht]])/(lammering[[#This Row],[Verkoop-datum]]-lammering[[#This Row],[Werp-datum]]))","v":""},"","","","","","",{"$f":"IF(lammering[[#This Row],[Verkoop-gewicht]]=\"\",\"\",lammering[[#This Row],[Verkoop-gewicht]]-lammering[[#This Row],[geboorte-gewicht]])","v":""},"","",{"$f":"Opzoek_ooi[[#This Row],[Ooinummer]]","v":0},"",""]
[{"$f":"lammering[[#This Row],[Ooi]]","v":0},0,0,{"$f":"IF(lammering[[#This Row],[Lam-nummer]]=\"\",0,1)","v":0},{"$f":"IF(lammering[[#This Row],[Dood in geboorte]]=\"ja\",1,0)","v":0},{"$f":"IF(lammering[[#This Row],[Ooi]]=\"\",0,IF(Berekeningen!E169=0,1,0))","v":0},{"$f":"IF(D169=0,0,IF(lammering[[#This Row],[Dood in geboorte]]=\"Ja\",0,IF(lammering[[#This Row],[Dood na geboorte]]=\"ja\",0,1)))","v":0},{"$f":"IF(lammering[[#This Row],[Opfok met kunstmelk]]=\"Ja\",1,0)","v":0},{"$f":"IF(lammering[[#This Row],[geslacht]]=\"O\",1,0)","v":0},{"$f":"IF(lammering[[#This Row],[Speen-datum]]=\"\",\"\",(lammering[[#This Row],[Speen-gewicht]]-lammering[[#This Row],[geboorte-gewicht]])/(lammering[[#This Row],[Speen-datum]]-lammering[[#This Row],[Werp-datum]]))","v":""},{"$f":"IF(lammering[[#This Row],[Verkoop-datum]]=\"\",\"\",(lammering[[#This Row],[Verkoop-gewicht]]-lammering[[#This Row],[Speen-gewicht]])/(lammering[[#This Row],[Verkoop-datum]]-lammering[[#This Row],[Speen-datum]]))","v":""},{"$f":"IF(lammering[[#This Row],[Verkoop-datum]]=\"\",\"\",(lammering[[#This Row],[Verkoop-gewicht]]-lammering[[#This Row],[geboorte-gewicht]])/(lammering[[#This Row],[Verkoop-datum]]-lammering[[#This Row],[Werp-datum]]))","v":""},"","","","","","",{"$f":"IF(lammering[[#This Row],[Verkoop-gewicht]]=\"\",\"\",lammering[[#This Row],[Verkoop-gewicht]]-lammering[[#This Row],[geboorte-gewicht]])","v":""},"","",{"$f":"Opzoek_ooi[[#This Row],[Ooinummer]]","v":0},"",""]
[{"$f":"lammering[[#This Row],[Ooi]]","v":0},0,0,{"$f":"IF(lammering[[#This Row],[Lam-nummer]]=\"\",0,1)","v":0},{"$f":"IF(lammering[[#This Row],[Dood in geboorte]]=\"ja\",1,0)","v":0},{"$f":"IF(lammering[[#This Row],[Ooi]]=\"\",0,IF(Berekeningen!E170=0,1,0))","v":0},{"$f":"IF(D170=0,0,IF(lammering[[#This Row],[Dood in geboorte]]=\"Ja\",0,IF(lammering[[#This Row],[Dood na geboorte]]=\"ja\",0,1)))","v":0},{"$f":"IF(lammering[[#This Row],[Opfok met kunstmelk]]=\"Ja\",1,0)","v":0},{"$f":"IF(lammering[[#This Row],[geslacht]]=\"O\",1,0)","v":0},{"$f":"IF(lammering[[#This Row],[Speen-datum]]=\"\",\"\",(lammering[[#This Row],[Speen-gewicht]]-lammering[[#This Row],[geboorte-gewicht]])/(lammering[[#This Row],[Speen-datum]]-lammering[[#This Row],[Werp-datum]]))","v":""},{"$f":"IF(lammering[[#This Row],[Verkoop-datum]]=\"\",\"\",(lammering[[#This Row],[Verkoop-gewicht]]-lammering[[#This Row],[Speen-gewicht]])/(lammering[[#This Row],[Verkoop-datum]]-lammering[[#This Row],[Speen-datum]]))","v":""},{"$f":"IF(lammering[[#This Row],[Verkoop-datum]]=\"\",\"\",(lammering[[#This Row],[Verkoop-gewicht]]-lammering[[#This Row],[geboorte-gewicht]])/(lammering[[#This Row],[Verkoop-datum]]-lammering[[#This Row],[Werp-datum]]))","v":""},"","","","","","",{"$f":"IF(lammering[[#This Row],[Verkoop-gewicht]]=\"\",\"\",lammering[[#This Row],[Verkoop-gewicht]]-lammering[[#This Row],[geboorte-gewicht]])","v":""},"","",{"$f":"Opzoek_ooi[[#This Row],[Ooinummer]]","v":0},"",""]
[{"$f":"lammering[[#This Row],[Ooi]]","v":0},0,0,{"$f":"IF(lammering[[#This Row],[Lam-nummer]]=\"\",0,1)","v":0},{"$f":"IF(lammering[[#This Row],[Dood in geboorte]]=\"ja\",1,0)","v":0},{"$f":"IF(lammering[[#This Row],[Ooi]]=\"\",0,IF(Berekeningen!E171=0,1,0))","v":0},{"$f":"IF(D171=0,0,IF(lammering[[#This Row],[Dood in geboorte]]=\"Ja\",0,IF(lammering[[#This Row],[Dood na geboorte]]=\"ja\",0,1)))","v":0},{"$f":"IF(lammering[[#This Row],[Opfok met kunstmelk]]=\"Ja\",1,0)","v":0},{"$f":"IF(lammering[[#This Row],[geslacht]]=\"O\",1,0)","v":0},{"$f":"IF(lammering[[#This Row],[Speen-datum]]=\"\",\"\",(lammering[[#This Row],[Speen-gewicht]]-lammering[[#This Row],[geboorte-gewicht]])/(lammering[[#This Row],[Speen-datum]]-lammering[[#This Row],[Werp-datum]]))","v":""},{"$f":"IF(lammering[[#This Row],[Verkoop-datum]]=\"\",\"\",(lammering[[#This Row],[Verkoop-gewicht]]-lammering[[#This Row],[Speen-gewicht]])/(lammering[[#This Row],[Verkoop-datum]]-lammering[[#This Row],[Speen-datum]]))","v":""},{"$f":"IF(lammering[[#This Row],[Verkoop-datum]]=\"\",\"\",(lammering[[#This Row],[Verkoop-gewicht]]-lammering[[#This Row],[geboorte-gewicht]])/(lammering[[#This Row],[Verkoop-datum]]-lammering[[#This Row],[Werp-datum]]))","v":""},"","","","","","",{"$f":"IF(lammering[[#This Row],[Verkoop-gewicht]]=\"\",\"\",lammering[[#This Row],[Verkoop-gewicht]]-lammering[[#This Row],[geboorte-gewicht]])","v":""},"","",{"$f":"Opzoek_ooi[[#This Row],[Ooinummer]]","v":0},"",""]
[{"$f":"lammering[[#This Row],[Ooi]]","v":0},0,0,{"$f":"IF(lammering[[#This Row],[Lam-nummer]]=\"\",0,1)","v":0},{"$f":"IF(lammering[[#This Row],[Dood in geboorte]]=\"ja\",1,0)","v":0},{"$f":"IF(lammering[[#This Row],[Ooi]]=\"\",0,IF(Berekeningen!E172=0,1,0))","v":0},{"$f":"IF(D172=0,0,IF(lammering[[#This Row],[Dood in geboorte]]=\"Ja\",0,IF(lammering[[#This Row],[Dood na geboorte]]=\"ja\",0,1)))","v":0},{"$f":"IF(lammering[[#This Row],[Opfok met kunstmelk]]=\"Ja\",1,0)","v":0},{"$f":"IF(lammering[[#This Row],[geslacht]]=\"O\",1,0)","v":0},{"$f":"IF(lammering[[#This Row],[Speen-datum]]=\"\",\"\",(lammering[[#This Row],[Speen-gewicht]]-lammering[[#This Row],[geboorte-gewicht]])/(lammering[[#This Row],[Speen-datum]]-lammering[[#This Row],[Werp-datum]]))","v":""},{"$f":"IF(lammering[[#This Row],[Verkoop-datum]]=\"\",\"\",(lammering[[#This Row],[Verkoop-gewicht]]-lammering[[#This Row],[Speen-gewicht]])/(lammering[[#This Row],[Verkoop-datum]]-lammering[[#This Row],[Speen-datum]]))","v":""},{"$f":"IF(lammering[[#This Row],[Verkoop-datum]]=\"\",\"\",(lammering[[#This Row],[Verkoop-gewicht]]-lammering[[#This Row],[geboorte-gewicht]])/(lammering[[#This Row],[Verkoop-datum]]-lammering[[#This Row],[Werp-datum]]))","v":""},"","","","","","",{"$f":"IF(lammering[[#This Row],[Verkoop-gewicht]]=\"\",\"\",lammering[[#This Row],[Verkoop-gewicht]]-lammering[[#This Row],[geboorte-gewicht]])","v":""},"","",{"$f":"Opzoek_ooi[[#This Row],[Ooinummer]]","v":0},"",""]
[{"$f":"lammering[[#This Row],[Ooi]]","v":0},0,0,{"$f":"IF(lammering[[#This Row],[Lam-nummer]]=\"\",0,1)","v":0},{"$f":"IF(lammering[[#This Row],[Dood in geboorte]]=\"ja\",1,0)","v":0},{"$f":"IF(lammering[[#This Row],[Ooi]]=\"\",0,IF(Berekeningen!E173=0,1,0))","v":0},{"$f":"IF(D173=0,0,IF(lammering[[#This Row],[Dood in geboorte]]=\"Ja\",0,IF(lammering[[#This Row],[Dood na geboorte]]=\"ja\",0,1)))","v":0},{"$f":"IF(lammering[[#This Row],[Opfok met kunstmelk]]=\"Ja\",1,0)","v":0},{"$f":"IF(lammering[[#This Row],[geslacht]]=\"O\",1,0)","v":0},{"$f":"IF(lammering[[#This Row],[Speen-datum]]=\"\",\"\",(lammering[[#This Row],[Speen-gewicht]]-lammering[[#This Row],[geboorte-gewicht]])/(lammering[[#This Row],[Speen-datum]]-lammering[[#This Row],[Werp-datum]]))","v":""},{"$f":"IF(lammering[[#This Row],[Verkoop-datum]]=\"\",\"\",(lammering[[#This Row],[Verkoop-gewicht]]-lammering[[#This Row],[Speen-gewicht]])/(lammering[[#This Row],[Verkoop-datum]]-lammering[[#This Row],[Speen-datum]]))","v":""},{"$f":"IF(lammering[[#This Row],[Verkoop-datum]]=\"\",\"\",(lammering[[#This Row],[Verkoop-gewicht]]-lammering[[#This Row],[geboorte-gewicht]])/(lammering[[#This Row],[Verkoop-datum]]-lammering[[#This Row],[Werp-datum]]))","v":""},"","","","","","",{"$f":"IF(lammering[[#This Row],[Verkoop-gewicht]]=\"\",\"\",lammering[[#This Row],[Verkoop-gewicht]]-lammering[[#This Row],[geboorte-gewicht]])","v":""},"","",{"$f":"Opzoek_ooi[[#This Row],[Ooinummer]]","v":0},"",""]
[{"$f":"lammering[[#This Row],[Ooi]]","v":0},0,0,{"$f":"IF(lammering[[#This Row],[Lam-nummer]]=\"\",0,1)","v":0},{"$f":"IF(lammering[[#This Row],[Dood in geboorte]]=\"ja\",1,0)","v":0},{"$f":"IF(lammering[[#This Row],[Ooi]]=\"\",0,IF(Berekeningen!E174=0,1,0))","v":0},{"$f":"IF(D174=0,0,IF(lammering[[#This Row],[Dood in geboorte]]=\"Ja\",0,IF(lammering[[#This Row],[Dood na geboorte]]=\"ja\",0,1)))","v":0},{"$f":"IF(lammering[[#This Row],[Opfok met kunstmelk]]=\"Ja\",1,0)","v":0},{"$f":"IF(lammering[[#This Row],[geslacht]]=\"O\",1,0)","v":0},{"$f":"IF(lammering[[#This Row],[Speen-datum]]=\"\",\"\",(lammering[[#This Row],[Speen-gewicht]]-lammering[[#This Row],[geboorte-gewicht]])/(lammering[[#This Row],[Speen-datum]]-lammering[[#This Row],[Werp-datum]]))","v":""},{"$f":"IF(lammering[[#This Row],[Verkoop-datum]]=\"\",\"\",(lammering[[#This Row],[Verkoop-gewicht]]-lammering[[#This Row],[Speen-gewicht]])/(lammering[[#This Row],[Verkoop-datum]]-lammering[[#This Row],[Speen-datum]]))","v":""},{"$f":"IF(lammering[[#This Row],[Verkoop-datum]]=\"\",\"\",(lammering[[#This Row],[Verkoop-gewicht]]-lammering[[#This Row],[geboorte-gewicht]])/(lammering[[#This Row],[Verkoop-datum]]-lammering[[#This Row],[Werp-datum]]))","v":""},"","","","","","",{"$f":"IF(lammering[[#This Row],[Verkoop-gewicht]]=\"\",\"\",lammering[[#This Row],[Verkoop-gewicht]]-lammering[[#This Row],[geboorte-gewicht]])","v":""},"","",{"$f":"Opzoek_ooi[[#This Row],[Ooinummer]]","v":0},"",""]
[{"$f":"lammering[[#This Row],[Ooi]]","v":0},0,0,{"$f":"IF(lammering[[#This Row],[Lam-nummer]]=\"\",0,1)","v":0},{"$f":"IF(lammering[[#This Row],[Dood in geboorte]]=\"ja\",1,0)","v":0},{"$f":"IF(lammering[[#This Row],[Ooi]]=\"\",0,IF(Berekeningen!E175=0,1,0))","v":0},{"$f":"IF(D175=0,0,IF(lammering[[#This Row],[Dood in geboorte]]=\"Ja\",0,IF(lammering[[#This Row],[Dood na geboorte]]=\"ja\",0,1)))","v":0},{"$f":"IF(lammering[[#This Row],[Opfok met kunstmelk]]=\"Ja\",1,0)","v":0},{"$f":"IF(lammering[[#This Row],[geslacht]]=\"O\",1,0)","v":0},{"$f":"IF(lammering[[#This Row],[Speen-datum]]=\"\",\"\",(lammering[[#This Row],[Speen-gewicht]]-lammering[[#This Row],[geboorte-gewicht]])/(lammering[[#This Row],[Speen-datum]]-lammering[[#This Row],[Werp-datum]]))","v":""},{"$f":"IF(lammering[[#This Row],[Verkoop-datum]]=\"\",\"\",(lammering[[#This Row],[Verkoop-gewicht]]-lammering[[#This Row],[Speen-gewicht]])/(lammering[[#This Row],[Verkoop-datum]]-lammering[[#This Row],[Speen-datum]]))","v":""},{"$f":"IF(lammering[[#This Row],[Verkoop-datum]]=\"\",\"\",(lammering[[#This Row],[Verkoop-gewicht]]-lammering[[#This Row],[geboorte-gewicht]])/(lammering[[#This Row],[Verkoop-datum]]-lammering[[#This Row],[Werp-datum]]))","v":""},"","","","","","",{"$f":"IF(lammering[[#This Row],[Verkoop-gewicht]]=\"\",\"\",lammering[[#This Row],[Verkoop-gewicht]]-lammering[[#This Row],[geboorte-gewicht]])","v":""},"","",{"$f":"Opzoek_ooi[[#This Row],[Ooinummer]]","v":0},"",""]
[{"$f":"lammering[[#This Row],[Ooi]]","v":0},0,0,{"$f":"IF(lammering[[#This Row],[Lam-nummer]]=\"\",0,1)","v":0},{"$f":"IF(lammering[[#This Row],[Dood in geboorte]]=\"ja\",1,0)","v":0},{"$f":"IF(lammering[[#This Row],[Ooi]]=\"\",0,IF(Berekeningen!E176=0,1,0))","v":0},{"$f":"IF(D176=0,0,IF(lammering[[#This Row],[Dood in geboorte]]=\"Ja\",0,IF(lammering[[#This Row],[Dood na geboorte]]=\"ja\",0,1)))","v":0},{"$f":"IF(lammering[[#This Row],[Opfok met kunstmelk]]=\"Ja\",1,0)","v":0},{"$f":"IF(lammering[[#This Row],[geslacht]]=\"O\",1,0)","v":0},{"$f":"IF(lammering[[#This Row],[Speen-datum]]=\"\",\"\",(lammering[[#This Row],[Speen-gewicht]]-lammering[[#This Row],[geboorte-gewicht]])/(lammering[[#This Row],[Speen-datum]]-lammering[[#This Row],[Werp-datum]]))","v":""},{"$f":"IF(lammering[[#This Row],[Verkoop-datum]]=\"\",\"\",(lammering[[#This Row],[Verkoop-gewicht]]-lammering[[#This Row],[Speen-gewicht]])/(lammering[[#This Row],[Verkoop-datum]]-lammering[[#This Row],[Speen-datum]]))","v":""},{"$f":"IF(lammering[[#This Row],[Verkoop-datum]]=\"\",\"\",(lammering[[#This Row],[Verkoop-gewicht]]-lammering[[#This Row],[geboorte-gewicht]])/(lammering[[#This Row],[Verkoop-datum]]-lammering[[#This Row],[Werp-datum]]))","v":""},"","","","","","",{"$f":"IF(lammering[[#This Row],[Verkoop-gewicht]]=\"\",\"\",lammering[[#This Row],[Verkoop-gewicht]]-lammering[[#This Row],[geboorte-gewicht]])","v":""},"","",{"$f":"Opzoek_ooi[[#This Row],[Ooinummer]]","v":0},"",""]
[{"$f":"lammering[[#This Row],[Ooi]]","v":0},0,0,{"$f":"IF(lammering[[#This Row],[Lam-nummer]]=\"\",0,1)","v":0},{"$f":"IF(lammering[[#This Row],[Dood in geboorte]]=\"ja\",1,0)","v":0},{"$f":"IF(lammering[[#This Row],[Ooi]]=\"\",0,IF(Berekeningen!E177=0,1,0))","v":0},{"$f":"IF(D177=0,0,IF(lammering[[#This Row],[Dood in geboorte]]=\"Ja\",0,IF(lammering[[#This Row],[Dood na geboorte]]=\"ja\",0,1)))","v":0},{"$f":"IF(lammering[[#This Row],[Opfok met kunstmelk]]=\"Ja\",1,0)","v":0},{"$f":"IF(lammering[[#This Row],[geslacht]]=\"O\",1,0)","v":0},{"$f":"IF(lammering[[#This Row],[Speen-datum]]=\"\",\"\",(lammering[[#This Row],[Speen-gewicht]]-lammering[[#This Row],[geboorte-gewicht]])/(lammering[[#This Row],[Speen-datum]]-lammering[[#This Row],[Werp-datum]]))","v":""},{"$f":"IF(lammering[[#This Row],[Verkoop-datum]]=\"\",\"\",(lammering[[#This Row],[Verkoop-gewicht]]-lammering[[#This Row],[Speen-gewicht]])/(lammering[[#This Row],[Verkoop-datum]]-lammering[[#This Row],[Speen-datum]]))","v":""},{"$f":"IF(lammering[[#This Row],[Verkoop-datum]]=\"\",\"\",(lammering[[#This Row],[Verkoop-gewicht]]-lammering[[#This Row],[geboorte-gewicht]])/(lammering[[#This Row],[Verkoop-datum]]-lammering[[#This Row],[Werp-datum]]))","v":""},"","","","","","",{"$f":"IF(lammering[[#This Row],[Verkoop-gewicht]]=\"\",\"\",lammering[[#This Row],[Verkoop-gewicht]]-lammering[[#This Row],[geboorte-gewicht]])","v":""},"","",{"$f":"Opzoek_ooi[[#This Row],[Ooinummer]]","v":0},"",""]
[{"$f":"lammering[[#This Row],[Ooi]]","v":0},0,0,{"$f":"IF(lammering[[#This Row],[Lam-nummer]]=\"\",0,1)","v":0},{"$f":"IF(lammering[[#This Row],[Dood in geboorte]]=\"ja\",1,0)","v":0},{"$f":"IF(lammering[[#This Row],[Ooi]]=\"\",0,IF(Berekeningen!E178=0,1,0))","v":0},{"$f":"IF(D178=0,0,IF(lammering[[#This Row],[Dood in geboorte]]=\"Ja\",0,IF(lammering[[#This Row],[Dood na geboorte]]=\"ja\",0,1)))","v":0},{"$f":"IF(lammering[[#This Row],[Opfok met kunstmelk]]=\"Ja\",1,0)","v":0},{"$f":"IF(lammering[[#This Row],[geslacht]]=\"O\",1,0)","v":0},{"$f":"IF(lammering[[#This Row],[Speen-datum]]=\"\",\"\",(lammering[[#This Row],[Speen-gewicht]]-lammering[[#This Row],[geboorte-gewicht]])/(lammering[[#This Row],[Speen-datum]]-lammering[[#This Row],[Werp-datum]]))","v":""},{"$f":"IF(lammering[[#This Row],[Verkoop-datum]]=\"\",\"\",(lammering[[#This Row],[Verkoop-gewicht]]-lammering[[#This Row],[Speen-gewicht]])/(lammering[[#This Row],[Verkoop-datum]]-lammering[[#This Row],[Speen-datum]]))","v":""},{"$f":"IF(lammering[[#This Row],[Verkoop-datum]]=\"\",\"\",(lammering[[#This Row],[Verkoop-gewicht]]-lammering[[#This Row],[geboorte-gewicht]])/(lammering[[#This Row],[Verkoop-datum]]-lammering[[#This Row],[Werp-datum]]))","v":""},"","","","","","",{"$f":"IF(lammering[[#This Row],[Verkoop-gewicht]]=\"\",\"\",lammering[[#This Row],[Verkoop-gewicht]]-lammering[[#This Row],[geboorte-gewicht]])","v":""},"","",{"$f":"Opzoek_ooi[[#This Row],[Ooinummer]]","v":0},"",""]
[{"$f":"lammering[[#This Row],[Ooi]]","v":0},0,0,{"$f":"IF(lammering[[#This Row],[Lam-nummer]]=\"\",0,1)","v":0},{"$f":"IF(lammering[[#This Row],[Dood in geboorte]]=\"ja\",1,0)","v":0},{"$f":"IF(lammering[[#This Row],[Ooi]]=\"\",0,IF(Berekeningen!E179=0,1,0))","v":0},{"$f":"IF(D179=0,0,IF(lammering[[#This Row],[Dood in geboorte]]=\"Ja\",0,IF(lammering[[#This Row],[Dood na geboorte]]=\"ja\",0,1)))","v":0},{"$f":"IF(lammering[[#This Row],[Opfok met kunstmelk]]=\"Ja\",1,0)","v":0},{"$f":"IF(lammering[[#This Row],[geslacht]]=\"O\",1,0)","v":0},{"$f":"IF(lammering[[#This Row],[Speen-datum]]=\"\",\"\",(lammering[[#This Row],[Speen-gewicht]]-lammering[[#This Row],[geboorte-gewicht]])/(lammering[[#This Row],[Speen-datum]]-lammering[[#This Row],[Werp-datum]]))","v":""},{"$f":"IF(lammering[[#This Row],[Verkoop-datum]]=\"\",\"\",(lammering[[#This Row],[Verkoop-gewicht]]-lammering[[#This Row],[Speen-gewicht]])/(lammering[[#This Row],[Verkoop-datum]]-lammering[[#This Row],[Speen-datum]]))","v":""},{"$f":"IF(lammering[[#This Row],[Verkoop-datum]]=\"\",\"\",(lammering[[#This Row],[Verkoop-gewicht]]-lammering[[#This Row],[geboorte-gewicht]])/(lammering[[#This Row],[Verkoop-datum]]-lammering[[#This Row],[Werp-datum]]))","v":""},"","","","","","",{"$f":"IF(lammering[[#This Row],[Verkoop-gewicht]]=\"\",\"\",lammering[[#This Row],[Verkoop-gewicht]]-lammering[[#This Row],[geboorte-gewicht]])","v":""},"","",{"$f":"Opzoek_ooi[[#This Row],[Ooinummer]]","v":0},"",""]
[{"$f":"lammering[[#This Row],[Ooi]]","v":0},0,0,{"$f":"IF(lammering[[#This Row],[Lam-nummer]]=\"\",0,1)","v":0},{"$f":"IF(lammering[[#This Row],[Dood in geboorte]]=\"ja\",1,0)","v":0},{"$f":"IF(lammering[[#This Row],[Ooi]]=\"\",0,IF(Berekeningen!E180=0,1,0))","v":0},{"$f":"IF(D180=0,0,IF(lammering[[#This Row],[Dood in geboorte]]=\"Ja\",0,IF(lammering[[#This Row],[Dood na geboorte]]=\"ja\",0,1)))","v":0},{"$f":"IF(lammering[[#This Row],[Opfok met kunstmelk]]=\"Ja\",1,0)","v":0},{"$f":"IF(lammering[[#This Row],[geslacht]]=\"O\",1,0)","v":0},{"$f":"IF(lammering[[#This Row],[Speen-datum]]=\"\",\"\",(lammering[[#This Row],[Speen-gewicht]]-lammering[[#This Row],[geboorte-gewicht]])/(lammering[[#This Row],[Speen-datum]]-lammering[[#This Row],[Werp-datum]]))","v":""},{"$f":"IF(lammering[[#This Row],[Verkoop-datum]]=\"\",\"\",(lammering[[#This Row],[Verkoop-gewicht]]-lammering[[#This Row],[Speen-gewicht]])/(lammering[[#This Row],[Verkoop-datum]]-lammering[[#This Row],[Speen-datum]]))","v":""},{"$f":"IF(lammering[[#This Row],[Verkoop-datum]]=\"\",\"\",(lammering[[#This Row],[Verkoop-gewicht]]-lammering[[#This Row],[geboorte-gewicht]])/(lammering[[#This Row],[Verkoop-datum]]-lammering[[#This Row],[Werp-datum]]))","v":""},"","","","","","",{"$f":"IF(lammering[[#This Row],[Verkoop-gewicht]]=\"\",\"\",lammering[[#This Row],[Verkoop-gewicht]]-lammering[[#This Row],[geboorte-gewicht]])","v":""},"","",{"$f":"Opzoek_ooi[[#This Row],[Ooinummer]]","v":0},"",""]
[{"$f":"lammering[[#This Row],[Ooi]]","v":0},0,0,{"$f":"IF(lammering[[#This Row],[Lam-nummer]]=\"\",0,1)","v":0},{"$f":"IF(lammering[[#This Row],[Dood in geboorte]]=\"ja\",1,0)","v":0},{"$f":"IF(lammering[[#This Row],[Ooi]]=\"\",0,IF(Berekeningen!E181=0,1,0))","v":0},{"$f":"IF(D181=0,0,IF(lammering[[#This Row],[Dood in geboorte]]=\"Ja\",0,IF(lammering[[#This Row],[Dood na geboorte]]=\"ja\",0,1)))","v":0},{"$f":"IF(lammering[[#This Row],[Opfok met kunstmelk]]=\"Ja\",1,0)","v":0},{"$f":"IF(lammering[[#This Row],[geslacht]]=\"O\",1,0)","v":0},{"$f":"IF(lammering[[#This Row],[Speen-datum]]=\"\",\"\",(lammering[[#This Row],[Speen-gewicht]]-lammering[[#This Row],[geboorte-gewicht]])/(lammering[[#This Row],[Speen-datum]]-lammering[[#This Row],[Werp-datum]]))","v":""},{"$f":"IF(lammering[[#This Row],[Verkoop-datum]]=\"\",\"\",(lammering[[#This Row],[Verkoop-gewicht]]-lammering[[#This Row],[Speen-gewicht]])/(lammering[[#This Row],[Verkoop-datum]]-lammering[[#This Row],[Speen-datum]]))","v":""},{"$f":"IF(lammering[[#This Row],[Verkoop-datum]]=\"\",\"\",(lammering[[#This Row],[Verkoop-gewicht]]-lammering[[#This Row],[geboorte-gewicht]])/(lammering[[#This Row],[Verkoop-datum]]-lammering[[#This Row],[Werp-datum]]))","v":""},"","","","","","",{"$f":"IF(lammering[[#This Row],[Verkoop-gewicht]]=\"\",\"\",lammering[[#This Row],[Verkoop-gewicht]]-lammering[[#This Row],[geboorte-gewicht]])","v":""},"","",{"$f":"Opzoek_ooi[[#This Row],[Ooinummer]]","v":0},"",""]
[{"$f":"lammering[[#This Row],[Ooi]]","v":0},0,0,{"$f":"IF(lammering[[#This Row],[Lam-nummer]]=\"\",0,1)","v":0},{"$f":"IF(lammering[[#This Row],[Dood in geboorte]]=\"ja\",1,0)","v":0},{"$f":"IF(lammering[[#This Row],[Ooi]]=\"\",0,IF(Berekeningen!E182=0,1,0))","v":0},{"$f":"IF(D182=0,0,IF(lammering[[#This Row],[Dood in geboorte]]=\"Ja\",0,IF(lammering[[#This Row],[Dood na geboorte]]=\"ja\",0,1)))","v":0},{"$f":"IF(lammering[[#This Row],[Opfok met kunstmelk]]=\"Ja\",1,0)","v":0},{"$f":"IF(lammering[[#This Row],[geslacht]]=\"O\",1,0)","v":0},{"$f":"IF(lammering[[#This Row],[Speen-datum]]=\"\",\"\",(lammering[[#This Row],[Speen-gewicht]]-lammering[[#This Row],[geboorte-gewicht]])/(lammering[[#This Row],[Speen-datum]]-lammering[[#This Row],[Werp-datum]]))","v":""},{"$f":"IF(lammering[[#This Row],[Verkoop-datum]]=\"\",\"\",(lammering[[#This Row],[Verkoop-gewicht]]-lammering[[#This Row],[Speen-gewicht]])/(lammering[[#This Row],[Verkoop-datum]]-lammering[[#This Row],[Speen-datum]]))","v":""},{"$f":"IF(lammering[[#This Row],[Verkoop-datum]]=\"\",\"\",(lammering[[#This Row],[Verkoop-gewicht]]-lammering[[#This Row],[geboorte-gewicht]])/(lammering[[#This Row],[Verkoop-datum]]-lammering[[#This Row],[Werp-datum]]))","v":""},"","","","","","",{"$f":"IF(lammering[[#This Row],[Verkoop-gewicht]]=\"\",\"\",lammering[[#This Row],[Verkoop-gewicht]]-lammering[[#This Row],[geboorte-gewicht]])","v":""},"","",{"$f":"Opzoek_ooi[[#This Row],[Ooinummer]]","v":0},"",""]
[{"$f":"lammering[[#This Row],[Ooi]]","v":0},0,0,{"$f":"IF(lammering[[#This Row],[Lam-nummer]]=\"\",0,1)","v":0},{"$f":"IF(lammering[[#This Row],[Dood in geboorte]]=\"ja\",1,0)","v":0},{"$f":"IF(lammering[[#This Row],[Ooi]]=\"\",0,IF(Berekeningen!E183=0,1,0))","v":0},{"$f":"IF(D183=0,0,IF(lammering[[#This Row],[Dood in geboorte]]=\"Ja\",0,IF(lammering[[#This Row],[Dood na geboorte]]=\"ja\",0,1)))","v":0},{"$f":"IF(lammering[[#This Row],[Opfok met kunstmelk]]=\"Ja\",1,0)","v":0},{"$f":"IF(lammering[[#This Row],[geslacht]]=\"O\",1,0)","v":0},{"$f":"IF(lammering[[#This Row],[Speen-datum]]=\"\",\"\",(lammering[[#This Row],[Speen-gewicht]]-lammering[[#This Row],[geboorte-gewicht]])/(lammering[[#This Row],[Speen-datum]]-lammering[[#This Row],[Werp-datum]]))","v":""},{"$f":"IF(lammering[[#This Row],[Verkoop-datum]]=\"\",\"\",(lammering[[#This Row],[Verkoop-gewicht]]-lammering[[#This Row],[Speen-gewicht]])/(lammering[[#This Row],[Verkoop-datum]]-lammering[[#This Row],[Speen-datum]]))","v":""},{"$f":"IF(lammering[[#This Row],[Verkoop-datum]]=\"\",\"\",(lammering[[#This Row],[Verkoop-gewicht]]-lammering[[#This Row],[geboorte-gewicht]])/(lammering[[#This Row],[Verkoop-datum]]-lammering[[#This Row],[Werp-datum]]))","v":""},"","","","","","",{"$f":"IF(lammering[[#This Row],[Verkoop-gewicht]]=\"\",\"\",lammering[[#This Row],[Verkoop-gewicht]]-lammering[[#This Row],[geboorte-gewicht]])","v":""},"","",{"$f":"Opzoek_ooi[[#This Row],[Ooinummer]]","v":0},"",""]
[{"$f":"lammering[[#This Row],[Ooi]]","v":0},0,0,{"$f":"IF(lammering[[#This Row],[Lam-nummer]]=\"\",0,1)","v":0},{"$f":"IF(lammering[[#This Row],[Dood in geboorte]]=\"ja\",1,0)","v":0},{"$f":"IF(lammering[[#This Row],[Ooi]]=\"\",0,IF(Berekeningen!E184=0,1,0))","v":0},{"$f":"IF(D184=0,0,IF(lammering[[#This Row],[Dood in geboorte]]=\"Ja\",0,IF(lammering[[#This Row],[Dood na geboorte]]=\"ja\",0,1)))","v":0},{"$f":"IF(lammering[[#This Row],[Opfok met kunstmelk]]=\"Ja\",1,0)","v":0},{"$f":"IF(lammering[[#This Row],[geslacht]]=\"O\",1,0)","v":0},{"$f":"IF(lammering[[#This Row],[Speen-datum]]=\"\",\"\",(lammering[[#This Row],[Speen-gewicht]]-lammering[[#This Row],[geboorte-gewicht]])/(lammering[[#This Row],[Speen-datum]]-lammering[[#This Row],[Werp-datum]]))","v":""},{"$f":"IF(lammering[[#This Row],[Verkoop-datum]]=\"\",\"\",(lammering[[#This Row],[Verkoop-gewicht]]-lammering[[#This Row],[Speen-gewicht]])/(lammering[[#This Row],[Verkoop-datum]]-lammering[[#This Row],[Speen-datum]]))","v":""},{"$f":"IF(lammering[[#This Row],[Verkoop-datum]]=\"\",\"\",(lammering[[#This Row],[Verkoop-gewicht]]-lammering[[#This Row],[geboorte-gewicht]])/(lammering[[#This Row],[Verkoop-datum]]-lammering[[#This Row],[Werp-datum]]))","v":""},"","","","","","",{"$f":"IF(lammering[[#This Row],[Verkoop-gewicht]]=\"\",\"\",lammering[[#This Row],[Verkoop-gewicht]]-lammering[[#This Row],[geboorte-gewicht]])","v":""},"","",{"$f":"Opzoek_ooi[[#This Row],[Ooinummer]]","v":0},"",""]
[{"$f":"lammering[[#This Row],[Ooi]]","v":0},0,0,{"$f":"IF(lammering[[#This Row],[Lam-nummer]]=\"\",0,1)","v":0},{"$f":"IF(lammering[[#This Row],[Dood in geboorte]]=\"ja\",1,0)","v":0},{"$f":"IF(lammering[[#This Row],[Ooi]]=\"\",0,IF(Berekeningen!E185=0,1,0))","v":0},{"$f":"IF(D185=0,0,IF(lammering[[#This Row],[Dood in geboorte]]=\"Ja\",0,IF(lammering[[#This Row],[Dood na geboorte]]=\"ja\",0,1)))","v":0},{"$f":"IF(lammering[[#This Row],[Opfok met kunstmelk]]=\"Ja\",1,0)","v":0},{"$f":"IF(lammering[[#This Row],[geslacht]]=\"O\",1,0)","v":0},{"$f":"IF(lammering[[#This Row],[Speen-datum]]=\"\",\"\",(lammering[[#This Row],[Speen-gewicht]]-lammering[[#This Row],[geboorte-gewicht]])/(lammering[[#This Row],[Speen-datum]]-lammering[[#This Row],[Werp-datum]]))","v":""},{"$f":"IF(lammering[[#This Row],[Verkoop-datum]]=\"\",\"\",(lammering[[#This Row],[Verkoop-gewicht]]-lammering[[#This Row],[Speen-gewicht]])/(lammering[[#This Row],[Verkoop-datum]]-lammering[[#This Row],[Speen-datum]]))","v":""},{"$f":"IF(lammering[[#This Row],[Verkoop-datum]]=\"\",\"\",(lammering[[#This Row],[Verkoop-gewicht]]-lammering[[#This Row],[geboorte-gewicht]])/(lammering[[#This Row],[Verkoop-datum]]-lammering[[#This Row],[Werp-datum]]))","v":""},"","","","","","",{"$f":"IF(lammering[[#This Row],[Verkoop-gewicht]]=\"\",\"\",lammering[[#This Row],[Verkoop-gewicht]]-lammering[[#This Row],[geboorte-gewicht]])","v":""},"","",{"$f":"Opzoek_ooi[[#This Row],[Ooinummer]]","v":0},"",""]
[{"$f":"lammering[[#This Row],[Ooi]]","v":0},0,0,{"$f":"IF(lammering[[#This Row],[Lam-nummer]]=\"\",0,1)","v":0},{"$f":"IF(lammering[[#This Row],[Dood in geboorte]]=\"ja\",1,0)","v":0},{"$f":"IF(lammering[[#This Row],[Ooi]]=\"\",0,IF(Berekeningen!E186=0,1,0))","v":0},{"$f":"IF(D186=0,0,IF(lammering[[#This Row],[Dood in geboorte]]=\"Ja\",0,IF(lammering[[#This Row],[Dood na geboorte]]=\"ja\",0,1)))","v":0},{"$f":"IF(lammering[[#This Row],[Opfok met kunstmelk]]=\"Ja\",1,0)","v":0},{"$f":"IF(lammering[[#This Row],[geslacht]]=\"O\",1,0)","v":0},{"$f":"IF(lammering[[#This Row],[Speen-datum]]=\"\",\"\",(lammering[[#This Row],[Speen-gewicht]]-lammering[[#This Row],[geboorte-gewicht]])/(lammering[[#This Row],[Speen-datum]]-lammering[[#This Row],[Werp-datum]]))","v":""},{"$f":"IF(lammering[[#This Row],[Verkoop-datum]]=\"\",\"\",(lammering[[#This Row],[Verkoop-gewicht]]-lammering[[#This Row],[Speen-gewicht]])/(lammering[[#This Row],[Verkoop-datum]]-lammering[[#This Row],[Speen-datum]]))","v":""},{"$f":"IF(lammering[[#This Row],[Verkoop-datum]]=\"\",\"\",(lammering[[#This Row],[Verkoop-gewicht]]-lammering[[#This Row],[geboorte-gewicht]])/(lammering[[#This Row],[Verkoop-datum]]-lammering[[#This Row],[Werp-datum]]))","v":""},"","","","","","",{"$f":"IF(lammering[[#This Row],[Verkoop-gewicht]]=\"\",\"\",lammering[[#This Row],[Verkoop-gewicht]]-lammering[[#This Row],[geboorte-gewicht]])","v":""},"","",{"$f":"Opzoek_ooi[[#This Row],[Ooinummer]]","v":0},"",""]
[{"$f":"lammering[[#This Row],[Ooi]]","v":0},0,0,{"$f":"IF(lammering[[#This Row],[Lam-nummer]]=\"\",0,1)","v":0},{"$f":"IF(lammering[[#This Row],[Dood in geboorte]]=\"ja\",1,0)","v":0},{"$f":"IF(lammering[[#This Row],[Ooi]]=\"\",0,IF(Berekeningen!E187=0,1,0))","v":0},{"$f":"IF(D187=0,0,IF(lammering[[#This Row],[Dood in geboorte]]=\"Ja\",0,IF(lammering[[#This Row],[Dood na geboorte]]=\"ja\",0,1)))","v":0},{"$f":"IF(lammering[[#This Row],[Opfok met kunstmelk]]=\"Ja\",1,0)","v":0},{"$f":"IF(lammering[[#This Row],[geslacht]]=\"O\",1,0)","v":0},{"$f":"IF(lammering[[#This Row],[Speen-datum]]=\"\",\"\",(lammering[[#This Row],[Speen-gewicht]]-lammering[[#This Row],[geboorte-gewicht]])/(lammering[[#This Row],[Speen-datum]]-lammering[[#This Row],[Werp-datum]]))","v":""},{"$f":"IF(lammering[[#This Row],[Verkoop-datum]]=\"\",\"\",(lammering[[#This Row],[Verkoop-gewicht]]-lammering[[#This Row],[Speen-gewicht]])/(lammering[[#This Row],[Verkoop-datum]]-lammering[[#This Row],[Speen-datum]]))","v":""},{"$f":"IF(lammering[[#This Row],[Verkoop-datum]]=\"\",\"\",(lammering[[#This Row],[Verkoop-gewicht]]-lammering[[#This Row],[geboorte-gewicht]])/(lammering[[#This Row],[Verkoop-datum]]-lammering[[#This Row],[Werp-datum]]))","v":""},"","","","","","",{"$f":"IF(lammering[[#This Row],[Verkoop-gewicht]]=\"\",\"\",lammering[[#This Row],[Verkoop-gewicht]]-lammering[[#This Row],[geboorte-gewicht]])","v":""},"","",{"$f":"Opzoek_ooi[[#This Row],[Ooinummer]]","v":0},"",""]
[{"$f":"lammering[[#This Row],[Ooi]]","v":0},0,0,{"$f":"IF(lammering[[#This Row],[Lam-nummer]]=\"\",0,1)","v":0},{"$f":"IF(lammering[[#This Row],[Dood in geboorte]]=\"ja\",1,0)","v":0},{"$f":"IF(lammering[[#This Row],[Ooi]]=\"\",0,IF(Berekeningen!E188=0,1,0))","v":0},{"$f":"IF(D188=0,0,IF(lammering[[#This Row],[Dood in geboorte]]=\"Ja\",0,IF(lammering[[#This Row],[Dood na geboorte]]=\"ja\",0,1)))","v":0},{"$f":"IF(lammering[[#This Row],[Opfok met kunstmelk]]=\"Ja\",1,0)","v":0},{"$f":"IF(lammering[[#This Row],[geslacht]]=\"O\",1,0)","v":0},{"$f":"IF(lammering[[#This Row],[Speen-datum]]=\"\",\"\",(lammering[[#This Row],[Speen-gewicht]]-lammering[[#This Row],[geboorte-gewicht]])/(lammering[[#This Row],[Speen-datum]]-lammering[[#This Row],[Werp-datum]]))","v":""},{"$f":"IF(lammering[[#This Row],[Verkoop-datum]]=\"\",\"\",(lammering[[#This Row],[Verkoop-gewicht]]-lammering[[#This Row],[Speen-gewicht]])/(lammering[[#This Row],[Verkoop-datum]]-lammering[[#This Row],[Speen-datum]]))","v":""},{"$f":"IF(lammering[[#This Row],[Verkoop-datum]]=\"\",\"\",(lammering[[#This Row],[Verkoop-gewicht]]-lammering[[#This Row],[geboorte-gewicht]])/(lammering[[#This Row],[Verkoop-datum]]-lammering[[#This Row],[Werp-datum]]))","v":""},"","","","","","",{"$f":"IF(lammering[[#This Row],[Verkoop-gewicht]]=\"\",\"\",lammering[[#This Row],[Verkoop-gewicht]]-lammering[[#This Row],[geboorte-gewicht]])","v":""},"","",{"$f":"Opzoek_ooi[[#This Row],[Ooinummer]]","v":0},"",""]
[{"$f":"lammering[[#This Row],[Ooi]]","v":0},0,0,{"$f":"IF(lammering[[#This Row],[Lam-nummer]]=\"\",0,1)","v":0},{"$f":"IF(lammering[[#This Row],[Dood in geboorte]]=\"ja\",1,0)","v":0},{"$f":"IF(lammering[[#This Row],[Ooi]]=\"\",0,IF(Berekeningen!E189=0,1,0))","v":0},{"$f":"IF(D189=0,0,IF(lammering[[#This Row],[Dood in geboorte]]=\"Ja\",0,IF(lammering[[#This Row],[Dood na geboorte]]=\"ja\",0,1)))","v":0},{"$f":"IF(lammering[[#This Row],[Opfok met kunstmelk]]=\"Ja\",1,0)","v":0},{"$f":"IF(lammering[[#This Row],[geslacht]]=\"O\",1,0)","v":0},{"$f":"IF(lammering[[#This Row],[Speen-datum]]=\"\",\"\",(lammering[[#This Row],[Speen-gewicht]]-lammering[[#This Row],[geboorte-gewicht]])/(lammering[[#This Row],[Speen-datum]]-lammering[[#This Row],[Werp-datum]]))","v":""},{"$f":"IF(lammering[[#This Row],[Verkoop-datum]]=\"\",\"\",(lammering[[#This Row],[Verkoop-gewicht]]-lammering[[#This Row],[Speen-gewicht]])/(lammering[[#This Row],[Verkoop-datum]]-lammering[[#This Row],[Speen-datum]]))","v":""},{"$f":"IF(lammering[[#This Row],[Verkoop-datum]]=\"\",\"\",(lammering[[#This Row],[Verkoop-gewicht]]-lammering[[#This Row],[geboorte-gewicht]])/(lammering[[#This Row],[Verkoop-datum]]-lammering[[#This Row],[Werp-datum]]))","v":""},"","","","","","",{"$f":"IF(lammering[[#This Row],[Verkoop-gewicht]]=\"\",\"\",lammering[[#This Row],[Verkoop-gewicht]]-lammering[[#This Row],[geboorte-gewicht]])","v":""},"","",{"$f":"Opzoek_ooi[[#This Row],[Ooinummer]]","v":0},"",""]
[{"$f":"lammering[[#This Row],[Ooi]]","v":0},0,0,{"$f":"IF(lammering[[#This Row],[Lam-nummer]]=\"\",0,1)","v":0},{"$f":"IF(lammering[[#This Row],[Dood in geboorte]]=\"ja\",1,0)","v":0},{"$f":"IF(lammering[[#This Row],[Ooi]]=\"\",0,IF(Berekeningen!E190=0,1,0))","v":0},{"$f":"IF(D190=0,0,IF(lammering[[#This Row],[Dood in geboorte]]=\"Ja\",0,IF(lammering[[#This Row],[Dood na geboorte]]=\"ja\",0,1)))","v":0},{"$f":"IF(lammering[[#This Row],[Opfok met kunstmelk]]=\"Ja\",1,0)","v":0},{"$f":"IF(lammering[[#This Row],[geslacht]]=\"O\",1,0)","v":0},{"$f":"IF(lammering[[#This Row],[Speen-datum]]=\"\",\"\",(lammering[[#This Row],[Speen-gewicht]]-lammering[[#This Row],[geboorte-gewicht]])/(lammering[[#This Row],[Speen-datum]]-lammering[[#This Row],[Werp-datum]]))","v":""},{"$f":"IF(lammering[[#This Row],[Verkoop-datum]]=\"\",\"\",(lammering[[#This Row],[Verkoop-gewicht]]-lammering[[#This Row],[Speen-gewicht]])/(lammering[[#This Row],[Verkoop-datum]]-lammering[[#This Row],[Speen-datum]]))","v":""},{"$f":"IF(lammering[[#This Row],[Verkoop-datum]]=\"\",\"\",(lammering[[#This Row],[Verkoop-gewicht]]-lammering[[#This Row],[geboorte-gewicht]])/(lammering[[#This Row],[Verkoop-datum]]-lammering[[#This Row],[Werp-datum]]))","v":""},"","","","","","",{"$f":"IF(lammering[[#This Row],[Verkoop-gewicht]]=\"\",\"\",lammering[[#This Row],[Verkoop-gewicht]]-lammering[[#This Row],[geboorte-gewicht]])","v":""},"","",{"$f":"Opzoek_ooi[[#This Row],[Ooinummer]]","v":0},"",""]
[{"$f":"lammering[[#This Row],[Ooi]]","v":0},0,0,{"$f":"IF(lammering[[#This Row],[Lam-nummer]]=\"\",0,1)","v":0},{"$f":"IF(lammering[[#This Row],[Dood in geboorte]]=\"ja\",1,0)","v":0},{"$f":"IF(lammering[[#This Row],[Ooi]]=\"\",0,IF(Berekeningen!E191=0,1,0))","v":0},{"$f":"IF(D191=0,0,IF(lammering[[#This Row],[Dood in geboorte]]=\"Ja\",0,IF(lammering[[#This Row],[Dood na geboorte]]=\"ja\",0,1)))","v":0},{"$f":"IF(lammering[[#This Row],[Opfok met kunstmelk]]=\"Ja\",1,0)","v":0},{"$f":"IF(lammering[[#This Row],[geslacht]]=\"O\",1,0)","v":0},{"$f":"IF(lammering[[#This Row],[Speen-datum]]=\"\",\"\",(lammering[[#This Row],[Speen-gewicht]]-lammering[[#This Row],[geboorte-gewicht]])/(lammering[[#This Row],[Speen-datum]]-lammering[[#This Row],[Werp-datum]]))","v":""},{"$f":"IF(lammering[[#This Row],[Verkoop-datum]]=\"\",\"\",(lammering[[#This Row],[Verkoop-gewicht]]-lammering[[#This Row],[Speen-gewicht]])/(lammering[[#This Row],[Verkoop-datum]]-lammering[[#This Row],[Speen-datum]]))","v":""},{"$f":"IF(lammering[[#This Row],[Verkoop-datum]]=\"\",\"\",(lammering[[#This Row],[Verkoop-gewicht]]-lammering[[#This Row],[geboorte-gewicht]])/(lammering[[#This Row],[Verkoop-datum]]-lammering[[#This Row],[Werp-datum]]))","v":""},"","","","","","",{"$f":"IF(lammering[[#This Row],[Verkoop-gewicht]]=\"\",\"\",lammering[[#This Row],[Verkoop-gewicht]]-lammering[[#This Row],[geboorte-gewicht]])","v":""},"","",{"$f":"Opzoek_ooi[[#This Row],[Ooinummer]]","v":0},"",""]
[{"$f":"lammering[[#This Row],[Ooi]]","v":0},0,0,{"$f":"IF(lammering[[#This Row],[Lam-nummer]]=\"\",0,1)","v":0},{"$f":"IF(lammering[[#This Row],[Dood in geboorte]]=\"ja\",1,0)","v":0},{"$f":"IF(lammering[[#This Row],[Ooi]]=\"\",0,IF(Berekeningen!E192=0,1,0))","v":0},{"$f":"IF(D192=0,0,IF(lammering[[#This Row],[Dood in geboorte]]=\"Ja\",0,IF(lammering[[#This Row],[Dood na geboorte]]=\"ja\",0,1)))","v":0},{"$f":"IF(lammering[[#This Row],[Opfok met kunstmelk]]=\"Ja\",1,0)","v":0},{"$f":"IF(lammering[[#This Row],[geslacht]]=\"O\",1,0)","v":0},{"$f":"IF(lammering[[#This Row],[Speen-datum]]=\"\",\"\",(lammering[[#This Row],[Speen-gewicht]]-lammering[[#This Row],[geboorte-gewicht]])/(lammering[[#This Row],[Speen-datum]]-lammering[[#This Row],[Werp-datum]]))","v":""},{"$f":"IF(lammering[[#This Row],[Verkoop-datum]]=\"\",\"\",(lammering[[#This Row],[Verkoop-gewicht]]-lammering[[#This Row],[Speen-gewicht]])/(lammering[[#This Row],[Verkoop-datum]]-lammering[[#This Row],[Speen-datum]]))","v":""},{"$f":"IF(lammering[[#This Row],[Verkoop-datum]]=\"\",\"\",(lammering[[#This Row],[Verkoop-gewicht]]-lammering[[#This Row],[geboorte-gewicht]])/(lammering[[#This Row],[Verkoop-datum]]-lammering[[#This Row],[Werp-datum]]))","v":""},"","","","","","",{"$f":"IF(lammering[[#This Row],[Verkoop-gewicht]]=\"\",\"\",lammering[[#This Row],[Verkoop-gewicht]]-lammering[[#This Row],[geboorte-gewicht]])","v":""},"","",{"$f":"Opzoek_ooi[[#This Row],[Ooinummer]]","v":0},"",""]
[{"$f":"lammering[[#This Row],[Ooi]]","v":0},0,0,{"$f":"IF(lammering[[#This Row],[Lam-nummer]]=\"\",0,1)","v":0},{"$f":"IF(lammering[[#This Row],[Dood in geboorte]]=\"ja\",1,0)","v":0},{"$f":"IF(lammering[[#This Row],[Ooi]]=\"\",0,IF(Berekeningen!E193=0,1,0))","v":0},{"$f":"IF(D193=0,0,IF(lammering[[#This Row],[Dood in geboorte]]=\"Ja\",0,IF(lammering[[#This Row],[Dood na geboorte]]=\"ja\",0,1)))","v":0},{"$f":"IF(lammering[[#This Row],[Opfok met kunstmelk]]=\"Ja\",1,0)","v":0},{"$f":"IF(lammering[[#This Row],[geslacht]]=\"O\",1,0)","v":0},{"$f":"IF(lammering[[#This Row],[Speen-datum]]=\"\",\"\",(lammering[[#This Row],[Speen-gewicht]]-lammering[[#This Row],[geboorte-gewicht]])/(lammering[[#This Row],[Speen-datum]]-lammering[[#This Row],[Werp-datum]]))","v":""},{"$f":"IF(lammering[[#This Row],[Verkoop-datum]]=\"\",\"\",(lammering[[#This Row],[Verkoop-gewicht]]-lammering[[#This Row],[Speen-gewicht]])/(lammering[[#This Row],[Verkoop-datum]]-lammering[[#This Row],[Speen-datum]]))","v":""},{"$f":"IF(lammering[[#This Row],[Verkoop-datum]]=\"\",\"\",(lammering[[#This Row],[Verkoop-gewicht]]-lammering[[#This Row],[geboorte-gewicht]])/(lammering[[#This Row],[Verkoop-datum]]-lammering[[#This Row],[Werp-datum]]))","v":""},"","","","","","",{"$f":"IF(lammering[[#This Row],[Verkoop-gewicht]]=\"\",\"\",lammering[[#This Row],[Verkoop-gewicht]]-lammering[[#This Row],[geboorte-gewicht]])","v":""},"","",{"$f":"Opzoek_ooi[[#This Row],[Ooinummer]]","v":0},"",""]
[{"$f":"lammering[[#This Row],[Ooi]]","v":0},0,0,{"$f":"IF(lammering[[#This Row],[Lam-nummer]]=\"\",0,1)","v":0},{"$f":"IF(lammering[[#This Row],[Dood in geboorte]]=\"ja\",1,0)","v":0},{"$f":"IF(lammering[[#This Row],[Ooi]]=\"\",0,IF(Berekeningen!E194=0,1,0))","v":0},{"$f":"IF(D194=0,0,IF(lammering[[#This Row],[Dood in geboorte]]=\"Ja\",0,IF(lammering[[#This Row],[Dood na geboorte]]=\"ja\",0,1)))","v":0},{"$f":"IF(lammering[[#This Row],[Opfok met kunstmelk]]=\"Ja\",1,0)","v":0},{"$f":"IF(lammering[[#This Row],[geslacht]]=\"O\",1,0)","v":0},{"$f":"IF(lammering[[#This Row],[Speen-datum]]=\"\",\"\",(lammering[[#This Row],[Speen-gewicht]]-lammering[[#This Row],[geboorte-gewicht]])/(lammering[[#This Row],[Speen-datum]]-lammering[[#This Row],[Werp-datum]]))","v":""},{"$f":"IF(lammering[[#This Row],[Verkoop-datum]]=\"\",\"\",(lammering[[#This Row],[Verkoop-gewicht]]-lammering[[#This Row],[Speen-gewicht]])/(lammering[[#This Row],[Verkoop-datum]]-lammering[[#This Row],[Speen-datum]]))","v":""},{"$f":"IF(lammering[[#This Row],[Verkoop-datum]]=\"\",\"\",(lammering[[#This Row],[Verkoop-gewicht]]-lammering[[#This Row],[geboorte-gewicht]])/(lammering[[#This Row],[Verkoop-datum]]-lammering[[#This Row],[Werp-datum]]))","v":""},"","","","","","",{"$f":"IF(lammering[[#This Row],[Verkoop-gewicht]]=\"\",\"\",lammering[[#This Row],[Verkoop-gewicht]]-lammering[[#This Row],[geboorte-gewicht]])","v":""},"","",{"$f":"Opzoek_ooi[[#This Row],[Ooinummer]]","v":0},"",""]
[{"$f":"lammering[[#This Row],[Ooi]]","v":0},{"$f":"IF(A195=0,0,IF(A195=A194,0,1))","v":0},{"$f":"IF(B195=1,A195,0)","v":0},{"$f":"IF(lammering[[#This Row],[Lam-nummer]]=\"\",0,1)","v":0},{"$f":"IF(lammering[[#This Row],[Dood in geboorte]]=\"ja\",1,0)","v":0},{"$f":"IF(lammering[[#This Row],[Ooi]]=\"\",0,IF(Berekeningen!E195=0,1,0))","v":0},{"$f":"IF(D195=0,0,IF(lammering[[#This Row],[Dood in geboorte]]=\"Ja\",0,IF(lammering[[#This Row],[Dood na geboorte]]=\"ja\",0,1)))","v":0},{"$f":"IF(lammering[[#This Row],[Opfok met kunstmelk]]=\"Ja\",1,0)","v":0},{"$f":"IF(lammering[[#This Row],[geslacht]]=\"O\",1,0)","v":0},{"$f":"IF(lammering[[#This Row],[Speen-datum]]=\"\",\"\",(lammering[[#This Row],[Speen-gewicht]]-lammering[[#This Row],[geboorte-gewicht]])/(lammering[[#This Row],[Speen-datum]]-lammering[[#This Row],[Werp-datum]]))","v":""},{"$f":"IF(lammering[[#This Row],[Verkoop-datum]]=\"\",\"\",(lammering[[#This Row],[Verkoop-gewicht]]-lammering[[#This Row],[Speen-gewicht]])/(lammering[[#This Row],[Verkoop-datum]]-lammering[[#This Row],[Speen-datum]]))","v":""},{"$f":"IF(lammering[[#This Row],[Verkoop-datum]]=\"\",\"\",(lammering[[#This Row],[Verkoop-gewicht]]-lammering[[#This Row],[geboorte-gewicht]])/(lammering[[#This Row],[Verkoop-datum]]-lammering[[#This Row],[Werp-datum]]))","v":""},"","","","","","",{"$f":"IF(lammering[[#This Row],[Verkoop-gewicht]]=\"\",\"\",lammering[[#This Row],[Verkoop-gewicht]]-lammering[[#This Row],[geboorte-gewicht]])","v":""},"","",{"$f":"Opzoek_ooi[[#This Row],[Ooinummer]]","v":0},"",{"$f":"IF(W195>0,W195,\"\")","v":""}]
[{"$f":"lammering[[#This Row],[Ooi]]","v":0},0,0,{"$f":"IF(lammering[[#This Row],[Lam-nummer]]=\"\",0,1)","v":0},{"$f":"IF(lammering[[#This Row],[Dood in geboorte]]=\"ja\",1,0)","v":0},{"$f":"IF(lammering[[#This Row],[Ooi]]=\"\",0,IF(Berekeningen!E196=0,1,0))","v":0},{"$f":"IF(D196=0,0,IF(lammering[[#This Row],[Dood in geboorte]]=\"Ja\",0,IF(lammering[[#This Row],[Dood na geboorte]]=\"ja\",0,1)))","v":0},{"$f":"IF(lammering[[#This Row],[Opfok met kunstmelk]]=\"Ja\",1,0)","v":0},{"$f":"IF(lammering[[#This Row],[geslacht]]=\"O\",1,0)","v":0},{"$f":"IF(lammering[[#This Row],[Speen-datum]]=\"\",\"\",(lammering[[#This Row],[Speen-gewicht]]-lammering[[#This Row],[geboorte-gewicht]])/(lammering[[#This Row],[Speen-datum]]-lammering[[#This Row],[Werp-datum]]))","v":""},{"$f":"IF(lammering[[#This Row],[Verkoop-datum]]=\"\",\"\",(lammering[[#This Row],[Verkoop-gewicht]]-lammering[[#This Row],[Speen-gewicht]])/(lammering[[#This Row],[Verkoop-datum]]-lammering[[#This Row],[Speen-datum]]))","v":""},{"$f":"IF(lammering[[#This Row],[Verkoop-datum]]=\"\",\"\",(lammering[[#This Row],[Verkoop-gewicht]]-lammering[[#This Row],[geboorte-gewicht]])/(lammering[[#This Row],[Verkoop-datum]]-lammering[[#This Row],[Werp-datum]]))","v":""},"","","","","","",{"$f":"IF(lammering[[#This Row],[Verkoop-gewicht]]=\"\",\"\",lammering[[#This Row],[Verkoop-gewicht]]-lammering[[#This Row],[geboorte-gewicht]])","v":""},"","",{"$f":"Opzoek_ooi[[#This Row],[Ooinummer]]","v":0},"",""]
[{"$f":"lammering[[#This Row],[Ooi]]","v":0},0,0,{"$f":"IF(lammering[[#This Row],[Lam-nummer]]=\"\",0,1)","v":0},{"$f":"IF(lammering[[#This Row],[Dood in geboorte]]=\"ja\",1,0)","v":0},{"$f":"IF(lammering[[#This Row],[Ooi]]=\"\",0,IF(Berekeningen!E197=0,1,0))","v":0},{"$f":"IF(D197=0,0,IF(lammering[[#This Row],[Dood in geboorte]]=\"Ja\",0,IF(lammering[[#This Row],[Dood na geboorte]]=\"ja\",0,1)))","v":0},{"$f":"IF(lammering[[#This Row],[Opfok met kunstmelk]]=\"Ja\",1,0)","v":0},{"$f":"IF(lammering[[#This Row],[geslacht]]=\"O\",1,0)","v":0},{"$f":"IF(lammering[[#This Row],[Speen-datum]]=\"\",\"\",(lammering[[#This Row],[Speen-gewicht]]-lammering[[#This Row],[geboorte-gewicht]])/(lammering[[#This Row],[Speen-datum]]-lammering[[#This Row],[Werp-datum]]))","v":""},{"$f":"IF(lammering[[#This Row],[Verkoop-datum]]=\"\",\"\",(lammering[[#This Row],[Verkoop-gewicht]]-lammering[[#This Row],[Speen-gewicht]])/(lammering[[#This Row],[Verkoop-datum]]-lammering[[#This Row],[Speen-datum]]))","v":""},{"$f":"IF(lammering[[#This Row],[Verkoop-datum]]=\"\",\"\",(lammering[[#This Row],[Verkoop-gewicht]]-lammering[[#This Row],[geboorte-gewicht]])/(lammering[[#This Row],[Verkoop-datum]]-lammering[[#This Row],[Werp-datum]]))","v":""},"","","","","","",{"$f":"IF(lammering[[#This Row],[Verkoop-gewicht]]=\"\",\"\",lammering[[#This Row],[Verkoop-gewicht]]-lammering[[#This Row],[geboorte-gewicht]])","v":""},"","",{"$f":"Opzoek_ooi[[#This Row],[Ooinummer]]","v":0},"",""]
[{"$f":"lammering[[#This Row],[Ooi]]","v":0},0,0,{"$f":"IF(lammering[[#This Row],[Lam-nummer]]=\"\",0,1)","v":0},{"$f":"IF(lammering[[#This Row],[Dood in geboorte]]=\"ja\",1,0)","v":0},{"$f":"IF(lammering[[#This Row],[Ooi]]=\"\",0,IF(Berekeningen!E198=0,1,0))","v":0},{"$f":"IF(D198=0,0,IF(lammering[[#This Row],[Dood in geboorte]]=\"Ja\",0,IF(lammering[[#This Row],[Dood na geboorte]]=\"ja\",0,1)))","v":0},{"$f":"IF(lammering[[#This Row],[Opfok met kunstmelk]]=\"Ja\",1,0)","v":0},{"$f":"IF(lammering[[#This Row],[geslacht]]=\"O\",1,0)","v":0},{"$f":"IF(lammering[[#This Row],[Speen-datum]]=\"\",\"\",(lammering[[#This Row],[Speen-gewicht]]-lammering[[#This Row],[geboorte-gewicht]])/(lammering[[#This Row],[Speen-datum]]-lammering[[#This Row],[Werp-datum]]))","v":""},{"$f":"IF(lammering[[#This Row],[Verkoop-datum]]=\"\",\"\",(lammering[[#This Row],[Verkoop-gewicht]]-lammering[[#This Row],[Speen-gewicht]])/(lammering[[#This Row],[Verkoop-datum]]-lammering[[#This Row],[Speen-datum]]))","v":""},{"$f":"IF(lammering[[#This Row],[Verkoop-datum]]=\"\",\"\",(lammering[[#This Row],[Verkoop-gewicht]]-lammering[[#This Row],[geboorte-gewicht]])/(lammering[[#This Row],[Verkoop-datum]]-lammering[[#This Row],[Werp-datum]]))","v":""},"","","","","","",{"$f":"IF(lammering[[#This Row],[Verkoop-gewicht]]=\"\",\"\",lammering[[#This Row],[Verkoop-gewicht]]-lammering[[#This Row],[geboorte-gewicht]])","v":""},"","",{"$f":"Opzoek_ooi[[#This Row],[Ooinummer]]","v":0},"",""]
[{"$f":"lammering[[#This Row],[Ooi]]","v":0},0,0,{"$f":"IF(lammering[[#This Row],[Lam-nummer]]=\"\",0,1)","v":0},{"$f":"IF(lammering[[#This Row],[Dood in geboorte]]=\"ja\",1,0)","v":0},{"$f":"IF(lammering[[#This Row],[Ooi]]=\"\",0,IF(Berekeningen!E199=0,1,0))","v":0},{"$f":"IF(D199=0,0,IF(lammering[[#This Row],[Dood in geboorte]]=\"Ja\",0,IF(lammering[[#This Row],[Dood na geboorte]]=\"ja\",0,1)))","v":0},{"$f":"IF(lammering[[#This Row],[Opfok met kunstmelk]]=\"Ja\",1,0)","v":0},{"$f":"IF(lammering[[#This Row],[geslacht]]=\"O\",1,0)","v":0},{"$f":"IF(lammering[[#This Row],[Speen-datum]]=\"\",\"\",(lammering[[#This Row],[Speen-gewicht]]-lammering[[#This Row],[geboorte-gewicht]])/(lammering[[#This Row],[Speen-datum]]-lammering[[#This Row],[Werp-datum]]))","v":""},{"$f":"IF(lammering[[#This Row],[Verkoop-datum]]=\"\",\"\",(lammering[[#This Row],[Verkoop-gewicht]]-lammering[[#This Row],[Speen-gewicht]])/(lammering[[#This Row],[Verkoop-datum]]-lammering[[#This Row],[Speen-datum]]))","v":""},{"$f":"IF(lammering[[#This Row],[Verkoop-datum]]=\"\",\"\",(lammering[[#This Row],[Verkoop-gewicht]]-lammering[[#This Row],[geboorte-gewicht]])/(lammering[[#This Row],[Verkoop-datum]]-lammering[[#This Row],[Werp-datum]]))","v":""},"","","","","","",{"$f":"IF(lammering[[#This Row],[Verkoop-gewicht]]=\"\",\"\",lammering[[#This Row],[Verkoop-gewicht]]-lammering[[#This Row],[geboorte-gewicht]])","v":""},"","",{"$f":"Opzoek_ooi[[#This Row],[Ooinummer]]","v":0},"",""]
[{"$f":"lammering[[#This Row],[Ooi]]","v":0},0,0,{"$f":"IF(lammering[[#This Row],[Lam-nummer]]=\"\",0,1)","v":0},{"$f":"IF(lammering[[#This Row],[Dood in geboorte]]=\"ja\",1,0)","v":0},{"$f":"IF(lammering[[#This Row],[Ooi]]=\"\",0,IF(Berekeningen!E200=0,1,0))","v":0},{"$f":"IF(D200=0,0,IF(lammering[[#This Row],[Dood in geboorte]]=\"Ja\",0,IF(lammering[[#This Row],[Dood na geboorte]]=\"ja\",0,1)))","v":0},{"$f":"IF(lammering[[#This Row],[Opfok met kunstmelk]]=\"Ja\",1,0)","v":0},{"$f":"IF(lammering[[#This Row],[geslacht]]=\"O\",1,0)","v":0},{"$f":"IF(lammering[[#This Row],[Speen-datum]]=\"\",\"\",(lammering[[#This Row],[Speen-gewicht]]-lammering[[#This Row],[geboorte-gewicht]])/(lammering[[#This Row],[Speen-datum]]-lammering[[#This Row],[Werp-datum]]))","v":""},{"$f":"IF(lammering[[#This Row],[Verkoop-datum]]=\"\",\"\",(lammering[[#This Row],[Verkoop-gewicht]]-lammering[[#This Row],[Speen-gewicht]])/(lammering[[#This Row],[Verkoop-datum]]-lammering[[#This Row],[Speen-datum]]))","v":""},{"$f":"IF(lammering[[#This Row],[Verkoop-datum]]=\"\",\"\",(lammering[[#This Row],[Verkoop-gewicht]]-lammering[[#This Row],[geboorte-gewicht]])/(lammering[[#This Row],[Verkoop-datum]]-lammering[[#This Row],[Werp-datum]]))","v":""},"","","","","","",{"$f":"IF(lammering[[#This Row],[Verkoop-gewicht]]=\"\",\"\",lammering[[#This Row],[Verkoop-gewicht]]-lammering[[#This Row],[geboorte-gewicht]])","v":""},"","",{"$f":"Opzoek_ooi[[#This Row],[Ooinummer]]","v":0},"",""]
[{"$f":"lammering[[#This Row],[Ooi]]","v":0},0,0,{"$f":"IF(lammering[[#This Row],[Lam-nummer]]=\"\",0,1)","v":0},{"$f":"IF(lammering[[#This Row],[Dood in geboorte]]=\"ja\",1,0)","v":0},{"$f":"IF(lammering[[#This Row],[Ooi]]=\"\",0,IF(Berekeningen!E201=0,1,0))","v":0},{"$f":"IF(D201=0,0,IF(lammering[[#This Row],[Dood in geboorte]]=\"Ja\",0,IF(lammering[[#This Row],[Dood na geboorte]]=\"ja\",0,1)))","v":0},{"$f":"IF(lammering[[#This Row],[Opfok met kunstmelk]]=\"Ja\",1,0)","v":0},{"$f":"IF(lammering[[#This Row],[geslacht]]=\"O\",1,0)","v":0},{"$f":"IF(lammering[[#This Row],[Speen-datum]]=\"\",\"\",(lammering[[#This Row],[Speen-gewicht]]-lammering[[#This Row],[geboorte-gewicht]])/(lammering[[#This Row],[Speen-datum]]-lammering[[#This Row],[Werp-datum]]))","v":""},{"$f":"IF(lammering[[#This Row],[Verkoop-datum]]=\"\",\"\",(lammering[[#This Row],[Verkoop-gewicht]]-lammering[[#This Row],[Speen-gewicht]])/(lammering[[#This Row],[Verkoop-datum]]-lammering[[#This Row],[Speen-datum]]))","v":""},{"$f":"IF(lammering[[#This Row],[Verkoop-datum]]=\"\",\"\",(lammering[[#This Row],[Verkoop-gewicht]]-lammering[[#This Row],[geboorte-gewicht]])/(lammering[[#This Row],[Verkoop-datum]]-lammering[[#This Row],[Werp-datum]]))","v":""},"","","","","","",{"$f":"IF(lammering[[#This Row],[Verkoop-gewicht]]=\"\",\"\",lammering[[#This Row],[Verkoop-gewicht]]-lammering[[#This Row],[geboorte-gewicht]])","v":""},"","",{"$f":"Opzoek_ooi[[#This Row],[Ooinummer]]","v":0},"",""]
[{"$f":"lammering[[#This Row],[Ooi]]","v":0},0,0,{"$f":"IF(lammering[[#This Row],[Lam-nummer]]=\"\",0,1)","v":0},{"$f":"IF(lammering[[#This Row],[Dood in geboorte]]=\"ja\",1,0)","v":0},{"$f":"IF(lammering[[#This Row],[Ooi]]=\"\",0,IF(Berekeningen!E202=0,1,0))","v":0},{"$f":"IF(D202=0,0,IF(lammering[[#This Row],[Dood in geboorte]]=\"Ja\",0,IF(lammering[[#This Row],[Dood na geboorte]]=\"ja\",0,1)))","v":0},{"$f":"IF(lammering[[#This Row],[Opfok met kunstmelk]]=\"Ja\",1,0)","v":0},{"$f":"IF(lammering[[#This Row],[geslacht]]=\"O\",1,0)","v":0},{"$f":"IF(lammering[[#This Row],[Speen-datum]]=\"\",\"\",(lammering[[#This Row],[Speen-gewicht]]-lammering[[#This Row],[geboorte-gewicht]])/(lammering[[#This Row],[Speen-datum]]-lammering[[#This Row],[Werp-datum]]))","v":""},{"$f":"IF(lammering[[#This Row],[Verkoop-datum]]=\"\",\"\",(lammering[[#This Row],[Verkoop-gewicht]]-lammering[[#This Row],[Speen-gewicht]])/(lammering[[#This Row],[Verkoop-datum]]-lammering[[#This Row],[Speen-datum]]))","v":""},{"$f":"IF(lammering[[#This Row],[Verkoop-datum]]=\"\",\"\",(lammering[[#This Row],[Verkoop-gewicht]]-lammering[[#This Row],[geboorte-gewicht]])/(lammering[[#This Row],[Verkoop-datum]]-lammering[[#This Row],[Werp-datum]]))","v":""},"","","","","","",{"$f":"IF(lammering[[#This Row],[Verkoop-gewicht]]=\"\",\"\",lammering[[#This Row],[Verkoop-gewicht]]-lammering[[#This Row],[geboorte-gewicht]])","v":""},"","",{"$f":"Opzoek_ooi[[#This Row],[Ooinummer]]","v":0},"",""]
[{"$f":"lammering[[#This Row],[Ooi]]","v":0},0,0,{"$f":"IF(lammering[[#This Row],[Lam-nummer]]=\"\",0,1)","v":0},{"$f":"IF(lammering[[#This Row],[Dood in geboorte]]=\"ja\",1,0)","v":0},{"$f":"IF(lammering[[#This Row],[Ooi]]=\"\",0,IF(Berekeningen!E203=0,1,0))","v":0},{"$f":"IF(D203=0,0,IF(lammering[[#This Row],[Dood in geboorte]]=\"Ja\",0,IF(lammering[[#This Row],[Dood na geboorte]]=\"ja\",0,1)))","v":0},{"$f":"IF(lammering[[#This Row],[Opfok met kunstmelk]]=\"Ja\",1,0)","v":0},{"$f":"IF(lammering[[#This Row],[geslacht]]=\"O\",1,0)","v":0},{"$f":"IF(lammering[[#This Row],[Speen-datum]]=\"\",\"\",(lammering[[#This Row],[Speen-gewicht]]-lammering[[#This Row],[geboorte-gewicht]])/(lammering[[#This Row],[Speen-datum]]-lammering[[#This Row],[Werp-datum]]))","v":""},{"$f":"IF(lammering[[#This Row],[Verkoop-datum]]=\"\",\"\",(lammering[[#This Row],[Verkoop-gewicht]]-lammering[[#This Row],[Speen-gewicht]])/(lammering[[#This Row],[Verkoop-datum]]-lammering[[#This Row],[Speen-datum]]))","v":""},{"$f":"IF(lammering[[#This Row],[Verkoop-datum]]=\"\",\"\",(lammering[[#This Row],[Verkoop-gewicht]]-lammering[[#This Row],[geboorte-gewicht]])/(lammering[[#This Row],[Verkoop-datum]]-lammering[[#This Row],[Werp-datum]]))","v":""},"","","","","","",{"$f":"IF(lammering[[#This Row],[Verkoop-gewicht]]=\"\",\"\",lammering[[#This Row],[Verkoop-gewicht]]-lammering[[#This Row],[geboorte-gewicht]])","v":""},"","",{"$f":"Opzoek_ooi[[#This Row],[Ooinummer]]","v":0},"",""]
[{"$f":"lammering[[#This Row],[Ooi]]","v":0},0,0,{"$f":"IF(lammering[[#This Row],[Lam-nummer]]=\"\",0,1)","v":0},{"$f":"IF(lammering[[#This Row],[Dood in geboorte]]=\"ja\",1,0)","v":0},{"$f":"IF(lammering[[#This Row],[Ooi]]=\"\",0,IF(Berekeningen!E204=0,1,0))","v":0},{"$f":"IF(D204=0,0,IF(lammering[[#This Row],[Dood in geboorte]]=\"Ja\",0,IF(lammering[[#This Row],[Dood na geboorte]]=\"ja\",0,1)))","v":0},{"$f":"IF(lammering[[#This Row],[Opfok met kunstmelk]]=\"Ja\",1,0)","v":0},{"$f":"IF(lammering[[#This Row],[geslacht]]=\"O\",1,0)","v":0},{"$f":"IF(lammering[[#This Row],[Speen-datum]]=\"\",\"\",(lammering[[#This Row],[Speen-gewicht]]-lammering[[#This Row],[geboorte-gewicht]])/(lammering[[#This Row],[Speen-datum]]-lammering[[#This Row],[Werp-datum]]))","v":""},{"$f":"IF(lammering[[#This Row],[Verkoop-datum]]=\"\",\"\",(lammering[[#This Row],[Verkoop-gewicht]]-lammering[[#This Row],[Speen-gewicht]])/(lammering[[#This Row],[Verkoop-datum]]-lammering[[#This Row],[Speen-datum]]))","v":""},{"$f":"IF(lammering[[#This Row],[Verkoop-datum]]=\"\",\"\",(lammering[[#This Row],[Verkoop-gewicht]]-lammering[[#This Row],[geboorte-gewicht]])/(lammering[[#This Row],[Verkoop-datum]]-lammering[[#This Row],[Werp-datum]]))","v":""},"","","","","","",{"$f":"IF(lammering[[#This Row],[Verkoop-gewicht]]=\"\",\"\",lammering[[#This Row],[Verkoop-gewicht]]-lammering[[#This Row],[geboorte-gewicht]])","v":""},"","",{"$f":"Opzoek_ooi[[#This Row],[Ooinummer]]","v":0},"",""]
[{"$f":"lammering[[#This Row],[Ooi]]","v":0},0,0,{"$f":"IF(lammering[[#This Row],[Lam-nummer]]=\"\",0,1)","v":0},{"$f":"IF(lammering[[#This Row],[Dood in geboorte]]=\"ja\",1,0)","v":0},{"$f":"IF(lammering[[#This Row],[Ooi]]=\"\",0,IF(Berekeningen!E205=0,1,0))","v":0},{"$f":"IF(D205=0,0,IF(lammering[[#This Row],[Dood in geboorte]]=\"Ja\",0,IF(lammering[[#This Row],[Dood na geboorte]]=\"ja\",0,1)))","v":0},{"$f":"IF(lammering[[#This Row],[Opfok met kunstmelk]]=\"Ja\",1,0)","v":0},{"$f":"IF(lammering[[#This Row],[geslacht]]=\"O\",1,0)","v":0},{"$f":"IF(lammering[[#This Row],[Speen-datum]]=\"\",\"\",(lammering[[#This Row],[Speen-gewicht]]-lammering[[#This Row],[geboorte-gewicht]])/(lammering[[#This Row],[Speen-datum]]-lammering[[#This Row],[Werp-datum]]))","v":""},{"$f":"IF(lammering[[#This Row],[Verkoop-datum]]=\"\",\"\",(lammering[[#This Row],[Verkoop-gewicht]]-lammering[[#This Row],[Speen-gewicht]])/(lammering[[#This Row],[Verkoop-datum]]-lammering[[#This Row],[Speen-datum]]))","v":""},{"$f":"IF(lammering[[#This Row],[Verkoop-datum]]=\"\",\"\",(lammering[[#This Row],[Verkoop-gewicht]]-lammering[[#This Row],[geboorte-gewicht]])/(lammering[[#This Row],[Verkoop-datum]]-lammering[[#This Row],[Werp-datum]]))","v":""},"","","","","","",{"$f":"IF(lammering[[#This Row],[Verkoop-gewicht]]=\"\",\"\",lammering[[#This Row],[Verkoop-gewicht]]-lammering[[#This Row],[geboorte-gewicht]])","v":""},"","",{"$f":"Opzoek_ooi[[#This Row],[Ooinummer]]","v":0},"",""]
[{"$f":"lammering[[#This Row],[Ooi]]","v":0},0,0,{"$f":"IF(lammering[[#This Row],[Lam-nummer]]=\"\",0,1)","v":0},{"$f":"IF(lammering[[#This Row],[Dood in geboorte]]=\"ja\",1,0)","v":0},{"$f":"IF(lammering[[#This Row],[Ooi]]=\"\",0,IF(Berekeningen!E206=0,1,0))","v":0},{"$f":"IF(D206=0,0,IF(lammering[[#This Row],[Dood in geboorte]]=\"Ja\",0,IF(lammering[[#This Row],[Dood na geboorte]]=\"ja\",0,1)))","v":0},{"$f":"IF(lammering[[#This Row],[Opfok met kunstmelk]]=\"Ja\",1,0)","v":0},{"$f":"IF(lammering[[#This Row],[geslacht]]=\"O\",1,0)","v":0},{"$f":"IF(lammering[[#This Row],[Speen-datum]]=\"\",\"\",(lammering[[#This Row],[Speen-gewicht]]-lammering[[#This Row],[geboorte-gewicht]])/(lammering[[#This Row],[Speen-datum]]-lammering[[#This Row],[Werp-datum]]))","v":""},{"$f":"IF(lammering[[#This Row],[Verkoop-datum]]=\"\",\"\",(lammering[[#This Row],[Verkoop-gewicht]]-lammering[[#This Row],[Speen-gewicht]])/(lammering[[#This Row],[Verkoop-datum]]-lammering[[#This Row],[Speen-datum]]))","v":""},{"$f":"IF(lammering[[#This Row],[Verkoop-datum]]=\"\",\"\",(lammering[[#This Row],[Verkoop-gewicht]]-lammering[[#This Row],[geboorte-gewicht]])/(lammering[[#This Row],[Verkoop-datum]]-lammering[[#This Row],[Werp-datum]]))","v":""},"","","","","","",{"$f":"IF(lammering[[#This Row],[Verkoop-gewicht]]=\"\",\"\",lammering[[#This Row],[Verkoop-gewicht]]-lammering[[#This Row],[geboorte-gewicht]])","v":""},"","",{"$f":"Opzoek_ooi[[#This Row],[Ooinummer]]","v":0},"",""]
[{"$f":"lammering[[#This Row],[Ooi]]","v":0},0,0,{"$f":"IF(lammering[[#This Row],[Lam-nummer]]=\"\",0,1)","v":0},{"$f":"IF(lammering[[#This Row],[Dood in geboorte]]=\"ja\",1,0)","v":0},{"$f":"IF(lammering[[#This Row],[Ooi]]=\"\",0,IF(Berekeningen!E207=0,1,0))","v":0},{"$f":"IF(D207=0,0,IF(lammering[[#This Row],[Dood in geboorte]]=\"Ja\",0,IF(lammering[[#This Row],[Dood na geboorte]]=\"ja\",0,1)))","v":0},{"$f":"IF(lammering[[#This Row],[Opfok met kunstmelk]]=\"Ja\",1,0)","v":0},{"$f":"IF(lammering[[#This Row],[geslacht]]=\"O\",1,0)","v":0},{"$f":"IF(lammering[[#This Row],[Speen-datum]]=\"\",\"\",(lammering[[#This Row],[Speen-gewicht]]-lammering[[#This Row],[geboorte-gewicht]])/(lammering[[#This Row],[Speen-datum]]-lammering[[#This Row],[Werp-datum]]))","v":""},{"$f":"IF(lammering[[#This Row],[Verkoop-datum]]=\"\",\"\",(lammering[[#This Row],[Verkoop-gewicht]]-lammering[[#This Row],[Speen-gewicht]])/(lammering[[#This Row],[Verkoop-datum]]-lammering[[#This Row],[Speen-datum]]))","v":""},{"$f":"IF(lammering[[#This Row],[Verkoop-datum]]=\"\",\"\",(lammering[[#This Row],[Verkoop-gewicht]]-lammering[[#This Row],[geboorte-gewicht]])/(lammering[[#This Row],[Verkoop-datum]]-lammering[[#This Row],[Werp-datum]]))","v":""},{"$f":"IF($I207=1,J207,\"\")","v":""},{"$f":"IF($I207=1,K207,\"\")","v":""},{"$f":"IF($I207=1,L207,\"\")","v":""},{"$f":"IF($I207=0,J207,\"\")","v":""},{"$f":"IF($I207=0,K207,\"\")","v":""},{"$f":"IF($I207=0,L207,\"\")","v":""},{"$f":"IF(lammering[[#This Row],[Verkoop-gewicht]]=\"\",\"\",lammering[[#This Row],[Verkoop-gewicht]]-lammering[[#This Row],[geboorte-gewicht]])","v":""},{"$f":"IF(I207=1,S207,\"\")","v":""},{"$f":"IF(I207=0,S207,\"\")","v":""},{"$f":"Opzoek_ooi[[#This Row],[Ooinummer]]","v":0},"",""]
[{"$f":"lammering[[#This Row],[Ooi]]","v":0},0,0,{"$f":"IF(lammering[[#This Row],[Lam-nummer]]=\"\",0,1)","v":0},{"$f":"IF(lammering[[#This Row],[Dood in geboorte]]=\"ja\",1,0)","v":0},{"$f":"IF(lammering[[#This Row],[Ooi]]=\"\",0,IF(Berekeningen!E208=0,1,0))","v":0},{"$f":"IF(D208=0,0,IF(lammering[[#This Row],[Dood in geboorte]]=\"Ja\",0,IF(lammering[[#This Row],[Dood na geboorte]]=\"ja\",0,1)))","v":0},{"$f":"IF(lammering[[#This Row],[Opfok met kunstmelk]]=\"Ja\",1,0)","v":0},{"$f":"IF(lammering[[#This Row],[geslacht]]=\"O\",1,0)","v":0},{"$f":"IF(lammering[[#This Row],[Speen-datum]]=\"\",\"\",(lammering[[#This Row],[Speen-gewicht]]-lammering[[#This Row],[geboorte-gewicht]])/(lammering[[#This Row],[Speen-datum]]-lammering[[#This Row],[Werp-datum]]))","v":""},{"$f":"IF(lammering[[#This Row],[Verkoop-datum]]=\"\",\"\",(lammering[[#This Row],[Verkoop-gewicht]]-lammering[[#This Row],[Speen-gewicht]])/(lammering[[#This Row],[Verkoop-datum]]-lammering[[#This Row],[Speen-datum]]))","v":""},{"$f":"IF(lammering[[#This Row],[Verkoop-datum]]=\"\",\"\",(lammering[[#This Row],[Verkoop-gewicht]]-lammering[[#This Row],[geboorte-gewicht]])/(lammering[[#This Row],[Verkoop-datum]]-lammering[[#This Row],[Werp-datum]]))","v":""},"","","","","","",{"$f":"IF(lammering[[#This Row],[Verkoop-gewicht]]=\"\",\"\",lammering[[#This Row],[Verkoop-gewicht]]-lammering[[#This Row],[geboorte-gewicht]])","v":""},"","",{"$f":"Opzoek_ooi[[#This Row],[Ooinummer]]","v":0},{"$f":"IF(V208=0,\"\",COUNTIF(C$2:C$500,V208))","v":""},""]
[{"$f":"lammering[[#This Row],[Ooi]]","v":0},0,0,{"$f":"IF(lammering[[#This Row],[Lam-nummer]]=\"\",0,1)","v":0},{"$f":"IF(lammering[[#This Row],[Dood in geboorte]]=\"ja\",1,0)","v":0},{"$f":"IF(lammering[[#This Row],[Ooi]]=\"\",0,IF(Berekeningen!E209=0,1,0))","v":0},{"$f":"IF(D209=0,0,IF(lammering[[#This Row],[Dood in geboorte]]=\"Ja\",0,IF(lammering[[#This Row],[Dood na geboorte]]=\"ja\",0,1)))","v":0},{"$f":"IF(lammering[[#This Row],[Opfok met kunstmelk]]=\"Ja\",1,0)","v":0},{"$f":"IF(lammering[[#This Row],[geslacht]]=\"O\",1,0)","v":0},{"$f":"IF(lammering[[#This Row],[Speen-datum]]=\"\",\"\",(lammering[[#This Row],[Speen-gewicht]]-lammering[[#This Row],[geboorte-gewicht]])/(lammering[[#This Row],[Speen-datum]]-lammering[[#This Row],[Werp-datum]]))","v":""},{"$f":"IF(lammering[[#This Row],[Verkoop-datum]]=\"\",\"\",(lammering[[#This Row],[Verkoop-gewicht]]-lammering[[#This Row],[Speen-gewicht]])/(lammering[[#This Row],[Verkoop-datum]]-lammering[[#This Row],[Speen-datum]]))","v":""},{"$f":"IF(lammering[[#This Row],[Verkoop-datum]]=\"\",\"\",(lammering[[#This Row],[Verkoop-gewicht]]-lammering[[#This Row],[geboorte-gewicht]])/(lammering[[#This Row],[Verkoop-datum]]-lammering[[#This Row],[Werp-datum]]))","v":""},"","","","","","",{"$f":"IF(lammering[[#This Row],[Verkoop-gewicht]]=\"\",\"\",lammering[[#This Row],[Verkoop-gewicht]]-lammering[[#This Row],[geboorte-gewicht]])","v":""},"","",{"$f":"Opzoek_ooi[[#This Row],[Ooinummer]]","v":0},"",""]
[{"$f":"lammering[[#This Row],[Ooi]]","v":0},0,0,{"$f":"IF(lammering[[#This Row],[Lam-nummer]]=\"\",0,1)","v":0},{"$f":"IF(lammering[[#This Row],[Dood in geboorte]]=\"ja\",1,0)","v":0},{"$f":"IF(lammering[[#This Row],[Ooi]]=\"\",0,IF(Berekeningen!E210=0,1,0))","v":0},{"$f":"IF(D210=0,0,IF(lammering[[#This Row],[Dood in geboorte]]=\"Ja\",0,IF(lammering[[#This Row],[Dood na geboorte]]=\"ja\",0,1)))","v":0},{"$f":"IF(lammering[[#This Row],[Opfok met kunstmelk]]=\"Ja\",1,0)","v":0},{"$f":"IF(lammering[[#This Row],[geslacht]]=\"O\",1,0)","v":0},{"$f":"IF(lammering[[#This Row],[Speen-datum]]=\"\",\"\",(lammering[[#This Row],[Speen-gewicht]]-lammering[[#This Row],[geboorte-gewicht]])/(lammering[[#This Row],[Speen-datum]]-lammering[[#This Row],[Werp-datum]]))","v":""},{"$f":"IF(lammering[[#This Row],[Verkoop-datum]]=\"\",\"\",(lammering[[#This Row],[Verkoop-gewicht]]-lammering[[#This Row],[Speen-gewicht]])/(lammering[[#This Row],[Verkoop-datum]]-lammering[[#This Row],[Speen-datum]]))","v":""},{"$f":"IF(lammering[[#This Row],[Verkoop-datum]]=\"\",\"\",(lammering[[#This Row],[Verkoop-gewicht]]-lammering[[#This Row],[geboorte-gewicht]])/(lammering[[#This Row],[Verkoop-datum]]-lammering[[#This Row],[Werp-datum]]))","v":""},"","","","","","",{"$f":"IF(lammering[[#This Row],[Verkoop-gewicht]]=\"\",\"\",lammering[[#This Row],[Verkoop-gewicht]]-lammering[[#This Row],[geboorte-gewicht]])","v":""},"","",{"$f":"Opzoek_ooi[[#This Row],[Ooinummer]]","v":0},"",""]
[{"$f":"lammering[[#This Row],[Ooi]]","v":0},0,0,{"$f":"IF(lammering[[#This Row],[Lam-nummer]]=\"\",0,1)","v":0},{"$f":"IF(lammering[[#This Row],[Dood in geboorte]]=\"ja\",1,0)","v":0},{"$f":"IF(lammering[[#This Row],[Ooi]]=\"\",0,IF(Berekeningen!E211=0,1,0))","v":0},{"$f":"IF(D211=0,0,IF(lammering[[#This Row],[Dood in geboorte]]=\"Ja\",0,IF(lammering[[#This Row],[Dood na geboorte]]=\"ja\",0,1)))","v":0},{"$f":"IF(lammering[[#This Row],[Opfok met kunstmelk]]=\"Ja\",1,0)","v":0},{"$f":"IF(lammering[[#This Row],[geslacht]]=\"O\",1,0)","v":0},{"$f":"IF(lammering[[#This Row],[Speen-datum]]=\"\",\"\",(lammering[[#This Row],[Speen-gewicht]]-lammering[[#This Row],[geboorte-gewicht]])/(lammering[[#This Row],[Speen-datum]]-lammering[[#This Row],[Werp-datum]]))","v":""},{"$f":"IF(lammering[[#This Row],[Verkoop-datum]]=\"\",\"\",(lammering[[#This Row],[Verkoop-gewicht]]-lammering[[#This Row],[Speen-gewicht]])/(lammering[[#This Row],[Verkoop-datum]]-lammering[[#This Row],[Speen-datum]]))","v":""},{"$f":"IF(lammering[[#This Row],[Verkoop-datum]]=\"\",\"\",(lammering[[#This Row],[Verkoop-gewicht]]-lammering[[#This Row],[geboorte-gewicht]])/(lammering[[#This Row],[Verkoop-datum]]-lammering[[#This Row],[Werp-datum]]))","v":""},"","","","","","",{"$f":"IF(lammering[[#This Row],[Verkoop-gewicht]]=\"\",\"\",lammering[[#This Row],[Verkoop-gewicht]]-lammering[[#This Row],[geboorte-gewicht]])","v":""},"","",{"$f":"Opzoek_ooi[[#This Row],[Ooinummer]]","v":0},"",""]
[{"$f":"lammering[[#This Row],[Ooi]]","v":0},0,0,{"$f":"IF(lammering[[#This Row],[Lam-nummer]]=\"\",0,1)","v":0},{"$f":"IF(lammering[[#This Row],[Dood in geboorte]]=\"ja\",1,0)","v":0},{"$f":"IF(lammering[[#This Row],[Ooi]]=\"\",0,IF(Berekeningen!E212=0,1,0))","v":0},{"$f":"IF(D212=0,0,IF(lammering[[#This Row],[Dood in geboorte]]=\"Ja\",0,IF(lammering[[#This Row],[Dood na geboorte]]=\"ja\",0,1)))","v":0},{"$f":"IF(lammering[[#This Row],[Opfok met kunstmelk]]=\"Ja\",1,0)","v":0},{"$f":"IF(lammering[[#This Row],[geslacht]]=\"O\",1,0)","v":0},{"$f":"IF(lammering[[#This Row],[Speen-datum]]=\"\",\"\",(lammering[[#This Row],[Speen-gewicht]]-lammering[[#This Row],[geboorte-gewicht]])/(lammering[[#This Row],[Speen-datum]]-lammering[[#This Row],[Werp-datum]]))","v":""},{"$f":"IF(lammering[[#This Row],[Verkoop-datum]]=\"\",\"\",(lammering[[#This Row],[Verkoop-gewicht]]-lammering[[#This Row],[Speen-gewicht]])/(lammering[[#This Row],[Verkoop-datum]]-lammering[[#This Row],[Speen-datum]]))","v":""},{"$f":"IF(lammering[[#This Row],[Verkoop-datum]]=\"\",\"\",(lammering[[#This Row],[Verkoop-gewicht]]-lammering[[#This Row],[geboorte-gewicht]])/(lammering[[#This Row],[Verkoop-datum]]-lammering[[#This Row],[Werp-datum]]))","v":""},"","","","","","",{"$f":"IF(lammering[[#This Row],[Verkoop-gewicht]]=\"\",\"\",lammering[[#This Row],[Verkoop-gewicht]]-lammering[[#This Row],[geboorte-gewicht]])","v":""},"","",{"$f":"Opzoek_ooi[[#This Row],[Ooinummer]]","v":0},"",""]
[{"$f":"lammering[[#This Row],[Ooi]]","v":0},0,0,{"$f":"IF(lammering[[#This Row],[Lam-nummer]]=\"\",0,1)","v":0},{"$f":"IF(lammering[[#This Row],[Dood in geboorte]]=\"ja\",1,0)","v":0},{"$f":"IF(lammering[[#This Row],[Ooi]]=\"\",0,IF(Berekeningen!E213=0,1,0))","v":0},{"$f":"IF(D213=0,0,IF(lammering[[#This Row],[Dood in geboorte]]=\"Ja\",0,IF(lammering[[#This Row],[Dood na geboorte]]=\"ja\",0,1)))","v":0},{"$f":"IF(lammering[[#This Row],[Opfok met kunstmelk]]=\"Ja\",1,0)","v":0},{"$f":"IF(lammering[[#This Row],[geslacht]]=\"O\",1,0)","v":0},{"$f":"IF(lammering[[#This Row],[Speen-datum]]=\"\",\"\",(lammering[[#This Row],[Speen-gewicht]]-lammering[[#This Row],[geboorte-gewicht]])/(lammering[[#This Row],[Speen-datum]]-lammering[[#This Row],[Werp-datum]]))","v":""},{"$f":"IF(lammering[[#This Row],[Verkoop-datum]]=\"\",\"\",(lammering[[#This Row],[Verkoop-gewicht]]-lammering[[#This Row],[Speen-gewicht]])/(lammering[[#This Row],[Verkoop-datum]]-lammering[[#This Row],[Speen-datum]]))","v":""},{"$f":"IF(lammering[[#This Row],[Verkoop-datum]]=\"\",\"\",(lammering[[#This Row],[Verkoop-gewicht]]-lammering[[#This Row],[geboorte-gewicht]])/(lammering[[#This Row],[Verkoop-datum]]-lammering[[#This Row],[Werp-datum]]))","v":""},"","","","","","",{"$f":"IF(lammering[[#This Row],[Verkoop-gewicht]]=\"\",\"\",lammering[[#This Row],[Verkoop-gewicht]]-lammering[[#This Row],[geboorte-gewicht]])","v":""},"","",{"$f":"Opzoek_ooi[[#This Row],[Ooinummer]]","v":0},"",""]
[{"$f":"lammering[[#This Row],[Ooi]]","v":0},0,0,{"$f":"IF(lammering[[#This Row],[Lam-nummer]]=\"\",0,1)","v":0},{"$f":"IF(lammering[[#This Row],[Dood in geboorte]]=\"ja\",1,0)","v":0},{"$f":"IF(lammering[[#This Row],[Ooi]]=\"\",0,IF(Berekeningen!E214=0,1,0))","v":0},{"$f":"IF(D214=0,0,IF(lammering[[#This Row],[Dood in geboorte]]=\"Ja\",0,IF(lammering[[#This Row],[Dood na geboorte]]=\"ja\",0,1)))","v":0},{"$f":"IF(lammering[[#This Row],[Opfok met kunstmelk]]=\"Ja\",1,0)","v":0},{"$f":"IF(lammering[[#This Row],[geslacht]]=\"O\",1,0)","v":0},{"$f":"IF(lammering[[#This Row],[Speen-datum]]=\"\",\"\",(lammering[[#This Row],[Speen-gewicht]]-lammering[[#This Row],[geboorte-gewicht]])/(lammering[[#This Row],[Speen-datum]]-lammering[[#This Row],[Werp-datum]]))","v":""},{"$f":"IF(lammering[[#This Row],[Verkoop-datum]]=\"\",\"\",(lammering[[#This Row],[Verkoop-gewicht]]-lammering[[#This Row],[Speen-gewicht]])/(lammering[[#This Row],[Verkoop-datum]]-lammering[[#This Row],[Speen-datum]]))","v":""},{"$f":"IF(lammering[[#This Row],[Verkoop-datum]]=\"\",\"\",(lammering[[#This Row],[Verkoop-gewicht]]-lammering[[#This Row],[geboorte-gewicht]])/(lammering[[#This Row],[Verkoop-datum]]-lammering[[#This Row],[Werp-datum]]))","v":""},"","","","","","",{"$f":"IF(lammering[[#This Row],[Verkoop-gewicht]]=\"\",\"\",lammering[[#This Row],[Verkoop-gewicht]]-lammering[[#This Row],[geboorte-gewicht]])","v":""},"","",{"$f":"Opzoek_ooi[[#This Row],[Ooinummer]]","v":0},"",""]
[{"$f":"lammering[[#This Row],[Ooi]]","v":0},0,0,{"$f":"IF(lammering[[#This Row],[Lam-nummer]]=\"\",0,1)","v":0},{"$f":"IF(lammering[[#This Row],[Dood in geboorte]]=\"ja\",1,0)","v":0},{"$f":"IF(lammering[[#This Row],[Ooi]]=\"\",0,IF(Berekeningen!E215=0,1,0))","v":0},{"$f":"IF(D215=0,0,IF(lammering[[#This Row],[Dood in geboorte]]=\"Ja\",0,IF(lammering[[#This Row],[Dood na geboorte]]=\"ja\",0,1)))","v":0},{"$f":"IF(lammering[[#This Row],[Opfok met kunstmelk]]=\"Ja\",1,0)","v":0},{"$f":"IF(lammering[[#This Row],[geslacht]]=\"O\",1,0)","v":0},{"$f":"IF(lammering[[#This Row],[Speen-datum]]=\"\",\"\",(lammering[[#This Row],[Speen-gewicht]]-lammering[[#This Row],[geboorte-gewicht]])/(lammering[[#This Row],[Speen-datum]]-lammering[[#This Row],[Werp-datum]]))","v":""},{"$f":"IF(lammering[[#This Row],[Verkoop-datum]]=\"\",\"\",(lammering[[#This Row],[Verkoop-gewicht]]-lammering[[#This Row],[Speen-gewicht]])/(lammering[[#This Row],[Verkoop-datum]]-lammering[[#This Row],[Speen-datum]]))","v":""},{"$f":"IF(lammering[[#This Row],[Verkoop-datum]]=\"\",\"\",(lammering[[#This Row],[Verkoop-gewicht]]-lammering[[#This Row],[geboorte-gewicht]])/(lammering[[#This Row],[Verkoop-datum]]-lammering[[#This Row],[Werp-datum]]))","v":""},"","","","","","",{"$f":"IF(lammering[[#This Row],[Verkoop-gewicht]]=\"\",\"\",lammering[[#This Row],[Verkoop-gewicht]]-lammering[[#This Row],[geboorte-gewicht]])","v":""},"","",{"$f":"Opzoek_ooi[[#This Row],[Ooinummer]]","v":0},"",""]
[{"$f":"lammering[[#This Row],[Ooi]]","v":0},0,0,{"$f":"IF(lammering[[#This Row],[Lam-nummer]]=\"\",0,1)","v":0},{"$f":"IF(lammering[[#This Row],[Dood in geboorte]]=\"ja\",1,0)","v":0},{"$f":"IF(lammering[[#This Row],[Ooi]]=\"\",0,IF(Berekeningen!E216=0,1,0))","v":0},{"$f":"IF(D216=0,0,IF(lammering[[#This Row],[Dood in geboorte]]=\"Ja\",0,IF(lammering[[#This Row],[Dood na geboorte]]=\"ja\",0,1)))","v":0},{"$f":"IF(lammering[[#This Row],[Opfok met kunstmelk]]=\"Ja\",1,0)","v":0},{"$f":"IF(lammering[[#This Row],[geslacht]]=\"O\",1,0)","v":0},{"$f":"IF(lammering[[#This Row],[Speen-datum]]=\"\",\"\",(lammering[[#This Row],[Speen-gewicht]]-lammering[[#This Row],[geboorte-gewicht]])/(lammering[[#This Row],[Speen-datum]]-lammering[[#This Row],[Werp-datum]]))","v":""},{"$f":"IF(lammering[[#This Row],[Verkoop-datum]]=\"\",\"\",(lammering[[#This Row],[Verkoop-gewicht]]-lammering[[#This Row],[Speen-gewicht]])/(lammering[[#This Row],[Verkoop-datum]]-lammering[[#This Row],[Speen-datum]]))","v":""},{"$f":"IF(lammering[[#This Row],[Verkoop-datum]]=\"\",\"\",(lammering[[#This Row],[Verkoop-gewicht]]-lammering[[#This Row],[geboorte-gewicht]])/(lammering[[#This Row],[Verkoop-datum]]-lammering[[#This Row],[Werp-datum]]))","v":""},"","","","","","",{"$f":"IF(lammering[[#This Row],[Verkoop-gewicht]]=\"\",\"\",lammering[[#This Row],[Verkoop-gewicht]]-lammering[[#This Row],[geboorte-gewicht]])","v":""},"","",{"$f":"Opzoek_ooi[[#This Row],[Ooinummer]]","v":0},"",""]
[{"$f":"lammering[[#This Row],[Ooi]]","v":0},0,0,{"$f":"IF(lammering[[#This Row],[Lam-nummer]]=\"\",0,1)","v":0},{"$f":"IF(lammering[[#This Row],[Dood in geboorte]]=\"ja\",1,0)","v":0},{"$f":"IF(lammering[[#This Row],[Ooi]]=\"\",0,IF(Berekeningen!E217=0,1,0))","v":0},{"$f":"IF(D217=0,0,IF(lammering[[#This Row],[Dood in geboorte]]=\"Ja\",0,IF(lammering[[#This Row],[Dood na geboorte]]=\"ja\",0,1)))","v":0},{"$f":"IF(lammering[[#This Row],[Opfok met kunstmelk]]=\"Ja\",1,0)","v":0},{"$f":"IF(lammering[[#This Row],[geslacht]]=\"O\",1,0)","v":0},{"$f":"IF(lammering[[#This Row],[Speen-datum]]=\"\",\"\",(lammering[[#This Row],[Speen-gewicht]]-lammering[[#This Row],[geboorte-gewicht]])/(lammering[[#This Row],[Speen-datum]]-lammering[[#This Row],[Werp-datum]]))","v":""},{"$f":"IF(lammering[[#This Row],[Verkoop-datum]]=\"\",\"\",(lammering[[#This Row],[Verkoop-gewicht]]-lammering[[#This Row],[Speen-gewicht]])/(lammering[[#This Row],[Verkoop-datum]]-lammering[[#This Row],[Speen-datum]]))","v":""},{"$f":"IF(lammering[[#This Row],[Verkoop-datum]]=\"\",\"\",(lammering[[#This Row],[Verkoop-gewicht]]-lammering[[#This Row],[geboorte-gewicht]])/(lammering[[#This Row],[Verkoop-datum]]-lammering[[#This Row],[Werp-datum]]))","v":""},"","","","","","",{"$f":"IF(lammering[[#This Row],[Verkoop-gewicht]]=\"\",\"\",lammering[[#This Row],[Verkoop-gewicht]]-lammering[[#This Row],[geboorte-gewicht]])","v":""},"","",{"$f":"Opzoek_ooi[[#This Row],[Ooinummer]]","v":0},"",""]
[{"$f":"lammering[[#This Row],[Ooi]]","v":0},0,0,{"$f":"IF(lammering[[#This Row],[Lam-nummer]]=\"\",0,1)","v":0},{"$f":"IF(lammering[[#This Row],[Dood in geboorte]]=\"ja\",1,0)","v":0},{"$f":"IF(lammering[[#This Row],[Ooi]]=\"\",0,IF(Berekeningen!E218=0,1,0))","v":0},{"$f":"IF(D218=0,0,IF(lammering[[#This Row],[Dood in geboorte]]=\"Ja\",0,IF(lammering[[#This Row],[Dood na geboorte]]=\"ja\",0,1)))","v":0},{"$f":"IF(lammering[[#This Row],[Opfok met kunstmelk]]=\"Ja\",1,0)","v":0},{"$f":"IF(lammering[[#This Row],[geslacht]]=\"O\",1,0)","v":0},{"$f":"IF(lammering[[#This Row],[Speen-datum]]=\"\",\"\",(lammering[[#This Row],[Speen-gewicht]]-lammering[[#This Row],[geboorte-gewicht]])/(lammering[[#This Row],[Speen-datum]]-lammering[[#This Row],[Werp-datum]]))","v":""},{"$f":"IF(lammering[[#This Row],[Verkoop-datum]]=\"\",\"\",(lammering[[#This Row],[Verkoop-gewicht]]-lammering[[#This Row],[Speen-gewicht]])/(lammering[[#This Row],[Verkoop-datum]]-lammering[[#This Row],[Speen-datum]]))","v":""},{"$f":"IF(lammering[[#This Row],[Verkoop-datum]]=\"\",\"\",(lammering[[#This Row],[Verkoop-gewicht]]-lammering[[#This Row],[geboorte-gewicht]])/(lammering[[#This Row],[Verkoop-datum]]-lammering[[#This Row],[Werp-datum]]))","v":""},"","","","","","",{"$f":"IF(lammering[[#This Row],[Verkoop-gewicht]]=\"\",\"\",lammering[[#This Row],[Verkoop-gewicht]]-lammering[[#This Row],[geboorte-gewicht]])","v":""},"","",{"$f":"Opzoek_ooi[[#This Row],[Ooinummer]]","v":0},"",""]
[{"$f":"lammering[[#This Row],[Ooi]]","v":0},0,0,{"$f":"IF(lammering[[#This Row],[Lam-nummer]]=\"\",0,1)","v":0},{"$f":"IF(lammering[[#This Row],[Dood in geboorte]]=\"ja\",1,0)","v":0},{"$f":"IF(lammering[[#This Row],[Ooi]]=\"\",0,IF(Berekeningen!E219=0,1,0))","v":0},{"$f":"IF(D219=0,0,IF(lammering[[#This Row],[Dood in geboorte]]=\"Ja\",0,IF(lammering[[#This Row],[Dood na geboorte]]=\"ja\",0,1)))","v":0},{"$f":"IF(lammering[[#This Row],[Opfok met kunstmelk]]=\"Ja\",1,0)","v":0},{"$f":"IF(lammering[[#This Row],[geslacht]]=\"O\",1,0)","v":0},{"$f":"IF(lammering[[#This Row],[Speen-datum]]=\"\",\"\",(lammering[[#This Row],[Speen-gewicht]]-lammering[[#This Row],[geboorte-gewicht]])/(lammering[[#This Row],[Speen-datum]]-lammering[[#This Row],[Werp-datum]]))","v":""},{"$f":"IF(lammering[[#This Row],[Verkoop-datum]]=\"\",\"\",(lammering[[#This Row],[Verkoop-gewicht]]-lammering[[#This Row],[Speen-gewicht]])/(lammering[[#This Row],[Verkoop-datum]]-lammering[[#This Row],[Speen-datum]]))","v":""},{"$f":"IF(lammering[[#This Row],[Verkoop-datum]]=\"\",\"\",(lammering[[#This Row],[Verkoop-gewicht]]-lammering[[#This Row],[geboorte-gewicht]])/(lammering[[#This Row],[Verkoop-datum]]-lammering[[#This Row],[Werp-datum]]))","v":""},"","","","","","",{"$f":"IF(lammering[[#This Row],[Verkoop-gewicht]]=\"\",\"\",lammering[[#This Row],[Verkoop-gewicht]]-lammering[[#This Row],[geboorte-gewicht]])","v":""},"","",{"$f":"Opzoek_ooi[[#This Row],[Ooinummer]]","v":0},"",""]
[{"$f":"lammering[[#This Row],[Ooi]]","v":0},0,0,{"$f":"IF(lammering[[#This Row],[Lam-nummer]]=\"\",0,1)","v":0},{"$f":"IF(lammering[[#This Row],[Dood in geboorte]]=\"ja\",1,0)","v":0},{"$f":"IF(lammering[[#This Row],[Ooi]]=\"\",0,IF(Berekeningen!E220=0,1,0))","v":0},{"$f":"IF(D220=0,0,IF(lammering[[#This Row],[Dood in geboorte]]=\"Ja\",0,IF(lammering[[#This Row],[Dood na geboorte]]=\"ja\",0,1)))","v":0},{"$f":"IF(lammering[[#This Row],[Opfok met kunstmelk]]=\"Ja\",1,0)","v":0},{"$f":"IF(lammering[[#This Row],[geslacht]]=\"O\",1,0)","v":0},{"$f":"IF(lammering[[#This Row],[Speen-datum]]=\"\",\"\",(lammering[[#This Row],[Speen-gewicht]]-lammering[[#This Row],[geboorte-gewicht]])/(lammering[[#This Row],[Speen-datum]]-lammering[[#This Row],[Werp-datum]]))","v":""},{"$f":"IF(lammering[[#This Row],[Verkoop-datum]]=\"\",\"\",(lammering[[#This Row],[Verkoop-gewicht]]-lammering[[#This Row],[Speen-gewicht]])/(lammering[[#This Row],[Verkoop-datum]]-lammering[[#This Row],[Speen-datum]]))","v":""},{"$f":"IF(lammering[[#This Row],[Verkoop-datum]]=\"\",\"\",(lammering[[#This Row],[Verkoop-gewicht]]-lammering[[#This Row],[geboorte-gewicht]])/(lammering[[#This Row],[Verkoop-datum]]-lammering[[#This Row],[Werp-datum]]))","v":""},"","","","","","",{"$f":"IF(lammering[[#This Row],[Verkoop-gewicht]]=\"\",\"\",lammering[[#This Row],[Verkoop-gewicht]]-lammering[[#This Row],[geboorte-gewicht]])","v":""},"","",{"$f":"Opzoek_ooi[[#This Row],[Ooinummer]]","v":0},"",""]
[{"$f":"lammering[[#This Row],[Ooi]]","v":0},0,0,{"$f":"IF(lammering[[#This Row],[Lam-nummer]]=\"\",0,1)","v":0},{"$f":"IF(lammering[[#This Row],[Dood in geboorte]]=\"ja\",1,0)","v":0},{"$f":"IF(lammering[[#This Row],[Ooi]]=\"\",0,IF(Berekeningen!E221=0,1,0))","v":0},{"$f":"IF(D221=0,0,IF(lammering[[#This Row],[Dood in geboorte]]=\"Ja\",0,IF(lammering[[#This Row],[Dood na geboorte]]=\"ja\",0,1)))","v":0},{"$f":"IF(lammering[[#This Row],[Opfok met kunstmelk]]=\"Ja\",1,0)","v":0},{"$f":"IF(lammering[[#This Row],[geslacht]]=\"O\",1,0)","v":0},{"$f":"IF(lammering[[#This Row],[Speen-datum]]=\"\",\"\",(lammering[[#This Row],[Speen-gewicht]]-lammering[[#This Row],[geboorte-gewicht]])/(lammering[[#This Row],[Speen-datum]]-lammering[[#This Row],[Werp-datum]]))","v":""},{"$f":"IF(lammering[[#This Row],[Verkoop-datum]]=\"\",\"\",(lammering[[#This Row],[Verkoop-gewicht]]-lammering[[#This Row],[Speen-gewicht]])/(lammering[[#This Row],[Verkoop-datum]]-lammering[[#This Row],[Speen-datum]]))","v":""},{"$f":"IF(lammering[[#This Row],[Verkoop-datum]]=\"\",\"\",(lammering[[#This Row],[Verkoop-gewicht]]-lammering[[#This Row],[geboorte-gewicht]])/(lammering[[#This Row],[Verkoop-datum]]-lammering[[#This Row],[Werp-datum]]))","v":""},"","","","","","",{"$f":"IF(lammering[[#This Row],[Verkoop-gewicht]]=\"\",\"\",lammering[[#This Row],[Verkoop-gewicht]]-lammering[[#This Row],[geboorte-gewicht]])","v":""},"",""]
[{"$f":"lammering[[#This Row],[Ooi]]","v":0},0,0,{"$f":"IF(lammering[[#This Row],[Lam-nummer]]=\"\",0,1)","v":0},{"$f":"IF(lammering[[#This Row],[Dood in geboorte]]=\"ja\",1,0)","v":0},{"$f":"IF(lammering[[#This Row],[Ooi]]=\"\",0,IF(Berekeningen!E222=0,1,0))","v":0},{"$f":"IF(D222=0,0,IF(lammering[[#This Row],[Dood in geboorte]]=\"Ja\",0,IF(lammering[[#This Row],[Dood na geboorte]]=\"ja\",0,1)))","v":0},{"$f":"IF(lammering[[#This Row],[Opfok met kunstmelk]]=\"Ja\",1,0)","v":0},{"$f":"IF(lammering[[#This Row],[geslacht]]=\"O\",1,0)","v":0},{"$f":"IF(lammering[[#This Row],[Speen-datum]]=\"\",\"\",(lammering[[#This Row],[Speen-gewicht]]-lammering[[#This Row],[geboorte-gewicht]])/(lammering[[#This Row],[Speen-datum]]-lammering[[#This Row],[Werp-datum]]))","v":""},{"$f":"IF(lammering[[#This Row],[Verkoop-datum]]=\"\",\"\",(lammering[[#This Row],[Verkoop-gewicht]]-lammering[[#This Row],[Speen-gewicht]])/(lammering[[#This Row],[Verkoop-datum]]-lammering[[#This Row],[Speen-datum]]))","v":""},{"$f":"IF(lammering[[#This Row],[Verkoop-datum]]=\"\",\"\",(lammering[[#This Row],[Verkoop-gewicht]]-lammering[[#This Row],[geboorte-gewicht]])/(lammering[[#This Row],[Verkoop-datum]]-lammering[[#This Row],[Werp-datum]]))","v":""},"","","","","","",{"$f":"IF(lammering[[#This Row],[Verkoop-gewicht]]=\"\",\"\",lammering[[#This Row],[Verkoop-gewicht]]-lammering[[#This Row],[geboorte-gewicht]])","v":""},"",""]
[{"$f":"lammering[[#This Row],[Ooi]]","v":0},0,0,{"$f":"IF(lammering[[#This Row],[Lam-nummer]]=\"\",0,1)","v":0},{"$f":"IF(lammering[[#This Row],[Dood in geboorte]]=\"ja\",1,0)","v":0},{"$f":"IF(lammering[[#This Row],[Ooi]]=\"\",0,IF(Berekeningen!E223=0,1,0))","v":0},{"$f":"IF(D223=0,0,IF(lammering[[#This Row],[Dood in geboorte]]=\"Ja\",0,IF(lammering[[#This Row],[Dood na geboorte]]=\"ja\",0,1)))","v":0},{"$f":"IF(lammering[[#This Row],[Opfok met kunstmelk]]=\"Ja\",1,0)","v":0},{"$f":"IF(lammering[[#This Row],[geslacht]]=\"O\",1,0)","v":0},{"$f":"IF(lammering[[#This Row],[Speen-datum]]=\"\",\"\",(lammering[[#This Row],[Speen-gewicht]]-lammering[[#This Row],[geboorte-gewicht]])/(lammering[[#This Row],[Speen-datum]]-lammering[[#This Row],[Werp-datum]]))","v":""},{"$f":"IF(lammering[[#This Row],[Verkoop-datum]]=\"\",\"\",(lammering[[#This Row],[Verkoop-gewicht]]-lammering[[#This Row],[Speen-gewicht]])/(lammering[[#This Row],[Verkoop-datum]]-lammering[[#This Row],[Speen-datum]]))","v":""},{"$f":"IF(lammering[[#This Row],[Verkoop-datum]]=\"\",\"\",(lammering[[#This Row],[Verkoop-gewicht]]-lammering[[#This Row],[geboorte-gewicht]])/(lammering[[#This Row],[Verkoop-datum]]-lammering[[#This Row],[Werp-datum]]))","v":""},"","","","","","",{"$f":"IF(lammering[[#This Row],[Verkoop-gewicht]]=\"\",\"\",lammering[[#This Row],[Verkoop-gewicht]]-lammering[[#This Row],[geboorte-gewicht]])","v":""},"",""]
[{"$f":"lammering[[#This Row],[Ooi]]","v":0},0,0,{"$f":"IF(lammering[[#This Row],[Lam-nummer]]=\"\",0,1)","v":0},{"$f":"IF(lammering[[#This Row],[Dood in geboorte]]=\"ja\",1,0)","v":0},{"$f":"IF(lammering[[#This Row],[Ooi]]=\"\",0,IF(Berekeningen!E224=0,1,0))","v":0},{"$f":"IF(D224=0,0,IF(lammering[[#This Row],[Dood in geboorte]]=\"Ja\",0,IF(lammering[[#This Row],[Dood na geboorte]]=\"ja\",0,1)))","v":0},{"$f":"IF(lammering[[#This Row],[Opfok met kunstmelk]]=\"Ja\",1,0)","v":0},{"$f":"IF(lammering[[#This Row],[geslacht]]=\"O\",1,0)","v":0},{"$f":"IF(lammering[[#This Row],[Speen-datum]]=\"\",\"\",(lammering[[#This Row],[Speen-gewicht]]-lammering[[#This Row],[geboorte-gewicht]])/(lammering[[#This Row],[Speen-datum]]-lammering[[#This Row],[Werp-datum]]))","v":""},{"$f":"IF(lammering[[#This Row],[Verkoop-datum]]=\"\",\"\",(lammering[[#This Row],[Verkoop-gewicht]]-lammering[[#This Row],[Speen-gewicht]])/(lammering[[#This Row],[Verkoop-datum]]-lammering[[#This Row],[Speen-datum]]))","v":""},{"$f":"IF(lammering[[#This Row],[Verkoop-datum]]=\"\",\"\",(lammering[[#This Row],[Verkoop-gewicht]]-lammering[[#This Row],[geboorte-gewicht]])/(lammering[[#This Row],[Verkoop-datum]]-lammering[[#This Row],[Werp-datum]]))","v":""},"","","","","","",{"$f":"IF(lammering[[#This Row],[Verkoop-gewicht]]=\"\",\"\",lammering[[#This Row],[Verkoop-gewicht]]-lammering[[#This Row],[geboorte-gewicht]])","v":""},"",""]
[{"$f":"lammering[[#This Row],[Ooi]]","v":0},0,0,{"$f":"IF(lammering[[#This Row],[Lam-nummer]]=\"\",0,1)","v":0},{"$f":"IF(lammering[[#This Row],[Dood in geboorte]]=\"ja\",1,0)","v":0},{"$f":"IF(lammering[[#This Row],[Ooi]]=\"\",0,IF(Berekeningen!E225=0,1,0))","v":0},{"$f":"IF(D225=0,0,IF(lammering[[#This Row],[Dood in geboorte]]=\"Ja\",0,IF(lammering[[#This Row],[Dood na geboorte]]=\"ja\",0,1)))","v":0},{"$f":"IF(lammering[[#This Row],[Opfok met kunstmelk]]=\"Ja\",1,0)","v":0},{"$f":"IF(lammering[[#This Row],[geslacht]]=\"O\",1,0)","v":0},{"$f":"IF(lammering[[#This Row],[Speen-datum]]=\"\",\"\",(lammering[[#This Row],[Speen-gewicht]]-lammering[[#This Row],[geboorte-gewicht]])/(lammering[[#This Row],[Speen-datum]]-lammering[[#This Row],[Werp-datum]]))","v":""},{"$f":"IF(lammering[[#This Row],[Verkoop-datum]]=\"\",\"\",(lammering[[#This Row],[Verkoop-gewicht]]-lammering[[#This Row],[Speen-gewicht]])/(lammering[[#This Row],[Verkoop-datum]]-lammering[[#This Row],[Speen-datum]]))","v":""},{"$f":"IF(lammering[[#This Row],[Verkoop-datum]]=\"\",\"\",(lammering[[#This Row],[Verkoop-gewicht]]-lammering[[#This Row],[geboorte-gewicht]])/(lammering[[#This Row],[Verkoop-datum]]-lammering[[#This Row],[Werp-datum]]))","v":""},"","","","","","",{"$f":"IF(lammering[[#This Row],[Verkoop-gewicht]]=\"\",\"\",lammering[[#This Row],[Verkoop-gewicht]]-lammering[[#This Row],[geboorte-gewicht]])","v":""},"",""]
[{"$f":"lammering[[#This Row],[Ooi]]","v":0},0,0,{"$f":"IF(lammering[[#This Row],[Lam-nummer]]=\"\",0,1)","v":0},{"$f":"IF(lammering[[#This Row],[Dood in geboorte]]=\"ja\",1,0)","v":0},{"$f":"IF(lammering[[#This Row],[Ooi]]=\"\",0,IF(Berekeningen!E226=0,1,0))","v":0},{"$f":"IF(D226=0,0,IF(lammering[[#This Row],[Dood in geboorte]]=\"Ja\",0,IF(lammering[[#This Row],[Dood na geboorte]]=\"ja\",0,1)))","v":0},{"$f":"IF(lammering[[#This Row],[Opfok met kunstmelk]]=\"Ja\",1,0)","v":0},{"$f":"IF(lammering[[#This Row],[geslacht]]=\"O\",1,0)","v":0},{"$f":"IF(lammering[[#This Row],[Speen-datum]]=\"\",\"\",(lammering[[#This Row],[Speen-gewicht]]-lammering[[#This Row],[geboorte-gewicht]])/(lammering[[#This Row],[Speen-datum]]-lammering[[#This Row],[Werp-datum]]))","v":""},{"$f":"IF(lammering[[#This Row],[Verkoop-datum]]=\"\",\"\",(lammering[[#This Row],[Verkoop-gewicht]]-lammering[[#This Row],[Speen-gewicht]])/(lammering[[#This Row],[Verkoop-datum]]-lammering[[#This Row],[Speen-datum]]))","v":""},{"$f":"IF(lammering[[#This Row],[Verkoop-datum]]=\"\",\"\",(lammering[[#This Row],[Verkoop-gewicht]]-lammering[[#This Row],[geboorte-gewicht]])/(lammering[[#This Row],[Verkoop-datum]]-lammering[[#This Row],[Werp-datum]]))","v":""},"","","","","","",{"$f":"IF(lammering[[#This Row],[Verkoop-gewicht]]=\"\",\"\",lammering[[#This Row],[Verkoop-gewicht]]-lammering[[#This Row],[geboorte-gewicht]])","v":""},"",""]
[{"$f":"lammering[[#This Row],[Ooi]]","v":0},0,0,{"$f":"IF(lammering[[#This Row],[Lam-nummer]]=\"\",0,1)","v":0},{"$f":"IF(lammering[[#This Row],[Dood in geboorte]]=\"ja\",1,0)","v":0},{"$f":"IF(lammering[[#This Row],[Ooi]]=\"\",0,IF(Berekeningen!E227=0,1,0))","v":0},{"$f":"IF(D227=0,0,IF(lammering[[#This Row],[Dood in geboorte]]=\"Ja\",0,IF(lammering[[#This Row],[Dood na geboorte]]=\"ja\",0,1)))","v":0},{"$f":"IF(lammering[[#This Row],[Opfok met kunstmelk]]=\"Ja\",1,0)","v":0},{"$f":"IF(lammering[[#This Row],[geslacht]]=\"O\",1,0)","v":0},{"$f":"IF(lammering[[#This Row],[Speen-datum]]=\"\",\"\",(lammering[[#This Row],[Speen-gewicht]]-lammering[[#This Row],[geboorte-gewicht]])/(lammering[[#This Row],[Speen-datum]]-lammering[[#This Row],[Werp-datum]]))","v":""},{"$f":"IF(lammering[[#This Row],[Verkoop-datum]]=\"\",\"\",(lammering[[#This Row],[Verkoop-gewicht]]-lammering[[#This Row],[Speen-gewicht]])/(lammering[[#This Row],[Verkoop-datum]]-lammering[[#This Row],[Speen-datum]]))","v":""},{"$f":"IF(lammering[[#This Row],[Verkoop-datum]]=\"\",\"\",(lammering[[#This Row],[Verkoop-gewicht]]-lammering[[#This Row],[geboorte-gewicht]])/(lammering[[#This Row],[Verkoop-datum]]-lammering[[#This Row],[Werp-datum]]))","v":""},"","","","","","",{"$f":"IF(lammering[[#This Row],[Verkoop-gewicht]]=\"\",\"\",lammering[[#This Row],[Verkoop-gewicht]]-lammering[[#This Row],[geboorte-gewicht]])","v":""},"",""]
[{"$f":"lammering[[#This Row],[Ooi]]","v":0},0,0,{"$f":"IF(lammering[[#This Row],[Lam-nummer]]=\"\",0,1)","v":0},{"$f":"IF(lammering[[#This Row],[Dood in geboorte]]=\"ja\",1,0)","v":0},{"$f":"IF(lammering[[#This Row],[Ooi]]=\"\",0,IF(Berekeningen!E228=0,1,0))","v":0},{"$f":"IF(D228=0,0,IF(lammering[[#This Row],[Dood in geboorte]]=\"Ja\",0,IF(lammering[[#This Row],[Dood na geboorte]]=\"ja\",0,1)))","v":0},{"$f":"IF(lammering[[#This Row],[Opfok met kunstmelk]]=\"Ja\",1,0)","v":0},{"$f":"IF(lammering[[#This Row],[geslacht]]=\"O\",1,0)","v":0},{"$f":"IF(lammering[[#This Row],[Speen-datum]]=\"\",\"\",(lammering[[#This Row],[Speen-gewicht]]-lammering[[#This Row],[geboorte-gewicht]])/(lammering[[#This Row],[Speen-datum]]-lammering[[#This Row],[Werp-datum]]))","v":""},{"$f":"IF(lammering[[#This Row],[Verkoop-datum]]=\"\",\"\",(lammering[[#This Row],[Verkoop-gewicht]]-lammering[[#This Row],[Speen-gewicht]])/(lammering[[#This Row],[Verkoop-datum]]-lammering[[#This Row],[Speen-datum]]))","v":""},{"$f":"IF(lammering[[#This Row],[Verkoop-datum]]=\"\",\"\",(lammering[[#This Row],[Verkoop-gewicht]]-lammering[[#This Row],[geboorte-gewicht]])/(lammering[[#This Row],[Verkoop-datum]]-lammering[[#This Row],[Werp-datum]]))","v":""},"","","","","","",{"$f":"IF(lammering[[#This Row],[Verkoop-gewicht]]=\"\",\"\",lammering[[#This Row],[Verkoop-gewicht]]-lammering[[#This Row],[geboorte-gewicht]])","v":""},"",""]
[{"$f":"lammering[[#This Row],[Ooi]]","v":0},0,0,{"$f":"IF(lammering[[#This Row],[Lam-nummer]]=\"\",0,1)","v":0},{"$f":"IF(lammering[[#This Row],[Dood in geboorte]]=\"ja\",1,0)","v":0},{"$f":"IF(lammering[[#This Row],[Ooi]]=\"\",0,IF(Berekeningen!E229=0,1,0))","v":0},{"$f":"IF(D229=0,0,IF(lammering[[#This Row],[Dood in geboorte]]=\"Ja\",0,IF(lammering[[#This Row],[Dood na geboorte]]=\"ja\",0,1)))","v":0},{"$f":"IF(lammering[[#This Row],[Opfok met kunstmelk]]=\"Ja\",1,0)","v":0},{"$f":"IF(lammering[[#This Row],[geslacht]]=\"O\",1,0)","v":0},{"$f":"IF(lammering[[#This Row],[Speen-datum]]=\"\",\"\",(lammering[[#This Row],[Speen-gewicht]]-lammering[[#This Row],[geboorte-gewicht]])/(lammering[[#This Row],[Speen-datum]]-lammering[[#This Row],[Werp-datum]]))","v":""},{"$f":"IF(lammering[[#This Row],[Verkoop-datum]]=\"\",\"\",(lammering[[#This Row],[Verkoop-gewicht]]-lammering[[#This Row],[Speen-gewicht]])/(lammering[[#This Row],[Verkoop-datum]]-lammering[[#This Row],[Speen-datum]]))","v":""},{"$f":"IF(lammering[[#This Row],[Verkoop-datum]]=\"\",\"\",(lammering[[#This Row],[Verkoop-gewicht]]-lammering[[#This Row],[geboorte-gewicht]])/(lammering[[#This Row],[Verkoop-datum]]-lammering[[#This Row],[Werp-datum]]))","v":""},"","","","","","",{"$f":"IF(lammering[[#This Row],[Verkoop-gewicht]]=\"\",\"\",lammering[[#This Row],[Verkoop-gewicht]]-lammering[[#This Row],[geboorte-gewicht]])","v":""},"",""]
[{"$f":"lammering[[#This Row],[Ooi]]","v":0},0,0,{"$f":"IF(lammering[[#This Row],[Lam-nummer]]=\"\",0,1)","v":0},{"$f":"IF(lammering[[#This Row],[Dood in geboorte]]=\"ja\",1,0)","v":0},{"$f":"IF(lammering[[#This Row],[Ooi]]=\"\",0,IF(Berekeningen!E230=0,1,0))","v":0},{"$f":"IF(D230=0,0,IF(lammering[[#This Row],[Dood in geboorte]]=\"Ja\",0,IF(lammering[[#This Row],[Dood na geboorte]]=\"ja\",0,1)))","v":0},{"$f":"IF(lammering[[#This Row],[Opfok met kunstmelk]]=\"Ja\",1,0)","v":0},{"$f":"IF(lammering[[#This Row],[geslacht]]=\"O\",1,0)","v":0},{"$f":"IF(lammering[[#This Row],[Speen-datum]]=\"\",\"\",(lammering[[#This Row],[Speen-gewicht]]-lammering[[#This Row],[geboorte-gewicht]])/(lammering[[#This Row],[Speen-datum]]-lammering[[#This Row],[Werp-datum]]))","v":""},{"$f":"IF(lammering[[#This Row],[Verkoop-datum]]=\"\",\"\",(lammering[[#This Row],[Verkoop-gewicht]]-lammering[[#This Row],[Speen-gewicht]])/(lammering[[#This Row],[Verkoop-datum]]-lammering[[#This Row],[Speen-datum]]))","v":""},{"$f":"IF(lammering[[#This Row],[Verkoop-datum]]=\"\",\"\",(lammering[[#This Row],[Verkoop-gewicht]]-lammering[[#This Row],[geboorte-gewicht]])/(lammering[[#This Row],[Verkoop-datum]]-lammering[[#This Row],[Werp-datum]]))","v":""},"","","","","","",{"$f":"IF(lammering[[#This Row],[Verkoop-gewicht]]=\"\",\"\",lammering[[#This Row],[Verkoop-gewicht]]-lammering[[#This Row],[geboorte-gewicht]])","v":""},"",""]
[{"$f":"lammering[[#This Row],[Ooi]]","v":0},0,0,{"$f":"IF(lammering[[#This Row],[Lam-nummer]]=\"\",0,1)","v":0},{"$f":"IF(lammering[[#This Row],[Dood in geboorte]]=\"ja\",1,0)","v":0},{"$f":"IF(lammering[[#This Row],[Ooi]]=\"\",0,IF(Berekeningen!E231=0,1,0))","v":0},{"$f":"IF(D231=0,0,IF(lammering[[#This Row],[Dood in geboorte]]=\"Ja\",0,IF(lammering[[#This Row],[Dood na geboorte]]=\"ja\",0,1)))","v":0},{"$f":"IF(lammering[[#This Row],[Opfok met kunstmelk]]=\"Ja\",1,0)","v":0},{"$f":"IF(lammering[[#This Row],[geslacht]]=\"O\",1,0)","v":0},{"$f":"IF(lammering[[#This Row],[Speen-datum]]=\"\",\"\",(lammering[[#This Row],[Speen-gewicht]]-lammering[[#This Row],[geboorte-gewicht]])/(lammering[[#This Row],[Speen-datum]]-lammering[[#This Row],[Werp-datum]]))","v":""},{"$f":"IF(lammering[[#This Row],[Verkoop-datum]]=\"\",\"\",(lammering[[#This Row],[Verkoop-gewicht]]-lammering[[#This Row],[Speen-gewicht]])/(lammering[[#This Row],[Verkoop-datum]]-lammering[[#This Row],[Speen-datum]]))","v":""},{"$f":"IF(lammering[[#This Row],[Verkoop-datum]]=\"\",\"\",(lammering[[#This Row],[Verkoop-gewicht]]-lammering[[#This Row],[geboorte-gewicht]])/(lammering[[#This Row],[Verkoop-datum]]-lammering[[#This Row],[Werp-datum]]))","v":""},"","","","","","",{"$f":"IF(lammering[[#This Row],[Verkoop-gewicht]]=\"\",\"\",lammering[[#This Row],[Verkoop-gewicht]]-lammering[[#This Row],[geboorte-gewicht]])","v":""},"",""]
[{"$f":"lammering[[#This Row],[Ooi]]","v":0},0,0,{"$f":"IF(lammering[[#This Row],[Lam-nummer]]=\"\",0,1)","v":0},{"$f":"IF(lammering[[#This Row],[Dood in geboorte]]=\"ja\",1,0)","v":0},{"$f":"IF(lammering[[#This Row],[Ooi]]=\"\",0,IF(Berekeningen!E232=0,1,0))","v":0},{"$f":"IF(D232=0,0,IF(lammering[[#This Row],[Dood in geboorte]]=\"Ja\",0,IF(lammering[[#This Row],[Dood na geboorte]]=\"ja\",0,1)))","v":0},{"$f":"IF(lammering[[#This Row],[Opfok met kunstmelk]]=\"Ja\",1,0)","v":0},{"$f":"IF(lammering[[#This Row],[geslacht]]=\"O\",1,0)","v":0},{"$f":"IF(lammering[[#This Row],[Speen-datum]]=\"\",\"\",(lammering[[#This Row],[Speen-gewicht]]-lammering[[#This Row],[geboorte-gewicht]])/(lammering[[#This Row],[Speen-datum]]-lammering[[#This Row],[Werp-datum]]))","v":""},{"$f":"IF(lammering[[#This Row],[Verkoop-datum]]=\"\",\"\",(lammering[[#This Row],[Verkoop-gewicht]]-lammering[[#This Row],[Speen-gewicht]])/(lammering[[#This Row],[Verkoop-datum]]-lammering[[#This Row],[Speen-datum]]))","v":""},{"$f":"IF(lammering[[#This Row],[Verkoop-datum]]=\"\",\"\",(lammering[[#This Row],[Verkoop-gewicht]]-lammering[[#This Row],[geboorte-gewicht]])/(lammering[[#This Row],[Verkoop-datum]]-lammering[[#This Row],[Werp-datum]]))","v":""},"","","","","","",{"$f":"IF(lammering[[#This Row],[Verkoop-gewicht]]=\"\",\"\",lammering[[#This Row],[Verkoop-gewicht]]-lammering[[#This Row],[geboorte-gewicht]])","v":""},"",""]
[{"$f":"lammering[[#This Row],[Ooi]]","v":0},0,0,{"$f":"IF(lammering[[#This Row],[Lam-nummer]]=\"\",0,1)","v":0},{"$f":"IF(lammering[[#This Row],[Dood in geboorte]]=\"ja\",1,0)","v":0},{"$f":"IF(lammering[[#This Row],[Ooi]]=\"\",0,IF(Berekeningen!E233=0,1,0))","v":0},{"$f":"IF(D233=0,0,IF(lammering[[#This Row],[Dood in geboorte]]=\"Ja\",0,IF(lammering[[#This Row],[Dood na geboorte]]=\"ja\",0,1)))","v":0},{"$f":"IF(lammering[[#This Row],[Opfok met kunstmelk]]=\"Ja\",1,0)","v":0},{"$f":"IF(lammering[[#This Row],[geslacht]]=\"O\",1,0)","v":0},{"$f":"IF(lammering[[#This Row],[Speen-datum]]=\"\",\"\",(lammering[[#This Row],[Speen-gewicht]]-lammering[[#This Row],[geboorte-gewicht]])/(lammering[[#This Row],[Speen-datum]]-lammering[[#This Row],[Werp-datum]]))","v":""},{"$f":"IF(lammering[[#This Row],[Verkoop-datum]]=\"\",\"\",(lammering[[#This Row],[Verkoop-gewicht]]-lammering[[#This Row],[Speen-gewicht]])/(lammering[[#This Row],[Verkoop-datum]]-lammering[[#This Row],[Speen-datum]]))","v":""},{"$f":"IF(lammering[[#This Row],[Verkoop-datum]]=\"\",\"\",(lammering[[#This Row],[Verkoop-gewicht]]-lammering[[#This Row],[geboorte-gewicht]])/(lammering[[#This Row],[Verkoop-datum]]-lammering[[#This Row],[Werp-datum]]))","v":""},"","","","","","",{"$f":"IF(lammering[[#This Row],[Verkoop-gewicht]]=\"\",\"\",lammering[[#This Row],[Verkoop-gewicht]]-lammering[[#This Row],[geboorte-gewicht]])","v":""},"",""]
[{"$f":"lammering[[#This Row],[Ooi]]","v":0},0,0,{"$f":"IF(lammering[[#This Row],[Lam-nummer]]=\"\",0,1)","v":0},{"$f":"IF(lammering[[#This Row],[Dood in geboorte]]=\"ja\",1,0)","v":0},{"$f":"IF(lammering[[#This Row],[Ooi]]=\"\",0,IF(Berekeningen!E234=0,1,0))","v":0},{"$f":"IF(D234=0,0,IF(lammering[[#This Row],[Dood in geboorte]]=\"Ja\",0,IF(lammering[[#This Row],[Dood na geboorte]]=\"ja\",0,1)))","v":0},{"$f":"IF(lammering[[#This Row],[Opfok met kunstmelk]]=\"Ja\",1,0)","v":0},{"$f":"IF(lammering[[#This Row],[geslacht]]=\"O\",1,0)","v":0},{"$f":"IF(lammering[[#This Row],[Speen-datum]]=\"\",\"\",(lammering[[#This Row],[Speen-gewicht]]-lammering[[#This Row],[geboorte-gewicht]])/(lammering[[#This Row],[Speen-datum]]-lammering[[#This Row],[Werp-datum]]))","v":""},{"$f":"IF(lammering[[#This Row],[Verkoop-datum]]=\"\",\"\",(lammering[[#This Row],[Verkoop-gewicht]]-lammering[[#This Row],[Speen-gewicht]])/(lammering[[#This Row],[Verkoop-datum]]-lammering[[#This Row],[Speen-datum]]))","v":""},{"$f":"IF(lammering[[#This Row],[Verkoop-datum]]=\"\",\"\",(lammering[[#This Row],[Verkoop-gewicht]]-lammering[[#This Row],[geboorte-gewicht]])/(lammering[[#This Row],[Verkoop-datum]]-lammering[[#This Row],[Werp-datum]]))","v":""},"","","","","","",{"$f":"IF(lammering[[#This Row],[Verkoop-gewicht]]=\"\",\"\",lammering[[#This Row],[Verkoop-gewicht]]-lammering[[#This Row],[geboorte-gewicht]])","v":""},"",""]
[{"$f":"lammering[[#This Row],[Ooi]]","v":0},0,0,{"$f":"IF(lammering[[#This Row],[Lam-nummer]]=\"\",0,1)","v":0},{"$f":"IF(lammering[[#This Row],[Dood in geboorte]]=\"ja\",1,0)","v":0},{"$f":"IF(lammering[[#This Row],[Ooi]]=\"\",0,IF(Berekeningen!E235=0,1,0))","v":0},{"$f":"IF(D235=0,0,IF(lammering[[#This Row],[Dood in geboorte]]=\"Ja\",0,IF(lammering[[#This Row],[Dood na geboorte]]=\"ja\",0,1)))","v":0},{"$f":"IF(lammering[[#This Row],[Opfok met kunstmelk]]=\"Ja\",1,0)","v":0},{"$f":"IF(lammering[[#This Row],[geslacht]]=\"O\",1,0)","v":0},{"$f":"IF(lammering[[#This Row],[Speen-datum]]=\"\",\"\",(lammering[[#This Row],[Speen-gewicht]]-lammering[[#This Row],[geboorte-gewicht]])/(lammering[[#This Row],[Speen-datum]]-lammering[[#This Row],[Werp-datum]]))","v":""},{"$f":"IF(lammering[[#This Row],[Verkoop-datum]]=\"\",\"\",(lammering[[#This Row],[Verkoop-gewicht]]-lammering[[#This Row],[Speen-gewicht]])/(lammering[[#This Row],[Verkoop-datum]]-lammering[[#This Row],[Speen-datum]]))","v":""},{"$f":"IF(lammering[[#This Row],[Verkoop-datum]]=\"\",\"\",(lammering[[#This Row],[Verkoop-gewicht]]-lammering[[#This Row],[geboorte-gewicht]])/(lammering[[#This Row],[Verkoop-datum]]-lammering[[#This Row],[Werp-datum]]))","v":""},"","","","","","",{"$f":"IF(lammering[[#This Row],[Verkoop-gewicht]]=\"\",\"\",lammering[[#This Row],[Verkoop-gewicht]]-lammering[[#This Row],[geboorte-gewicht]])","v":""},"",""]
[{"$f":"lammering[[#This Row],[Ooi]]","v":0},0,0,{"$f":"IF(lammering[[#This Row],[Lam-nummer]]=\"\",0,1)","v":0},{"$f":"IF(lammering[[#This Row],[Dood in geboorte]]=\"ja\",1,0)","v":0},{"$f":"IF(lammering[[#This Row],[Ooi]]=\"\",0,IF(Berekeningen!E236=0,1,0))","v":0},{"$f":"IF(D236=0,0,IF(lammering[[#This Row],[Dood in geboorte]]=\"Ja\",0,IF(lammering[[#This Row],[Dood na geboorte]]=\"ja\",0,1)))","v":0},{"$f":"IF(lammering[[#This Row],[Opfok met kunstmelk]]=\"Ja\",1,0)","v":0},{"$f":"IF(lammering[[#This Row],[geslacht]]=\"O\",1,0)","v":0},{"$f":"IF(lammering[[#This Row],[Speen-datum]]=\"\",\"\",(lammering[[#This Row],[Speen-gewicht]]-lammering[[#This Row],[geboorte-gewicht]])/(lammering[[#This Row],[Speen-datum]]-lammering[[#This Row],[Werp-datum]]))","v":""},{"$f":"IF(lammering[[#This Row],[Verkoop-datum]]=\"\",\"\",(lammering[[#This Row],[Verkoop-gewicht]]-lammering[[#This Row],[Speen-gewicht]])/(lammering[[#This Row],[Verkoop-datum]]-lammering[[#This Row],[Speen-datum]]))","v":""},{"$f":"IF(lammering[[#This Row],[Verkoop-datum]]=\"\",\"\",(lammering[[#This Row],[Verkoop-gewicht]]-lammering[[#This Row],[geboorte-gewicht]])/(lammering[[#This Row],[Verkoop-datum]]-lammering[[#This Row],[Werp-datum]]))","v":""},"","","","","","",{"$f":"IF(lammering[[#This Row],[Verkoop-gewicht]]=\"\",\"\",lammering[[#This Row],[Verkoop-gewicht]]-lammering[[#This Row],[geboorte-gewicht]])","v":""},"",""]
[{"$f":"lammering[[#This Row],[Ooi]]","v":0},0,0,{"$f":"IF(lammering[[#This Row],[Lam-nummer]]=\"\",0,1)","v":0},{"$f":"IF(lammering[[#This Row],[Dood in geboorte]]=\"ja\",1,0)","v":0},{"$f":"IF(lammering[[#This Row],[Ooi]]=\"\",0,IF(Berekeningen!E237=0,1,0))","v":0},{"$f":"IF(D237=0,0,IF(lammering[[#This Row],[Dood in geboorte]]=\"Ja\",0,IF(lammering[[#This Row],[Dood na geboorte]]=\"ja\",0,1)))","v":0},{"$f":"IF(lammering[[#This Row],[Opfok met kunstmelk]]=\"Ja\",1,0)","v":0},{"$f":"IF(lammering[[#This Row],[geslacht]]=\"O\",1,0)","v":0},{"$f":"IF(lammering[[#This Row],[Speen-datum]]=\"\",\"\",(lammering[[#This Row],[Speen-gewicht]]-lammering[[#This Row],[geboorte-gewicht]])/(lammering[[#This Row],[Speen-datum]]-lammering[[#This Row],[Werp-datum]]))","v":""},{"$f":"IF(lammering[[#This Row],[Verkoop-datum]]=\"\",\"\",(lammering[[#This Row],[Verkoop-gewicht]]-lammering[[#This Row],[Speen-gewicht]])/(lammering[[#This Row],[Verkoop-datum]]-lammering[[#This Row],[Speen-datum]]))","v":""},{"$f":"IF(lammering[[#This Row],[Verkoop-datum]]=\"\",\"\",(lammering[[#This Row],[Verkoop-gewicht]]-lammering[[#This Row],[geboorte-gewicht]])/(lammering[[#This Row],[Verkoop-datum]]-lammering[[#This Row],[Werp-datum]]))","v":""},"","","","","","",{"$f":"IF(lammering[[#This Row],[Verkoop-gewicht]]=\"\",\"\",lammering[[#This Row],[Verkoop-gewicht]]-lammering[[#This Row],[geboorte-gewicht]])","v":""},"",""]
[{"$f":"lammering[[#This Row],[Ooi]]","v":0},0,0,{"$f":"IF(lammering[[#This Row],[Lam-nummer]]=\"\",0,1)","v":0},{"$f":"IF(lammering[[#This Row],[Dood in geboorte]]=\"ja\",1,0)","v":0},{"$f":"IF(lammering[[#This Row],[Ooi]]=\"\",0,IF(Berekeningen!E238=0,1,0))","v":0},{"$f":"IF(D238=0,0,IF(lammering[[#This Row],[Dood in geboorte]]=\"Ja\",0,IF(lammering[[#This Row],[Dood na geboorte]]=\"ja\",0,1)))","v":0},{"$f":"IF(lammering[[#This Row],[Opfok met kunstmelk]]=\"Ja\",1,0)","v":0},{"$f":"IF(lammering[[#This Row],[geslacht]]=\"O\",1,0)","v":0},{"$f":"IF(lammering[[#This Row],[Speen-datum]]=\"\",\"\",(lammering[[#This Row],[Speen-gewicht]]-lammering[[#This Row],[geboorte-gewicht]])/(lammering[[#This Row],[Speen-datum]]-lammering[[#This Row],[Werp-datum]]))","v":""},{"$f":"IF(lammering[[#This Row],[Verkoop-datum]]=\"\",\"\",(lammering[[#This Row],[Verkoop-gewicht]]-lammering[[#This Row],[Speen-gewicht]])/(lammering[[#This Row],[Verkoop-datum]]-lammering[[#This Row],[Speen-datum]]))","v":""},{"$f":"IF(lammering[[#This Row],[Verkoop-datum]]=\"\",\"\",(lammering[[#This Row],[Verkoop-gewicht]]-lammering[[#This Row],[geboorte-gewicht]])/(lammering[[#This Row],[Verkoop-datum]]-lammering[[#This Row],[Werp-datum]]))","v":""},"","","","","","",{"$f":"IF(lammering[[#This Row],[Verkoop-gewicht]]=\"\",\"\",lammering[[#This Row],[Verkoop-gewicht]]-lammering[[#This Row],[geboorte-gewicht]])","v":""},"",""]
[{"$f":"lammering[[#This Row],[Ooi]]","v":0},0,0,{"$f":"IF(lammering[[#This Row],[Lam-nummer]]=\"\",0,1)","v":0},{"$f":"IF(lammering[[#This Row],[Dood in geboorte]]=\"ja\",1,0)","v":0},{"$f":"IF(lammering[[#This Row],[Ooi]]=\"\",0,IF(Berekeningen!E239=0,1,0))","v":0},{"$f":"IF(D239=0,0,IF(lammering[[#This Row],[Dood in geboorte]]=\"Ja\",0,IF(lammering[[#This Row],[Dood na geboorte]]=\"ja\",0,1)))","v":0},{"$f":"IF(lammering[[#This Row],[Opfok met kunstmelk]]=\"Ja\",1,0)","v":0},{"$f":"IF(lammering[[#This Row],[geslacht]]=\"O\",1,0)","v":0},{"$f":"IF(lammering[[#This Row],[Speen-datum]]=\"\",\"\",(lammering[[#This Row],[Speen-gewicht]]-lammering[[#This Row],[geboorte-gewicht]])/(lammering[[#This Row],[Speen-datum]]-lammering[[#This Row],[Werp-datum]]))","v":""},{"$f":"IF(lammering[[#This Row],[Verkoop-datum]]=\"\",\"\",(lammering[[#This Row],[Verkoop-gewicht]]-lammering[[#This Row],[Speen-gewicht]])/(lammering[[#This Row],[Verkoop-datum]]-lammering[[#This Row],[Speen-datum]]))","v":""},{"$f":"IF(lammering[[#This Row],[Verkoop-datum]]=\"\",\"\",(lammering[[#This Row],[Verkoop-gewicht]]-lammering[[#This Row],[geboorte-gewicht]])/(lammering[[#This Row],[Verkoop-datum]]-lammering[[#This Row],[Werp-datum]]))","v":""},"","","","","","",{"$f":"IF(lammering[[#This Row],[Verkoop-gewicht]]=\"\",\"\",lammering[[#This Row],[Verkoop-gewicht]]-lammering[[#This Row],[geboorte-gewicht]])","v":""},"",""]
[{"$f":"lammering[[#This Row],[Ooi]]","v":0},0,0,{"$f":"IF(lammering[[#This Row],[Lam-nummer]]=\"\",0,1)","v":0},{"$f":"IF(lammering[[#This Row],[Dood in geboorte]]=\"ja\",1,0)","v":0},{"$f":"IF(lammering[[#This Row],[Ooi]]=\"\",0,IF(Berekeningen!E240=0,1,0))","v":0},{"$f":"IF(D240=0,0,IF(lammering[[#This Row],[Dood in geboorte]]=\"Ja\",0,IF(lammering[[#This Row],[Dood na geboorte]]=\"ja\",0,1)))","v":0},{"$f":"IF(lammering[[#This Row],[Opfok met kunstmelk]]=\"Ja\",1,0)","v":0},{"$f":"IF(lammering[[#This Row],[geslacht]]=\"O\",1,0)","v":0},{"$f":"IF(lammering[[#This Row],[Speen-datum]]=\"\",\"\",(lammering[[#This Row],[Speen-gewicht]]-lammering[[#This Row],[geboorte-gewicht]])/(lammering[[#This Row],[Speen-datum]]-lammering[[#This Row],[Werp-datum]]))","v":""},{"$f":"IF(lammering[[#This Row],[Verkoop-datum]]=\"\",\"\",(lammering[[#This Row],[Verkoop-gewicht]]-lammering[[#This Row],[Speen-gewicht]])/(lammering[[#This Row],[Verkoop-datum]]-lammering[[#This Row],[Speen-datum]]))","v":""},{"$f":"IF(lammering[[#This Row],[Verkoop-datum]]=\"\",\"\",(lammering[[#This Row],[Verkoop-gewicht]]-lammering[[#This Row],[geboorte-gewicht]])/(lammering[[#This Row],[Verkoop-datum]]-lammering[[#This Row],[Werp-datum]]))","v":""},"","","","","","",{"$f":"IF(lammering[[#This Row],[Verkoop-gewicht]]=\"\",\"\",lammering[[#This Row],[Verkoop-gewicht]]-lammering[[#This Row],[geboorte-gewicht]])","v":""},"",""]
[{"$f":"lammering[[#This Row],[Ooi]]","v":0},0,0,{"$f":"IF(lammering[[#This Row],[Lam-nummer]]=\"\",0,1)","v":0},{"$f":"IF(lammering[[#This Row],[Dood in geboorte]]=\"ja\",1,0)","v":0},{"$f":"IF(lammering[[#This Row],[Ooi]]=\"\",0,IF(Berekeningen!E241=0,1,0))","v":0},{"$f":"IF(D241=0,0,IF(lammering[[#This Row],[Dood in geboorte]]=\"Ja\",0,IF(lammering[[#This Row],[Dood na geboorte]]=\"ja\",0,1)))","v":0},{"$f":"IF(lammering[[#This Row],[Opfok met kunstmelk]]=\"Ja\",1,0)","v":0},{"$f":"IF(lammering[[#This Row],[geslacht]]=\"O\",1,0)","v":0},{"$f":"IF(lammering[[#This Row],[Speen-datum]]=\"\",\"\",(lammering[[#This Row],[Speen-gewicht]]-lammering[[#This Row],[geboorte-gewicht]])/(lammering[[#This Row],[Speen-datum]]-lammering[[#This Row],[Werp-datum]]))","v":""},{"$f":"IF(lammering[[#This Row],[Verkoop-datum]]=\"\",\"\",(lammering[[#This Row],[Verkoop-gewicht]]-lammering[[#This Row],[Speen-gewicht]])/(lammering[[#This Row],[Verkoop-datum]]-lammering[[#This Row],[Speen-datum]]))","v":""},{"$f":"IF(lammering[[#This Row],[Verkoop-datum]]=\"\",\"\",(lammering[[#This Row],[Verkoop-gewicht]]-lammering[[#This Row],[geboorte-gewicht]])/(lammering[[#This Row],[Verkoop-datum]]-lammering[[#This Row],[Werp-datum]]))","v":""},"","","","","","",{"$f":"IF(lammering[[#This Row],[Verkoop-gewicht]]=\"\",\"\",lammering[[#This Row],[Verkoop-gewicht]]-lammering[[#This Row],[geboorte-gewicht]])","v":""},"",""]
[{"$f":"lammering[[#This Row],[Ooi]]","v":0},0,0,{"$f":"IF(lammering[[#This Row],[Lam-nummer]]=\"\",0,1)","v":0},{"$f":"IF(lammering[[#This Row],[Dood in geboorte]]=\"ja\",1,0)","v":0},{"$f":"IF(lammering[[#This Row],[Ooi]]=\"\",0,IF(Berekeningen!E242=0,1,0))","v":0},{"$f":"IF(D242=0,0,IF(lammering[[#This Row],[Dood in geboorte]]=\"Ja\",0,IF(lammering[[#This Row],[Dood na geboorte]]=\"ja\",0,1)))","v":0},{"$f":"IF(lammering[[#This Row],[Opfok met kunstmelk]]=\"Ja\",1,0)","v":0},{"$f":"IF(lammering[[#This Row],[geslacht]]=\"O\",1,0)","v":0},{"$f":"IF(lammering[[#This Row],[Speen-datum]]=\"\",\"\",(lammering[[#This Row],[Speen-gewicht]]-lammering[[#This Row],[geboorte-gewicht]])/(lammering[[#This Row],[Speen-datum]]-lammering[[#This Row],[Werp-datum]]))","v":""},{"$f":"IF(lammering[[#This Row],[Verkoop-datum]]=\"\",\"\",(lammering[[#This Row],[Verkoop-gewicht]]-lammering[[#This Row],[Speen-gewicht]])/(lammering[[#This Row],[Verkoop-datum]]-lammering[[#This Row],[Speen-datum]]))","v":""},{"$f":"IF(lammering[[#This Row],[Verkoop-datum]]=\"\",\"\",(lammering[[#This Row],[Verkoop-gewicht]]-lammering[[#This Row],[geboorte-gewicht]])/(lammering[[#This Row],[Verkoop-datum]]-lammering[[#This Row],[Werp-datum]]))","v":""},"","","","","","",{"$f":"IF(lammering[[#This Row],[Verkoop-gewicht]]=\"\",\"\",lammering[[#This Row],[Verkoop-gewicht]]-lammering[[#This Row],[geboorte-gewicht]])","v":""},"",""]
[{"$f":"lammering[[#This Row],[Ooi]]","v":0},0,0,{"$f":"IF(lammering[[#This Row],[Lam-nummer]]=\"\",0,1)","v":0},{"$f":"IF(lammering[[#This Row],[Dood in geboorte]]=\"ja\",1,0)","v":0},{"$f":"IF(lammering[[#This Row],[Ooi]]=\"\",0,IF(Berekeningen!E243=0,1,0))","v":0},{"$f":"IF(D243=0,0,IF(lammering[[#This Row],[Dood in geboorte]]=\"Ja\",0,IF(lammering[[#This Row],[Dood na geboorte]]=\"ja\",0,1)))","v":0},{"$f":"IF(lammering[[#This Row],[Opfok met kunstmelk]]=\"Ja\",1,0)","v":0},{"$f":"IF(lammering[[#This Row],[geslacht]]=\"O\",1,0)","v":0},{"$f":"IF(lammering[[#This Row],[Speen-datum]]=\"\",\"\",(lammering[[#This Row],[Speen-gewicht]]-lammering[[#This Row],[geboorte-gewicht]])/(lammering[[#This Row],[Speen-datum]]-lammering[[#This Row],[Werp-datum]]))","v":""},{"$f":"IF(lammering[[#This Row],[Verkoop-datum]]=\"\",\"\",(lammering[[#This Row],[Verkoop-gewicht]]-lammering[[#This Row],[Speen-gewicht]])/(lammering[[#This Row],[Verkoop-datum]]-lammering[[#This Row],[Speen-datum]]))","v":""},{"$f":"IF(lammering[[#This Row],[Verkoop-datum]]=\"\",\"\",(lammering[[#This Row],[Verkoop-gewicht]]-lammering[[#This Row],[geboorte-gewicht]])/(lammering[[#This Row],[Verkoop-datum]]-lammering[[#This Row],[Werp-datum]]))","v":""},"","","","","","",{"$f":"IF(lammering[[#This Row],[Verkoop-gewicht]]=\"\",\"\",lammering[[#This Row],[Verkoop-gewicht]]-lammering[[#This Row],[geboorte-gewicht]])","v":""},"",""]
[{"$f":"lammering[[#This Row],[Ooi]]","v":0},0,0,{"$f":"IF(lammering[[#This Row],[Lam-nummer]]=\"\",0,1)","v":0},{"$f":"IF(lammering[[#This Row],[Dood in geboorte]]=\"ja\",1,0)","v":0},{"$f":"IF(lammering[[#This Row],[Ooi]]=\"\",0,IF(Berekeningen!E244=0,1,0))","v":0},{"$f":"IF(D244=0,0,IF(lammering[[#This Row],[Dood in geboorte]]=\"Ja\",0,IF(lammering[[#This Row],[Dood na geboorte]]=\"ja\",0,1)))","v":0},{"$f":"IF(lammering[[#This Row],[Opfok met kunstmelk]]=\"Ja\",1,0)","v":0},{"$f":"IF(lammering[[#This Row],[geslacht]]=\"O\",1,0)","v":0},{"$f":"IF(lammering[[#This Row],[Speen-datum]]=\"\",\"\",(lammering[[#This Row],[Speen-gewicht]]-lammering[[#This Row],[geboorte-gewicht]])/(lammering[[#This Row],[Speen-datum]]-lammering[[#This Row],[Werp-datum]]))","v":""},{"$f":"IF(lammering[[#This Row],[Verkoop-datum]]=\"\",\"\",(lammering[[#This Row],[Verkoop-gewicht]]-lammering[[#This Row],[Speen-gewicht]])/(lammering[[#This Row],[Verkoop-datum]]-lammering[[#This Row],[Speen-datum]]))","v":""},{"$f":"IF(lammering[[#This Row],[Verkoop-datum]]=\"\",\"\",(lammering[[#This Row],[Verkoop-gewicht]]-lammering[[#This Row],[geboorte-gewicht]])/(lammering[[#This Row],[Verkoop-datum]]-lammering[[#This Row],[Werp-datum]]))","v":""},"","","","","","",{"$f":"IF(lammering[[#This Row],[Verkoop-gewicht]]=\"\",\"\",lammering[[#This Row],[Verkoop-gewicht]]-lammering[[#This Row],[geboorte-gewicht]])","v":""},"",""]
[{"$f":"lammering[[#This Row],[Ooi]]","v":0},0,0,{"$f":"IF(lammering[[#This Row],[Lam-nummer]]=\"\",0,1)","v":0},{"$f":"IF(lammering[[#This Row],[Dood in geboorte]]=\"ja\",1,0)","v":0},{"$f":"IF(lammering[[#This Row],[Ooi]]=\"\",0,IF(Berekeningen!E245=0,1,0))","v":0},{"$f":"IF(D245=0,0,IF(lammering[[#This Row],[Dood in geboorte]]=\"Ja\",0,IF(lammering[[#This Row],[Dood na geboorte]]=\"ja\",0,1)))","v":0},{"$f":"IF(lammering[[#This Row],[Opfok met kunstmelk]]=\"Ja\",1,0)","v":0},{"$f":"IF(lammering[[#This Row],[geslacht]]=\"O\",1,0)","v":0},{"$f":"IF(lammering[[#This Row],[Speen-datum]]=\"\",\"\",(lammering[[#This Row],[Speen-gewicht]]-lammering[[#This Row],[geboorte-gewicht]])/(lammering[[#This Row],[Speen-datum]]-lammering[[#This Row],[Werp-datum]]))","v":""},{"$f":"IF(lammering[[#This Row],[Verkoop-datum]]=\"\",\"\",(lammering[[#This Row],[Verkoop-gewicht]]-lammering[[#This Row],[Speen-gewicht]])/(lammering[[#This Row],[Verkoop-datum]]-lammering[[#This Row],[Speen-datum]]))","v":""},{"$f":"IF(lammering[[#This Row],[Verkoop-datum]]=\"\",\"\",(lammering[[#This Row],[Verkoop-gewicht]]-lammering[[#This Row],[geboorte-gewicht]])/(lammering[[#This Row],[Verkoop-datum]]-lammering[[#This Row],[Werp-datum]]))","v":""},"","","","","","",{"$f":"IF(lammering[[#This Row],[Verkoop-gewicht]]=\"\",\"\",lammering[[#This Row],[Verkoop-gewicht]]-lammering[[#This Row],[geboorte-gewicht]])","v":""},"",""]
[{"$f":"lammering[[#This Row],[Ooi]]","v":0},0,0,{"$f":"IF(lammering[[#This Row],[Lam-nummer]]=\"\",0,1)","v":0},{"$f":"IF(lammering[[#This Row],[Dood in geboorte]]=\"ja\",1,0)","v":0},{"$f":"IF(lammering[[#This Row],[Ooi]]=\"\",0,IF(Berekeningen!E246=0,1,0))","v":0},{"$f":"IF(D246=0,0,IF(lammering[[#This Row],[Dood in geboorte]]=\"Ja\",0,IF(lammering[[#This Row],[Dood na geboorte]]=\"ja\",0,1)))","v":0},{"$f":"IF(lammering[[#This Row],[Opfok met kunstmelk]]=\"Ja\",1,0)","v":0},{"$f":"IF(lammering[[#This Row],[geslacht]]=\"O\",1,0)","v":0},{"$f":"IF(lammering[[#This Row],[Speen-datum]]=\"\",\"\",(lammering[[#This Row],[Speen-gewicht]]-lammering[[#This Row],[geboorte-gewicht]])/(lammering[[#This Row],[Speen-datum]]-lammering[[#This Row],[Werp-datum]]))","v":""},{"$f":"IF(lammering[[#This Row],[Verkoop-datum]]=\"\",\"\",(lammering[[#This Row],[Verkoop-gewicht]]-lammering[[#This Row],[Speen-gewicht]])/(lammering[[#This Row],[Verkoop-datum]]-lammering[[#This Row],[Speen-datum]]))","v":""},{"$f":"IF(lammering[[#This Row],[Verkoop-datum]]=\"\",\"\",(lammering[[#This Row],[Verkoop-gewicht]]-lammering[[#This Row],[geboorte-gewicht]])/(lammering[[#This Row],[Verkoop-datum]]-lammering[[#This Row],[Werp-datum]]))","v":""},"","","","","","",{"$f":"IF(lammering[[#This Row],[Verkoop-gewicht]]=\"\",\"\",lammering[[#This Row],[Verkoop-gewicht]]-lammering[[#This Row],[geboorte-gewicht]])","v":""},"",""]
[{"$f":"lammering[[#This Row],[Ooi]]","v":0},0,0,{"$f":"IF(lammering[[#This Row],[Lam-nummer]]=\"\",0,1)","v":0},{"$f":"IF(lammering[[#This Row],[Dood in geboorte]]=\"ja\",1,0)","v":0},{"$f":"IF(lammering[[#This Row],[Ooi]]=\"\",0,IF(Berekeningen!E247=0,1,0))","v":0},{"$f":"IF(D247=0,0,IF(lammering[[#This Row],[Dood in geboorte]]=\"Ja\",0,IF(lammering[[#This Row],[Dood na geboorte]]=\"ja\",0,1)))","v":0},{"$f":"IF(lammering[[#This Row],[Opfok met kunstmelk]]=\"Ja\",1,0)","v":0},{"$f":"IF(lammering[[#This Row],[geslacht]]=\"O\",1,0)","v":0},{"$f":"IF(lammering[[#This Row],[Speen-datum]]=\"\",\"\",(lammering[[#This Row],[Speen-gewicht]]-lammering[[#This Row],[geboorte-gewicht]])/(lammering[[#This Row],[Speen-datum]]-lammering[[#This Row],[Werp-datum]]))","v":""},{"$f":"IF(lammering[[#This Row],[Verkoop-datum]]=\"\",\"\",(lammering[[#This Row],[Verkoop-gewicht]]-lammering[[#This Row],[Speen-gewicht]])/(lammering[[#This Row],[Verkoop-datum]]-lammering[[#This Row],[Speen-datum]]))","v":""},{"$f":"IF(lammering[[#This Row],[Verkoop-datum]]=\"\",\"\",(lammering[[#This Row],[Verkoop-gewicht]]-lammering[[#This Row],[geboorte-gewicht]])/(lammering[[#This Row],[Verkoop-datum]]-lammering[[#This Row],[Werp-datum]]))","v":""},"","","","","","",{"$f":"IF(lammering[[#This Row],[Verkoop-gewicht]]=\"\",\"\",lammering[[#This Row],[Verkoop-gewicht]]-lammering[[#This Row],[geboorte-gewicht]])","v":""},"",""]
[{"$f":"lammering[[#This Row],[Ooi]]","v":0},0,0,{"$f":"IF(lammering[[#This Row],[Lam-nummer]]=\"\",0,1)","v":0},{"$f":"IF(lammering[[#This Row],[Dood in geboorte]]=\"ja\",1,0)","v":0},{"$f":"IF(lammering[[#This Row],[Ooi]]=\"\",0,IF(Berekeningen!E248=0,1,0))","v":0},{"$f":"IF(D248=0,0,IF(lammering[[#This Row],[Dood in geboorte]]=\"Ja\",0,IF(lammering[[#This Row],[Dood na geboorte]]=\"ja\",0,1)))","v":0},{"$f":"IF(lammering[[#This Row],[Opfok met kunstmelk]]=\"Ja\",1,0)","v":0},{"$f":"IF(lammering[[#This Row],[geslacht]]=\"O\",1,0)","v":0},{"$f":"IF(lammering[[#This Row],[Speen-datum]]=\"\",\"\",(lammering[[#This Row],[Speen-gewicht]]-lammering[[#This Row],[geboorte-gewicht]])/(lammering[[#This Row],[Speen-datum]]-lammering[[#This Row],[Werp-datum]]))","v":""},{"$f":"IF(lammering[[#This Row],[Verkoop-datum]]=\"\",\"\",(lammering[[#This Row],[Verkoop-gewicht]]-lammering[[#This Row],[Speen-gewicht]])/(lammering[[#This Row],[Verkoop-datum]]-lammering[[#This Row],[Speen-datum]]))","v":""},{"$f":"IF(lammering[[#This Row],[Verkoop-datum]]=\"\",\"\",(lammering[[#This Row],[Verkoop-gewicht]]-lammering[[#This Row],[geboorte-gewicht]])/(lammering[[#This Row],[Verkoop-datum]]-lammering[[#This Row],[Werp-datum]]))","v":""},"","","","","","",{"$f":"IF(lammering[[#This Row],[Verkoop-gewicht]]=\"\",\"\",lammering[[#This Row],[Verkoop-gewicht]]-lammering[[#This Row],[geboorte-gewicht]])","v":""},"",""]
[{"$f":"lammering[[#This Row],[Ooi]]","v":0},0,0,{"$f":"IF(lammering[[#This Row],[Lam-nummer]]=\"\",0,1)","v":0},{"$f":"IF(lammering[[#This Row],[Dood in geboorte]]=\"ja\",1,0)","v":0},{"$f":"IF(lammering[[#This Row],[Ooi]]=\"\",0,IF(Berekeningen!E249=0,1,0))","v":0},{"$f":"IF(D249=0,0,IF(lammering[[#This Row],[Dood in geboorte]]=\"Ja\",0,IF(lammering[[#This Row],[Dood na geboorte]]=\"ja\",0,1)))","v":0},{"$f":"IF(lammering[[#This Row],[Opfok met kunstmelk]]=\"Ja\",1,0)","v":0},{"$f":"IF(lammering[[#This Row],[geslacht]]=\"O\",1,0)","v":0},{"$f":"IF(lammering[[#This Row],[Speen-datum]]=\"\",\"\",(lammering[[#This Row],[Speen-gewicht]]-lammering[[#This Row],[geboorte-gewicht]])/(lammering[[#This Row],[Speen-datum]]-lammering[[#This Row],[Werp-datum]]))","v":""},{"$f":"IF(lammering[[#This Row],[Verkoop-datum]]=\"\",\"\",(lammering[[#This Row],[Verkoop-gewicht]]-lammering[[#This Row],[Speen-gewicht]])/(lammering[[#This Row],[Verkoop-datum]]-lammering[[#This Row],[Speen-datum]]))","v":""},{"$f":"IF(lammering[[#This Row],[Verkoop-datum]]=\"\",\"\",(lammering[[#This Row],[Verkoop-gewicht]]-lammering[[#This Row],[geboorte-gewicht]])/(lammering[[#This Row],[Verkoop-datum]]-lammering[[#This Row],[Werp-datum]]))","v":""},"","","","","","",{"$f":"IF(lammering[[#This Row],[Verkoop-gewicht]]=\"\",\"\",lammering[[#This Row],[Verkoop-gewicht]]-lammering[[#This Row],[geboorte-gewicht]])","v":""},"",""]
[{"$f":"lammering[[#This Row],[Ooi]]","v":0},0,0,{"$f":"IF(lammering[[#This Row],[Lam-nummer]]=\"\",0,1)","v":0},{"$f":"IF(lammering[[#This Row],[Dood in geboorte]]=\"ja\",1,0)","v":0},{"$f":"IF(lammering[[#This Row],[Ooi]]=\"\",0,IF(Berekeningen!E250=0,1,0))","v":0},{"$f":"IF(D250=0,0,IF(lammering[[#This Row],[Dood in geboorte]]=\"Ja\",0,IF(lammering[[#This Row],[Dood na geboorte]]=\"ja\",0,1)))","v":0},{"$f":"IF(lammering[[#This Row],[Opfok met kunstmelk]]=\"Ja\",1,0)","v":0},{"$f":"IF(lammering[[#This Row],[geslacht]]=\"O\",1,0)","v":0},{"$f":"IF(lammering[[#This Row],[Speen-datum]]=\"\",\"\",(lammering[[#This Row],[Speen-gewicht]]-lammering[[#This Row],[geboorte-gewicht]])/(lammering[[#This Row],[Speen-datum]]-lammering[[#This Row],[Werp-datum]]))","v":""},{"$f":"IF(lammering[[#This Row],[Verkoop-datum]]=\"\",\"\",(lammering[[#This Row],[Verkoop-gewicht]]-lammering[[#This Row],[Speen-gewicht]])/(lammering[[#This Row],[Verkoop-datum]]-lammering[[#This Row],[Speen-datum]]))","v":""},{"$f":"IF(lammering[[#This Row],[Verkoop-datum]]=\"\",\"\",(lammering[[#This Row],[Verkoop-gewicht]]-lammering[[#This Row],[geboorte-gewicht]])/(lammering[[#This Row],[Verkoop-datum]]-lammering[[#This Row],[Werp-datum]]))","v":""},"","","","","","",{"$f":"IF(lammering[[#This Row],[Verkoop-gewicht]]=\"\",\"\",lammering[[#This Row],[Verkoop-gewicht]]-lammering[[#This Row],[geboorte-gewicht]])","v":""},"",""]
[{"$f":"lammering[[#This Row],[Ooi]]","v":0},0,0,{"$f":"IF(lammering[[#This Row],[Lam-nummer]]=\"\",0,1)","v":0},{"$f":"IF(lammering[[#This Row],[Dood in geboorte]]=\"ja\",1,0)","v":0},{"$f":"IF(lammering[[#This Row],[Ooi]]=\"\",0,IF(Berekeningen!E251=0,1,0))","v":0},{"$f":"IF(D251=0,0,IF(lammering[[#This Row],[Dood in geboorte]]=\"Ja\",0,IF(lammering[[#This Row],[Dood na geboorte]]=\"ja\",0,1)))","v":0},{"$f":"IF(lammering[[#This Row],[Opfok met kunstmelk]]=\"Ja\",1,0)","v":0},{"$f":"IF(lammering[[#This Row],[geslacht]]=\"O\",1,0)","v":0},{"$f":"IF(lammering[[#This Row],[Speen-datum]]=\"\",\"\",(lammering[[#This Row],[Speen-gewicht]]-lammering[[#This Row],[geboorte-gewicht]])/(lammering[[#This Row],[Speen-datum]]-lammering[[#This Row],[Werp-datum]]))","v":""},{"$f":"IF(lammering[[#This Row],[Verkoop-datum]]=\"\",\"\",(lammering[[#This Row],[Verkoop-gewicht]]-lammering[[#This Row],[Speen-gewicht]])/(lammering[[#This Row],[Verkoop-datum]]-lammering[[#This Row],[Speen-datum]]))","v":""},{"$f":"IF(lammering[[#This Row],[Verkoop-datum]]=\"\",\"\",(lammering[[#This Row],[Verkoop-gewicht]]-lammering[[#This Row],[geboorte-gewicht]])/(lammering[[#This Row],[Verkoop-datum]]-lammering[[#This Row],[Werp-datum]]))","v":""},"","","","","","",{"$f":"IF(lammering[[#This Row],[Verkoop-gewicht]]=\"\",\"\",lammering[[#This Row],[Verkoop-gewicht]]-lammering[[#This Row],[geboorte-gewicht]])","v":""},"",""]
[{"$f":"lammering[[#This Row],[Ooi]]","v":0},0,0,{"$f":"IF(lammering[[#This Row],[Lam-nummer]]=\"\",0,1)","v":0},{"$f":"IF(lammering[[#This Row],[Dood in geboorte]]=\"ja\",1,0)","v":0},{"$f":"IF(lammering[[#This Row],[Ooi]]=\"\",0,IF(Berekeningen!E252=0,1,0))","v":0},{"$f":"IF(D252=0,0,IF(lammering[[#This Row],[Dood in geboorte]]=\"Ja\",0,IF(lammering[[#This Row],[Dood na geboorte]]=\"ja\",0,1)))","v":0},{"$f":"IF(lammering[[#This Row],[Opfok met kunstmelk]]=\"Ja\",1,0)","v":0},{"$f":"IF(lammering[[#This Row],[geslacht]]=\"O\",1,0)","v":0},{"$f":"IF(lammering[[#This Row],[Speen-datum]]=\"\",\"\",(lammering[[#This Row],[Speen-gewicht]]-lammering[[#This Row],[geboorte-gewicht]])/(lammering[[#This Row],[Speen-datum]]-lammering[[#This Row],[Werp-datum]]))","v":""},{"$f":"IF(lammering[[#This Row],[Verkoop-datum]]=\"\",\"\",(lammering[[#This Row],[Verkoop-gewicht]]-lammering[[#This Row],[Speen-gewicht]])/(lammering[[#This Row],[Verkoop-datum]]-lammering[[#This Row],[Speen-datum]]))","v":""},{"$f":"IF(lammering[[#This Row],[Verkoop-datum]]=\"\",\"\",(lammering[[#This Row],[Verkoop-gewicht]]-lammering[[#This Row],[geboorte-gewicht]])/(lammering[[#This Row],[Verkoop-datum]]-lammering[[#This Row],[Werp-datum]]))","v":""},"","","","","","",{"$f":"IF(lammering[[#This Row],[Verkoop-gewicht]]=\"\",\"\",lammering[[#This Row],[Verkoop-gewicht]]-lammering[[#This Row],[geboorte-gewicht]])","v":""},"",""]
[{"$f":"lammering[[#This Row],[Ooi]]","v":0},0,0,{"$f":"IF(lammering[[#This Row],[Lam-nummer]]=\"\",0,1)","v":0},{"$f":"IF(lammering[[#This Row],[Dood in geboorte]]=\"ja\",1,0)","v":0},{"$f":"IF(lammering[[#This Row],[Ooi]]=\"\",0,IF(Berekeningen!E253=0,1,0))","v":0},{"$f":"IF(D253=0,0,IF(lammering[[#This Row],[Dood in geboorte]]=\"Ja\",0,IF(lammering[[#This Row],[Dood na geboorte]]=\"ja\",0,1)))","v":0},{"$f":"IF(lammering[[#This Row],[Opfok met kunstmelk]]=\"Ja\",1,0)","v":0},{"$f":"IF(lammering[[#This Row],[geslacht]]=\"O\",1,0)","v":0},{"$f":"IF(lammering[[#This Row],[Speen-datum]]=\"\",\"\",(lammering[[#This Row],[Speen-gewicht]]-lammering[[#This Row],[geboorte-gewicht]])/(lammering[[#This Row],[Speen-datum]]-lammering[[#This Row],[Werp-datum]]))","v":""},{"$f":"IF(lammering[[#This Row],[Verkoop-datum]]=\"\",\"\",(lammering[[#This Row],[Verkoop-gewicht]]-lammering[[#This Row],[Speen-gewicht]])/(lammering[[#This Row],[Verkoop-datum]]-lammering[[#This Row],[Speen-datum]]))","v":""},{"$f":"IF(lammering[[#This Row],[Verkoop-datum]]=\"\",\"\",(lammering[[#This Row],[Verkoop-gewicht]]-lammering[[#This Row],[geboorte-gewicht]])/(lammering[[#This Row],[Verkoop-datum]]-lammering[[#This Row],[Werp-datum]]))","v":""},"","","","","","",{"$f":"IF(lammering[[#This Row],[Verkoop-gewicht]]=\"\",\"\",lammering[[#This Row],[Verkoop-gewicht]]-lammering[[#This Row],[geboorte-gewicht]])","v":""},"",""]
[{"$f":"lammering[[#This Row],[Ooi]]","v":0},0,0,{"$f":"IF(lammering[[#This Row],[Lam-nummer]]=\"\",0,1)","v":0},{"$f":"IF(lammering[[#This Row],[Dood in geboorte]]=\"ja\",1,0)","v":0},{"$f":"IF(lammering[[#This Row],[Ooi]]=\"\",0,IF(Berekeningen!E254=0,1,0))","v":0},{"$f":"IF(D254=0,0,IF(lammering[[#This Row],[Dood in geboorte]]=\"Ja\",0,IF(lammering[[#This Row],[Dood na geboorte]]=\"ja\",0,1)))","v":0},{"$f":"IF(lammering[[#This Row],[Opfok met kunstmelk]]=\"Ja\",1,0)","v":0},{"$f":"IF(lammering[[#This Row],[geslacht]]=\"O\",1,0)","v":0},{"$f":"IF(lammering[[#This Row],[Speen-datum]]=\"\",\"\",(lammering[[#This Row],[Speen-gewicht]]-lammering[[#This Row],[geboorte-gewicht]])/(lammering[[#This Row],[Speen-datum]]-lammering[[#This Row],[Werp-datum]]))","v":""},{"$f":"IF(lammering[[#This Row],[Verkoop-datum]]=\"\",\"\",(lammering[[#This Row],[Verkoop-gewicht]]-lammering[[#This Row],[Speen-gewicht]])/(lammering[[#This Row],[Verkoop-datum]]-lammering[[#This Row],[Speen-datum]]))","v":""},{"$f":"IF(lammering[[#This Row],[Verkoop-datum]]=\"\",\"\",(lammering[[#This Row],[Verkoop-gewicht]]-lammering[[#This Row],[geboorte-gewicht]])/(lammering[[#This Row],[Verkoop-datum]]-lammering[[#This Row],[Werp-datum]]))","v":""},"","","","","","",{"$f":"IF(lammering[[#This Row],[Verkoop-gewicht]]=\"\",\"\",lammering[[#This Row],[Verkoop-gewicht]]-lammering[[#This Row],[geboorte-gewicht]])","v":""},"",""]
[{"$f":"lammering[[#This Row],[Ooi]]","v":0},0,0,{"$f":"IF(lammering[[#This Row],[Lam-nummer]]=\"\",0,1)","v":0},{"$f":"IF(lammering[[#This Row],[Dood in geboorte]]=\"ja\",1,0)","v":0},{"$f":"IF(lammering[[#This Row],[Ooi]]=\"\",0,IF(Berekeningen!E255=0,1,0))","v":0},{"$f":"IF(D255=0,0,IF(lammering[[#This Row],[Dood in geboorte]]=\"Ja\",0,IF(lammering[[#This Row],[Dood na geboorte]]=\"ja\",0,1)))","v":0},{"$f":"IF(lammering[[#This Row],[Opfok met kunstmelk]]=\"Ja\",1,0)","v":0},{"$f":"IF(lammering[[#This Row],[geslacht]]=\"O\",1,0)","v":0},{"$f":"IF(lammering[[#This Row],[Speen-datum]]=\"\",\"\",(lammering[[#This Row],[Speen-gewicht]]-lammering[[#This Row],[geboorte-gewicht]])/(lammering[[#This Row],[Speen-datum]]-lammering[[#This Row],[Werp-datum]]))","v":""},{"$f":"IF(lammering[[#This Row],[Verkoop-datum]]=\"\",\"\",(lammering[[#This Row],[Verkoop-gewicht]]-lammering[[#This Row],[Speen-gewicht]])/(lammering[[#This Row],[Verkoop-datum]]-lammering[[#This Row],[Speen-datum]]))","v":""},{"$f":"IF(lammering[[#This Row],[Verkoop-datum]]=\"\",\"\",(lammering[[#This Row],[Verkoop-gewicht]]-lammering[[#This Row],[geboorte-gewicht]])/(lammering[[#This Row],[Verkoop-datum]]-lammering[[#This Row],[Werp-datum]]))","v":""},"","","","","","",{"$f":"IF(lammering[[#This Row],[Verkoop-gewicht]]=\"\",\"\",lammering[[#This Row],[Verkoop-gewicht]]-lammering[[#This Row],[geboorte-gewicht]])","v":""},"",""]
[{"$f":"lammering[[#This Row],[Ooi]]","v":0},0,0,{"$f":"IF(lammering[[#This Row],[Lam-nummer]]=\"\",0,1)","v":0},{"$f":"IF(lammering[[#This Row],[Dood in geboorte]]=\"ja\",1,0)","v":0},{"$f":"IF(lammering[[#This Row],[Ooi]]=\"\",0,IF(Berekeningen!E256=0,1,0))","v":0},{"$f":"IF(D256=0,0,IF(lammering[[#This Row],[Dood in geboorte]]=\"Ja\",0,IF(lammering[[#This Row],[Dood na geboorte]]=\"ja\",0,1)))","v":0},{"$f":"IF(lammering[[#This Row],[Opfok met kunstmelk]]=\"Ja\",1,0)","v":0},{"$f":"IF(lammering[[#This Row],[geslacht]]=\"O\",1,0)","v":0},{"$f":"IF(lammering[[#This Row],[Speen-datum]]=\"\",\"\",(lammering[[#This Row],[Speen-gewicht]]-lammering[[#This Row],[geboorte-gewicht]])/(lammering[[#This Row],[Speen-datum]]-lammering[[#This Row],[Werp-datum]]))","v":""},{"$f":"IF(lammering[[#This Row],[Verkoop-datum]]=\"\",\"\",(lammering[[#This Row],[Verkoop-gewicht]]-lammering[[#This Row],[Speen-gewicht]])/(lammering[[#This Row],[Verkoop-datum]]-lammering[[#This Row],[Speen-datum]]))","v":""},{"$f":"IF(lammering[[#This Row],[Verkoop-datum]]=\"\",\"\",(lammering[[#This Row],[Verkoop-gewicht]]-lammering[[#This Row],[geboorte-gewicht]])/(lammering[[#This Row],[Verkoop-datum]]-lammering[[#This Row],[Werp-datum]]))","v":""},"","","","","","",{"$f":"IF(lammering[[#This Row],[Verkoop-gewicht]]=\"\",\"\",lammering[[#This Row],[Verkoop-gewicht]]-lammering[[#This Row],[geboorte-gewicht]])","v":""},"",""]
[{"$f":"lammering[[#This Row],[Ooi]]","v":0},0,0,{"$f":"IF(lammering[[#This Row],[Lam-nummer]]=\"\",0,1)","v":0},{"$f":"IF(lammering[[#This Row],[Dood in geboorte]]=\"ja\",1,0)","v":0},{"$f":"IF(lammering[[#This Row],[Ooi]]=\"\",0,IF(Berekeningen!E257=0,1,0))","v":0},{"$f":"IF(D257=0,0,IF(lammering[[#This Row],[Dood in geboorte]]=\"Ja\",0,IF(lammering[[#This Row],[Dood na geboorte]]=\"ja\",0,1)))","v":0},{"$f":"IF(lammering[[#This Row],[Opfok met kunstmelk]]=\"Ja\",1,0)","v":0},{"$f":"IF(lammering[[#This Row],[geslacht]]=\"O\",1,0)","v":0},{"$f":"IF(lammering[[#This Row],[Speen-datum]]=\"\",\"\",(lammering[[#This Row],[Speen-gewicht]]-lammering[[#This Row],[geboorte-gewicht]])/(lammering[[#This Row],[Speen-datum]]-lammering[[#This Row],[Werp-datum]]))","v":""},{"$f":"IF(lammering[[#This Row],[Verkoop-datum]]=\"\",\"\",(lammering[[#This Row],[Verkoop-gewicht]]-lammering[[#This Row],[Speen-gewicht]])/(lammering[[#This Row],[Verkoop-datum]]-lammering[[#This Row],[Speen-datum]]))","v":""},{"$f":"IF(lammering[[#This Row],[Verkoop-datum]]=\"\",\"\",(lammering[[#This Row],[Verkoop-gewicht]]-lammering[[#This Row],[geboorte-gewicht]])/(lammering[[#This Row],[Verkoop-datum]]-lammering[[#This Row],[Werp-datum]]))","v":""},"","","","","","",{"$f":"IF(lammering[[#This Row],[Verkoop-gewicht]]=\"\",\"\",lammering[[#This Row],[Verkoop-gewicht]]-lammering[[#This Row],[geboorte-gewicht]])","v":""},"",""]
[{"$f":"lammering[[#This Row],[Ooi]]","v":0},0,0,{"$f":"IF(lammering[[#This Row],[Lam-nummer]]=\"\",0,1)","v":0},{"$f":"IF(lammering[[#This Row],[Dood in geboorte]]=\"ja\",1,0)","v":0},{"$f":"IF(lammering[[#This Row],[Ooi]]=\"\",0,IF(Berekeningen!E258=0,1,0))","v":0},{"$f":"IF(D258=0,0,IF(lammering[[#This Row],[Dood in geboorte]]=\"Ja\",0,IF(lammering[[#This Row],[Dood na geboorte]]=\"ja\",0,1)))","v":0},{"$f":"IF(lammering[[#This Row],[Opfok met kunstmelk]]=\"Ja\",1,0)","v":0},{"$f":"IF(lammering[[#This Row],[geslacht]]=\"O\",1,0)","v":0},{"$f":"IF(lammering[[#This Row],[Speen-datum]]=\"\",\"\",(lammering[[#This Row],[Speen-gewicht]]-lammering[[#This Row],[geboorte-gewicht]])/(lammering[[#This Row],[Speen-datum]]-lammering[[#This Row],[Werp-datum]]))","v":""},{"$f":"IF(lammering[[#This Row],[Verkoop-datum]]=\"\",\"\",(lammering[[#This Row],[Verkoop-gewicht]]-lammering[[#This Row],[Speen-gewicht]])/(lammering[[#This Row],[Verkoop-datum]]-lammering[[#This Row],[Speen-datum]]))","v":""},{"$f":"IF(lammering[[#This Row],[Verkoop-datum]]=\"\",\"\",(lammering[[#This Row],[Verkoop-gewicht]]-lammering[[#This Row],[geboorte-gewicht]])/(lammering[[#This Row],[Verkoop-datum]]-lammering[[#This Row],[Werp-datum]]))","v":""},"","","","","","",{"$f":"IF(lammering[[#This Row],[Verkoop-gewicht]]=\"\",\"\",lammering[[#This Row],[Verkoop-gewicht]]-lammering[[#This Row],[geboorte-gewicht]])","v":""},"",""]
[{"$f":"lammering[[#This Row],[Ooi]]","v":0},{"$f":"IF(A259=0,0,IF(A259=A258,0,1))","v":0},{"$f":"IF(B259=1,A259,0)","v":0},{"$f":"IF(lammering[[#This Row],[Lam-nummer]]=\"\",0,1)","v":0},{"$f":"IF(lammering[[#This Row],[Dood in geboorte]]=\"ja\",1,0)","v":0},{"$f":"IF(lammering[[#This Row],[Ooi]]=\"\",0,IF(Berekeningen!E259=0,1,0))","v":0},{"$f":"IF(D259=0,0,IF(lammering[[#This Row],[Dood in geboorte]]=\"Ja\",0,IF(lammering[[#This Row],[Dood na geboorte]]=\"ja\",0,1)))","v":0},{"$f":"IF(lammering[[#This Row],[Opfok met kunstmelk]]=\"Ja\",1,0)","v":0},{"$f":"IF(lammering[[#This Row],[geslacht]]=\"O\",1,0)","v":0},{"$f":"IF(lammering[[#This Row],[Speen-datum]]=\"\",\"\",(lammering[[#This Row],[Speen-gewicht]]-lammering[[#This Row],[geboorte-gewicht]])/(lammering[[#This Row],[Speen-datum]]-lammering[[#This Row],[Werp-datum]]))","v":""},{"$f":"IF(lammering[[#This Row],[Verkoop-datum]]=\"\",\"\",(lammering[[#This Row],[Verkoop-gewicht]]-lammering[[#This Row],[Speen-gewicht]])/(lammering[[#This Row],[Verkoop-datum]]-lammering[[#This Row],[Speen-datum]]))","v":""},{"$f":"IF(lammering[[#This Row],[Verkoop-datum]]=\"\",\"\",(lammering[[#This Row],[Verkoop-gewicht]]-lammering[[#This Row],[geboorte-gewicht]])/(lammering[[#This Row],[Verkoop-datum]]-lammering[[#This Row],[Werp-datum]]))","v":""},"","","","","","",{"$f":"IF(lammering[[#This Row],[Verkoop-gewicht]]=\"\",\"\",lammering[[#This Row],[Verkoop-gewicht]]-lammering[[#This Row],[geboorte-gewicht]])","v":""},"",""]
[{"$f":"lammering[[#This Row],[Ooi]]","v":0},0,0,{"$f":"IF(lammering[[#This Row],[Lam-nummer]]=\"\",0,1)","v":0},{"$f":"IF(lammering[[#This Row],[Dood in geboorte]]=\"ja\",1,0)","v":0},{"$f":"IF(lammering[[#This Row],[Ooi]]=\"\",0,IF(Berekeningen!E260=0,1,0))","v":0},{"$f":"IF(D260=0,0,IF(lammering[[#This Row],[Dood in geboorte]]=\"Ja\",0,IF(lammering[[#This Row],[Dood na geboorte]]=\"ja\",0,1)))","v":0},{"$f":"IF(lammering[[#This Row],[Opfok met kunstmelk]]=\"Ja\",1,0)","v":0},{"$f":"IF(lammering[[#This Row],[geslacht]]=\"O\",1,0)","v":0},{"$f":"IF(lammering[[#This Row],[Speen-datum]]=\"\",\"\",(lammering[[#This Row],[Speen-gewicht]]-lammering[[#This Row],[geboorte-gewicht]])/(lammering[[#This Row],[Speen-datum]]-lammering[[#This Row],[Werp-datum]]))","v":""},{"$f":"IF(lammering[[#This Row],[Verkoop-datum]]=\"\",\"\",(lammering[[#This Row],[Verkoop-gewicht]]-lammering[[#This Row],[Speen-gewicht]])/(lammering[[#This Row],[Verkoop-datum]]-lammering[[#This Row],[Speen-datum]]))","v":""},{"$f":"IF(lammering[[#This Row],[Verkoop-datum]]=\"\",\"\",(lammering[[#This Row],[Verkoop-gewicht]]-lammering[[#This Row],[geboorte-gewicht]])/(lammering[[#This Row],[Verkoop-datum]]-lammering[[#This Row],[Werp-datum]]))","v":""},"","","","","","",{"$f":"IF(lammering[[#This Row],[Verkoop-gewicht]]=\"\",\"\",lammering[[#This Row],[Verkoop-gewicht]]-lammering[[#This Row],[geboorte-gewicht]])","v":""},"",""]
[{"$f":"lammering[[#This Row],[Ooi]]","v":0},0,0,{"$f":"IF(lammering[[#This Row],[Lam-nummer]]=\"\",0,1)","v":0},{"$f":"IF(lammering[[#This Row],[Dood in geboorte]]=\"ja\",1,0)","v":0},{"$f":"IF(lammering[[#This Row],[Ooi]]=\"\",0,IF(Berekeningen!E261=0,1,0))","v":0},{"$f":"IF(D261=0,0,IF(lammering[[#This Row],[Dood in geboorte]]=\"Ja\",0,IF(lammering[[#This Row],[Dood na geboorte]]=\"ja\",0,1)))","v":0},{"$f":"IF(lammering[[#This Row],[Opfok met kunstmelk]]=\"Ja\",1,0)","v":0},{"$f":"IF(lammering[[#This Row],[geslacht]]=\"O\",1,0)","v":0},{"$f":"IF(lammering[[#This Row],[Speen-datum]]=\"\",\"\",(lammering[[#This Row],[Speen-gewicht]]-lammering[[#This Row],[geboorte-gewicht]])/(lammering[[#This Row],[Speen-datum]]-lammering[[#This Row],[Werp-datum]]))","v":""},{"$f":"IF(lammering[[#This Row],[Verkoop-datum]]=\"\",\"\",(lammering[[#This Row],[Verkoop-gewicht]]-lammering[[#This Row],[Speen-gewicht]])/(lammering[[#This Row],[Verkoop-datum]]-lammering[[#This Row],[Speen-datum]]))","v":""},{"$f":"IF(lammering[[#This Row],[Verkoop-datum]]=\"\",\"\",(lammering[[#This Row],[Verkoop-gewicht]]-lammering[[#This Row],[geboorte-gewicht]])/(lammering[[#This Row],[Verkoop-datum]]-lammering[[#This Row],[Werp-datum]]))","v":""},"","","","","","",{"$f":"IF(lammering[[#This Row],[Verkoop-gewicht]]=\"\",\"\",lammering[[#This Row],[Verkoop-gewicht]]-lammering[[#This Row],[geboorte-gewicht]])","v":""},"",""]
[{"$f":"lammering[[#This Row],[Ooi]]","v":0},0,0,{"$f":"IF(lammering[[#This Row],[Lam-nummer]]=\"\",0,1)","v":0},{"$f":"IF(lammering[[#This Row],[Dood in geboorte]]=\"ja\",1,0)","v":0},{"$f":"IF(lammering[[#This Row],[Ooi]]=\"\",0,IF(Berekeningen!E262=0,1,0))","v":0},{"$f":"IF(D262=0,0,IF(lammering[[#This Row],[Dood in geboorte]]=\"Ja\",0,IF(lammering[[#This Row],[Dood na geboorte]]=\"ja\",0,1)))","v":0},{"$f":"IF(lammering[[#This Row],[Opfok met kunstmelk]]=\"Ja\",1,0)","v":0},{"$f":"IF(lammering[[#This Row],[geslacht]]=\"O\",1,0)","v":0},{"$f":"IF(lammering[[#This Row],[Speen-datum]]=\"\",\"\",(lammering[[#This Row],[Speen-gewicht]]-lammering[[#This Row],[geboorte-gewicht]])/(lammering[[#This Row],[Speen-datum]]-lammering[[#This Row],[Werp-datum]]))","v":""},{"$f":"IF(lammering[[#This Row],[Verkoop-datum]]=\"\",\"\",(lammering[[#This Row],[Verkoop-gewicht]]-lammering[[#This Row],[Speen-gewicht]])/(lammering[[#This Row],[Verkoop-datum]]-lammering[[#This Row],[Speen-datum]]))","v":""},{"$f":"IF(lammering[[#This Row],[Verkoop-datum]]=\"\",\"\",(lammering[[#This Row],[Verkoop-gewicht]]-lammering[[#This Row],[geboorte-gewicht]])/(lammering[[#This Row],[Verkoop-datum]]-lammering[[#This Row],[Werp-datum]]))","v":""},"","","","","","",{"$f":"IF(lammering[[#This Row],[Verkoop-gewicht]]=\"\",\"\",lammering[[#This Row],[Verkoop-gewicht]]-lammering[[#This Row],[geboorte-gewicht]])","v":""},"",""]
[{"$f":"lammering[[#This Row],[Ooi]]","v":0},0,0,{"$f":"IF(lammering[[#This Row],[Lam-nummer]]=\"\",0,1)","v":0},{"$f":"IF(lammering[[#This Row],[Dood in geboorte]]=\"ja\",1,0)","v":0},{"$f":"IF(lammering[[#This Row],[Ooi]]=\"\",0,IF(Berekeningen!E263=0,1,0))","v":0},{"$f":"IF(D263=0,0,IF(lammering[[#This Row],[Dood in geboorte]]=\"Ja\",0,IF(lammering[[#This Row],[Dood na geboorte]]=\"ja\",0,1)))","v":0},{"$f":"IF(lammering[[#This Row],[Opfok met kunstmelk]]=\"Ja\",1,0)","v":0},{"$f":"IF(lammering[[#This Row],[geslacht]]=\"O\",1,0)","v":0},{"$f":"IF(lammering[[#This Row],[Speen-datum]]=\"\",\"\",(lammering[[#This Row],[Speen-gewicht]]-lammering[[#This Row],[geboorte-gewicht]])/(lammering[[#This Row],[Speen-datum]]-lammering[[#This Row],[Werp-datum]]))","v":""},{"$f":"IF(lammering[[#This Row],[Verkoop-datum]]=\"\",\"\",(lammering[[#This Row],[Verkoop-gewicht]]-lammering[[#This Row],[Speen-gewicht]])/(lammering[[#This Row],[Verkoop-datum]]-lammering[[#This Row],[Speen-datum]]))","v":""},{"$f":"IF(lammering[[#This Row],[Verkoop-datum]]=\"\",\"\",(lammering[[#This Row],[Verkoop-gewicht]]-lammering[[#This Row],[geboorte-gewicht]])/(lammering[[#This Row],[Verkoop-datum]]-lammering[[#This Row],[Werp-datum]]))","v":""},"","","","","","",{"$f":"IF(lammering[[#This Row],[Verkoop-gewicht]]=\"\",\"\",lammering[[#This Row],[Verkoop-gewicht]]-lammering[[#This Row],[geboorte-gewicht]])","v":""},"",""]
[{"$f":"lammering[[#This Row],[Ooi]]","v":0},0,0,{"$f":"IF(lammering[[#This Row],[Lam-nummer]]=\"\",0,1)","v":0},{"$f":"IF(lammering[[#This Row],[Dood in geboorte]]=\"ja\",1,0)","v":0},{"$f":"IF(lammering[[#This Row],[Ooi]]=\"\",0,IF(Berekeningen!E264=0,1,0))","v":0},{"$f":"IF(D264=0,0,IF(lammering[[#This Row],[Dood in geboorte]]=\"Ja\",0,IF(lammering[[#This Row],[Dood na geboorte]]=\"ja\",0,1)))","v":0},{"$f":"IF(lammering[[#This Row],[Opfok met kunstmelk]]=\"Ja\",1,0)","v":0},{"$f":"IF(lammering[[#This Row],[geslacht]]=\"O\",1,0)","v":0},{"$f":"IF(lammering[[#This Row],[Speen-datum]]=\"\",\"\",(lammering[[#This Row],[Speen-gewicht]]-lammering[[#This Row],[geboorte-gewicht]])/(lammering[[#This Row],[Speen-datum]]-lammering[[#This Row],[Werp-datum]]))","v":""},{"$f":"IF(lammering[[#This Row],[Verkoop-datum]]=\"\",\"\",(lammering[[#This Row],[Verkoop-gewicht]]-lammering[[#This Row],[Speen-gewicht]])/(lammering[[#This Row],[Verkoop-datum]]-lammering[[#This Row],[Speen-datum]]))","v":""},{"$f":"IF(lammering[[#This Row],[Verkoop-datum]]=\"\",\"\",(lammering[[#This Row],[Verkoop-gewicht]]-lammering[[#This Row],[geboorte-gewicht]])/(lammering[[#This Row],[Verkoop-datum]]-lammering[[#This Row],[Werp-datum]]))","v":""},"","","","","","",{"$f":"IF(lammering[[#This Row],[Verkoop-gewicht]]=\"\",\"\",lammering[[#This Row],[Verkoop-gewicht]]-lammering[[#This Row],[geboorte-gewicht]])","v":""},"",""]
[{"$f":"lammering[[#This Row],[Ooi]]","v":0},0,0,{"$f":"IF(lammering[[#This Row],[Lam-nummer]]=\"\",0,1)","v":0},{"$f":"IF(lammering[[#This Row],[Dood in geboorte]]=\"ja\",1,0)","v":0},{"$f":"IF(lammering[[#This Row],[Ooi]]=\"\",0,IF(Berekeningen!E265=0,1,0))","v":0},{"$f":"IF(D265=0,0,IF(lammering[[#This Row],[Dood in geboorte]]=\"Ja\",0,IF(lammering[[#This Row],[Dood na geboorte]]=\"ja\",0,1)))","v":0},{"$f":"IF(lammering[[#This Row],[Opfok met kunstmelk]]=\"Ja\",1,0)","v":0},{"$f":"IF(lammering[[#This Row],[geslacht]]=\"O\",1,0)","v":0},{"$f":"IF(lammering[[#This Row],[Speen-datum]]=\"\",\"\",(lammering[[#This Row],[Speen-gewicht]]-lammering[[#This Row],[geboorte-gewicht]])/(lammering[[#This Row],[Speen-datum]]-lammering[[#This Row],[Werp-datum]]))","v":""},{"$f":"IF(lammering[[#This Row],[Verkoop-datum]]=\"\",\"\",(lammering[[#This Row],[Verkoop-gewicht]]-lammering[[#This Row],[Speen-gewicht]])/(lammering[[#This Row],[Verkoop-datum]]-lammering[[#This Row],[Speen-datum]]))","v":""},{"$f":"IF(lammering[[#This Row],[Verkoop-datum]]=\"\",\"\",(lammering[[#This Row],[Verkoop-gewicht]]-lammering[[#This Row],[geboorte-gewicht]])/(lammering[[#This Row],[Verkoop-datum]]-lammering[[#This Row],[Werp-datum]]))","v":""},"","","","","","",{"$f":"IF(lammering[[#This Row],[Verkoop-gewicht]]=\"\",\"\",lammering[[#This Row],[Verkoop-gewicht]]-lammering[[#This Row],[geboorte-gewicht]])","v":""},"",""]
[{"$f":"lammering[[#This Row],[Ooi]]","v":0},0,0,{"$f":"IF(lammering[[#This Row],[Lam-nummer]]=\"\",0,1)","v":0},{"$f":"IF(lammering[[#This Row],[Dood in geboorte]]=\"ja\",1,0)","v":0},{"$f":"IF(lammering[[#This Row],[Ooi]]=\"\",0,IF(Berekeningen!E266=0,1,0))","v":0},{"$f":"IF(D266=0,0,IF(lammering[[#This Row],[Dood in geboorte]]=\"Ja\",0,IF(lammering[[#This Row],[Dood na geboorte]]=\"ja\",0,1)))","v":0},{"$f":"IF(lammering[[#This Row],[Opfok met kunstmelk]]=\"Ja\",1,0)","v":0},{"$f":"IF(lammering[[#This Row],[geslacht]]=\"O\",1,0)","v":0},{"$f":"IF(lammering[[#This Row],[Speen-datum]]=\"\",\"\",(lammering[[#This Row],[Speen-gewicht]]-lammering[[#This Row],[geboorte-gewicht]])/(lammering[[#This Row],[Speen-datum]]-lammering[[#This Row],[Werp-datum]]))","v":""},{"$f":"IF(lammering[[#This Row],[Verkoop-datum]]=\"\",\"\",(lammering[[#This Row],[Verkoop-gewicht]]-lammering[[#This Row],[Speen-gewicht]])/(lammering[[#This Row],[Verkoop-datum]]-lammering[[#This Row],[Speen-datum]]))","v":""},{"$f":"IF(lammering[[#This Row],[Verkoop-datum]]=\"\",\"\",(lammering[[#This Row],[Verkoop-gewicht]]-lammering[[#This Row],[geboorte-gewicht]])/(lammering[[#This Row],[Verkoop-datum]]-lammering[[#This Row],[Werp-datum]]))","v":""},"","","","","","",{"$f":"IF(lammering[[#This Row],[Verkoop-gewicht]]=\"\",\"\",lammering[[#This Row],[Verkoop-gewicht]]-lammering[[#This Row],[geboorte-gewicht]])","v":""},"",""]
[{"$f":"lammering[[#This Row],[Ooi]]","v":0},0,0,{"$f":"IF(lammering[[#This Row],[Lam-nummer]]=\"\",0,1)","v":0},{"$f":"IF(lammering[[#This Row],[Dood in geboorte]]=\"ja\",1,0)","v":0},{"$f":"IF(lammering[[#This Row],[Ooi]]=\"\",0,IF(Berekeningen!E267=0,1,0))","v":0},{"$f":"IF(D267=0,0,IF(lammering[[#This Row],[Dood in geboorte]]=\"Ja\",0,IF(lammering[[#This Row],[Dood na geboorte]]=\"ja\",0,1)))","v":0},{"$f":"IF(lammering[[#This Row],[Opfok met kunstmelk]]=\"Ja\",1,0)","v":0},{"$f":"IF(lammering[[#This Row],[geslacht]]=\"O\",1,0)","v":0},{"$f":"IF(lammering[[#This Row],[Speen-datum]]=\"\",\"\",(lammering[[#This Row],[Speen-gewicht]]-lammering[[#This Row],[geboorte-gewicht]])/(lammering[[#This Row],[Speen-datum]]-lammering[[#This Row],[Werp-datum]]))","v":""},{"$f":"IF(lammering[[#This Row],[Verkoop-datum]]=\"\",\"\",(lammering[[#This Row],[Verkoop-gewicht]]-lammering[[#This Row],[Speen-gewicht]])/(lammering[[#This Row],[Verkoop-datum]]-lammering[[#This Row],[Speen-datum]]))","v":""},{"$f":"IF(lammering[[#This Row],[Verkoop-datum]]=\"\",\"\",(lammering[[#This Row],[Verkoop-gewicht]]-lammering[[#This Row],[geboorte-gewicht]])/(lammering[[#This Row],[Verkoop-datum]]-lammering[[#This Row],[Werp-datum]]))","v":""},"","","","","","",{"$f":"IF(lammering[[#This Row],[Verkoop-gewicht]]=\"\",\"\",lammering[[#This Row],[Verkoop-gewicht]]-lammering[[#This Row],[geboorte-gewicht]])","v":""},"",""]
[{"$f":"lammering[[#This Row],[Ooi]]","v":0},0,0,{"$f":"IF(lammering[[#This Row],[Lam-nummer]]=\"\",0,1)","v":0},{"$f":"IF(lammering[[#This Row],[Dood in geboorte]]=\"ja\",1,0)","v":0},{"$f":"IF(lammering[[#This Row],[Ooi]]=\"\",0,IF(Berekeningen!E268=0,1,0))","v":0},{"$f":"IF(D268=0,0,IF(lammering[[#This Row],[Dood in geboorte]]=\"Ja\",0,IF(lammering[[#This Row],[Dood na geboorte]]=\"ja\",0,1)))","v":0},{"$f":"IF(lammering[[#This Row],[Opfok met kunstmelk]]=\"Ja\",1,0)","v":0},{"$f":"IF(lammering[[#This Row],[geslacht]]=\"O\",1,0)","v":0},{"$f":"IF(lammering[[#This Row],[Speen-datum]]=\"\",\"\",(lammering[[#This Row],[Speen-gewicht]]-lammering[[#This Row],[geboorte-gewicht]])/(lammering[[#This Row],[Speen-datum]]-lammering[[#This Row],[Werp-datum]]))","v":""},{"$f":"IF(lammering[[#This Row],[Verkoop-datum]]=\"\",\"\",(lammering[[#This Row],[Verkoop-gewicht]]-lammering[[#This Row],[Speen-gewicht]])/(lammering[[#This Row],[Verkoop-datum]]-lammering[[#This Row],[Speen-datum]]))","v":""},{"$f":"IF(lammering[[#This Row],[Verkoop-datum]]=\"\",\"\",(lammering[[#This Row],[Verkoop-gewicht]]-lammering[[#This Row],[geboorte-gewicht]])/(lammering[[#This Row],[Verkoop-datum]]-lammering[[#This Row],[Werp-datum]]))","v":""},"","","","","","",{"$f":"IF(lammering[[#This Row],[Verkoop-gewicht]]=\"\",\"\",lammering[[#This Row],[Verkoop-gewicht]]-lammering[[#This Row],[geboorte-gewicht]])","v":""},"",""]
[{"$f":"lammering[[#This Row],[Ooi]]","v":0},0,0,{"$f":"IF(lammering[[#This Row],[Lam-nummer]]=\"\",0,1)","v":0},{"$f":"IF(lammering[[#This Row],[Dood in geboorte]]=\"ja\",1,0)","v":0},{"$f":"IF(lammering[[#This Row],[Ooi]]=\"\",0,IF(Berekeningen!E269=0,1,0))","v":0},{"$f":"IF(D269=0,0,IF(lammering[[#This Row],[Dood in geboorte]]=\"Ja\",0,IF(lammering[[#This Row],[Dood na geboorte]]=\"ja\",0,1)))","v":0},{"$f":"IF(lammering[[#This Row],[Opfok met kunstmelk]]=\"Ja\",1,0)","v":0},{"$f":"IF(lammering[[#This Row],[geslacht]]=\"O\",1,0)","v":0},{"$f":"IF(lammering[[#This Row],[Speen-datum]]=\"\",\"\",(lammering[[#This Row],[Speen-gewicht]]-lammering[[#This Row],[geboorte-gewicht]])/(lammering[[#This Row],[Speen-datum]]-lammering[[#This Row],[Werp-datum]]))","v":""},{"$f":"IF(lammering[[#This Row],[Verkoop-datum]]=\"\",\"\",(lammering[[#This Row],[Verkoop-gewicht]]-lammering[[#This Row],[Speen-gewicht]])/(lammering[[#This Row],[Verkoop-datum]]-lammering[[#This Row],[Speen-datum]]))","v":""},{"$f":"IF(lammering[[#This Row],[Verkoop-datum]]=\"\",\"\",(lammering[[#This Row],[Verkoop-gewicht]]-lammering[[#This Row],[geboorte-gewicht]])/(lammering[[#This Row],[Verkoop-datum]]-lammering[[#This Row],[Werp-datum]]))","v":""},"","","","","","",{"$f":"IF(lammering[[#This Row],[Verkoop-gewicht]]=\"\",\"\",lammering[[#This Row],[Verkoop-gewicht]]-lammering[[#This Row],[geboorte-gewicht]])","v":""},"",""]
[{"$f":"lammering[[#This Row],[Ooi]]","v":0},0,0,{"$f":"IF(lammering[[#This Row],[Lam-nummer]]=\"\",0,1)","v":0},{"$f":"IF(lammering[[#This Row],[Dood in geboorte]]=\"ja\",1,0)","v":0},{"$f":"IF(lammering[[#This Row],[Ooi]]=\"\",0,IF(Berekeningen!E270=0,1,0))","v":0},{"$f":"IF(D270=0,0,IF(lammering[[#This Row],[Dood in geboorte]]=\"Ja\",0,IF(lammering[[#This Row],[Dood na geboorte]]=\"ja\",0,1)))","v":0},{"$f":"IF(lammering[[#This Row],[Opfok met kunstmelk]]=\"Ja\",1,0)","v":0},{"$f":"IF(lammering[[#This Row],[geslacht]]=\"O\",1,0)","v":0},{"$f":"IF(lammering[[#This Row],[Speen-datum]]=\"\",\"\",(lammering[[#This Row],[Speen-gewicht]]-lammering[[#This Row],[geboorte-gewicht]])/(lammering[[#This Row],[Speen-datum]]-lammering[[#This Row],[Werp-datum]]))","v":""},{"$f":"IF(lammering[[#This Row],[Verkoop-datum]]=\"\",\"\",(lammering[[#This Row],[Verkoop-gewicht]]-lammering[[#This Row],[Speen-gewicht]])/(lammering[[#This Row],[Verkoop-datum]]-lammering[[#This Row],[Speen-datum]]))","v":""},{"$f":"IF(lammering[[#This Row],[Verkoop-datum]]=\"\",\"\",(lammering[[#This Row],[Verkoop-gewicht]]-lammering[[#This Row],[geboorte-gewicht]])/(lammering[[#This Row],[Verkoop-datum]]-lammering[[#This Row],[Werp-datum]]))","v":""},"","","","","","",{"$f":"IF(lammering[[#This Row],[Verkoop-gewicht]]=\"\",\"\",lammering[[#This Row],[Verkoop-gewicht]]-lammering[[#This Row],[geboorte-gewicht]])","v":""},"",""]
[{"$f":"lammering[[#This Row],[Ooi]]","v":0},0,0,{"$f":"IF(lammering[[#This Row],[Lam-nummer]]=\"\",0,1)","v":0},{"$f":"IF(lammering[[#This Row],[Dood in geboorte]]=\"ja\",1,0)","v":0},{"$f":"IF(lammering[[#This Row],[Ooi]]=\"\",0,IF(Berekeningen!E271=0,1,0))","v":0},{"$f":"IF(D271=0,0,IF(lammering[[#This Row],[Dood in geboorte]]=\"Ja\",0,IF(lammering[[#This Row],[Dood na geboorte]]=\"ja\",0,1)))","v":0},{"$f":"IF(lammering[[#This Row],[Opfok met kunstmelk]]=\"Ja\",1,0)","v":0},{"$f":"IF(lammering[[#This Row],[geslacht]]=\"O\",1,0)","v":0},{"$f":"IF(lammering[[#This Row],[Speen-datum]]=\"\",\"\",(lammering[[#This Row],[Speen-gewicht]]-lammering[[#This Row],[geboorte-gewicht]])/(lammering[[#This Row],[Speen-datum]]-lammering[[#This Row],[Werp-datum]]))","v":""},{"$f":"IF(lammering[[#This Row],[Verkoop-datum]]=\"\",\"\",(lammering[[#This Row],[Verkoop-gewicht]]-lammering[[#This Row],[Speen-gewicht]])/(lammering[[#This Row],[Verkoop-datum]]-lammering[[#This Row],[Speen-datum]]))","v":""},{"$f":"IF(lammering[[#This Row],[Verkoop-datum]]=\"\",\"\",(lammering[[#This Row],[Verkoop-gewicht]]-lammering[[#This Row],[geboorte-gewicht]])/(lammering[[#This Row],[Verkoop-datum]]-lammering[[#This Row],[Werp-datum]]))","v":""},{"$f":"IF($I271=1,J271,\"\")","v":""},{"$f":"IF($I271=1,K271,\"\")","v":""},{"$f":"IF($I271=1,L271,\"\")","v":""},{"$f":"IF($I271=0,J271,\"\")","v":""},{"$f":"IF($I271=0,K271,\"\")","v":""},{"$f":"IF($I271=0,L271,\"\")","v":""},{"$f":"IF(lammering[[#This Row],[Verkoop-gewicht]]=\"\",\"\",lammering[[#This Row],[Verkoop-gewicht]]-lammering[[#This Row],[geboorte-gewicht]])","v":""},{"$f":"IF(I271=1,S271,\"\")","v":""},{"$f":"IF(I271=0,S271,\"\")","v":""}]
[{"$f":"lammering[[#This Row],[Ooi]]","v":0},0,0,{"$f":"IF(lammering[[#This Row],[Lam-nummer]]=\"\",0,1)","v":0},{"$f":"IF(lammering[[#This Row],[Dood in geboorte]]=\"ja\",1,0)","v":0},{"$f":"IF(lammering[[#This Row],[Ooi]]=\"\",0,IF(Berekeningen!E272=0,1,0))","v":0},{"$f":"IF(D272=0,0,IF(lammering[[#This Row],[Dood in geboorte]]=\"Ja\",0,IF(lammering[[#This Row],[Dood na geboorte]]=\"ja\",0,1)))","v":0},{"$f":"IF(lammering[[#This Row],[Opfok met kunstmelk]]=\"Ja\",1,0)","v":0},{"$f":"IF(lammering[[#This Row],[geslacht]]=\"O\",1,0)","v":0},{"$f":"IF(lammering[[#This Row],[Speen-datum]]=\"\",\"\",(lammering[[#This Row],[Speen-gewicht]]-lammering[[#This Row],[geboorte-gewicht]])/(lammering[[#This Row],[Speen-datum]]-lammering[[#This Row],[Werp-datum]]))","v":""},{"$f":"IF(lammering[[#This Row],[Verkoop-datum]]=\"\",\"\",(lammering[[#This Row],[Verkoop-gewicht]]-lammering[[#This Row],[Speen-gewicht]])/(lammering[[#This Row],[Verkoop-datum]]-lammering[[#This Row],[Speen-datum]]))","v":""},{"$f":"IF(lammering[[#This Row],[Verkoop-datum]]=\"\",\"\",(lammering[[#This Row],[Verkoop-gewicht]]-lammering[[#This Row],[geboorte-gewicht]])/(lammering[[#This Row],[Verkoop-datum]]-lammering[[#This Row],[Werp-datum]]))","v":""},"","","","","","",{"$f":"IF(lammering[[#This Row],[Verkoop-gewicht]]=\"\",\"\",lammering[[#This Row],[Verkoop-gewicht]]-lammering[[#This Row],[geboorte-gewicht]])","v":""},"",""]
[{"$f":"lammering[[#This Row],[Ooi]]","v":0},0,0,{"$f":"IF(lammering[[#This Row],[Lam-nummer]]=\"\",0,1)","v":0},{"$f":"IF(lammering[[#This Row],[Dood in geboorte]]=\"ja\",1,0)","v":0},{"$f":"IF(lammering[[#This Row],[Ooi]]=\"\",0,IF(Berekeningen!E273=0,1,0))","v":0},{"$f":"IF(D273=0,0,IF(lammering[[#This Row],[Dood in geboorte]]=\"Ja\",0,IF(lammering[[#This Row],[Dood na geboorte]]=\"ja\",0,1)))","v":0},{"$f":"IF(lammering[[#This Row],[Opfok met kunstmelk]]=\"Ja\",1,0)","v":0},{"$f":"IF(lammering[[#This Row],[geslacht]]=\"O\",1,0)","v":0},{"$f":"IF(lammering[[#This Row],[Speen-datum]]=\"\",\"\",(lammering[[#This Row],[Speen-gewicht]]-lammering[[#This Row],[geboorte-gewicht]])/(lammering[[#This Row],[Speen-datum]]-lammering[[#This Row],[Werp-datum]]))","v":""},{"$f":"IF(lammering[[#This Row],[Verkoop-datum]]=\"\",\"\",(lammering[[#This Row],[Verkoop-gewicht]]-lammering[[#This Row],[Speen-gewicht]])/(lammering[[#This Row],[Verkoop-datum]]-lammering[[#This Row],[Speen-datum]]))","v":""},{"$f":"IF(lammering[[#This Row],[Verkoop-datum]]=\"\",\"\",(lammering[[#This Row],[Verkoop-gewicht]]-lammering[[#This Row],[geboorte-gewicht]])/(lammering[[#This Row],[Verkoop-datum]]-lammering[[#This Row],[Werp-datum]]))","v":""},"","","","","","",{"$f":"IF(lammering[[#This Row],[Verkoop-gewicht]]=\"\",\"\",lammering[[#This Row],[Verkoop-gewicht]]-lammering[[#This Row],[geboorte-gewicht]])","v":""},"",""]
[{"$f":"lammering[[#This Row],[Ooi]]","v":0},0,0,{"$f":"IF(lammering[[#This Row],[Lam-nummer]]=\"\",0,1)","v":0},{"$f":"IF(lammering[[#This Row],[Dood in geboorte]]=\"ja\",1,0)","v":0},{"$f":"IF(lammering[[#This Row],[Ooi]]=\"\",0,IF(Berekeningen!E274=0,1,0))","v":0},{"$f":"IF(D274=0,0,IF(lammering[[#This Row],[Dood in geboorte]]=\"Ja\",0,IF(lammering[[#This Row],[Dood na geboorte]]=\"ja\",0,1)))","v":0},{"$f":"IF(lammering[[#This Row],[Opfok met kunstmelk]]=\"Ja\",1,0)","v":0},{"$f":"IF(lammering[[#This Row],[geslacht]]=\"O\",1,0)","v":0},{"$f":"IF(lammering[[#This Row],[Speen-datum]]=\"\",\"\",(lammering[[#This Row],[Speen-gewicht]]-lammering[[#This Row],[geboorte-gewicht]])/(lammering[[#This Row],[Speen-datum]]-lammering[[#This Row],[Werp-datum]]))","v":""},{"$f":"IF(lammering[[#This Row],[Verkoop-datum]]=\"\",\"\",(lammering[[#This Row],[Verkoop-gewicht]]-lammering[[#This Row],[Speen-gewicht]])/(lammering[[#This Row],[Verkoop-datum]]-lammering[[#This Row],[Speen-datum]]))","v":""},{"$f":"IF(lammering[[#This Row],[Verkoop-datum]]=\"\",\"\",(lammering[[#This Row],[Verkoop-gewicht]]-lammering[[#This Row],[geboorte-gewicht]])/(lammering[[#This Row],[Verkoop-datum]]-lammering[[#This Row],[Werp-datum]]))","v":""},"","","","","","",{"$f":"IF(lammering[[#This Row],[Verkoop-gewicht]]=\"\",\"\",lammering[[#This Row],[Verkoop-gewicht]]-lammering[[#This Row],[geboorte-gewicht]])","v":""},"",""]
[{"$f":"lammering[[#This Row],[Ooi]]","v":0},0,0,{"$f":"IF(lammering[[#This Row],[Lam-nummer]]=\"\",0,1)","v":0},{"$f":"IF(lammering[[#This Row],[Dood in geboorte]]=\"ja\",1,0)","v":0},{"$f":"IF(lammering[[#This Row],[Ooi]]=\"\",0,IF(Berekeningen!E275=0,1,0))","v":0},{"$f":"IF(D275=0,0,IF(lammering[[#This Row],[Dood in geboorte]]=\"Ja\",0,IF(lammering[[#This Row],[Dood na geboorte]]=\"ja\",0,1)))","v":0},{"$f":"IF(lammering[[#This Row],[Opfok met kunstmelk]]=\"Ja\",1,0)","v":0},{"$f":"IF(lammering[[#This Row],[geslacht]]=\"O\",1,0)","v":0},{"$f":"IF(lammering[[#This Row],[Speen-datum]]=\"\",\"\",(lammering[[#This Row],[Speen-gewicht]]-lammering[[#This Row],[geboorte-gewicht]])/(lammering[[#This Row],[Speen-datum]]-lammering[[#This Row],[Werp-datum]]))","v":""},{"$f":"IF(lammering[[#This Row],[Verkoop-datum]]=\"\",\"\",(lammering[[#This Row],[Verkoop-gewicht]]-lammering[[#This Row],[Speen-gewicht]])/(lammering[[#This Row],[Verkoop-datum]]-lammering[[#This Row],[Speen-datum]]))","v":""},{"$f":"IF(lammering[[#This Row],[Verkoop-datum]]=\"\",\"\",(lammering[[#This Row],[Verkoop-gewicht]]-lammering[[#This Row],[geboorte-gewicht]])/(lammering[[#This Row],[Verkoop-datum]]-lammering[[#This Row],[Werp-datum]]))","v":""},"","","","","","",{"$f":"IF(lammering[[#This Row],[Verkoop-gewicht]]=\"\",\"\",lammering[[#This Row],[Verkoop-gewicht]]-lammering[[#This Row],[geboorte-gewicht]])","v":""},"",""]
[{"$f":"lammering[[#This Row],[Ooi]]","v":0},0,0,{"$f":"IF(lammering[[#This Row],[Lam-nummer]]=\"\",0,1)","v":0},{"$f":"IF(lammering[[#This Row],[Dood in geboorte]]=\"ja\",1,0)","v":0},{"$f":"IF(lammering[[#This Row],[Ooi]]=\"\",0,IF(Berekeningen!E276=0,1,0))","v":0},{"$f":"IF(D276=0,0,IF(lammering[[#This Row],[Dood in geboorte]]=\"Ja\",0,IF(lammering[[#This Row],[Dood na geboorte]]=\"ja\",0,1)))","v":0},{"$f":"IF(lammering[[#This Row],[Opfok met kunstmelk]]=\"Ja\",1,0)","v":0},{"$f":"IF(lammering[[#This Row],[geslacht]]=\"O\",1,0)","v":0},{"$f":"IF(lammering[[#This Row],[Speen-datum]]=\"\",\"\",(lammering[[#This Row],[Speen-gewicht]]-lammering[[#This Row],[geboorte-gewicht]])/(lammering[[#This Row],[Speen-datum]]-lammering[[#This Row],[Werp-datum]]))","v":""},{"$f":"IF(lammering[[#This Row],[Verkoop-datum]]=\"\",\"\",(lammering[[#This Row],[Verkoop-gewicht]]-lammering[[#This Row],[Speen-gewicht]])/(lammering[[#This Row],[Verkoop-datum]]-lammering[[#This Row],[Speen-datum]]))","v":""},{"$f":"IF(lammering[[#This Row],[Verkoop-datum]]=\"\",\"\",(lammering[[#This Row],[Verkoop-gewicht]]-lammering[[#This Row],[geboorte-gewicht]])/(lammering[[#This Row],[Verkoop-datum]]-lammering[[#This Row],[Werp-datum]]))","v":""},"","","","","","",{"$f":"IF(lammering[[#This Row],[Verkoop-gewicht]]=\"\",\"\",lammering[[#This Row],[Verkoop-gewicht]]-lammering[[#This Row],[geboorte-gewicht]])","v":""},"",""]
[{"$f":"lammering[[#This Row],[Ooi]]","v":0},0,0,{"$f":"IF(lammering[[#This Row],[Lam-nummer]]=\"\",0,1)","v":0},{"$f":"IF(lammering[[#This Row],[Dood in geboorte]]=\"ja\",1,0)","v":0},{"$f":"IF(lammering[[#This Row],[Ooi]]=\"\",0,IF(Berekeningen!E277=0,1,0))","v":0},{"$f":"IF(D277=0,0,IF(lammering[[#This Row],[Dood in geboorte]]=\"Ja\",0,IF(lammering[[#This Row],[Dood na geboorte]]=\"ja\",0,1)))","v":0},{"$f":"IF(lammering[[#This Row],[Opfok met kunstmelk]]=\"Ja\",1,0)","v":0},{"$f":"IF(lammering[[#This Row],[geslacht]]=\"O\",1,0)","v":0},{"$f":"IF(lammering[[#This Row],[Speen-datum]]=\"\",\"\",(lammering[[#This Row],[Speen-gewicht]]-lammering[[#This Row],[geboorte-gewicht]])/(lammering[[#This Row],[Speen-datum]]-lammering[[#This Row],[Werp-datum]]))","v":""},{"$f":"IF(lammering[[#This Row],[Verkoop-datum]]=\"\",\"\",(lammering[[#This Row],[Verkoop-gewicht]]-lammering[[#This Row],[Speen-gewicht]])/(lammering[[#This Row],[Verkoop-datum]]-lammering[[#This Row],[Speen-datum]]))","v":""},{"$f":"IF(lammering[[#This Row],[Verkoop-datum]]=\"\",\"\",(lammering[[#This Row],[Verkoop-gewicht]]-lammering[[#This Row],[geboorte-gewicht]])/(lammering[[#This Row],[Verkoop-datum]]-lammering[[#This Row],[Werp-datum]]))","v":""},"","","","","","",{"$f":"IF(lammering[[#This Row],[Verkoop-gewicht]]=\"\",\"\",lammering[[#This Row],[Verkoop-gewicht]]-lammering[[#This Row],[geboorte-gewicht]])","v":""},"",""]
[{"$f":"lammering[[#This Row],[Ooi]]","v":0},0,0,{"$f":"IF(lammering[[#This Row],[Lam-nummer]]=\"\",0,1)","v":0},{"$f":"IF(lammering[[#This Row],[Dood in geboorte]]=\"ja\",1,0)","v":0},{"$f":"IF(lammering[[#This Row],[Ooi]]=\"\",0,IF(Berekeningen!E278=0,1,0))","v":0},{"$f":"IF(D278=0,0,IF(lammering[[#This Row],[Dood in geboorte]]=\"Ja\",0,IF(lammering[[#This Row],[Dood na geboorte]]=\"ja\",0,1)))","v":0},{"$f":"IF(lammering[[#This Row],[Opfok met kunstmelk]]=\"Ja\",1,0)","v":0},{"$f":"IF(lammering[[#This Row],[geslacht]]=\"O\",1,0)","v":0},{"$f":"IF(lammering[[#This Row],[Speen-datum]]=\"\",\"\",(lammering[[#This Row],[Speen-gewicht]]-lammering[[#This Row],[geboorte-gewicht]])/(lammering[[#This Row],[Speen-datum]]-lammering[[#This Row],[Werp-datum]]))","v":""},{"$f":"IF(lammering[[#This Row],[Verkoop-datum]]=\"\",\"\",(lammering[[#This Row],[Verkoop-gewicht]]-lammering[[#This Row],[Speen-gewicht]])/(lammering[[#This Row],[Verkoop-datum]]-lammering[[#This Row],[Speen-datum]]))","v":""},{"$f":"IF(lammering[[#This Row],[Verkoop-datum]]=\"\",\"\",(lammering[[#This Row],[Verkoop-gewicht]]-lammering[[#This Row],[geboorte-gewicht]])/(lammering[[#This Row],[Verkoop-datum]]-lammering[[#This Row],[Werp-datum]]))","v":""},"","","","","","",{"$f":"IF(lammering[[#This Row],[Verkoop-gewicht]]=\"\",\"\",lammering[[#This Row],[Verkoop-gewicht]]-lammering[[#This Row],[geboorte-gewicht]])","v":""},"",""]
[{"$f":"lammering[[#This Row],[Ooi]]","v":0},0,0,{"$f":"IF(lammering[[#This Row],[Lam-nummer]]=\"\",0,1)","v":0},{"$f":"IF(lammering[[#This Row],[Dood in geboorte]]=\"ja\",1,0)","v":0},{"$f":"IF(lammering[[#This Row],[Ooi]]=\"\",0,IF(Berekeningen!E279=0,1,0))","v":0},{"$f":"IF(D279=0,0,IF(lammering[[#This Row],[Dood in geboorte]]=\"Ja\",0,IF(lammering[[#This Row],[Dood na geboorte]]=\"ja\",0,1)))","v":0},{"$f":"IF(lammering[[#This Row],[Opfok met kunstmelk]]=\"Ja\",1,0)","v":0},{"$f":"IF(lammering[[#This Row],[geslacht]]=\"O\",1,0)","v":0},{"$f":"IF(lammering[[#This Row],[Speen-datum]]=\"\",\"\",(lammering[[#This Row],[Speen-gewicht]]-lammering[[#This Row],[geboorte-gewicht]])/(lammering[[#This Row],[Speen-datum]]-lammering[[#This Row],[Werp-datum]]))","v":""},{"$f":"IF(lammering[[#This Row],[Verkoop-datum]]=\"\",\"\",(lammering[[#This Row],[Verkoop-gewicht]]-lammering[[#This Row],[Speen-gewicht]])/(lammering[[#This Row],[Verkoop-datum]]-lammering[[#This Row],[Speen-datum]]))","v":""},{"$f":"IF(lammering[[#This Row],[Verkoop-datum]]=\"\",\"\",(lammering[[#This Row],[Verkoop-gewicht]]-lammering[[#This Row],[geboorte-gewicht]])/(lammering[[#This Row],[Verkoop-datum]]-lammering[[#This Row],[Werp-datum]]))","v":""},"","","","","","",{"$f":"IF(lammering[[#This Row],[Verkoop-gewicht]]=\"\",\"\",lammering[[#This Row],[Verkoop-gewicht]]-lammering[[#This Row],[geboorte-gewicht]])","v":""},"",""]
[{"$f":"lammering[[#This Row],[Ooi]]","v":0},0,0,{"$f":"IF(lammering[[#This Row],[Lam-nummer]]=\"\",0,1)","v":0},{"$f":"IF(lammering[[#This Row],[Dood in geboorte]]=\"ja\",1,0)","v":0},{"$f":"IF(lammering[[#This Row],[Ooi]]=\"\",0,IF(Berekeningen!E280=0,1,0))","v":0},{"$f":"IF(D280=0,0,IF(lammering[[#This Row],[Dood in geboorte]]=\"Ja\",0,IF(lammering[[#This Row],[Dood na geboorte]]=\"ja\",0,1)))","v":0},{"$f":"IF(lammering[[#This Row],[Opfok met kunstmelk]]=\"Ja\",1,0)","v":0},{"$f":"IF(lammering[[#This Row],[geslacht]]=\"O\",1,0)","v":0},{"$f":"IF(lammering[[#This Row],[Speen-datum]]=\"\",\"\",(lammering[[#This Row],[Speen-gewicht]]-lammering[[#This Row],[geboorte-gewicht]])/(lammering[[#This Row],[Speen-datum]]-lammering[[#This Row],[Werp-datum]]))","v":""},{"$f":"IF(lammering[[#This Row],[Verkoop-datum]]=\"\",\"\",(lammering[[#This Row],[Verkoop-gewicht]]-lammering[[#This Row],[Speen-gewicht]])/(lammering[[#This Row],[Verkoop-datum]]-lammering[[#This Row],[Speen-datum]]))","v":""},{"$f":"IF(lammering[[#This Row],[Verkoop-datum]]=\"\",\"\",(lammering[[#This Row],[Verkoop-gewicht]]-lammering[[#This Row],[geboorte-gewicht]])/(lammering[[#This Row],[Verkoop-datum]]-lammering[[#This Row],[Werp-datum]]))","v":""},"","","","","","",{"$f":"IF(lammering[[#This Row],[Verkoop-gewicht]]=\"\",\"\",lammering[[#This Row],[Verkoop-gewicht]]-lammering[[#This Row],[geboorte-gewicht]])","v":""},"",""]
[{"$f":"lammering[[#This Row],[Ooi]]","v":0},0,0,{"$f":"IF(lammering[[#This Row],[Lam-nummer]]=\"\",0,1)","v":0},{"$f":"IF(lammering[[#This Row],[Dood in geboorte]]=\"ja\",1,0)","v":0},{"$f":"IF(lammering[[#This Row],[Ooi]]=\"\",0,IF(Berekeningen!E281=0,1,0))","v":0},{"$f":"IF(D281=0,0,IF(lammering[[#This Row],[Dood in geboorte]]=\"Ja\",0,IF(lammering[[#This Row],[Dood na geboorte]]=\"ja\",0,1)))","v":0},{"$f":"IF(lammering[[#This Row],[Opfok met kunstmelk]]=\"Ja\",1,0)","v":0},{"$f":"IF(lammering[[#This Row],[geslacht]]=\"O\",1,0)","v":0},{"$f":"IF(lammering[[#This Row],[Speen-datum]]=\"\",\"\",(lammering[[#This Row],[Speen-gewicht]]-lammering[[#This Row],[geboorte-gewicht]])/(lammering[[#This Row],[Speen-datum]]-lammering[[#This Row],[Werp-datum]]))","v":""},{"$f":"IF(lammering[[#This Row],[Verkoop-datum]]=\"\",\"\",(lammering[[#This Row],[Verkoop-gewicht]]-lammering[[#This Row],[Speen-gewicht]])/(lammering[[#This Row],[Verkoop-datum]]-lammering[[#This Row],[Speen-datum]]))","v":""},{"$f":"IF(lammering[[#This Row],[Verkoop-datum]]=\"\",\"\",(lammering[[#This Row],[Verkoop-gewicht]]-lammering[[#This Row],[geboorte-gewicht]])/(lammering[[#This Row],[Verkoop-datum]]-lammering[[#This Row],[Werp-datum]]))","v":""},"","","","","","",{"$f":"IF(lammering[[#This Row],[Verkoop-gewicht]]=\"\",\"\",lammering[[#This Row],[Verkoop-gewicht]]-lammering[[#This Row],[geboorte-gewicht]])","v":""},"",""]
[{"$f":"lammering[[#This Row],[Ooi]]","v":0},0,0,{"$f":"IF(lammering[[#This Row],[Lam-nummer]]=\"\",0,1)","v":0},{"$f":"IF(lammering[[#This Row],[Dood in geboorte]]=\"ja\",1,0)","v":0},{"$f":"IF(lammering[[#This Row],[Ooi]]=\"\",0,IF(Berekeningen!E282=0,1,0))","v":0},{"$f":"IF(D282=0,0,IF(lammering[[#This Row],[Dood in geboorte]]=\"Ja\",0,IF(lammering[[#This Row],[Dood na geboorte]]=\"ja\",0,1)))","v":0},{"$f":"IF(lammering[[#This Row],[Opfok met kunstmelk]]=\"Ja\",1,0)","v":0},{"$f":"IF(lammering[[#This Row],[geslacht]]=\"O\",1,0)","v":0},{"$f":"IF(lammering[[#This Row],[Speen-datum]]=\"\",\"\",(lammering[[#This Row],[Speen-gewicht]]-lammering[[#This Row],[geboorte-gewicht]])/(lammering[[#This Row],[Speen-datum]]-lammering[[#This Row],[Werp-datum]]))","v":""},{"$f":"IF(lammering[[#This Row],[Verkoop-datum]]=\"\",\"\",(lammering[[#This Row],[Verkoop-gewicht]]-lammering[[#This Row],[Speen-gewicht]])/(lammering[[#This Row],[Verkoop-datum]]-lammering[[#This Row],[Speen-datum]]))","v":""},{"$f":"IF(lammering[[#This Row],[Verkoop-datum]]=\"\",\"\",(lammering[[#This Row],[Verkoop-gewicht]]-lammering[[#This Row],[geboorte-gewicht]])/(lammering[[#This Row],[Verkoop-datum]]-lammering[[#This Row],[Werp-datum]]))","v":""},"","","","","","",{"$f":"IF(lammering[[#This Row],[Verkoop-gewicht]]=\"\",\"\",lammering[[#This Row],[Verkoop-gewicht]]-lammering[[#This Row],[geboorte-gewicht]])","v":""},"",""]
[{"$f":"lammering[[#This Row],[Ooi]]","v":0},0,0,{"$f":"IF(lammering[[#This Row],[Lam-nummer]]=\"\",0,1)","v":0},{"$f":"IF(lammering[[#This Row],[Dood in geboorte]]=\"ja\",1,0)","v":0},{"$f":"IF(lammering[[#This Row],[Ooi]]=\"\",0,IF(Berekeningen!E283=0,1,0))","v":0},{"$f":"IF(D283=0,0,IF(lammering[[#This Row],[Dood in geboorte]]=\"Ja\",0,IF(lammering[[#This Row],[Dood na geboorte]]=\"ja\",0,1)))","v":0},{"$f":"IF(lammering[[#This Row],[Opfok met kunstmelk]]=\"Ja\",1,0)","v":0},{"$f":"IF(lammering[[#This Row],[geslacht]]=\"O\",1,0)","v":0},{"$f":"IF(lammering[[#This Row],[Speen-datum]]=\"\",\"\",(lammering[[#This Row],[Speen-gewicht]]-lammering[[#This Row],[geboorte-gewicht]])/(lammering[[#This Row],[Speen-datum]]-lammering[[#This Row],[Werp-datum]]))","v":""},{"$f":"IF(lammering[[#This Row],[Verkoop-datum]]=\"\",\"\",(lammering[[#This Row],[Verkoop-gewicht]]-lammering[[#This Row],[Speen-gewicht]])/(lammering[[#This Row],[Verkoop-datum]]-lammering[[#This Row],[Speen-datum]]))","v":""},{"$f":"IF(lammering[[#This Row],[Verkoop-datum]]=\"\",\"\",(lammering[[#This Row],[Verkoop-gewicht]]-lammering[[#This Row],[geboorte-gewicht]])/(lammering[[#This Row],[Verkoop-datum]]-lammering[[#This Row],[Werp-datum]]))","v":""},"","","","","","",{"$f":"IF(lammering[[#This Row],[Verkoop-gewicht]]=\"\",\"\",lammering[[#This Row],[Verkoop-gewicht]]-lammering[[#This Row],[geboorte-gewicht]])","v":""},"",""]
[{"$f":"lammering[[#This Row],[Ooi]]","v":0},0,0,{"$f":"IF(lammering[[#This Row],[Lam-nummer]]=\"\",0,1)","v":0},{"$f":"IF(lammering[[#This Row],[Dood in geboorte]]=\"ja\",1,0)","v":0},{"$f":"IF(lammering[[#This Row],[Ooi]]=\"\",0,IF(Berekeningen!E284=0,1,0))","v":0},{"$f":"IF(D284=0,0,IF(lammering[[#This Row],[Dood in geboorte]]=\"Ja\",0,IF(lammering[[#This Row],[Dood na geboorte]]=\"ja\",0,1)))","v":0},{"$f":"IF(lammering[[#This Row],[Opfok met kunstmelk]]=\"Ja\",1,0)","v":0},{"$f":"IF(lammering[[#This Row],[geslacht]]=\"O\",1,0)","v":0},{"$f":"IF(lammering[[#This Row],[Speen-datum]]=\"\",\"\",(lammering[[#This Row],[Speen-gewicht]]-lammering[[#This Row],[geboorte-gewicht]])/(lammering[[#This Row],[Speen-datum]]-lammering[[#This Row],[Werp-datum]]))","v":""},{"$f":"IF(lammering[[#This Row],[Verkoop-datum]]=\"\",\"\",(lammering[[#This Row],[Verkoop-gewicht]]-lammering[[#This Row],[Speen-gewicht]])/(lammering[[#This Row],[Verkoop-datum]]-lammering[[#This Row],[Speen-datum]]))","v":""},{"$f":"IF(lammering[[#This Row],[Verkoop-datum]]=\"\",\"\",(lammering[[#This Row],[Verkoop-gewicht]]-lammering[[#This Row],[geboorte-gewicht]])/(lammering[[#This Row],[Verkoop-datum]]-lammering[[#This Row],[Werp-datum]]))","v":""},"","","","","","",{"$f":"IF(lammering[[#This Row],[Verkoop-gewicht]]=\"\",\"\",lammering[[#This Row],[Verkoop-gewicht]]-lammering[[#This Row],[geboorte-gewicht]])","v":""},"",""]
[{"$f":"lammering[[#This Row],[Ooi]]","v":0},0,0,{"$f":"IF(lammering[[#This Row],[Lam-nummer]]=\"\",0,1)","v":0},{"$f":"IF(lammering[[#This Row],[Dood in geboorte]]=\"ja\",1,0)","v":0},{"$f":"IF(lammering[[#This Row],[Ooi]]=\"\",0,IF(Berekeningen!E285=0,1,0))","v":0},{"$f":"IF(D285=0,0,IF(lammering[[#This Row],[Dood in geboorte]]=\"Ja\",0,IF(lammering[[#This Row],[Dood na geboorte]]=\"ja\",0,1)))","v":0},{"$f":"IF(lammering[[#This Row],[Opfok met kunstmelk]]=\"Ja\",1,0)","v":0},{"$f":"IF(lammering[[#This Row],[geslacht]]=\"O\",1,0)","v":0},{"$f":"IF(lammering[[#This Row],[Speen-datum]]=\"\",\"\",(lammering[[#This Row],[Speen-gewicht]]-lammering[[#This Row],[geboorte-gewicht]])/(lammering[[#This Row],[Speen-datum]]-lammering[[#This Row],[Werp-datum]]))","v":""},{"$f":"IF(lammering[[#This Row],[Verkoop-datum]]=\"\",\"\",(lammering[[#This Row],[Verkoop-gewicht]]-lammering[[#This Row],[Speen-gewicht]])/(lammering[[#This Row],[Verkoop-datum]]-lammering[[#This Row],[Speen-datum]]))","v":""},{"$f":"IF(lammering[[#This Row],[Verkoop-datum]]=\"\",\"\",(lammering[[#This Row],[Verkoop-gewicht]]-lammering[[#This Row],[geboorte-gewicht]])/(lammering[[#This Row],[Verkoop-datum]]-lammering[[#This Row],[Werp-datum]]))","v":""},"","","","","","",{"$f":"IF(lammering[[#This Row],[Verkoop-gewicht]]=\"\",\"\",lammering[[#This Row],[Verkoop-gewicht]]-lammering[[#This Row],[geboorte-gewicht]])","v":""},"",""]
[{"$f":"lammering[[#This Row],[Ooi]]","v":0},0,0,{"$f":"IF(lammering[[#This Row],[Lam-nummer]]=\"\",0,1)","v":0},{"$f":"IF(lammering[[#This Row],[Dood in geboorte]]=\"ja\",1,0)","v":0},{"$f":"IF(lammering[[#This Row],[Ooi]]=\"\",0,IF(Berekeningen!E286=0,1,0))","v":0},{"$f":"IF(D286=0,0,IF(lammering[[#This Row],[Dood in geboorte]]=\"Ja\",0,IF(lammering[[#This Row],[Dood na geboorte]]=\"ja\",0,1)))","v":0},{"$f":"IF(lammering[[#This Row],[Opfok met kunstmelk]]=\"Ja\",1,0)","v":0},{"$f":"IF(lammering[[#This Row],[geslacht]]=\"O\",1,0)","v":0},{"$f":"IF(lammering[[#This Row],[Speen-datum]]=\"\",\"\",(lammering[[#This Row],[Speen-gewicht]]-lammering[[#This Row],[geboorte-gewicht]])/(lammering[[#This Row],[Speen-datum]]-lammering[[#This Row],[Werp-datum]]))","v":""},{"$f":"IF(lammering[[#This Row],[Verkoop-datum]]=\"\",\"\",(lammering[[#This Row],[Verkoop-gewicht]]-lammering[[#This Row],[Speen-gewicht]])/(lammering[[#This Row],[Verkoop-datum]]-lammering[[#This Row],[Speen-datum]]))","v":""},{"$f":"IF(lammering[[#This Row],[Verkoop-datum]]=\"\",\"\",(lammering[[#This Row],[Verkoop-gewicht]]-lammering[[#This Row],[geboorte-gewicht]])/(lammering[[#This Row],[Verkoop-datum]]-lammering[[#This Row],[Werp-datum]]))","v":""},"","","","","","",{"$f":"IF(lammering[[#This Row],[Verkoop-gewicht]]=\"\",\"\",lammering[[#This Row],[Verkoop-gewicht]]-lammering[[#This Row],[geboorte-gewicht]])","v":""},"",""]
[{"$f":"lammering[[#This Row],[Ooi]]","v":0},0,0,{"$f":"IF(lammering[[#This Row],[Lam-nummer]]=\"\",0,1)","v":0},{"$f":"IF(lammering[[#This Row],[Dood in geboorte]]=\"ja\",1,0)","v":0},{"$f":"IF(lammering[[#This Row],[Ooi]]=\"\",0,IF(Berekeningen!E287=0,1,0))","v":0},{"$f":"IF(D287=0,0,IF(lammering[[#This Row],[Dood in geboorte]]=\"Ja\",0,IF(lammering[[#This Row],[Dood na geboorte]]=\"ja\",0,1)))","v":0},{"$f":"IF(lammering[[#This Row],[Opfok met kunstmelk]]=\"Ja\",1,0)","v":0},{"$f":"IF(lammering[[#This Row],[geslacht]]=\"O\",1,0)","v":0},{"$f":"IF(lammering[[#This Row],[Speen-datum]]=\"\",\"\",(lammering[[#This Row],[Speen-gewicht]]-lammering[[#This Row],[geboorte-gewicht]])/(lammering[[#This Row],[Speen-datum]]-lammering[[#This Row],[Werp-datum]]))","v":""},{"$f":"IF(lammering[[#This Row],[Verkoop-datum]]=\"\",\"\",(lammering[[#This Row],[Verkoop-gewicht]]-lammering[[#This Row],[Speen-gewicht]])/(lammering[[#This Row],[Verkoop-datum]]-lammering[[#This Row],[Speen-datum]]))","v":""},{"$f":"IF(lammering[[#This Row],[Verkoop-datum]]=\"\",\"\",(lammering[[#This Row],[Verkoop-gewicht]]-lammering[[#This Row],[geboorte-gewicht]])/(lammering[[#This Row],[Verkoop-datum]]-lammering[[#This Row],[Werp-datum]]))","v":""},"","","","","","",{"$f":"IF(lammering[[#This Row],[Verkoop-gewicht]]=\"\",\"\",lammering[[#This Row],[Verkoop-gewicht]]-lammering[[#This Row],[geboorte-gewicht]])","v":""},"",""]
[{"$f":"lammering[[#This Row],[Ooi]]","v":0},0,0,{"$f":"IF(lammering[[#This Row],[Lam-nummer]]=\"\",0,1)","v":0},{"$f":"IF(lammering[[#This Row],[Dood in geboorte]]=\"ja\",1,0)","v":0},{"$f":"IF(lammering[[#This Row],[Ooi]]=\"\",0,IF(Berekeningen!E288=0,1,0))","v":0},{"$f":"IF(D288=0,0,IF(lammering[[#This Row],[Dood in geboorte]]=\"Ja\",0,IF(lammering[[#This Row],[Dood na geboorte]]=\"ja\",0,1)))","v":0},{"$f":"IF(lammering[[#This Row],[Opfok met kunstmelk]]=\"Ja\",1,0)","v":0},{"$f":"IF(lammering[[#This Row],[geslacht]]=\"O\",1,0)","v":0},{"$f":"IF(lammering[[#This Row],[Speen-datum]]=\"\",\"\",(lammering[[#This Row],[Speen-gewicht]]-lammering[[#This Row],[geboorte-gewicht]])/(lammering[[#This Row],[Speen-datum]]-lammering[[#This Row],[Werp-datum]]))","v":""},{"$f":"IF(lammering[[#This Row],[Verkoop-datum]]=\"\",\"\",(lammering[[#This Row],[Verkoop-gewicht]]-lammering[[#This Row],[Speen-gewicht]])/(lammering[[#This Row],[Verkoop-datum]]-lammering[[#This Row],[Speen-datum]]))","v":""},{"$f":"IF(lammering[[#This Row],[Verkoop-datum]]=\"\",\"\",(lammering[[#This Row],[Verkoop-gewicht]]-lammering[[#This Row],[geboorte-gewicht]])/(lammering[[#This Row],[Verkoop-datum]]-lammering[[#This Row],[Werp-datum]]))","v":""},"","","","","","",{"$f":"IF(lammering[[#This Row],[Verkoop-gewicht]]=\"\",\"\",lammering[[#This Row],[Verkoop-gewicht]]-lammering[[#This Row],[geboorte-gewicht]])","v":""},"",""]
[{"$f":"lammering[[#This Row],[Ooi]]","v":0},0,0,{"$f":"IF(lammering[[#This Row],[Lam-nummer]]=\"\",0,1)","v":0},{"$f":"IF(lammering[[#This Row],[Dood in geboorte]]=\"ja\",1,0)","v":0},{"$f":"IF(lammering[[#This Row],[Ooi]]=\"\",0,IF(Berekeningen!E289=0,1,0))","v":0},{"$f":"IF(D289=0,0,IF(lammering[[#This Row],[Dood in geboorte]]=\"Ja\",0,IF(lammering[[#This Row],[Dood na geboorte]]=\"ja\",0,1)))","v":0},{"$f":"IF(lammering[[#This Row],[Opfok met kunstmelk]]=\"Ja\",1,0)","v":0},{"$f":"IF(lammering[[#This Row],[geslacht]]=\"O\",1,0)","v":0},{"$f":"IF(lammering[[#This Row],[Speen-datum]]=\"\",\"\",(lammering[[#This Row],[Speen-gewicht]]-lammering[[#This Row],[geboorte-gewicht]])/(lammering[[#This Row],[Speen-datum]]-lammering[[#This Row],[Werp-datum]]))","v":""},{"$f":"IF(lammering[[#This Row],[Verkoop-datum]]=\"\",\"\",(lammering[[#This Row],[Verkoop-gewicht]]-lammering[[#This Row],[Speen-gewicht]])/(lammering[[#This Row],[Verkoop-datum]]-lammering[[#This Row],[Speen-datum]]))","v":""},{"$f":"IF(lammering[[#This Row],[Verkoop-datum]]=\"\",\"\",(lammering[[#This Row],[Verkoop-gewicht]]-lammering[[#This Row],[geboorte-gewicht]])/(lammering[[#This Row],[Verkoop-datum]]-lammering[[#This Row],[Werp-datum]]))","v":""},"","","","","","",{"$f":"IF(lammering[[#This Row],[Verkoop-gewicht]]=\"\",\"\",lammering[[#This Row],[Verkoop-gewicht]]-lammering[[#This Row],[geboorte-gewicht]])","v":""},"",""]
[{"$f":"lammering[[#This Row],[Ooi]]","v":0},0,0,{"$f":"IF(lammering[[#This Row],[Lam-nummer]]=\"\",0,1)","v":0},{"$f":"IF(lammering[[#This Row],[Dood in geboorte]]=\"ja\",1,0)","v":0},{"$f":"IF(lammering[[#This Row],[Ooi]]=\"\",0,IF(Berekeningen!E290=0,1,0))","v":0},{"$f":"IF(D290=0,0,IF(lammering[[#This Row],[Dood in geboorte]]=\"Ja\",0,IF(lammering[[#This Row],[Dood na geboorte]]=\"ja\",0,1)))","v":0},{"$f":"IF(lammering[[#This Row],[Opfok met kunstmelk]]=\"Ja\",1,0)","v":0},{"$f":"IF(lammering[[#This Row],[geslacht]]=\"O\",1,0)","v":0},{"$f":"IF(lammering[[#This Row],[Speen-datum]]=\"\",\"\",(lammering[[#This Row],[Speen-gewicht]]-lammering[[#This Row],[geboorte-gewicht]])/(lammering[[#This Row],[Speen-datum]]-lammering[[#This Row],[Werp-datum]]))","v":""},{"$f":"IF(lammering[[#This Row],[Verkoop-datum]]=\"\",\"\",(lammering[[#This Row],[Verkoop-gewicht]]-lammering[[#This Row],[Speen-gewicht]])/(lammering[[#This Row],[Verkoop-datum]]-lammering[[#This Row],[Speen-datum]]))","v":""},{"$f":"IF(lammering[[#This Row],[Verkoop-datum]]=\"\",\"\",(lammering[[#This Row],[Verkoop-gewicht]]-lammering[[#This Row],[geboorte-gewicht]])/(lammering[[#This Row],[Verkoop-datum]]-lammering[[#This Row],[Werp-datum]]))","v":""},"","","","","","",{"$f":"IF(lammering[[#This Row],[Verkoop-gewicht]]=\"\",\"\",lammering[[#This Row],[Verkoop-gewicht]]-lammering[[#This Row],[geboorte-gewicht]])","v":""},"",""]
[{"$f":"lammering[[#This Row],[Ooi]]","v":0},0,0,{"$f":"IF(lammering[[#This Row],[Lam-nummer]]=\"\",0,1)","v":0},{"$f":"IF(lammering[[#This Row],[Dood in geboorte]]=\"ja\",1,0)","v":0},{"$f":"IF(lammering[[#This Row],[Ooi]]=\"\",0,IF(Berekeningen!E291=0,1,0))","v":0},{"$f":"IF(D291=0,0,IF(lammering[[#This Row],[Dood in geboorte]]=\"Ja\",0,IF(lammering[[#This Row],[Dood na geboorte]]=\"ja\",0,1)))","v":0},{"$f":"IF(lammering[[#This Row],[Opfok met kunstmelk]]=\"Ja\",1,0)","v":0},{"$f":"IF(lammering[[#This Row],[geslacht]]=\"O\",1,0)","v":0},{"$f":"IF(lammering[[#This Row],[Speen-datum]]=\"\",\"\",(lammering[[#This Row],[Speen-gewicht]]-lammering[[#This Row],[geboorte-gewicht]])/(lammering[[#This Row],[Speen-datum]]-lammering[[#This Row],[Werp-datum]]))","v":""},{"$f":"IF(lammering[[#This Row],[Verkoop-datum]]=\"\",\"\",(lammering[[#This Row],[Verkoop-gewicht]]-lammering[[#This Row],[Speen-gewicht]])/(lammering[[#This Row],[Verkoop-datum]]-lammering[[#This Row],[Speen-datum]]))","v":""},{"$f":"IF(lammering[[#This Row],[Verkoop-datum]]=\"\",\"\",(lammering[[#This Row],[Verkoop-gewicht]]-lammering[[#This Row],[geboorte-gewicht]])/(lammering[[#This Row],[Verkoop-datum]]-lammering[[#This Row],[Werp-datum]]))","v":""},"","","","","","",{"$f":"IF(lammering[[#This Row],[Verkoop-gewicht]]=\"\",\"\",lammering[[#This Row],[Verkoop-gewicht]]-lammering[[#This Row],[geboorte-gewicht]])","v":""},"",""]
[{"$f":"lammering[[#This Row],[Ooi]]","v":0},0,0,{"$f":"IF(lammering[[#This Row],[Lam-nummer]]=\"\",0,1)","v":0},{"$f":"IF(lammering[[#This Row],[Dood in geboorte]]=\"ja\",1,0)","v":0},{"$f":"IF(lammering[[#This Row],[Ooi]]=\"\",0,IF(Berekeningen!E292=0,1,0))","v":0},{"$f":"IF(D292=0,0,IF(lammering[[#This Row],[Dood in geboorte]]=\"Ja\",0,IF(lammering[[#This Row],[Dood na geboorte]]=\"ja\",0,1)))","v":0},{"$f":"IF(lammering[[#This Row],[Opfok met kunstmelk]]=\"Ja\",1,0)","v":0},{"$f":"IF(lammering[[#This Row],[geslacht]]=\"O\",1,0)","v":0},{"$f":"IF(lammering[[#This Row],[Speen-datum]]=\"\",\"\",(lammering[[#This Row],[Speen-gewicht]]-lammering[[#This Row],[geboorte-gewicht]])/(lammering[[#This Row],[Speen-datum]]-lammering[[#This Row],[Werp-datum]]))","v":""},{"$f":"IF(lammering[[#This Row],[Verkoop-datum]]=\"\",\"\",(lammering[[#This Row],[Verkoop-gewicht]]-lammering[[#This Row],[Speen-gewicht]])/(lammering[[#This Row],[Verkoop-datum]]-lammering[[#This Row],[Speen-datum]]))","v":""},{"$f":"IF(lammering[[#This Row],[Verkoop-datum]]=\"\",\"\",(lammering[[#This Row],[Verkoop-gewicht]]-lammering[[#This Row],[geboorte-gewicht]])/(lammering[[#This Row],[Verkoop-datum]]-lammering[[#This Row],[Werp-datum]]))","v":""},"","","","","","",{"$f":"IF(lammering[[#This Row],[Verkoop-gewicht]]=\"\",\"\",lammering[[#This Row],[Verkoop-gewicht]]-lammering[[#This Row],[geboorte-gewicht]])","v":""},"",""]
[{"$f":"lammering[[#This Row],[Ooi]]","v":0},0,0,{"$f":"IF(lammering[[#This Row],[Lam-nummer]]=\"\",0,1)","v":0},{"$f":"IF(lammering[[#This Row],[Dood in geboorte]]=\"ja\",1,0)","v":0},{"$f":"IF(lammering[[#This Row],[Ooi]]=\"\",0,IF(Berekeningen!E293=0,1,0))","v":0},{"$f":"IF(D293=0,0,IF(lammering[[#This Row],[Dood in geboorte]]=\"Ja\",0,IF(lammering[[#This Row],[Dood na geboorte]]=\"ja\",0,1)))","v":0},{"$f":"IF(lammering[[#This Row],[Opfok met kunstmelk]]=\"Ja\",1,0)","v":0},{"$f":"IF(lammering[[#This Row],[geslacht]]=\"O\",1,0)","v":0},{"$f":"IF(lammering[[#This Row],[Speen-datum]]=\"\",\"\",(lammering[[#This Row],[Speen-gewicht]]-lammering[[#This Row],[geboorte-gewicht]])/(lammering[[#This Row],[Speen-datum]]-lammering[[#This Row],[Werp-datum]]))","v":""},{"$f":"IF(lammering[[#This Row],[Verkoop-datum]]=\"\",\"\",(lammering[[#This Row],[Verkoop-gewicht]]-lammering[[#This Row],[Speen-gewicht]])/(lammering[[#This Row],[Verkoop-datum]]-lammering[[#This Row],[Speen-datum]]))","v":""},{"$f":"IF(lammering[[#This Row],[Verkoop-datum]]=\"\",\"\",(lammering[[#This Row],[Verkoop-gewicht]]-lammering[[#This Row],[geboorte-gewicht]])/(lammering[[#This Row],[Verkoop-datum]]-lammering[[#This Row],[Werp-datum]]))","v":""},"","","","","","",{"$f":"IF(lammering[[#This Row],[Verkoop-gewicht]]=\"\",\"\",lammering[[#This Row],[Verkoop-gewicht]]-lammering[[#This Row],[geboorte-gewicht]])","v":""},"",""]
[{"$f":"lammering[[#This Row],[Ooi]]","v":0},0,0,{"$f":"IF(lammering[[#This Row],[Lam-nummer]]=\"\",0,1)","v":0},{"$f":"IF(lammering[[#This Row],[Dood in geboorte]]=\"ja\",1,0)","v":0},{"$f":"IF(lammering[[#This Row],[Ooi]]=\"\",0,IF(Berekeningen!E294=0,1,0))","v":0},{"$f":"IF(D294=0,0,IF(lammering[[#This Row],[Dood in geboorte]]=\"Ja\",0,IF(lammering[[#This Row],[Dood na geboorte]]=\"ja\",0,1)))","v":0},{"$f":"IF(lammering[[#This Row],[Opfok met kunstmelk]]=\"Ja\",1,0)","v":0},{"$f":"IF(lammering[[#This Row],[geslacht]]=\"O\",1,0)","v":0},{"$f":"IF(lammering[[#This Row],[Speen-datum]]=\"\",\"\",(lammering[[#This Row],[Speen-gewicht]]-lammering[[#This Row],[geboorte-gewicht]])/(lammering[[#This Row],[Speen-datum]]-lammering[[#This Row],[Werp-datum]]))","v":""},{"$f":"IF(lammering[[#This Row],[Verkoop-datum]]=\"\",\"\",(lammering[[#This Row],[Verkoop-gewicht]]-lammering[[#This Row],[Speen-gewicht]])/(lammering[[#This Row],[Verkoop-datum]]-lammering[[#This Row],[Speen-datum]]))","v":""},{"$f":"IF(lammering[[#This Row],[Verkoop-datum]]=\"\",\"\",(lammering[[#This Row],[Verkoop-gewicht]]-lammering[[#This Row],[geboorte-gewicht]])/(lammering[[#This Row],[Verkoop-datum]]-lammering[[#This Row],[Werp-datum]]))","v":""},"","","","","","",{"$f":"IF(lammering[[#This Row],[Verkoop-gewicht]]=\"\",\"\",lammering[[#This Row],[Verkoop-gewicht]]-lammering[[#This Row],[geboorte-gewicht]])","v":""},"",""]
[{"$f":"lammering[[#This Row],[Ooi]]","v":0},0,0,{"$f":"IF(lammering[[#This Row],[Lam-nummer]]=\"\",0,1)","v":0},{"$f":"IF(lammering[[#This Row],[Dood in geboorte]]=\"ja\",1,0)","v":0},{"$f":"IF(lammering[[#This Row],[Ooi]]=\"\",0,IF(Berekeningen!E295=0,1,0))","v":0},{"$f":"IF(D295=0,0,IF(lammering[[#This Row],[Dood in geboorte]]=\"Ja\",0,IF(lammering[[#This Row],[Dood na geboorte]]=\"ja\",0,1)))","v":0},{"$f":"IF(lammering[[#This Row],[Opfok met kunstmelk]]=\"Ja\",1,0)","v":0},{"$f":"IF(lammering[[#This Row],[geslacht]]=\"O\",1,0)","v":0},{"$f":"IF(lammering[[#This Row],[Speen-datum]]=\"\",\"\",(lammering[[#This Row],[Speen-gewicht]]-lammering[[#This Row],[geboorte-gewicht]])/(lammering[[#This Row],[Speen-datum]]-lammering[[#This Row],[Werp-datum]]))","v":""},{"$f":"IF(lammering[[#This Row],[Verkoop-datum]]=\"\",\"\",(lammering[[#This Row],[Verkoop-gewicht]]-lammering[[#This Row],[Speen-gewicht]])/(lammering[[#This Row],[Verkoop-datum]]-lammering[[#This Row],[Speen-datum]]))","v":""},{"$f":"IF(lammering[[#This Row],[Verkoop-datum]]=\"\",\"\",(lammering[[#This Row],[Verkoop-gewicht]]-lammering[[#This Row],[geboorte-gewicht]])/(lammering[[#This Row],[Verkoop-datum]]-lammering[[#This Row],[Werp-datum]]))","v":""},"","","","","","",{"$f":"IF(lammering[[#This Row],[Verkoop-gewicht]]=\"\",\"\",lammering[[#This Row],[Verkoop-gewicht]]-lammering[[#This Row],[geboorte-gewicht]])","v":""},"",""]
[{"$f":"lammering[[#This Row],[Ooi]]","v":0},0,0,{"$f":"IF(lammering[[#This Row],[Lam-nummer]]=\"\",0,1)","v":0},{"$f":"IF(lammering[[#This Row],[Dood in geboorte]]=\"ja\",1,0)","v":0},{"$f":"IF(lammering[[#This Row],[Ooi]]=\"\",0,IF(Berekeningen!E296=0,1,0))","v":0},{"$f":"IF(D296=0,0,IF(lammering[[#This Row],[Dood in geboorte]]=\"Ja\",0,IF(lammering[[#This Row],[Dood na geboorte]]=\"ja\",0,1)))","v":0},{"$f":"IF(lammering[[#This Row],[Opfok met kunstmelk]]=\"Ja\",1,0)","v":0},{"$f":"IF(lammering[[#This Row],[geslacht]]=\"O\",1,0)","v":0},{"$f":"IF(lammering[[#This Row],[Speen-datum]]=\"\",\"\",(lammering[[#This Row],[Speen-gewicht]]-lammering[[#This Row],[geboorte-gewicht]])/(lammering[[#This Row],[Speen-datum]]-lammering[[#This Row],[Werp-datum]]))","v":""},{"$f":"IF(lammering[[#This Row],[Verkoop-datum]]=\"\",\"\",(lammering[[#This Row],[Verkoop-gewicht]]-lammering[[#This Row],[Speen-gewicht]])/(lammering[[#This Row],[Verkoop-datum]]-lammering[[#This Row],[Speen-datum]]))","v":""},{"$f":"IF(lammering[[#This Row],[Verkoop-datum]]=\"\",\"\",(lammering[[#This Row],[Verkoop-gewicht]]-lammering[[#This Row],[geboorte-gewicht]])/(lammering[[#This Row],[Verkoop-datum]]-lammering[[#This Row],[Werp-datum]]))","v":""},"","","","","","",{"$f":"IF(lammering[[#This Row],[Verkoop-gewicht]]=\"\",\"\",lammering[[#This Row],[Verkoop-gewicht]]-lammering[[#This Row],[geboorte-gewicht]])","v":""},"",""]
[{"$f":"lammering[[#This Row],[Ooi]]","v":0},0,0,{"$f":"IF(lammering[[#This Row],[Lam-nummer]]=\"\",0,1)","v":0},{"$f":"IF(lammering[[#This Row],[Dood in geboorte]]=\"ja\",1,0)","v":0},{"$f":"IF(lammering[[#This Row],[Ooi]]=\"\",0,IF(Berekeningen!E297=0,1,0))","v":0},{"$f":"IF(D297=0,0,IF(lammering[[#This Row],[Dood in geboorte]]=\"Ja\",0,IF(lammering[[#This Row],[Dood na geboorte]]=\"ja\",0,1)))","v":0},{"$f":"IF(lammering[[#This Row],[Opfok met kunstmelk]]=\"Ja\",1,0)","v":0},{"$f":"IF(lammering[[#This Row],[geslacht]]=\"O\",1,0)","v":0},{"$f":"IF(lammering[[#This Row],[Speen-datum]]=\"\",\"\",(lammering[[#This Row],[Speen-gewicht]]-lammering[[#This Row],[geboorte-gewicht]])/(lammering[[#This Row],[Speen-datum]]-lammering[[#This Row],[Werp-datum]]))","v":""},{"$f":"IF(lammering[[#This Row],[Verkoop-datum]]=\"\",\"\",(lammering[[#This Row],[Verkoop-gewicht]]-lammering[[#This Row],[Speen-gewicht]])/(lammering[[#This Row],[Verkoop-datum]]-lammering[[#This Row],[Speen-datum]]))","v":""},{"$f":"IF(lammering[[#This Row],[Verkoop-datum]]=\"\",\"\",(lammering[[#This Row],[Verkoop-gewicht]]-lammering[[#This Row],[geboorte-gewicht]])/(lammering[[#This Row],[Verkoop-datum]]-lammering[[#This Row],[Werp-datum]]))","v":""},"","","","","","",{"$f":"IF(lammering[[#This Row],[Verkoop-gewicht]]=\"\",\"\",lammering[[#This Row],[Verkoop-gewicht]]-lammering[[#This Row],[geboorte-gewicht]])","v":""},"",""]
[{"$f":"lammering[[#This Row],[Ooi]]","v":0},0,0,{"$f":"IF(lammering[[#This Row],[Lam-nummer]]=\"\",0,1)","v":0},{"$f":"IF(lammering[[#This Row],[Dood in geboorte]]=\"ja\",1,0)","v":0},{"$f":"IF(lammering[[#This Row],[Ooi]]=\"\",0,IF(Berekeningen!E298=0,1,0))","v":0},{"$f":"IF(D298=0,0,IF(lammering[[#This Row],[Dood in geboorte]]=\"Ja\",0,IF(lammering[[#This Row],[Dood na geboorte]]=\"ja\",0,1)))","v":0},{"$f":"IF(lammering[[#This Row],[Opfok met kunstmelk]]=\"Ja\",1,0)","v":0},{"$f":"IF(lammering[[#This Row],[geslacht]]=\"O\",1,0)","v":0},{"$f":"IF(lammering[[#This Row],[Speen-datum]]=\"\",\"\",(lammering[[#This Row],[Speen-gewicht]]-lammering[[#This Row],[geboorte-gewicht]])/(lammering[[#This Row],[Speen-datum]]-lammering[[#This Row],[Werp-datum]]))","v":""},{"$f":"IF(lammering[[#This Row],[Verkoop-datum]]=\"\",\"\",(lammering[[#This Row],[Verkoop-gewicht]]-lammering[[#This Row],[Speen-gewicht]])/(lammering[[#This Row],[Verkoop-datum]]-lammering[[#This Row],[Speen-datum]]))","v":""},{"$f":"IF(lammering[[#This Row],[Verkoop-datum]]=\"\",\"\",(lammering[[#This Row],[Verkoop-gewicht]]-lammering[[#This Row],[geboorte-gewicht]])/(lammering[[#This Row],[Verkoop-datum]]-lammering[[#This Row],[Werp-datum]]))","v":""},"","","","","","",{"$f":"IF(lammering[[#This Row],[Verkoop-gewicht]]=\"\",\"\",lammering[[#This Row],[Verkoop-gewicht]]-lammering[[#This Row],[geboorte-gewicht]])","v":""},"",""]
[{"$f":"lammering[[#This Row],[Ooi]]","v":0},0,0,{"$f":"IF(lammering[[#This Row],[Lam-nummer]]=\"\",0,1)","v":0},{"$f":"IF(lammering[[#This Row],[Dood in geboorte]]=\"ja\",1,0)","v":0},{"$f":"IF(lammering[[#This Row],[Ooi]]=\"\",0,IF(Berekeningen!E299=0,1,0))","v":0},{"$f":"IF(D299=0,0,IF(lammering[[#This Row],[Dood in geboorte]]=\"Ja\",0,IF(lammering[[#This Row],[Dood na geboorte]]=\"ja\",0,1)))","v":0},{"$f":"IF(lammering[[#This Row],[Opfok met kunstmelk]]=\"Ja\",1,0)","v":0},{"$f":"IF(lammering[[#This Row],[geslacht]]=\"O\",1,0)","v":0},{"$f":"IF(lammering[[#This Row],[Speen-datum]]=\"\",\"\",(lammering[[#This Row],[Speen-gewicht]]-lammering[[#This Row],[geboorte-gewicht]])/(lammering[[#This Row],[Speen-datum]]-lammering[[#This Row],[Werp-datum]]))","v":""},{"$f":"IF(lammering[[#This Row],[Verkoop-datum]]=\"\",\"\",(lammering[[#This Row],[Verkoop-gewicht]]-lammering[[#This Row],[Speen-gewicht]])/(lammering[[#This Row],[Verkoop-datum]]-lammering[[#This Row],[Speen-datum]]))","v":""},{"$f":"IF(lammering[[#This Row],[Verkoop-datum]]=\"\",\"\",(lammering[[#This Row],[Verkoop-gewicht]]-lammering[[#This Row],[geboorte-gewicht]])/(lammering[[#This Row],[Verkoop-datum]]-lammering[[#This Row],[Werp-datum]]))","v":""},"","","","","","",{"$f":"IF(lammering[[#This Row],[Verkoop-gewicht]]=\"\",\"\",lammering[[#This Row],[Verkoop-gewicht]]-lammering[[#This Row],[geboorte-gewicht]])","v":""},"",""]
[{"$f":"lammering[[#This Row],[Ooi]]","v":0},0,0,{"$f":"IF(lammering[[#This Row],[Lam-nummer]]=\"\",0,1)","v":0},{"$f":"IF(lammering[[#This Row],[Dood in geboorte]]=\"ja\",1,0)","v":0},{"$f":"IF(lammering[[#This Row],[Ooi]]=\"\",0,IF(Berekeningen!E300=0,1,0))","v":0},{"$f":"IF(D300=0,0,IF(lammering[[#This Row],[Dood in geboorte]]=\"Ja\",0,IF(lammering[[#This Row],[Dood na geboorte]]=\"ja\",0,1)))","v":0},{"$f":"IF(lammering[[#This Row],[Opfok met kunstmelk]]=\"Ja\",1,0)","v":0},{"$f":"IF(lammering[[#This Row],[geslacht]]=\"O\",1,0)","v":0},{"$f":"IF(lammering[[#This Row],[Speen-datum]]=\"\",\"\",(lammering[[#This Row],[Speen-gewicht]]-lammering[[#This Row],[geboorte-gewicht]])/(lammering[[#This Row],[Speen-datum]]-lammering[[#This Row],[Werp-datum]]))","v":""},{"$f":"IF(lammering[[#This Row],[Verkoop-datum]]=\"\",\"\",(lammering[[#This Row],[Verkoop-gewicht]]-lammering[[#This Row],[Speen-gewicht]])/(lammering[[#This Row],[Verkoop-datum]]-lammering[[#This Row],[Speen-datum]]))","v":""},{"$f":"IF(lammering[[#This Row],[Verkoop-datum]]=\"\",\"\",(lammering[[#This Row],[Verkoop-gewicht]]-lammering[[#This Row],[geboorte-gewicht]])/(lammering[[#This Row],[Verkoop-datum]]-lammering[[#This Row],[Werp-datum]]))","v":""},"","","","","","",{"$f":"IF(lammering[[#This Row],[Verkoop-gewicht]]=\"\",\"\",lammering[[#This Row],[Verkoop-gewicht]]-lammering[[#This Row],[geboorte-gewicht]])","v":""},"",""]
[{"$f":"lammering[[#This Row],[Ooi]]","v":0},0,0,{"$f":"IF(lammering[[#This Row],[Lam-nummer]]=\"\",0,1)","v":0},{"$f":"IF(lammering[[#This Row],[Dood in geboorte]]=\"ja\",1,0)","v":0},{"$f":"IF(lammering[[#This Row],[Ooi]]=\"\",0,IF(Berekeningen!E301=0,1,0))","v":0},{"$f":"IF(D301=0,0,IF(lammering[[#This Row],[Dood in geboorte]]=\"Ja\",0,IF(lammering[[#This Row],[Dood na geboorte]]=\"ja\",0,1)))","v":0},{"$f":"IF(lammering[[#This Row],[Opfok met kunstmelk]]=\"Ja\",1,0)","v":0},{"$f":"IF(lammering[[#This Row],[geslacht]]=\"O\",1,0)","v":0},{"$f":"IF(lammering[[#This Row],[Speen-datum]]=\"\",\"\",(lammering[[#This Row],[Speen-gewicht]]-lammering[[#This Row],[geboorte-gewicht]])/(lammering[[#This Row],[Speen-datum]]-lammering[[#This Row],[Werp-datum]]))","v":""},{"$f":"IF(lammering[[#This Row],[Verkoop-datum]]=\"\",\"\",(lammering[[#This Row],[Verkoop-gewicht]]-lammering[[#This Row],[Speen-gewicht]])/(lammering[[#This Row],[Verkoop-datum]]-lammering[[#This Row],[Speen-datum]]))","v":""},{"$f":"IF(lammering[[#This Row],[Verkoop-datum]]=\"\",\"\",(lammering[[#This Row],[Verkoop-gewicht]]-lammering[[#This Row],[geboorte-gewicht]])/(lammering[[#This Row],[Verkoop-datum]]-lammering[[#This Row],[Werp-datum]]))","v":""},"","","","","","",{"$f":"IF(lammering[[#This Row],[Verkoop-gewicht]]=\"\",\"\",lammering[[#This Row],[Verkoop-gewicht]]-lammering[[#This Row],[geboorte-gewicht]])","v":""},"",""]
[{"$f":"lammering[[#This Row],[Ooi]]","v":0},0,0,{"$f":"IF(lammering[[#This Row],[Lam-nummer]]=\"\",0,1)","v":0},{"$f":"IF(lammering[[#This Row],[Dood in geboorte]]=\"ja\",1,0)","v":0},{"$f":"IF(lammering[[#This Row],[Ooi]]=\"\",0,IF(Berekeningen!E302=0,1,0))","v":0},{"$f":"IF(D302=0,0,IF(lammering[[#This Row],[Dood in geboorte]]=\"Ja\",0,IF(lammering[[#This Row],[Dood na geboorte]]=\"ja\",0,1)))","v":0},{"$f":"IF(lammering[[#This Row],[Opfok met kunstmelk]]=\"Ja\",1,0)","v":0},{"$f":"IF(lammering[[#This Row],[geslacht]]=\"O\",1,0)","v":0},{"$f":"IF(lammering[[#This Row],[Speen-datum]]=\"\",\"\",(lammering[[#This Row],[Speen-gewicht]]-lammering[[#This Row],[geboorte-gewicht]])/(lammering[[#This Row],[Speen-datum]]-lammering[[#This Row],[Werp-datum]]))","v":""},{"$f":"IF(lammering[[#This Row],[Verkoop-datum]]=\"\",\"\",(lammering[[#This Row],[Verkoop-gewicht]]-lammering[[#This Row],[Speen-gewicht]])/(lammering[[#This Row],[Verkoop-datum]]-lammering[[#This Row],[Speen-datum]]))","v":""},{"$f":"IF(lammering[[#This Row],[Verkoop-datum]]=\"\",\"\",(lammering[[#This Row],[Verkoop-gewicht]]-lammering[[#This Row],[geboorte-gewicht]])/(lammering[[#This Row],[Verkoop-datum]]-lammering[[#This Row],[Werp-datum]]))","v":""},"","","","","","",{"$f":"IF(lammering[[#This Row],[Verkoop-gewicht]]=\"\",\"\",lammering[[#This Row],[Verkoop-gewicht]]-lammering[[#This Row],[geboorte-gewicht]])","v":""},"",""]
[{"$f":"lammering[[#This Row],[Ooi]]","v":0},0,0,{"$f":"IF(lammering[[#This Row],[Lam-nummer]]=\"\",0,1)","v":0},{"$f":"IF(lammering[[#This Row],[Dood in geboorte]]=\"ja\",1,0)","v":0},{"$f":"IF(lammering[[#This Row],[Ooi]]=\"\",0,IF(Berekeningen!E303=0,1,0))","v":0},{"$f":"IF(D303=0,0,IF(lammering[[#This Row],[Dood in geboorte]]=\"Ja\",0,IF(lammering[[#This Row],[Dood na geboorte]]=\"ja\",0,1)))","v":0},{"$f":"IF(lammering[[#This Row],[Opfok met kunstmelk]]=\"Ja\",1,0)","v":0},{"$f":"IF(lammering[[#This Row],[geslacht]]=\"O\",1,0)","v":0},{"$f":"IF(lammering[[#This Row],[Speen-datum]]=\"\",\"\",(lammering[[#This Row],[Speen-gewicht]]-lammering[[#This Row],[geboorte-gewicht]])/(lammering[[#This Row],[Speen-datum]]-lammering[[#This Row],[Werp-datum]]))","v":""},{"$f":"IF(lammering[[#This Row],[Verkoop-datum]]=\"\",\"\",(lammering[[#This Row],[Verkoop-gewicht]]-lammering[[#This Row],[Speen-gewicht]])/(lammering[[#This Row],[Verkoop-datum]]-lammering[[#This Row],[Speen-datum]]))","v":""},{"$f":"IF(lammering[[#This Row],[Verkoop-datum]]=\"\",\"\",(lammering[[#This Row],[Verkoop-gewicht]]-lammering[[#This Row],[geboorte-gewicht]])/(lammering[[#This Row],[Verkoop-datum]]-lammering[[#This Row],[Werp-datum]]))","v":""},"","","","","","",{"$f":"IF(lammering[[#This Row],[Verkoop-gewicht]]=\"\",\"\",lammering[[#This Row],[Verkoop-gewicht]]-lammering[[#This Row],[geboorte-gewicht]])","v":""},"",""]
[{"$f":"lammering[[#This Row],[Ooi]]","v":0},0,0,{"$f":"IF(lammering[[#This Row],[Lam-nummer]]=\"\",0,1)","v":0},{"$f":"IF(lammering[[#This Row],[Dood in geboorte]]=\"ja\",1,0)","v":0},{"$f":"IF(lammering[[#This Row],[Ooi]]=\"\",0,IF(Berekeningen!E304=0,1,0))","v":0},{"$f":"IF(D304=0,0,IF(lammering[[#This Row],[Dood in geboorte]]=\"Ja\",0,IF(lammering[[#This Row],[Dood na geboorte]]=\"ja\",0,1)))","v":0},{"$f":"IF(lammering[[#This Row],[Opfok met kunstmelk]]=\"Ja\",1,0)","v":0},{"$f":"IF(lammering[[#This Row],[geslacht]]=\"O\",1,0)","v":0},{"$f":"IF(lammering[[#This Row],[Speen-datum]]=\"\",\"\",(lammering[[#This Row],[Speen-gewicht]]-lammering[[#This Row],[geboorte-gewicht]])/(lammering[[#This Row],[Speen-datum]]-lammering[[#This Row],[Werp-datum]]))","v":""},{"$f":"IF(lammering[[#This Row],[Verkoop-datum]]=\"\",\"\",(lammering[[#This Row],[Verkoop-gewicht]]-lammering[[#This Row],[Speen-gewicht]])/(lammering[[#This Row],[Verkoop-datum]]-lammering[[#This Row],[Speen-datum]]))","v":""},{"$f":"IF(lammering[[#This Row],[Verkoop-datum]]=\"\",\"\",(lammering[[#This Row],[Verkoop-gewicht]]-lammering[[#This Row],[geboorte-gewicht]])/(lammering[[#This Row],[Verkoop-datum]]-lammering[[#This Row],[Werp-datum]]))","v":""},"","","","","","",{"$f":"IF(lammering[[#This Row],[Verkoop-gewicht]]=\"\",\"\",lammering[[#This Row],[Verkoop-gewicht]]-lammering[[#This Row],[geboorte-gewicht]])","v":""},"",""]
[{"$f":"lammering[[#This Row],[Ooi]]","v":0},0,0,{"$f":"IF(lammering[[#This Row],[Lam-nummer]]=\"\",0,1)","v":0},{"$f":"IF(lammering[[#This Row],[Dood in geboorte]]=\"ja\",1,0)","v":0},{"$f":"IF(lammering[[#This Row],[Ooi]]=\"\",0,IF(Berekeningen!E305=0,1,0))","v":0},{"$f":"IF(D305=0,0,IF(lammering[[#This Row],[Dood in geboorte]]=\"Ja\",0,IF(lammering[[#This Row],[Dood na geboorte]]=\"ja\",0,1)))","v":0},{"$f":"IF(lammering[[#This Row],[Opfok met kunstmelk]]=\"Ja\",1,0)","v":0},{"$f":"IF(lammering[[#This Row],[geslacht]]=\"O\",1,0)","v":0},{"$f":"IF(lammering[[#This Row],[Speen-datum]]=\"\",\"\",(lammering[[#This Row],[Speen-gewicht]]-lammering[[#This Row],[geboorte-gewicht]])/(lammering[[#This Row],[Speen-datum]]-lammering[[#This Row],[Werp-datum]]))","v":""},{"$f":"IF(lammering[[#This Row],[Verkoop-datum]]=\"\",\"\",(lammering[[#This Row],[Verkoop-gewicht]]-lammering[[#This Row],[Speen-gewicht]])/(lammering[[#This Row],[Verkoop-datum]]-lammering[[#This Row],[Speen-datum]]))","v":""},{"$f":"IF(lammering[[#This Row],[Verkoop-datum]]=\"\",\"\",(lammering[[#This Row],[Verkoop-gewicht]]-lammering[[#This Row],[geboorte-gewicht]])/(lammering[[#This Row],[Verkoop-datum]]-lammering[[#This Row],[Werp-datum]]))","v":""},"","","","","","",{"$f":"IF(lammering[[#This Row],[Verkoop-gewicht]]=\"\",\"\",lammering[[#This Row],[Verkoop-gewicht]]-lammering[[#This Row],[geboorte-gewicht]])","v":""},"",""]
[{"$f":"lammering[[#This Row],[Ooi]]","v":0},0,0,{"$f":"IF(lammering[[#This Row],[Lam-nummer]]=\"\",0,1)","v":0},{"$f":"IF(lammering[[#This Row],[Dood in geboorte]]=\"ja\",1,0)","v":0},{"$f":"IF(lammering[[#This Row],[Ooi]]=\"\",0,IF(Berekeningen!E306=0,1,0))","v":0},{"$f":"IF(D306=0,0,IF(lammering[[#This Row],[Dood in geboorte]]=\"Ja\",0,IF(lammering[[#This Row],[Dood na geboorte]]=\"ja\",0,1)))","v":0},{"$f":"IF(lammering[[#This Row],[Opfok met kunstmelk]]=\"Ja\",1,0)","v":0},{"$f":"IF(lammering[[#This Row],[geslacht]]=\"O\",1,0)","v":0},{"$f":"IF(lammering[[#This Row],[Speen-datum]]=\"\",\"\",(lammering[[#This Row],[Speen-gewicht]]-lammering[[#This Row],[geboorte-gewicht]])/(lammering[[#This Row],[Speen-datum]]-lammering[[#This Row],[Werp-datum]]))","v":""},{"$f":"IF(lammering[[#This Row],[Verkoop-datum]]=\"\",\"\",(lammering[[#This Row],[Verkoop-gewicht]]-lammering[[#This Row],[Speen-gewicht]])/(lammering[[#This Row],[Verkoop-datum]]-lammering[[#This Row],[Speen-datum]]))","v":""},{"$f":"IF(lammering[[#This Row],[Verkoop-datum]]=\"\",\"\",(lammering[[#This Row],[Verkoop-gewicht]]-lammering[[#This Row],[geboorte-gewicht]])/(lammering[[#This Row],[Verkoop-datum]]-lammering[[#This Row],[Werp-datum]]))","v":""},"","","","","","",{"$f":"IF(lammering[[#This Row],[Verkoop-gewicht]]=\"\",\"\",lammering[[#This Row],[Verkoop-gewicht]]-lammering[[#This Row],[geboorte-gewicht]])","v":""},"",""]
[{"$f":"lammering[[#This Row],[Ooi]]","v":0},0,0,{"$f":"IF(lammering[[#This Row],[Lam-nummer]]=\"\",0,1)","v":0},{"$f":"IF(lammering[[#This Row],[Dood in geboorte]]=\"ja\",1,0)","v":0},{"$f":"IF(lammering[[#This Row],[Ooi]]=\"\",0,IF(Berekeningen!E307=0,1,0))","v":0},{"$f":"IF(D307=0,0,IF(lammering[[#This Row],[Dood in geboorte]]=\"Ja\",0,IF(lammering[[#This Row],[Dood na geboorte]]=\"ja\",0,1)))","v":0},{"$f":"IF(lammering[[#This Row],[Opfok met kunstmelk]]=\"Ja\",1,0)","v":0},{"$f":"IF(lammering[[#This Row],[geslacht]]=\"O\",1,0)","v":0},{"$f":"IF(lammering[[#This Row],[Speen-datum]]=\"\",\"\",(lammering[[#This Row],[Speen-gewicht]]-lammering[[#This Row],[geboorte-gewicht]])/(lammering[[#This Row],[Speen-datum]]-lammering[[#This Row],[Werp-datum]]))","v":""},{"$f":"IF(lammering[[#This Row],[Verkoop-datum]]=\"\",\"\",(lammering[[#This Row],[Verkoop-gewicht]]-lammering[[#This Row],[Speen-gewicht]])/(lammering[[#This Row],[Verkoop-datum]]-lammering[[#This Row],[Speen-datum]]))","v":""},{"$f":"IF(lammering[[#This Row],[Verkoop-datum]]=\"\",\"\",(lammering[[#This Row],[Verkoop-gewicht]]-lammering[[#This Row],[geboorte-gewicht]])/(lammering[[#This Row],[Verkoop-datum]]-lammering[[#This Row],[Werp-datum]]))","v":""},"","","","","","",{"$f":"IF(lammering[[#This Row],[Verkoop-gewicht]]=\"\",\"\",lammering[[#This Row],[Verkoop-gewicht]]-lammering[[#This Row],[geboorte-gewicht]])","v":""},"",""]
[{"$f":"lammering[[#This Row],[Ooi]]","v":0},0,0,{"$f":"IF(lammering[[#This Row],[Lam-nummer]]=\"\",0,1)","v":0},{"$f":"IF(lammering[[#This Row],[Dood in geboorte]]=\"ja\",1,0)","v":0},{"$f":"IF(lammering[[#This Row],[Ooi]]=\"\",0,IF(Berekeningen!E308=0,1,0))","v":0},{"$f":"IF(D308=0,0,IF(lammering[[#This Row],[Dood in geboorte]]=\"Ja\",0,IF(lammering[[#This Row],[Dood na geboorte]]=\"ja\",0,1)))","v":0},{"$f":"IF(lammering[[#This Row],[Opfok met kunstmelk]]=\"Ja\",1,0)","v":0},{"$f":"IF(lammering[[#This Row],[geslacht]]=\"O\",1,0)","v":0},{"$f":"IF(lammering[[#This Row],[Speen-datum]]=\"\",\"\",(lammering[[#This Row],[Speen-gewicht]]-lammering[[#This Row],[geboorte-gewicht]])/(lammering[[#This Row],[Speen-datum]]-lammering[[#This Row],[Werp-datum]]))","v":""},{"$f":"IF(lammering[[#This Row],[Verkoop-datum]]=\"\",\"\",(lammering[[#This Row],[Verkoop-gewicht]]-lammering[[#This Row],[Speen-gewicht]])/(lammering[[#This Row],[Verkoop-datum]]-lammering[[#This Row],[Speen-datum]]))","v":""},{"$f":"IF(lammering[[#This Row],[Verkoop-datum]]=\"\",\"\",(lammering[[#This Row],[Verkoop-gewicht]]-lammering[[#This Row],[geboorte-gewicht]])/(lammering[[#This Row],[Verkoop-datum]]-lammering[[#This Row],[Werp-datum]]))","v":""},"","","","","","",{"$f":"IF(lammering[[#This Row],[Verkoop-gewicht]]=\"\",\"\",lammering[[#This Row],[Verkoop-gewicht]]-lammering[[#This Row],[geboorte-gewicht]])","v":""},"",""]
[{"$f":"lammering[[#This Row],[Ooi]]","v":0},0,0,{"$f":"IF(lammering[[#This Row],[Lam-nummer]]=\"\",0,1)","v":0},{"$f":"IF(lammering[[#This Row],[Dood in geboorte]]=\"ja\",1,0)","v":0},{"$f":"IF(lammering[[#This Row],[Ooi]]=\"\",0,IF(Berekeningen!E309=0,1,0))","v":0},{"$f":"IF(D309=0,0,IF(lammering[[#This Row],[Dood in geboorte]]=\"Ja\",0,IF(lammering[[#This Row],[Dood na geboorte]]=\"ja\",0,1)))","v":0},{"$f":"IF(lammering[[#This Row],[Opfok met kunstmelk]]=\"Ja\",1,0)","v":0},{"$f":"IF(lammering[[#This Row],[geslacht]]=\"O\",1,0)","v":0},{"$f":"IF(lammering[[#This Row],[Speen-datum]]=\"\",\"\",(lammering[[#This Row],[Speen-gewicht]]-lammering[[#This Row],[geboorte-gewicht]])/(lammering[[#This Row],[Speen-datum]]-lammering[[#This Row],[Werp-datum]]))","v":""},{"$f":"IF(lammering[[#This Row],[Verkoop-datum]]=\"\",\"\",(lammering[[#This Row],[Verkoop-gewicht]]-lammering[[#This Row],[Speen-gewicht]])/(lammering[[#This Row],[Verkoop-datum]]-lammering[[#This Row],[Speen-datum]]))","v":""},{"$f":"IF(lammering[[#This Row],[Verkoop-datum]]=\"\",\"\",(lammering[[#This Row],[Verkoop-gewicht]]-lammering[[#This Row],[geboorte-gewicht]])/(lammering[[#This Row],[Verkoop-datum]]-lammering[[#This Row],[Werp-datum]]))","v":""},"","","","","","",{"$f":"IF(lammering[[#This Row],[Verkoop-gewicht]]=\"\",\"\",lammering[[#This Row],[Verkoop-gewicht]]-lammering[[#This Row],[geboorte-gewicht]])","v":""},"",""]
[{"$f":"lammering[[#This Row],[Ooi]]","v":0},0,0,{"$f":"IF(lammering[[#This Row],[Lam-nummer]]=\"\",0,1)","v":0},{"$f":"IF(lammering[[#This Row],[Dood in geboorte]]=\"ja\",1,0)","v":0},{"$f":"IF(lammering[[#This Row],[Ooi]]=\"\",0,IF(Berekeningen!E310=0,1,0))","v":0},{"$f":"IF(D310=0,0,IF(lammering[[#This Row],[Dood in geboorte]]=\"Ja\",0,IF(lammering[[#This Row],[Dood na geboorte]]=\"ja\",0,1)))","v":0},{"$f":"IF(lammering[[#This Row],[Opfok met kunstmelk]]=\"Ja\",1,0)","v":0},{"$f":"IF(lammering[[#This Row],[geslacht]]=\"O\",1,0)","v":0},{"$f":"IF(lammering[[#This Row],[Speen-datum]]=\"\",\"\",(lammering[[#This Row],[Speen-gewicht]]-lammering[[#This Row],[geboorte-gewicht]])/(lammering[[#This Row],[Speen-datum]]-lammering[[#This Row],[Werp-datum]]))","v":""},{"$f":"IF(lammering[[#This Row],[Verkoop-datum]]=\"\",\"\",(lammering[[#This Row],[Verkoop-gewicht]]-lammering[[#This Row],[Speen-gewicht]])/(lammering[[#This Row],[Verkoop-datum]]-lammering[[#This Row],[Speen-datum]]))","v":""},{"$f":"IF(lammering[[#This Row],[Verkoop-datum]]=\"\",\"\",(lammering[[#This Row],[Verkoop-gewicht]]-lammering[[#This Row],[geboorte-gewicht]])/(lammering[[#This Row],[Verkoop-datum]]-lammering[[#This Row],[Werp-datum]]))","v":""},"","","","","","",{"$f":"IF(lammering[[#This Row],[Verkoop-gewicht]]=\"\",\"\",lammering[[#This Row],[Verkoop-gewicht]]-lammering[[#This Row],[geboorte-gewicht]])","v":""},"",""]
[{"$f":"lammering[[#This Row],[Ooi]]","v":0},0,0,{"$f":"IF(lammering[[#This Row],[Lam-nummer]]=\"\",0,1)","v":0},{"$f":"IF(lammering[[#This Row],[Dood in geboorte]]=\"ja\",1,0)","v":0},{"$f":"IF(lammering[[#This Row],[Ooi]]=\"\",0,IF(Berekeningen!E311=0,1,0))","v":0},{"$f":"IF(D311=0,0,IF(lammering[[#This Row],[Dood in geboorte]]=\"Ja\",0,IF(lammering[[#This Row],[Dood na geboorte]]=\"ja\",0,1)))","v":0},{"$f":"IF(lammering[[#This Row],[Opfok met kunstmelk]]=\"Ja\",1,0)","v":0},{"$f":"IF(lammering[[#This Row],[geslacht]]=\"O\",1,0)","v":0},{"$f":"IF(lammering[[#This Row],[Speen-datum]]=\"\",\"\",(lammering[[#This Row],[Speen-gewicht]]-lammering[[#This Row],[geboorte-gewicht]])/(lammering[[#This Row],[Speen-datum]]-lammering[[#This Row],[Werp-datum]]))","v":""},{"$f":"IF(lammering[[#This Row],[Verkoop-datum]]=\"\",\"\",(lammering[[#This Row],[Verkoop-gewicht]]-lammering[[#This Row],[Speen-gewicht]])/(lammering[[#This Row],[Verkoop-datum]]-lammering[[#This Row],[Speen-datum]]))","v":""},{"$f":"IF(lammering[[#This Row],[Verkoop-datum]]=\"\",\"\",(lammering[[#This Row],[Verkoop-gewicht]]-lammering[[#This Row],[geboorte-gewicht]])/(lammering[[#This Row],[Verkoop-datum]]-lammering[[#This Row],[Werp-datum]]))","v":""},"","","","","","",{"$f":"IF(lammering[[#This Row],[Verkoop-gewicht]]=\"\",\"\",lammering[[#This Row],[Verkoop-gewicht]]-lammering[[#This Row],[geboorte-gewicht]])","v":""},"",""]
[{"$f":"lammering[[#This Row],[Ooi]]","v":0},0,0,{"$f":"IF(lammering[[#This Row],[Lam-nummer]]=\"\",0,1)","v":0},{"$f":"IF(lammering[[#This Row],[Dood in geboorte]]=\"ja\",1,0)","v":0},{"$f":"IF(lammering[[#This Row],[Ooi]]=\"\",0,IF(Berekeningen!E312=0,1,0))","v":0},{"$f":"IF(D312=0,0,IF(lammering[[#This Row],[Dood in geboorte]]=\"Ja\",0,IF(lammering[[#This Row],[Dood na geboorte]]=\"ja\",0,1)))","v":0},{"$f":"IF(lammering[[#This Row],[Opfok met kunstmelk]]=\"Ja\",1,0)","v":0},{"$f":"IF(lammering[[#This Row],[geslacht]]=\"O\",1,0)","v":0},{"$f":"IF(lammering[[#This Row],[Speen-datum]]=\"\",\"\",(lammering[[#This Row],[Speen-gewicht]]-lammering[[#This Row],[geboorte-gewicht]])/(lammering[[#This Row],[Speen-datum]]-lammering[[#This Row],[Werp-datum]]))","v":""},{"$f":"IF(lammering[[#This Row],[Verkoop-datum]]=\"\",\"\",(lammering[[#This Row],[Verkoop-gewicht]]-lammering[[#This Row],[Speen-gewicht]])/(lammering[[#This Row],[Verkoop-datum]]-lammering[[#This Row],[Speen-datum]]))","v":""},{"$f":"IF(lammering[[#This Row],[Verkoop-datum]]=\"\",\"\",(lammering[[#This Row],[Verkoop-gewicht]]-lammering[[#This Row],[geboorte-gewicht]])/(lammering[[#This Row],[Verkoop-datum]]-lammering[[#This Row],[Werp-datum]]))","v":""},"","","","","","",{"$f":"IF(lammering[[#This Row],[Verkoop-gewicht]]=\"\",\"\",lammering[[#This Row],[Verkoop-gewicht]]-lammering[[#This Row],[geboorte-gewicht]])","v":""},"",""]
[{"$f":"lammering[[#This Row],[Ooi]]","v":0},0,0,{"$f":"IF(lammering[[#This Row],[Lam-nummer]]=\"\",0,1)","v":0},{"$f":"IF(lammering[[#This Row],[Dood in geboorte]]=\"ja\",1,0)","v":0},{"$f":"IF(lammering[[#This Row],[Ooi]]=\"\",0,IF(Berekeningen!E313=0,1,0))","v":0},{"$f":"IF(D313=0,0,IF(lammering[[#This Row],[Dood in geboorte]]=\"Ja\",0,IF(lammering[[#This Row],[Dood na geboorte]]=\"ja\",0,1)))","v":0},{"$f":"IF(lammering[[#This Row],[Opfok met kunstmelk]]=\"Ja\",1,0)","v":0},{"$f":"IF(lammering[[#This Row],[geslacht]]=\"O\",1,0)","v":0},{"$f":"IF(lammering[[#This Row],[Speen-datum]]=\"\",\"\",(lammering[[#This Row],[Speen-gewicht]]-lammering[[#This Row],[geboorte-gewicht]])/(lammering[[#This Row],[Speen-datum]]-lammering[[#This Row],[Werp-datum]]))","v":""},{"$f":"IF(lammering[[#This Row],[Verkoop-datum]]=\"\",\"\",(lammering[[#This Row],[Verkoop-gewicht]]-lammering[[#This Row],[Speen-gewicht]])/(lammering[[#This Row],[Verkoop-datum]]-lammering[[#This Row],[Speen-datum]]))","v":""},{"$f":"IF(lammering[[#This Row],[Verkoop-datum]]=\"\",\"\",(lammering[[#This Row],[Verkoop-gewicht]]-lammering[[#This Row],[geboorte-gewicht]])/(lammering[[#This Row],[Verkoop-datum]]-lammering[[#This Row],[Werp-datum]]))","v":""},"","","","","","",{"$f":"IF(lammering[[#This Row],[Verkoop-gewicht]]=\"\",\"\",lammering[[#This Row],[Verkoop-gewicht]]-lammering[[#This Row],[geboorte-gewicht]])","v":""},"",""]
[{"$f":"lammering[[#This Row],[Ooi]]","v":0},0,0,{"$f":"IF(lammering[[#This Row],[Lam-nummer]]=\"\",0,1)","v":0},{"$f":"IF(lammering[[#This Row],[Dood in geboorte]]=\"ja\",1,0)","v":0},{"$f":"IF(lammering[[#This Row],[Ooi]]=\"\",0,IF(Berekeningen!E314=0,1,0))","v":0},{"$f":"IF(D314=0,0,IF(lammering[[#This Row],[Dood in geboorte]]=\"Ja\",0,IF(lammering[[#This Row],[Dood na geboorte]]=\"ja\",0,1)))","v":0},{"$f":"IF(lammering[[#This Row],[Opfok met kunstmelk]]=\"Ja\",1,0)","v":0},{"$f":"IF(lammering[[#This Row],[geslacht]]=\"O\",1,0)","v":0},{"$f":"IF(lammering[[#This Row],[Speen-datum]]=\"\",\"\",(lammering[[#This Row],[Speen-gewicht]]-lammering[[#This Row],[geboorte-gewicht]])/(lammering[[#This Row],[Speen-datum]]-lammering[[#This Row],[Werp-datum]]))","v":""},{"$f":"IF(lammering[[#This Row],[Verkoop-datum]]=\"\",\"\",(lammering[[#This Row],[Verkoop-gewicht]]-lammering[[#This Row],[Speen-gewicht]])/(lammering[[#This Row],[Verkoop-datum]]-lammering[[#This Row],[Speen-datum]]))","v":""},{"$f":"IF(lammering[[#This Row],[Verkoop-datum]]=\"\",\"\",(lammering[[#This Row],[Verkoop-gewicht]]-lammering[[#This Row],[geboorte-gewicht]])/(lammering[[#This Row],[Verkoop-datum]]-lammering[[#This Row],[Werp-datum]]))","v":""},"","","","","","",{"$f":"IF(lammering[[#This Row],[Verkoop-gewicht]]=\"\",\"\",lammering[[#This Row],[Verkoop-gewicht]]-lammering[[#This Row],[geboorte-gewicht]])","v":""},"",""]
[{"$f":"lammering[[#This Row],[Ooi]]","v":0},0,0,{"$f":"IF(lammering[[#This Row],[Lam-nummer]]=\"\",0,1)","v":0},{"$f":"IF(lammering[[#This Row],[Dood in geboorte]]=\"ja\",1,0)","v":0},{"$f":"IF(lammering[[#This Row],[Ooi]]=\"\",0,IF(Berekeningen!E315=0,1,0))","v":0},{"$f":"IF(D315=0,0,IF(lammering[[#This Row],[Dood in geboorte]]=\"Ja\",0,IF(lammering[[#This Row],[Dood na geboorte]]=\"ja\",0,1)))","v":0},{"$f":"IF(lammering[[#This Row],[Opfok met kunstmelk]]=\"Ja\",1,0)","v":0},{"$f":"IF(lammering[[#This Row],[geslacht]]=\"O\",1,0)","v":0},{"$f":"IF(lammering[[#This Row],[Speen-datum]]=\"\",\"\",(lammering[[#This Row],[Speen-gewicht]]-lammering[[#This Row],[geboorte-gewicht]])/(lammering[[#This Row],[Speen-datum]]-lammering[[#This Row],[Werp-datum]]))","v":""},{"$f":"IF(lammering[[#This Row],[Verkoop-datum]]=\"\",\"\",(lammering[[#This Row],[Verkoop-gewicht]]-lammering[[#This Row],[Speen-gewicht]])/(lammering[[#This Row],[Verkoop-datum]]-lammering[[#This Row],[Speen-datum]]))","v":""},{"$f":"IF(lammering[[#This Row],[Verkoop-datum]]=\"\",\"\",(lammering[[#This Row],[Verkoop-gewicht]]-lammering[[#This Row],[geboorte-gewicht]])/(lammering[[#This Row],[Verkoop-datum]]-lammering[[#This Row],[Werp-datum]]))","v":""},"","","","","","",{"$f":"IF(lammering[[#This Row],[Verkoop-gewicht]]=\"\",\"\",lammering[[#This Row],[Verkoop-gewicht]]-lammering[[#This Row],[geboorte-gewicht]])","v":""},"",""]
[{"$f":"lammering[[#This Row],[Ooi]]","v":0},0,0,{"$f":"IF(lammering[[#This Row],[Lam-nummer]]=\"\",0,1)","v":0},{"$f":"IF(lammering[[#This Row],[Dood in geboorte]]=\"ja\",1,0)","v":0},{"$f":"IF(lammering[[#This Row],[Ooi]]=\"\",0,IF(Berekeningen!E316=0,1,0))","v":0},{"$f":"IF(D316=0,0,IF(lammering[[#This Row],[Dood in geboorte]]=\"Ja\",0,IF(lammering[[#This Row],[Dood na geboorte]]=\"ja\",0,1)))","v":0},{"$f":"IF(lammering[[#This Row],[Opfok met kunstmelk]]=\"Ja\",1,0)","v":0},{"$f":"IF(lammering[[#This Row],[geslacht]]=\"O\",1,0)","v":0},{"$f":"IF(lammering[[#This Row],[Speen-datum]]=\"\",\"\",(lammering[[#This Row],[Speen-gewicht]]-lammering[[#This Row],[geboorte-gewicht]])/(lammering[[#This Row],[Speen-datum]]-lammering[[#This Row],[Werp-datum]]))","v":""},{"$f":"IF(lammering[[#This Row],[Verkoop-datum]]=\"\",\"\",(lammering[[#This Row],[Verkoop-gewicht]]-lammering[[#This Row],[Speen-gewicht]])/(lammering[[#This Row],[Verkoop-datum]]-lammering[[#This Row],[Speen-datum]]))","v":""},{"$f":"IF(lammering[[#This Row],[Verkoop-datum]]=\"\",\"\",(lammering[[#This Row],[Verkoop-gewicht]]-lammering[[#This Row],[geboorte-gewicht]])/(lammering[[#This Row],[Verkoop-datum]]-lammering[[#This Row],[Werp-datum]]))","v":""},"","","","","","",{"$f":"IF(lammering[[#This Row],[Verkoop-gewicht]]=\"\",\"\",lammering[[#This Row],[Verkoop-gewicht]]-lammering[[#This Row],[geboorte-gewicht]])","v":""},"",""]
[{"$f":"lammering[[#This Row],[Ooi]]","v":0},0,0,{"$f":"IF(lammering[[#This Row],[Lam-nummer]]=\"\",0,1)","v":0},{"$f":"IF(lammering[[#This Row],[Dood in geboorte]]=\"ja\",1,0)","v":0},{"$f":"IF(lammering[[#This Row],[Ooi]]=\"\",0,IF(Berekeningen!E317=0,1,0))","v":0},{"$f":"IF(D317=0,0,IF(lammering[[#This Row],[Dood in geboorte]]=\"Ja\",0,IF(lammering[[#This Row],[Dood na geboorte]]=\"ja\",0,1)))","v":0},{"$f":"IF(lammering[[#This Row],[Opfok met kunstmelk]]=\"Ja\",1,0)","v":0},{"$f":"IF(lammering[[#This Row],[geslacht]]=\"O\",1,0)","v":0},{"$f":"IF(lammering[[#This Row],[Speen-datum]]=\"\",\"\",(lammering[[#This Row],[Speen-gewicht]]-lammering[[#This Row],[geboorte-gewicht]])/(lammering[[#This Row],[Speen-datum]]-lammering[[#This Row],[Werp-datum]]))","v":""},{"$f":"IF(lammering[[#This Row],[Verkoop-datum]]=\"\",\"\",(lammering[[#This Row],[Verkoop-gewicht]]-lammering[[#This Row],[Speen-gewicht]])/(lammering[[#This Row],[Verkoop-datum]]-lammering[[#This Row],[Speen-datum]]))","v":""},{"$f":"IF(lammering[[#This Row],[Verkoop-datum]]=\"\",\"\",(lammering[[#This Row],[Verkoop-gewicht]]-lammering[[#This Row],[geboorte-gewicht]])/(lammering[[#This Row],[Verkoop-datum]]-lammering[[#This Row],[Werp-datum]]))","v":""},"","","","","","",{"$f":"IF(lammering[[#This Row],[Verkoop-gewicht]]=\"\",\"\",lammering[[#This Row],[Verkoop-gewicht]]-lammering[[#This Row],[geboorte-gewicht]])","v":""},"",""]
[{"$f":"lammering[[#This Row],[Ooi]]","v":0},0,0,{"$f":"IF(lammering[[#This Row],[Lam-nummer]]=\"\",0,1)","v":0},{"$f":"IF(lammering[[#This Row],[Dood in geboorte]]=\"ja\",1,0)","v":0},{"$f":"IF(lammering[[#This Row],[Ooi]]=\"\",0,IF(Berekeningen!E318=0,1,0))","v":0},{"$f":"IF(D318=0,0,IF(lammering[[#This Row],[Dood in geboorte]]=\"Ja\",0,IF(lammering[[#This Row],[Dood na geboorte]]=\"ja\",0,1)))","v":0},{"$f":"IF(lammering[[#This Row],[Opfok met kunstmelk]]=\"Ja\",1,0)","v":0},{"$f":"IF(lammering[[#This Row],[geslacht]]=\"O\",1,0)","v":0},{"$f":"IF(lammering[[#This Row],[Speen-datum]]=\"\",\"\",(lammering[[#This Row],[Speen-gewicht]]-lammering[[#This Row],[geboorte-gewicht]])/(lammering[[#This Row],[Speen-datum]]-lammering[[#This Row],[Werp-datum]]))","v":""},{"$f":"IF(lammering[[#This Row],[Verkoop-datum]]=\"\",\"\",(lammering[[#This Row],[Verkoop-gewicht]]-lammering[[#This Row],[Speen-gewicht]])/(lammering[[#This Row],[Verkoop-datum]]-lammering[[#This Row],[Speen-datum]]))","v":""},{"$f":"IF(lammering[[#This Row],[Verkoop-datum]]=\"\",\"\",(lammering[[#This Row],[Verkoop-gewicht]]-lammering[[#This Row],[geboorte-gewicht]])/(lammering[[#This Row],[Verkoop-datum]]-lammering[[#This Row],[Werp-datum]]))","v":""},"","","","","","",{"$f":"IF(lammering[[#This Row],[Verkoop-gewicht]]=\"\",\"\",lammering[[#This Row],[Verkoop-gewicht]]-lammering[[#This Row],[geboorte-gewicht]])","v":""},"",""]
[{"$f":"lammering[[#This Row],[Ooi]]","v":0},0,0,{"$f":"IF(lammering[[#This Row],[Lam-nummer]]=\"\",0,1)","v":0},{"$f":"IF(lammering[[#This Row],[Dood in geboorte]]=\"ja\",1,0)","v":0},{"$f":"IF(lammering[[#This Row],[Ooi]]=\"\",0,IF(Berekeningen!E319=0,1,0))","v":0},{"$f":"IF(D319=0,0,IF(lammering[[#This Row],[Dood in geboorte]]=\"Ja\",0,IF(lammering[[#This Row],[Dood na geboorte]]=\"ja\",0,1)))","v":0},{"$f":"IF(lammering[[#This Row],[Opfok met kunstmelk]]=\"Ja\",1,0)","v":0},{"$f":"IF(lammering[[#This Row],[geslacht]]=\"O\",1,0)","v":0},{"$f":"IF(lammering[[#This Row],[Speen-datum]]=\"\",\"\",(lammering[[#This Row],[Speen-gewicht]]-lammering[[#This Row],[geboorte-gewicht]])/(lammering[[#This Row],[Speen-datum]]-lammering[[#This Row],[Werp-datum]]))","v":""},{"$f":"IF(lammering[[#This Row],[Verkoop-datum]]=\"\",\"\",(lammering[[#This Row],[Verkoop-gewicht]]-lammering[[#This Row],[Speen-gewicht]])/(lammering[[#This Row],[Verkoop-datum]]-lammering[[#This Row],[Speen-datum]]))","v":""},{"$f":"IF(lammering[[#This Row],[Verkoop-datum]]=\"\",\"\",(lammering[[#This Row],[Verkoop-gewicht]]-lammering[[#This Row],[geboorte-gewicht]])/(lammering[[#This Row],[Verkoop-datum]]-lammering[[#This Row],[Werp-datum]]))","v":""},"","","","","","",{"$f":"IF(lammering[[#This Row],[Verkoop-gewicht]]=\"\",\"\",lammering[[#This Row],[Verkoop-gewicht]]-lammering[[#This Row],[geboorte-gewicht]])","v":""},"",""]
[{"$f":"lammering[[#This Row],[Ooi]]","v":0},0,0,{"$f":"IF(lammering[[#This Row],[Lam-nummer]]=\"\",0,1)","v":0},{"$f":"IF(lammering[[#This Row],[Dood in geboorte]]=\"ja\",1,0)","v":0},{"$f":"IF(lammering[[#This Row],[Ooi]]=\"\",0,IF(Berekeningen!E320=0,1,0))","v":0},{"$f":"IF(D320=0,0,IF(lammering[[#This Row],[Dood in geboorte]]=\"Ja\",0,IF(lammering[[#This Row],[Dood na geboorte]]=\"ja\",0,1)))","v":0},{"$f":"IF(lammering[[#This Row],[Opfok met kunstmelk]]=\"Ja\",1,0)","v":0},{"$f":"IF(lammering[[#This Row],[geslacht]]=\"O\",1,0)","v":0},{"$f":"IF(lammering[[#This Row],[Speen-datum]]=\"\",\"\",(lammering[[#This Row],[Speen-gewicht]]-lammering[[#This Row],[geboorte-gewicht]])/(lammering[[#This Row],[Speen-datum]]-lammering[[#This Row],[Werp-datum]]))","v":""},{"$f":"IF(lammering[[#This Row],[Verkoop-datum]]=\"\",\"\",(lammering[[#This Row],[Verkoop-gewicht]]-lammering[[#This Row],[Speen-gewicht]])/(lammering[[#This Row],[Verkoop-datum]]-lammering[[#This Row],[Speen-datum]]))","v":""},{"$f":"IF(lammering[[#This Row],[Verkoop-datum]]=\"\",\"\",(lammering[[#This Row],[Verkoop-gewicht]]-lammering[[#This Row],[geboorte-gewicht]])/(lammering[[#This Row],[Verkoop-datum]]-lammering[[#This Row],[Werp-datum]]))","v":""},"","","","","","",{"$f":"IF(lammering[[#This Row],[Verkoop-gewicht]]=\"\",\"\",lammering[[#This Row],[Verkoop-gewicht]]-lammering[[#This Row],[geboorte-gewicht]])","v":""},"",""]
[{"$f":"lammering[[#This Row],[Ooi]]","v":0},0,0,{"$f":"IF(lammering[[#This Row],[Lam-nummer]]=\"\",0,1)","v":0},{"$f":"IF(lammering[[#This Row],[Dood in geboorte]]=\"ja\",1,0)","v":0},{"$f":"IF(lammering[[#This Row],[Ooi]]=\"\",0,IF(Berekeningen!E321=0,1,0))","v":0},{"$f":"IF(D321=0,0,IF(lammering[[#This Row],[Dood in geboorte]]=\"Ja\",0,IF(lammering[[#This Row],[Dood na geboorte]]=\"ja\",0,1)))","v":0},{"$f":"IF(lammering[[#This Row],[Opfok met kunstmelk]]=\"Ja\",1,0)","v":0},{"$f":"IF(lammering[[#This Row],[geslacht]]=\"O\",1,0)","v":0},{"$f":"IF(lammering[[#This Row],[Speen-datum]]=\"\",\"\",(lammering[[#This Row],[Speen-gewicht]]-lammering[[#This Row],[geboorte-gewicht]])/(lammering[[#This Row],[Speen-datum]]-lammering[[#This Row],[Werp-datum]]))","v":""},{"$f":"IF(lammering[[#This Row],[Verkoop-datum]]=\"\",\"\",(lammering[[#This Row],[Verkoop-gewicht]]-lammering[[#This Row],[Speen-gewicht]])/(lammering[[#This Row],[Verkoop-datum]]-lammering[[#This Row],[Speen-datum]]))","v":""},{"$f":"IF(lammering[[#This Row],[Verkoop-datum]]=\"\",\"\",(lammering[[#This Row],[Verkoop-gewicht]]-lammering[[#This Row],[geboorte-gewicht]])/(lammering[[#This Row],[Verkoop-datum]]-lammering[[#This Row],[Werp-datum]]))","v":""},"","","","","","",{"$f":"IF(lammering[[#This Row],[Verkoop-gewicht]]=\"\",\"\",lammering[[#This Row],[Verkoop-gewicht]]-lammering[[#This Row],[geboorte-gewicht]])","v":""},"",""]
[{"$f":"lammering[[#This Row],[Ooi]]","v":0},0,0,{"$f":"IF(lammering[[#This Row],[Lam-nummer]]=\"\",0,1)","v":0},{"$f":"IF(lammering[[#This Row],[Dood in geboorte]]=\"ja\",1,0)","v":0},{"$f":"IF(lammering[[#This Row],[Ooi]]=\"\",0,IF(Berekeningen!E322=0,1,0))","v":0},{"$f":"IF(D322=0,0,IF(lammering[[#This Row],[Dood in geboorte]]=\"Ja\",0,IF(lammering[[#This Row],[Dood na geboorte]]=\"ja\",0,1)))","v":0},{"$f":"IF(lammering[[#This Row],[Opfok met kunstmelk]]=\"Ja\",1,0)","v":0},{"$f":"IF(lammering[[#This Row],[geslacht]]=\"O\",1,0)","v":0},{"$f":"IF(lammering[[#This Row],[Speen-datum]]=\"\",\"\",(lammering[[#This Row],[Speen-gewicht]]-lammering[[#This Row],[geboorte-gewicht]])/(lammering[[#This Row],[Speen-datum]]-lammering[[#This Row],[Werp-datum]]))","v":""},{"$f":"IF(lammering[[#This Row],[Verkoop-datum]]=\"\",\"\",(lammering[[#This Row],[Verkoop-gewicht]]-lammering[[#This Row],[Speen-gewicht]])/(lammering[[#This Row],[Verkoop-datum]]-lammering[[#This Row],[Speen-datum]]))","v":""},{"$f":"IF(lammering[[#This Row],[Verkoop-datum]]=\"\",\"\",(lammering[[#This Row],[Verkoop-gewicht]]-lammering[[#This Row],[geboorte-gewicht]])/(lammering[[#This Row],[Verkoop-datum]]-lammering[[#This Row],[Werp-datum]]))","v":""},"","","","","","",{"$f":"IF(lammering[[#This Row],[Verkoop-gewicht]]=\"\",\"\",lammering[[#This Row],[Verkoop-gewicht]]-lammering[[#This Row],[geboorte-gewicht]])","v":""},"",""]
[{"$f":"lammering[[#This Row],[Ooi]]","v":0},{"$f":"IF(A323=0,0,IF(A323=A322,0,1))","v":0},{"$f":"IF(B323=1,A323,0)","v":0},{"$f":"IF(lammering[[#This Row],[Lam-nummer]]=\"\",0,1)","v":0},{"$f":"IF(lammering[[#This Row],[Dood in geboorte]]=\"ja\",1,0)","v":0},{"$f":"IF(lammering[[#This Row],[Ooi]]=\"\",0,IF(Berekeningen!E323=0,1,0))","v":0},{"$f":"IF(D323=0,0,IF(lammering[[#This Row],[Dood in geboorte]]=\"Ja\",0,IF(lammering[[#This Row],[Dood na geboorte]]=\"ja\",0,1)))","v":0},{"$f":"IF(lammering[[#This Row],[Opfok met kunstmelk]]=\"Ja\",1,0)","v":0},{"$f":"IF(lammering[[#This Row],[geslacht]]=\"O\",1,0)","v":0},{"$f":"IF(lammering[[#This Row],[Speen-datum]]=\"\",\"\",(lammering[[#This Row],[Speen-gewicht]]-lammering[[#This Row],[geboorte-gewicht]])/(lammering[[#This Row],[Speen-datum]]-lammering[[#This Row],[Werp-datum]]))","v":""},{"$f":"IF(lammering[[#This Row],[Verkoop-datum]]=\"\",\"\",(lammering[[#This Row],[Verkoop-gewicht]]-lammering[[#This Row],[Speen-gewicht]])/(lammering[[#This Row],[Verkoop-datum]]-lammering[[#This Row],[Speen-datum]]))","v":""},{"$f":"IF(lammering[[#This Row],[Verkoop-datum]]=\"\",\"\",(lammering[[#This Row],[Verkoop-gewicht]]-lammering[[#This Row],[geboorte-gewicht]])/(lammering[[#This Row],[Verkoop-datum]]-lammering[[#This Row],[Werp-datum]]))","v":""},"","","","","","",{"$f":"IF(lammering[[#This Row],[Verkoop-gewicht]]=\"\",\"\",lammering[[#This Row],[Verkoop-gewicht]]-lammering[[#This Row],[geboorte-gewicht]])","v":""},"",""]
[{"$f":"lammering[[#This Row],[Ooi]]","v":0},0,0,{"$f":"IF(lammering[[#This Row],[Lam-nummer]]=\"\",0,1)","v":0},{"$f":"IF(lammering[[#This Row],[Dood in geboorte]]=\"ja\",1,0)","v":0},{"$f":"IF(lammering[[#This Row],[Ooi]]=\"\",0,IF(Berekeningen!E324=0,1,0))","v":0},{"$f":"IF(D324=0,0,IF(lammering[[#This Row],[Dood in geboorte]]=\"Ja\",0,IF(lammering[[#This Row],[Dood na geboorte]]=\"ja\",0,1)))","v":0},{"$f":"IF(lammering[[#This Row],[Opfok met kunstmelk]]=\"Ja\",1,0)","v":0},{"$f":"IF(lammering[[#This Row],[geslacht]]=\"O\",1,0)","v":0},{"$f":"IF(lammering[[#This Row],[Speen-datum]]=\"\",\"\",(lammering[[#This Row],[Speen-gewicht]]-lammering[[#This Row],[geboorte-gewicht]])/(lammering[[#This Row],[Speen-datum]]-lammering[[#This Row],[Werp-datum]]))","v":""},{"$f":"IF(lammering[[#This Row],[Verkoop-datum]]=\"\",\"\",(lammering[[#This Row],[Verkoop-gewicht]]-lammering[[#This Row],[Speen-gewicht]])/(lammering[[#This Row],[Verkoop-datum]]-lammering[[#This Row],[Speen-datum]]))","v":""},{"$f":"IF(lammering[[#This Row],[Verkoop-datum]]=\"\",\"\",(lammering[[#This Row],[Verkoop-gewicht]]-lammering[[#This Row],[geboorte-gewicht]])/(lammering[[#This Row],[Verkoop-datum]]-lammering[[#This Row],[Werp-datum]]))","v":""},"","","","","","",{"$f":"IF(lammering[[#This Row],[Verkoop-gewicht]]=\"\",\"\",lammering[[#This Row],[Verkoop-gewicht]]-lammering[[#This Row],[geboorte-gewicht]])","v":""},"",""]
[{"$f":"lammering[[#This Row],[Ooi]]","v":0},0,0,{"$f":"IF(lammering[[#This Row],[Lam-nummer]]=\"\",0,1)","v":0},{"$f":"IF(lammering[[#This Row],[Dood in geboorte]]=\"ja\",1,0)","v":0},{"$f":"IF(lammering[[#This Row],[Ooi]]=\"\",0,IF(Berekeningen!E325=0,1,0))","v":0},{"$f":"IF(D325=0,0,IF(lammering[[#This Row],[Dood in geboorte]]=\"Ja\",0,IF(lammering[[#This Row],[Dood na geboorte]]=\"ja\",0,1)))","v":0},{"$f":"IF(lammering[[#This Row],[Opfok met kunstmelk]]=\"Ja\",1,0)","v":0},{"$f":"IF(lammering[[#This Row],[geslacht]]=\"O\",1,0)","v":0},{"$f":"IF(lammering[[#This Row],[Speen-datum]]=\"\",\"\",(lammering[[#This Row],[Speen-gewicht]]-lammering[[#This Row],[geboorte-gewicht]])/(lammering[[#This Row],[Speen-datum]]-lammering[[#This Row],[Werp-datum]]))","v":""},{"$f":"IF(lammering[[#This Row],[Verkoop-datum]]=\"\",\"\",(lammering[[#This Row],[Verkoop-gewicht]]-lammering[[#This Row],[Speen-gewicht]])/(lammering[[#This Row],[Verkoop-datum]]-lammering[[#This Row],[Speen-datum]]))","v":""},{"$f":"IF(lammering[[#This Row],[Verkoop-datum]]=\"\",\"\",(lammering[[#This Row],[Verkoop-gewicht]]-lammering[[#This Row],[geboorte-gewicht]])/(lammering[[#This Row],[Verkoop-datum]]-lammering[[#This Row],[Werp-datum]]))","v":""},"","","","","","",{"$f":"IF(lammering[[#This Row],[Verkoop-gewicht]]=\"\",\"\",lammering[[#This Row],[Verkoop-gewicht]]-lammering[[#This Row],[geboorte-gewicht]])","v":""},"",""]
[{"$f":"lammering[[#This Row],[Ooi]]","v":0},0,0,{"$f":"IF(lammering[[#This Row],[Lam-nummer]]=\"\",0,1)","v":0},{"$f":"IF(lammering[[#This Row],[Dood in geboorte]]=\"ja\",1,0)","v":0},{"$f":"IF(lammering[[#This Row],[Ooi]]=\"\",0,IF(Berekeningen!E326=0,1,0))","v":0},{"$f":"IF(D326=0,0,IF(lammering[[#This Row],[Dood in geboorte]]=\"Ja\",0,IF(lammering[[#This Row],[Dood na geboorte]]=\"ja\",0,1)))","v":0},{"$f":"IF(lammering[[#This Row],[Opfok met kunstmelk]]=\"Ja\",1,0)","v":0},{"$f":"IF(lammering[[#This Row],[geslacht]]=\"O\",1,0)","v":0},{"$f":"IF(lammering[[#This Row],[Speen-datum]]=\"\",\"\",(lammering[[#This Row],[Speen-gewicht]]-lammering[[#This Row],[geboorte-gewicht]])/(lammering[[#This Row],[Speen-datum]]-lammering[[#This Row],[Werp-datum]]))","v":""},{"$f":"IF(lammering[[#This Row],[Verkoop-datum]]=\"\",\"\",(lammering[[#This Row],[Verkoop-gewicht]]-lammering[[#This Row],[Speen-gewicht]])/(lammering[[#This Row],[Verkoop-datum]]-lammering[[#This Row],[Speen-datum]]))","v":""},{"$f":"IF(lammering[[#This Row],[Verkoop-datum]]=\"\",\"\",(lammering[[#This Row],[Verkoop-gewicht]]-lammering[[#This Row],[geboorte-gewicht]])/(lammering[[#This Row],[Verkoop-datum]]-lammering[[#This Row],[Werp-datum]]))","v":""},"","","","","","",{"$f":"IF(lammering[[#This Row],[Verkoop-gewicht]]=\"\",\"\",lammering[[#This Row],[Verkoop-gewicht]]-lammering[[#This Row],[geboorte-gewicht]])","v":""},"",""]
[{"$f":"lammering[[#This Row],[Ooi]]","v":0},0,0,{"$f":"IF(lammering[[#This Row],[Lam-nummer]]=\"\",0,1)","v":0},{"$f":"IF(lammering[[#This Row],[Dood in geboorte]]=\"ja\",1,0)","v":0},{"$f":"IF(lammering[[#This Row],[Ooi]]=\"\",0,IF(Berekeningen!E327=0,1,0))","v":0},{"$f":"IF(D327=0,0,IF(lammering[[#This Row],[Dood in geboorte]]=\"Ja\",0,IF(lammering[[#This Row],[Dood na geboorte]]=\"ja\",0,1)))","v":0},{"$f":"IF(lammering[[#This Row],[Opfok met kunstmelk]]=\"Ja\",1,0)","v":0},{"$f":"IF(lammering[[#This Row],[geslacht]]=\"O\",1,0)","v":0},{"$f":"IF(lammering[[#This Row],[Speen-datum]]=\"\",\"\",(lammering[[#This Row],[Speen-gewicht]]-lammering[[#This Row],[geboorte-gewicht]])/(lammering[[#This Row],[Speen-datum]]-lammering[[#This Row],[Werp-datum]]))","v":""},{"$f":"IF(lammering[[#This Row],[Verkoop-datum]]=\"\",\"\",(lammering[[#This Row],[Verkoop-gewicht]]-lammering[[#This Row],[Speen-gewicht]])/(lammering[[#This Row],[Verkoop-datum]]-lammering[[#This Row],[Speen-datum]]))","v":""},{"$f":"IF(lammering[[#This Row],[Verkoop-datum]]=\"\",\"\",(lammering[[#This Row],[Verkoop-gewicht]]-lammering[[#This Row],[geboorte-gewicht]])/(lammering[[#This Row],[Verkoop-datum]]-lammering[[#This Row],[Werp-datum]]))","v":""},"","","","","","",{"$f":"IF(lammering[[#This Row],[Verkoop-gewicht]]=\"\",\"\",lammering[[#This Row],[Verkoop-gewicht]]-lammering[[#This Row],[geboorte-gewicht]])","v":""},"",""]
[{"$f":"lammering[[#This Row],[Ooi]]","v":0},0,0,{"$f":"IF(lammering[[#This Row],[Lam-nummer]]=\"\",0,1)","v":0},{"$f":"IF(lammering[[#This Row],[Dood in geboorte]]=\"ja\",1,0)","v":0},{"$f":"IF(lammering[[#This Row],[Ooi]]=\"\",0,IF(Berekeningen!E328=0,1,0))","v":0},{"$f":"IF(D328=0,0,IF(lammering[[#This Row],[Dood in geboorte]]=\"Ja\",0,IF(lammering[[#This Row],[Dood na geboorte]]=\"ja\",0,1)))","v":0},{"$f":"IF(lammering[[#This Row],[Opfok met kunstmelk]]=\"Ja\",1,0)","v":0},{"$f":"IF(lammering[[#This Row],[geslacht]]=\"O\",1,0)","v":0},{"$f":"IF(lammering[[#This Row],[Speen-datum]]=\"\",\"\",(lammering[[#This Row],[Speen-gewicht]]-lammering[[#This Row],[geboorte-gewicht]])/(lammering[[#This Row],[Speen-datum]]-lammering[[#This Row],[Werp-datum]]))","v":""},{"$f":"IF(lammering[[#This Row],[Verkoop-datum]]=\"\",\"\",(lammering[[#This Row],[Verkoop-gewicht]]-lammering[[#This Row],[Speen-gewicht]])/(lammering[[#This Row],[Verkoop-datum]]-lammering[[#This Row],[Speen-datum]]))","v":""},{"$f":"IF(lammering[[#This Row],[Verkoop-datum]]=\"\",\"\",(lammering[[#This Row],[Verkoop-gewicht]]-lammering[[#This Row],[geboorte-gewicht]])/(lammering[[#This Row],[Verkoop-datum]]-lammering[[#This Row],[Werp-datum]]))","v":""},"","","","","","",{"$f":"IF(lammering[[#This Row],[Verkoop-gewicht]]=\"\",\"\",lammering[[#This Row],[Verkoop-gewicht]]-lammering[[#This Row],[geboorte-gewicht]])","v":""},"",""]
[{"$f":"lammering[[#This Row],[Ooi]]","v":0},0,0,{"$f":"IF(lammering[[#This Row],[Lam-nummer]]=\"\",0,1)","v":0},{"$f":"IF(lammering[[#This Row],[Dood in geboorte]]=\"ja\",1,0)","v":0},{"$f":"IF(lammering[[#This Row],[Ooi]]=\"\",0,IF(Berekeningen!E329=0,1,0))","v":0},{"$f":"IF(D329=0,0,IF(lammering[[#This Row],[Dood in geboorte]]=\"Ja\",0,IF(lammering[[#This Row],[Dood na geboorte]]=\"ja\",0,1)))","v":0},{"$f":"IF(lammering[[#This Row],[Opfok met kunstmelk]]=\"Ja\",1,0)","v":0},{"$f":"IF(lammering[[#This Row],[geslacht]]=\"O\",1,0)","v":0},{"$f":"IF(lammering[[#This Row],[Speen-datum]]=\"\",\"\",(lammering[[#This Row],[Speen-gewicht]]-lammering[[#This Row],[geboorte-gewicht]])/(lammering[[#This Row],[Speen-datum]]-lammering[[#This Row],[Werp-datum]]))","v":""},{"$f":"IF(lammering[[#This Row],[Verkoop-datum]]=\"\",\"\",(lammering[[#This Row],[Verkoop-gewicht]]-lammering[[#This Row],[Speen-gewicht]])/(lammering[[#This Row],[Verkoop-datum]]-lammering[[#This Row],[Speen-datum]]))","v":""},{"$f":"IF(lammering[[#This Row],[Verkoop-datum]]=\"\",\"\",(lammering[[#This Row],[Verkoop-gewicht]]-lammering[[#This Row],[geboorte-gewicht]])/(lammering[[#This Row],[Verkoop-datum]]-lammering[[#This Row],[Werp-datum]]))","v":""},"","","","","","",{"$f":"IF(lammering[[#This Row],[Verkoop-gewicht]]=\"\",\"\",lammering[[#This Row],[Verkoop-gewicht]]-lammering[[#This Row],[geboorte-gewicht]])","v":""},"",""]
[{"$f":"lammering[[#This Row],[Ooi]]","v":0},0,0,{"$f":"IF(lammering[[#This Row],[Lam-nummer]]=\"\",0,1)","v":0},{"$f":"IF(lammering[[#This Row],[Dood in geboorte]]=\"ja\",1,0)","v":0},{"$f":"IF(lammering[[#This Row],[Ooi]]=\"\",0,IF(Berekeningen!E330=0,1,0))","v":0},{"$f":"IF(D330=0,0,IF(lammering[[#This Row],[Dood in geboorte]]=\"Ja\",0,IF(lammering[[#This Row],[Dood na geboorte]]=\"ja\",0,1)))","v":0},{"$f":"IF(lammering[[#This Row],[Opfok met kunstmelk]]=\"Ja\",1,0)","v":0},{"$f":"IF(lammering[[#This Row],[geslacht]]=\"O\",1,0)","v":0},{"$f":"IF(lammering[[#This Row],[Speen-datum]]=\"\",\"\",(lammering[[#This Row],[Speen-gewicht]]-lammering[[#This Row],[geboorte-gewicht]])/(lammering[[#This Row],[Speen-datum]]-lammering[[#This Row],[Werp-datum]]))","v":""},{"$f":"IF(lammering[[#This Row],[Verkoop-datum]]=\"\",\"\",(lammering[[#This Row],[Verkoop-gewicht]]-lammering[[#This Row],[Speen-gewicht]])/(lammering[[#This Row],[Verkoop-datum]]-lammering[[#This Row],[Speen-datum]]))","v":""},{"$f":"IF(lammering[[#This Row],[Verkoop-datum]]=\"\",\"\",(lammering[[#This Row],[Verkoop-gewicht]]-lammering[[#This Row],[geboorte-gewicht]])/(lammering[[#This Row],[Verkoop-datum]]-lammering[[#This Row],[Werp-datum]]))","v":""},"","","","","","",{"$f":"IF(lammering[[#This Row],[Verkoop-gewicht]]=\"\",\"\",lammering[[#This Row],[Verkoop-gewicht]]-lammering[[#This Row],[geboorte-gewicht]])","v":""},"",""]
[{"$f":"lammering[[#This Row],[Ooi]]","v":0},0,0,{"$f":"IF(lammering[[#This Row],[Lam-nummer]]=\"\",0,1)","v":0},{"$f":"IF(lammering[[#This Row],[Dood in geboorte]]=\"ja\",1,0)","v":0},{"$f":"IF(lammering[[#This Row],[Ooi]]=\"\",0,IF(Berekeningen!E331=0,1,0))","v":0},{"$f":"IF(D331=0,0,IF(lammering[[#This Row],[Dood in geboorte]]=\"Ja\",0,IF(lammering[[#This Row],[Dood na geboorte]]=\"ja\",0,1)))","v":0},{"$f":"IF(lammering[[#This Row],[Opfok met kunstmelk]]=\"Ja\",1,0)","v":0},{"$f":"IF(lammering[[#This Row],[geslacht]]=\"O\",1,0)","v":0},{"$f":"IF(lammering[[#This Row],[Speen-datum]]=\"\",\"\",(lammering[[#This Row],[Speen-gewicht]]-lammering[[#This Row],[geboorte-gewicht]])/(lammering[[#This Row],[Speen-datum]]-lammering[[#This Row],[Werp-datum]]))","v":""},{"$f":"IF(lammering[[#This Row],[Verkoop-datum]]=\"\",\"\",(lammering[[#This Row],[Verkoop-gewicht]]-lammering[[#This Row],[Speen-gewicht]])/(lammering[[#This Row],[Verkoop-datum]]-lammering[[#This Row],[Speen-datum]]))","v":""},{"$f":"IF(lammering[[#This Row],[Verkoop-datum]]=\"\",\"\",(lammering[[#This Row],[Verkoop-gewicht]]-lammering[[#This Row],[geboorte-gewicht]])/(lammering[[#This Row],[Verkoop-datum]]-lammering[[#This Row],[Werp-datum]]))","v":""},"","","","","","",{"$f":"IF(lammering[[#This Row],[Verkoop-gewicht]]=\"\",\"\",lammering[[#This Row],[Verkoop-gewicht]]-lammering[[#This Row],[geboorte-gewicht]])","v":""},"",""]
[{"$f":"lammering[[#This Row],[Ooi]]","v":0},0,0,{"$f":"IF(lammering[[#This Row],[Lam-nummer]]=\"\",0,1)","v":0},{"$f":"IF(lammering[[#This Row],[Dood in geboorte]]=\"ja\",1,0)","v":0},{"$f":"IF(lammering[[#This Row],[Ooi]]=\"\",0,IF(Berekeningen!E332=0,1,0))","v":0},{"$f":"IF(D332=0,0,IF(lammering[[#This Row],[Dood in geboorte]]=\"Ja\",0,IF(lammering[[#This Row],[Dood na geboorte]]=\"ja\",0,1)))","v":0},{"$f":"IF(lammering[[#This Row],[Opfok met kunstmelk]]=\"Ja\",1,0)","v":0},{"$f":"IF(lammering[[#This Row],[geslacht]]=\"O\",1,0)","v":0},{"$f":"IF(lammering[[#This Row],[Speen-datum]]=\"\",\"\",(lammering[[#This Row],[Speen-gewicht]]-lammering[[#This Row],[geboorte-gewicht]])/(lammering[[#This Row],[Speen-datum]]-lammering[[#This Row],[Werp-datum]]))","v":""},{"$f":"IF(lammering[[#This Row],[Verkoop-datum]]=\"\",\"\",(lammering[[#This Row],[Verkoop-gewicht]]-lammering[[#This Row],[Speen-gewicht]])/(lammering[[#This Row],[Verkoop-datum]]-lammering[[#This Row],[Speen-datum]]))","v":""},{"$f":"IF(lammering[[#This Row],[Verkoop-datum]]=\"\",\"\",(lammering[[#This Row],[Verkoop-gewicht]]-lammering[[#This Row],[geboorte-gewicht]])/(lammering[[#This Row],[Verkoop-datum]]-lammering[[#This Row],[Werp-datum]]))","v":""},"","","","","","",{"$f":"IF(lammering[[#This Row],[Verkoop-gewicht]]=\"\",\"\",lammering[[#This Row],[Verkoop-gewicht]]-lammering[[#This Row],[geboorte-gewicht]])","v":""},"",""]
[{"$f":"lammering[[#This Row],[Ooi]]","v":0},0,0,{"$f":"IF(lammering[[#This Row],[Lam-nummer]]=\"\",0,1)","v":0},{"$f":"IF(lammering[[#This Row],[Dood in geboorte]]=\"ja\",1,0)","v":0},{"$f":"IF(lammering[[#This Row],[Ooi]]=\"\",0,IF(Berekeningen!E333=0,1,0))","v":0},{"$f":"IF(D333=0,0,IF(lammering[[#This Row],[Dood in geboorte]]=\"Ja\",0,IF(lammering[[#This Row],[Dood na geboorte]]=\"ja\",0,1)))","v":0},{"$f":"IF(lammering[[#This Row],[Opfok met kunstmelk]]=\"Ja\",1,0)","v":0},{"$f":"IF(lammering[[#This Row],[geslacht]]=\"O\",1,0)","v":0},{"$f":"IF(lammering[[#This Row],[Speen-datum]]=\"\",\"\",(lammering[[#This Row],[Speen-gewicht]]-lammering[[#This Row],[geboorte-gewicht]])/(lammering[[#This Row],[Speen-datum]]-lammering[[#This Row],[Werp-datum]]))","v":""},{"$f":"IF(lammering[[#This Row],[Verkoop-datum]]=\"\",\"\",(lammering[[#This Row],[Verkoop-gewicht]]-lammering[[#This Row],[Speen-gewicht]])/(lammering[[#This Row],[Verkoop-datum]]-lammering[[#This Row],[Speen-datum]]))","v":""},{"$f":"IF(lammering[[#This Row],[Verkoop-datum]]=\"\",\"\",(lammering[[#This Row],[Verkoop-gewicht]]-lammering[[#This Row],[geboorte-gewicht]])/(lammering[[#This Row],[Verkoop-datum]]-lammering[[#This Row],[Werp-datum]]))","v":""},"","","","","","",{"$f":"IF(lammering[[#This Row],[Verkoop-gewicht]]=\"\",\"\",lammering[[#This Row],[Verkoop-gewicht]]-lammering[[#This Row],[geboorte-gewicht]])","v":""},"",""]
[{"$f":"lammering[[#This Row],[Ooi]]","v":0},0,0,{"$f":"IF(lammering[[#This Row],[Lam-nummer]]=\"\",0,1)","v":0},{"$f":"IF(lammering[[#This Row],[Dood in geboorte]]=\"ja\",1,0)","v":0},{"$f":"IF(lammering[[#This Row],[Ooi]]=\"\",0,IF(Berekeningen!E334=0,1,0))","v":0},{"$f":"IF(D334=0,0,IF(lammering[[#This Row],[Dood in geboorte]]=\"Ja\",0,IF(lammering[[#This Row],[Dood na geboorte]]=\"ja\",0,1)))","v":0},{"$f":"IF(lammering[[#This Row],[Opfok met kunstmelk]]=\"Ja\",1,0)","v":0},{"$f":"IF(lammering[[#This Row],[geslacht]]=\"O\",1,0)","v":0},{"$f":"IF(lammering[[#This Row],[Speen-datum]]=\"\",\"\",(lammering[[#This Row],[Speen-gewicht]]-lammering[[#This Row],[geboorte-gewicht]])/(lammering[[#This Row],[Speen-datum]]-lammering[[#This Row],[Werp-datum]]))","v":""},{"$f":"IF(lammering[[#This Row],[Verkoop-datum]]=\"\",\"\",(lammering[[#This Row],[Verkoop-gewicht]]-lammering[[#This Row],[Speen-gewicht]])/(lammering[[#This Row],[Verkoop-datum]]-lammering[[#This Row],[Speen-datum]]))","v":""},{"$f":"IF(lammering[[#This Row],[Verkoop-datum]]=\"\",\"\",(lammering[[#This Row],[Verkoop-gewicht]]-lammering[[#This Row],[geboorte-gewicht]])/(lammering[[#This Row],[Verkoop-datum]]-lammering[[#This Row],[Werp-datum]]))","v":""},"","","","","","",{"$f":"IF(lammering[[#This Row],[Verkoop-gewicht]]=\"\",\"\",lammering[[#This Row],[Verkoop-gewicht]]-lammering[[#This Row],[geboorte-gewicht]])","v":""},"",""]
[{"$f":"lammering[[#This Row],[Ooi]]","v":0},0,0,{"$f":"IF(lammering[[#This Row],[Lam-nummer]]=\"\",0,1)","v":0},{"$f":"IF(lammering[[#This Row],[Dood in geboorte]]=\"ja\",1,0)","v":0},{"$f":"IF(lammering[[#This Row],[Ooi]]=\"\",0,IF(Berekeningen!E335=0,1,0))","v":0},{"$f":"IF(D335=0,0,IF(lammering[[#This Row],[Dood in geboorte]]=\"Ja\",0,IF(lammering[[#This Row],[Dood na geboorte]]=\"ja\",0,1)))","v":0},{"$f":"IF(lammering[[#This Row],[Opfok met kunstmelk]]=\"Ja\",1,0)","v":0},{"$f":"IF(lammering[[#This Row],[geslacht]]=\"O\",1,0)","v":0},{"$f":"IF(lammering[[#This Row],[Speen-datum]]=\"\",\"\",(lammering[[#This Row],[Speen-gewicht]]-lammering[[#This Row],[geboorte-gewicht]])/(lammering[[#This Row],[Speen-datum]]-lammering[[#This Row],[Werp-datum]]))","v":""},{"$f":"IF(lammering[[#This Row],[Verkoop-datum]]=\"\",\"\",(lammering[[#This Row],[Verkoop-gewicht]]-lammering[[#This Row],[Speen-gewicht]])/(lammering[[#This Row],[Verkoop-datum]]-lammering[[#This Row],[Speen-datum]]))","v":""},{"$f":"IF(lammering[[#This Row],[Verkoop-datum]]=\"\",\"\",(lammering[[#This Row],[Verkoop-gewicht]]-lammering[[#This Row],[geboorte-gewicht]])/(lammering[[#This Row],[Verkoop-datum]]-lammering[[#This Row],[Werp-datum]]))","v":""},{"$f":"IF($I335=1,J335,\"\")","v":""},{"$f":"IF($I335=1,K335,\"\")","v":""},{"$f":"IF($I335=1,L335,\"\")","v":""},{"$f":"IF($I335=0,J335,\"\")","v":""},{"$f":"IF($I335=0,K335,\"\")","v":""},{"$f":"IF($I335=0,L335,\"\")","v":""},{"$f":"IF(lammering[[#This Row],[Verkoop-gewicht]]=\"\",\"\",lammering[[#This Row],[Verkoop-gewicht]]-lammering[[#This Row],[geboorte-gewicht]])","v":""},{"$f":"IF(I335=1,S335,\"\")","v":""},{"$f":"IF(I335=0,S335,\"\")","v":""}]
[{"$f":"lammering[[#This Row],[Ooi]]","v":0},0,0,{"$f":"IF(lammering[[#This Row],[Lam-nummer]]=\"\",0,1)","v":0},{"$f":"IF(lammering[[#This Row],[Dood in geboorte]]=\"ja\",1,0)","v":0},{"$f":"IF(lammering[[#This Row],[Ooi]]=\"\",0,IF(Berekeningen!E336=0,1,0))","v":0},{"$f":"IF(D336=0,0,IF(lammering[[#This Row],[Dood in geboorte]]=\"Ja\",0,IF(lammering[[#This Row],[Dood na geboorte]]=\"ja\",0,1)))","v":0},{"$f":"IF(lammering[[#This Row],[Opfok met kunstmelk]]=\"Ja\",1,0)","v":0},{"$f":"IF(lammering[[#This Row],[geslacht]]=\"O\",1,0)","v":0},{"$f":"IF(lammering[[#This Row],[Speen-datum]]=\"\",\"\",(lammering[[#This Row],[Speen-gewicht]]-lammering[[#This Row],[geboorte-gewicht]])/(lammering[[#This Row],[Speen-datum]]-lammering[[#This Row],[Werp-datum]]))","v":""},{"$f":"IF(lammering[[#This Row],[Verkoop-datum]]=\"\",\"\",(lammering[[#This Row],[Verkoop-gewicht]]-lammering[[#This Row],[Speen-gewicht]])/(lammering[[#This Row],[Verkoop-datum]]-lammering[[#This Row],[Speen-datum]]))","v":""},{"$f":"IF(lammering[[#This Row],[Verkoop-datum]]=\"\",\"\",(lammering[[#This Row],[Verkoop-gewicht]]-lammering[[#This Row],[geboorte-gewicht]])/(lammering[[#This Row],[Verkoop-datum]]-lammering[[#This Row],[Werp-datum]]))","v":""},"","","","","","",{"$f":"IF(lammering[[#This Row],[Verkoop-gewicht]]=\"\",\"\",lammering[[#This Row],[Verkoop-gewicht]]-lammering[[#This Row],[geboorte-gewicht]])","v":""},"",""]
[{"$f":"lammering[[#This Row],[Ooi]]","v":0},0,0,{"$f":"IF(lammering[[#This Row],[Lam-nummer]]=\"\",0,1)","v":0},{"$f":"IF(lammering[[#This Row],[Dood in geboorte]]=\"ja\",1,0)","v":0},{"$f":"IF(lammering[[#This Row],[Ooi]]=\"\",0,IF(Berekeningen!E337=0,1,0))","v":0},{"$f":"IF(D337=0,0,IF(lammering[[#This Row],[Dood in geboorte]]=\"Ja\",0,IF(lammering[[#This Row],[Dood na geboorte]]=\"ja\",0,1)))","v":0},{"$f":"IF(lammering[[#This Row],[Opfok met kunstmelk]]=\"Ja\",1,0)","v":0},{"$f":"IF(lammering[[#This Row],[geslacht]]=\"O\",1,0)","v":0},{"$f":"IF(lammering[[#This Row],[Speen-datum]]=\"\",\"\",(lammering[[#This Row],[Speen-gewicht]]-lammering[[#This Row],[geboorte-gewicht]])/(lammering[[#This Row],[Speen-datum]]-lammering[[#This Row],[Werp-datum]]))","v":""},{"$f":"IF(lammering[[#This Row],[Verkoop-datum]]=\"\",\"\",(lammering[[#This Row],[Verkoop-gewicht]]-lammering[[#This Row],[Speen-gewicht]])/(lammering[[#This Row],[Verkoop-datum]]-lammering[[#This Row],[Speen-datum]]))","v":""},{"$f":"IF(lammering[[#This Row],[Verkoop-datum]]=\"\",\"\",(lammering[[#This Row],[Verkoop-gewicht]]-lammering[[#This Row],[geboorte-gewicht]])/(lammering[[#This Row],[Verkoop-datum]]-lammering[[#This Row],[Werp-datum]]))","v":""},"","","","","","",{"$f":"IF(lammering[[#This Row],[Verkoop-gewicht]]=\"\",\"\",lammering[[#This Row],[Verkoop-gewicht]]-lammering[[#This Row],[geboorte-gewicht]])","v":""},"",""]
[{"$f":"lammering[[#This Row],[Ooi]]","v":0},0,0,{"$f":"IF(lammering[[#This Row],[Lam-nummer]]=\"\",0,1)","v":0},{"$f":"IF(lammering[[#This Row],[Dood in geboorte]]=\"ja\",1,0)","v":0},{"$f":"IF(lammering[[#This Row],[Ooi]]=\"\",0,IF(Berekeningen!E338=0,1,0))","v":0},{"$f":"IF(D338=0,0,IF(lammering[[#This Row],[Dood in geboorte]]=\"Ja\",0,IF(lammering[[#This Row],[Dood na geboorte]]=\"ja\",0,1)))","v":0},{"$f":"IF(lammering[[#This Row],[Opfok met kunstmelk]]=\"Ja\",1,0)","v":0},{"$f":"IF(lammering[[#This Row],[geslacht]]=\"O\",1,0)","v":0},{"$f":"IF(lammering[[#This Row],[Speen-datum]]=\"\",\"\",(lammering[[#This Row],[Speen-gewicht]]-lammering[[#This Row],[geboorte-gewicht]])/(lammering[[#This Row],[Speen-datum]]-lammering[[#This Row],[Werp-datum]]))","v":""},{"$f":"IF(lammering[[#This Row],[Verkoop-datum]]=\"\",\"\",(lammering[[#This Row],[Verkoop-gewicht]]-lammering[[#This Row],[Speen-gewicht]])/(lammering[[#This Row],[Verkoop-datum]]-lammering[[#This Row],[Speen-datum]]))","v":""},{"$f":"IF(lammering[[#This Row],[Verkoop-datum]]=\"\",\"\",(lammering[[#This Row],[Verkoop-gewicht]]-lammering[[#This Row],[geboorte-gewicht]])/(lammering[[#This Row],[Verkoop-datum]]-lammering[[#This Row],[Werp-datum]]))","v":""},"","","","","","",{"$f":"IF(lammering[[#This Row],[Verkoop-gewicht]]=\"\",\"\",lammering[[#This Row],[Verkoop-gewicht]]-lammering[[#This Row],[geboorte-gewicht]])","v":""},"",""]
[{"$f":"lammering[[#This Row],[Ooi]]","v":0},0,0,{"$f":"IF(lammering[[#This Row],[Lam-nummer]]=\"\",0,1)","v":0},{"$f":"IF(lammering[[#This Row],[Dood in geboorte]]=\"ja\",1,0)","v":0},{"$f":"IF(lammering[[#This Row],[Ooi]]=\"\",0,IF(Berekeningen!E339=0,1,0))","v":0},{"$f":"IF(D339=0,0,IF(lammering[[#This Row],[Dood in geboorte]]=\"Ja\",0,IF(lammering[[#This Row],[Dood na geboorte]]=\"ja\",0,1)))","v":0},{"$f":"IF(lammering[[#This Row],[Opfok met kunstmelk]]=\"Ja\",1,0)","v":0},{"$f":"IF(lammering[[#This Row],[geslacht]]=\"O\",1,0)","v":0},{"$f":"IF(lammering[[#This Row],[Speen-datum]]=\"\",\"\",(lammering[[#This Row],[Speen-gewicht]]-lammering[[#This Row],[geboorte-gewicht]])/(lammering[[#This Row],[Speen-datum]]-lammering[[#This Row],[Werp-datum]]))","v":""},{"$f":"IF(lammering[[#This Row],[Verkoop-datum]]=\"\",\"\",(lammering[[#This Row],[Verkoop-gewicht]]-lammering[[#This Row],[Speen-gewicht]])/(lammering[[#This Row],[Verkoop-datum]]-lammering[[#This Row],[Speen-datum]]))","v":""},{"$f":"IF(lammering[[#This Row],[Verkoop-datum]]=\"\",\"\",(lammering[[#This Row],[Verkoop-gewicht]]-lammering[[#This Row],[geboorte-gewicht]])/(lammering[[#This Row],[Verkoop-datum]]-lammering[[#This Row],[Werp-datum]]))","v":""},"","","","","","",{"$f":"IF(lammering[[#This Row],[Verkoop-gewicht]]=\"\",\"\",lammering[[#This Row],[Verkoop-gewicht]]-lammering[[#This Row],[geboorte-gewicht]])","v":""},"",""]
[{"$f":"lammering[[#This Row],[Ooi]]","v":0},0,0,{"$f":"IF(lammering[[#This Row],[Lam-nummer]]=\"\",0,1)","v":0},{"$f":"IF(lammering[[#This Row],[Dood in geboorte]]=\"ja\",1,0)","v":0},{"$f":"IF(lammering[[#This Row],[Ooi]]=\"\",0,IF(Berekeningen!E340=0,1,0))","v":0},{"$f":"IF(D340=0,0,IF(lammering[[#This Row],[Dood in geboorte]]=\"Ja\",0,IF(lammering[[#This Row],[Dood na geboorte]]=\"ja\",0,1)))","v":0},{"$f":"IF(lammering[[#This Row],[Opfok met kunstmelk]]=\"Ja\",1,0)","v":0},{"$f":"IF(lammering[[#This Row],[geslacht]]=\"O\",1,0)","v":0},{"$f":"IF(lammering[[#This Row],[Speen-datum]]=\"\",\"\",(lammering[[#This Row],[Speen-gewicht]]-lammering[[#This Row],[geboorte-gewicht]])/(lammering[[#This Row],[Speen-datum]]-lammering[[#This Row],[Werp-datum]]))","v":""},{"$f":"IF(lammering[[#This Row],[Verkoop-datum]]=\"\",\"\",(lammering[[#This Row],[Verkoop-gewicht]]-lammering[[#This Row],[Speen-gewicht]])/(lammering[[#This Row],[Verkoop-datum]]-lammering[[#This Row],[Speen-datum]]))","v":""},{"$f":"IF(lammering[[#This Row],[Verkoop-datum]]=\"\",\"\",(lammering[[#This Row],[Verkoop-gewicht]]-lammering[[#This Row],[geboorte-gewicht]])/(lammering[[#This Row],[Verkoop-datum]]-lammering[[#This Row],[Werp-datum]]))","v":""},"","","","","","",{"$f":"IF(lammering[[#This Row],[Verkoop-gewicht]]=\"\",\"\",lammering[[#This Row],[Verkoop-gewicht]]-lammering[[#This Row],[geboorte-gewicht]])","v":""},"",""]
[{"$f":"lammering[[#This Row],[Ooi]]","v":0},0,0,{"$f":"IF(lammering[[#This Row],[Lam-nummer]]=\"\",0,1)","v":0},{"$f":"IF(lammering[[#This Row],[Dood in geboorte]]=\"ja\",1,0)","v":0},{"$f":"IF(lammering[[#This Row],[Ooi]]=\"\",0,IF(Berekeningen!E341=0,1,0))","v":0},{"$f":"IF(D341=0,0,IF(lammering[[#This Row],[Dood in geboorte]]=\"Ja\",0,IF(lammering[[#This Row],[Dood na geboorte]]=\"ja\",0,1)))","v":0},{"$f":"IF(lammering[[#This Row],[Opfok met kunstmelk]]=\"Ja\",1,0)","v":0},{"$f":"IF(lammering[[#This Row],[geslacht]]=\"O\",1,0)","v":0},{"$f":"IF(lammering[[#This Row],[Speen-datum]]=\"\",\"\",(lammering[[#This Row],[Speen-gewicht]]-lammering[[#This Row],[geboorte-gewicht]])/(lammering[[#This Row],[Speen-datum]]-lammering[[#This Row],[Werp-datum]]))","v":""},{"$f":"IF(lammering[[#This Row],[Verkoop-datum]]=\"\",\"\",(lammering[[#This Row],[Verkoop-gewicht]]-lammering[[#This Row],[Speen-gewicht]])/(lammering[[#This Row],[Verkoop-datum]]-lammering[[#This Row],[Speen-datum]]))","v":""},{"$f":"IF(lammering[[#This Row],[Verkoop-datum]]=\"\",\"\",(lammering[[#This Row],[Verkoop-gewicht]]-lammering[[#This Row],[geboorte-gewicht]])/(lammering[[#This Row],[Verkoop-datum]]-lammering[[#This Row],[Werp-datum]]))","v":""},"","","","","","",{"$f":"IF(lammering[[#This Row],[Verkoop-gewicht]]=\"\",\"\",lammering[[#This Row],[Verkoop-gewicht]]-lammering[[#This Row],[geboorte-gewicht]])","v":""},"",""]
[{"$f":"lammering[[#This Row],[Ooi]]","v":0},0,0,{"$f":"IF(lammering[[#This Row],[Lam-nummer]]=\"\",0,1)","v":0},{"$f":"IF(lammering[[#This Row],[Dood in geboorte]]=\"ja\",1,0)","v":0},{"$f":"IF(lammering[[#This Row],[Ooi]]=\"\",0,IF(Berekeningen!E342=0,1,0))","v":0},{"$f":"IF(D342=0,0,IF(lammering[[#This Row],[Dood in geboorte]]=\"Ja\",0,IF(lammering[[#This Row],[Dood na geboorte]]=\"ja\",0,1)))","v":0},{"$f":"IF(lammering[[#This Row],[Opfok met kunstmelk]]=\"Ja\",1,0)","v":0},{"$f":"IF(lammering[[#This Row],[geslacht]]=\"O\",1,0)","v":0},{"$f":"IF(lammering[[#This Row],[Speen-datum]]=\"\",\"\",(lammering[[#This Row],[Speen-gewicht]]-lammering[[#This Row],[geboorte-gewicht]])/(lammering[[#This Row],[Speen-datum]]-lammering[[#This Row],[Werp-datum]]))","v":""},{"$f":"IF(lammering[[#This Row],[Verkoop-datum]]=\"\",\"\",(lammering[[#This Row],[Verkoop-gewicht]]-lammering[[#This Row],[Speen-gewicht]])/(lammering[[#This Row],[Verkoop-datum]]-lammering[[#This Row],[Speen-datum]]))","v":""},{"$f":"IF(lammering[[#This Row],[Verkoop-datum]]=\"\",\"\",(lammering[[#This Row],[Verkoop-gewicht]]-lammering[[#This Row],[geboorte-gewicht]])/(lammering[[#This Row],[Verkoop-datum]]-lammering[[#This Row],[Werp-datum]]))","v":""},"","","","","","",{"$f":"IF(lammering[[#This Row],[Verkoop-gewicht]]=\"\",\"\",lammering[[#This Row],[Verkoop-gewicht]]-lammering[[#This Row],[geboorte-gewicht]])","v":""},"",""]
[{"$f":"lammering[[#This Row],[Ooi]]","v":0},0,0,{"$f":"IF(lammering[[#This Row],[Lam-nummer]]=\"\",0,1)","v":0},{"$f":"IF(lammering[[#This Row],[Dood in geboorte]]=\"ja\",1,0)","v":0},{"$f":"IF(lammering[[#This Row],[Ooi]]=\"\",0,IF(Berekeningen!E343=0,1,0))","v":0},{"$f":"IF(D343=0,0,IF(lammering[[#This Row],[Dood in geboorte]]=\"Ja\",0,IF(lammering[[#This Row],[Dood na geboorte]]=\"ja\",0,1)))","v":0},{"$f":"IF(lammering[[#This Row],[Opfok met kunstmelk]]=\"Ja\",1,0)","v":0},{"$f":"IF(lammering[[#This Row],[geslacht]]=\"O\",1,0)","v":0},{"$f":"IF(lammering[[#This Row],[Speen-datum]]=\"\",\"\",(lammering[[#This Row],[Speen-gewicht]]-lammering[[#This Row],[geboorte-gewicht]])/(lammering[[#This Row],[Speen-datum]]-lammering[[#This Row],[Werp-datum]]))","v":""},{"$f":"IF(lammering[[#This Row],[Verkoop-datum]]=\"\",\"\",(lammering[[#This Row],[Verkoop-gewicht]]-lammering[[#This Row],[Speen-gewicht]])/(lammering[[#This Row],[Verkoop-datum]]-lammering[[#This Row],[Speen-datum]]))","v":""},{"$f":"IF(lammering[[#This Row],[Verkoop-datum]]=\"\",\"\",(lammering[[#This Row],[Verkoop-gewicht]]-lammering[[#This Row],[geboorte-gewicht]])/(lammering[[#This Row],[Verkoop-datum]]-lammering[[#This Row],[Werp-datum]]))","v":""},"","","","","","",{"$f":"IF(lammering[[#This Row],[Verkoop-gewicht]]=\"\",\"\",lammering[[#This Row],[Verkoop-gewicht]]-lammering[[#This Row],[geboorte-gewicht]])","v":""},"",""]
[{"$f":"lammering[[#This Row],[Ooi]]","v":0},0,0,{"$f":"IF(lammering[[#This Row],[Lam-nummer]]=\"\",0,1)","v":0},{"$f":"IF(lammering[[#This Row],[Dood in geboorte]]=\"ja\",1,0)","v":0},{"$f":"IF(lammering[[#This Row],[Ooi]]=\"\",0,IF(Berekeningen!E344=0,1,0))","v":0},{"$f":"IF(D344=0,0,IF(lammering[[#This Row],[Dood in geboorte]]=\"Ja\",0,IF(lammering[[#This Row],[Dood na geboorte]]=\"ja\",0,1)))","v":0},{"$f":"IF(lammering[[#This Row],[Opfok met kunstmelk]]=\"Ja\",1,0)","v":0},{"$f":"IF(lammering[[#This Row],[geslacht]]=\"O\",1,0)","v":0},{"$f":"IF(lammering[[#This Row],[Speen-datum]]=\"\",\"\",(lammering[[#This Row],[Speen-gewicht]]-lammering[[#This Row],[geboorte-gewicht]])/(lammering[[#This Row],[Speen-datum]]-lammering[[#This Row],[Werp-datum]]))","v":""},{"$f":"IF(lammering[[#This Row],[Verkoop-datum]]=\"\",\"\",(lammering[[#This Row],[Verkoop-gewicht]]-lammering[[#This Row],[Speen-gewicht]])/(lammering[[#This Row],[Verkoop-datum]]-lammering[[#This Row],[Speen-datum]]))","v":""},{"$f":"IF(lammering[[#This Row],[Verkoop-datum]]=\"\",\"\",(lammering[[#This Row],[Verkoop-gewicht]]-lammering[[#This Row],[geboorte-gewicht]])/(lammering[[#This Row],[Verkoop-datum]]-lammering[[#This Row],[Werp-datum]]))","v":""},"","","","","","",{"$f":"IF(lammering[[#This Row],[Verkoop-gewicht]]=\"\",\"\",lammering[[#This Row],[Verkoop-gewicht]]-lammering[[#This Row],[geboorte-gewicht]])","v":""},"",""]
[{"$f":"lammering[[#This Row],[Ooi]]","v":0},0,0,{"$f":"IF(lammering[[#This Row],[Lam-nummer]]=\"\",0,1)","v":0},{"$f":"IF(lammering[[#This Row],[Dood in geboorte]]=\"ja\",1,0)","v":0},{"$f":"IF(lammering[[#This Row],[Ooi]]=\"\",0,IF(Berekeningen!E345=0,1,0))","v":0},{"$f":"IF(D345=0,0,IF(lammering[[#This Row],[Dood in geboorte]]=\"Ja\",0,IF(lammering[[#This Row],[Dood na geboorte]]=\"ja\",0,1)))","v":0},{"$f":"IF(lammering[[#This Row],[Opfok met kunstmelk]]=\"Ja\",1,0)","v":0},{"$f":"IF(lammering[[#This Row],[geslacht]]=\"O\",1,0)","v":0},{"$f":"IF(lammering[[#This Row],[Speen-datum]]=\"\",\"\",(lammering[[#This Row],[Speen-gewicht]]-lammering[[#This Row],[geboorte-gewicht]])/(lammering[[#This Row],[Speen-datum]]-lammering[[#This Row],[Werp-datum]]))","v":""},{"$f":"IF(lammering[[#This Row],[Verkoop-datum]]=\"\",\"\",(lammering[[#This Row],[Verkoop-gewicht]]-lammering[[#This Row],[Speen-gewicht]])/(lammering[[#This Row],[Verkoop-datum]]-lammering[[#This Row],[Speen-datum]]))","v":""},{"$f":"IF(lammering[[#This Row],[Verkoop-datum]]=\"\",\"\",(lammering[[#This Row],[Verkoop-gewicht]]-lammering[[#This Row],[geboorte-gewicht]])/(lammering[[#This Row],[Verkoop-datum]]-lammering[[#This Row],[Werp-datum]]))","v":""},"","","","","","",{"$f":"IF(lammering[[#This Row],[Verkoop-gewicht]]=\"\",\"\",lammering[[#This Row],[Verkoop-gewicht]]-lammering[[#This Row],[geboorte-gewicht]])","v":""},"",""]
[{"$f":"lammering[[#This Row],[Ooi]]","v":0},0,0,{"$f":"IF(lammering[[#This Row],[Lam-nummer]]=\"\",0,1)","v":0},{"$f":"IF(lammering[[#This Row],[Dood in geboorte]]=\"ja\",1,0)","v":0},{"$f":"IF(lammering[[#This Row],[Ooi]]=\"\",0,IF(Berekeningen!E346=0,1,0))","v":0},{"$f":"IF(D346=0,0,IF(lammering[[#This Row],[Dood in geboorte]]=\"Ja\",0,IF(lammering[[#This Row],[Dood na geboorte]]=\"ja\",0,1)))","v":0},{"$f":"IF(lammering[[#This Row],[Opfok met kunstmelk]]=\"Ja\",1,0)","v":0},{"$f":"IF(lammering[[#This Row],[geslacht]]=\"O\",1,0)","v":0},{"$f":"IF(lammering[[#This Row],[Speen-datum]]=\"\",\"\",(lammering[[#This Row],[Speen-gewicht]]-lammering[[#This Row],[geboorte-gewicht]])/(lammering[[#This Row],[Speen-datum]]-lammering[[#This Row],[Werp-datum]]))","v":""},{"$f":"IF(lammering[[#This Row],[Verkoop-datum]]=\"\",\"\",(lammering[[#This Row],[Verkoop-gewicht]]-lammering[[#This Row],[Speen-gewicht]])/(lammering[[#This Row],[Verkoop-datum]]-lammering[[#This Row],[Speen-datum]]))","v":""},{"$f":"IF(lammering[[#This Row],[Verkoop-datum]]=\"\",\"\",(lammering[[#This Row],[Verkoop-gewicht]]-lammering[[#This Row],[geboorte-gewicht]])/(lammering[[#This Row],[Verkoop-datum]]-lammering[[#This Row],[Werp-datum]]))","v":""},"","","","","","",{"$f":"IF(lammering[[#This Row],[Verkoop-gewicht]]=\"\",\"\",lammering[[#This Row],[Verkoop-gewicht]]-lammering[[#This Row],[geboorte-gewicht]])","v":""},"",""]
[{"$f":"lammering[[#This Row],[Ooi]]","v":0},0,0,{"$f":"IF(lammering[[#This Row],[Lam-nummer]]=\"\",0,1)","v":0},{"$f":"IF(lammering[[#This Row],[Dood in geboorte]]=\"ja\",1,0)","v":0},{"$f":"IF(lammering[[#This Row],[Ooi]]=\"\",0,IF(Berekeningen!E347=0,1,0))","v":0},{"$f":"IF(D347=0,0,IF(lammering[[#This Row],[Dood in geboorte]]=\"Ja\",0,IF(lammering[[#This Row],[Dood na geboorte]]=\"ja\",0,1)))","v":0},{"$f":"IF(lammering[[#This Row],[Opfok met kunstmelk]]=\"Ja\",1,0)","v":0},{"$f":"IF(lammering[[#This Row],[geslacht]]=\"O\",1,0)","v":0},{"$f":"IF(lammering[[#This Row],[Speen-datum]]=\"\",\"\",(lammering[[#This Row],[Speen-gewicht]]-lammering[[#This Row],[geboorte-gewicht]])/(lammering[[#This Row],[Speen-datum]]-lammering[[#This Row],[Werp-datum]]))","v":""},{"$f":"IF(lammering[[#This Row],[Verkoop-datum]]=\"\",\"\",(lammering[[#This Row],[Verkoop-gewicht]]-lammering[[#This Row],[Speen-gewicht]])/(lammering[[#This Row],[Verkoop-datum]]-lammering[[#This Row],[Speen-datum]]))","v":""},{"$f":"IF(lammering[[#This Row],[Verkoop-datum]]=\"\",\"\",(lammering[[#This Row],[Verkoop-gewicht]]-lammering[[#This Row],[geboorte-gewicht]])/(lammering[[#This Row],[Verkoop-datum]]-lammering[[#This Row],[Werp-datum]]))","v":""},"","","","","","",{"$f":"IF(lammering[[#This Row],[Verkoop-gewicht]]=\"\",\"\",lammering[[#This Row],[Verkoop-gewicht]]-lammering[[#This Row],[geboorte-gewicht]])","v":""},"",""]
[{"$f":"lammering[[#This Row],[Ooi]]","v":0},0,0,{"$f":"IF(lammering[[#This Row],[Lam-nummer]]=\"\",0,1)","v":0},{"$f":"IF(lammering[[#This Row],[Dood in geboorte]]=\"ja\",1,0)","v":0},{"$f":"IF(lammering[[#This Row],[Ooi]]=\"\",0,IF(Berekeningen!E348=0,1,0))","v":0},{"$f":"IF(D348=0,0,IF(lammering[[#This Row],[Dood in geboorte]]=\"Ja\",0,IF(lammering[[#This Row],[Dood na geboorte]]=\"ja\",0,1)))","v":0},{"$f":"IF(lammering[[#This Row],[Opfok met kunstmelk]]=\"Ja\",1,0)","v":0},{"$f":"IF(lammering[[#This Row],[geslacht]]=\"O\",1,0)","v":0},{"$f":"IF(lammering[[#This Row],[Speen-datum]]=\"\",\"\",(lammering[[#This Row],[Speen-gewicht]]-lammering[[#This Row],[geboorte-gewicht]])/(lammering[[#This Row],[Speen-datum]]-lammering[[#This Row],[Werp-datum]]))","v":""},{"$f":"IF(lammering[[#This Row],[Verkoop-datum]]=\"\",\"\",(lammering[[#This Row],[Verkoop-gewicht]]-lammering[[#This Row],[Speen-gewicht]])/(lammering[[#This Row],[Verkoop-datum]]-lammering[[#This Row],[Speen-datum]]))","v":""},{"$f":"IF(lammering[[#This Row],[Verkoop-datum]]=\"\",\"\",(lammering[[#This Row],[Verkoop-gewicht]]-lammering[[#This Row],[geboorte-gewicht]])/(lammering[[#This Row],[Verkoop-datum]]-lammering[[#This Row],[Werp-datum]]))","v":""},"","","","","","",{"$f":"IF(lammering[[#This Row],[Verkoop-gewicht]]=\"\",\"\",lammering[[#This Row],[Verkoop-gewicht]]-lammering[[#This Row],[geboorte-gewicht]])","v":""},"",""]
[{"$f":"lammering[[#This Row],[Ooi]]","v":0},0,0,{"$f":"IF(lammering[[#This Row],[Lam-nummer]]=\"\",0,1)","v":0},{"$f":"IF(lammering[[#This Row],[Dood in geboorte]]=\"ja\",1,0)","v":0},{"$f":"IF(lammering[[#This Row],[Ooi]]=\"\",0,IF(Berekeningen!E349=0,1,0))","v":0},{"$f":"IF(D349=0,0,IF(lammering[[#This Row],[Dood in geboorte]]=\"Ja\",0,IF(lammering[[#This Row],[Dood na geboorte]]=\"ja\",0,1)))","v":0},{"$f":"IF(lammering[[#This Row],[Opfok met kunstmelk]]=\"Ja\",1,0)","v":0},{"$f":"IF(lammering[[#This Row],[geslacht]]=\"O\",1,0)","v":0},{"$f":"IF(lammering[[#This Row],[Speen-datum]]=\"\",\"\",(lammering[[#This Row],[Speen-gewicht]]-lammering[[#This Row],[geboorte-gewicht]])/(lammering[[#This Row],[Speen-datum]]-lammering[[#This Row],[Werp-datum]]))","v":""},{"$f":"IF(lammering[[#This Row],[Verkoop-datum]]=\"\",\"\",(lammering[[#This Row],[Verkoop-gewicht]]-lammering[[#This Row],[Speen-gewicht]])/(lammering[[#This Row],[Verkoop-datum]]-lammering[[#This Row],[Speen-datum]]))","v":""},{"$f":"IF(lammering[[#This Row],[Verkoop-datum]]=\"\",\"\",(lammering[[#This Row],[Verkoop-gewicht]]-lammering[[#This Row],[geboorte-gewicht]])/(lammering[[#This Row],[Verkoop-datum]]-lammering[[#This Row],[Werp-datum]]))","v":""},"","","","","","",{"$f":"IF(lammering[[#This Row],[Verkoop-gewicht]]=\"\",\"\",lammering[[#This Row],[Verkoop-gewicht]]-lammering[[#This Row],[geboorte-gewicht]])","v":""},"",""]
[{"$f":"lammering[[#This Row],[Ooi]]","v":0},0,0,{"$f":"IF(lammering[[#This Row],[Lam-nummer]]=\"\",0,1)","v":0},{"$f":"IF(lammering[[#This Row],[Dood in geboorte]]=\"ja\",1,0)","v":0},{"$f":"IF(lammering[[#This Row],[Ooi]]=\"\",0,IF(Berekeningen!E350=0,1,0))","v":0},{"$f":"IF(D350=0,0,IF(lammering[[#This Row],[Dood in geboorte]]=\"Ja\",0,IF(lammering[[#This Row],[Dood na geboorte]]=\"ja\",0,1)))","v":0},{"$f":"IF(lammering[[#This Row],[Opfok met kunstmelk]]=\"Ja\",1,0)","v":0},{"$f":"IF(lammering[[#This Row],[geslacht]]=\"O\",1,0)","v":0},{"$f":"IF(lammering[[#This Row],[Speen-datum]]=\"\",\"\",(lammering[[#This Row],[Speen-gewicht]]-lammering[[#This Row],[geboorte-gewicht]])/(lammering[[#This Row],[Speen-datum]]-lammering[[#This Row],[Werp-datum]]))","v":""},{"$f":"IF(lammering[[#This Row],[Verkoop-datum]]=\"\",\"\",(lammering[[#This Row],[Verkoop-gewicht]]-lammering[[#This Row],[Speen-gewicht]])/(lammering[[#This Row],[Verkoop-datum]]-lammering[[#This Row],[Speen-datum]]))","v":""},{"$f":"IF(lammering[[#This Row],[Verkoop-datum]]=\"\",\"\",(lammering[[#This Row],[Verkoop-gewicht]]-lammering[[#This Row],[geboorte-gewicht]])/(lammering[[#This Row],[Verkoop-datum]]-lammering[[#This Row],[Werp-datum]]))","v":""},"","","","","","",{"$f":"IF(lammering[[#This Row],[Verkoop-gewicht]]=\"\",\"\",lammering[[#This Row],[Verkoop-gewicht]]-lammering[[#This Row],[geboorte-gewicht]])","v":""},"",""]
[{"$f":"lammering[[#This Row],[Ooi]]","v":0},0,0,{"$f":"IF(lammering[[#This Row],[Lam-nummer]]=\"\",0,1)","v":0},{"$f":"IF(lammering[[#This Row],[Dood in geboorte]]=\"ja\",1,0)","v":0},{"$f":"IF(lammering[[#This Row],[Ooi]]=\"\",0,IF(Berekeningen!E351=0,1,0))","v":0},{"$f":"IF(D351=0,0,IF(lammering[[#This Row],[Dood in geboorte]]=\"Ja\",0,IF(lammering[[#This Row],[Dood na geboorte]]=\"ja\",0,1)))","v":0},{"$f":"IF(lammering[[#This Row],[Opfok met kunstmelk]]=\"Ja\",1,0)","v":0},{"$f":"IF(lammering[[#This Row],[geslacht]]=\"O\",1,0)","v":0},{"$f":"IF(lammering[[#This Row],[Speen-datum]]=\"\",\"\",(lammering[[#This Row],[Speen-gewicht]]-lammering[[#This Row],[geboorte-gewicht]])/(lammering[[#This Row],[Speen-datum]]-lammering[[#This Row],[Werp-datum]]))","v":""},{"$f":"IF(lammering[[#This Row],[Verkoop-datum]]=\"\",\"\",(lammering[[#This Row],[Verkoop-gewicht]]-lammering[[#This Row],[Speen-gewicht]])/(lammering[[#This Row],[Verkoop-datum]]-lammering[[#This Row],[Speen-datum]]))","v":""},{"$f":"IF(lammering[[#This Row],[Verkoop-datum]]=\"\",\"\",(lammering[[#This Row],[Verkoop-gewicht]]-lammering[[#This Row],[geboorte-gewicht]])/(lammering[[#This Row],[Verkoop-datum]]-lammering[[#This Row],[Werp-datum]]))","v":""},"","","","","","",{"$f":"IF(lammering[[#This Row],[Verkoop-gewicht]]=\"\",\"\",lammering[[#This Row],[Verkoop-gewicht]]-lammering[[#This Row],[geboorte-gewicht]])","v":""},"",""]
[{"$f":"lammering[[#This Row],[Ooi]]","v":0},0,0,{"$f":"IF(lammering[[#This Row],[Lam-nummer]]=\"\",0,1)","v":0},{"$f":"IF(lammering[[#This Row],[Dood in geboorte]]=\"ja\",1,0)","v":0},{"$f":"IF(lammering[[#This Row],[Ooi]]=\"\",0,IF(Berekeningen!E352=0,1,0))","v":0},{"$f":"IF(D352=0,0,IF(lammering[[#This Row],[Dood in geboorte]]=\"Ja\",0,IF(lammering[[#This Row],[Dood na geboorte]]=\"ja\",0,1)))","v":0},{"$f":"IF(lammering[[#This Row],[Opfok met kunstmelk]]=\"Ja\",1,0)","v":0},{"$f":"IF(lammering[[#This Row],[geslacht]]=\"O\",1,0)","v":0},{"$f":"IF(lammering[[#This Row],[Speen-datum]]=\"\",\"\",(lammering[[#This Row],[Speen-gewicht]]-lammering[[#This Row],[geboorte-gewicht]])/(lammering[[#This Row],[Speen-datum]]-lammering[[#This Row],[Werp-datum]]))","v":""},{"$f":"IF(lammering[[#This Row],[Verkoop-datum]]=\"\",\"\",(lammering[[#This Row],[Verkoop-gewicht]]-lammering[[#This Row],[Speen-gewicht]])/(lammering[[#This Row],[Verkoop-datum]]-lammering[[#This Row],[Speen-datum]]))","v":""},{"$f":"IF(lammering[[#This Row],[Verkoop-datum]]=\"\",\"\",(lammering[[#This Row],[Verkoop-gewicht]]-lammering[[#This Row],[geboorte-gewicht]])/(lammering[[#This Row],[Verkoop-datum]]-lammering[[#This Row],[Werp-datum]]))","v":""},"","","","","","",{"$f":"IF(lammering[[#This Row],[Verkoop-gewicht]]=\"\",\"\",lammering[[#This Row],[Verkoop-gewicht]]-lammering[[#This Row],[geboorte-gewicht]])","v":""},"",""]
[{"$f":"lammering[[#This Row],[Ooi]]","v":0},0,0,{"$f":"IF(lammering[[#This Row],[Lam-nummer]]=\"\",0,1)","v":0},{"$f":"IF(lammering[[#This Row],[Dood in geboorte]]=\"ja\",1,0)","v":0},{"$f":"IF(lammering[[#This Row],[Ooi]]=\"\",0,IF(Berekeningen!E353=0,1,0))","v":0},{"$f":"IF(D353=0,0,IF(lammering[[#This Row],[Dood in geboorte]]=\"Ja\",0,IF(lammering[[#This Row],[Dood na geboorte]]=\"ja\",0,1)))","v":0},{"$f":"IF(lammering[[#This Row],[Opfok met kunstmelk]]=\"Ja\",1,0)","v":0},{"$f":"IF(lammering[[#This Row],[geslacht]]=\"O\",1,0)","v":0},{"$f":"IF(lammering[[#This Row],[Speen-datum]]=\"\",\"\",(lammering[[#This Row],[Speen-gewicht]]-lammering[[#This Row],[geboorte-gewicht]])/(lammering[[#This Row],[Speen-datum]]-lammering[[#This Row],[Werp-datum]]))","v":""},{"$f":"IF(lammering[[#This Row],[Verkoop-datum]]=\"\",\"\",(lammering[[#This Row],[Verkoop-gewicht]]-lammering[[#This Row],[Speen-gewicht]])/(lammering[[#This Row],[Verkoop-datum]]-lammering[[#This Row],[Speen-datum]]))","v":""},{"$f":"IF(lammering[[#This Row],[Verkoop-datum]]=\"\",\"\",(lammering[[#This Row],[Verkoop-gewicht]]-lammering[[#This Row],[geboorte-gewicht]])/(lammering[[#This Row],[Verkoop-datum]]-lammering[[#This Row],[Werp-datum]]))","v":""},"","","","","","",{"$f":"IF(lammering[[#This Row],[Verkoop-gewicht]]=\"\",\"\",lammering[[#This Row],[Verkoop-gewicht]]-lammering[[#This Row],[geboorte-gewicht]])","v":""},"",""]
[{"$f":"lammering[[#This Row],[Ooi]]","v":0},0,0,{"$f":"IF(lammering[[#This Row],[Lam-nummer]]=\"\",0,1)","v":0},{"$f":"IF(lammering[[#This Row],[Dood in geboorte]]=\"ja\",1,0)","v":0},{"$f":"IF(lammering[[#This Row],[Ooi]]=\"\",0,IF(Berekeningen!E354=0,1,0))","v":0},{"$f":"IF(D354=0,0,IF(lammering[[#This Row],[Dood in geboorte]]=\"Ja\",0,IF(lammering[[#This Row],[Dood na geboorte]]=\"ja\",0,1)))","v":0},{"$f":"IF(lammering[[#This Row],[Opfok met kunstmelk]]=\"Ja\",1,0)","v":0},{"$f":"IF(lammering[[#This Row],[geslacht]]=\"O\",1,0)","v":0},{"$f":"IF(lammering[[#This Row],[Speen-datum]]=\"\",\"\",(lammering[[#This Row],[Speen-gewicht]]-lammering[[#This Row],[geboorte-gewicht]])/(lammering[[#This Row],[Speen-datum]]-lammering[[#This Row],[Werp-datum]]))","v":""},{"$f":"IF(lammering[[#This Row],[Verkoop-datum]]=\"\",\"\",(lammering[[#This Row],[Verkoop-gewicht]]-lammering[[#This Row],[Speen-gewicht]])/(lammering[[#This Row],[Verkoop-datum]]-lammering[[#This Row],[Speen-datum]]))","v":""},{"$f":"IF(lammering[[#This Row],[Verkoop-datum]]=\"\",\"\",(lammering[[#This Row],[Verkoop-gewicht]]-lammering[[#This Row],[geboorte-gewicht]])/(lammering[[#This Row],[Verkoop-datum]]-lammering[[#This Row],[Werp-datum]]))","v":""},"","","","","","",{"$f":"IF(lammering[[#This Row],[Verkoop-gewicht]]=\"\",\"\",lammering[[#This Row],[Verkoop-gewicht]]-lammering[[#This Row],[geboorte-gewicht]])","v":""},"",""]
[{"$f":"lammering[[#This Row],[Ooi]]","v":0},0,0,{"$f":"IF(lammering[[#This Row],[Lam-nummer]]=\"\",0,1)","v":0},{"$f":"IF(lammering[[#This Row],[Dood in geboorte]]=\"ja\",1,0)","v":0},{"$f":"IF(lammering[[#This Row],[Ooi]]=\"\",0,IF(Berekeningen!E355=0,1,0))","v":0},{"$f":"IF(D355=0,0,IF(lammering[[#This Row],[Dood in geboorte]]=\"Ja\",0,IF(lammering[[#This Row],[Dood na geboorte]]=\"ja\",0,1)))","v":0},{"$f":"IF(lammering[[#This Row],[Opfok met kunstmelk]]=\"Ja\",1,0)","v":0},{"$f":"IF(lammering[[#This Row],[geslacht]]=\"O\",1,0)","v":0},{"$f":"IF(lammering[[#This Row],[Speen-datum]]=\"\",\"\",(lammering[[#This Row],[Speen-gewicht]]-lammering[[#This Row],[geboorte-gewicht]])/(lammering[[#This Row],[Speen-datum]]-lammering[[#This Row],[Werp-datum]]))","v":""},{"$f":"IF(lammering[[#This Row],[Verkoop-datum]]=\"\",\"\",(lammering[[#This Row],[Verkoop-gewicht]]-lammering[[#This Row],[Speen-gewicht]])/(lammering[[#This Row],[Verkoop-datum]]-lammering[[#This Row],[Speen-datum]]))","v":""},{"$f":"IF(lammering[[#This Row],[Verkoop-datum]]=\"\",\"\",(lammering[[#This Row],[Verkoop-gewicht]]-lammering[[#This Row],[geboorte-gewicht]])/(lammering[[#This Row],[Verkoop-datum]]-lammering[[#This Row],[Werp-datum]]))","v":""},"","","","","","",{"$f":"IF(lammering[[#This Row],[Verkoop-gewicht]]=\"\",\"\",lammering[[#This Row],[Verkoop-gewicht]]-lammering[[#This Row],[geboorte-gewicht]])","v":""},"",""]
[{"$f":"lammering[[#This Row],[Ooi]]","v":0},0,0,{"$f":"IF(lammering[[#This Row],[Lam-nummer]]=\"\",0,1)","v":0},{"$f":"IF(lammering[[#This Row],[Dood in geboorte]]=\"ja\",1,0)","v":0},{"$f":"IF(lammering[[#This Row],[Ooi]]=\"\",0,IF(Berekeningen!E356=0,1,0))","v":0},{"$f":"IF(D356=0,0,IF(lammering[[#This Row],[Dood in geboorte]]=\"Ja\",0,IF(lammering[[#This Row],[Dood na geboorte]]=\"ja\",0,1)))","v":0},{"$f":"IF(lammering[[#This Row],[Opfok met kunstmelk]]=\"Ja\",1,0)","v":0},{"$f":"IF(lammering[[#This Row],[geslacht]]=\"O\",1,0)","v":0},{"$f":"IF(lammering[[#This Row],[Speen-datum]]=\"\",\"\",(lammering[[#This Row],[Speen-gewicht]]-lammering[[#This Row],[geboorte-gewicht]])/(lammering[[#This Row],[Speen-datum]]-lammering[[#This Row],[Werp-datum]]))","v":""},{"$f":"IF(lammering[[#This Row],[Verkoop-datum]]=\"\",\"\",(lammering[[#This Row],[Verkoop-gewicht]]-lammering[[#This Row],[Speen-gewicht]])/(lammering[[#This Row],[Verkoop-datum]]-lammering[[#This Row],[Speen-datum]]))","v":""},{"$f":"IF(lammering[[#This Row],[Verkoop-datum]]=\"\",\"\",(lammering[[#This Row],[Verkoop-gewicht]]-lammering[[#This Row],[geboorte-gewicht]])/(lammering[[#This Row],[Verkoop-datum]]-lammering[[#This Row],[Werp-datum]]))","v":""},"","","","","","",{"$f":"IF(lammering[[#This Row],[Verkoop-gewicht]]=\"\",\"\",lammering[[#This Row],[Verkoop-gewicht]]-lammering[[#This Row],[geboorte-gewicht]])","v":""},"",""]
[{"$f":"lammering[[#This Row],[Ooi]]","v":0},0,0,{"$f":"IF(lammering[[#This Row],[Lam-nummer]]=\"\",0,1)","v":0},{"$f":"IF(lammering[[#This Row],[Dood in geboorte]]=\"ja\",1,0)","v":0},{"$f":"IF(lammering[[#This Row],[Ooi]]=\"\",0,IF(Berekeningen!E357=0,1,0))","v":0},{"$f":"IF(D357=0,0,IF(lammering[[#This Row],[Dood in geboorte]]=\"Ja\",0,IF(lammering[[#This Row],[Dood na geboorte]]=\"ja\",0,1)))","v":0},{"$f":"IF(lammering[[#This Row],[Opfok met kunstmelk]]=\"Ja\",1,0)","v":0},{"$f":"IF(lammering[[#This Row],[geslacht]]=\"O\",1,0)","v":0},{"$f":"IF(lammering[[#This Row],[Speen-datum]]=\"\",\"\",(lammering[[#This Row],[Speen-gewicht]]-lammering[[#This Row],[geboorte-gewicht]])/(lammering[[#This Row],[Speen-datum]]-lammering[[#This Row],[Werp-datum]]))","v":""},{"$f":"IF(lammering[[#This Row],[Verkoop-datum]]=\"\",\"\",(lammering[[#This Row],[Verkoop-gewicht]]-lammering[[#This Row],[Speen-gewicht]])/(lammering[[#This Row],[Verkoop-datum]]-lammering[[#This Row],[Speen-datum]]))","v":""},{"$f":"IF(lammering[[#This Row],[Verkoop-datum]]=\"\",\"\",(lammering[[#This Row],[Verkoop-gewicht]]-lammering[[#This Row],[geboorte-gewicht]])/(lammering[[#This Row],[Verkoop-datum]]-lammering[[#This Row],[Werp-datum]]))","v":""},"","","","","","",{"$f":"IF(lammering[[#This Row],[Verkoop-gewicht]]=\"\",\"\",lammering[[#This Row],[Verkoop-gewicht]]-lammering[[#This Row],[geboorte-gewicht]])","v":""},"",""]
[{"$f":"lammering[[#This Row],[Ooi]]","v":0},0,0,{"$f":"IF(lammering[[#This Row],[Lam-nummer]]=\"\",0,1)","v":0},{"$f":"IF(lammering[[#This Row],[Dood in geboorte]]=\"ja\",1,0)","v":0},{"$f":"IF(lammering[[#This Row],[Ooi]]=\"\",0,IF(Berekeningen!E358=0,1,0))","v":0},{"$f":"IF(D358=0,0,IF(lammering[[#This Row],[Dood in geboorte]]=\"Ja\",0,IF(lammering[[#This Row],[Dood na geboorte]]=\"ja\",0,1)))","v":0},{"$f":"IF(lammering[[#This Row],[Opfok met kunstmelk]]=\"Ja\",1,0)","v":0},{"$f":"IF(lammering[[#This Row],[geslacht]]=\"O\",1,0)","v":0},{"$f":"IF(lammering[[#This Row],[Speen-datum]]=\"\",\"\",(lammering[[#This Row],[Speen-gewicht]]-lammering[[#This Row],[geboorte-gewicht]])/(lammering[[#This Row],[Speen-datum]]-lammering[[#This Row],[Werp-datum]]))","v":""},{"$f":"IF(lammering[[#This Row],[Verkoop-datum]]=\"\",\"\",(lammering[[#This Row],[Verkoop-gewicht]]-lammering[[#This Row],[Speen-gewicht]])/(lammering[[#This Row],[Verkoop-datum]]-lammering[[#This Row],[Speen-datum]]))","v":""},{"$f":"IF(lammering[[#This Row],[Verkoop-datum]]=\"\",\"\",(lammering[[#This Row],[Verkoop-gewicht]]-lammering[[#This Row],[geboorte-gewicht]])/(lammering[[#This Row],[Verkoop-datum]]-lammering[[#This Row],[Werp-datum]]))","v":""},"","","","","","",{"$f":"IF(lammering[[#This Row],[Verkoop-gewicht]]=\"\",\"\",lammering[[#This Row],[Verkoop-gewicht]]-lammering[[#This Row],[geboorte-gewicht]])","v":""},"",""]
[{"$f":"lammering[[#This Row],[Ooi]]","v":0},0,0,{"$f":"IF(lammering[[#This Row],[Lam-nummer]]=\"\",0,1)","v":0},{"$f":"IF(lammering[[#This Row],[Dood in geboorte]]=\"ja\",1,0)","v":0},{"$f":"IF(lammering[[#This Row],[Ooi]]=\"\",0,IF(Berekeningen!E359=0,1,0))","v":0},{"$f":"IF(D359=0,0,IF(lammering[[#This Row],[Dood in geboorte]]=\"Ja\",0,IF(lammering[[#This Row],[Dood na geboorte]]=\"ja\",0,1)))","v":0},{"$f":"IF(lammering[[#This Row],[Opfok met kunstmelk]]=\"Ja\",1,0)","v":0},{"$f":"IF(lammering[[#This Row],[geslacht]]=\"O\",1,0)","v":0},{"$f":"IF(lammering[[#This Row],[Speen-datum]]=\"\",\"\",(lammering[[#This Row],[Speen-gewicht]]-lammering[[#This Row],[geboorte-gewicht]])/(lammering[[#This Row],[Speen-datum]]-lammering[[#This Row],[Werp-datum]]))","v":""},{"$f":"IF(lammering[[#This Row],[Verkoop-datum]]=\"\",\"\",(lammering[[#This Row],[Verkoop-gewicht]]-lammering[[#This Row],[Speen-gewicht]])/(lammering[[#This Row],[Verkoop-datum]]-lammering[[#This Row],[Speen-datum]]))","v":""},{"$f":"IF(lammering[[#This Row],[Verkoop-datum]]=\"\",\"\",(lammering[[#This Row],[Verkoop-gewicht]]-lammering[[#This Row],[geboorte-gewicht]])/(lammering[[#This Row],[Verkoop-datum]]-lammering[[#This Row],[Werp-datum]]))","v":""},"","","","","","",{"$f":"IF(lammering[[#This Row],[Verkoop-gewicht]]=\"\",\"\",lammering[[#This Row],[Verkoop-gewicht]]-lammering[[#This Row],[geboorte-gewicht]])","v":""},"",""]
[{"$f":"lammering[[#This Row],[Ooi]]","v":0},0,0,{"$f":"IF(lammering[[#This Row],[Lam-nummer]]=\"\",0,1)","v":0},{"$f":"IF(lammering[[#This Row],[Dood in geboorte]]=\"ja\",1,0)","v":0},{"$f":"IF(lammering[[#This Row],[Ooi]]=\"\",0,IF(Berekeningen!E360=0,1,0))","v":0},{"$f":"IF(D360=0,0,IF(lammering[[#This Row],[Dood in geboorte]]=\"Ja\",0,IF(lammering[[#This Row],[Dood na geboorte]]=\"ja\",0,1)))","v":0},{"$f":"IF(lammering[[#This Row],[Opfok met kunstmelk]]=\"Ja\",1,0)","v":0},{"$f":"IF(lammering[[#This Row],[geslacht]]=\"O\",1,0)","v":0},{"$f":"IF(lammering[[#This Row],[Speen-datum]]=\"\",\"\",(lammering[[#This Row],[Speen-gewicht]]-lammering[[#This Row],[geboorte-gewicht]])/(lammering[[#This Row],[Speen-datum]]-lammering[[#This Row],[Werp-datum]]))","v":""},{"$f":"IF(lammering[[#This Row],[Verkoop-datum]]=\"\",\"\",(lammering[[#This Row],[Verkoop-gewicht]]-lammering[[#This Row],[Speen-gewicht]])/(lammering[[#This Row],[Verkoop-datum]]-lammering[[#This Row],[Speen-datum]]))","v":""},{"$f":"IF(lammering[[#This Row],[Verkoop-datum]]=\"\",\"\",(lammering[[#This Row],[Verkoop-gewicht]]-lammering[[#This Row],[geboorte-gewicht]])/(lammering[[#This Row],[Verkoop-datum]]-lammering[[#This Row],[Werp-datum]]))","v":""},"","","","","","",{"$f":"IF(lammering[[#This Row],[Verkoop-gewicht]]=\"\",\"\",lammering[[#This Row],[Verkoop-gewicht]]-lammering[[#This Row],[geboorte-gewicht]])","v":""},"",""]
[{"$f":"lammering[[#This Row],[Ooi]]","v":0},0,0,{"$f":"IF(lammering[[#This Row],[Lam-nummer]]=\"\",0,1)","v":0},{"$f":"IF(lammering[[#This Row],[Dood in geboorte]]=\"ja\",1,0)","v":0},{"$f":"IF(lammering[[#This Row],[Ooi]]=\"\",0,IF(Berekeningen!E361=0,1,0))","v":0},{"$f":"IF(D361=0,0,IF(lammering[[#This Row],[Dood in geboorte]]=\"Ja\",0,IF(lammering[[#This Row],[Dood na geboorte]]=\"ja\",0,1)))","v":0},{"$f":"IF(lammering[[#This Row],[Opfok met kunstmelk]]=\"Ja\",1,0)","v":0},{"$f":"IF(lammering[[#This Row],[geslacht]]=\"O\",1,0)","v":0},{"$f":"IF(lammering[[#This Row],[Speen-datum]]=\"\",\"\",(lammering[[#This Row],[Speen-gewicht]]-lammering[[#This Row],[geboorte-gewicht]])/(lammering[[#This Row],[Speen-datum]]-lammering[[#This Row],[Werp-datum]]))","v":""},{"$f":"IF(lammering[[#This Row],[Verkoop-datum]]=\"\",\"\",(lammering[[#This Row],[Verkoop-gewicht]]-lammering[[#This Row],[Speen-gewicht]])/(lammering[[#This Row],[Verkoop-datum]]-lammering[[#This Row],[Speen-datum]]))","v":""},{"$f":"IF(lammering[[#This Row],[Verkoop-datum]]=\"\",\"\",(lammering[[#This Row],[Verkoop-gewicht]]-lammering[[#This Row],[geboorte-gewicht]])/(lammering[[#This Row],[Verkoop-datum]]-lammering[[#This Row],[Werp-datum]]))","v":""},"","","","","","",{"$f":"IF(lammering[[#This Row],[Verkoop-gewicht]]=\"\",\"\",lammering[[#This Row],[Verkoop-gewicht]]-lammering[[#This Row],[geboorte-gewicht]])","v":""},"",""]
[{"$f":"lammering[[#This Row],[Ooi]]","v":0},0,0,{"$f":"IF(lammering[[#This Row],[Lam-nummer]]=\"\",0,1)","v":0},{"$f":"IF(lammering[[#This Row],[Dood in geboorte]]=\"ja\",1,0)","v":0},{"$f":"IF(lammering[[#This Row],[Ooi]]=\"\",0,IF(Berekeningen!E362=0,1,0))","v":0},{"$f":"IF(D362=0,0,IF(lammering[[#This Row],[Dood in geboorte]]=\"Ja\",0,IF(lammering[[#This Row],[Dood na geboorte]]=\"ja\",0,1)))","v":0},{"$f":"IF(lammering[[#This Row],[Opfok met kunstmelk]]=\"Ja\",1,0)","v":0},{"$f":"IF(lammering[[#This Row],[geslacht]]=\"O\",1,0)","v":0},{"$f":"IF(lammering[[#This Row],[Speen-datum]]=\"\",\"\",(lammering[[#This Row],[Speen-gewicht]]-lammering[[#This Row],[geboorte-gewicht]])/(lammering[[#This Row],[Speen-datum]]-lammering[[#This Row],[Werp-datum]]))","v":""},{"$f":"IF(lammering[[#This Row],[Verkoop-datum]]=\"\",\"\",(lammering[[#This Row],[Verkoop-gewicht]]-lammering[[#This Row],[Speen-gewicht]])/(lammering[[#This Row],[Verkoop-datum]]-lammering[[#This Row],[Speen-datum]]))","v":""},{"$f":"IF(lammering[[#This Row],[Verkoop-datum]]=\"\",\"\",(lammering[[#This Row],[Verkoop-gewicht]]-lammering[[#This Row],[geboorte-gewicht]])/(lammering[[#This Row],[Verkoop-datum]]-lammering[[#This Row],[Werp-datum]]))","v":""},"","","","","","",{"$f":"IF(lammering[[#This Row],[Verkoop-gewicht]]=\"\",\"\",lammering[[#This Row],[Verkoop-gewicht]]-lammering[[#This Row],[geboorte-gewicht]])","v":""},"",""]
[{"$f":"lammering[[#This Row],[Ooi]]","v":0},0,0,{"$f":"IF(lammering[[#This Row],[Lam-nummer]]=\"\",0,1)","v":0},{"$f":"IF(lammering[[#This Row],[Dood in geboorte]]=\"ja\",1,0)","v":0},{"$f":"IF(lammering[[#This Row],[Ooi]]=\"\",0,IF(Berekeningen!E363=0,1,0))","v":0},{"$f":"IF(D363=0,0,IF(lammering[[#This Row],[Dood in geboorte]]=\"Ja\",0,IF(lammering[[#This Row],[Dood na geboorte]]=\"ja\",0,1)))","v":0},{"$f":"IF(lammering[[#This Row],[Opfok met kunstmelk]]=\"Ja\",1,0)","v":0},{"$f":"IF(lammering[[#This Row],[geslacht]]=\"O\",1,0)","v":0},{"$f":"IF(lammering[[#This Row],[Speen-datum]]=\"\",\"\",(lammering[[#This Row],[Speen-gewicht]]-lammering[[#This Row],[geboorte-gewicht]])/(lammering[[#This Row],[Speen-datum]]-lammering[[#This Row],[Werp-datum]]))","v":""},{"$f":"IF(lammering[[#This Row],[Verkoop-datum]]=\"\",\"\",(lammering[[#This Row],[Verkoop-gewicht]]-lammering[[#This Row],[Speen-gewicht]])/(lammering[[#This Row],[Verkoop-datum]]-lammering[[#This Row],[Speen-datum]]))","v":""},{"$f":"IF(lammering[[#This Row],[Verkoop-datum]]=\"\",\"\",(lammering[[#This Row],[Verkoop-gewicht]]-lammering[[#This Row],[geboorte-gewicht]])/(lammering[[#This Row],[Verkoop-datum]]-lammering[[#This Row],[Werp-datum]]))","v":""},"","","","","","",{"$f":"IF(lammering[[#This Row],[Verkoop-gewicht]]=\"\",\"\",lammering[[#This Row],[Verkoop-gewicht]]-lammering[[#This Row],[geboorte-gewicht]])","v":""},"",""]
[{"$f":"lammering[[#This Row],[Ooi]]","v":0},0,0,{"$f":"IF(lammering[[#This Row],[Lam-nummer]]=\"\",0,1)","v":0},{"$f":"IF(lammering[[#This Row],[Dood in geboorte]]=\"ja\",1,0)","v":0},{"$f":"IF(lammering[[#This Row],[Ooi]]=\"\",0,IF(Berekeningen!E364=0,1,0))","v":0},{"$f":"IF(D364=0,0,IF(lammering[[#This Row],[Dood in geboorte]]=\"Ja\",0,IF(lammering[[#This Row],[Dood na geboorte]]=\"ja\",0,1)))","v":0},{"$f":"IF(lammering[[#This Row],[Opfok met kunstmelk]]=\"Ja\",1,0)","v":0},{"$f":"IF(lammering[[#This Row],[geslacht]]=\"O\",1,0)","v":0},{"$f":"IF(lammering[[#This Row],[Speen-datum]]=\"\",\"\",(lammering[[#This Row],[Speen-gewicht]]-lammering[[#This Row],[geboorte-gewicht]])/(lammering[[#This Row],[Speen-datum]]-lammering[[#This Row],[Werp-datum]]))","v":""},{"$f":"IF(lammering[[#This Row],[Verkoop-datum]]=\"\",\"\",(lammering[[#This Row],[Verkoop-gewicht]]-lammering[[#This Row],[Speen-gewicht]])/(lammering[[#This Row],[Verkoop-datum]]-lammering[[#This Row],[Speen-datum]]))","v":""},{"$f":"IF(lammering[[#This Row],[Verkoop-datum]]=\"\",\"\",(lammering[[#This Row],[Verkoop-gewicht]]-lammering[[#This Row],[geboorte-gewicht]])/(lammering[[#This Row],[Verkoop-datum]]-lammering[[#This Row],[Werp-datum]]))","v":""},"","","","","","",{"$f":"IF(lammering[[#This Row],[Verkoop-gewicht]]=\"\",\"\",lammering[[#This Row],[Verkoop-gewicht]]-lammering[[#This Row],[geboorte-gewicht]])","v":""},"",""]
[{"$f":"lammering[[#This Row],[Ooi]]","v":0},0,0,{"$f":"IF(lammering[[#This Row],[Lam-nummer]]=\"\",0,1)","v":0},{"$f":"IF(lammering[[#This Row],[Dood in geboorte]]=\"ja\",1,0)","v":0},{"$f":"IF(lammering[[#This Row],[Ooi]]=\"\",0,IF(Berekeningen!E365=0,1,0))","v":0},{"$f":"IF(D365=0,0,IF(lammering[[#This Row],[Dood in geboorte]]=\"Ja\",0,IF(lammering[[#This Row],[Dood na geboorte]]=\"ja\",0,1)))","v":0},{"$f":"IF(lammering[[#This Row],[Opfok met kunstmelk]]=\"Ja\",1,0)","v":0},{"$f":"IF(lammering[[#This Row],[geslacht]]=\"O\",1,0)","v":0},{"$f":"IF(lammering[[#This Row],[Speen-datum]]=\"\",\"\",(lammering[[#This Row],[Speen-gewicht]]-lammering[[#This Row],[geboorte-gewicht]])/(lammering[[#This Row],[Speen-datum]]-lammering[[#This Row],[Werp-datum]]))","v":""},{"$f":"IF(lammering[[#This Row],[Verkoop-datum]]=\"\",\"\",(lammering[[#This Row],[Verkoop-gewicht]]-lammering[[#This Row],[Speen-gewicht]])/(lammering[[#This Row],[Verkoop-datum]]-lammering[[#This Row],[Speen-datum]]))","v":""},{"$f":"IF(lammering[[#This Row],[Verkoop-datum]]=\"\",\"\",(lammering[[#This Row],[Verkoop-gewicht]]-lammering[[#This Row],[geboorte-gewicht]])/(lammering[[#This Row],[Verkoop-datum]]-lammering[[#This Row],[Werp-datum]]))","v":""},"","","","","","",{"$f":"IF(lammering[[#This Row],[Verkoop-gewicht]]=\"\",\"\",lammering[[#This Row],[Verkoop-gewicht]]-lammering[[#This Row],[geboorte-gewicht]])","v":""},"",""]
[{"$f":"lammering[[#This Row],[Ooi]]","v":0},0,0,{"$f":"IF(lammering[[#This Row],[Lam-nummer]]=\"\",0,1)","v":0},{"$f":"IF(lammering[[#This Row],[Dood in geboorte]]=\"ja\",1,0)","v":0},{"$f":"IF(lammering[[#This Row],[Ooi]]=\"\",0,IF(Berekeningen!E366=0,1,0))","v":0},{"$f":"IF(D366=0,0,IF(lammering[[#This Row],[Dood in geboorte]]=\"Ja\",0,IF(lammering[[#This Row],[Dood na geboorte]]=\"ja\",0,1)))","v":0},{"$f":"IF(lammering[[#This Row],[Opfok met kunstmelk]]=\"Ja\",1,0)","v":0},{"$f":"IF(lammering[[#This Row],[geslacht]]=\"O\",1,0)","v":0},{"$f":"IF(lammering[[#This Row],[Speen-datum]]=\"\",\"\",(lammering[[#This Row],[Speen-gewicht]]-lammering[[#This Row],[geboorte-gewicht]])/(lammering[[#This Row],[Speen-datum]]-lammering[[#This Row],[Werp-datum]]))","v":""},{"$f":"IF(lammering[[#This Row],[Verkoop-datum]]=\"\",\"\",(lammering[[#This Row],[Verkoop-gewicht]]-lammering[[#This Row],[Speen-gewicht]])/(lammering[[#This Row],[Verkoop-datum]]-lammering[[#This Row],[Speen-datum]]))","v":""},{"$f":"IF(lammering[[#This Row],[Verkoop-datum]]=\"\",\"\",(lammering[[#This Row],[Verkoop-gewicht]]-lammering[[#This Row],[geboorte-gewicht]])/(lammering[[#This Row],[Verkoop-datum]]-lammering[[#This Row],[Werp-datum]]))","v":""},"","","","","","",{"$f":"IF(lammering[[#This Row],[Verkoop-gewicht]]=\"\",\"\",lammering[[#This Row],[Verkoop-gewicht]]-lammering[[#This Row],[geboorte-gewicht]])","v":""},"",""]
[{"$f":"lammering[[#This Row],[Ooi]]","v":0},0,0,{"$f":"IF(lammering[[#This Row],[Lam-nummer]]=\"\",0,1)","v":0},{"$f":"IF(lammering[[#This Row],[Dood in geboorte]]=\"ja\",1,0)","v":0},{"$f":"IF(lammering[[#This Row],[Ooi]]=\"\",0,IF(Berekeningen!E367=0,1,0))","v":0},{"$f":"IF(D367=0,0,IF(lammering[[#This Row],[Dood in geboorte]]=\"Ja\",0,IF(lammering[[#This Row],[Dood na geboorte]]=\"ja\",0,1)))","v":0},{"$f":"IF(lammering[[#This Row],[Opfok met kunstmelk]]=\"Ja\",1,0)","v":0},{"$f":"IF(lammering[[#This Row],[geslacht]]=\"O\",1,0)","v":0},{"$f":"IF(lammering[[#This Row],[Speen-datum]]=\"\",\"\",(lammering[[#This Row],[Speen-gewicht]]-lammering[[#This Row],[geboorte-gewicht]])/(lammering[[#This Row],[Speen-datum]]-lammering[[#This Row],[Werp-datum]]))","v":""},{"$f":"IF(lammering[[#This Row],[Verkoop-datum]]=\"\",\"\",(lammering[[#This Row],[Verkoop-gewicht]]-lammering[[#This Row],[Speen-gewicht]])/(lammering[[#This Row],[Verkoop-datum]]-lammering[[#This Row],[Speen-datum]]))","v":""},{"$f":"IF(lammering[[#This Row],[Verkoop-datum]]=\"\",\"\",(lammering[[#This Row],[Verkoop-gewicht]]-lammering[[#This Row],[geboorte-gewicht]])/(lammering[[#This Row],[Verkoop-datum]]-lammering[[#This Row],[Werp-datum]]))","v":""},"","","","","","",{"$f":"IF(lammering[[#This Row],[Verkoop-gewicht]]=\"\",\"\",lammering[[#This Row],[Verkoop-gewicht]]-lammering[[#This Row],[geboorte-gewicht]])","v":""},"",""]
[{"$f":"lammering[[#This Row],[Ooi]]","v":0},0,0,{"$f":"IF(lammering[[#This Row],[Lam-nummer]]=\"\",0,1)","v":0},{"$f":"IF(lammering[[#This Row],[Dood in geboorte]]=\"ja\",1,0)","v":0},{"$f":"IF(lammering[[#This Row],[Ooi]]=\"\",0,IF(Berekeningen!E368=0,1,0))","v":0},{"$f":"IF(D368=0,0,IF(lammering[[#This Row],[Dood in geboorte]]=\"Ja\",0,IF(lammering[[#This Row],[Dood na geboorte]]=\"ja\",0,1)))","v":0},{"$f":"IF(lammering[[#This Row],[Opfok met kunstmelk]]=\"Ja\",1,0)","v":0},{"$f":"IF(lammering[[#This Row],[geslacht]]=\"O\",1,0)","v":0},{"$f":"IF(lammering[[#This Row],[Speen-datum]]=\"\",\"\",(lammering[[#This Row],[Speen-gewicht]]-lammering[[#This Row],[geboorte-gewicht]])/(lammering[[#This Row],[Speen-datum]]-lammering[[#This Row],[Werp-datum]]))","v":""},{"$f":"IF(lammering[[#This Row],[Verkoop-datum]]=\"\",\"\",(lammering[[#This Row],[Verkoop-gewicht]]-lammering[[#This Row],[Speen-gewicht]])/(lammering[[#This Row],[Verkoop-datum]]-lammering[[#This Row],[Speen-datum]]))","v":""},{"$f":"IF(lammering[[#This Row],[Verkoop-datum]]=\"\",\"\",(lammering[[#This Row],[Verkoop-gewicht]]-lammering[[#This Row],[geboorte-gewicht]])/(lammering[[#This Row],[Verkoop-datum]]-lammering[[#This Row],[Werp-datum]]))","v":""},"","","","","","",{"$f":"IF(lammering[[#This Row],[Verkoop-gewicht]]=\"\",\"\",lammering[[#This Row],[Verkoop-gewicht]]-lammering[[#This Row],[geboorte-gewicht]])","v":""},"",""]
[{"$f":"lammering[[#This Row],[Ooi]]","v":0},0,0,{"$f":"IF(lammering[[#This Row],[Lam-nummer]]=\"\",0,1)","v":0},{"$f":"IF(lammering[[#This Row],[Dood in geboorte]]=\"ja\",1,0)","v":0},{"$f":"IF(lammering[[#This Row],[Ooi]]=\"\",0,IF(Berekeningen!E369=0,1,0))","v":0},{"$f":"IF(D369=0,0,IF(lammering[[#This Row],[Dood in geboorte]]=\"Ja\",0,IF(lammering[[#This Row],[Dood na geboorte]]=\"ja\",0,1)))","v":0},{"$f":"IF(lammering[[#This Row],[Opfok met kunstmelk]]=\"Ja\",1,0)","v":0},{"$f":"IF(lammering[[#This Row],[geslacht]]=\"O\",1,0)","v":0},{"$f":"IF(lammering[[#This Row],[Speen-datum]]=\"\",\"\",(lammering[[#This Row],[Speen-gewicht]]-lammering[[#This Row],[geboorte-gewicht]])/(lammering[[#This Row],[Speen-datum]]-lammering[[#This Row],[Werp-datum]]))","v":""},{"$f":"IF(lammering[[#This Row],[Verkoop-datum]]=\"\",\"\",(lammering[[#This Row],[Verkoop-gewicht]]-lammering[[#This Row],[Speen-gewicht]])/(lammering[[#This Row],[Verkoop-datum]]-lammering[[#This Row],[Speen-datum]]))","v":""},{"$f":"IF(lammering[[#This Row],[Verkoop-datum]]=\"\",\"\",(lammering[[#This Row],[Verkoop-gewicht]]-lammering[[#This Row],[geboorte-gewicht]])/(lammering[[#This Row],[Verkoop-datum]]-lammering[[#This Row],[Werp-datum]]))","v":""},"","","","","","",{"$f":"IF(lammering[[#This Row],[Verkoop-gewicht]]=\"\",\"\",lammering[[#This Row],[Verkoop-gewicht]]-lammering[[#This Row],[geboorte-gewicht]])","v":""},"",""]
[{"$f":"lammering[[#This Row],[Ooi]]","v":0},0,0,{"$f":"IF(lammering[[#This Row],[Lam-nummer]]=\"\",0,1)","v":0},{"$f":"IF(lammering[[#This Row],[Dood in geboorte]]=\"ja\",1,0)","v":0},{"$f":"IF(lammering[[#This Row],[Ooi]]=\"\",0,IF(Berekeningen!E370=0,1,0))","v":0},{"$f":"IF(D370=0,0,IF(lammering[[#This Row],[Dood in geboorte]]=\"Ja\",0,IF(lammering[[#This Row],[Dood na geboorte]]=\"ja\",0,1)))","v":0},{"$f":"IF(lammering[[#This Row],[Opfok met kunstmelk]]=\"Ja\",1,0)","v":0},{"$f":"IF(lammering[[#This Row],[geslacht]]=\"O\",1,0)","v":0},{"$f":"IF(lammering[[#This Row],[Speen-datum]]=\"\",\"\",(lammering[[#This Row],[Speen-gewicht]]-lammering[[#This Row],[geboorte-gewicht]])/(lammering[[#This Row],[Speen-datum]]-lammering[[#This Row],[Werp-datum]]))","v":""},{"$f":"IF(lammering[[#This Row],[Verkoop-datum]]=\"\",\"\",(lammering[[#This Row],[Verkoop-gewicht]]-lammering[[#This Row],[Speen-gewicht]])/(lammering[[#This Row],[Verkoop-datum]]-lammering[[#This Row],[Speen-datum]]))","v":""},{"$f":"IF(lammering[[#This Row],[Verkoop-datum]]=\"\",\"\",(lammering[[#This Row],[Verkoop-gewicht]]-lammering[[#This Row],[geboorte-gewicht]])/(lammering[[#This Row],[Verkoop-datum]]-lammering[[#This Row],[Werp-datum]]))","v":""},"","","","","","",{"$f":"IF(lammering[[#This Row],[Verkoop-gewicht]]=\"\",\"\",lammering[[#This Row],[Verkoop-gewicht]]-lammering[[#This Row],[geboorte-gewicht]])","v":""},"",""]
[{"$f":"lammering[[#This Row],[Ooi]]","v":0},0,0,{"$f":"IF(lammering[[#This Row],[Lam-nummer]]=\"\",0,1)","v":0},{"$f":"IF(lammering[[#This Row],[Dood in geboorte]]=\"ja\",1,0)","v":0},{"$f":"IF(lammering[[#This Row],[Ooi]]=\"\",0,IF(Berekeningen!E371=0,1,0))","v":0},{"$f":"IF(D371=0,0,IF(lammering[[#This Row],[Dood in geboorte]]=\"Ja\",0,IF(lammering[[#This Row],[Dood na geboorte]]=\"ja\",0,1)))","v":0},{"$f":"IF(lammering[[#This Row],[Opfok met kunstmelk]]=\"Ja\",1,0)","v":0},{"$f":"IF(lammering[[#This Row],[geslacht]]=\"O\",1,0)","v":0},{"$f":"IF(lammering[[#This Row],[Speen-datum]]=\"\",\"\",(lammering[[#This Row],[Speen-gewicht]]-lammering[[#This Row],[geboorte-gewicht]])/(lammering[[#This Row],[Speen-datum]]-lammering[[#This Row],[Werp-datum]]))","v":""},{"$f":"IF(lammering[[#This Row],[Verkoop-datum]]=\"\",\"\",(lammering[[#This Row],[Verkoop-gewicht]]-lammering[[#This Row],[Speen-gewicht]])/(lammering[[#This Row],[Verkoop-datum]]-lammering[[#This Row],[Speen-datum]]))","v":""},{"$f":"IF(lammering[[#This Row],[Verkoop-datum]]=\"\",\"\",(lammering[[#This Row],[Verkoop-gewicht]]-lammering[[#This Row],[geboorte-gewicht]])/(lammering[[#This Row],[Verkoop-datum]]-lammering[[#This Row],[Werp-datum]]))","v":""},"","","","","","",{"$f":"IF(lammering[[#This Row],[Verkoop-gewicht]]=\"\",\"\",lammering[[#This Row],[Verkoop-gewicht]]-lammering[[#This Row],[geboorte-gewicht]])","v":""},"",""]
[{"$f":"lammering[[#This Row],[Ooi]]","v":0},0,0,{"$f":"IF(lammering[[#This Row],[Lam-nummer]]=\"\",0,1)","v":0},{"$f":"IF(lammering[[#This Row],[Dood in geboorte]]=\"ja\",1,0)","v":0},{"$f":"IF(lammering[[#This Row],[Ooi]]=\"\",0,IF(Berekeningen!E372=0,1,0))","v":0},{"$f":"IF(D372=0,0,IF(lammering[[#This Row],[Dood in geboorte]]=\"Ja\",0,IF(lammering[[#This Row],[Dood na geboorte]]=\"ja\",0,1)))","v":0},{"$f":"IF(lammering[[#This Row],[Opfok met kunstmelk]]=\"Ja\",1,0)","v":0},{"$f":"IF(lammering[[#This Row],[geslacht]]=\"O\",1,0)","v":0},{"$f":"IF(lammering[[#This Row],[Speen-datum]]=\"\",\"\",(lammering[[#This Row],[Speen-gewicht]]-lammering[[#This Row],[geboorte-gewicht]])/(lammering[[#This Row],[Speen-datum]]-lammering[[#This Row],[Werp-datum]]))","v":""},{"$f":"IF(lammering[[#This Row],[Verkoop-datum]]=\"\",\"\",(lammering[[#This Row],[Verkoop-gewicht]]-lammering[[#This Row],[Speen-gewicht]])/(lammering[[#This Row],[Verkoop-datum]]-lammering[[#This Row],[Speen-datum]]))","v":""},{"$f":"IF(lammering[[#This Row],[Verkoop-datum]]=\"\",\"\",(lammering[[#This Row],[Verkoop-gewicht]]-lammering[[#This Row],[geboorte-gewicht]])/(lammering[[#This Row],[Verkoop-datum]]-lammering[[#This Row],[Werp-datum]]))","v":""},"","","","","","",{"$f":"IF(lammering[[#This Row],[Verkoop-gewicht]]=\"\",\"\",lammering[[#This Row],[Verkoop-gewicht]]-lammering[[#This Row],[geboorte-gewicht]])","v":""},"",""]
[{"$f":"lammering[[#This Row],[Ooi]]","v":0},0,0,{"$f":"IF(lammering[[#This Row],[Lam-nummer]]=\"\",0,1)","v":0},{"$f":"IF(lammering[[#This Row],[Dood in geboorte]]=\"ja\",1,0)","v":0},{"$f":"IF(lammering[[#This Row],[Ooi]]=\"\",0,IF(Berekeningen!E373=0,1,0))","v":0},{"$f":"IF(D373=0,0,IF(lammering[[#This Row],[Dood in geboorte]]=\"Ja\",0,IF(lammering[[#This Row],[Dood na geboorte]]=\"ja\",0,1)))","v":0},{"$f":"IF(lammering[[#This Row],[Opfok met kunstmelk]]=\"Ja\",1,0)","v":0},{"$f":"IF(lammering[[#This Row],[geslacht]]=\"O\",1,0)","v":0},{"$f":"IF(lammering[[#This Row],[Speen-datum]]=\"\",\"\",(lammering[[#This Row],[Speen-gewicht]]-lammering[[#This Row],[geboorte-gewicht]])/(lammering[[#This Row],[Speen-datum]]-lammering[[#This Row],[Werp-datum]]))","v":""},{"$f":"IF(lammering[[#This Row],[Verkoop-datum]]=\"\",\"\",(lammering[[#This Row],[Verkoop-gewicht]]-lammering[[#This Row],[Speen-gewicht]])/(lammering[[#This Row],[Verkoop-datum]]-lammering[[#This Row],[Speen-datum]]))","v":""},{"$f":"IF(lammering[[#This Row],[Verkoop-datum]]=\"\",\"\",(lammering[[#This Row],[Verkoop-gewicht]]-lammering[[#This Row],[geboorte-gewicht]])/(lammering[[#This Row],[Verkoop-datum]]-lammering[[#This Row],[Werp-datum]]))","v":""},"","","","","","",{"$f":"IF(lammering[[#This Row],[Verkoop-gewicht]]=\"\",\"\",lammering[[#This Row],[Verkoop-gewicht]]-lammering[[#This Row],[geboorte-gewicht]])","v":""},"",""]
[{"$f":"lammering[[#This Row],[Ooi]]","v":0},0,0,{"$f":"IF(lammering[[#This Row],[Lam-nummer]]=\"\",0,1)","v":0},{"$f":"IF(lammering[[#This Row],[Dood in geboorte]]=\"ja\",1,0)","v":0},{"$f":"IF(lammering[[#This Row],[Ooi]]=\"\",0,IF(Berekeningen!E374=0,1,0))","v":0},{"$f":"IF(D374=0,0,IF(lammering[[#This Row],[Dood in geboorte]]=\"Ja\",0,IF(lammering[[#This Row],[Dood na geboorte]]=\"ja\",0,1)))","v":0},{"$f":"IF(lammering[[#This Row],[Opfok met kunstmelk]]=\"Ja\",1,0)","v":0},{"$f":"IF(lammering[[#This Row],[geslacht]]=\"O\",1,0)","v":0},{"$f":"IF(lammering[[#This Row],[Speen-datum]]=\"\",\"\",(lammering[[#This Row],[Speen-gewicht]]-lammering[[#This Row],[geboorte-gewicht]])/(lammering[[#This Row],[Speen-datum]]-lammering[[#This Row],[Werp-datum]]))","v":""},{"$f":"IF(lammering[[#This Row],[Verkoop-datum]]=\"\",\"\",(lammering[[#This Row],[Verkoop-gewicht]]-lammering[[#This Row],[Speen-gewicht]])/(lammering[[#This Row],[Verkoop-datum]]-lammering[[#This Row],[Speen-datum]]))","v":""},{"$f":"IF(lammering[[#This Row],[Verkoop-datum]]=\"\",\"\",(lammering[[#This Row],[Verkoop-gewicht]]-lammering[[#This Row],[geboorte-gewicht]])/(lammering[[#This Row],[Verkoop-datum]]-lammering[[#This Row],[Werp-datum]]))","v":""},"","","","","","",{"$f":"IF(lammering[[#This Row],[Verkoop-gewicht]]=\"\",\"\",lammering[[#This Row],[Verkoop-gewicht]]-lammering[[#This Row],[geboorte-gewicht]])","v":""},"",""]
[{"$f":"lammering[[#This Row],[Ooi]]","v":0},0,0,{"$f":"IF(lammering[[#This Row],[Lam-nummer]]=\"\",0,1)","v":0},{"$f":"IF(lammering[[#This Row],[Dood in geboorte]]=\"ja\",1,0)","v":0},{"$f":"IF(lammering[[#This Row],[Ooi]]=\"\",0,IF(Berekeningen!E375=0,1,0))","v":0},{"$f":"IF(D375=0,0,IF(lammering[[#This Row],[Dood in geboorte]]=\"Ja\",0,IF(lammering[[#This Row],[Dood na geboorte]]=\"ja\",0,1)))","v":0},{"$f":"IF(lammering[[#This Row],[Opfok met kunstmelk]]=\"Ja\",1,0)","v":0},{"$f":"IF(lammering[[#This Row],[geslacht]]=\"O\",1,0)","v":0},{"$f":"IF(lammering[[#This Row],[Speen-datum]]=\"\",\"\",(lammering[[#This Row],[Speen-gewicht]]-lammering[[#This Row],[geboorte-gewicht]])/(lammering[[#This Row],[Speen-datum]]-lammering[[#This Row],[Werp-datum]]))","v":""},{"$f":"IF(lammering[[#This Row],[Verkoop-datum]]=\"\",\"\",(lammering[[#This Row],[Verkoop-gewicht]]-lammering[[#This Row],[Speen-gewicht]])/(lammering[[#This Row],[Verkoop-datum]]-lammering[[#This Row],[Speen-datum]]))","v":""},{"$f":"IF(lammering[[#This Row],[Verkoop-datum]]=\"\",\"\",(lammering[[#This Row],[Verkoop-gewicht]]-lammering[[#This Row],[geboorte-gewicht]])/(lammering[[#This Row],[Verkoop-datum]]-lammering[[#This Row],[Werp-datum]]))","v":""},"","","","","","",{"$f":"IF(lammering[[#This Row],[Verkoop-gewicht]]=\"\",\"\",lammering[[#This Row],[Verkoop-gewicht]]-lammering[[#This Row],[geboorte-gewicht]])","v":""},"",""]
[{"$f":"lammering[[#This Row],[Ooi]]","v":0},0,0,{"$f":"IF(lammering[[#This Row],[Lam-nummer]]=\"\",0,1)","v":0},{"$f":"IF(lammering[[#This Row],[Dood in geboorte]]=\"ja\",1,0)","v":0},{"$f":"IF(lammering[[#This Row],[Ooi]]=\"\",0,IF(Berekeningen!E376=0,1,0))","v":0},{"$f":"IF(D376=0,0,IF(lammering[[#This Row],[Dood in geboorte]]=\"Ja\",0,IF(lammering[[#This Row],[Dood na geboorte]]=\"ja\",0,1)))","v":0},{"$f":"IF(lammering[[#This Row],[Opfok met kunstmelk]]=\"Ja\",1,0)","v":0},{"$f":"IF(lammering[[#This Row],[geslacht]]=\"O\",1,0)","v":0},{"$f":"IF(lammering[[#This Row],[Speen-datum]]=\"\",\"\",(lammering[[#This Row],[Speen-gewicht]]-lammering[[#This Row],[geboorte-gewicht]])/(lammering[[#This Row],[Speen-datum]]-lammering[[#This Row],[Werp-datum]]))","v":""},{"$f":"IF(lammering[[#This Row],[Verkoop-datum]]=\"\",\"\",(lammering[[#This Row],[Verkoop-gewicht]]-lammering[[#This Row],[Speen-gewicht]])/(lammering[[#This Row],[Verkoop-datum]]-lammering[[#This Row],[Speen-datum]]))","v":""},{"$f":"IF(lammering[[#This Row],[Verkoop-datum]]=\"\",\"\",(lammering[[#This Row],[Verkoop-gewicht]]-lammering[[#This Row],[geboorte-gewicht]])/(lammering[[#This Row],[Verkoop-datum]]-lammering[[#This Row],[Werp-datum]]))","v":""},"","","","","","",{"$f":"IF(lammering[[#This Row],[Verkoop-gewicht]]=\"\",\"\",lammering[[#This Row],[Verkoop-gewicht]]-lammering[[#This Row],[geboorte-gewicht]])","v":""},"",""]
[{"$f":"lammering[[#This Row],[Ooi]]","v":0},0,0,{"$f":"IF(lammering[[#This Row],[Lam-nummer]]=\"\",0,1)","v":0},{"$f":"IF(lammering[[#This Row],[Dood in geboorte]]=\"ja\",1,0)","v":0},{"$f":"IF(lammering[[#This Row],[Ooi]]=\"\",0,IF(Berekeningen!E377=0,1,0))","v":0},{"$f":"IF(D377=0,0,IF(lammering[[#This Row],[Dood in geboorte]]=\"Ja\",0,IF(lammering[[#This Row],[Dood na geboorte]]=\"ja\",0,1)))","v":0},{"$f":"IF(lammering[[#This Row],[Opfok met kunstmelk]]=\"Ja\",1,0)","v":0},{"$f":"IF(lammering[[#This Row],[geslacht]]=\"O\",1,0)","v":0},{"$f":"IF(lammering[[#This Row],[Speen-datum]]=\"\",\"\",(lammering[[#This Row],[Speen-gewicht]]-lammering[[#This Row],[geboorte-gewicht]])/(lammering[[#This Row],[Speen-datum]]-lammering[[#This Row],[Werp-datum]]))","v":""},{"$f":"IF(lammering[[#This Row],[Verkoop-datum]]=\"\",\"\",(lammering[[#This Row],[Verkoop-gewicht]]-lammering[[#This Row],[Speen-gewicht]])/(lammering[[#This Row],[Verkoop-datum]]-lammering[[#This Row],[Speen-datum]]))","v":""},{"$f":"IF(lammering[[#This Row],[Verkoop-datum]]=\"\",\"\",(lammering[[#This Row],[Verkoop-gewicht]]-lammering[[#This Row],[geboorte-gewicht]])/(lammering[[#This Row],[Verkoop-datum]]-lammering[[#This Row],[Werp-datum]]))","v":""},"","","","","","",{"$f":"IF(lammering[[#This Row],[Verkoop-gewicht]]=\"\",\"\",lammering[[#This Row],[Verkoop-gewicht]]-lammering[[#This Row],[geboorte-gewicht]])","v":""},"",""]
[{"$f":"lammering[[#This Row],[Ooi]]","v":0},0,0,{"$f":"IF(lammering[[#This Row],[Lam-nummer]]=\"\",0,1)","v":0},{"$f":"IF(lammering[[#This Row],[Dood in geboorte]]=\"ja\",1,0)","v":0},{"$f":"IF(lammering[[#This Row],[Ooi]]=\"\",0,IF(Berekeningen!E378=0,1,0))","v":0},{"$f":"IF(D378=0,0,IF(lammering[[#This Row],[Dood in geboorte]]=\"Ja\",0,IF(lammering[[#This Row],[Dood na geboorte]]=\"ja\",0,1)))","v":0},{"$f":"IF(lammering[[#This Row],[Opfok met kunstmelk]]=\"Ja\",1,0)","v":0},{"$f":"IF(lammering[[#This Row],[geslacht]]=\"O\",1,0)","v":0},{"$f":"IF(lammering[[#This Row],[Speen-datum]]=\"\",\"\",(lammering[[#This Row],[Speen-gewicht]]-lammering[[#This Row],[geboorte-gewicht]])/(lammering[[#This Row],[Speen-datum]]-lammering[[#This Row],[Werp-datum]]))","v":""},{"$f":"IF(lammering[[#This Row],[Verkoop-datum]]=\"\",\"\",(lammering[[#This Row],[Verkoop-gewicht]]-lammering[[#This Row],[Speen-gewicht]])/(lammering[[#This Row],[Verkoop-datum]]-lammering[[#This Row],[Speen-datum]]))","v":""},{"$f":"IF(lammering[[#This Row],[Verkoop-datum]]=\"\",\"\",(lammering[[#This Row],[Verkoop-gewicht]]-lammering[[#This Row],[geboorte-gewicht]])/(lammering[[#This Row],[Verkoop-datum]]-lammering[[#This Row],[Werp-datum]]))","v":""},"","","","","","",{"$f":"IF(lammering[[#This Row],[Verkoop-gewicht]]=\"\",\"\",lammering[[#This Row],[Verkoop-gewicht]]-lammering[[#This Row],[geboorte-gewicht]])","v":""},"",""]
[{"$f":"lammering[[#This Row],[Ooi]]","v":0},0,0,{"$f":"IF(lammering[[#This Row],[Lam-nummer]]=\"\",0,1)","v":0},{"$f":"IF(lammering[[#This Row],[Dood in geboorte]]=\"ja\",1,0)","v":0},{"$f":"IF(lammering[[#This Row],[Ooi]]=\"\",0,IF(Berekeningen!E379=0,1,0))","v":0},{"$f":"IF(D379=0,0,IF(lammering[[#This Row],[Dood in geboorte]]=\"Ja\",0,IF(lammering[[#This Row],[Dood na geboorte]]=\"ja\",0,1)))","v":0},{"$f":"IF(lammering[[#This Row],[Opfok met kunstmelk]]=\"Ja\",1,0)","v":0},{"$f":"IF(lammering[[#This Row],[geslacht]]=\"O\",1,0)","v":0},{"$f":"IF(lammering[[#This Row],[Speen-datum]]=\"\",\"\",(lammering[[#This Row],[Speen-gewicht]]-lammering[[#This Row],[geboorte-gewicht]])/(lammering[[#This Row],[Speen-datum]]-lammering[[#This Row],[Werp-datum]]))","v":""},{"$f":"IF(lammering[[#This Row],[Verkoop-datum]]=\"\",\"\",(lammering[[#This Row],[Verkoop-gewicht]]-lammering[[#This Row],[Speen-gewicht]])/(lammering[[#This Row],[Verkoop-datum]]-lammering[[#This Row],[Speen-datum]]))","v":""},{"$f":"IF(lammering[[#This Row],[Verkoop-datum]]=\"\",\"\",(lammering[[#This Row],[Verkoop-gewicht]]-lammering[[#This Row],[geboorte-gewicht]])/(lammering[[#This Row],[Verkoop-datum]]-lammering[[#This Row],[Werp-datum]]))","v":""},"","","","","","",{"$f":"IF(lammering[[#This Row],[Verkoop-gewicht]]=\"\",\"\",lammering[[#This Row],[Verkoop-gewicht]]-lammering[[#This Row],[geboorte-gewicht]])","v":""},"",""]
[{"$f":"lammering[[#This Row],[Ooi]]","v":0},0,0,{"$f":"IF(lammering[[#This Row],[Lam-nummer]]=\"\",0,1)","v":0},{"$f":"IF(lammering[[#This Row],[Dood in geboorte]]=\"ja\",1,0)","v":0},{"$f":"IF(lammering[[#This Row],[Ooi]]=\"\",0,IF(Berekeningen!E380=0,1,0))","v":0},{"$f":"IF(D380=0,0,IF(lammering[[#This Row],[Dood in geboorte]]=\"Ja\",0,IF(lammering[[#This Row],[Dood na geboorte]]=\"ja\",0,1)))","v":0},{"$f":"IF(lammering[[#This Row],[Opfok met kunstmelk]]=\"Ja\",1,0)","v":0},{"$f":"IF(lammering[[#This Row],[geslacht]]=\"O\",1,0)","v":0},{"$f":"IF(lammering[[#This Row],[Speen-datum]]=\"\",\"\",(lammering[[#This Row],[Speen-gewicht]]-lammering[[#This Row],[geboorte-gewicht]])/(lammering[[#This Row],[Speen-datum]]-lammering[[#This Row],[Werp-datum]]))","v":""},{"$f":"IF(lammering[[#This Row],[Verkoop-datum]]=\"\",\"\",(lammering[[#This Row],[Verkoop-gewicht]]-lammering[[#This Row],[Speen-gewicht]])/(lammering[[#This Row],[Verkoop-datum]]-lammering[[#This Row],[Speen-datum]]))","v":""},{"$f":"IF(lammering[[#This Row],[Verkoop-datum]]=\"\",\"\",(lammering[[#This Row],[Verkoop-gewicht]]-lammering[[#This Row],[geboorte-gewicht]])/(lammering[[#This Row],[Verkoop-datum]]-lammering[[#This Row],[Werp-datum]]))","v":""},"","","","","","",{"$f":"IF(lammering[[#This Row],[Verkoop-gewicht]]=\"\",\"\",lammering[[#This Row],[Verkoop-gewicht]]-lammering[[#This Row],[geboorte-gewicht]])","v":""},"",""]
[{"$f":"lammering[[#This Row],[Ooi]]","v":0},0,0,{"$f":"IF(lammering[[#This Row],[Lam-nummer]]=\"\",0,1)","v":0},{"$f":"IF(lammering[[#This Row],[Dood in geboorte]]=\"ja\",1,0)","v":0},{"$f":"IF(lammering[[#This Row],[Ooi]]=\"\",0,IF(Berekeningen!E381=0,1,0))","v":0},{"$f":"IF(D381=0,0,IF(lammering[[#This Row],[Dood in geboorte]]=\"Ja\",0,IF(lammering[[#This Row],[Dood na geboorte]]=\"ja\",0,1)))","v":0},{"$f":"IF(lammering[[#This Row],[Opfok met kunstmelk]]=\"Ja\",1,0)","v":0},{"$f":"IF(lammering[[#This Row],[geslacht]]=\"O\",1,0)","v":0},{"$f":"IF(lammering[[#This Row],[Speen-datum]]=\"\",\"\",(lammering[[#This Row],[Speen-gewicht]]-lammering[[#This Row],[geboorte-gewicht]])/(lammering[[#This Row],[Speen-datum]]-lammering[[#This Row],[Werp-datum]]))","v":""},{"$f":"IF(lammering[[#This Row],[Verkoop-datum]]=\"\",\"\",(lammering[[#This Row],[Verkoop-gewicht]]-lammering[[#This Row],[Speen-gewicht]])/(lammering[[#This Row],[Verkoop-datum]]-lammering[[#This Row],[Speen-datum]]))","v":""},{"$f":"IF(lammering[[#This Row],[Verkoop-datum]]=\"\",\"\",(lammering[[#This Row],[Verkoop-gewicht]]-lammering[[#This Row],[geboorte-gewicht]])/(lammering[[#This Row],[Verkoop-datum]]-lammering[[#This Row],[Werp-datum]]))","v":""},"","","","","","",{"$f":"IF(lammering[[#This Row],[Verkoop-gewicht]]=\"\",\"\",lammering[[#This Row],[Verkoop-gewicht]]-lammering[[#This Row],[geboorte-gewicht]])","v":""},"",""]
[{"$f":"lammering[[#This Row],[Ooi]]","v":0},0,0,{"$f":"IF(lammering[[#This Row],[Lam-nummer]]=\"\",0,1)","v":0},{"$f":"IF(lammering[[#This Row],[Dood in geboorte]]=\"ja\",1,0)","v":0},{"$f":"IF(lammering[[#This Row],[Ooi]]=\"\",0,IF(Berekeningen!E382=0,1,0))","v":0},{"$f":"IF(D382=0,0,IF(lammering[[#This Row],[Dood in geboorte]]=\"Ja\",0,IF(lammering[[#This Row],[Dood na geboorte]]=\"ja\",0,1)))","v":0},{"$f":"IF(lammering[[#This Row],[Opfok met kunstmelk]]=\"Ja\",1,0)","v":0},{"$f":"IF(lammering[[#This Row],[geslacht]]=\"O\",1,0)","v":0},{"$f":"IF(lammering[[#This Row],[Speen-datum]]=\"\",\"\",(lammering[[#This Row],[Speen-gewicht]]-lammering[[#This Row],[geboorte-gewicht]])/(lammering[[#This Row],[Speen-datum]]-lammering[[#This Row],[Werp-datum]]))","v":""},{"$f":"IF(lammering[[#This Row],[Verkoop-datum]]=\"\",\"\",(lammering[[#This Row],[Verkoop-gewicht]]-lammering[[#This Row],[Speen-gewicht]])/(lammering[[#This Row],[Verkoop-datum]]-lammering[[#This Row],[Speen-datum]]))","v":""},{"$f":"IF(lammering[[#This Row],[Verkoop-datum]]=\"\",\"\",(lammering[[#This Row],[Verkoop-gewicht]]-lammering[[#This Row],[geboorte-gewicht]])/(lammering[[#This Row],[Verkoop-datum]]-lammering[[#This Row],[Werp-datum]]))","v":""},"","","","","","",{"$f":"IF(lammering[[#This Row],[Verkoop-gewicht]]=\"\",\"\",lammering[[#This Row],[Verkoop-gewicht]]-lammering[[#This Row],[geboorte-gewicht]])","v":""},"",""]
[{"$f":"lammering[[#This Row],[Ooi]]","v":0},0,0,{"$f":"IF(lammering[[#This Row],[Lam-nummer]]=\"\",0,1)","v":0},{"$f":"IF(lammering[[#This Row],[Dood in geboorte]]=\"ja\",1,0)","v":0},{"$f":"IF(lammering[[#This Row],[Ooi]]=\"\",0,IF(Berekeningen!E383=0,1,0))","v":0},{"$f":"IF(D383=0,0,IF(lammering[[#This Row],[Dood in geboorte]]=\"Ja\",0,IF(lammering[[#This Row],[Dood na geboorte]]=\"ja\",0,1)))","v":0},{"$f":"IF(lammering[[#This Row],[Opfok met kunstmelk]]=\"Ja\",1,0)","v":0},{"$f":"IF(lammering[[#This Row],[geslacht]]=\"O\",1,0)","v":0},{"$f":"IF(lammering[[#This Row],[Speen-datum]]=\"\",\"\",(lammering[[#This Row],[Speen-gewicht]]-lammering[[#This Row],[geboorte-gewicht]])/(lammering[[#This Row],[Speen-datum]]-lammering[[#This Row],[Werp-datum]]))","v":""},{"$f":"IF(lammering[[#This Row],[Verkoop-datum]]=\"\",\"\",(lammering[[#This Row],[Verkoop-gewicht]]-lammering[[#This Row],[Speen-gewicht]])/(lammering[[#This Row],[Verkoop-datum]]-lammering[[#This Row],[Speen-datum]]))","v":""},{"$f":"IF(lammering[[#This Row],[Verkoop-datum]]=\"\",\"\",(lammering[[#This Row],[Verkoop-gewicht]]-lammering[[#This Row],[geboorte-gewicht]])/(lammering[[#This Row],[Verkoop-datum]]-lammering[[#This Row],[Werp-datum]]))","v":""},"","","","","","",{"$f":"IF(lammering[[#This Row],[Verkoop-gewicht]]=\"\",\"\",lammering[[#This Row],[Verkoop-gewicht]]-lammering[[#This Row],[geboorte-gewicht]])","v":""},"",""]
[{"$f":"lammering[[#This Row],[Ooi]]","v":0},0,0,{"$f":"IF(lammering[[#This Row],[Lam-nummer]]=\"\",0,1)","v":0},{"$f":"IF(lammering[[#This Row],[Dood in geboorte]]=\"ja\",1,0)","v":0},{"$f":"IF(lammering[[#This Row],[Ooi]]=\"\",0,IF(Berekeningen!E384=0,1,0))","v":0},{"$f":"IF(D384=0,0,IF(lammering[[#This Row],[Dood in geboorte]]=\"Ja\",0,IF(lammering[[#This Row],[Dood na geboorte]]=\"ja\",0,1)))","v":0},{"$f":"IF(lammering[[#This Row],[Opfok met kunstmelk]]=\"Ja\",1,0)","v":0},{"$f":"IF(lammering[[#This Row],[geslacht]]=\"O\",1,0)","v":0},{"$f":"IF(lammering[[#This Row],[Speen-datum]]=\"\",\"\",(lammering[[#This Row],[Speen-gewicht]]-lammering[[#This Row],[geboorte-gewicht]])/(lammering[[#This Row],[Speen-datum]]-lammering[[#This Row],[Werp-datum]]))","v":""},{"$f":"IF(lammering[[#This Row],[Verkoop-datum]]=\"\",\"\",(lammering[[#This Row],[Verkoop-gewicht]]-lammering[[#This Row],[Speen-gewicht]])/(lammering[[#This Row],[Verkoop-datum]]-lammering[[#This Row],[Speen-datum]]))","v":""},{"$f":"IF(lammering[[#This Row],[Verkoop-datum]]=\"\",\"\",(lammering[[#This Row],[Verkoop-gewicht]]-lammering[[#This Row],[geboorte-gewicht]])/(lammering[[#This Row],[Verkoop-datum]]-lammering[[#This Row],[Werp-datum]]))","v":""},"","","","","","",{"$f":"IF(lammering[[#This Row],[Verkoop-gewicht]]=\"\",\"\",lammering[[#This Row],[Verkoop-gewicht]]-lammering[[#This Row],[geboorte-gewicht]])","v":""},"",""]
[{"$f":"lammering[[#This Row],[Ooi]]","v":0},0,0,{"$f":"IF(lammering[[#This Row],[Lam-nummer]]=\"\",0,1)","v":0},{"$f":"IF(lammering[[#This Row],[Dood in geboorte]]=\"ja\",1,0)","v":0},{"$f":"IF(lammering[[#This Row],[Ooi]]=\"\",0,IF(Berekeningen!E385=0,1,0))","v":0},{"$f":"IF(D385=0,0,IF(lammering[[#This Row],[Dood in geboorte]]=\"Ja\",0,IF(lammering[[#This Row],[Dood na geboorte]]=\"ja\",0,1)))","v":0},{"$f":"IF(lammering[[#This Row],[Opfok met kunstmelk]]=\"Ja\",1,0)","v":0},{"$f":"IF(lammering[[#This Row],[geslacht]]=\"O\",1,0)","v":0},{"$f":"IF(lammering[[#This Row],[Speen-datum]]=\"\",\"\",(lammering[[#This Row],[Speen-gewicht]]-lammering[[#This Row],[geboorte-gewicht]])/(lammering[[#This Row],[Speen-datum]]-lammering[[#This Row],[Werp-datum]]))","v":""},{"$f":"IF(lammering[[#This Row],[Verkoop-datum]]=\"\",\"\",(lammering[[#This Row],[Verkoop-gewicht]]-lammering[[#This Row],[Speen-gewicht]])/(lammering[[#This Row],[Verkoop-datum]]-lammering[[#This Row],[Speen-datum]]))","v":""},{"$f":"IF(lammering[[#This Row],[Verkoop-datum]]=\"\",\"\",(lammering[[#This Row],[Verkoop-gewicht]]-lammering[[#This Row],[geboorte-gewicht]])/(lammering[[#This Row],[Verkoop-datum]]-lammering[[#This Row],[Werp-datum]]))","v":""},"","","","","","",{"$f":"IF(lammering[[#This Row],[Verkoop-gewicht]]=\"\",\"\",lammering[[#This Row],[Verkoop-gewicht]]-lammering[[#This Row],[geboorte-gewicht]])","v":""},"",""]
[{"$f":"lammering[[#This Row],[Ooi]]","v":0},0,0,{"$f":"IF(lammering[[#This Row],[Lam-nummer]]=\"\",0,1)","v":0},{"$f":"IF(lammering[[#This Row],[Dood in geboorte]]=\"ja\",1,0)","v":0},{"$f":"IF(lammering[[#This Row],[Ooi]]=\"\",0,IF(Berekeningen!E386=0,1,0))","v":0},{"$f":"IF(D386=0,0,IF(lammering[[#This Row],[Dood in geboorte]]=\"Ja\",0,IF(lammering[[#This Row],[Dood na geboorte]]=\"ja\",0,1)))","v":0},{"$f":"IF(lammering[[#This Row],[Opfok met kunstmelk]]=\"Ja\",1,0)","v":0},{"$f":"IF(lammering[[#This Row],[geslacht]]=\"O\",1,0)","v":0},{"$f":"IF(lammering[[#This Row],[Speen-datum]]=\"\",\"\",(lammering[[#This Row],[Speen-gewicht]]-lammering[[#This Row],[geboorte-gewicht]])/(lammering[[#This Row],[Speen-datum]]-lammering[[#This Row],[Werp-datum]]))","v":""},{"$f":"IF(lammering[[#This Row],[Verkoop-datum]]=\"\",\"\",(lammering[[#This Row],[Verkoop-gewicht]]-lammering[[#This Row],[Speen-gewicht]])/(lammering[[#This Row],[Verkoop-datum]]-lammering[[#This Row],[Speen-datum]]))","v":""},{"$f":"IF(lammering[[#This Row],[Verkoop-datum]]=\"\",\"\",(lammering[[#This Row],[Verkoop-gewicht]]-lammering[[#This Row],[geboorte-gewicht]])/(lammering[[#This Row],[Verkoop-datum]]-lammering[[#This Row],[Werp-datum]]))","v":""},"","","","","","",{"$f":"IF(lammering[[#This Row],[Verkoop-gewicht]]=\"\",\"\",lammering[[#This Row],[Verkoop-gewicht]]-lammering[[#This Row],[geboorte-gewicht]])","v":""},"",""]
[{"$f":"lammering[[#This Row],[Ooi]]","v":0},{"$f":"IF(A387=0,0,IF(A387=A386,0,1))","v":0},{"$f":"IF(B387=1,A387,0)","v":0},{"$f":"IF(lammering[[#This Row],[Lam-nummer]]=\"\",0,1)","v":0},{"$f":"IF(lammering[[#This Row],[Dood in geboorte]]=\"ja\",1,0)","v":0},{"$f":"IF(lammering[[#This Row],[Ooi]]=\"\",0,IF(Berekeningen!E387=0,1,0))","v":0},{"$f":"IF(D387=0,0,IF(lammering[[#This Row],[Dood in geboorte]]=\"Ja\",0,IF(lammering[[#This Row],[Dood na geboorte]]=\"ja\",0,1)))","v":0},{"$f":"IF(lammering[[#This Row],[Opfok met kunstmelk]]=\"Ja\",1,0)","v":0},{"$f":"IF(lammering[[#This Row],[geslacht]]=\"O\",1,0)","v":0},{"$f":"IF(lammering[[#This Row],[Speen-datum]]=\"\",\"\",(lammering[[#This Row],[Speen-gewicht]]-lammering[[#This Row],[geboorte-gewicht]])/(lammering[[#This Row],[Speen-datum]]-lammering[[#This Row],[Werp-datum]]))","v":""},{"$f":"IF(lammering[[#This Row],[Verkoop-datum]]=\"\",\"\",(lammering[[#This Row],[Verkoop-gewicht]]-lammering[[#This Row],[Speen-gewicht]])/(lammering[[#This Row],[Verkoop-datum]]-lammering[[#This Row],[Speen-datum]]))","v":""},{"$f":"IF(lammering[[#This Row],[Verkoop-datum]]=\"\",\"\",(lammering[[#This Row],[Verkoop-gewicht]]-lammering[[#This Row],[geboorte-gewicht]])/(lammering[[#This Row],[Verkoop-datum]]-lammering[[#This Row],[Werp-datum]]))","v":""},"","","","","","",{"$f":"IF(lammering[[#This Row],[Verkoop-gewicht]]=\"\",\"\",lammering[[#This Row],[Verkoop-gewicht]]-lammering[[#This Row],[geboorte-gewicht]])","v":""},"",""]
[{"$f":"lammering[[#This Row],[Ooi]]","v":0},0,0,{"$f":"IF(lammering[[#This Row],[Lam-nummer]]=\"\",0,1)","v":0},{"$f":"IF(lammering[[#This Row],[Dood in geboorte]]=\"ja\",1,0)","v":0},{"$f":"IF(lammering[[#This Row],[Ooi]]=\"\",0,IF(Berekeningen!E388=0,1,0))","v":0},{"$f":"IF(D388=0,0,IF(lammering[[#This Row],[Dood in geboorte]]=\"Ja\",0,IF(lammering[[#This Row],[Dood na geboorte]]=\"ja\",0,1)))","v":0},{"$f":"IF(lammering[[#This Row],[Opfok met kunstmelk]]=\"Ja\",1,0)","v":0},{"$f":"IF(lammering[[#This Row],[geslacht]]=\"O\",1,0)","v":0},{"$f":"IF(lammering[[#This Row],[Speen-datum]]=\"\",\"\",(lammering[[#This Row],[Speen-gewicht]]-lammering[[#This Row],[geboorte-gewicht]])/(lammering[[#This Row],[Speen-datum]]-lammering[[#This Row],[Werp-datum]]))","v":""},{"$f":"IF(lammering[[#This Row],[Verkoop-datum]]=\"\",\"\",(lammering[[#This Row],[Verkoop-gewicht]]-lammering[[#This Row],[Speen-gewicht]])/(lammering[[#This Row],[Verkoop-datum]]-lammering[[#This Row],[Speen-datum]]))","v":""},{"$f":"IF(lammering[[#This Row],[Verkoop-datum]]=\"\",\"\",(lammering[[#This Row],[Verkoop-gewicht]]-lammering[[#This Row],[geboorte-gewicht]])/(lammering[[#This Row],[Verkoop-datum]]-lammering[[#This Row],[Werp-datum]]))","v":""},"","","","","","",{"$f":"IF(lammering[[#This Row],[Verkoop-gewicht]]=\"\",\"\",lammering[[#This Row],[Verkoop-gewicht]]-lammering[[#This Row],[geboorte-gewicht]])","v":""},"",""]
[{"$f":"lammering[[#This Row],[Ooi]]","v":0},0,0,{"$f":"IF(lammering[[#This Row],[Lam-nummer]]=\"\",0,1)","v":0},{"$f":"IF(lammering[[#This Row],[Dood in geboorte]]=\"ja\",1,0)","v":0},{"$f":"IF(lammering[[#This Row],[Ooi]]=\"\",0,IF(Berekeningen!E389=0,1,0))","v":0},{"$f":"IF(D389=0,0,IF(lammering[[#This Row],[Dood in geboorte]]=\"Ja\",0,IF(lammering[[#This Row],[Dood na geboorte]]=\"ja\",0,1)))","v":0},{"$f":"IF(lammering[[#This Row],[Opfok met kunstmelk]]=\"Ja\",1,0)","v":0},{"$f":"IF(lammering[[#This Row],[geslacht]]=\"O\",1,0)","v":0},{"$f":"IF(lammering[[#This Row],[Speen-datum]]=\"\",\"\",(lammering[[#This Row],[Speen-gewicht]]-lammering[[#This Row],[geboorte-gewicht]])/(lammering[[#This Row],[Speen-datum]]-lammering[[#This Row],[Werp-datum]]))","v":""},{"$f":"IF(lammering[[#This Row],[Verkoop-datum]]=\"\",\"\",(lammering[[#This Row],[Verkoop-gewicht]]-lammering[[#This Row],[Speen-gewicht]])/(lammering[[#This Row],[Verkoop-datum]]-lammering[[#This Row],[Speen-datum]]))","v":""},{"$f":"IF(lammering[[#This Row],[Verkoop-datum]]=\"\",\"\",(lammering[[#This Row],[Verkoop-gewicht]]-lammering[[#This Row],[geboorte-gewicht]])/(lammering[[#This Row],[Verkoop-datum]]-lammering[[#This Row],[Werp-datum]]))","v":""},"","","","","","",{"$f":"IF(lammering[[#This Row],[Verkoop-gewicht]]=\"\",\"\",lammering[[#This Row],[Verkoop-gewicht]]-lammering[[#This Row],[geboorte-gewicht]])","v":""},"",""]
[{"$f":"lammering[[#This Row],[Ooi]]","v":0},0,0,{"$f":"IF(lammering[[#This Row],[Lam-nummer]]=\"\",0,1)","v":0},{"$f":"IF(lammering[[#This Row],[Dood in geboorte]]=\"ja\",1,0)","v":0},{"$f":"IF(lammering[[#This Row],[Ooi]]=\"\",0,IF(Berekeningen!E390=0,1,0))","v":0},{"$f":"IF(D390=0,0,IF(lammering[[#This Row],[Dood in geboorte]]=\"Ja\",0,IF(lammering[[#This Row],[Dood na geboorte]]=\"ja\",0,1)))","v":0},{"$f":"IF(lammering[[#This Row],[Opfok met kunstmelk]]=\"Ja\",1,0)","v":0},{"$f":"IF(lammering[[#This Row],[geslacht]]=\"O\",1,0)","v":0},{"$f":"IF(lammering[[#This Row],[Speen-datum]]=\"\",\"\",(lammering[[#This Row],[Speen-gewicht]]-lammering[[#This Row],[geboorte-gewicht]])/(lammering[[#This Row],[Speen-datum]]-lammering[[#This Row],[Werp-datum]]))","v":""},{"$f":"IF(lammering[[#This Row],[Verkoop-datum]]=\"\",\"\",(lammering[[#This Row],[Verkoop-gewicht]]-lammering[[#This Row],[Speen-gewicht]])/(lammering[[#This Row],[Verkoop-datum]]-lammering[[#This Row],[Speen-datum]]))","v":""},{"$f":"IF(lammering[[#This Row],[Verkoop-datum]]=\"\",\"\",(lammering[[#This Row],[Verkoop-gewicht]]-lammering[[#This Row],[geboorte-gewicht]])/(lammering[[#This Row],[Verkoop-datum]]-lammering[[#This Row],[Werp-datum]]))","v":""},"","","","","","",{"$f":"IF(lammering[[#This Row],[Verkoop-gewicht]]=\"\",\"\",lammering[[#This Row],[Verkoop-gewicht]]-lammering[[#This Row],[geboorte-gewicht]])","v":""},"",""]
[{"$f":"lammering[[#This Row],[Ooi]]","v":0},0,0,{"$f":"IF(lammering[[#This Row],[Lam-nummer]]=\"\",0,1)","v":0},{"$f":"IF(lammering[[#This Row],[Dood in geboorte]]=\"ja\",1,0)","v":0},{"$f":"IF(lammering[[#This Row],[Ooi]]=\"\",0,IF(Berekeningen!E391=0,1,0))","v":0},{"$f":"IF(D391=0,0,IF(lammering[[#This Row],[Dood in geboorte]]=\"Ja\",0,IF(lammering[[#This Row],[Dood na geboorte]]=\"ja\",0,1)))","v":0},{"$f":"IF(lammering[[#This Row],[Opfok met kunstmelk]]=\"Ja\",1,0)","v":0},{"$f":"IF(lammering[[#This Row],[geslacht]]=\"O\",1,0)","v":0},{"$f":"IF(lammering[[#This Row],[Speen-datum]]=\"\",\"\",(lammering[[#This Row],[Speen-gewicht]]-lammering[[#This Row],[geboorte-gewicht]])/(lammering[[#This Row],[Speen-datum]]-lammering[[#This Row],[Werp-datum]]))","v":""},{"$f":"IF(lammering[[#This Row],[Verkoop-datum]]=\"\",\"\",(lammering[[#This Row],[Verkoop-gewicht]]-lammering[[#This Row],[Speen-gewicht]])/(lammering[[#This Row],[Verkoop-datum]]-lammering[[#This Row],[Speen-datum]]))","v":""},{"$f":"IF(lammering[[#This Row],[Verkoop-datum]]=\"\",\"\",(lammering[[#This Row],[Verkoop-gewicht]]-lammering[[#This Row],[geboorte-gewicht]])/(lammering[[#This Row],[Verkoop-datum]]-lammering[[#This Row],[Werp-datum]]))","v":""},"","","","","","",{"$f":"IF(lammering[[#This Row],[Verkoop-gewicht]]=\"\",\"\",lammering[[#This Row],[Verkoop-gewicht]]-lammering[[#This Row],[geboorte-gewicht]])","v":""},"",""]
[{"$f":"lammering[[#This Row],[Ooi]]","v":0},0,0,{"$f":"IF(lammering[[#This Row],[Lam-nummer]]=\"\",0,1)","v":0},{"$f":"IF(lammering[[#This Row],[Dood in geboorte]]=\"ja\",1,0)","v":0},{"$f":"IF(lammering[[#This Row],[Ooi]]=\"\",0,IF(Berekeningen!E392=0,1,0))","v":0},{"$f":"IF(D392=0,0,IF(lammering[[#This Row],[Dood in geboorte]]=\"Ja\",0,IF(lammering[[#This Row],[Dood na geboorte]]=\"ja\",0,1)))","v":0},{"$f":"IF(lammering[[#This Row],[Opfok met kunstmelk]]=\"Ja\",1,0)","v":0},{"$f":"IF(lammering[[#This Row],[geslacht]]=\"O\",1,0)","v":0},{"$f":"IF(lammering[[#This Row],[Speen-datum]]=\"\",\"\",(lammering[[#This Row],[Speen-gewicht]]-lammering[[#This Row],[geboorte-gewicht]])/(lammering[[#This Row],[Speen-datum]]-lammering[[#This Row],[Werp-datum]]))","v":""},{"$f":"IF(lammering[[#This Row],[Verkoop-datum]]=\"\",\"\",(lammering[[#This Row],[Verkoop-gewicht]]-lammering[[#This Row],[Speen-gewicht]])/(lammering[[#This Row],[Verkoop-datum]]-lammering[[#This Row],[Speen-datum]]))","v":""},{"$f":"IF(lammering[[#This Row],[Verkoop-datum]]=\"\",\"\",(lammering[[#This Row],[Verkoop-gewicht]]-lammering[[#This Row],[geboorte-gewicht]])/(lammering[[#This Row],[Verkoop-datum]]-lammering[[#This Row],[Werp-datum]]))","v":""},"","","","","","",{"$f":"IF(lammering[[#This Row],[Verkoop-gewicht]]=\"\",\"\",lammering[[#This Row],[Verkoop-gewicht]]-lammering[[#This Row],[geboorte-gewicht]])","v":""},"",""]
[{"$f":"lammering[[#This Row],[Ooi]]","v":0},0,0,{"$f":"IF(lammering[[#This Row],[Lam-nummer]]=\"\",0,1)","v":0},{"$f":"IF(lammering[[#This Row],[Dood in geboorte]]=\"ja\",1,0)","v":0},{"$f":"IF(lammering[[#This Row],[Ooi]]=\"\",0,IF(Berekeningen!E393=0,1,0))","v":0},{"$f":"IF(D393=0,0,IF(lammering[[#This Row],[Dood in geboorte]]=\"Ja\",0,IF(lammering[[#This Row],[Dood na geboorte]]=\"ja\",0,1)))","v":0},{"$f":"IF(lammering[[#This Row],[Opfok met kunstmelk]]=\"Ja\",1,0)","v":0},{"$f":"IF(lammering[[#This Row],[geslacht]]=\"O\",1,0)","v":0},{"$f":"IF(lammering[[#This Row],[Speen-datum]]=\"\",\"\",(lammering[[#This Row],[Speen-gewicht]]-lammering[[#This Row],[geboorte-gewicht]])/(lammering[[#This Row],[Speen-datum]]-lammering[[#This Row],[Werp-datum]]))","v":""},{"$f":"IF(lammering[[#This Row],[Verkoop-datum]]=\"\",\"\",(lammering[[#This Row],[Verkoop-gewicht]]-lammering[[#This Row],[Speen-gewicht]])/(lammering[[#This Row],[Verkoop-datum]]-lammering[[#This Row],[Speen-datum]]))","v":""},{"$f":"IF(lammering[[#This Row],[Verkoop-datum]]=\"\",\"\",(lammering[[#This Row],[Verkoop-gewicht]]-lammering[[#This Row],[geboorte-gewicht]])/(lammering[[#This Row],[Verkoop-datum]]-lammering[[#This Row],[Werp-datum]]))","v":""},"","","","","","",{"$f":"IF(lammering[[#This Row],[Verkoop-gewicht]]=\"\",\"\",lammering[[#This Row],[Verkoop-gewicht]]-lammering[[#This Row],[geboorte-gewicht]])","v":""},"",""]
[{"$f":"lammering[[#This Row],[Ooi]]","v":0},0,0,{"$f":"IF(lammering[[#This Row],[Lam-nummer]]=\"\",0,1)","v":0},{"$f":"IF(lammering[[#This Row],[Dood in geboorte]]=\"ja\",1,0)","v":0},{"$f":"IF(lammering[[#This Row],[Ooi]]=\"\",0,IF(Berekeningen!E394=0,1,0))","v":0},{"$f":"IF(D394=0,0,IF(lammering[[#This Row],[Dood in geboorte]]=\"Ja\",0,IF(lammering[[#This Row],[Dood na geboorte]]=\"ja\",0,1)))","v":0},{"$f":"IF(lammering[[#This Row],[Opfok met kunstmelk]]=\"Ja\",1,0)","v":0},{"$f":"IF(lammering[[#This Row],[geslacht]]=\"O\",1,0)","v":0},{"$f":"IF(lammering[[#This Row],[Speen-datum]]=\"\",\"\",(lammering[[#This Row],[Speen-gewicht]]-lammering[[#This Row],[geboorte-gewicht]])/(lammering[[#This Row],[Speen-datum]]-lammering[[#This Row],[Werp-datum]]))","v":""},{"$f":"IF(lammering[[#This Row],[Verkoop-datum]]=\"\",\"\",(lammering[[#This Row],[Verkoop-gewicht]]-lammering[[#This Row],[Speen-gewicht]])/(lammering[[#This Row],[Verkoop-datum]]-lammering[[#This Row],[Speen-datum]]))","v":""},{"$f":"IF(lammering[[#This Row],[Verkoop-datum]]=\"\",\"\",(lammering[[#This Row],[Verkoop-gewicht]]-lammering[[#This Row],[geboorte-gewicht]])/(lammering[[#This Row],[Verkoop-datum]]-lammering[[#This Row],[Werp-datum]]))","v":""},"","","","","","",{"$f":"IF(lammering[[#This Row],[Verkoop-gewicht]]=\"\",\"\",lammering[[#This Row],[Verkoop-gewicht]]-lammering[[#This Row],[geboorte-gewicht]])","v":""},"",""]
[{"$f":"lammering[[#This Row],[Ooi]]","v":0},0,0,{"$f":"IF(lammering[[#This Row],[Lam-nummer]]=\"\",0,1)","v":0},{"$f":"IF(lammering[[#This Row],[Dood in geboorte]]=\"ja\",1,0)","v":0},{"$f":"IF(lammering[[#This Row],[Ooi]]=\"\",0,IF(Berekeningen!E395=0,1,0))","v":0},{"$f":"IF(D395=0,0,IF(lammering[[#This Row],[Dood in geboorte]]=\"Ja\",0,IF(lammering[[#This Row],[Dood na geboorte]]=\"ja\",0,1)))","v":0},{"$f":"IF(lammering[[#This Row],[Opfok met kunstmelk]]=\"Ja\",1,0)","v":0},{"$f":"IF(lammering[[#This Row],[geslacht]]=\"O\",1,0)","v":0},{"$f":"IF(lammering[[#This Row],[Speen-datum]]=\"\",\"\",(lammering[[#This Row],[Speen-gewicht]]-lammering[[#This Row],[geboorte-gewicht]])/(lammering[[#This Row],[Speen-datum]]-lammering[[#This Row],[Werp-datum]]))","v":""},{"$f":"IF(lammering[[#This Row],[Verkoop-datum]]=\"\",\"\",(lammering[[#This Row],[Verkoop-gewicht]]-lammering[[#This Row],[Speen-gewicht]])/(lammering[[#This Row],[Verkoop-datum]]-lammering[[#This Row],[Speen-datum]]))","v":""},{"$f":"IF(lammering[[#This Row],[Verkoop-datum]]=\"\",\"\",(lammering[[#This Row],[Verkoop-gewicht]]-lammering[[#This Row],[geboorte-gewicht]])/(lammering[[#This Row],[Verkoop-datum]]-lammering[[#This Row],[Werp-datum]]))","v":""},"","","","","","",{"$f":"IF(lammering[[#This Row],[Verkoop-gewicht]]=\"\",\"\",lammering[[#This Row],[Verkoop-gewicht]]-lammering[[#This Row],[geboorte-gewicht]])","v":""},"",""]
[{"$f":"lammering[[#This Row],[Ooi]]","v":0},0,0,{"$f":"IF(lammering[[#This Row],[Lam-nummer]]=\"\",0,1)","v":0},{"$f":"IF(lammering[[#This Row],[Dood in geboorte]]=\"ja\",1,0)","v":0},{"$f":"IF(lammering[[#This Row],[Ooi]]=\"\",0,IF(Berekeningen!E396=0,1,0))","v":0},{"$f":"IF(D396=0,0,IF(lammering[[#This Row],[Dood in geboorte]]=\"Ja\",0,IF(lammering[[#This Row],[Dood na geboorte]]=\"ja\",0,1)))","v":0},{"$f":"IF(lammering[[#This Row],[Opfok met kunstmelk]]=\"Ja\",1,0)","v":0},{"$f":"IF(lammering[[#This Row],[geslacht]]=\"O\",1,0)","v":0},{"$f":"IF(lammering[[#This Row],[Speen-datum]]=\"\",\"\",(lammering[[#This Row],[Speen-gewicht]]-lammering[[#This Row],[geboorte-gewicht]])/(lammering[[#This Row],[Speen-datum]]-lammering[[#This Row],[Werp-datum]]))","v":""},{"$f":"IF(lammering[[#This Row],[Verkoop-datum]]=\"\",\"\",(lammering[[#This Row],[Verkoop-gewicht]]-lammering[[#This Row],[Speen-gewicht]])/(lammering[[#This Row],[Verkoop-datum]]-lammering[[#This Row],[Speen-datum]]))","v":""},{"$f":"IF(lammering[[#This Row],[Verkoop-datum]]=\"\",\"\",(lammering[[#This Row],[Verkoop-gewicht]]-lammering[[#This Row],[geboorte-gewicht]])/(lammering[[#This Row],[Verkoop-datum]]-lammering[[#This Row],[Werp-datum]]))","v":""},"","","","","","",{"$f":"IF(lammering[[#This Row],[Verkoop-gewicht]]=\"\",\"\",lammering[[#This Row],[Verkoop-gewicht]]-lammering[[#This Row],[geboorte-gewicht]])","v":""},"",""]
[{"$f":"lammering[[#This Row],[Ooi]]","v":0},0,0,{"$f":"IF(lammering[[#This Row],[Lam-nummer]]=\"\",0,1)","v":0},{"$f":"IF(lammering[[#This Row],[Dood in geboorte]]=\"ja\",1,0)","v":0},{"$f":"IF(lammering[[#This Row],[Ooi]]=\"\",0,IF(Berekeningen!E397=0,1,0))","v":0},{"$f":"IF(D397=0,0,IF(lammering[[#This Row],[Dood in geboorte]]=\"Ja\",0,IF(lammering[[#This Row],[Dood na geboorte]]=\"ja\",0,1)))","v":0},{"$f":"IF(lammering[[#This Row],[Opfok met kunstmelk]]=\"Ja\",1,0)","v":0},{"$f":"IF(lammering[[#This Row],[geslacht]]=\"O\",1,0)","v":0},{"$f":"IF(lammering[[#This Row],[Speen-datum]]=\"\",\"\",(lammering[[#This Row],[Speen-gewicht]]-lammering[[#This Row],[geboorte-gewicht]])/(lammering[[#This Row],[Speen-datum]]-lammering[[#This Row],[Werp-datum]]))","v":""},{"$f":"IF(lammering[[#This Row],[Verkoop-datum]]=\"\",\"\",(lammering[[#This Row],[Verkoop-gewicht]]-lammering[[#This Row],[Speen-gewicht]])/(lammering[[#This Row],[Verkoop-datum]]-lammering[[#This Row],[Speen-datum]]))","v":""},{"$f":"IF(lammering[[#This Row],[Verkoop-datum]]=\"\",\"\",(lammering[[#This Row],[Verkoop-gewicht]]-lammering[[#This Row],[geboorte-gewicht]])/(lammering[[#This Row],[Verkoop-datum]]-lammering[[#This Row],[Werp-datum]]))","v":""},"","","","","","",{"$f":"IF(lammering[[#This Row],[Verkoop-gewicht]]=\"\",\"\",lammering[[#This Row],[Verkoop-gewicht]]-lammering[[#This Row],[geboorte-gewicht]])","v":""},"",""]
[{"$f":"lammering[[#This Row],[Ooi]]","v":0},0,0,{"$f":"IF(lammering[[#This Row],[Lam-nummer]]=\"\",0,1)","v":0},{"$f":"IF(lammering[[#This Row],[Dood in geboorte]]=\"ja\",1,0)","v":0},{"$f":"IF(lammering[[#This Row],[Ooi]]=\"\",0,IF(Berekeningen!E398=0,1,0))","v":0},{"$f":"IF(D398=0,0,IF(lammering[[#This Row],[Dood in geboorte]]=\"Ja\",0,IF(lammering[[#This Row],[Dood na geboorte]]=\"ja\",0,1)))","v":0},{"$f":"IF(lammering[[#This Row],[Opfok met kunstmelk]]=\"Ja\",1,0)","v":0},{"$f":"IF(lammering[[#This Row],[geslacht]]=\"O\",1,0)","v":0},{"$f":"IF(lammering[[#This Row],[Speen-datum]]=\"\",\"\",(lammering[[#This Row],[Speen-gewicht]]-lammering[[#This Row],[geboorte-gewicht]])/(lammering[[#This Row],[Speen-datum]]-lammering[[#This Row],[Werp-datum]]))","v":""},{"$f":"IF(lammering[[#This Row],[Verkoop-datum]]=\"\",\"\",(lammering[[#This Row],[Verkoop-gewicht]]-lammering[[#This Row],[Speen-gewicht]])/(lammering[[#This Row],[Verkoop-datum]]-lammering[[#This Row],[Speen-datum]]))","v":""},{"$f":"IF(lammering[[#This Row],[Verkoop-datum]]=\"\",\"\",(lammering[[#This Row],[Verkoop-gewicht]]-lammering[[#This Row],[geboorte-gewicht]])/(lammering[[#This Row],[Verkoop-datum]]-lammering[[#This Row],[Werp-datum]]))","v":""},"","","","","","",{"$f":"IF(lammering[[#This Row],[Verkoop-gewicht]]=\"\",\"\",lammering[[#This Row],[Verkoop-gewicht]]-lammering[[#This Row],[geboorte-gewicht]])","v":""},"",""]
[{"$f":"lammering[[#This Row],[Ooi]]","v":0},0,0,{"$f":"IF(lammering[[#This Row],[Lam-nummer]]=\"\",0,1)","v":0},{"$f":"IF(lammering[[#This Row],[Dood in geboorte]]=\"ja\",1,0)","v":0},{"$f":"IF(lammering[[#This Row],[Ooi]]=\"\",0,IF(Berekeningen!E399=0,1,0))","v":0},{"$f":"IF(D399=0,0,IF(lammering[[#This Row],[Dood in geboorte]]=\"Ja\",0,IF(lammering[[#This Row],[Dood na geboorte]]=\"ja\",0,1)))","v":0},{"$f":"IF(lammering[[#This Row],[Opfok met kunstmelk]]=\"Ja\",1,0)","v":0},{"$f":"IF(lammering[[#This Row],[geslacht]]=\"O\",1,0)","v":0},{"$f":"IF(lammering[[#This Row],[Speen-datum]]=\"\",\"\",(lammering[[#This Row],[Speen-gewicht]]-lammering[[#This Row],[geboorte-gewicht]])/(lammering[[#This Row],[Speen-datum]]-lammering[[#This Row],[Werp-datum]]))","v":""},{"$f":"IF(lammering[[#This Row],[Verkoop-datum]]=\"\",\"\",(lammering[[#This Row],[Verkoop-gewicht]]-lammering[[#This Row],[Speen-gewicht]])/(lammering[[#This Row],[Verkoop-datum]]-lammering[[#This Row],[Speen-datum]]))","v":""},{"$f":"IF(lammering[[#This Row],[Verkoop-datum]]=\"\",\"\",(lammering[[#This Row],[Verkoop-gewicht]]-lammering[[#This Row],[geboorte-gewicht]])/(lammering[[#This Row],[Verkoop-datum]]-lammering[[#This Row],[Werp-datum]]))","v":""},{"$f":"IF($I399=1,J399,\"\")","v":""},{"$f":"IF($I399=1,K399,\"\")","v":""},{"$f":"IF($I399=1,L399,\"\")","v":""},{"$f":"IF($I399=0,J399,\"\")","v":""},{"$f":"IF($I399=0,K399,\"\")","v":""},{"$f":"IF($I399=0,L399,\"\")","v":""},{"$f":"IF(lammering[[#This Row],[Verkoop-gewicht]]=\"\",\"\",lammering[[#This Row],[Verkoop-gewicht]]-lammering[[#This Row],[geboorte-gewicht]])","v":""},{"$f":"IF(I399=1,S399,\"\")","v":""},{"$f":"IF(I399=0,S399,\"\")","v":""}]
[{"$f":"lammering[[#This Row],[Ooi]]","v":0},0,0,{"$f":"IF(lammering[[#This Row],[Lam-nummer]]=\"\",0,1)","v":0},{"$f":"IF(lammering[[#This Row],[Dood in geboorte]]=\"ja\",1,0)","v":0},{"$f":"IF(lammering[[#This Row],[Ooi]]=\"\",0,IF(Berekeningen!E400=0,1,0))","v":0},{"$f":"IF(D400=0,0,IF(lammering[[#This Row],[Dood in geboorte]]=\"Ja\",0,IF(lammering[[#This Row],[Dood na geboorte]]=\"ja\",0,1)))","v":0},{"$f":"IF(lammering[[#This Row],[Opfok met kunstmelk]]=\"Ja\",1,0)","v":0},{"$f":"IF(lammering[[#This Row],[geslacht]]=\"O\",1,0)","v":0},{"$f":"IF(lammering[[#This Row],[Speen-datum]]=\"\",\"\",(lammering[[#This Row],[Speen-gewicht]]-lammering[[#This Row],[geboorte-gewicht]])/(lammering[[#This Row],[Speen-datum]]-lammering[[#This Row],[Werp-datum]]))","v":""},{"$f":"IF(lammering[[#This Row],[Verkoop-datum]]=\"\",\"\",(lammering[[#This Row],[Verkoop-gewicht]]-lammering[[#This Row],[Speen-gewicht]])/(lammering[[#This Row],[Verkoop-datum]]-lammering[[#This Row],[Speen-datum]]))","v":""},{"$f":"IF(lammering[[#This Row],[Verkoop-datum]]=\"\",\"\",(lammering[[#This Row],[Verkoop-gewicht]]-lammering[[#This Row],[geboorte-gewicht]])/(lammering[[#This Row],[Verkoop-datum]]-lammering[[#This Row],[Werp-datum]]))","v":""},"","","","","","",{"$f":"IF(lammering[[#This Row],[Verkoop-gewicht]]=\"\",\"\",lammering[[#This Row],[Verkoop-gewicht]]-lammering[[#This Row],[geboorte-gewicht]])","v":""},"",""]
[{"$f":"lammering[[#This Row],[Ooi]]","v":0},0,0,{"$f":"IF(lammering[[#This Row],[Lam-nummer]]=\"\",0,1)","v":0},{"$f":"IF(lammering[[#This Row],[Dood in geboorte]]=\"ja\",1,0)","v":0},{"$f":"IF(lammering[[#This Row],[Ooi]]=\"\",0,IF(Berekeningen!E401=0,1,0))","v":0},{"$f":"IF(D401=0,0,IF(lammering[[#This Row],[Dood in geboorte]]=\"Ja\",0,IF(lammering[[#This Row],[Dood na geboorte]]=\"ja\",0,1)))","v":0},{"$f":"IF(lammering[[#This Row],[Opfok met kunstmelk]]=\"Ja\",1,0)","v":0},{"$f":"IF(lammering[[#This Row],[geslacht]]=\"O\",1,0)","v":0},{"$f":"IF(lammering[[#This Row],[Speen-datum]]=\"\",\"\",(lammering[[#This Row],[Speen-gewicht]]-lammering[[#This Row],[geboorte-gewicht]])/(lammering[[#This Row],[Speen-datum]]-lammering[[#This Row],[Werp-datum]]))","v":""},{"$f":"IF(lammering[[#This Row],[Verkoop-datum]]=\"\",\"\",(lammering[[#This Row],[Verkoop-gewicht]]-lammering[[#This Row],[Speen-gewicht]])/(lammering[[#This Row],[Verkoop-datum]]-lammering[[#This Row],[Speen-datum]]))","v":""},{"$f":"IF(lammering[[#This Row],[Verkoop-datum]]=\"\",\"\",(lammering[[#This Row],[Verkoop-gewicht]]-lammering[[#This Row],[geboorte-gewicht]])/(lammering[[#This Row],[Verkoop-datum]]-lammering[[#This Row],[Werp-datum]]))","v":""},"","","","","","",{"$f":"IF(lammering[[#This Row],[Verkoop-gewicht]]=\"\",\"\",lammering[[#This Row],[Verkoop-gewicht]]-lammering[[#This Row],[geboorte-gewicht]])","v":""},"",""]
[{"$f":"lammering[[#This Row],[Ooi]]","v":0},0,0,{"$f":"IF(lammering[[#This Row],[Lam-nummer]]=\"\",0,1)","v":0},{"$f":"IF(lammering[[#This Row],[Dood in geboorte]]=\"ja\",1,0)","v":0},{"$f":"IF(lammering[[#This Row],[Ooi]]=\"\",0,IF(Berekeningen!E402=0,1,0))","v":0},{"$f":"IF(D402=0,0,IF(lammering[[#This Row],[Dood in geboorte]]=\"Ja\",0,IF(lammering[[#This Row],[Dood na geboorte]]=\"ja\",0,1)))","v":0},{"$f":"IF(lammering[[#This Row],[Opfok met kunstmelk]]=\"Ja\",1,0)","v":0},{"$f":"IF(lammering[[#This Row],[geslacht]]=\"O\",1,0)","v":0},{"$f":"IF(lammering[[#This Row],[Speen-datum]]=\"\",\"\",(lammering[[#This Row],[Speen-gewicht]]-lammering[[#This Row],[geboorte-gewicht]])/(lammering[[#This Row],[Speen-datum]]-lammering[[#This Row],[Werp-datum]]))","v":""},{"$f":"IF(lammering[[#This Row],[Verkoop-datum]]=\"\",\"\",(lammering[[#This Row],[Verkoop-gewicht]]-lammering[[#This Row],[Speen-gewicht]])/(lammering[[#This Row],[Verkoop-datum]]-lammering[[#This Row],[Speen-datum]]))","v":""},{"$f":"IF(lammering[[#This Row],[Verkoop-datum]]=\"\",\"\",(lammering[[#This Row],[Verkoop-gewicht]]-lammering[[#This Row],[geboorte-gewicht]])/(lammering[[#This Row],[Verkoop-datum]]-lammering[[#This Row],[Werp-datum]]))","v":""},"","","","","","",{"$f":"IF(lammering[[#This Row],[Verkoop-gewicht]]=\"\",\"\",lammering[[#This Row],[Verkoop-gewicht]]-lammering[[#This Row],[geboorte-gewicht]])","v":""},"",""]
[{"$f":"lammering[[#This Row],[Ooi]]","v":0},0,0,{"$f":"IF(lammering[[#This Row],[Lam-nummer]]=\"\",0,1)","v":0},{"$f":"IF(lammering[[#This Row],[Dood in geboorte]]=\"ja\",1,0)","v":0},{"$f":"IF(lammering[[#This Row],[Ooi]]=\"\",0,IF(Berekeningen!E403=0,1,0))","v":0},{"$f":"IF(D403=0,0,IF(lammering[[#This Row],[Dood in geboorte]]=\"Ja\",0,IF(lammering[[#This Row],[Dood na geboorte]]=\"ja\",0,1)))","v":0},{"$f":"IF(lammering[[#This Row],[Opfok met kunstmelk]]=\"Ja\",1,0)","v":0},{"$f":"IF(lammering[[#This Row],[geslacht]]=\"O\",1,0)","v":0},{"$f":"IF(lammering[[#This Row],[Speen-datum]]=\"\",\"\",(lammering[[#This Row],[Speen-gewicht]]-lammering[[#This Row],[geboorte-gewicht]])/(lammering[[#This Row],[Speen-datum]]-lammering[[#This Row],[Werp-datum]]))","v":""},{"$f":"IF(lammering[[#This Row],[Verkoop-datum]]=\"\",\"\",(lammering[[#This Row],[Verkoop-gewicht]]-lammering[[#This Row],[Speen-gewicht]])/(lammering[[#This Row],[Verkoop-datum]]-lammering[[#This Row],[Speen-datum]]))","v":""},{"$f":"IF(lammering[[#This Row],[Verkoop-datum]]=\"\",\"\",(lammering[[#This Row],[Verkoop-gewicht]]-lammering[[#This Row],[geboorte-gewicht]])/(lammering[[#This Row],[Verkoop-datum]]-lammering[[#This Row],[Werp-datum]]))","v":""},"","","","","","",{"$f":"IF(lammering[[#This Row],[Verkoop-gewicht]]=\"\",\"\",lammering[[#This Row],[Verkoop-gewicht]]-lammering[[#This Row],[geboorte-gewicht]])","v":""},"",""]
[{"$f":"lammering[[#This Row],[Ooi]]","v":0},0,0,{"$f":"IF(lammering[[#This Row],[Lam-nummer]]=\"\",0,1)","v":0},{"$f":"IF(lammering[[#This Row],[Dood in geboorte]]=\"ja\",1,0)","v":0},{"$f":"IF(lammering[[#This Row],[Ooi]]=\"\",0,IF(Berekeningen!E404=0,1,0))","v":0},{"$f":"IF(D404=0,0,IF(lammering[[#This Row],[Dood in geboorte]]=\"Ja\",0,IF(lammering[[#This Row],[Dood na geboorte]]=\"ja\",0,1)))","v":0},{"$f":"IF(lammering[[#This Row],[Opfok met kunstmelk]]=\"Ja\",1,0)","v":0},{"$f":"IF(lammering[[#This Row],[geslacht]]=\"O\",1,0)","v":0},{"$f":"IF(lammering[[#This Row],[Speen-datum]]=\"\",\"\",(lammering[[#This Row],[Speen-gewicht]]-lammering[[#This Row],[geboorte-gewicht]])/(lammering[[#This Row],[Speen-datum]]-lammering[[#This Row],[Werp-datum]]))","v":""},{"$f":"IF(lammering[[#This Row],[Verkoop-datum]]=\"\",\"\",(lammering[[#This Row],[Verkoop-gewicht]]-lammering[[#This Row],[Speen-gewicht]])/(lammering[[#This Row],[Verkoop-datum]]-lammering[[#This Row],[Speen-datum]]))","v":""},{"$f":"IF(lammering[[#This Row],[Verkoop-datum]]=\"\",\"\",(lammering[[#This Row],[Verkoop-gewicht]]-lammering[[#This Row],[geboorte-gewicht]])/(lammering[[#This Row],[Verkoop-datum]]-lammering[[#This Row],[Werp-datum]]))","v":""},"","","","","","",{"$f":"IF(lammering[[#This Row],[Verkoop-gewicht]]=\"\",\"\",lammering[[#This Row],[Verkoop-gewicht]]-lammering[[#This Row],[geboorte-gewicht]])","v":""},"",""]
[{"$f":"lammering[[#This Row],[Ooi]]","v":0},0,0,{"$f":"IF(lammering[[#This Row],[Lam-nummer]]=\"\",0,1)","v":0},{"$f":"IF(lammering[[#This Row],[Dood in geboorte]]=\"ja\",1,0)","v":0},{"$f":"IF(lammering[[#This Row],[Ooi]]=\"\",0,IF(Berekeningen!E405=0,1,0))","v":0},{"$f":"IF(D405=0,0,IF(lammering[[#This Row],[Dood in geboorte]]=\"Ja\",0,IF(lammering[[#This Row],[Dood na geboorte]]=\"ja\",0,1)))","v":0},{"$f":"IF(lammering[[#This Row],[Opfok met kunstmelk]]=\"Ja\",1,0)","v":0},{"$f":"IF(lammering[[#This Row],[geslacht]]=\"O\",1,0)","v":0},{"$f":"IF(lammering[[#This Row],[Speen-datum]]=\"\",\"\",(lammering[[#This Row],[Speen-gewicht]]-lammering[[#This Row],[geboorte-gewicht]])/(lammering[[#This Row],[Speen-datum]]-lammering[[#This Row],[Werp-datum]]))","v":""},{"$f":"IF(lammering[[#This Row],[Verkoop-datum]]=\"\",\"\",(lammering[[#This Row],[Verkoop-gewicht]]-lammering[[#This Row],[Speen-gewicht]])/(lammering[[#This Row],[Verkoop-datum]]-lammering[[#This Row],[Speen-datum]]))","v":""},{"$f":"IF(lammering[[#This Row],[Verkoop-datum]]=\"\",\"\",(lammering[[#This Row],[Verkoop-gewicht]]-lammering[[#This Row],[geboorte-gewicht]])/(lammering[[#This Row],[Verkoop-datum]]-lammering[[#This Row],[Werp-datum]]))","v":""},"","","","","","",{"$f":"IF(lammering[[#This Row],[Verkoop-gewicht]]=\"\",\"\",lammering[[#This Row],[Verkoop-gewicht]]-lammering[[#This Row],[geboorte-gewicht]])","v":""},"",""]
[{"$f":"lammering[[#This Row],[Ooi]]","v":0},0,0,{"$f":"IF(lammering[[#This Row],[Lam-nummer]]=\"\",0,1)","v":0},{"$f":"IF(lammering[[#This Row],[Dood in geboorte]]=\"ja\",1,0)","v":0},{"$f":"IF(lammering[[#This Row],[Ooi]]=\"\",0,IF(Berekeningen!E406=0,1,0))","v":0},{"$f":"IF(D406=0,0,IF(lammering[[#This Row],[Dood in geboorte]]=\"Ja\",0,IF(lammering[[#This Row],[Dood na geboorte]]=\"ja\",0,1)))","v":0},{"$f":"IF(lammering[[#This Row],[Opfok met kunstmelk]]=\"Ja\",1,0)","v":0},{"$f":"IF(lammering[[#This Row],[geslacht]]=\"O\",1,0)","v":0},{"$f":"IF(lammering[[#This Row],[Speen-datum]]=\"\",\"\",(lammering[[#This Row],[Speen-gewicht]]-lammering[[#This Row],[geboorte-gewicht]])/(lammering[[#This Row],[Speen-datum]]-lammering[[#This Row],[Werp-datum]]))","v":""},{"$f":"IF(lammering[[#This Row],[Verkoop-datum]]=\"\",\"\",(lammering[[#This Row],[Verkoop-gewicht]]-lammering[[#This Row],[Speen-gewicht]])/(lammering[[#This Row],[Verkoop-datum]]-lammering[[#This Row],[Speen-datum]]))","v":""},{"$f":"IF(lammering[[#This Row],[Verkoop-datum]]=\"\",\"\",(lammering[[#This Row],[Verkoop-gewicht]]-lammering[[#This Row],[geboorte-gewicht]])/(lammering[[#This Row],[Verkoop-datum]]-lammering[[#This Row],[Werp-datum]]))","v":""},"","","","","","",{"$f":"IF(lammering[[#This Row],[Verkoop-gewicht]]=\"\",\"\",lammering[[#This Row],[Verkoop-gewicht]]-lammering[[#This Row],[geboorte-gewicht]])","v":""},"",""]
[{"$f":"lammering[[#This Row],[Ooi]]","v":0},0,0,{"$f":"IF(lammering[[#This Row],[Lam-nummer]]=\"\",0,1)","v":0},{"$f":"IF(lammering[[#This Row],[Dood in geboorte]]=\"ja\",1,0)","v":0},{"$f":"IF(lammering[[#This Row],[Ooi]]=\"\",0,IF(Berekeningen!E407=0,1,0))","v":0},{"$f":"IF(D407=0,0,IF(lammering[[#This Row],[Dood in geboorte]]=\"Ja\",0,IF(lammering[[#This Row],[Dood na geboorte]]=\"ja\",0,1)))","v":0},{"$f":"IF(lammering[[#This Row],[Opfok met kunstmelk]]=\"Ja\",1,0)","v":0},{"$f":"IF(lammering[[#This Row],[geslacht]]=\"O\",1,0)","v":0},{"$f":"IF(lammering[[#This Row],[Speen-datum]]=\"\",\"\",(lammering[[#This Row],[Speen-gewicht]]-lammering[[#This Row],[geboorte-gewicht]])/(lammering[[#This Row],[Speen-datum]]-lammering[[#This Row],[Werp-datum]]))","v":""},{"$f":"IF(lammering[[#This Row],[Verkoop-datum]]=\"\",\"\",(lammering[[#This Row],[Verkoop-gewicht]]-lammering[[#This Row],[Speen-gewicht]])/(lammering[[#This Row],[Verkoop-datum]]-lammering[[#This Row],[Speen-datum]]))","v":""},{"$f":"IF(lammering[[#This Row],[Verkoop-datum]]=\"\",\"\",(lammering[[#This Row],[Verkoop-gewicht]]-lammering[[#This Row],[geboorte-gewicht]])/(lammering[[#This Row],[Verkoop-datum]]-lammering[[#This Row],[Werp-datum]]))","v":""},"","","","","","",{"$f":"IF(lammering[[#This Row],[Verkoop-gewicht]]=\"\",\"\",lammering[[#This Row],[Verkoop-gewicht]]-lammering[[#This Row],[geboorte-gewicht]])","v":""},"",""]
[{"$f":"lammering[[#This Row],[Ooi]]","v":0},0,0,{"$f":"IF(lammering[[#This Row],[Lam-nummer]]=\"\",0,1)","v":0},{"$f":"IF(lammering[[#This Row],[Dood in geboorte]]=\"ja\",1,0)","v":0},{"$f":"IF(lammering[[#This Row],[Ooi]]=\"\",0,IF(Berekeningen!E408=0,1,0))","v":0},{"$f":"IF(D408=0,0,IF(lammering[[#This Row],[Dood in geboorte]]=\"Ja\",0,IF(lammering[[#This Row],[Dood na geboorte]]=\"ja\",0,1)))","v":0},{"$f":"IF(lammering[[#This Row],[Opfok met kunstmelk]]=\"Ja\",1,0)","v":0},{"$f":"IF(lammering[[#This Row],[geslacht]]=\"O\",1,0)","v":0},{"$f":"IF(lammering[[#This Row],[Speen-datum]]=\"\",\"\",(lammering[[#This Row],[Speen-gewicht]]-lammering[[#This Row],[geboorte-gewicht]])/(lammering[[#This Row],[Speen-datum]]-lammering[[#This Row],[Werp-datum]]))","v":""},{"$f":"IF(lammering[[#This Row],[Verkoop-datum]]=\"\",\"\",(lammering[[#This Row],[Verkoop-gewicht]]-lammering[[#This Row],[Speen-gewicht]])/(lammering[[#This Row],[Verkoop-datum]]-lammering[[#This Row],[Speen-datum]]))","v":""},{"$f":"IF(lammering[[#This Row],[Verkoop-datum]]=\"\",\"\",(lammering[[#This Row],[Verkoop-gewicht]]-lammering[[#This Row],[geboorte-gewicht]])/(lammering[[#This Row],[Verkoop-datum]]-lammering[[#This Row],[Werp-datum]]))","v":""},"","","","","","",{"$f":"IF(lammering[[#This Row],[Verkoop-gewicht]]=\"\",\"\",lammering[[#This Row],[Verkoop-gewicht]]-lammering[[#This Row],[geboorte-gewicht]])","v":""},"",""]
[{"$f":"lammering[[#This Row],[Ooi]]","v":0},0,0,{"$f":"IF(lammering[[#This Row],[Lam-nummer]]=\"\",0,1)","v":0},{"$f":"IF(lammering[[#This Row],[Dood in geboorte]]=\"ja\",1,0)","v":0},{"$f":"IF(lammering[[#This Row],[Ooi]]=\"\",0,IF(Berekeningen!E409=0,1,0))","v":0},{"$f":"IF(D409=0,0,IF(lammering[[#This Row],[Dood in geboorte]]=\"Ja\",0,IF(lammering[[#This Row],[Dood na geboorte]]=\"ja\",0,1)))","v":0},{"$f":"IF(lammering[[#This Row],[Opfok met kunstmelk]]=\"Ja\",1,0)","v":0},{"$f":"IF(lammering[[#This Row],[geslacht]]=\"O\",1,0)","v":0},{"$f":"IF(lammering[[#This Row],[Speen-datum]]=\"\",\"\",(lammering[[#This Row],[Speen-gewicht]]-lammering[[#This Row],[geboorte-gewicht]])/(lammering[[#This Row],[Speen-datum]]-lammering[[#This Row],[Werp-datum]]))","v":""},{"$f":"IF(lammering[[#This Row],[Verkoop-datum]]=\"\",\"\",(lammering[[#This Row],[Verkoop-gewicht]]-lammering[[#This Row],[Speen-gewicht]])/(lammering[[#This Row],[Verkoop-datum]]-lammering[[#This Row],[Speen-datum]]))","v":""},{"$f":"IF(lammering[[#This Row],[Verkoop-datum]]=\"\",\"\",(lammering[[#This Row],[Verkoop-gewicht]]-lammering[[#This Row],[geboorte-gewicht]])/(lammering[[#This Row],[Verkoop-datum]]-lammering[[#This Row],[Werp-datum]]))","v":""},"","","","","","",{"$f":"IF(lammering[[#This Row],[Verkoop-gewicht]]=\"\",\"\",lammering[[#This Row],[Verkoop-gewicht]]-lammering[[#This Row],[geboorte-gewicht]])","v":""},"",""]
[{"$f":"lammering[[#This Row],[Ooi]]","v":0},0,0,{"$f":"IF(lammering[[#This Row],[Lam-nummer]]=\"\",0,1)","v":0},{"$f":"IF(lammering[[#This Row],[Dood in geboorte]]=\"ja\",1,0)","v":0},{"$f":"IF(lammering[[#This Row],[Ooi]]=\"\",0,IF(Berekeningen!E410=0,1,0))","v":0},{"$f":"IF(D410=0,0,IF(lammering[[#This Row],[Dood in geboorte]]=\"Ja\",0,IF(lammering[[#This Row],[Dood na geboorte]]=\"ja\",0,1)))","v":0},{"$f":"IF(lammering[[#This Row],[Opfok met kunstmelk]]=\"Ja\",1,0)","v":0},{"$f":"IF(lammering[[#This Row],[geslacht]]=\"O\",1,0)","v":0},{"$f":"IF(lammering[[#This Row],[Speen-datum]]=\"\",\"\",(lammering[[#This Row],[Speen-gewicht]]-lammering[[#This Row],[geboorte-gewicht]])/(lammering[[#This Row],[Speen-datum]]-lammering[[#This Row],[Werp-datum]]))","v":""},{"$f":"IF(lammering[[#This Row],[Verkoop-datum]]=\"\",\"\",(lammering[[#This Row],[Verkoop-gewicht]]-lammering[[#This Row],[Speen-gewicht]])/(lammering[[#This Row],[Verkoop-datum]]-lammering[[#This Row],[Speen-datum]]))","v":""},{"$f":"IF(lammering[[#This Row],[Verkoop-datum]]=\"\",\"\",(lammering[[#This Row],[Verkoop-gewicht]]-lammering[[#This Row],[geboorte-gewicht]])/(lammering[[#This Row],[Verkoop-datum]]-lammering[[#This Row],[Werp-datum]]))","v":""},"","","","","","",{"$f":"IF(lammering[[#This Row],[Verkoop-gewicht]]=\"\",\"\",lammering[[#This Row],[Verkoop-gewicht]]-lammering[[#This Row],[geboorte-gewicht]])","v":""},"",""]
[{"$f":"lammering[[#This Row],[Ooi]]","v":0},0,0,{"$f":"IF(lammering[[#This Row],[Lam-nummer]]=\"\",0,1)","v":0},{"$f":"IF(lammering[[#This Row],[Dood in geboorte]]=\"ja\",1,0)","v":0},{"$f":"IF(lammering[[#This Row],[Ooi]]=\"\",0,IF(Berekeningen!E411=0,1,0))","v":0},{"$f":"IF(D411=0,0,IF(lammering[[#This Row],[Dood in geboorte]]=\"Ja\",0,IF(lammering[[#This Row],[Dood na geboorte]]=\"ja\",0,1)))","v":0},{"$f":"IF(lammering[[#This Row],[Opfok met kunstmelk]]=\"Ja\",1,0)","v":0},{"$f":"IF(lammering[[#This Row],[geslacht]]=\"O\",1,0)","v":0},{"$f":"IF(lammering[[#This Row],[Speen-datum]]=\"\",\"\",(lammering[[#This Row],[Speen-gewicht]]-lammering[[#This Row],[geboorte-gewicht]])/(lammering[[#This Row],[Speen-datum]]-lammering[[#This Row],[Werp-datum]]))","v":""},{"$f":"IF(lammering[[#This Row],[Verkoop-datum]]=\"\",\"\",(lammering[[#This Row],[Verkoop-gewicht]]-lammering[[#This Row],[Speen-gewicht]])/(lammering[[#This Row],[Verkoop-datum]]-lammering[[#This Row],[Speen-datum]]))","v":""},{"$f":"IF(lammering[[#This Row],[Verkoop-datum]]=\"\",\"\",(lammering[[#This Row],[Verkoop-gewicht]]-lammering[[#This Row],[geboorte-gewicht]])/(lammering[[#This Row],[Verkoop-datum]]-lammering[[#This Row],[Werp-datum]]))","v":""},"","","","","","",{"$f":"IF(lammering[[#This Row],[Verkoop-gewicht]]=\"\",\"\",lammering[[#This Row],[Verkoop-gewicht]]-lammering[[#This Row],[geboorte-gewicht]])","v":""},"",""]
[{"$f":"lammering[[#This Row],[Ooi]]","v":0},0,0,{"$f":"IF(lammering[[#This Row],[Lam-nummer]]=\"\",0,1)","v":0},{"$f":"IF(lammering[[#This Row],[Dood in geboorte]]=\"ja\",1,0)","v":0},{"$f":"IF(lammering[[#This Row],[Ooi]]=\"\",0,IF(Berekeningen!E412=0,1,0))","v":0},{"$f":"IF(D412=0,0,IF(lammering[[#This Row],[Dood in geboorte]]=\"Ja\",0,IF(lammering[[#This Row],[Dood na geboorte]]=\"ja\",0,1)))","v":0},{"$f":"IF(lammering[[#This Row],[Opfok met kunstmelk]]=\"Ja\",1,0)","v":0},{"$f":"IF(lammering[[#This Row],[geslacht]]=\"O\",1,0)","v":0},{"$f":"IF(lammering[[#This Row],[Speen-datum]]=\"\",\"\",(lammering[[#This Row],[Speen-gewicht]]-lammering[[#This Row],[geboorte-gewicht]])/(lammering[[#This Row],[Speen-datum]]-lammering[[#This Row],[Werp-datum]]))","v":""},{"$f":"IF(lammering[[#This Row],[Verkoop-datum]]=\"\",\"\",(lammering[[#This Row],[Verkoop-gewicht]]-lammering[[#This Row],[Speen-gewicht]])/(lammering[[#This Row],[Verkoop-datum]]-lammering[[#This Row],[Speen-datum]]))","v":""},{"$f":"IF(lammering[[#This Row],[Verkoop-datum]]=\"\",\"\",(lammering[[#This Row],[Verkoop-gewicht]]-lammering[[#This Row],[geboorte-gewicht]])/(lammering[[#This Row],[Verkoop-datum]]-lammering[[#This Row],[Werp-datum]]))","v":""},"","","","","","",{"$f":"IF(lammering[[#This Row],[Verkoop-gewicht]]=\"\",\"\",lammering[[#This Row],[Verkoop-gewicht]]-lammering[[#This Row],[geboorte-gewicht]])","v":""},"",""]
[{"$f":"lammering[[#This Row],[Ooi]]","v":0},0,0,{"$f":"IF(lammering[[#This Row],[Lam-nummer]]=\"\",0,1)","v":0},{"$f":"IF(lammering[[#This Row],[Dood in geboorte]]=\"ja\",1,0)","v":0},{"$f":"IF(lammering[[#This Row],[Ooi]]=\"\",0,IF(Berekeningen!E413=0,1,0))","v":0},{"$f":"IF(D413=0,0,IF(lammering[[#This Row],[Dood in geboorte]]=\"Ja\",0,IF(lammering[[#This Row],[Dood na geboorte]]=\"ja\",0,1)))","v":0},{"$f":"IF(lammering[[#This Row],[Opfok met kunstmelk]]=\"Ja\",1,0)","v":0},{"$f":"IF(lammering[[#This Row],[geslacht]]=\"O\",1,0)","v":0},{"$f":"IF(lammering[[#This Row],[Speen-datum]]=\"\",\"\",(lammering[[#This Row],[Speen-gewicht]]-lammering[[#This Row],[geboorte-gewicht]])/(lammering[[#This Row],[Speen-datum]]-lammering[[#This Row],[Werp-datum]]))","v":""},{"$f":"IF(lammering[[#This Row],[Verkoop-datum]]=\"\",\"\",(lammering[[#This Row],[Verkoop-gewicht]]-lammering[[#This Row],[Speen-gewicht]])/(lammering[[#This Row],[Verkoop-datum]]-lammering[[#This Row],[Speen-datum]]))","v":""},{"$f":"IF(lammering[[#This Row],[Verkoop-datum]]=\"\",\"\",(lammering[[#This Row],[Verkoop-gewicht]]-lammering[[#This Row],[geboorte-gewicht]])/(lammering[[#This Row],[Verkoop-datum]]-lammering[[#This Row],[Werp-datum]]))","v":""},"","","","","","",{"$f":"IF(lammering[[#This Row],[Verkoop-gewicht]]=\"\",\"\",lammering[[#This Row],[Verkoop-gewicht]]-lammering[[#This Row],[geboorte-gewicht]])","v":""},"",""]
[{"$f":"lammering[[#This Row],[Ooi]]","v":0},0,0,{"$f":"IF(lammering[[#This Row],[Lam-nummer]]=\"\",0,1)","v":0},{"$f":"IF(lammering[[#This Row],[Dood in geboorte]]=\"ja\",1,0)","v":0},{"$f":"IF(lammering[[#This Row],[Ooi]]=\"\",0,IF(Berekeningen!E414=0,1,0))","v":0},{"$f":"IF(D414=0,0,IF(lammering[[#This Row],[Dood in geboorte]]=\"Ja\",0,IF(lammering[[#This Row],[Dood na geboorte]]=\"ja\",0,1)))","v":0},{"$f":"IF(lammering[[#This Row],[Opfok met kunstmelk]]=\"Ja\",1,0)","v":0},{"$f":"IF(lammering[[#This Row],[geslacht]]=\"O\",1,0)","v":0},{"$f":"IF(lammering[[#This Row],[Speen-datum]]=\"\",\"\",(lammering[[#This Row],[Speen-gewicht]]-lammering[[#This Row],[geboorte-gewicht]])/(lammering[[#This Row],[Speen-datum]]-lammering[[#This Row],[Werp-datum]]))","v":""},{"$f":"IF(lammering[[#This Row],[Verkoop-datum]]=\"\",\"\",(lammering[[#This Row],[Verkoop-gewicht]]-lammering[[#This Row],[Speen-gewicht]])/(lammering[[#This Row],[Verkoop-datum]]-lammering[[#This Row],[Speen-datum]]))","v":""},{"$f":"IF(lammering[[#This Row],[Verkoop-datum]]=\"\",\"\",(lammering[[#This Row],[Verkoop-gewicht]]-lammering[[#This Row],[geboorte-gewicht]])/(lammering[[#This Row],[Verkoop-datum]]-lammering[[#This Row],[Werp-datum]]))","v":""},"","","","","","",{"$f":"IF(lammering[[#This Row],[Verkoop-gewicht]]=\"\",\"\",lammering[[#This Row],[Verkoop-gewicht]]-lammering[[#This Row],[geboorte-gewicht]])","v":""},"",""]
[{"$f":"lammering[[#This Row],[Ooi]]","v":0},0,0,{"$f":"IF(lammering[[#This Row],[Lam-nummer]]=\"\",0,1)","v":0},{"$f":"IF(lammering[[#This Row],[Dood in geboorte]]=\"ja\",1,0)","v":0},{"$f":"IF(lammering[[#This Row],[Ooi]]=\"\",0,IF(Berekeningen!E415=0,1,0))","v":0},{"$f":"IF(D415=0,0,IF(lammering[[#This Row],[Dood in geboorte]]=\"Ja\",0,IF(lammering[[#This Row],[Dood na geboorte]]=\"ja\",0,1)))","v":0},{"$f":"IF(lammering[[#This Row],[Opfok met kunstmelk]]=\"Ja\",1,0)","v":0},{"$f":"IF(lammering[[#This Row],[geslacht]]=\"O\",1,0)","v":0},{"$f":"IF(lammering[[#This Row],[Speen-datum]]=\"\",\"\",(lammering[[#This Row],[Speen-gewicht]]-lammering[[#This Row],[geboorte-gewicht]])/(lammering[[#This Row],[Speen-datum]]-lammering[[#This Row],[Werp-datum]]))","v":""},{"$f":"IF(lammering[[#This Row],[Verkoop-datum]]=\"\",\"\",(lammering[[#This Row],[Verkoop-gewicht]]-lammering[[#This Row],[Speen-gewicht]])/(lammering[[#This Row],[Verkoop-datum]]-lammering[[#This Row],[Speen-datum]]))","v":""},{"$f":"IF(lammering[[#This Row],[Verkoop-datum]]=\"\",\"\",(lammering[[#This Row],[Verkoop-gewicht]]-lammering[[#This Row],[geboorte-gewicht]])/(lammering[[#This Row],[Verkoop-datum]]-lammering[[#This Row],[Werp-datum]]))","v":""},"","","","","","",{"$f":"IF(lammering[[#This Row],[Verkoop-gewicht]]=\"\",\"\",lammering[[#This Row],[Verkoop-gewicht]]-lammering[[#This Row],[geboorte-gewicht]])","v":""},"",""]
[{"$f":"lammering[[#This Row],[Ooi]]","v":0},0,0,{"$f":"IF(lammering[[#This Row],[Lam-nummer]]=\"\",0,1)","v":0},{"$f":"IF(lammering[[#This Row],[Dood in geboorte]]=\"ja\",1,0)","v":0},{"$f":"IF(lammering[[#This Row],[Ooi]]=\"\",0,IF(Berekeningen!E416=0,1,0))","v":0},{"$f":"IF(D416=0,0,IF(lammering[[#This Row],[Dood in geboorte]]=\"Ja\",0,IF(lammering[[#This Row],[Dood na geboorte]]=\"ja\",0,1)))","v":0},{"$f":"IF(lammering[[#This Row],[Opfok met kunstmelk]]=\"Ja\",1,0)","v":0},{"$f":"IF(lammering[[#This Row],[geslacht]]=\"O\",1,0)","v":0},{"$f":"IF(lammering[[#This Row],[Speen-datum]]=\"\",\"\",(lammering[[#This Row],[Speen-gewicht]]-lammering[[#This Row],[geboorte-gewicht]])/(lammering[[#This Row],[Speen-datum]]-lammering[[#This Row],[Werp-datum]]))","v":""},{"$f":"IF(lammering[[#This Row],[Verkoop-datum]]=\"\",\"\",(lammering[[#This Row],[Verkoop-gewicht]]-lammering[[#This Row],[Speen-gewicht]])/(lammering[[#This Row],[Verkoop-datum]]-lammering[[#This Row],[Speen-datum]]))","v":""},{"$f":"IF(lammering[[#This Row],[Verkoop-datum]]=\"\",\"\",(lammering[[#This Row],[Verkoop-gewicht]]-lammering[[#This Row],[geboorte-gewicht]])/(lammering[[#This Row],[Verkoop-datum]]-lammering[[#This Row],[Werp-datum]]))","v":""},"","","","","","",{"$f":"IF(lammering[[#This Row],[Verkoop-gewicht]]=\"\",\"\",lammering[[#This Row],[Verkoop-gewicht]]-lammering[[#This Row],[geboorte-gewicht]])","v":""},"",""]
[{"$f":"lammering[[#This Row],[Ooi]]","v":0},0,0,{"$f":"IF(lammering[[#This Row],[Lam-nummer]]=\"\",0,1)","v":0},{"$f":"IF(lammering[[#This Row],[Dood in geboorte]]=\"ja\",1,0)","v":0},{"$f":"IF(lammering[[#This Row],[Ooi]]=\"\",0,IF(Berekeningen!E417=0,1,0))","v":0},{"$f":"IF(D417=0,0,IF(lammering[[#This Row],[Dood in geboorte]]=\"Ja\",0,IF(lammering[[#This Row],[Dood na geboorte]]=\"ja\",0,1)))","v":0},{"$f":"IF(lammering[[#This Row],[Opfok met kunstmelk]]=\"Ja\",1,0)","v":0},{"$f":"IF(lammering[[#This Row],[geslacht]]=\"O\",1,0)","v":0},{"$f":"IF(lammering[[#This Row],[Speen-datum]]=\"\",\"\",(lammering[[#This Row],[Speen-gewicht]]-lammering[[#This Row],[geboorte-gewicht]])/(lammering[[#This Row],[Speen-datum]]-lammering[[#This Row],[Werp-datum]]))","v":""},{"$f":"IF(lammering[[#This Row],[Verkoop-datum]]=\"\",\"\",(lammering[[#This Row],[Verkoop-gewicht]]-lammering[[#This Row],[Speen-gewicht]])/(lammering[[#This Row],[Verkoop-datum]]-lammering[[#This Row],[Speen-datum]]))","v":""},{"$f":"IF(lammering[[#This Row],[Verkoop-datum]]=\"\",\"\",(lammering[[#This Row],[Verkoop-gewicht]]-lammering[[#This Row],[geboorte-gewicht]])/(lammering[[#This Row],[Verkoop-datum]]-lammering[[#This Row],[Werp-datum]]))","v":""},"","","","","","",{"$f":"IF(lammering[[#This Row],[Verkoop-gewicht]]=\"\",\"\",lammering[[#This Row],[Verkoop-gewicht]]-lammering[[#This Row],[geboorte-gewicht]])","v":""},"",""]
[{"$f":"lammering[[#This Row],[Ooi]]","v":0},0,0,{"$f":"IF(lammering[[#This Row],[Lam-nummer]]=\"\",0,1)","v":0},{"$f":"IF(lammering[[#This Row],[Dood in geboorte]]=\"ja\",1,0)","v":0},{"$f":"IF(lammering[[#This Row],[Ooi]]=\"\",0,IF(Berekeningen!E418=0,1,0))","v":0},{"$f":"IF(D418=0,0,IF(lammering[[#This Row],[Dood in geboorte]]=\"Ja\",0,IF(lammering[[#This Row],[Dood na geboorte]]=\"ja\",0,1)))","v":0},{"$f":"IF(lammering[[#This Row],[Opfok met kunstmelk]]=\"Ja\",1,0)","v":0},{"$f":"IF(lammering[[#This Row],[geslacht]]=\"O\",1,0)","v":0},{"$f":"IF(lammering[[#This Row],[Speen-datum]]=\"\",\"\",(lammering[[#This Row],[Speen-gewicht]]-lammering[[#This Row],[geboorte-gewicht]])/(lammering[[#This Row],[Speen-datum]]-lammering[[#This Row],[Werp-datum]]))","v":""},{"$f":"IF(lammering[[#This Row],[Verkoop-datum]]=\"\",\"\",(lammering[[#This Row],[Verkoop-gewicht]]-lammering[[#This Row],[Speen-gewicht]])/(lammering[[#This Row],[Verkoop-datum]]-lammering[[#This Row],[Speen-datum]]))","v":""},{"$f":"IF(lammering[[#This Row],[Verkoop-datum]]=\"\",\"\",(lammering[[#This Row],[Verkoop-gewicht]]-lammering[[#This Row],[geboorte-gewicht]])/(lammering[[#This Row],[Verkoop-datum]]-lammering[[#This Row],[Werp-datum]]))","v":""},"","","","","","",{"$f":"IF(lammering[[#This Row],[Verkoop-gewicht]]=\"\",\"\",lammering[[#This Row],[Verkoop-gewicht]]-lammering[[#This Row],[geboorte-gewicht]])","v":""},"",""]
[{"$f":"lammering[[#This Row],[Ooi]]","v":0},0,0,{"$f":"IF(lammering[[#This Row],[Lam-nummer]]=\"\",0,1)","v":0},{"$f":"IF(lammering[[#This Row],[Dood in geboorte]]=\"ja\",1,0)","v":0},{"$f":"IF(lammering[[#This Row],[Ooi]]=\"\",0,IF(Berekeningen!E419=0,1,0))","v":0},{"$f":"IF(D419=0,0,IF(lammering[[#This Row],[Dood in geboorte]]=\"Ja\",0,IF(lammering[[#This Row],[Dood na geboorte]]=\"ja\",0,1)))","v":0},{"$f":"IF(lammering[[#This Row],[Opfok met kunstmelk]]=\"Ja\",1,0)","v":0},{"$f":"IF(lammering[[#This Row],[geslacht]]=\"O\",1,0)","v":0},{"$f":"IF(lammering[[#This Row],[Speen-datum]]=\"\",\"\",(lammering[[#This Row],[Speen-gewicht]]-lammering[[#This Row],[geboorte-gewicht]])/(lammering[[#This Row],[Speen-datum]]-lammering[[#This Row],[Werp-datum]]))","v":""},{"$f":"IF(lammering[[#This Row],[Verkoop-datum]]=\"\",\"\",(lammering[[#This Row],[Verkoop-gewicht]]-lammering[[#This Row],[Speen-gewicht]])/(lammering[[#This Row],[Verkoop-datum]]-lammering[[#This Row],[Speen-datum]]))","v":""},{"$f":"IF(lammering[[#This Row],[Verkoop-datum]]=\"\",\"\",(lammering[[#This Row],[Verkoop-gewicht]]-lammering[[#This Row],[geboorte-gewicht]])/(lammering[[#This Row],[Verkoop-datum]]-lammering[[#This Row],[Werp-datum]]))","v":""},"","","","","","",{"$f":"IF(lammering[[#This Row],[Verkoop-gewicht]]=\"\",\"\",lammering[[#This Row],[Verkoop-gewicht]]-lammering[[#This Row],[geboorte-gewicht]])","v":""},"",""]
[{"$f":"lammering[[#This Row],[Ooi]]","v":0},0,0,{"$f":"IF(lammering[[#This Row],[Lam-nummer]]=\"\",0,1)","v":0},{"$f":"IF(lammering[[#This Row],[Dood in geboorte]]=\"ja\",1,0)","v":0},{"$f":"IF(lammering[[#This Row],[Ooi]]=\"\",0,IF(Berekeningen!E420=0,1,0))","v":0},{"$f":"IF(D420=0,0,IF(lammering[[#This Row],[Dood in geboorte]]=\"Ja\",0,IF(lammering[[#This Row],[Dood na geboorte]]=\"ja\",0,1)))","v":0},{"$f":"IF(lammering[[#This Row],[Opfok met kunstmelk]]=\"Ja\",1,0)","v":0},{"$f":"IF(lammering[[#This Row],[geslacht]]=\"O\",1,0)","v":0},{"$f":"IF(lammering[[#This Row],[Speen-datum]]=\"\",\"\",(lammering[[#This Row],[Speen-gewicht]]-lammering[[#This Row],[geboorte-gewicht]])/(lammering[[#This Row],[Speen-datum]]-lammering[[#This Row],[Werp-datum]]))","v":""},{"$f":"IF(lammering[[#This Row],[Verkoop-datum]]=\"\",\"\",(lammering[[#This Row],[Verkoop-gewicht]]-lammering[[#This Row],[Speen-gewicht]])/(lammering[[#This Row],[Verkoop-datum]]-lammering[[#This Row],[Speen-datum]]))","v":""},{"$f":"IF(lammering[[#This Row],[Verkoop-datum]]=\"\",\"\",(lammering[[#This Row],[Verkoop-gewicht]]-lammering[[#This Row],[geboorte-gewicht]])/(lammering[[#This Row],[Verkoop-datum]]-lammering[[#This Row],[Werp-datum]]))","v":""},"","","","","","",{"$f":"IF(lammering[[#This Row],[Verkoop-gewicht]]=\"\",\"\",lammering[[#This Row],[Verkoop-gewicht]]-lammering[[#This Row],[geboorte-gewicht]])","v":""},"",""]
[{"$f":"lammering[[#This Row],[Ooi]]","v":0},0,0,{"$f":"IF(lammering[[#This Row],[Lam-nummer]]=\"\",0,1)","v":0},{"$f":"IF(lammering[[#This Row],[Dood in geboorte]]=\"ja\",1,0)","v":0},{"$f":"IF(lammering[[#This Row],[Ooi]]=\"\",0,IF(Berekeningen!E421=0,1,0))","v":0},{"$f":"IF(D421=0,0,IF(lammering[[#This Row],[Dood in geboorte]]=\"Ja\",0,IF(lammering[[#This Row],[Dood na geboorte]]=\"ja\",0,1)))","v":0},{"$f":"IF(lammering[[#This Row],[Opfok met kunstmelk]]=\"Ja\",1,0)","v":0},{"$f":"IF(lammering[[#This Row],[geslacht]]=\"O\",1,0)","v":0},{"$f":"IF(lammering[[#This Row],[Speen-datum]]=\"\",\"\",(lammering[[#This Row],[Speen-gewicht]]-lammering[[#This Row],[geboorte-gewicht]])/(lammering[[#This Row],[Speen-datum]]-lammering[[#This Row],[Werp-datum]]))","v":""},{"$f":"IF(lammering[[#This Row],[Verkoop-datum]]=\"\",\"\",(lammering[[#This Row],[Verkoop-gewicht]]-lammering[[#This Row],[Speen-gewicht]])/(lammering[[#This Row],[Verkoop-datum]]-lammering[[#This Row],[Speen-datum]]))","v":""},{"$f":"IF(lammering[[#This Row],[Verkoop-datum]]=\"\",\"\",(lammering[[#This Row],[Verkoop-gewicht]]-lammering[[#This Row],[geboorte-gewicht]])/(lammering[[#This Row],[Verkoop-datum]]-lammering[[#This Row],[Werp-datum]]))","v":""},"","","","","","",{"$f":"IF(lammering[[#This Row],[Verkoop-gewicht]]=\"\",\"\",lammering[[#This Row],[Verkoop-gewicht]]-lammering[[#This Row],[geboorte-gewicht]])","v":""},"",""]
[{"$f":"lammering[[#This Row],[Ooi]]","v":0},0,0,{"$f":"IF(lammering[[#This Row],[Lam-nummer]]=\"\",0,1)","v":0},{"$f":"IF(lammering[[#This Row],[Dood in geboorte]]=\"ja\",1,0)","v":0},{"$f":"IF(lammering[[#This Row],[Ooi]]=\"\",0,IF(Berekeningen!E422=0,1,0))","v":0},{"$f":"IF(D422=0,0,IF(lammering[[#This Row],[Dood in geboorte]]=\"Ja\",0,IF(lammering[[#This Row],[Dood na geboorte]]=\"ja\",0,1)))","v":0},{"$f":"IF(lammering[[#This Row],[Opfok met kunstmelk]]=\"Ja\",1,0)","v":0},{"$f":"IF(lammering[[#This Row],[geslacht]]=\"O\",1,0)","v":0},{"$f":"IF(lammering[[#This Row],[Speen-datum]]=\"\",\"\",(lammering[[#This Row],[Speen-gewicht]]-lammering[[#This Row],[geboorte-gewicht]])/(lammering[[#This Row],[Speen-datum]]-lammering[[#This Row],[Werp-datum]]))","v":""},{"$f":"IF(lammering[[#This Row],[Verkoop-datum]]=\"\",\"\",(lammering[[#This Row],[Verkoop-gewicht]]-lammering[[#This Row],[Speen-gewicht]])/(lammering[[#This Row],[Verkoop-datum]]-lammering[[#This Row],[Speen-datum]]))","v":""},{"$f":"IF(lammering[[#This Row],[Verkoop-datum]]=\"\",\"\",(lammering[[#This Row],[Verkoop-gewicht]]-lammering[[#This Row],[geboorte-gewicht]])/(lammering[[#This Row],[Verkoop-datum]]-lammering[[#This Row],[Werp-datum]]))","v":""},"","","","","","",{"$f":"IF(lammering[[#This Row],[Verkoop-gewicht]]=\"\",\"\",lammering[[#This Row],[Verkoop-gewicht]]-lammering[[#This Row],[geboorte-gewicht]])","v":""},"",""]
[{"$f":"lammering[[#This Row],[Ooi]]","v":0},0,0,{"$f":"IF(lammering[[#This Row],[Lam-nummer]]=\"\",0,1)","v":0},{"$f":"IF(lammering[[#This Row],[Dood in geboorte]]=\"ja\",1,0)","v":0},{"$f":"IF(lammering[[#This Row],[Ooi]]=\"\",0,IF(Berekeningen!E423=0,1,0))","v":0},{"$f":"IF(D423=0,0,IF(lammering[[#This Row],[Dood in geboorte]]=\"Ja\",0,IF(lammering[[#This Row],[Dood na geboorte]]=\"ja\",0,1)))","v":0},{"$f":"IF(lammering[[#This Row],[Opfok met kunstmelk]]=\"Ja\",1,0)","v":0},{"$f":"IF(lammering[[#This Row],[geslacht]]=\"O\",1,0)","v":0},{"$f":"IF(lammering[[#This Row],[Speen-datum]]=\"\",\"\",(lammering[[#This Row],[Speen-gewicht]]-lammering[[#This Row],[geboorte-gewicht]])/(lammering[[#This Row],[Speen-datum]]-lammering[[#This Row],[Werp-datum]]))","v":""},{"$f":"IF(lammering[[#This Row],[Verkoop-datum]]=\"\",\"\",(lammering[[#This Row],[Verkoop-gewicht]]-lammering[[#This Row],[Speen-gewicht]])/(lammering[[#This Row],[Verkoop-datum]]-lammering[[#This Row],[Speen-datum]]))","v":""},{"$f":"IF(lammering[[#This Row],[Verkoop-datum]]=\"\",\"\",(lammering[[#This Row],[Verkoop-gewicht]]-lammering[[#This Row],[geboorte-gewicht]])/(lammering[[#This Row],[Verkoop-datum]]-lammering[[#This Row],[Werp-datum]]))","v":""},"","","","","","",{"$f":"IF(lammering[[#This Row],[Verkoop-gewicht]]=\"\",\"\",lammering[[#This Row],[Verkoop-gewicht]]-lammering[[#This Row],[geboorte-gewicht]])","v":""},"",""]
[{"$f":"lammering[[#This Row],[Ooi]]","v":0},0,0,{"$f":"IF(lammering[[#This Row],[Lam-nummer]]=\"\",0,1)","v":0},{"$f":"IF(lammering[[#This Row],[Dood in geboorte]]=\"ja\",1,0)","v":0},{"$f":"IF(lammering[[#This Row],[Ooi]]=\"\",0,IF(Berekeningen!E424=0,1,0))","v":0},{"$f":"IF(D424=0,0,IF(lammering[[#This Row],[Dood in geboorte]]=\"Ja\",0,IF(lammering[[#This Row],[Dood na geboorte]]=\"ja\",0,1)))","v":0},{"$f":"IF(lammering[[#This Row],[Opfok met kunstmelk]]=\"Ja\",1,0)","v":0},{"$f":"IF(lammering[[#This Row],[geslacht]]=\"O\",1,0)","v":0},{"$f":"IF(lammering[[#This Row],[Speen-datum]]=\"\",\"\",(lammering[[#This Row],[Speen-gewicht]]-lammering[[#This Row],[geboorte-gewicht]])/(lammering[[#This Row],[Speen-datum]]-lammering[[#This Row],[Werp-datum]]))","v":""},{"$f":"IF(lammering[[#This Row],[Verkoop-datum]]=\"\",\"\",(lammering[[#This Row],[Verkoop-gewicht]]-lammering[[#This Row],[Speen-gewicht]])/(lammering[[#This Row],[Verkoop-datum]]-lammering[[#This Row],[Speen-datum]]))","v":""},{"$f":"IF(lammering[[#This Row],[Verkoop-datum]]=\"\",\"\",(lammering[[#This Row],[Verkoop-gewicht]]-lammering[[#This Row],[geboorte-gewicht]])/(lammering[[#This Row],[Verkoop-datum]]-lammering[[#This Row],[Werp-datum]]))","v":""},"","","","","","",{"$f":"IF(lammering[[#This Row],[Verkoop-gewicht]]=\"\",\"\",lammering[[#This Row],[Verkoop-gewicht]]-lammering[[#This Row],[geboorte-gewicht]])","v":""},"",""]
[{"$f":"lammering[[#This Row],[Ooi]]","v":0},0,0,{"$f":"IF(lammering[[#This Row],[Lam-nummer]]=\"\",0,1)","v":0},{"$f":"IF(lammering[[#This Row],[Dood in geboorte]]=\"ja\",1,0)","v":0},{"$f":"IF(lammering[[#This Row],[Ooi]]=\"\",0,IF(Berekeningen!E425=0,1,0))","v":0},{"$f":"IF(D425=0,0,IF(lammering[[#This Row],[Dood in geboorte]]=\"Ja\",0,IF(lammering[[#This Row],[Dood na geboorte]]=\"ja\",0,1)))","v":0},{"$f":"IF(lammering[[#This Row],[Opfok met kunstmelk]]=\"Ja\",1,0)","v":0},{"$f":"IF(lammering[[#This Row],[geslacht]]=\"O\",1,0)","v":0},{"$f":"IF(lammering[[#This Row],[Speen-datum]]=\"\",\"\",(lammering[[#This Row],[Speen-gewicht]]-lammering[[#This Row],[geboorte-gewicht]])/(lammering[[#This Row],[Speen-datum]]-lammering[[#This Row],[Werp-datum]]))","v":""},{"$f":"IF(lammering[[#This Row],[Verkoop-datum]]=\"\",\"\",(lammering[[#This Row],[Verkoop-gewicht]]-lammering[[#This Row],[Speen-gewicht]])/(lammering[[#This Row],[Verkoop-datum]]-lammering[[#This Row],[Speen-datum]]))","v":""},{"$f":"IF(lammering[[#This Row],[Verkoop-datum]]=\"\",\"\",(lammering[[#This Row],[Verkoop-gewicht]]-lammering[[#This Row],[geboorte-gewicht]])/(lammering[[#This Row],[Verkoop-datum]]-lammering[[#This Row],[Werp-datum]]))","v":""},"","","","","","",{"$f":"IF(lammering[[#This Row],[Verkoop-gewicht]]=\"\",\"\",lammering[[#This Row],[Verkoop-gewicht]]-lammering[[#This Row],[geboorte-gewicht]])","v":""},"",""]
[{"$f":"lammering[[#This Row],[Ooi]]","v":0},0,0,{"$f":"IF(lammering[[#This Row],[Lam-nummer]]=\"\",0,1)","v":0},{"$f":"IF(lammering[[#This Row],[Dood in geboorte]]=\"ja\",1,0)","v":0},{"$f":"IF(lammering[[#This Row],[Ooi]]=\"\",0,IF(Berekeningen!E426=0,1,0))","v":0},{"$f":"IF(D426=0,0,IF(lammering[[#This Row],[Dood in geboorte]]=\"Ja\",0,IF(lammering[[#This Row],[Dood na geboorte]]=\"ja\",0,1)))","v":0},{"$f":"IF(lammering[[#This Row],[Opfok met kunstmelk]]=\"Ja\",1,0)","v":0},{"$f":"IF(lammering[[#This Row],[geslacht]]=\"O\",1,0)","v":0},{"$f":"IF(lammering[[#This Row],[Speen-datum]]=\"\",\"\",(lammering[[#This Row],[Speen-gewicht]]-lammering[[#This Row],[geboorte-gewicht]])/(lammering[[#This Row],[Speen-datum]]-lammering[[#This Row],[Werp-datum]]))","v":""},{"$f":"IF(lammering[[#This Row],[Verkoop-datum]]=\"\",\"\",(lammering[[#This Row],[Verkoop-gewicht]]-lammering[[#This Row],[Speen-gewicht]])/(lammering[[#This Row],[Verkoop-datum]]-lammering[[#This Row],[Speen-datum]]))","v":""},{"$f":"IF(lammering[[#This Row],[Verkoop-datum]]=\"\",\"\",(lammering[[#This Row],[Verkoop-gewicht]]-lammering[[#This Row],[geboorte-gewicht]])/(lammering[[#This Row],[Verkoop-datum]]-lammering[[#This Row],[Werp-datum]]))","v":""},"","","","","","",{"$f":"IF(lammering[[#This Row],[Verkoop-gewicht]]=\"\",\"\",lammering[[#This Row],[Verkoop-gewicht]]-lammering[[#This Row],[geboorte-gewicht]])","v":""},"",""]
[{"$f":"lammering[[#This Row],[Ooi]]","v":0},0,0,{"$f":"IF(lammering[[#This Row],[Lam-nummer]]=\"\",0,1)","v":0},{"$f":"IF(lammering[[#This Row],[Dood in geboorte]]=\"ja\",1,0)","v":0},{"$f":"IF(lammering[[#This Row],[Ooi]]=\"\",0,IF(Berekeningen!E427=0,1,0))","v":0},{"$f":"IF(D427=0,0,IF(lammering[[#This Row],[Dood in geboorte]]=\"Ja\",0,IF(lammering[[#This Row],[Dood na geboorte]]=\"ja\",0,1)))","v":0},{"$f":"IF(lammering[[#This Row],[Opfok met kunstmelk]]=\"Ja\",1,0)","v":0},{"$f":"IF(lammering[[#This Row],[geslacht]]=\"O\",1,0)","v":0},{"$f":"IF(lammering[[#This Row],[Speen-datum]]=\"\",\"\",(lammering[[#This Row],[Speen-gewicht]]-lammering[[#This Row],[geboorte-gewicht]])/(lammering[[#This Row],[Speen-datum]]-lammering[[#This Row],[Werp-datum]]))","v":""},{"$f":"IF(lammering[[#This Row],[Verkoop-datum]]=\"\",\"\",(lammering[[#This Row],[Verkoop-gewicht]]-lammering[[#This Row],[Speen-gewicht]])/(lammering[[#This Row],[Verkoop-datum]]-lammering[[#This Row],[Speen-datum]]))","v":""},{"$f":"IF(lammering[[#This Row],[Verkoop-datum]]=\"\",\"\",(lammering[[#This Row],[Verkoop-gewicht]]-lammering[[#This Row],[geboorte-gewicht]])/(lammering[[#This Row],[Verkoop-datum]]-lammering[[#This Row],[Werp-datum]]))","v":""},"","","","","","",{"$f":"IF(lammering[[#This Row],[Verkoop-gewicht]]=\"\",\"\",lammering[[#This Row],[Verkoop-gewicht]]-lammering[[#This Row],[geboorte-gewicht]])","v":""},"",""]
[{"$f":"lammering[[#This Row],[Ooi]]","v":0},0,0,{"$f":"IF(lammering[[#This Row],[Lam-nummer]]=\"\",0,1)","v":0},{"$f":"IF(lammering[[#This Row],[Dood in geboorte]]=\"ja\",1,0)","v":0},{"$f":"IF(lammering[[#This Row],[Ooi]]=\"\",0,IF(Berekeningen!E428=0,1,0))","v":0},{"$f":"IF(D428=0,0,IF(lammering[[#This Row],[Dood in geboorte]]=\"Ja\",0,IF(lammering[[#This Row],[Dood na geboorte]]=\"ja\",0,1)))","v":0},{"$f":"IF(lammering[[#This Row],[Opfok met kunstmelk]]=\"Ja\",1,0)","v":0},{"$f":"IF(lammering[[#This Row],[geslacht]]=\"O\",1,0)","v":0},{"$f":"IF(lammering[[#This Row],[Speen-datum]]=\"\",\"\",(lammering[[#This Row],[Speen-gewicht]]-lammering[[#This Row],[geboorte-gewicht]])/(lammering[[#This Row],[Speen-datum]]-lammering[[#This Row],[Werp-datum]]))","v":""},{"$f":"IF(lammering[[#This Row],[Verkoop-datum]]=\"\",\"\",(lammering[[#This Row],[Verkoop-gewicht]]-lammering[[#This Row],[Speen-gewicht]])/(lammering[[#This Row],[Verkoop-datum]]-lammering[[#This Row],[Speen-datum]]))","v":""},{"$f":"IF(lammering[[#This Row],[Verkoop-datum]]=\"\",\"\",(lammering[[#This Row],[Verkoop-gewicht]]-lammering[[#This Row],[geboorte-gewicht]])/(lammering[[#This Row],[Verkoop-datum]]-lammering[[#This Row],[Werp-datum]]))","v":""},"","","","","","",{"$f":"IF(lammering[[#This Row],[Verkoop-gewicht]]=\"\",\"\",lammering[[#This Row],[Verkoop-gewicht]]-lammering[[#This Row],[geboorte-gewicht]])","v":""},"",""]
[{"$f":"lammering[[#This Row],[Ooi]]","v":0},0,0,{"$f":"IF(lammering[[#This Row],[Lam-nummer]]=\"\",0,1)","v":0},{"$f":"IF(lammering[[#This Row],[Dood in geboorte]]=\"ja\",1,0)","v":0},{"$f":"IF(lammering[[#This Row],[Ooi]]=\"\",0,IF(Berekeningen!E429=0,1,0))","v":0},{"$f":"IF(D429=0,0,IF(lammering[[#This Row],[Dood in geboorte]]=\"Ja\",0,IF(lammering[[#This Row],[Dood na geboorte]]=\"ja\",0,1)))","v":0},{"$f":"IF(lammering[[#This Row],[Opfok met kunstmelk]]=\"Ja\",1,0)","v":0},{"$f":"IF(lammering[[#This Row],[geslacht]]=\"O\",1,0)","v":0},{"$f":"IF(lammering[[#This Row],[Speen-datum]]=\"\",\"\",(lammering[[#This Row],[Speen-gewicht]]-lammering[[#This Row],[geboorte-gewicht]])/(lammering[[#This Row],[Speen-datum]]-lammering[[#This Row],[Werp-datum]]))","v":""},{"$f":"IF(lammering[[#This Row],[Verkoop-datum]]=\"\",\"\",(lammering[[#This Row],[Verkoop-gewicht]]-lammering[[#This Row],[Speen-gewicht]])/(lammering[[#This Row],[Verkoop-datum]]-lammering[[#This Row],[Speen-datum]]))","v":""},{"$f":"IF(lammering[[#This Row],[Verkoop-datum]]=\"\",\"\",(lammering[[#This Row],[Verkoop-gewicht]]-lammering[[#This Row],[geboorte-gewicht]])/(lammering[[#This Row],[Verkoop-datum]]-lammering[[#This Row],[Werp-datum]]))","v":""},"","","","","","",{"$f":"IF(lammering[[#This Row],[Verkoop-gewicht]]=\"\",\"\",lammering[[#This Row],[Verkoop-gewicht]]-lammering[[#This Row],[geboorte-gewicht]])","v":""},"",""]
[{"$f":"lammering[[#This Row],[Ooi]]","v":0},0,0,{"$f":"IF(lammering[[#This Row],[Lam-nummer]]=\"\",0,1)","v":0},{"$f":"IF(lammering[[#This Row],[Dood in geboorte]]=\"ja\",1,0)","v":0},{"$f":"IF(lammering[[#This Row],[Ooi]]=\"\",0,IF(Berekeningen!E430=0,1,0))","v":0},{"$f":"IF(D430=0,0,IF(lammering[[#This Row],[Dood in geboorte]]=\"Ja\",0,IF(lammering[[#This Row],[Dood na geboorte]]=\"ja\",0,1)))","v":0},{"$f":"IF(lammering[[#This Row],[Opfok met kunstmelk]]=\"Ja\",1,0)","v":0},{"$f":"IF(lammering[[#This Row],[geslacht]]=\"O\",1,0)","v":0},{"$f":"IF(lammering[[#This Row],[Speen-datum]]=\"\",\"\",(lammering[[#This Row],[Speen-gewicht]]-lammering[[#This Row],[geboorte-gewicht]])/(lammering[[#This Row],[Speen-datum]]-lammering[[#This Row],[Werp-datum]]))","v":""},{"$f":"IF(lammering[[#This Row],[Verkoop-datum]]=\"\",\"\",(lammering[[#This Row],[Verkoop-gewicht]]-lammering[[#This Row],[Speen-gewicht]])/(lammering[[#This Row],[Verkoop-datum]]-lammering[[#This Row],[Speen-datum]]))","v":""},{"$f":"IF(lammering[[#This Row],[Verkoop-datum]]=\"\",\"\",(lammering[[#This Row],[Verkoop-gewicht]]-lammering[[#This Row],[geboorte-gewicht]])/(lammering[[#This Row],[Verkoop-datum]]-lammering[[#This Row],[Werp-datum]]))","v":""},"","","","","","",{"$f":"IF(lammering[[#This Row],[Verkoop-gewicht]]=\"\",\"\",lammering[[#This Row],[Verkoop-gewicht]]-lammering[[#This Row],[geboorte-gewicht]])","v":""},"",""]
[{"$f":"lammering[[#This Row],[Ooi]]","v":0},0,0,{"$f":"IF(lammering[[#This Row],[Lam-nummer]]=\"\",0,1)","v":0},{"$f":"IF(lammering[[#This Row],[Dood in geboorte]]=\"ja\",1,0)","v":0},{"$f":"IF(lammering[[#This Row],[Ooi]]=\"\",0,IF(Berekeningen!E431=0,1,0))","v":0},{"$f":"IF(D431=0,0,IF(lammering[[#This Row],[Dood in geboorte]]=\"Ja\",0,IF(lammering[[#This Row],[Dood na geboorte]]=\"ja\",0,1)))","v":0},{"$f":"IF(lammering[[#This Row],[Opfok met kunstmelk]]=\"Ja\",1,0)","v":0},{"$f":"IF(lammering[[#This Row],[geslacht]]=\"O\",1,0)","v":0},{"$f":"IF(lammering[[#This Row],[Speen-datum]]=\"\",\"\",(lammering[[#This Row],[Speen-gewicht]]-lammering[[#This Row],[geboorte-gewicht]])/(lammering[[#This Row],[Speen-datum]]-lammering[[#This Row],[Werp-datum]]))","v":""},{"$f":"IF(lammering[[#This Row],[Verkoop-datum]]=\"\",\"\",(lammering[[#This Row],[Verkoop-gewicht]]-lammering[[#This Row],[Speen-gewicht]])/(lammering[[#This Row],[Verkoop-datum]]-lammering[[#This Row],[Speen-datum]]))","v":""},{"$f":"IF(lammering[[#This Row],[Verkoop-datum]]=\"\",\"\",(lammering[[#This Row],[Verkoop-gewicht]]-lammering[[#This Row],[geboorte-gewicht]])/(lammering[[#This Row],[Verkoop-datum]]-lammering[[#This Row],[Werp-datum]]))","v":""},"","","","","","",{"$f":"IF(lammering[[#This Row],[Verkoop-gewicht]]=\"\",\"\",lammering[[#This Row],[Verkoop-gewicht]]-lammering[[#This Row],[geboorte-gewicht]])","v":""},"",""]
[{"$f":"lammering[[#This Row],[Ooi]]","v":0},0,0,{"$f":"IF(lammering[[#This Row],[Lam-nummer]]=\"\",0,1)","v":0},{"$f":"IF(lammering[[#This Row],[Dood in geboorte]]=\"ja\",1,0)","v":0},{"$f":"IF(lammering[[#This Row],[Ooi]]=\"\",0,IF(Berekeningen!E432=0,1,0))","v":0},{"$f":"IF(D432=0,0,IF(lammering[[#This Row],[Dood in geboorte]]=\"Ja\",0,IF(lammering[[#This Row],[Dood na geboorte]]=\"ja\",0,1)))","v":0},{"$f":"IF(lammering[[#This Row],[Opfok met kunstmelk]]=\"Ja\",1,0)","v":0},{"$f":"IF(lammering[[#This Row],[geslacht]]=\"O\",1,0)","v":0},{"$f":"IF(lammering[[#This Row],[Speen-datum]]=\"\",\"\",(lammering[[#This Row],[Speen-gewicht]]-lammering[[#This Row],[geboorte-gewicht]])/(lammering[[#This Row],[Speen-datum]]-lammering[[#This Row],[Werp-datum]]))","v":""},{"$f":"IF(lammering[[#This Row],[Verkoop-datum]]=\"\",\"\",(lammering[[#This Row],[Verkoop-gewicht]]-lammering[[#This Row],[Speen-gewicht]])/(lammering[[#This Row],[Verkoop-datum]]-lammering[[#This Row],[Speen-datum]]))","v":""},{"$f":"IF(lammering[[#This Row],[Verkoop-datum]]=\"\",\"\",(lammering[[#This Row],[Verkoop-gewicht]]-lammering[[#This Row],[geboorte-gewicht]])/(lammering[[#This Row],[Verkoop-datum]]-lammering[[#This Row],[Werp-datum]]))","v":""},"","","","","","",{"$f":"IF(lammering[[#This Row],[Verkoop-gewicht]]=\"\",\"\",lammering[[#This Row],[Verkoop-gewicht]]-lammering[[#This Row],[geboorte-gewicht]])","v":""},"",""]
[{"$f":"lammering[[#This Row],[Ooi]]","v":0},0,0,{"$f":"IF(lammering[[#This Row],[Lam-nummer]]=\"\",0,1)","v":0},{"$f":"IF(lammering[[#This Row],[Dood in geboorte]]=\"ja\",1,0)","v":0},{"$f":"IF(lammering[[#This Row],[Ooi]]=\"\",0,IF(Berekeningen!E433=0,1,0))","v":0},{"$f":"IF(D433=0,0,IF(lammering[[#This Row],[Dood in geboorte]]=\"Ja\",0,IF(lammering[[#This Row],[Dood na geboorte]]=\"ja\",0,1)))","v":0},{"$f":"IF(lammering[[#This Row],[Opfok met kunstmelk]]=\"Ja\",1,0)","v":0},{"$f":"IF(lammering[[#This Row],[geslacht]]=\"O\",1,0)","v":0},{"$f":"IF(lammering[[#This Row],[Speen-datum]]=\"\",\"\",(lammering[[#This Row],[Speen-gewicht]]-lammering[[#This Row],[geboorte-gewicht]])/(lammering[[#This Row],[Speen-datum]]-lammering[[#This Row],[Werp-datum]]))","v":""},{"$f":"IF(lammering[[#This Row],[Verkoop-datum]]=\"\",\"\",(lammering[[#This Row],[Verkoop-gewicht]]-lammering[[#This Row],[Speen-gewicht]])/(lammering[[#This Row],[Verkoop-datum]]-lammering[[#This Row],[Speen-datum]]))","v":""},{"$f":"IF(lammering[[#This Row],[Verkoop-datum]]=\"\",\"\",(lammering[[#This Row],[Verkoop-gewicht]]-lammering[[#This Row],[geboorte-gewicht]])/(lammering[[#This Row],[Verkoop-datum]]-lammering[[#This Row],[Werp-datum]]))","v":""},"","","","","","",{"$f":"IF(lammering[[#This Row],[Verkoop-gewicht]]=\"\",\"\",lammering[[#This Row],[Verkoop-gewicht]]-lammering[[#This Row],[geboorte-gewicht]])","v":""},"",""]
[{"$f":"lammering[[#This Row],[Ooi]]","v":0},0,0,{"$f":"IF(lammering[[#This Row],[Lam-nummer]]=\"\",0,1)","v":0},{"$f":"IF(lammering[[#This Row],[Dood in geboorte]]=\"ja\",1,0)","v":0},{"$f":"IF(lammering[[#This Row],[Ooi]]=\"\",0,IF(Berekeningen!E434=0,1,0))","v":0},{"$f":"IF(D434=0,0,IF(lammering[[#This Row],[Dood in geboorte]]=\"Ja\",0,IF(lammering[[#This Row],[Dood na geboorte]]=\"ja\",0,1)))","v":0},{"$f":"IF(lammering[[#This Row],[Opfok met kunstmelk]]=\"Ja\",1,0)","v":0},{"$f":"IF(lammering[[#This Row],[geslacht]]=\"O\",1,0)","v":0},{"$f":"IF(lammering[[#This Row],[Speen-datum]]=\"\",\"\",(lammering[[#This Row],[Speen-gewicht]]-lammering[[#This Row],[geboorte-gewicht]])/(lammering[[#This Row],[Speen-datum]]-lammering[[#This Row],[Werp-datum]]))","v":""},{"$f":"IF(lammering[[#This Row],[Verkoop-datum]]=\"\",\"\",(lammering[[#This Row],[Verkoop-gewicht]]-lammering[[#This Row],[Speen-gewicht]])/(lammering[[#This Row],[Verkoop-datum]]-lammering[[#This Row],[Speen-datum]]))","v":""},{"$f":"IF(lammering[[#This Row],[Verkoop-datum]]=\"\",\"\",(lammering[[#This Row],[Verkoop-gewicht]]-lammering[[#This Row],[geboorte-gewicht]])/(lammering[[#This Row],[Verkoop-datum]]-lammering[[#This Row],[Werp-datum]]))","v":""},"","","","","","",{"$f":"IF(lammering[[#This Row],[Verkoop-gewicht]]=\"\",\"\",lammering[[#This Row],[Verkoop-gewicht]]-lammering[[#This Row],[geboorte-gewicht]])","v":""},"",""]
[{"$f":"lammering[[#This Row],[Ooi]]","v":0},0,0,{"$f":"IF(lammering[[#This Row],[Lam-nummer]]=\"\",0,1)","v":0},{"$f":"IF(lammering[[#This Row],[Dood in geboorte]]=\"ja\",1,0)","v":0},{"$f":"IF(lammering[[#This Row],[Ooi]]=\"\",0,IF(Berekeningen!E435=0,1,0))","v":0},{"$f":"IF(D435=0,0,IF(lammering[[#This Row],[Dood in geboorte]]=\"Ja\",0,IF(lammering[[#This Row],[Dood na geboorte]]=\"ja\",0,1)))","v":0},{"$f":"IF(lammering[[#This Row],[Opfok met kunstmelk]]=\"Ja\",1,0)","v":0},{"$f":"IF(lammering[[#This Row],[geslacht]]=\"O\",1,0)","v":0},{"$f":"IF(lammering[[#This Row],[Speen-datum]]=\"\",\"\",(lammering[[#This Row],[Speen-gewicht]]-lammering[[#This Row],[geboorte-gewicht]])/(lammering[[#This Row],[Speen-datum]]-lammering[[#This Row],[Werp-datum]]))","v":""},{"$f":"IF(lammering[[#This Row],[Verkoop-datum]]=\"\",\"\",(lammering[[#This Row],[Verkoop-gewicht]]-lammering[[#This Row],[Speen-gewicht]])/(lammering[[#This Row],[Verkoop-datum]]-lammering[[#This Row],[Speen-datum]]))","v":""},{"$f":"IF(lammering[[#This Row],[Verkoop-datum]]=\"\",\"\",(lammering[[#This Row],[Verkoop-gewicht]]-lammering[[#This Row],[geboorte-gewicht]])/(lammering[[#This Row],[Verkoop-datum]]-lammering[[#This Row],[Werp-datum]]))","v":""},"","","","","","",{"$f":"IF(lammering[[#This Row],[Verkoop-gewicht]]=\"\",\"\",lammering[[#This Row],[Verkoop-gewicht]]-lammering[[#This Row],[geboorte-gewicht]])","v":""},"",""]
[{"$f":"lammering[[#This Row],[Ooi]]","v":0},0,0,{"$f":"IF(lammering[[#This Row],[Lam-nummer]]=\"\",0,1)","v":0},{"$f":"IF(lammering[[#This Row],[Dood in geboorte]]=\"ja\",1,0)","v":0},{"$f":"IF(lammering[[#This Row],[Ooi]]=\"\",0,IF(Berekeningen!E436=0,1,0))","v":0},{"$f":"IF(D436=0,0,IF(lammering[[#This Row],[Dood in geboorte]]=\"Ja\",0,IF(lammering[[#This Row],[Dood na geboorte]]=\"ja\",0,1)))","v":0},{"$f":"IF(lammering[[#This Row],[Opfok met kunstmelk]]=\"Ja\",1,0)","v":0},{"$f":"IF(lammering[[#This Row],[geslacht]]=\"O\",1,0)","v":0},{"$f":"IF(lammering[[#This Row],[Speen-datum]]=\"\",\"\",(lammering[[#This Row],[Speen-gewicht]]-lammering[[#This Row],[geboorte-gewicht]])/(lammering[[#This Row],[Speen-datum]]-lammering[[#This Row],[Werp-datum]]))","v":""},{"$f":"IF(lammering[[#This Row],[Verkoop-datum]]=\"\",\"\",(lammering[[#This Row],[Verkoop-gewicht]]-lammering[[#This Row],[Speen-gewicht]])/(lammering[[#This Row],[Verkoop-datum]]-lammering[[#This Row],[Speen-datum]]))","v":""},{"$f":"IF(lammering[[#This Row],[Verkoop-datum]]=\"\",\"\",(lammering[[#This Row],[Verkoop-gewicht]]-lammering[[#This Row],[geboorte-gewicht]])/(lammering[[#This Row],[Verkoop-datum]]-lammering[[#This Row],[Werp-datum]]))","v":""},"","","","","","",{"$f":"IF(lammering[[#This Row],[Verkoop-gewicht]]=\"\",\"\",lammering[[#This Row],[Verkoop-gewicht]]-lammering[[#This Row],[geboorte-gewicht]])","v":""},"",""]
[{"$f":"lammering[[#This Row],[Ooi]]","v":0},0,0,{"$f":"IF(lammering[[#This Row],[Lam-nummer]]=\"\",0,1)","v":0},{"$f":"IF(lammering[[#This Row],[Dood in geboorte]]=\"ja\",1,0)","v":0},{"$f":"IF(lammering[[#This Row],[Ooi]]=\"\",0,IF(Berekeningen!E437=0,1,0))","v":0},{"$f":"IF(D437=0,0,IF(lammering[[#This Row],[Dood in geboorte]]=\"Ja\",0,IF(lammering[[#This Row],[Dood na geboorte]]=\"ja\",0,1)))","v":0},{"$f":"IF(lammering[[#This Row],[Opfok met kunstmelk]]=\"Ja\",1,0)","v":0},{"$f":"IF(lammering[[#This Row],[geslacht]]=\"O\",1,0)","v":0},{"$f":"IF(lammering[[#This Row],[Speen-datum]]=\"\",\"\",(lammering[[#This Row],[Speen-gewicht]]-lammering[[#This Row],[geboorte-gewicht]])/(lammering[[#This Row],[Speen-datum]]-lammering[[#This Row],[Werp-datum]]))","v":""},{"$f":"IF(lammering[[#This Row],[Verkoop-datum]]=\"\",\"\",(lammering[[#This Row],[Verkoop-gewicht]]-lammering[[#This Row],[Speen-gewicht]])/(lammering[[#This Row],[Verkoop-datum]]-lammering[[#This Row],[Speen-datum]]))","v":""},{"$f":"IF(lammering[[#This Row],[Verkoop-datum]]=\"\",\"\",(lammering[[#This Row],[Verkoop-gewicht]]-lammering[[#This Row],[geboorte-gewicht]])/(lammering[[#This Row],[Verkoop-datum]]-lammering[[#This Row],[Werp-datum]]))","v":""},"","","","","","",{"$f":"IF(lammering[[#This Row],[Verkoop-gewicht]]=\"\",\"\",lammering[[#This Row],[Verkoop-gewicht]]-lammering[[#This Row],[geboorte-gewicht]])","v":""},"",""]
[{"$f":"lammering[[#This Row],[Ooi]]","v":0},0,0,{"$f":"IF(lammering[[#This Row],[Lam-nummer]]=\"\",0,1)","v":0},{"$f":"IF(lammering[[#This Row],[Dood in geboorte]]=\"ja\",1,0)","v":0},{"$f":"IF(lammering[[#This Row],[Ooi]]=\"\",0,IF(Berekeningen!E438=0,1,0))","v":0},{"$f":"IF(D438=0,0,IF(lammering[[#This Row],[Dood in geboorte]]=\"Ja\",0,IF(lammering[[#This Row],[Dood na geboorte]]=\"ja\",0,1)))","v":0},{"$f":"IF(lammering[[#This Row],[Opfok met kunstmelk]]=\"Ja\",1,0)","v":0},{"$f":"IF(lammering[[#This Row],[geslacht]]=\"O\",1,0)","v":0},{"$f":"IF(lammering[[#This Row],[Speen-datum]]=\"\",\"\",(lammering[[#This Row],[Speen-gewicht]]-lammering[[#This Row],[geboorte-gewicht]])/(lammering[[#This Row],[Speen-datum]]-lammering[[#This Row],[Werp-datum]]))","v":""},{"$f":"IF(lammering[[#This Row],[Verkoop-datum]]=\"\",\"\",(lammering[[#This Row],[Verkoop-gewicht]]-lammering[[#This Row],[Speen-gewicht]])/(lammering[[#This Row],[Verkoop-datum]]-lammering[[#This Row],[Speen-datum]]))","v":""},{"$f":"IF(lammering[[#This Row],[Verkoop-datum]]=\"\",\"\",(lammering[[#This Row],[Verkoop-gewicht]]-lammering[[#This Row],[geboorte-gewicht]])/(lammering[[#This Row],[Verkoop-datum]]-lammering[[#This Row],[Werp-datum]]))","v":""},"","","","","","",{"$f":"IF(lammering[[#This Row],[Verkoop-gewicht]]=\"\",\"\",lammering[[#This Row],[Verkoop-gewicht]]-lammering[[#This Row],[geboorte-gewicht]])","v":""},"",""]
[{"$f":"lammering[[#This Row],[Ooi]]","v":0},0,0,{"$f":"IF(lammering[[#This Row],[Lam-nummer]]=\"\",0,1)","v":0},{"$f":"IF(lammering[[#This Row],[Dood in geboorte]]=\"ja\",1,0)","v":0},{"$f":"IF(lammering[[#This Row],[Ooi]]=\"\",0,IF(Berekeningen!E439=0,1,0))","v":0},{"$f":"IF(D439=0,0,IF(lammering[[#This Row],[Dood in geboorte]]=\"Ja\",0,IF(lammering[[#This Row],[Dood na geboorte]]=\"ja\",0,1)))","v":0},{"$f":"IF(lammering[[#This Row],[Opfok met kunstmelk]]=\"Ja\",1,0)","v":0},{"$f":"IF(lammering[[#This Row],[geslacht]]=\"O\",1,0)","v":0},{"$f":"IF(lammering[[#This Row],[Speen-datum]]=\"\",\"\",(lammering[[#This Row],[Speen-gewicht]]-lammering[[#This Row],[geboorte-gewicht]])/(lammering[[#This Row],[Speen-datum]]-lammering[[#This Row],[Werp-datum]]))","v":""},{"$f":"IF(lammering[[#This Row],[Verkoop-datum]]=\"\",\"\",(lammering[[#This Row],[Verkoop-gewicht]]-lammering[[#This Row],[Speen-gewicht]])/(lammering[[#This Row],[Verkoop-datum]]-lammering[[#This Row],[Speen-datum]]))","v":""},{"$f":"IF(lammering[[#This Row],[Verkoop-datum]]=\"\",\"\",(lammering[[#This Row],[Verkoop-gewicht]]-lammering[[#This Row],[geboorte-gewicht]])/(lammering[[#This Row],[Verkoop-datum]]-lammering[[#This Row],[Werp-datum]]))","v":""},"","","","","","",{"$f":"IF(lammering[[#This Row],[Verkoop-gewicht]]=\"\",\"\",lammering[[#This Row],[Verkoop-gewicht]]-lammering[[#This Row],[geboorte-gewicht]])","v":""},"",""]
[{"$f":"lammering[[#This Row],[Ooi]]","v":0},0,0,{"$f":"IF(lammering[[#This Row],[Lam-nummer]]=\"\",0,1)","v":0},{"$f":"IF(lammering[[#This Row],[Dood in geboorte]]=\"ja\",1,0)","v":0},{"$f":"IF(lammering[[#This Row],[Ooi]]=\"\",0,IF(Berekeningen!E440=0,1,0))","v":0},{"$f":"IF(D440=0,0,IF(lammering[[#This Row],[Dood in geboorte]]=\"Ja\",0,IF(lammering[[#This Row],[Dood na geboorte]]=\"ja\",0,1)))","v":0},{"$f":"IF(lammering[[#This Row],[Opfok met kunstmelk]]=\"Ja\",1,0)","v":0},{"$f":"IF(lammering[[#This Row],[geslacht]]=\"O\",1,0)","v":0},{"$f":"IF(lammering[[#This Row],[Speen-datum]]=\"\",\"\",(lammering[[#This Row],[Speen-gewicht]]-lammering[[#This Row],[geboorte-gewicht]])/(lammering[[#This Row],[Speen-datum]]-lammering[[#This Row],[Werp-datum]]))","v":""},{"$f":"IF(lammering[[#This Row],[Verkoop-datum]]=\"\",\"\",(lammering[[#This Row],[Verkoop-gewicht]]-lammering[[#This Row],[Speen-gewicht]])/(lammering[[#This Row],[Verkoop-datum]]-lammering[[#This Row],[Speen-datum]]))","v":""},{"$f":"IF(lammering[[#This Row],[Verkoop-datum]]=\"\",\"\",(lammering[[#This Row],[Verkoop-gewicht]]-lammering[[#This Row],[geboorte-gewicht]])/(lammering[[#This Row],[Verkoop-datum]]-lammering[[#This Row],[Werp-datum]]))","v":""},"","","","","","",{"$f":"IF(lammering[[#This Row],[Verkoop-gewicht]]=\"\",\"\",lammering[[#This Row],[Verkoop-gewicht]]-lammering[[#This Row],[geboorte-gewicht]])","v":""},"",""]
[{"$f":"lammering[[#This Row],[Ooi]]","v":0},0,0,{"$f":"IF(lammering[[#This Row],[Lam-nummer]]=\"\",0,1)","v":0},{"$f":"IF(lammering[[#This Row],[Dood in geboorte]]=\"ja\",1,0)","v":0},{"$f":"IF(lammering[[#This Row],[Ooi]]=\"\",0,IF(Berekeningen!E441=0,1,0))","v":0},{"$f":"IF(D441=0,0,IF(lammering[[#This Row],[Dood in geboorte]]=\"Ja\",0,IF(lammering[[#This Row],[Dood na geboorte]]=\"ja\",0,1)))","v":0},{"$f":"IF(lammering[[#This Row],[Opfok met kunstmelk]]=\"Ja\",1,0)","v":0},{"$f":"IF(lammering[[#This Row],[geslacht]]=\"O\",1,0)","v":0},{"$f":"IF(lammering[[#This Row],[Speen-datum]]=\"\",\"\",(lammering[[#This Row],[Speen-gewicht]]-lammering[[#This Row],[geboorte-gewicht]])/(lammering[[#This Row],[Speen-datum]]-lammering[[#This Row],[Werp-datum]]))","v":""},{"$f":"IF(lammering[[#This Row],[Verkoop-datum]]=\"\",\"\",(lammering[[#This Row],[Verkoop-gewicht]]-lammering[[#This Row],[Speen-gewicht]])/(lammering[[#This Row],[Verkoop-datum]]-lammering[[#This Row],[Speen-datum]]))","v":""},{"$f":"IF(lammering[[#This Row],[Verkoop-datum]]=\"\",\"\",(lammering[[#This Row],[Verkoop-gewicht]]-lammering[[#This Row],[geboorte-gewicht]])/(lammering[[#This Row],[Verkoop-datum]]-lammering[[#This Row],[Werp-datum]]))","v":""},"","","","","","",{"$f":"IF(lammering[[#This Row],[Verkoop-gewicht]]=\"\",\"\",lammering[[#This Row],[Verkoop-gewicht]]-lammering[[#This Row],[geboorte-gewicht]])","v":""},"",""]
[{"$f":"lammering[[#This Row],[Ooi]]","v":0},0,0,{"$f":"IF(lammering[[#This Row],[Lam-nummer]]=\"\",0,1)","v":0},{"$f":"IF(lammering[[#This Row],[Dood in geboorte]]=\"ja\",1,0)","v":0},{"$f":"IF(lammering[[#This Row],[Ooi]]=\"\",0,IF(Berekeningen!E442=0,1,0))","v":0},{"$f":"IF(D442=0,0,IF(lammering[[#This Row],[Dood in geboorte]]=\"Ja\",0,IF(lammering[[#This Row],[Dood na geboorte]]=\"ja\",0,1)))","v":0},{"$f":"IF(lammering[[#This Row],[Opfok met kunstmelk]]=\"Ja\",1,0)","v":0},{"$f":"IF(lammering[[#This Row],[geslacht]]=\"O\",1,0)","v":0},{"$f":"IF(lammering[[#This Row],[Speen-datum]]=\"\",\"\",(lammering[[#This Row],[Speen-gewicht]]-lammering[[#This Row],[geboorte-gewicht]])/(lammering[[#This Row],[Speen-datum]]-lammering[[#This Row],[Werp-datum]]))","v":""},{"$f":"IF(lammering[[#This Row],[Verkoop-datum]]=\"\",\"\",(lammering[[#This Row],[Verkoop-gewicht]]-lammering[[#This Row],[Speen-gewicht]])/(lammering[[#This Row],[Verkoop-datum]]-lammering[[#This Row],[Speen-datum]]))","v":""},{"$f":"IF(lammering[[#This Row],[Verkoop-datum]]=\"\",\"\",(lammering[[#This Row],[Verkoop-gewicht]]-lammering[[#This Row],[geboorte-gewicht]])/(lammering[[#This Row],[Verkoop-datum]]-lammering[[#This Row],[Werp-datum]]))","v":""},"","","","","","",{"$f":"IF(lammering[[#This Row],[Verkoop-gewicht]]=\"\",\"\",lammering[[#This Row],[Verkoop-gewicht]]-lammering[[#This Row],[geboorte-gewicht]])","v":""},"",""]
[{"$f":"lammering[[#This Row],[Ooi]]","v":0},0,0,{"$f":"IF(lammering[[#This Row],[Lam-nummer]]=\"\",0,1)","v":0},{"$f":"IF(lammering[[#This Row],[Dood in geboorte]]=\"ja\",1,0)","v":0},{"$f":"IF(lammering[[#This Row],[Ooi]]=\"\",0,IF(Berekeningen!E443=0,1,0))","v":0},{"$f":"IF(D443=0,0,IF(lammering[[#This Row],[Dood in geboorte]]=\"Ja\",0,IF(lammering[[#This Row],[Dood na geboorte]]=\"ja\",0,1)))","v":0},{"$f":"IF(lammering[[#This Row],[Opfok met kunstmelk]]=\"Ja\",1,0)","v":0},{"$f":"IF(lammering[[#This Row],[geslacht]]=\"O\",1,0)","v":0},{"$f":"IF(lammering[[#This Row],[Speen-datum]]=\"\",\"\",(lammering[[#This Row],[Speen-gewicht]]-lammering[[#This Row],[geboorte-gewicht]])/(lammering[[#This Row],[Speen-datum]]-lammering[[#This Row],[Werp-datum]]))","v":""},{"$f":"IF(lammering[[#This Row],[Verkoop-datum]]=\"\",\"\",(lammering[[#This Row],[Verkoop-gewicht]]-lammering[[#This Row],[Speen-gewicht]])/(lammering[[#This Row],[Verkoop-datum]]-lammering[[#This Row],[Speen-datum]]))","v":""},{"$f":"IF(lammering[[#This Row],[Verkoop-datum]]=\"\",\"\",(lammering[[#This Row],[Verkoop-gewicht]]-lammering[[#This Row],[geboorte-gewicht]])/(lammering[[#This Row],[Verkoop-datum]]-lammering[[#This Row],[Werp-datum]]))","v":""},"","","","","","",{"$f":"IF(lammering[[#This Row],[Verkoop-gewicht]]=\"\",\"\",lammering[[#This Row],[Verkoop-gewicht]]-lammering[[#This Row],[geboorte-gewicht]])","v":""},"",""]
[{"$f":"lammering[[#This Row],[Ooi]]","v":0},0,0,{"$f":"IF(lammering[[#This Row],[Lam-nummer]]=\"\",0,1)","v":0},{"$f":"IF(lammering[[#This Row],[Dood in geboorte]]=\"ja\",1,0)","v":0},{"$f":"IF(lammering[[#This Row],[Ooi]]=\"\",0,IF(Berekeningen!E444=0,1,0))","v":0},{"$f":"IF(D444=0,0,IF(lammering[[#This Row],[Dood in geboorte]]=\"Ja\",0,IF(lammering[[#This Row],[Dood na geboorte]]=\"ja\",0,1)))","v":0},{"$f":"IF(lammering[[#This Row],[Opfok met kunstmelk]]=\"Ja\",1,0)","v":0},{"$f":"IF(lammering[[#This Row],[geslacht]]=\"O\",1,0)","v":0},{"$f":"IF(lammering[[#This Row],[Speen-datum]]=\"\",\"\",(lammering[[#This Row],[Speen-gewicht]]-lammering[[#This Row],[geboorte-gewicht]])/(lammering[[#This Row],[Speen-datum]]-lammering[[#This Row],[Werp-datum]]))","v":""},{"$f":"IF(lammering[[#This Row],[Verkoop-datum]]=\"\",\"\",(lammering[[#This Row],[Verkoop-gewicht]]-lammering[[#This Row],[Speen-gewicht]])/(lammering[[#This Row],[Verkoop-datum]]-lammering[[#This Row],[Speen-datum]]))","v":""},{"$f":"IF(lammering[[#This Row],[Verkoop-datum]]=\"\",\"\",(lammering[[#This Row],[Verkoop-gewicht]]-lammering[[#This Row],[geboorte-gewicht]])/(lammering[[#This Row],[Verkoop-datum]]-lammering[[#This Row],[Werp-datum]]))","v":""},"","","","","","",{"$f":"IF(lammering[[#This Row],[Verkoop-gewicht]]=\"\",\"\",lammering[[#This Row],[Verkoop-gewicht]]-lammering[[#This Row],[geboorte-gewicht]])","v":""},"",""]
[{"$f":"lammering[[#This Row],[Ooi]]","v":0},0,0,{"$f":"IF(lammering[[#This Row],[Lam-nummer]]=\"\",0,1)","v":0},{"$f":"IF(lammering[[#This Row],[Dood in geboorte]]=\"ja\",1,0)","v":0},{"$f":"IF(lammering[[#This Row],[Ooi]]=\"\",0,IF(Berekeningen!E445=0,1,0))","v":0},{"$f":"IF(D445=0,0,IF(lammering[[#This Row],[Dood in geboorte]]=\"Ja\",0,IF(lammering[[#This Row],[Dood na geboorte]]=\"ja\",0,1)))","v":0},{"$f":"IF(lammering[[#This Row],[Opfok met kunstmelk]]=\"Ja\",1,0)","v":0},{"$f":"IF(lammering[[#This Row],[geslacht]]=\"O\",1,0)","v":0},{"$f":"IF(lammering[[#This Row],[Speen-datum]]=\"\",\"\",(lammering[[#This Row],[Speen-gewicht]]-lammering[[#This Row],[geboorte-gewicht]])/(lammering[[#This Row],[Speen-datum]]-lammering[[#This Row],[Werp-datum]]))","v":""},{"$f":"IF(lammering[[#This Row],[Verkoop-datum]]=\"\",\"\",(lammering[[#This Row],[Verkoop-gewicht]]-lammering[[#This Row],[Speen-gewicht]])/(lammering[[#This Row],[Verkoop-datum]]-lammering[[#This Row],[Speen-datum]]))","v":""},{"$f":"IF(lammering[[#This Row],[Verkoop-datum]]=\"\",\"\",(lammering[[#This Row],[Verkoop-gewicht]]-lammering[[#This Row],[geboorte-gewicht]])/(lammering[[#This Row],[Verkoop-datum]]-lammering[[#This Row],[Werp-datum]]))","v":""},"","","","","","",{"$f":"IF(lammering[[#This Row],[Verkoop-gewicht]]=\"\",\"\",lammering[[#This Row],[Verkoop-gewicht]]-lammering[[#This Row],[geboorte-gewicht]])","v":""},"",""]
[{"$f":"lammering[[#This Row],[Ooi]]","v":0},0,0,{"$f":"IF(lammering[[#This Row],[Lam-nummer]]=\"\",0,1)","v":0},{"$f":"IF(lammering[[#This Row],[Dood in geboorte]]=\"ja\",1,0)","v":0},{"$f":"IF(lammering[[#This Row],[Ooi]]=\"\",0,IF(Berekeningen!E446=0,1,0))","v":0},{"$f":"IF(D446=0,0,IF(lammering[[#This Row],[Dood in geboorte]]=\"Ja\",0,IF(lammering[[#This Row],[Dood na geboorte]]=\"ja\",0,1)))","v":0},{"$f":"IF(lammering[[#This Row],[Opfok met kunstmelk]]=\"Ja\",1,0)","v":0},{"$f":"IF(lammering[[#This Row],[geslacht]]=\"O\",1,0)","v":0},{"$f":"IF(lammering[[#This Row],[Speen-datum]]=\"\",\"\",(lammering[[#This Row],[Speen-gewicht]]-lammering[[#This Row],[geboorte-gewicht]])/(lammering[[#This Row],[Speen-datum]]-lammering[[#This Row],[Werp-datum]]))","v":""},{"$f":"IF(lammering[[#This Row],[Verkoop-datum]]=\"\",\"\",(lammering[[#This Row],[Verkoop-gewicht]]-lammering[[#This Row],[Speen-gewicht]])/(lammering[[#This Row],[Verkoop-datum]]-lammering[[#This Row],[Speen-datum]]))","v":""},{"$f":"IF(lammering[[#This Row],[Verkoop-datum]]=\"\",\"\",(lammering[[#This Row],[Verkoop-gewicht]]-lammering[[#This Row],[geboorte-gewicht]])/(lammering[[#This Row],[Verkoop-datum]]-lammering[[#This Row],[Werp-datum]]))","v":""},"","","","","","",{"$f":"IF(lammering[[#This Row],[Verkoop-gewicht]]=\"\",\"\",lammering[[#This Row],[Verkoop-gewicht]]-lammering[[#This Row],[geboorte-gewicht]])","v":""},"",""]
[{"$f":"lammering[[#This Row],[Ooi]]","v":0},0,0,{"$f":"IF(lammering[[#This Row],[Lam-nummer]]=\"\",0,1)","v":0},{"$f":"IF(lammering[[#This Row],[Dood in geboorte]]=\"ja\",1,0)","v":0},{"$f":"IF(lammering[[#This Row],[Ooi]]=\"\",0,IF(Berekeningen!E447=0,1,0))","v":0},{"$f":"IF(D447=0,0,IF(lammering[[#This Row],[Dood in geboorte]]=\"Ja\",0,IF(lammering[[#This Row],[Dood na geboorte]]=\"ja\",0,1)))","v":0},{"$f":"IF(lammering[[#This Row],[Opfok met kunstmelk]]=\"Ja\",1,0)","v":0},{"$f":"IF(lammering[[#This Row],[geslacht]]=\"O\",1,0)","v":0},{"$f":"IF(lammering[[#This Row],[Speen-datum]]=\"\",\"\",(lammering[[#This Row],[Speen-gewicht]]-lammering[[#This Row],[geboorte-gewicht]])/(lammering[[#This Row],[Speen-datum]]-lammering[[#This Row],[Werp-datum]]))","v":""},{"$f":"IF(lammering[[#This Row],[Verkoop-datum]]=\"\",\"\",(lammering[[#This Row],[Verkoop-gewicht]]-lammering[[#This Row],[Speen-gewicht]])/(lammering[[#This Row],[Verkoop-datum]]-lammering[[#This Row],[Speen-datum]]))","v":""},{"$f":"IF(lammering[[#This Row],[Verkoop-datum]]=\"\",\"\",(lammering[[#This Row],[Verkoop-gewicht]]-lammering[[#This Row],[geboorte-gewicht]])/(lammering[[#This Row],[Verkoop-datum]]-lammering[[#This Row],[Werp-datum]]))","v":""},"","","","","","",{"$f":"IF(lammering[[#This Row],[Verkoop-gewicht]]=\"\",\"\",lammering[[#This Row],[Verkoop-gewicht]]-lammering[[#This Row],[geboorte-gewicht]])","v":""},"",""]
[{"$f":"lammering[[#This Row],[Ooi]]","v":0},0,0,{"$f":"IF(lammering[[#This Row],[Lam-nummer]]=\"\",0,1)","v":0},{"$f":"IF(lammering[[#This Row],[Dood in geboorte]]=\"ja\",1,0)","v":0},{"$f":"IF(lammering[[#This Row],[Ooi]]=\"\",0,IF(Berekeningen!E448=0,1,0))","v":0},{"$f":"IF(D448=0,0,IF(lammering[[#This Row],[Dood in geboorte]]=\"Ja\",0,IF(lammering[[#This Row],[Dood na geboorte]]=\"ja\",0,1)))","v":0},{"$f":"IF(lammering[[#This Row],[Opfok met kunstmelk]]=\"Ja\",1,0)","v":0},{"$f":"IF(lammering[[#This Row],[geslacht]]=\"O\",1,0)","v":0},{"$f":"IF(lammering[[#This Row],[Speen-datum]]=\"\",\"\",(lammering[[#This Row],[Speen-gewicht]]-lammering[[#This Row],[geboorte-gewicht]])/(lammering[[#This Row],[Speen-datum]]-lammering[[#This Row],[Werp-datum]]))","v":""},{"$f":"IF(lammering[[#This Row],[Verkoop-datum]]=\"\",\"\",(lammering[[#This Row],[Verkoop-gewicht]]-lammering[[#This Row],[Speen-gewicht]])/(lammering[[#This Row],[Verkoop-datum]]-lammering[[#This Row],[Speen-datum]]))","v":""},{"$f":"IF(lammering[[#This Row],[Verkoop-datum]]=\"\",\"\",(lammering[[#This Row],[Verkoop-gewicht]]-lammering[[#This Row],[geboorte-gewicht]])/(lammering[[#This Row],[Verkoop-datum]]-lammering[[#This Row],[Werp-datum]]))","v":""},"","","","","","",{"$f":"IF(lammering[[#This Row],[Verkoop-gewicht]]=\"\",\"\",lammering[[#This Row],[Verkoop-gewicht]]-lammering[[#This Row],[geboorte-gewicht]])","v":""},"",""]
[{"$f":"lammering[[#This Row],[Ooi]]","v":0},0,0,{"$f":"IF(lammering[[#This Row],[Lam-nummer]]=\"\",0,1)","v":0},{"$f":"IF(lammering[[#This Row],[Dood in geboorte]]=\"ja\",1,0)","v":0},{"$f":"IF(lammering[[#This Row],[Ooi]]=\"\",0,IF(Berekeningen!E449=0,1,0))","v":0},{"$f":"IF(D449=0,0,IF(lammering[[#This Row],[Dood in geboorte]]=\"Ja\",0,IF(lammering[[#This Row],[Dood na geboorte]]=\"ja\",0,1)))","v":0},{"$f":"IF(lammering[[#This Row],[Opfok met kunstmelk]]=\"Ja\",1,0)","v":0},{"$f":"IF(lammering[[#This Row],[geslacht]]=\"O\",1,0)","v":0},{"$f":"IF(lammering[[#This Row],[Speen-datum]]=\"\",\"\",(lammering[[#This Row],[Speen-gewicht]]-lammering[[#This Row],[geboorte-gewicht]])/(lammering[[#This Row],[Speen-datum]]-lammering[[#This Row],[Werp-datum]]))","v":""},{"$f":"IF(lammering[[#This Row],[Verkoop-datum]]=\"\",\"\",(lammering[[#This Row],[Verkoop-gewicht]]-lammering[[#This Row],[Speen-gewicht]])/(lammering[[#This Row],[Verkoop-datum]]-lammering[[#This Row],[Speen-datum]]))","v":""},{"$f":"IF(lammering[[#This Row],[Verkoop-datum]]=\"\",\"\",(lammering[[#This Row],[Verkoop-gewicht]]-lammering[[#This Row],[geboorte-gewicht]])/(lammering[[#This Row],[Verkoop-datum]]-lammering[[#This Row],[Werp-datum]]))","v":""},"","","","","","",{"$f":"IF(lammering[[#This Row],[Verkoop-gewicht]]=\"\",\"\",lammering[[#This Row],[Verkoop-gewicht]]-lammering[[#This Row],[geboorte-gewicht]])","v":""},"",""]
[{"$f":"lammering[[#This Row],[Ooi]]","v":0},0,0,{"$f":"IF(lammering[[#This Row],[Lam-nummer]]=\"\",0,1)","v":0},{"$f":"IF(lammering[[#This Row],[Dood in geboorte]]=\"ja\",1,0)","v":0},{"$f":"IF(lammering[[#This Row],[Ooi]]=\"\",0,IF(Berekeningen!E450=0,1,0))","v":0},{"$f":"IF(D450=0,0,IF(lammering[[#This Row],[Dood in geboorte]]=\"Ja\",0,IF(lammering[[#This Row],[Dood na geboorte]]=\"ja\",0,1)))","v":0},{"$f":"IF(lammering[[#This Row],[Opfok met kunstmelk]]=\"Ja\",1,0)","v":0},{"$f":"IF(lammering[[#This Row],[geslacht]]=\"O\",1,0)","v":0},{"$f":"IF(lammering[[#This Row],[Speen-datum]]=\"\",\"\",(lammering[[#This Row],[Speen-gewicht]]-lammering[[#This Row],[geboorte-gewicht]])/(lammering[[#This Row],[Speen-datum]]-lammering[[#This Row],[Werp-datum]]))","v":""},{"$f":"IF(lammering[[#This Row],[Verkoop-datum]]=\"\",\"\",(lammering[[#This Row],[Verkoop-gewicht]]-lammering[[#This Row],[Speen-gewicht]])/(lammering[[#This Row],[Verkoop-datum]]-lammering[[#This Row],[Speen-datum]]))","v":""},{"$f":"IF(lammering[[#This Row],[Verkoop-datum]]=\"\",\"\",(lammering[[#This Row],[Verkoop-gewicht]]-lammering[[#This Row],[geboorte-gewicht]])/(lammering[[#This Row],[Verkoop-datum]]-lammering[[#This Row],[Werp-datum]]))","v":""},"","","","","","",{"$f":"IF(lammering[[#This Row],[Verkoop-gewicht]]=\"\",\"\",lammering[[#This Row],[Verkoop-gewicht]]-lammering[[#This Row],[geboorte-gewicht]])","v":""},"",""]
[{"$f":"lammering[[#This Row],[Ooi]]","v":0},{"$f":"IF(A451=0,0,IF(A451=A450,0,1))","v":0},{"$f":"IF(B451=1,A451,0)","v":0},{"$f":"IF(lammering[[#This Row],[Lam-nummer]]=\"\",0,1)","v":0},{"$f":"IF(lammering[[#This Row],[Dood in geboorte]]=\"ja\",1,0)","v":0},{"$f":"IF(lammering[[#This Row],[Ooi]]=\"\",0,IF(Berekeningen!E451=0,1,0))","v":0},{"$f":"IF(D451=0,0,IF(lammering[[#This Row],[Dood in geboorte]]=\"Ja\",0,IF(lammering[[#This Row],[Dood na geboorte]]=\"ja\",0,1)))","v":0},{"$f":"IF(lammering[[#This Row],[Opfok met kunstmelk]]=\"Ja\",1,0)","v":0},{"$f":"IF(lammering[[#This Row],[geslacht]]=\"O\",1,0)","v":0},{"$f":"IF(lammering[[#This Row],[Speen-datum]]=\"\",\"\",(lammering[[#This Row],[Speen-gewicht]]-lammering[[#This Row],[geboorte-gewicht]])/(lammering[[#This Row],[Speen-datum]]-lammering[[#This Row],[Werp-datum]]))","v":""},{"$f":"IF(lammering[[#This Row],[Verkoop-datum]]=\"\",\"\",(lammering[[#This Row],[Verkoop-gewicht]]-lammering[[#This Row],[Speen-gewicht]])/(lammering[[#This Row],[Verkoop-datum]]-lammering[[#This Row],[Speen-datum]]))","v":""},{"$f":"IF(lammering[[#This Row],[Verkoop-datum]]=\"\",\"\",(lammering[[#This Row],[Verkoop-gewicht]]-lammering[[#This Row],[geboorte-gewicht]])/(lammering[[#This Row],[Verkoop-datum]]-lammering[[#This Row],[Werp-datum]]))","v":""},"","","","","","",{"$f":"IF(lammering[[#This Row],[Verkoop-gewicht]]=\"\",\"\",lammering[[#This Row],[Verkoop-gewicht]]-lammering[[#This Row],[geboorte-gewicht]])","v":""},"",""]
[{"$f":"lammering[[#This Row],[Ooi]]","v":0},0,0,{"$f":"IF(lammering[[#This Row],[Lam-nummer]]=\"\",0,1)","v":0},{"$f":"IF(lammering[[#This Row],[Dood in geboorte]]=\"ja\",1,0)","v":0},{"$f":"IF(lammering[[#This Row],[Ooi]]=\"\",0,IF(Berekeningen!E452=0,1,0))","v":0},{"$f":"IF(D452=0,0,IF(lammering[[#This Row],[Dood in geboorte]]=\"Ja\",0,IF(lammering[[#This Row],[Dood na geboorte]]=\"ja\",0,1)))","v":0},{"$f":"IF(lammering[[#This Row],[Opfok met kunstmelk]]=\"Ja\",1,0)","v":0},{"$f":"IF(lammering[[#This Row],[geslacht]]=\"O\",1,0)","v":0},{"$f":"IF(lammering[[#This Row],[Speen-datum]]=\"\",\"\",(lammering[[#This Row],[Speen-gewicht]]-lammering[[#This Row],[geboorte-gewicht]])/(lammering[[#This Row],[Speen-datum]]-lammering[[#This Row],[Werp-datum]]))","v":""},{"$f":"IF(lammering[[#This Row],[Verkoop-datum]]=\"\",\"\",(lammering[[#This Row],[Verkoop-gewicht]]-lammering[[#This Row],[Speen-gewicht]])/(lammering[[#This Row],[Verkoop-datum]]-lammering[[#This Row],[Speen-datum]]))","v":""},{"$f":"IF(lammering[[#This Row],[Verkoop-datum]]=\"\",\"\",(lammering[[#This Row],[Verkoop-gewicht]]-lammering[[#This Row],[geboorte-gewicht]])/(lammering[[#This Row],[Verkoop-datum]]-lammering[[#This Row],[Werp-datum]]))","v":""},"","","","","","",{"$f":"IF(lammering[[#This Row],[Verkoop-gewicht]]=\"\",\"\",lammering[[#This Row],[Verkoop-gewicht]]-lammering[[#This Row],[geboorte-gewicht]])","v":""},"",""]
[{"$f":"lammering[[#This Row],[Ooi]]","v":0},0,0,{"$f":"IF(lammering[[#This Row],[Lam-nummer]]=\"\",0,1)","v":0},{"$f":"IF(lammering[[#This Row],[Dood in geboorte]]=\"ja\",1,0)","v":0},{"$f":"IF(lammering[[#This Row],[Ooi]]=\"\",0,IF(Berekeningen!E453=0,1,0))","v":0},{"$f":"IF(D453=0,0,IF(lammering[[#This Row],[Dood in geboorte]]=\"Ja\",0,IF(lammering[[#This Row],[Dood na geboorte]]=\"ja\",0,1)))","v":0},{"$f":"IF(lammering[[#This Row],[Opfok met kunstmelk]]=\"Ja\",1,0)","v":0},{"$f":"IF(lammering[[#This Row],[geslacht]]=\"O\",1,0)","v":0},{"$f":"IF(lammering[[#This Row],[Speen-datum]]=\"\",\"\",(lammering[[#This Row],[Speen-gewicht]]-lammering[[#This Row],[geboorte-gewicht]])/(lammering[[#This Row],[Speen-datum]]-lammering[[#This Row],[Werp-datum]]))","v":""},{"$f":"IF(lammering[[#This Row],[Verkoop-datum]]=\"\",\"\",(lammering[[#This Row],[Verkoop-gewicht]]-lammering[[#This Row],[Speen-gewicht]])/(lammering[[#This Row],[Verkoop-datum]]-lammering[[#This Row],[Speen-datum]]))","v":""},{"$f":"IF(lammering[[#This Row],[Verkoop-datum]]=\"\",\"\",(lammering[[#This Row],[Verkoop-gewicht]]-lammering[[#This Row],[geboorte-gewicht]])/(lammering[[#This Row],[Verkoop-datum]]-lammering[[#This Row],[Werp-datum]]))","v":""},"","","","","","",{"$f":"IF(lammering[[#This Row],[Verkoop-gewicht]]=\"\",\"\",lammering[[#This Row],[Verkoop-gewicht]]-lammering[[#This Row],[geboorte-gewicht]])","v":""},"",""]
[{"$f":"lammering[[#This Row],[Ooi]]","v":0},0,0,{"$f":"IF(lammering[[#This Row],[Lam-nummer]]=\"\",0,1)","v":0},{"$f":"IF(lammering[[#This Row],[Dood in geboorte]]=\"ja\",1,0)","v":0},{"$f":"IF(lammering[[#This Row],[Ooi]]=\"\",0,IF(Berekeningen!E454=0,1,0))","v":0},{"$f":"IF(D454=0,0,IF(lammering[[#This Row],[Dood in geboorte]]=\"Ja\",0,IF(lammering[[#This Row],[Dood na geboorte]]=\"ja\",0,1)))","v":0},{"$f":"IF(lammering[[#This Row],[Opfok met kunstmelk]]=\"Ja\",1,0)","v":0},{"$f":"IF(lammering[[#This Row],[geslacht]]=\"O\",1,0)","v":0},{"$f":"IF(lammering[[#This Row],[Speen-datum]]=\"\",\"\",(lammering[[#This Row],[Speen-gewicht]]-lammering[[#This Row],[geboorte-gewicht]])/(lammering[[#This Row],[Speen-datum]]-lammering[[#This Row],[Werp-datum]]))","v":""},{"$f":"IF(lammering[[#This Row],[Verkoop-datum]]=\"\",\"\",(lammering[[#This Row],[Verkoop-gewicht]]-lammering[[#This Row],[Speen-gewicht]])/(lammering[[#This Row],[Verkoop-datum]]-lammering[[#This Row],[Speen-datum]]))","v":""},{"$f":"IF(lammering[[#This Row],[Verkoop-datum]]=\"\",\"\",(lammering[[#This Row],[Verkoop-gewicht]]-lammering[[#This Row],[geboorte-gewicht]])/(lammering[[#This Row],[Verkoop-datum]]-lammering[[#This Row],[Werp-datum]]))","v":""},"","","","","","",{"$f":"IF(lammering[[#This Row],[Verkoop-gewicht]]=\"\",\"\",lammering[[#This Row],[Verkoop-gewicht]]-lammering[[#This Row],[geboorte-gewicht]])","v":""},"",""]
[{"$f":"lammering[[#This Row],[Ooi]]","v":0},0,0,{"$f":"IF(lammering[[#This Row],[Lam-nummer]]=\"\",0,1)","v":0},{"$f":"IF(lammering[[#This Row],[Dood in geboorte]]=\"ja\",1,0)","v":0},{"$f":"IF(lammering[[#This Row],[Ooi]]=\"\",0,IF(Berekeningen!E455=0,1,0))","v":0},{"$f":"IF(D455=0,0,IF(lammering[[#This Row],[Dood in geboorte]]=\"Ja\",0,IF(lammering[[#This Row],[Dood na geboorte]]=\"ja\",0,1)))","v":0},{"$f":"IF(lammering[[#This Row],[Opfok met kunstmelk]]=\"Ja\",1,0)","v":0},{"$f":"IF(lammering[[#This Row],[geslacht]]=\"O\",1,0)","v":0},{"$f":"IF(lammering[[#This Row],[Speen-datum]]=\"\",\"\",(lammering[[#This Row],[Speen-gewicht]]-lammering[[#This Row],[geboorte-gewicht]])/(lammering[[#This Row],[Speen-datum]]-lammering[[#This Row],[Werp-datum]]))","v":""},{"$f":"IF(lammering[[#This Row],[Verkoop-datum]]=\"\",\"\",(lammering[[#This Row],[Verkoop-gewicht]]-lammering[[#This Row],[Speen-gewicht]])/(lammering[[#This Row],[Verkoop-datum]]-lammering[[#This Row],[Speen-datum]]))","v":""},{"$f":"IF(lammering[[#This Row],[Verkoop-datum]]=\"\",\"\",(lammering[[#This Row],[Verkoop-gewicht]]-lammering[[#This Row],[geboorte-gewicht]])/(lammering[[#This Row],[Verkoop-datum]]-lammering[[#This Row],[Werp-datum]]))","v":""},"","","","","","",{"$f":"IF(lammering[[#This Row],[Verkoop-gewicht]]=\"\",\"\",lammering[[#This Row],[Verkoop-gewicht]]-lammering[[#This Row],[geboorte-gewicht]])","v":""},"",""]
[{"$f":"lammering[[#This Row],[Ooi]]","v":0},0,0,{"$f":"IF(lammering[[#This Row],[Lam-nummer]]=\"\",0,1)","v":0},{"$f":"IF(lammering[[#This Row],[Dood in geboorte]]=\"ja\",1,0)","v":0},{"$f":"IF(lammering[[#This Row],[Ooi]]=\"\",0,IF(Berekeningen!E456=0,1,0))","v":0},{"$f":"IF(D456=0,0,IF(lammering[[#This Row],[Dood in geboorte]]=\"Ja\",0,IF(lammering[[#This Row],[Dood na geboorte]]=\"ja\",0,1)))","v":0},{"$f":"IF(lammering[[#This Row],[Opfok met kunstmelk]]=\"Ja\",1,0)","v":0},{"$f":"IF(lammering[[#This Row],[geslacht]]=\"O\",1,0)","v":0},{"$f":"IF(lammering[[#This Row],[Speen-datum]]=\"\",\"\",(lammering[[#This Row],[Speen-gewicht]]-lammering[[#This Row],[geboorte-gewicht]])/(lammering[[#This Row],[Speen-datum]]-lammering[[#This Row],[Werp-datum]]))","v":""},{"$f":"IF(lammering[[#This Row],[Verkoop-datum]]=\"\",\"\",(lammering[[#This Row],[Verkoop-gewicht]]-lammering[[#This Row],[Speen-gewicht]])/(lammering[[#This Row],[Verkoop-datum]]-lammering[[#This Row],[Speen-datum]]))","v":""},{"$f":"IF(lammering[[#This Row],[Verkoop-datum]]=\"\",\"\",(lammering[[#This Row],[Verkoop-gewicht]]-lammering[[#This Row],[geboorte-gewicht]])/(lammering[[#This Row],[Verkoop-datum]]-lammering[[#This Row],[Werp-datum]]))","v":""},"","","","","","",{"$f":"IF(lammering[[#This Row],[Verkoop-gewicht]]=\"\",\"\",lammering[[#This Row],[Verkoop-gewicht]]-lammering[[#This Row],[geboorte-gewicht]])","v":""},"",""]
[{"$f":"lammering[[#This Row],[Ooi]]","v":0},0,0,{"$f":"IF(lammering[[#This Row],[Lam-nummer]]=\"\",0,1)","v":0},{"$f":"IF(lammering[[#This Row],[Dood in geboorte]]=\"ja\",1,0)","v":0},{"$f":"IF(lammering[[#This Row],[Ooi]]=\"\",0,IF(Berekeningen!E457=0,1,0))","v":0},{"$f":"IF(D457=0,0,IF(lammering[[#This Row],[Dood in geboorte]]=\"Ja\",0,IF(lammering[[#This Row],[Dood na geboorte]]=\"ja\",0,1)))","v":0},{"$f":"IF(lammering[[#This Row],[Opfok met kunstmelk]]=\"Ja\",1,0)","v":0},{"$f":"IF(lammering[[#This Row],[geslacht]]=\"O\",1,0)","v":0},{"$f":"IF(lammering[[#This Row],[Speen-datum]]=\"\",\"\",(lammering[[#This Row],[Speen-gewicht]]-lammering[[#This Row],[geboorte-gewicht]])/(lammering[[#This Row],[Speen-datum]]-lammering[[#This Row],[Werp-datum]]))","v":""},{"$f":"IF(lammering[[#This Row],[Verkoop-datum]]=\"\",\"\",(lammering[[#This Row],[Verkoop-gewicht]]-lammering[[#This Row],[Speen-gewicht]])/(lammering[[#This Row],[Verkoop-datum]]-lammering[[#This Row],[Speen-datum]]))","v":""},{"$f":"IF(lammering[[#This Row],[Verkoop-datum]]=\"\",\"\",(lammering[[#This Row],[Verkoop-gewicht]]-lammering[[#This Row],[geboorte-gewicht]])/(lammering[[#This Row],[Verkoop-datum]]-lammering[[#This Row],[Werp-datum]]))","v":""},"","","","","","",{"$f":"IF(lammering[[#This Row],[Verkoop-gewicht]]=\"\",\"\",lammering[[#This Row],[Verkoop-gewicht]]-lammering[[#This Row],[geboorte-gewicht]])","v":""},"",""]
[{"$f":"lammering[[#This Row],[Ooi]]","v":0},0,0,{"$f":"IF(lammering[[#This Row],[Lam-nummer]]=\"\",0,1)","v":0},{"$f":"IF(lammering[[#This Row],[Dood in geboorte]]=\"ja\",1,0)","v":0},{"$f":"IF(lammering[[#This Row],[Ooi]]=\"\",0,IF(Berekeningen!E458=0,1,0))","v":0},{"$f":"IF(D458=0,0,IF(lammering[[#This Row],[Dood in geboorte]]=\"Ja\",0,IF(lammering[[#This Row],[Dood na geboorte]]=\"ja\",0,1)))","v":0},{"$f":"IF(lammering[[#This Row],[Opfok met kunstmelk]]=\"Ja\",1,0)","v":0},{"$f":"IF(lammering[[#This Row],[geslacht]]=\"O\",1,0)","v":0},{"$f":"IF(lammering[[#This Row],[Speen-datum]]=\"\",\"\",(lammering[[#This Row],[Speen-gewicht]]-lammering[[#This Row],[geboorte-gewicht]])/(lammering[[#This Row],[Speen-datum]]-lammering[[#This Row],[Werp-datum]]))","v":""},{"$f":"IF(lammering[[#This Row],[Verkoop-datum]]=\"\",\"\",(lammering[[#This Row],[Verkoop-gewicht]]-lammering[[#This Row],[Speen-gewicht]])/(lammering[[#This Row],[Verkoop-datum]]-lammering[[#This Row],[Speen-datum]]))","v":""},{"$f":"IF(lammering[[#This Row],[Verkoop-datum]]=\"\",\"\",(lammering[[#This Row],[Verkoop-gewicht]]-lammering[[#This Row],[geboorte-gewicht]])/(lammering[[#This Row],[Verkoop-datum]]-lammering[[#This Row],[Werp-datum]]))","v":""},"","","","","","",{"$f":"IF(lammering[[#This Row],[Verkoop-gewicht]]=\"\",\"\",lammering[[#This Row],[Verkoop-gewicht]]-lammering[[#This Row],[geboorte-gewicht]])","v":""},"",""]
[{"$f":"lammering[[#This Row],[Ooi]]","v":0},0,0,{"$f":"IF(lammering[[#This Row],[Lam-nummer]]=\"\",0,1)","v":0},{"$f":"IF(lammering[[#This Row],[Dood in geboorte]]=\"ja\",1,0)","v":0},{"$f":"IF(lammering[[#This Row],[Ooi]]=\"\",0,IF(Berekeningen!E459=0,1,0))","v":0},{"$f":"IF(D459=0,0,IF(lammering[[#This Row],[Dood in geboorte]]=\"Ja\",0,IF(lammering[[#This Row],[Dood na geboorte]]=\"ja\",0,1)))","v":0},{"$f":"IF(lammering[[#This Row],[Opfok met kunstmelk]]=\"Ja\",1,0)","v":0},{"$f":"IF(lammering[[#This Row],[geslacht]]=\"O\",1,0)","v":0},{"$f":"IF(lammering[[#This Row],[Speen-datum]]=\"\",\"\",(lammering[[#This Row],[Speen-gewicht]]-lammering[[#This Row],[geboorte-gewicht]])/(lammering[[#This Row],[Speen-datum]]-lammering[[#This Row],[Werp-datum]]))","v":""},{"$f":"IF(lammering[[#This Row],[Verkoop-datum]]=\"\",\"\",(lammering[[#This Row],[Verkoop-gewicht]]-lammering[[#This Row],[Speen-gewicht]])/(lammering[[#This Row],[Verkoop-datum]]-lammering[[#This Row],[Speen-datum]]))","v":""},{"$f":"IF(lammering[[#This Row],[Verkoop-datum]]=\"\",\"\",(lammering[[#This Row],[Verkoop-gewicht]]-lammering[[#This Row],[geboorte-gewicht]])/(lammering[[#This Row],[Verkoop-datum]]-lammering[[#This Row],[Werp-datum]]))","v":""},"","","","","","",{"$f":"IF(lammering[[#This Row],[Verkoop-gewicht]]=\"\",\"\",lammering[[#This Row],[Verkoop-gewicht]]-lammering[[#This Row],[geboorte-gewicht]])","v":""},"",""]
[{"$f":"lammering[[#This Row],[Ooi]]","v":0},0,0,{"$f":"IF(lammering[[#This Row],[Lam-nummer]]=\"\",0,1)","v":0},{"$f":"IF(lammering[[#This Row],[Dood in geboorte]]=\"ja\",1,0)","v":0},{"$f":"IF(lammering[[#This Row],[Ooi]]=\"\",0,IF(Berekeningen!E460=0,1,0))","v":0},{"$f":"IF(D460=0,0,IF(lammering[[#This Row],[Dood in geboorte]]=\"Ja\",0,IF(lammering[[#This Row],[Dood na geboorte]]=\"ja\",0,1)))","v":0},{"$f":"IF(lammering[[#This Row],[Opfok met kunstmelk]]=\"Ja\",1,0)","v":0},{"$f":"IF(lammering[[#This Row],[geslacht]]=\"O\",1,0)","v":0},{"$f":"IF(lammering[[#This Row],[Speen-datum]]=\"\",\"\",(lammering[[#This Row],[Speen-gewicht]]-lammering[[#This Row],[geboorte-gewicht]])/(lammering[[#This Row],[Speen-datum]]-lammering[[#This Row],[Werp-datum]]))","v":""},{"$f":"IF(lammering[[#This Row],[Verkoop-datum]]=\"\",\"\",(lammering[[#This Row],[Verkoop-gewicht]]-lammering[[#This Row],[Speen-gewicht]])/(lammering[[#This Row],[Verkoop-datum]]-lammering[[#This Row],[Speen-datum]]))","v":""},{"$f":"IF(lammering[[#This Row],[Verkoop-datum]]=\"\",\"\",(lammering[[#This Row],[Verkoop-gewicht]]-lammering[[#This Row],[geboorte-gewicht]])/(lammering[[#This Row],[Verkoop-datum]]-lammering[[#This Row],[Werp-datum]]))","v":""},"","","","","","",{"$f":"IF(lammering[[#This Row],[Verkoop-gewicht]]=\"\",\"\",lammering[[#This Row],[Verkoop-gewicht]]-lammering[[#This Row],[geboorte-gewicht]])","v":""},"",""]
[{"$f":"lammering[[#This Row],[Ooi]]","v":0},0,0,{"$f":"IF(lammering[[#This Row],[Lam-nummer]]=\"\",0,1)","v":0},{"$f":"IF(lammering[[#This Row],[Dood in geboorte]]=\"ja\",1,0)","v":0},{"$f":"IF(lammering[[#This Row],[Ooi]]=\"\",0,IF(Berekeningen!E461=0,1,0))","v":0},{"$f":"IF(D461=0,0,IF(lammering[[#This Row],[Dood in geboorte]]=\"Ja\",0,IF(lammering[[#This Row],[Dood na geboorte]]=\"ja\",0,1)))","v":0},{"$f":"IF(lammering[[#This Row],[Opfok met kunstmelk]]=\"Ja\",1,0)","v":0},{"$f":"IF(lammering[[#This Row],[geslacht]]=\"O\",1,0)","v":0},{"$f":"IF(lammering[[#This Row],[Speen-datum]]=\"\",\"\",(lammering[[#This Row],[Speen-gewicht]]-lammering[[#This Row],[geboorte-gewicht]])/(lammering[[#This Row],[Speen-datum]]-lammering[[#This Row],[Werp-datum]]))","v":""},{"$f":"IF(lammering[[#This Row],[Verkoop-datum]]=\"\",\"\",(lammering[[#This Row],[Verkoop-gewicht]]-lammering[[#This Row],[Speen-gewicht]])/(lammering[[#This Row],[Verkoop-datum]]-lammering[[#This Row],[Speen-datum]]))","v":""},{"$f":"IF(lammering[[#This Row],[Verkoop-datum]]=\"\",\"\",(lammering[[#This Row],[Verkoop-gewicht]]-lammering[[#This Row],[geboorte-gewicht]])/(lammering[[#This Row],[Verkoop-datum]]-lammering[[#This Row],[Werp-datum]]))","v":""},"","","","","","",{"$f":"IF(lammering[[#This Row],[Verkoop-gewicht]]=\"\",\"\",lammering[[#This Row],[Verkoop-gewicht]]-lammering[[#This Row],[geboorte-gewicht]])","v":""},"",""]
[{"$f":"lammering[[#This Row],[Ooi]]","v":0},0,0,{"$f":"IF(lammering[[#This Row],[Lam-nummer]]=\"\",0,1)","v":0},{"$f":"IF(lammering[[#This Row],[Dood in geboorte]]=\"ja\",1,0)","v":0},{"$f":"IF(lammering[[#This Row],[Ooi]]=\"\",0,IF(Berekeningen!E462=0,1,0))","v":0},{"$f":"IF(D462=0,0,IF(lammering[[#This Row],[Dood in geboorte]]=\"Ja\",0,IF(lammering[[#This Row],[Dood na geboorte]]=\"ja\",0,1)))","v":0},{"$f":"IF(lammering[[#This Row],[Opfok met kunstmelk]]=\"Ja\",1,0)","v":0},{"$f":"IF(lammering[[#This Row],[geslacht]]=\"O\",1,0)","v":0},{"$f":"IF(lammering[[#This Row],[Speen-datum]]=\"\",\"\",(lammering[[#This Row],[Speen-gewicht]]-lammering[[#This Row],[geboorte-gewicht]])/(lammering[[#This Row],[Speen-datum]]-lammering[[#This Row],[Werp-datum]]))","v":""},{"$f":"IF(lammering[[#This Row],[Verkoop-datum]]=\"\",\"\",(lammering[[#This Row],[Verkoop-gewicht]]-lammering[[#This Row],[Speen-gewicht]])/(lammering[[#This Row],[Verkoop-datum]]-lammering[[#This Row],[Speen-datum]]))","v":""},{"$f":"IF(lammering[[#This Row],[Verkoop-datum]]=\"\",\"\",(lammering[[#This Row],[Verkoop-gewicht]]-lammering[[#This Row],[geboorte-gewicht]])/(lammering[[#This Row],[Verkoop-datum]]-lammering[[#This Row],[Werp-datum]]))","v":""},"","","","","","",{"$f":"IF(lammering[[#This Row],[Verkoop-gewicht]]=\"\",\"\",lammering[[#This Row],[Verkoop-gewicht]]-lammering[[#This Row],[geboorte-gewicht]])","v":""},"",""]
[{"$f":"lammering[[#This Row],[Ooi]]","v":0},0,0,{"$f":"IF(lammering[[#This Row],[Lam-nummer]]=\"\",0,1)","v":0},{"$f":"IF(lammering[[#This Row],[Dood in geboorte]]=\"ja\",1,0)","v":0},{"$f":"IF(lammering[[#This Row],[Ooi]]=\"\",0,IF(Berekeningen!E463=0,1,0))","v":0},{"$f":"IF(D463=0,0,IF(lammering[[#This Row],[Dood in geboorte]]=\"Ja\",0,IF(lammering[[#This Row],[Dood na geboorte]]=\"ja\",0,1)))","v":0},{"$f":"IF(lammering[[#This Row],[Opfok met kunstmelk]]=\"Ja\",1,0)","v":0},{"$f":"IF(lammering[[#This Row],[geslacht]]=\"O\",1,0)","v":0},{"$f":"IF(lammering[[#This Row],[Speen-datum]]=\"\",\"\",(lammering[[#This Row],[Speen-gewicht]]-lammering[[#This Row],[geboorte-gewicht]])/(lammering[[#This Row],[Speen-datum]]-lammering[[#This Row],[Werp-datum]]))","v":""},{"$f":"IF(lammering[[#This Row],[Verkoop-datum]]=\"\",\"\",(lammering[[#This Row],[Verkoop-gewicht]]-lammering[[#This Row],[Speen-gewicht]])/(lammering[[#This Row],[Verkoop-datum]]-lammering[[#This Row],[Speen-datum]]))","v":""},{"$f":"IF(lammering[[#This Row],[Verkoop-datum]]=\"\",\"\",(lammering[[#This Row],[Verkoop-gewicht]]-lammering[[#This Row],[geboorte-gewicht]])/(lammering[[#This Row],[Verkoop-datum]]-lammering[[#This Row],[Werp-datum]]))","v":""},{"$f":"IF($I463=1,J463,\"\")","v":""},{"$f":"IF($I463=1,K463,\"\")","v":""},{"$f":"IF($I463=1,L463,\"\")","v":""},{"$f":"IF($I463=0,J463,\"\")","v":""},{"$f":"IF($I463=0,K463,\"\")","v":""},{"$f":"IF($I463=0,L463,\"\")","v":""},{"$f":"IF(lammering[[#This Row],[Verkoop-gewicht]]=\"\",\"\",lammering[[#This Row],[Verkoop-gewicht]]-lammering[[#This Row],[geboorte-gewicht]])","v":""},{"$f":"IF(I463=1,S463,\"\")","v":""},{"$f":"IF(I463=0,S463,\"\")","v":""}]
[{"$f":"lammering[[#This Row],[Ooi]]","v":0},0,0,{"$f":"IF(lammering[[#This Row],[Lam-nummer]]=\"\",0,1)","v":0},{"$f":"IF(lammering[[#This Row],[Dood in geboorte]]=\"ja\",1,0)","v":0},{"$f":"IF(lammering[[#This Row],[Ooi]]=\"\",0,IF(Berekeningen!E464=0,1,0))","v":0},{"$f":"IF(D464=0,0,IF(lammering[[#This Row],[Dood in geboorte]]=\"Ja\",0,IF(lammering[[#This Row],[Dood na geboorte]]=\"ja\",0,1)))","v":0},{"$f":"IF(lammering[[#This Row],[Opfok met kunstmelk]]=\"Ja\",1,0)","v":0},{"$f":"IF(lammering[[#This Row],[geslacht]]=\"O\",1,0)","v":0},{"$f":"IF(lammering[[#This Row],[Speen-datum]]=\"\",\"\",(lammering[[#This Row],[Speen-gewicht]]-lammering[[#This Row],[geboorte-gewicht]])/(lammering[[#This Row],[Speen-datum]]-lammering[[#This Row],[Werp-datum]]))","v":""},{"$f":"IF(lammering[[#This Row],[Verkoop-datum]]=\"\",\"\",(lammering[[#This Row],[Verkoop-gewicht]]-lammering[[#This Row],[Speen-gewicht]])/(lammering[[#This Row],[Verkoop-datum]]-lammering[[#This Row],[Speen-datum]]))","v":""},{"$f":"IF(lammering[[#This Row],[Verkoop-datum]]=\"\",\"\",(lammering[[#This Row],[Verkoop-gewicht]]-lammering[[#This Row],[geboorte-gewicht]])/(lammering[[#This Row],[Verkoop-datum]]-lammering[[#This Row],[Werp-datum]]))","v":""},"","","","","","",{"$f":"IF(lammering[[#This Row],[Verkoop-gewicht]]=\"\",\"\",lammering[[#This Row],[Verkoop-gewicht]]-lammering[[#This Row],[geboorte-gewicht]])","v":""},"",""]
[{"$f":"lammering[[#This Row],[Ooi]]","v":0},0,0,{"$f":"IF(lammering[[#This Row],[Lam-nummer]]=\"\",0,1)","v":0},{"$f":"IF(lammering[[#This Row],[Dood in geboorte]]=\"ja\",1,0)","v":0},{"$f":"IF(lammering[[#This Row],[Ooi]]=\"\",0,IF(Berekeningen!E465=0,1,0))","v":0},{"$f":"IF(D465=0,0,IF(lammering[[#This Row],[Dood in geboorte]]=\"Ja\",0,IF(lammering[[#This Row],[Dood na geboorte]]=\"ja\",0,1)))","v":0},{"$f":"IF(lammering[[#This Row],[Opfok met kunstmelk]]=\"Ja\",1,0)","v":0},{"$f":"IF(lammering[[#This Row],[geslacht]]=\"O\",1,0)","v":0},{"$f":"IF(lammering[[#This Row],[Speen-datum]]=\"\",\"\",(lammering[[#This Row],[Speen-gewicht]]-lammering[[#This Row],[geboorte-gewicht]])/(lammering[[#This Row],[Speen-datum]]-lammering[[#This Row],[Werp-datum]]))","v":""},{"$f":"IF(lammering[[#This Row],[Verkoop-datum]]=\"\",\"\",(lammering[[#This Row],[Verkoop-gewicht]]-lammering[[#This Row],[Speen-gewicht]])/(lammering[[#This Row],[Verkoop-datum]]-lammering[[#This Row],[Speen-datum]]))","v":""},{"$f":"IF(lammering[[#This Row],[Verkoop-datum]]=\"\",\"\",(lammering[[#This Row],[Verkoop-gewicht]]-lammering[[#This Row],[geboorte-gewicht]])/(lammering[[#This Row],[Verkoop-datum]]-lammering[[#This Row],[Werp-datum]]))","v":""},"","","","","","",{"$f":"IF(lammering[[#This Row],[Verkoop-gewicht]]=\"\",\"\",lammering[[#This Row],[Verkoop-gewicht]]-lammering[[#This Row],[geboorte-gewicht]])","v":""},"",""]
[{"$f":"lammering[[#This Row],[Ooi]]","v":0},0,0,{"$f":"IF(lammering[[#This Row],[Lam-nummer]]=\"\",0,1)","v":0},{"$f":"IF(lammering[[#This Row],[Dood in geboorte]]=\"ja\",1,0)","v":0},{"$f":"IF(lammering[[#This Row],[Ooi]]=\"\",0,IF(Berekeningen!E466=0,1,0))","v":0},{"$f":"IF(D466=0,0,IF(lammering[[#This Row],[Dood in geboorte]]=\"Ja\",0,IF(lammering[[#This Row],[Dood na geboorte]]=\"ja\",0,1)))","v":0},{"$f":"IF(lammering[[#This Row],[Opfok met kunstmelk]]=\"Ja\",1,0)","v":0},{"$f":"IF(lammering[[#This Row],[geslacht]]=\"O\",1,0)","v":0},{"$f":"IF(lammering[[#This Row],[Speen-datum]]=\"\",\"\",(lammering[[#This Row],[Speen-gewicht]]-lammering[[#This Row],[geboorte-gewicht]])/(lammering[[#This Row],[Speen-datum]]-lammering[[#This Row],[Werp-datum]]))","v":""},{"$f":"IF(lammering[[#This Row],[Verkoop-datum]]=\"\",\"\",(lammering[[#This Row],[Verkoop-gewicht]]-lammering[[#This Row],[Speen-gewicht]])/(lammering[[#This Row],[Verkoop-datum]]-lammering[[#This Row],[Speen-datum]]))","v":""},{"$f":"IF(lammering[[#This Row],[Verkoop-datum]]=\"\",\"\",(lammering[[#This Row],[Verkoop-gewicht]]-lammering[[#This Row],[geboorte-gewicht]])/(lammering[[#This Row],[Verkoop-datum]]-lammering[[#This Row],[Werp-datum]]))","v":""},"","","","","","",{"$f":"IF(lammering[[#This Row],[Verkoop-gewicht]]=\"\",\"\",lammering[[#This Row],[Verkoop-gewicht]]-lammering[[#This Row],[geboorte-gewicht]])","v":""},"",""]
[{"$f":"lammering[[#This Row],[Ooi]]","v":0},0,0,{"$f":"IF(lammering[[#This Row],[Lam-nummer]]=\"\",0,1)","v":0},{"$f":"IF(lammering[[#This Row],[Dood in geboorte]]=\"ja\",1,0)","v":0},{"$f":"IF(lammering[[#This Row],[Ooi]]=\"\",0,IF(Berekeningen!E467=0,1,0))","v":0},{"$f":"IF(D467=0,0,IF(lammering[[#This Row],[Dood in geboorte]]=\"Ja\",0,IF(lammering[[#This Row],[Dood na geboorte]]=\"ja\",0,1)))","v":0},{"$f":"IF(lammering[[#This Row],[Opfok met kunstmelk]]=\"Ja\",1,0)","v":0},{"$f":"IF(lammering[[#This Row],[geslacht]]=\"O\",1,0)","v":0},{"$f":"IF(lammering[[#This Row],[Speen-datum]]=\"\",\"\",(lammering[[#This Row],[Speen-gewicht]]-lammering[[#This Row],[geboorte-gewicht]])/(lammering[[#This Row],[Speen-datum]]-lammering[[#This Row],[Werp-datum]]))","v":""},{"$f":"IF(lammering[[#This Row],[Verkoop-datum]]=\"\",\"\",(lammering[[#This Row],[Verkoop-gewicht]]-lammering[[#This Row],[Speen-gewicht]])/(lammering[[#This Row],[Verkoop-datum]]-lammering[[#This Row],[Speen-datum]]))","v":""},{"$f":"IF(lammering[[#This Row],[Verkoop-datum]]=\"\",\"\",(lammering[[#This Row],[Verkoop-gewicht]]-lammering[[#This Row],[geboorte-gewicht]])/(lammering[[#This Row],[Verkoop-datum]]-lammering[[#This Row],[Werp-datum]]))","v":""},"","","","","","",{"$f":"IF(lammering[[#This Row],[Verkoop-gewicht]]=\"\",\"\",lammering[[#This Row],[Verkoop-gewicht]]-lammering[[#This Row],[geboorte-gewicht]])","v":""},"",""]
[{"$f":"lammering[[#This Row],[Ooi]]","v":0},0,0,{"$f":"IF(lammering[[#This Row],[Lam-nummer]]=\"\",0,1)","v":0},{"$f":"IF(lammering[[#This Row],[Dood in geboorte]]=\"ja\",1,0)","v":0},{"$f":"IF(lammering[[#This Row],[Ooi]]=\"\",0,IF(Berekeningen!E468=0,1,0))","v":0},{"$f":"IF(D468=0,0,IF(lammering[[#This Row],[Dood in geboorte]]=\"Ja\",0,IF(lammering[[#This Row],[Dood na geboorte]]=\"ja\",0,1)))","v":0},{"$f":"IF(lammering[[#This Row],[Opfok met kunstmelk]]=\"Ja\",1,0)","v":0},{"$f":"IF(lammering[[#This Row],[geslacht]]=\"O\",1,0)","v":0},{"$f":"IF(lammering[[#This Row],[Speen-datum]]=\"\",\"\",(lammering[[#This Row],[Speen-gewicht]]-lammering[[#This Row],[geboorte-gewicht]])/(lammering[[#This Row],[Speen-datum]]-lammering[[#This Row],[Werp-datum]]))","v":""},{"$f":"IF(lammering[[#This Row],[Verkoop-datum]]=\"\",\"\",(lammering[[#This Row],[Verkoop-gewicht]]-lammering[[#This Row],[Speen-gewicht]])/(lammering[[#This Row],[Verkoop-datum]]-lammering[[#This Row],[Speen-datum]]))","v":""},{"$f":"IF(lammering[[#This Row],[Verkoop-datum]]=\"\",\"\",(lammering[[#This Row],[Verkoop-gewicht]]-lammering[[#This Row],[geboorte-gewicht]])/(lammering[[#This Row],[Verkoop-datum]]-lammering[[#This Row],[Werp-datum]]))","v":""},"","","","","","",{"$f":"IF(lammering[[#This Row],[Verkoop-gewicht]]=\"\",\"\",lammering[[#This Row],[Verkoop-gewicht]]-lammering[[#This Row],[geboorte-gewicht]])","v":""},"",""]
[{"$f":"lammering[[#This Row],[Ooi]]","v":0},0,0,{"$f":"IF(lammering[[#This Row],[Lam-nummer]]=\"\",0,1)","v":0},{"$f":"IF(lammering[[#This Row],[Dood in geboorte]]=\"ja\",1,0)","v":0},{"$f":"IF(lammering[[#This Row],[Ooi]]=\"\",0,IF(Berekeningen!E469=0,1,0))","v":0},{"$f":"IF(D469=0,0,IF(lammering[[#This Row],[Dood in geboorte]]=\"Ja\",0,IF(lammering[[#This Row],[Dood na geboorte]]=\"ja\",0,1)))","v":0},{"$f":"IF(lammering[[#This Row],[Opfok met kunstmelk]]=\"Ja\",1,0)","v":0},{"$f":"IF(lammering[[#This Row],[geslacht]]=\"O\",1,0)","v":0},{"$f":"IF(lammering[[#This Row],[Speen-datum]]=\"\",\"\",(lammering[[#This Row],[Speen-gewicht]]-lammering[[#This Row],[geboorte-gewicht]])/(lammering[[#This Row],[Speen-datum]]-lammering[[#This Row],[Werp-datum]]))","v":""},{"$f":"IF(lammering[[#This Row],[Verkoop-datum]]=\"\",\"\",(lammering[[#This Row],[Verkoop-gewicht]]-lammering[[#This Row],[Speen-gewicht]])/(lammering[[#This Row],[Verkoop-datum]]-lammering[[#This Row],[Speen-datum]]))","v":""},{"$f":"IF(lammering[[#This Row],[Verkoop-datum]]=\"\",\"\",(lammering[[#This Row],[Verkoop-gewicht]]-lammering[[#This Row],[geboorte-gewicht]])/(lammering[[#This Row],[Verkoop-datum]]-lammering[[#This Row],[Werp-datum]]))","v":""},"","","","","","",{"$f":"IF(lammering[[#This Row],[Verkoop-gewicht]]=\"\",\"\",lammering[[#This Row],[Verkoop-gewicht]]-lammering[[#This Row],[geboorte-gewicht]])","v":""},"",""]
[{"$f":"lammering[[#This Row],[Ooi]]","v":0},0,0,{"$f":"IF(lammering[[#This Row],[Lam-nummer]]=\"\",0,1)","v":0},{"$f":"IF(lammering[[#This Row],[Dood in geboorte]]=\"ja\",1,0)","v":0},{"$f":"IF(lammering[[#This Row],[Ooi]]=\"\",0,IF(Berekeningen!E470=0,1,0))","v":0},{"$f":"IF(D470=0,0,IF(lammering[[#This Row],[Dood in geboorte]]=\"Ja\",0,IF(lammering[[#This Row],[Dood na geboorte]]=\"ja\",0,1)))","v":0},{"$f":"IF(lammering[[#This Row],[Opfok met kunstmelk]]=\"Ja\",1,0)","v":0},{"$f":"IF(lammering[[#This Row],[geslacht]]=\"O\",1,0)","v":0},{"$f":"IF(lammering[[#This Row],[Speen-datum]]=\"\",\"\",(lammering[[#This Row],[Speen-gewicht]]-lammering[[#This Row],[geboorte-gewicht]])/(lammering[[#This Row],[Speen-datum]]-lammering[[#This Row],[Werp-datum]]))","v":""},{"$f":"IF(lammering[[#This Row],[Verkoop-datum]]=\"\",\"\",(lammering[[#This Row],[Verkoop-gewicht]]-lammering[[#This Row],[Speen-gewicht]])/(lammering[[#This Row],[Verkoop-datum]]-lammering[[#This Row],[Speen-datum]]))","v":""},{"$f":"IF(lammering[[#This Row],[Verkoop-datum]]=\"\",\"\",(lammering[[#This Row],[Verkoop-gewicht]]-lammering[[#This Row],[geboorte-gewicht]])/(lammering[[#This Row],[Verkoop-datum]]-lammering[[#This Row],[Werp-datum]]))","v":""},"","","","","","",{"$f":"IF(lammering[[#This Row],[Verkoop-gewicht]]=\"\",\"\",lammering[[#This Row],[Verkoop-gewicht]]-lammering[[#This Row],[geboorte-gewicht]])","v":""},"",""]
[{"$f":"lammering[[#This Row],[Ooi]]","v":0},0,0,{"$f":"IF(lammering[[#This Row],[Lam-nummer]]=\"\",0,1)","v":0},{"$f":"IF(lammering[[#This Row],[Dood in geboorte]]=\"ja\",1,0)","v":0},{"$f":"IF(lammering[[#This Row],[Ooi]]=\"\",0,IF(Berekeningen!E471=0,1,0))","v":0},{"$f":"IF(D471=0,0,IF(lammering[[#This Row],[Dood in geboorte]]=\"Ja\",0,IF(lammering[[#This Row],[Dood na geboorte]]=\"ja\",0,1)))","v":0},{"$f":"IF(lammering[[#This Row],[Opfok met kunstmelk]]=\"Ja\",1,0)","v":0},{"$f":"IF(lammering[[#This Row],[geslacht]]=\"O\",1,0)","v":0},{"$f":"IF(lammering[[#This Row],[Speen-datum]]=\"\",\"\",(lammering[[#This Row],[Speen-gewicht]]-lammering[[#This Row],[geboorte-gewicht]])/(lammering[[#This Row],[Speen-datum]]-lammering[[#This Row],[Werp-datum]]))","v":""},{"$f":"IF(lammering[[#This Row],[Verkoop-datum]]=\"\",\"\",(lammering[[#This Row],[Verkoop-gewicht]]-lammering[[#This Row],[Speen-gewicht]])/(lammering[[#This Row],[Verkoop-datum]]-lammering[[#This Row],[Speen-datum]]))","v":""},{"$f":"IF(lammering[[#This Row],[Verkoop-datum]]=\"\",\"\",(lammering[[#This Row],[Verkoop-gewicht]]-lammering[[#This Row],[geboorte-gewicht]])/(lammering[[#This Row],[Verkoop-datum]]-lammering[[#This Row],[Werp-datum]]))","v":""},"","","","","","",{"$f":"IF(lammering[[#This Row],[Verkoop-gewicht]]=\"\",\"\",lammering[[#This Row],[Verkoop-gewicht]]-lammering[[#This Row],[geboorte-gewicht]])","v":""},"",""]
[{"$f":"lammering[[#This Row],[Ooi]]","v":0},0,0,{"$f":"IF(lammering[[#This Row],[Lam-nummer]]=\"\",0,1)","v":0},{"$f":"IF(lammering[[#This Row],[Dood in geboorte]]=\"ja\",1,0)","v":0},{"$f":"IF(lammering[[#This Row],[Ooi]]=\"\",0,IF(Berekeningen!E472=0,1,0))","v":0},{"$f":"IF(D472=0,0,IF(lammering[[#This Row],[Dood in geboorte]]=\"Ja\",0,IF(lammering[[#This Row],[Dood na geboorte]]=\"ja\",0,1)))","v":0},{"$f":"IF(lammering[[#This Row],[Opfok met kunstmelk]]=\"Ja\",1,0)","v":0},{"$f":"IF(lammering[[#This Row],[geslacht]]=\"O\",1,0)","v":0},{"$f":"IF(lammering[[#This Row],[Speen-datum]]=\"\",\"\",(lammering[[#This Row],[Speen-gewicht]]-lammering[[#This Row],[geboorte-gewicht]])/(lammering[[#This Row],[Speen-datum]]-lammering[[#This Row],[Werp-datum]]))","v":""},{"$f":"IF(lammering[[#This Row],[Verkoop-datum]]=\"\",\"\",(lammering[[#This Row],[Verkoop-gewicht]]-lammering[[#This Row],[Speen-gewicht]])/(lammering[[#This Row],[Verkoop-datum]]-lammering[[#This Row],[Speen-datum]]))","v":""},{"$f":"IF(lammering[[#This Row],[Verkoop-datum]]=\"\",\"\",(lammering[[#This Row],[Verkoop-gewicht]]-lammering[[#This Row],[geboorte-gewicht]])/(lammering[[#This Row],[Verkoop-datum]]-lammering[[#This Row],[Werp-datum]]))","v":""},"","","","","","",{"$f":"IF(lammering[[#This Row],[Verkoop-gewicht]]=\"\",\"\",lammering[[#This Row],[Verkoop-gewicht]]-lammering[[#This Row],[geboorte-gewicht]])","v":""},"",""]
[{"$f":"lammering[[#This Row],[Ooi]]","v":0},0,0,{"$f":"IF(lammering[[#This Row],[Lam-nummer]]=\"\",0,1)","v":0},{"$f":"IF(lammering[[#This Row],[Dood in geboorte]]=\"ja\",1,0)","v":0},{"$f":"IF(lammering[[#This Row],[Ooi]]=\"\",0,IF(Berekeningen!E473=0,1,0))","v":0},{"$f":"IF(D473=0,0,IF(lammering[[#This Row],[Dood in geboorte]]=\"Ja\",0,IF(lammering[[#This Row],[Dood na geboorte]]=\"ja\",0,1)))","v":0},{"$f":"IF(lammering[[#This Row],[Opfok met kunstmelk]]=\"Ja\",1,0)","v":0},{"$f":"IF(lammering[[#This Row],[geslacht]]=\"O\",1,0)","v":0},{"$f":"IF(lammering[[#This Row],[Speen-datum]]=\"\",\"\",(lammering[[#This Row],[Speen-gewicht]]-lammering[[#This Row],[geboorte-gewicht]])/(lammering[[#This Row],[Speen-datum]]-lammering[[#This Row],[Werp-datum]]))","v":""},{"$f":"IF(lammering[[#This Row],[Verkoop-datum]]=\"\",\"\",(lammering[[#This Row],[Verkoop-gewicht]]-lammering[[#This Row],[Speen-gewicht]])/(lammering[[#This Row],[Verkoop-datum]]-lammering[[#This Row],[Speen-datum]]))","v":""},{"$f":"IF(lammering[[#This Row],[Verkoop-datum]]=\"\",\"\",(lammering[[#This Row],[Verkoop-gewicht]]-lammering[[#This Row],[geboorte-gewicht]])/(lammering[[#This Row],[Verkoop-datum]]-lammering[[#This Row],[Werp-datum]]))","v":""},"","","","","","",{"$f":"IF(lammering[[#This Row],[Verkoop-gewicht]]=\"\",\"\",lammering[[#This Row],[Verkoop-gewicht]]-lammering[[#This Row],[geboorte-gewicht]])","v":""},"",""]
[{"$f":"lammering[[#This Row],[Ooi]]","v":0},0,0,{"$f":"IF(lammering[[#This Row],[Lam-nummer]]=\"\",0,1)","v":0},{"$f":"IF(lammering[[#This Row],[Dood in geboorte]]=\"ja\",1,0)","v":0},{"$f":"IF(lammering[[#This Row],[Ooi]]=\"\",0,IF(Berekeningen!E474=0,1,0))","v":0},{"$f":"IF(D474=0,0,IF(lammering[[#This Row],[Dood in geboorte]]=\"Ja\",0,IF(lammering[[#This Row],[Dood na geboorte]]=\"ja\",0,1)))","v":0},{"$f":"IF(lammering[[#This Row],[Opfok met kunstmelk]]=\"Ja\",1,0)","v":0},{"$f":"IF(lammering[[#This Row],[geslacht]]=\"O\",1,0)","v":0},{"$f":"IF(lammering[[#This Row],[Speen-datum]]=\"\",\"\",(lammering[[#This Row],[Speen-gewicht]]-lammering[[#This Row],[geboorte-gewicht]])/(lammering[[#This Row],[Speen-datum]]-lammering[[#This Row],[Werp-datum]]))","v":""},{"$f":"IF(lammering[[#This Row],[Verkoop-datum]]=\"\",\"\",(lammering[[#This Row],[Verkoop-gewicht]]-lammering[[#This Row],[Speen-gewicht]])/(lammering[[#This Row],[Verkoop-datum]]-lammering[[#This Row],[Speen-datum]]))","v":""},{"$f":"IF(lammering[[#This Row],[Verkoop-datum]]=\"\",\"\",(lammering[[#This Row],[Verkoop-gewicht]]-lammering[[#This Row],[geboorte-gewicht]])/(lammering[[#This Row],[Verkoop-datum]]-lammering[[#This Row],[Werp-datum]]))","v":""},"","","","","","",{"$f":"IF(lammering[[#This Row],[Verkoop-gewicht]]=\"\",\"\",lammering[[#This Row],[Verkoop-gewicht]]-lammering[[#This Row],[geboorte-gewicht]])","v":""},"",""]
[{"$f":"lammering[[#This Row],[Ooi]]","v":0},0,0,{"$f":"IF(lammering[[#This Row],[Lam-nummer]]=\"\",0,1)","v":0},{"$f":"IF(lammering[[#This Row],[Dood in geboorte]]=\"ja\",1,0)","v":0},{"$f":"IF(lammering[[#This Row],[Ooi]]=\"\",0,IF(Berekeningen!E475=0,1,0))","v":0},{"$f":"IF(D475=0,0,IF(lammering[[#This Row],[Dood in geboorte]]=\"Ja\",0,IF(lammering[[#This Row],[Dood na geboorte]]=\"ja\",0,1)))","v":0},{"$f":"IF(lammering[[#This Row],[Opfok met kunstmelk]]=\"Ja\",1,0)","v":0},{"$f":"IF(lammering[[#This Row],[geslacht]]=\"O\",1,0)","v":0},{"$f":"IF(lammering[[#This Row],[Speen-datum]]=\"\",\"\",(lammering[[#This Row],[Speen-gewicht]]-lammering[[#This Row],[geboorte-gewicht]])/(lammering[[#This Row],[Speen-datum]]-lammering[[#This Row],[Werp-datum]]))","v":""},{"$f":"IF(lammering[[#This Row],[Verkoop-datum]]=\"\",\"\",(lammering[[#This Row],[Verkoop-gewicht]]-lammering[[#This Row],[Speen-gewicht]])/(lammering[[#This Row],[Verkoop-datum]]-lammering[[#This Row],[Speen-datum]]))","v":""},{"$f":"IF(lammering[[#This Row],[Verkoop-datum]]=\"\",\"\",(lammering[[#This Row],[Verkoop-gewicht]]-lammering[[#This Row],[geboorte-gewicht]])/(lammering[[#This Row],[Verkoop-datum]]-lammering[[#This Row],[Werp-datum]]))","v":""},"","","","","","",{"$f":"IF(lammering[[#This Row],[Verkoop-gewicht]]=\"\",\"\",lammering[[#This Row],[Verkoop-gewicht]]-lammering[[#This Row],[geboorte-gewicht]])","v":""},"",""]
[{"$f":"lammering[[#This Row],[Ooi]]","v":0},0,0,{"$f":"IF(lammering[[#This Row],[Lam-nummer]]=\"\",0,1)","v":0},{"$f":"IF(lammering[[#This Row],[Dood in geboorte]]=\"ja\",1,0)","v":0},{"$f":"IF(lammering[[#This Row],[Ooi]]=\"\",0,IF(Berekeningen!E476=0,1,0))","v":0},{"$f":"IF(D476=0,0,IF(lammering[[#This Row],[Dood in geboorte]]=\"Ja\",0,IF(lammering[[#This Row],[Dood na geboorte]]=\"ja\",0,1)))","v":0},{"$f":"IF(lammering[[#This Row],[Opfok met kunstmelk]]=\"Ja\",1,0)","v":0},{"$f":"IF(lammering[[#This Row],[geslacht]]=\"O\",1,0)","v":0},{"$f":"IF(lammering[[#This Row],[Speen-datum]]=\"\",\"\",(lammering[[#This Row],[Speen-gewicht]]-lammering[[#This Row],[geboorte-gewicht]])/(lammering[[#This Row],[Speen-datum]]-lammering[[#This Row],[Werp-datum]]))","v":""},{"$f":"IF(lammering[[#This Row],[Verkoop-datum]]=\"\",\"\",(lammering[[#This Row],[Verkoop-gewicht]]-lammering[[#This Row],[Speen-gewicht]])/(lammering[[#This Row],[Verkoop-datum]]-lammering[[#This Row],[Speen-datum]]))","v":""},{"$f":"IF(lammering[[#This Row],[Verkoop-datum]]=\"\",\"\",(lammering[[#This Row],[Verkoop-gewicht]]-lammering[[#This Row],[geboorte-gewicht]])/(lammering[[#This Row],[Verkoop-datum]]-lammering[[#This Row],[Werp-datum]]))","v":""},"","","","","","",{"$f":"IF(lammering[[#This Row],[Verkoop-gewicht]]=\"\",\"\",lammering[[#This Row],[Verkoop-gewicht]]-lammering[[#This Row],[geboorte-gewicht]])","v":""},"",""]
[{"$f":"lammering[[#This Row],[Ooi]]","v":0},0,0,{"$f":"IF(lammering[[#This Row],[Lam-nummer]]=\"\",0,1)","v":0},{"$f":"IF(lammering[[#This Row],[Dood in geboorte]]=\"ja\",1,0)","v":0},{"$f":"IF(lammering[[#This Row],[Ooi]]=\"\",0,IF(Berekeningen!E477=0,1,0))","v":0},{"$f":"IF(D477=0,0,IF(lammering[[#This Row],[Dood in geboorte]]=\"Ja\",0,IF(lammering[[#This Row],[Dood na geboorte]]=\"ja\",0,1)))","v":0},{"$f":"IF(lammering[[#This Row],[Opfok met kunstmelk]]=\"Ja\",1,0)","v":0},{"$f":"IF(lammering[[#This Row],[geslacht]]=\"O\",1,0)","v":0},{"$f":"IF(lammering[[#This Row],[Speen-datum]]=\"\",\"\",(lammering[[#This Row],[Speen-gewicht]]-lammering[[#This Row],[geboorte-gewicht]])/(lammering[[#This Row],[Speen-datum]]-lammering[[#This Row],[Werp-datum]]))","v":""},{"$f":"IF(lammering[[#This Row],[Verkoop-datum]]=\"\",\"\",(lammering[[#This Row],[Verkoop-gewicht]]-lammering[[#This Row],[Speen-gewicht]])/(lammering[[#This Row],[Verkoop-datum]]-lammering[[#This Row],[Speen-datum]]))","v":""},{"$f":"IF(lammering[[#This Row],[Verkoop-datum]]=\"\",\"\",(lammering[[#This Row],[Verkoop-gewicht]]-lammering[[#This Row],[geboorte-gewicht]])/(lammering[[#This Row],[Verkoop-datum]]-lammering[[#This Row],[Werp-datum]]))","v":""},"","","","","","",{"$f":"IF(lammering[[#This Row],[Verkoop-gewicht]]=\"\",\"\",lammering[[#This Row],[Verkoop-gewicht]]-lammering[[#This Row],[geboorte-gewicht]])","v":""},"",""]
[{"$f":"lammering[[#This Row],[Ooi]]","v":0},0,0,{"$f":"IF(lammering[[#This Row],[Lam-nummer]]=\"\",0,1)","v":0},{"$f":"IF(lammering[[#This Row],[Dood in geboorte]]=\"ja\",1,0)","v":0},{"$f":"IF(lammering[[#This Row],[Ooi]]=\"\",0,IF(Berekeningen!E478=0,1,0))","v":0},{"$f":"IF(D478=0,0,IF(lammering[[#This Row],[Dood in geboorte]]=\"Ja\",0,IF(lammering[[#This Row],[Dood na geboorte]]=\"ja\",0,1)))","v":0},{"$f":"IF(lammering[[#This Row],[Opfok met kunstmelk]]=\"Ja\",1,0)","v":0},{"$f":"IF(lammering[[#This Row],[geslacht]]=\"O\",1,0)","v":0},{"$f":"IF(lammering[[#This Row],[Speen-datum]]=\"\",\"\",(lammering[[#This Row],[Speen-gewicht]]-lammering[[#This Row],[geboorte-gewicht]])/(lammering[[#This Row],[Speen-datum]]-lammering[[#This Row],[Werp-datum]]))","v":""},{"$f":"IF(lammering[[#This Row],[Verkoop-datum]]=\"\",\"\",(lammering[[#This Row],[Verkoop-gewicht]]-lammering[[#This Row],[Speen-gewicht]])/(lammering[[#This Row],[Verkoop-datum]]-lammering[[#This Row],[Speen-datum]]))","v":""},{"$f":"IF(lammering[[#This Row],[Verkoop-datum]]=\"\",\"\",(lammering[[#This Row],[Verkoop-gewicht]]-lammering[[#This Row],[geboorte-gewicht]])/(lammering[[#This Row],[Verkoop-datum]]-lammering[[#This Row],[Werp-datum]]))","v":""},"","","","","","",{"$f":"IF(lammering[[#This Row],[Verkoop-gewicht]]=\"\",\"\",lammering[[#This Row],[Verkoop-gewicht]]-lammering[[#This Row],[geboorte-gewicht]])","v":""},"",""]
[{"$f":"lammering[[#This Row],[Ooi]]","v":0},0,0,{"$f":"IF(lammering[[#This Row],[Lam-nummer]]=\"\",0,1)","v":0},{"$f":"IF(lammering[[#This Row],[Dood in geboorte]]=\"ja\",1,0)","v":0},{"$f":"IF(lammering[[#This Row],[Ooi]]=\"\",0,IF(Berekeningen!E479=0,1,0))","v":0},{"$f":"IF(D479=0,0,IF(lammering[[#This Row],[Dood in geboorte]]=\"Ja\",0,IF(lammering[[#This Row],[Dood na geboorte]]=\"ja\",0,1)))","v":0},{"$f":"IF(lammering[[#This Row],[Opfok met kunstmelk]]=\"Ja\",1,0)","v":0},{"$f":"IF(lammering[[#This Row],[geslacht]]=\"O\",1,0)","v":0},{"$f":"IF(lammering[[#This Row],[Speen-datum]]=\"\",\"\",(lammering[[#This Row],[Speen-gewicht]]-lammering[[#This Row],[geboorte-gewicht]])/(lammering[[#This Row],[Speen-datum]]-lammering[[#This Row],[Werp-datum]]))","v":""},{"$f":"IF(lammering[[#This Row],[Verkoop-datum]]=\"\",\"\",(lammering[[#This Row],[Verkoop-gewicht]]-lammering[[#This Row],[Speen-gewicht]])/(lammering[[#This Row],[Verkoop-datum]]-lammering[[#This Row],[Speen-datum]]))","v":""},{"$f":"IF(lammering[[#This Row],[Verkoop-datum]]=\"\",\"\",(lammering[[#This Row],[Verkoop-gewicht]]-lammering[[#This Row],[geboorte-gewicht]])/(lammering[[#This Row],[Verkoop-datum]]-lammering[[#This Row],[Werp-datum]]))","v":""},"","","","","","",{"$f":"IF(lammering[[#This Row],[Verkoop-gewicht]]=\"\",\"\",lammering[[#This Row],[Verkoop-gewicht]]-lammering[[#This Row],[geboorte-gewicht]])","v":""},"",""]
[{"$f":"lammering[[#This Row],[Ooi]]","v":0},0,0,{"$f":"IF(lammering[[#This Row],[Lam-nummer]]=\"\",0,1)","v":0},{"$f":"IF(lammering[[#This Row],[Dood in geboorte]]=\"ja\",1,0)","v":0},{"$f":"IF(lammering[[#This Row],[Ooi]]=\"\",0,IF(Berekeningen!E480=0,1,0))","v":0},{"$f":"IF(D480=0,0,IF(lammering[[#This Row],[Dood in geboorte]]=\"Ja\",0,IF(lammering[[#This Row],[Dood na geboorte]]=\"ja\",0,1)))","v":0},{"$f":"IF(lammering[[#This Row],[Opfok met kunstmelk]]=\"Ja\",1,0)","v":0},{"$f":"IF(lammering[[#This Row],[geslacht]]=\"O\",1,0)","v":0},{"$f":"IF(lammering[[#This Row],[Speen-datum]]=\"\",\"\",(lammering[[#This Row],[Speen-gewicht]]-lammering[[#This Row],[geboorte-gewicht]])/(lammering[[#This Row],[Speen-datum]]-lammering[[#This Row],[Werp-datum]]))","v":""},{"$f":"IF(lammering[[#This Row],[Verkoop-datum]]=\"\",\"\",(lammering[[#This Row],[Verkoop-gewicht]]-lammering[[#This Row],[Speen-gewicht]])/(lammering[[#This Row],[Verkoop-datum]]-lammering[[#This Row],[Speen-datum]]))","v":""},{"$f":"IF(lammering[[#This Row],[Verkoop-datum]]=\"\",\"\",(lammering[[#This Row],[Verkoop-gewicht]]-lammering[[#This Row],[geboorte-gewicht]])/(lammering[[#This Row],[Verkoop-datum]]-lammering[[#This Row],[Werp-datum]]))","v":""},"","","","","","",{"$f":"IF(lammering[[#This Row],[Verkoop-gewicht]]=\"\",\"\",lammering[[#This Row],[Verkoop-gewicht]]-lammering[[#This Row],[geboorte-gewicht]])","v":""},"",""]
[{"$f":"lammering[[#This Row],[Ooi]]","v":0},0,0,{"$f":"IF(lammering[[#This Row],[Lam-nummer]]=\"\",0,1)","v":0},{"$f":"IF(lammering[[#This Row],[Dood in geboorte]]=\"ja\",1,0)","v":0},{"$f":"IF(lammering[[#This Row],[Ooi]]=\"\",0,IF(Berekeningen!E481=0,1,0))","v":0},{"$f":"IF(D481=0,0,IF(lammering[[#This Row],[Dood in geboorte]]=\"Ja\",0,IF(lammering[[#This Row],[Dood na geboorte]]=\"ja\",0,1)))","v":0},{"$f":"IF(lammering[[#This Row],[Opfok met kunstmelk]]=\"Ja\",1,0)","v":0},{"$f":"IF(lammering[[#This Row],[geslacht]]=\"O\",1,0)","v":0},{"$f":"IF(lammering[[#This Row],[Speen-datum]]=\"\",\"\",(lammering[[#This Row],[Speen-gewicht]]-lammering[[#This Row],[geboorte-gewicht]])/(lammering[[#This Row],[Speen-datum]]-lammering[[#This Row],[Werp-datum]]))","v":""},{"$f":"IF(lammering[[#This Row],[Verkoop-datum]]=\"\",\"\",(lammering[[#This Row],[Verkoop-gewicht]]-lammering[[#This Row],[Speen-gewicht]])/(lammering[[#This Row],[Verkoop-datum]]-lammering[[#This Row],[Speen-datum]]))","v":""},{"$f":"IF(lammering[[#This Row],[Verkoop-datum]]=\"\",\"\",(lammering[[#This Row],[Verkoop-gewicht]]-lammering[[#This Row],[geboorte-gewicht]])/(lammering[[#This Row],[Verkoop-datum]]-lammering[[#This Row],[Werp-datum]]))","v":""},"","","","","","",{"$f":"IF(lammering[[#This Row],[Verkoop-gewicht]]=\"\",\"\",lammering[[#This Row],[Verkoop-gewicht]]-lammering[[#This Row],[geboorte-gewicht]])","v":""},"",""]
[{"$f":"lammering[[#This Row],[Ooi]]","v":0},0,0,{"$f":"IF(lammering[[#This Row],[Lam-nummer]]=\"\",0,1)","v":0},{"$f":"IF(lammering[[#This Row],[Dood in geboorte]]=\"ja\",1,0)","v":0},{"$f":"IF(lammering[[#This Row],[Ooi]]=\"\",0,IF(Berekeningen!E482=0,1,0))","v":0},{"$f":"IF(D482=0,0,IF(lammering[[#This Row],[Dood in geboorte]]=\"Ja\",0,IF(lammering[[#This Row],[Dood na geboorte]]=\"ja\",0,1)))","v":0},{"$f":"IF(lammering[[#This Row],[Opfok met kunstmelk]]=\"Ja\",1,0)","v":0},{"$f":"IF(lammering[[#This Row],[geslacht]]=\"O\",1,0)","v":0},{"$f":"IF(lammering[[#This Row],[Speen-datum]]=\"\",\"\",(lammering[[#This Row],[Speen-gewicht]]-lammering[[#This Row],[geboorte-gewicht]])/(lammering[[#This Row],[Speen-datum]]-lammering[[#This Row],[Werp-datum]]))","v":""},{"$f":"IF(lammering[[#This Row],[Verkoop-datum]]=\"\",\"\",(lammering[[#This Row],[Verkoop-gewicht]]-lammering[[#This Row],[Speen-gewicht]])/(lammering[[#This Row],[Verkoop-datum]]-lammering[[#This Row],[Speen-datum]]))","v":""},{"$f":"IF(lammering[[#This Row],[Verkoop-datum]]=\"\",\"\",(lammering[[#This Row],[Verkoop-gewicht]]-lammering[[#This Row],[geboorte-gewicht]])/(lammering[[#This Row],[Verkoop-datum]]-lammering[[#This Row],[Werp-datum]]))","v":""},"","","","","","",{"$f":"IF(lammering[[#This Row],[Verkoop-gewicht]]=\"\",\"\",lammering[[#This Row],[Verkoop-gewicht]]-lammering[[#This Row],[geboorte-gewicht]])","v":""},"",""]
[{"$f":"lammering[[#This Row],[Ooi]]","v":0},0,0,{"$f":"IF(lammering[[#This Row],[Lam-nummer]]=\"\",0,1)","v":0},{"$f":"IF(lammering[[#This Row],[Dood in geboorte]]=\"ja\",1,0)","v":0},{"$f":"IF(lammering[[#This Row],[Ooi]]=\"\",0,IF(Berekeningen!E483=0,1,0))","v":0},{"$f":"IF(D483=0,0,IF(lammering[[#This Row],[Dood in geboorte]]=\"Ja\",0,IF(lammering[[#This Row],[Dood na geboorte]]=\"ja\",0,1)))","v":0},{"$f":"IF(lammering[[#This Row],[Opfok met kunstmelk]]=\"Ja\",1,0)","v":0},{"$f":"IF(lammering[[#This Row],[geslacht]]=\"O\",1,0)","v":0},{"$f":"IF(lammering[[#This Row],[Speen-datum]]=\"\",\"\",(lammering[[#This Row],[Speen-gewicht]]-lammering[[#This Row],[geboorte-gewicht]])/(lammering[[#This Row],[Speen-datum]]-lammering[[#This Row],[Werp-datum]]))","v":""},{"$f":"IF(lammering[[#This Row],[Verkoop-datum]]=\"\",\"\",(lammering[[#This Row],[Verkoop-gewicht]]-lammering[[#This Row],[Speen-gewicht]])/(lammering[[#This Row],[Verkoop-datum]]-lammering[[#This Row],[Speen-datum]]))","v":""},{"$f":"IF(lammering[[#This Row],[Verkoop-datum]]=\"\",\"\",(lammering[[#This Row],[Verkoop-gewicht]]-lammering[[#This Row],[geboorte-gewicht]])/(lammering[[#This Row],[Verkoop-datum]]-lammering[[#This Row],[Werp-datum]]))","v":""},"","","","","","",{"$f":"IF(lammering[[#This Row],[Verkoop-gewicht]]=\"\",\"\",lammering[[#This Row],[Verkoop-gewicht]]-lammering[[#This Row],[geboorte-gewicht]])","v":""},"",""]
[{"$f":"lammering[[#This Row],[Ooi]]","v":0},0,0,{"$f":"IF(lammering[[#This Row],[Lam-nummer]]=\"\",0,1)","v":0},{"$f":"IF(lammering[[#This Row],[Dood in geboorte]]=\"ja\",1,0)","v":0},{"$f":"IF(lammering[[#This Row],[Ooi]]=\"\",0,IF(Berekeningen!E484=0,1,0))","v":0},{"$f":"IF(D484=0,0,IF(lammering[[#This Row],[Dood in geboorte]]=\"Ja\",0,IF(lammering[[#This Row],[Dood na geboorte]]=\"ja\",0,1)))","v":0},{"$f":"IF(lammering[[#This Row],[Opfok met kunstmelk]]=\"Ja\",1,0)","v":0},{"$f":"IF(lammering[[#This Row],[geslacht]]=\"O\",1,0)","v":0},{"$f":"IF(lammering[[#This Row],[Speen-datum]]=\"\",\"\",(lammering[[#This Row],[Speen-gewicht]]-lammering[[#This Row],[geboorte-gewicht]])/(lammering[[#This Row],[Speen-datum]]-lammering[[#This Row],[Werp-datum]]))","v":""},{"$f":"IF(lammering[[#This Row],[Verkoop-datum]]=\"\",\"\",(lammering[[#This Row],[Verkoop-gewicht]]-lammering[[#This Row],[Speen-gewicht]])/(lammering[[#This Row],[Verkoop-datum]]-lammering[[#This Row],[Speen-datum]]))","v":""},{"$f":"IF(lammering[[#This Row],[Verkoop-datum]]=\"\",\"\",(lammering[[#This Row],[Verkoop-gewicht]]-lammering[[#This Row],[geboorte-gewicht]])/(lammering[[#This Row],[Verkoop-datum]]-lammering[[#This Row],[Werp-datum]]))","v":""},"","","","","","",{"$f":"IF(lammering[[#This Row],[Verkoop-gewicht]]=\"\",\"\",lammering[[#This Row],[Verkoop-gewicht]]-lammering[[#This Row],[geboorte-gewicht]])","v":""},"",""]
[{"$f":"lammering[[#This Row],[Ooi]]","v":0},0,0,{"$f":"IF(lammering[[#This Row],[Lam-nummer]]=\"\",0,1)","v":0},{"$f":"IF(lammering[[#This Row],[Dood in geboorte]]=\"ja\",1,0)","v":0},{"$f":"IF(lammering[[#This Row],[Ooi]]=\"\",0,IF(Berekeningen!E485=0,1,0))","v":0},{"$f":"IF(D485=0,0,IF(lammering[[#This Row],[Dood in geboorte]]=\"Ja\",0,IF(lammering[[#This Row],[Dood na geboorte]]=\"ja\",0,1)))","v":0},{"$f":"IF(lammering[[#This Row],[Opfok met kunstmelk]]=\"Ja\",1,0)","v":0},{"$f":"IF(lammering[[#This Row],[geslacht]]=\"O\",1,0)","v":0},{"$f":"IF(lammering[[#This Row],[Speen-datum]]=\"\",\"\",(lammering[[#This Row],[Speen-gewicht]]-lammering[[#This Row],[geboorte-gewicht]])/(lammering[[#This Row],[Speen-datum]]-lammering[[#This Row],[Werp-datum]]))","v":""},{"$f":"IF(lammering[[#This Row],[Verkoop-datum]]=\"\",\"\",(lammering[[#This Row],[Verkoop-gewicht]]-lammering[[#This Row],[Speen-gewicht]])/(lammering[[#This Row],[Verkoop-datum]]-lammering[[#This Row],[Speen-datum]]))","v":""},{"$f":"IF(lammering[[#This Row],[Verkoop-datum]]=\"\",\"\",(lammering[[#This Row],[Verkoop-gewicht]]-lammering[[#This Row],[geboorte-gewicht]])/(lammering[[#This Row],[Verkoop-datum]]-lammering[[#This Row],[Werp-datum]]))","v":""},"","","","","","",{"$f":"IF(lammering[[#This Row],[Verkoop-gewicht]]=\"\",\"\",lammering[[#This Row],[Verkoop-gewicht]]-lammering[[#This Row],[geboorte-gewicht]])","v":""},"",""]
[{"$f":"lammering[[#This Row],[Ooi]]","v":0},0,0,{"$f":"IF(lammering[[#This Row],[Lam-nummer]]=\"\",0,1)","v":0},{"$f":"IF(lammering[[#This Row],[Dood in geboorte]]=\"ja\",1,0)","v":0},{"$f":"IF(lammering[[#This Row],[Ooi]]=\"\",0,IF(Berekeningen!E486=0,1,0))","v":0},{"$f":"IF(D486=0,0,IF(lammering[[#This Row],[Dood in geboorte]]=\"Ja\",0,IF(lammering[[#This Row],[Dood na geboorte]]=\"ja\",0,1)))","v":0},{"$f":"IF(lammering[[#This Row],[Opfok met kunstmelk]]=\"Ja\",1,0)","v":0},{"$f":"IF(lammering[[#This Row],[geslacht]]=\"O\",1,0)","v":0},{"$f":"IF(lammering[[#This Row],[Speen-datum]]=\"\",\"\",(lammering[[#This Row],[Speen-gewicht]]-lammering[[#This Row],[geboorte-gewicht]])/(lammering[[#This Row],[Speen-datum]]-lammering[[#This Row],[Werp-datum]]))","v":""},{"$f":"IF(lammering[[#This Row],[Verkoop-datum]]=\"\",\"\",(lammering[[#This Row],[Verkoop-gewicht]]-lammering[[#This Row],[Speen-gewicht]])/(lammering[[#This Row],[Verkoop-datum]]-lammering[[#This Row],[Speen-datum]]))","v":""},{"$f":"IF(lammering[[#This Row],[Verkoop-datum]]=\"\",\"\",(lammering[[#This Row],[Verkoop-gewicht]]-lammering[[#This Row],[geboorte-gewicht]])/(lammering[[#This Row],[Verkoop-datum]]-lammering[[#This Row],[Werp-datum]]))","v":""},"","","","","","",{"$f":"IF(lammering[[#This Row],[Verkoop-gewicht]]=\"\",\"\",lammering[[#This Row],[Verkoop-gewicht]]-lammering[[#This Row],[geboorte-gewicht]])","v":""},"",""]
[{"$f":"lammering[[#This Row],[Ooi]]","v":0},0,0,{"$f":"IF(lammering[[#This Row],[Lam-nummer]]=\"\",0,1)","v":0},{"$f":"IF(lammering[[#This Row],[Dood in geboorte]]=\"ja\",1,0)","v":0},{"$f":"IF(lammering[[#This Row],[Ooi]]=\"\",0,IF(Berekeningen!E487=0,1,0))","v":0},{"$f":"IF(D487=0,0,IF(lammering[[#This Row],[Dood in geboorte]]=\"Ja\",0,IF(lammering[[#This Row],[Dood na geboorte]]=\"ja\",0,1)))","v":0},{"$f":"IF(lammering[[#This Row],[Opfok met kunstmelk]]=\"Ja\",1,0)","v":0},{"$f":"IF(lammering[[#This Row],[geslacht]]=\"O\",1,0)","v":0},{"$f":"IF(lammering[[#This Row],[Speen-datum]]=\"\",\"\",(lammering[[#This Row],[Speen-gewicht]]-lammering[[#This Row],[geboorte-gewicht]])/(lammering[[#This Row],[Speen-datum]]-lammering[[#This Row],[Werp-datum]]))","v":""},{"$f":"IF(lammering[[#This Row],[Verkoop-datum]]=\"\",\"\",(lammering[[#This Row],[Verkoop-gewicht]]-lammering[[#This Row],[Speen-gewicht]])/(lammering[[#This Row],[Verkoop-datum]]-lammering[[#This Row],[Speen-datum]]))","v":""},{"$f":"IF(lammering[[#This Row],[Verkoop-datum]]=\"\",\"\",(lammering[[#This Row],[Verkoop-gewicht]]-lammering[[#This Row],[geboorte-gewicht]])/(lammering[[#This Row],[Verkoop-datum]]-lammering[[#This Row],[Werp-datum]]))","v":""},"","","","","","",{"$f":"IF(lammering[[#This Row],[Verkoop-gewicht]]=\"\",\"\",lammering[[#This Row],[Verkoop-gewicht]]-lammering[[#This Row],[geboorte-gewicht]])","v":""},"",""]
[{"$f":"lammering[[#This Row],[Ooi]]","v":0},0,0,{"$f":"IF(lammering[[#This Row],[Lam-nummer]]=\"\",0,1)","v":0},{"$f":"IF(lammering[[#This Row],[Dood in geboorte]]=\"ja\",1,0)","v":0},{"$f":"IF(lammering[[#This Row],[Ooi]]=\"\",0,IF(Berekeningen!E488=0,1,0))","v":0},{"$f":"IF(D488=0,0,IF(lammering[[#This Row],[Dood in geboorte]]=\"Ja\",0,IF(lammering[[#This Row],[Dood na geboorte]]=\"ja\",0,1)))","v":0},{"$f":"IF(lammering[[#This Row],[Opfok met kunstmelk]]=\"Ja\",1,0)","v":0},{"$f":"IF(lammering[[#This Row],[geslacht]]=\"O\",1,0)","v":0},{"$f":"IF(lammering[[#This Row],[Speen-datum]]=\"\",\"\",(lammering[[#This Row],[Speen-gewicht]]-lammering[[#This Row],[geboorte-gewicht]])/(lammering[[#This Row],[Speen-datum]]-lammering[[#This Row],[Werp-datum]]))","v":""},{"$f":"IF(lammering[[#This Row],[Verkoop-datum]]=\"\",\"\",(lammering[[#This Row],[Verkoop-gewicht]]-lammering[[#This Row],[Speen-gewicht]])/(lammering[[#This Row],[Verkoop-datum]]-lammering[[#This Row],[Speen-datum]]))","v":""},{"$f":"IF(lammering[[#This Row],[Verkoop-datum]]=\"\",\"\",(lammering[[#This Row],[Verkoop-gewicht]]-lammering[[#This Row],[geboorte-gewicht]])/(lammering[[#This Row],[Verkoop-datum]]-lammering[[#This Row],[Werp-datum]]))","v":""},"","","","","","",{"$f":"IF(lammering[[#This Row],[Verkoop-gewicht]]=\"\",\"\",lammering[[#This Row],[Verkoop-gewicht]]-lammering[[#This Row],[geboorte-gewicht]])","v":""},"",""]
[{"$f":"lammering[[#This Row],[Ooi]]","v":0},0,0,{"$f":"IF(lammering[[#This Row],[Lam-nummer]]=\"\",0,1)","v":0},{"$f":"IF(lammering[[#This Row],[Dood in geboorte]]=\"ja\",1,0)","v":0},{"$f":"IF(lammering[[#This Row],[Ooi]]=\"\",0,IF(Berekeningen!E489=0,1,0))","v":0},{"$f":"IF(D489=0,0,IF(lammering[[#This Row],[Dood in geboorte]]=\"Ja\",0,IF(lammering[[#This Row],[Dood na geboorte]]=\"ja\",0,1)))","v":0},{"$f":"IF(lammering[[#This Row],[Opfok met kunstmelk]]=\"Ja\",1,0)","v":0},{"$f":"IF(lammering[[#This Row],[geslacht]]=\"O\",1,0)","v":0},{"$f":"IF(lammering[[#This Row],[Speen-datum]]=\"\",\"\",(lammering[[#This Row],[Speen-gewicht]]-lammering[[#This Row],[geboorte-gewicht]])/(lammering[[#This Row],[Speen-datum]]-lammering[[#This Row],[Werp-datum]]))","v":""},{"$f":"IF(lammering[[#This Row],[Verkoop-datum]]=\"\",\"\",(lammering[[#This Row],[Verkoop-gewicht]]-lammering[[#This Row],[Speen-gewicht]])/(lammering[[#This Row],[Verkoop-datum]]-lammering[[#This Row],[Speen-datum]]))","v":""},{"$f":"IF(lammering[[#This Row],[Verkoop-datum]]=\"\",\"\",(lammering[[#This Row],[Verkoop-gewicht]]-lammering[[#This Row],[geboorte-gewicht]])/(lammering[[#This Row],[Verkoop-datum]]-lammering[[#This Row],[Werp-datum]]))","v":""},"","","","","","",{"$f":"IF(lammering[[#This Row],[Verkoop-gewicht]]=\"\",\"\",lammering[[#This Row],[Verkoop-gewicht]]-lammering[[#This Row],[geboorte-gewicht]])","v":""},"",""]
[{"$f":"lammering[[#This Row],[Ooi]]","v":0},0,0,{"$f":"IF(lammering[[#This Row],[Lam-nummer]]=\"\",0,1)","v":0},{"$f":"IF(lammering[[#This Row],[Dood in geboorte]]=\"ja\",1,0)","v":0},{"$f":"IF(lammering[[#This Row],[Ooi]]=\"\",0,IF(Berekeningen!E490=0,1,0))","v":0},{"$f":"IF(D490=0,0,IF(lammering[[#This Row],[Dood in geboorte]]=\"Ja\",0,IF(lammering[[#This Row],[Dood na geboorte]]=\"ja\",0,1)))","v":0},{"$f":"IF(lammering[[#This Row],[Opfok met kunstmelk]]=\"Ja\",1,0)","v":0},{"$f":"IF(lammering[[#This Row],[geslacht]]=\"O\",1,0)","v":0},{"$f":"IF(lammering[[#This Row],[Speen-datum]]=\"\",\"\",(lammering[[#This Row],[Speen-gewicht]]-lammering[[#This Row],[geboorte-gewicht]])/(lammering[[#This Row],[Speen-datum]]-lammering[[#This Row],[Werp-datum]]))","v":""},{"$f":"IF(lammering[[#This Row],[Verkoop-datum]]=\"\",\"\",(lammering[[#This Row],[Verkoop-gewicht]]-lammering[[#This Row],[Speen-gewicht]])/(lammering[[#This Row],[Verkoop-datum]]-lammering[[#This Row],[Speen-datum]]))","v":""},{"$f":"IF(lammering[[#This Row],[Verkoop-datum]]=\"\",\"\",(lammering[[#This Row],[Verkoop-gewicht]]-lammering[[#This Row],[geboorte-gewicht]])/(lammering[[#This Row],[Verkoop-datum]]-lammering[[#This Row],[Werp-datum]]))","v":""},"","","","","","",{"$f":"IF(lammering[[#This Row],[Verkoop-gewicht]]=\"\",\"\",lammering[[#This Row],[Verkoop-gewicht]]-lammering[[#This Row],[geboorte-gewicht]])","v":""},"",""]
[{"$f":"lammering[[#This Row],[Ooi]]","v":0},0,0,{"$f":"IF(lammering[[#This Row],[Lam-nummer]]=\"\",0,1)","v":0},{"$f":"IF(lammering[[#This Row],[Dood in geboorte]]=\"ja\",1,0)","v":0},{"$f":"IF(lammering[[#This Row],[Ooi]]=\"\",0,IF(Berekeningen!E491=0,1,0))","v":0},{"$f":"IF(D491=0,0,IF(lammering[[#This Row],[Dood in geboorte]]=\"Ja\",0,IF(lammering[[#This Row],[Dood na geboorte]]=\"ja\",0,1)))","v":0},{"$f":"IF(lammering[[#This Row],[Opfok met kunstmelk]]=\"Ja\",1,0)","v":0},{"$f":"IF(lammering[[#This Row],[geslacht]]=\"O\",1,0)","v":0},{"$f":"IF(lammering[[#This Row],[Speen-datum]]=\"\",\"\",(lammering[[#This Row],[Speen-gewicht]]-lammering[[#This Row],[geboorte-gewicht]])/(lammering[[#This Row],[Speen-datum]]-lammering[[#This Row],[Werp-datum]]))","v":""},{"$f":"IF(lammering[[#This Row],[Verkoop-datum]]=\"\",\"\",(lammering[[#This Row],[Verkoop-gewicht]]-lammering[[#This Row],[Speen-gewicht]])/(lammering[[#This Row],[Verkoop-datum]]-lammering[[#This Row],[Speen-datum]]))","v":""},{"$f":"IF(lammering[[#This Row],[Verkoop-datum]]=\"\",\"\",(lammering[[#This Row],[Verkoop-gewicht]]-lammering[[#This Row],[geboorte-gewicht]])/(lammering[[#This Row],[Verkoop-datum]]-lammering[[#This Row],[Werp-datum]]))","v":""},"","","","","","",{"$f":"IF(lammering[[#This Row],[Verkoop-gewicht]]=\"\",\"\",lammering[[#This Row],[Verkoop-gewicht]]-lammering[[#This Row],[geboorte-gewicht]])","v":""},"",""]
[{"$f":"lammering[[#This Row],[Ooi]]","v":0},0,0,{"$f":"IF(lammering[[#This Row],[Lam-nummer]]=\"\",0,1)","v":0},{"$f":"IF(lammering[[#This Row],[Dood in geboorte]]=\"ja\",1,0)","v":0},{"$f":"IF(lammering[[#This Row],[Ooi]]=\"\",0,IF(Berekeningen!E492=0,1,0))","v":0},{"$f":"IF(D492=0,0,IF(lammering[[#This Row],[Dood in geboorte]]=\"Ja\",0,IF(lammering[[#This Row],[Dood na geboorte]]=\"ja\",0,1)))","v":0},{"$f":"IF(lammering[[#This Row],[Opfok met kunstmelk]]=\"Ja\",1,0)","v":0},{"$f":"IF(lammering[[#This Row],[geslacht]]=\"O\",1,0)","v":0},{"$f":"IF(lammering[[#This Row],[Speen-datum]]=\"\",\"\",(lammering[[#This Row],[Speen-gewicht]]-lammering[[#This Row],[geboorte-gewicht]])/(lammering[[#This Row],[Speen-datum]]-lammering[[#This Row],[Werp-datum]]))","v":""},{"$f":"IF(lammering[[#This Row],[Verkoop-datum]]=\"\",\"\",(lammering[[#This Row],[Verkoop-gewicht]]-lammering[[#This Row],[Speen-gewicht]])/(lammering[[#This Row],[Verkoop-datum]]-lammering[[#This Row],[Speen-datum]]))","v":""},{"$f":"IF(lammering[[#This Row],[Verkoop-datum]]=\"\",\"\",(lammering[[#This Row],[Verkoop-gewicht]]-lammering[[#This Row],[geboorte-gewicht]])/(lammering[[#This Row],[Verkoop-datum]]-lammering[[#This Row],[Werp-datum]]))","v":""},"","","","","","",{"$f":"IF(lammering[[#This Row],[Verkoop-gewicht]]=\"\",\"\",lammering[[#This Row],[Verkoop-gewicht]]-lammering[[#This Row],[geboorte-gewicht]])","v":""},"",""]
[{"$f":"lammering[[#This Row],[Ooi]]","v":0},0,0,{"$f":"IF(lammering[[#This Row],[Lam-nummer]]=\"\",0,1)","v":0},{"$f":"IF(lammering[[#This Row],[Dood in geboorte]]=\"ja\",1,0)","v":0},{"$f":"IF(lammering[[#This Row],[Ooi]]=\"\",0,IF(Berekeningen!E493=0,1,0))","v":0},{"$f":"IF(D493=0,0,IF(lammering[[#This Row],[Dood in geboorte]]=\"Ja\",0,IF(lammering[[#This Row],[Dood na geboorte]]=\"ja\",0,1)))","v":0},{"$f":"IF(lammering[[#This Row],[Opfok met kunstmelk]]=\"Ja\",1,0)","v":0},{"$f":"IF(lammering[[#This Row],[geslacht]]=\"O\",1,0)","v":0},{"$f":"IF(lammering[[#This Row],[Speen-datum]]=\"\",\"\",(lammering[[#This Row],[Speen-gewicht]]-lammering[[#This Row],[geboorte-gewicht]])/(lammering[[#This Row],[Speen-datum]]-lammering[[#This Row],[Werp-datum]]))","v":""},{"$f":"IF(lammering[[#This Row],[Verkoop-datum]]=\"\",\"\",(lammering[[#This Row],[Verkoop-gewicht]]-lammering[[#This Row],[Speen-gewicht]])/(lammering[[#This Row],[Verkoop-datum]]-lammering[[#This Row],[Speen-datum]]))","v":""},{"$f":"IF(lammering[[#This Row],[Verkoop-datum]]=\"\",\"\",(lammering[[#This Row],[Verkoop-gewicht]]-lammering[[#This Row],[geboorte-gewicht]])/(lammering[[#This Row],[Verkoop-datum]]-lammering[[#This Row],[Werp-datum]]))","v":""},"","","","","","",{"$f":"IF(lammering[[#This Row],[Verkoop-gewicht]]=\"\",\"\",lammering[[#This Row],[Verkoop-gewicht]]-lammering[[#This Row],[geboorte-gewicht]])","v":""},"",""]
[{"$f":"lammering[[#This Row],[Ooi]]","v":0},0,0,{"$f":"IF(lammering[[#This Row],[Lam-nummer]]=\"\",0,1)","v":0},{"$f":"IF(lammering[[#This Row],[Dood in geboorte]]=\"ja\",1,0)","v":0},{"$f":"IF(lammering[[#This Row],[Ooi]]=\"\",0,IF(Berekeningen!E494=0,1,0))","v":0},{"$f":"IF(D494=0,0,IF(lammering[[#This Row],[Dood in geboorte]]=\"Ja\",0,IF(lammering[[#This Row],[Dood na geboorte]]=\"ja\",0,1)))","v":0},{"$f":"IF(lammering[[#This Row],[Opfok met kunstmelk]]=\"Ja\",1,0)","v":0},{"$f":"IF(lammering[[#This Row],[geslacht]]=\"O\",1,0)","v":0},{"$f":"IF(lammering[[#This Row],[Speen-datum]]=\"\",\"\",(lammering[[#This Row],[Speen-gewicht]]-lammering[[#This Row],[geboorte-gewicht]])/(lammering[[#This Row],[Speen-datum]]-lammering[[#This Row],[Werp-datum]]))","v":""},{"$f":"IF(lammering[[#This Row],[Verkoop-datum]]=\"\",\"\",(lammering[[#This Row],[Verkoop-gewicht]]-lammering[[#This Row],[Speen-gewicht]])/(lammering[[#This Row],[Verkoop-datum]]-lammering[[#This Row],[Speen-datum]]))","v":""},{"$f":"IF(lammering[[#This Row],[Verkoop-datum]]=\"\",\"\",(lammering[[#This Row],[Verkoop-gewicht]]-lammering[[#This Row],[geboorte-gewicht]])/(lammering[[#This Row],[Verkoop-datum]]-lammering[[#This Row],[Werp-datum]]))","v":""},"","","","","","",{"$f":"IF(lammering[[#This Row],[Verkoop-gewicht]]=\"\",\"\",lammering[[#This Row],[Verkoop-gewicht]]-lammering[[#This Row],[geboorte-gewicht]])","v":""},"",""]
[{"$f":"lammering[[#This Row],[Ooi]]","v":0},0,0,{"$f":"IF(lammering[[#This Row],[Lam-nummer]]=\"\",0,1)","v":0},{"$f":"IF(lammering[[#This Row],[Dood in geboorte]]=\"ja\",1,0)","v":0},{"$f":"IF(lammering[[#This Row],[Ooi]]=\"\",0,IF(Berekeningen!E495=0,1,0))","v":0},{"$f":"IF(D495=0,0,IF(lammering[[#This Row],[Dood in geboorte]]=\"Ja\",0,IF(lammering[[#This Row],[Dood na geboorte]]=\"ja\",0,1)))","v":0},{"$f":"IF(lammering[[#This Row],[Opfok met kunstmelk]]=\"Ja\",1,0)","v":0},{"$f":"IF(lammering[[#This Row],[geslacht]]=\"O\",1,0)","v":0},{"$f":"IF(lammering[[#This Row],[Speen-datum]]=\"\",\"\",(lammering[[#This Row],[Speen-gewicht]]-lammering[[#This Row],[geboorte-gewicht]])/(lammering[[#This Row],[Speen-datum]]-lammering[[#This Row],[Werp-datum]]))","v":""},{"$f":"IF(lammering[[#This Row],[Verkoop-datum]]=\"\",\"\",(lammering[[#This Row],[Verkoop-gewicht]]-lammering[[#This Row],[Speen-gewicht]])/(lammering[[#This Row],[Verkoop-datum]]-lammering[[#This Row],[Speen-datum]]))","v":""},{"$f":"IF(lammering[[#This Row],[Verkoop-datum]]=\"\",\"\",(lammering[[#This Row],[Verkoop-gewicht]]-lammering[[#This Row],[geboorte-gewicht]])/(lammering[[#This Row],[Verkoop-datum]]-lammering[[#This Row],[Werp-datum]]))","v":""},"","","","","","",{"$f":"IF(lammering[[#This Row],[Verkoop-gewicht]]=\"\",\"\",lammering[[#This Row],[Verkoop-gewicht]]-lammering[[#This Row],[geboorte-gewicht]])","v":""},"",""]
[{"$f":"lammering[[#This Row],[Ooi]]","v":0},0,0,{"$f":"IF(lammering[[#This Row],[Lam-nummer]]=\"\",0,1)","v":0},{"$f":"IF(lammering[[#This Row],[Dood in geboorte]]=\"ja\",1,0)","v":0},{"$f":"IF(lammering[[#This Row],[Ooi]]=\"\",0,IF(Berekeningen!E496=0,1,0))","v":0},{"$f":"IF(D496=0,0,IF(lammering[[#This Row],[Dood in geboorte]]=\"Ja\",0,IF(lammering[[#This Row],[Dood na geboorte]]=\"ja\",0,1)))","v":0},{"$f":"IF(lammering[[#This Row],[Opfok met kunstmelk]]=\"Ja\",1,0)","v":0},{"$f":"IF(lammering[[#This Row],[geslacht]]=\"O\",1,0)","v":0},{"$f":"IF(lammering[[#This Row],[Speen-datum]]=\"\",\"\",(lammering[[#This Row],[Speen-gewicht]]-lammering[[#This Row],[geboorte-gewicht]])/(lammering[[#This Row],[Speen-datum]]-lammering[[#This Row],[Werp-datum]]))","v":""},{"$f":"IF(lammering[[#This Row],[Verkoop-datum]]=\"\",\"\",(lammering[[#This Row],[Verkoop-gewicht]]-lammering[[#This Row],[Speen-gewicht]])/(lammering[[#This Row],[Verkoop-datum]]-lammering[[#This Row],[Speen-datum]]))","v":""},{"$f":"IF(lammering[[#This Row],[Verkoop-datum]]=\"\",\"\",(lammering[[#This Row],[Verkoop-gewicht]]-lammering[[#This Row],[geboorte-gewicht]])/(lammering[[#This Row],[Verkoop-datum]]-lammering[[#This Row],[Werp-datum]]))","v":""},"","","","","","",{"$f":"IF(lammering[[#This Row],[Verkoop-gewicht]]=\"\",\"\",lammering[[#This Row],[Verkoop-gewicht]]-lammering[[#This Row],[geboorte-gewicht]])","v":""},"",""]
[{"$f":"lammering[[#This Row],[Ooi]]","v":0},0,0,{"$f":"IF(lammering[[#This Row],[Lam-nummer]]=\"\",0,1)","v":0},{"$f":"IF(lammering[[#This Row],[Dood in geboorte]]=\"ja\",1,0)","v":0},{"$f":"IF(lammering[[#This Row],[Ooi]]=\"\",0,IF(Berekeningen!E497=0,1,0))","v":0},{"$f":"IF(D497=0,0,IF(lammering[[#This Row],[Dood in geboorte]]=\"Ja\",0,IF(lammering[[#This Row],[Dood na geboorte]]=\"ja\",0,1)))","v":0},{"$f":"IF(lammering[[#This Row],[Opfok met kunstmelk]]=\"Ja\",1,0)","v":0},{"$f":"IF(lammering[[#This Row],[geslacht]]=\"O\",1,0)","v":0},{"$f":"IF(lammering[[#This Row],[Speen-datum]]=\"\",\"\",(lammering[[#This Row],[Speen-gewicht]]-lammering[[#This Row],[geboorte-gewicht]])/(lammering[[#This Row],[Speen-datum]]-lammering[[#This Row],[Werp-datum]]))","v":""},{"$f":"IF(lammering[[#This Row],[Verkoop-datum]]=\"\",\"\",(lammering[[#This Row],[Verkoop-gewicht]]-lammering[[#This Row],[Speen-gewicht]])/(lammering[[#This Row],[Verkoop-datum]]-lammering[[#This Row],[Speen-datum]]))","v":""},{"$f":"IF(lammering[[#This Row],[Verkoop-datum]]=\"\",\"\",(lammering[[#This Row],[Verkoop-gewicht]]-lammering[[#This Row],[geboorte-gewicht]])/(lammering[[#This Row],[Verkoop-datum]]-lammering[[#This Row],[Werp-datum]]))","v":""},"","","","","","",{"$f":"IF(lammering[[#This Row],[Verkoop-gewicht]]=\"\",\"\",lammering[[#This Row],[Verkoop-gewicht]]-lammering[[#This Row],[geboorte-gewicht]])","v":""},"",""]
[{"$f":"lammering[[#This Row],[Ooi]]","v":0},0,0,{"$f":"IF(lammering[[#This Row],[Lam-nummer]]=\"\",0,1)","v":0},{"$f":"IF(lammering[[#This Row],[Dood in geboorte]]=\"ja\",1,0)","v":0},{"$f":"IF(lammering[[#This Row],[Ooi]]=\"\",0,IF(Berekeningen!E498=0,1,0))","v":0},{"$f":"IF(D498=0,0,IF(lammering[[#This Row],[Dood in geboorte]]=\"Ja\",0,IF(lammering[[#This Row],[Dood na geboorte]]=\"ja\",0,1)))","v":0},{"$f":"IF(lammering[[#This Row],[Opfok met kunstmelk]]=\"Ja\",1,0)","v":0},{"$f":"IF(lammering[[#This Row],[geslacht]]=\"O\",1,0)","v":0},{"$f":"IF(lammering[[#This Row],[Speen-datum]]=\"\",\"\",(lammering[[#This Row],[Speen-gewicht]]-lammering[[#This Row],[geboorte-gewicht]])/(lammering[[#This Row],[Speen-datum]]-lammering[[#This Row],[Werp-datum]]))","v":""},{"$f":"IF(lammering[[#This Row],[Verkoop-datum]]=\"\",\"\",(lammering[[#This Row],[Verkoop-gewicht]]-lammering[[#This Row],[Speen-gewicht]])/(lammering[[#This Row],[Verkoop-datum]]-lammering[[#This Row],[Speen-datum]]))","v":""},{"$f":"IF(lammering[[#This Row],[Verkoop-datum]]=\"\",\"\",(lammering[[#This Row],[Verkoop-gewicht]]-lammering[[#This Row],[geboorte-gewicht]])/(lammering[[#This Row],[Verkoop-datum]]-lammering[[#This Row],[Werp-datum]]))","v":""},"","","","","","",{"$f":"IF(lammering[[#This Row],[Verkoop-gewicht]]=\"\",\"\",lammering[[#This Row],[Verkoop-gewicht]]-lammering[[#This Row],[geboorte-gewicht]])","v":""},"",""]
[{"$f":"lammering[[#This Row],[Ooi]]","v":0},0,0,{"$f":"IF(lammering[[#This Row],[Lam-nummer]]=\"\",0,1)","v":0},{"$f":"IF(lammering[[#This Row],[Dood in geboorte]]=\"ja\",1,0)","v":0},{"$f":"IF(lammering[[#This Row],[Ooi]]=\"\",0,IF(Berekeningen!E499=0,1,0))","v":0},{"$f":"IF(D499=0,0,IF(lammering[[#This Row],[Dood in geboorte]]=\"Ja\",0,IF(lammering[[#This Row],[Dood na geboorte]]=\"ja\",0,1)))","v":0},{"$f":"IF(lammering[[#This Row],[Opfok met kunstmelk]]=\"Ja\",1,0)","v":0},{"$f":"IF(lammering[[#This Row],[geslacht]]=\"O\",1,0)","v":0},{"$f":"IF(lammering[[#This Row],[Speen-datum]]=\"\",\"\",(lammering[[#This Row],[Speen-gewicht]]-lammering[[#This Row],[geboorte-gewicht]])/(lammering[[#This Row],[Speen-datum]]-lammering[[#This Row],[Werp-datum]]))","v":""},{"$f":"IF(lammering[[#This Row],[Verkoop-datum]]=\"\",\"\",(lammering[[#This Row],[Verkoop-gewicht]]-lammering[[#This Row],[Speen-gewicht]])/(lammering[[#This Row],[Verkoop-datum]]-lammering[[#This Row],[Speen-datum]]))","v":""},{"$f":"IF(lammering[[#This Row],[Verkoop-datum]]=\"\",\"\",(lammering[[#This Row],[Verkoop-gewicht]]-lammering[[#This Row],[geboorte-gewicht]])/(lammering[[#This Row],[Verkoop-datum]]-lammering[[#This Row],[Werp-datum]]))","v":""},"","","","","","",{"$f":"IF(lammering[[#This Row],[Verkoop-gewicht]]=\"\",\"\",lammering[[#This Row],[Verkoop-gewicht]]-lammering[[#This Row],[geboorte-gewicht]])","v":""},"",""]
[{"$f":"lammering[[#This Row],[Ooi]]","v":0},0,0,{"$f":"IF(lammering[[#This Row],[Lam-nummer]]=\"\",0,1)","v":0},{"$f":"IF(lammering[[#This Row],[Dood in geboorte]]=\"ja\",1,0)","v":0},{"$f":"IF(lammering[[#This Row],[Ooi]]=\"\",0,IF(Berekeningen!E500=0,1,0))","v":0},{"$f":"IF(D500=0,0,IF(lammering[[#This Row],[Dood in geboorte]]=\"Ja\",0,IF(lammering[[#This Row],[Dood na geboorte]]=\"ja\",0,1)))","v":0},{"$f":"IF(lammering[[#This Row],[Opfok met kunstmelk]]=\"Ja\",1,0)","v":0},{"$f":"IF(lammering[[#This Row],[geslacht]]=\"O\",1,0)","v":0},{"$f":"IF(lammering[[#This Row],[Speen-datum]]=\"\",\"\",(lammering[[#This Row],[Speen-gewicht]]-lammering[[#This Row],[geboorte-gewicht]])/(lammering[[#This Row],[Speen-datum]]-lammering[[#This Row],[Werp-datum]]))","v":""},{"$f":"IF(lammering[[#This Row],[Verkoop-datum]]=\"\",\"\",(lammering[[#This Row],[Verkoop-gewicht]]-lammering[[#This Row],[Speen-gewicht]])/(lammering[[#This Row],[Verkoop-datum]]-lammering[[#This Row],[Speen-datum]]))","v":""},{"$f":"IF(lammering[[#This Row],[Verkoop-datum]]=\"\",\"\",(lammering[[#This Row],[Verkoop-gewicht]]-lammering[[#This Row],[geboorte-gewicht]])/(lammering[[#This Row],[Verkoop-datum]]-lammering[[#This Row],[Werp-datum]]))","v":""},"","","","","","",{"$f":"IF(lammering[[#This Row],[Verkoop-gewicht]]=\"\",\"\",lammering[[#This Row],[Verkoop-gewicht]]-lammering[[#This Row],[geboorte-gewicht]])","v":""},"",""]

{"sheet":"Bedrijfsresultaten","index":5,"n_rows":40,"n_cols":12,"rows_kept":40,"cut":false,"hidden":false,"merged":[]}
["Analyse"]
[null,"TOTAAL",null,"VL/VL",null,"VL/FT",null,"ZB/VL",null,"ZB/FT"]
["Lammeringen"]
["Totaal aantal lammeringen per jaar",{"$f":"SUMPRODUCT((lammering[Ooi]<>\"\")/COUNTIF(lammering[Ooi],lammering[Ooi]&\"\"))","v":26.999999999999989},null,{"$f":"IFERROR(SUM(--(FREQUENCY(IF(lammering[Ras]<>\"\",IF(lammering[Ras]=$D2,MATCH(lammering[Ooi],lammering[Ooi],0))),ROW(lammering[Ooi])-ROW($A$2)+1)>0)),\"\")","v":11},null,{"$f":"IFERROR(SUM(--(FREQUENCY(IF(lammering[Ras]<>\"\",IF(lammering[Ras]=$F2,MATCH(lammering[Ooi],lammering[Ooi],0))),ROW(lammering[Ooi])-ROW($A$2)+1)>0)),\"\")","v":10},null,{"$f":"IFERROR(SUM(--(FREQUENCY(IF(lammering[Ras]<>\"\",IF(lammering[Ras]=$H2,MATCH(lammering[Ooi],lammering[Ooi],0))),ROW(lammering[Ooi])-ROW($A$2)+1)>0)),\"\")","v":0},null,{"$f":"IFERROR(SUM(--(FREQUENCY(IF(lammering[Ras]<>\"\",IF(lammering[Ras]=$J2,MATCH(lammering[Ooi],lammering[Ooi],0))),ROW(lammering[Ooi])-ROW($A$2)+1)>0)),\"\")","v":8}]
["Gemiddelde worpindex - alle ooien",{"$f":"AVERAGE(Berekeningen!W2:W220)","v":1}]
["Gemiddelde worpindex - gelammerde ooien",{"$f":"AVERAGE(Berekeningen!X2:X220)","v":1}]
[]
["Lammeren"]
[]
["Totaal aantal lammeren per jaar",{"$f":"COUNTA('Registratie lammeren'!D2:D500)","v":63},null,{"$f":"COUNTIF(lammering[Ras],D$2)","v":26},null,{"$f":"COUNTIF(lammering[Ras],F$2)","v":19},null,{"$f":"COUNTIF(lammering[Ras],H$2)","v":0},null,{"$f":"COUNTIF(lammering[Ras],J$2)","v":18},null,{"$f":"SUM(D10:K10)","v":63}]
["Totaal aantal dode lammeren bij geboorte per jaar",{"$f":"B10-B12","v":5},null,{"$f":"COUNTIFS('Registratie lammeren'!E2:E500,\"VL/VL\",'Registratie lammeren'!H2:H500,\"ja\")","v":3},null,{"$f":"COUNTIFS('Registratie lammeren'!E2:E500,\"VL/FT\",'Registratie lammeren'!H2:H500,\"ja\")","v":1},null,{"$f":"COUNTIFS('Registratie lammeren'!E2:E500,\"ZB/VL\",'Registratie lammeren'!H2:H500,\"ja\")","v":0},null,{"$f":"COUNTIFS('Registratie lammeren'!E2:E500,\"ZB/FT\",'Registratie lammeren'!H2:H500,\"ja\")","v":1},null,{"$f":"SUM(D11:K11)","v":5}]
["Totaal aantal levend geboren lammeren per jaar",{"$f":"SUM(Berekeningen!F2:F500)","v":58},null,{"$f":"D10-D11","v":23},null,{"$f":"F10-F11","v":18},null,{"$f":"H10-H11","v":0},null,{"$f":"J10-J11","v":17},null,{"$f":"SUM(D12:K12)","v":58}]
["Totaal aantal dode lammeren bij verkoop per jaar",{"$f":"COUNTIF('Registratie lammeren'!I2:I500,\"ja\")","v":1},null,{"$f":"COUNTIFS('Registratie lammeren'!E2:E500,\"VL/VL\",'Registratie lammeren'!I2:I500,\"ja\")","v":1},null,{"$f":"COUNTIFS('Registratie lammeren'!E2:E500,\"VL/FR\",'Registratie lammeren'!I2:I500,\"ja\")","v":0},null,{"$f":"COUNTIFS('Registratie lammeren'!E2:E500,\"ZB/VL\",'Registratie lammeren'!I2:I500,\"ja\")","v":0},null,{"$f":"COUNTIFS('Registratie lammeren'!E2:E500,\"ZB/FT\",'Registratie lammeren'!I2:I500,\"ja\")","v":0},null,{"$f":"SUM(D13:K13)","v":1}]
["totaal aantal levende lammeren op verkoopleeftijd per jaar",{"$f":"B12-B13","v":57},null,{"$f":"D12-D13","v":22},null,{"$f":"F12-F13","v":18},null,{"$f":"H12-H13","v":0},null,{"$f":"J12-J13","v":17},null,{"$f":"SUM(D14:K14)","v":57}]
[]
["Totaal aantal lammeren met opfok kunstmelk",{"$f":"SUM(Berekeningen!H2:H500)","v":3},null,{"$f":"COUNTIFS('Registratie lammeren'!E2:E500,\"VL/VL\",'Registratie lammeren'!G2:G500,\"ja\")","v":1},null,{"$f":"COUNTIFS('Registratie lammeren'!E2:E500,\"VL/FT\",'Registratie lammeren'!G2:G500,\"ja\")","v":2},null,{"$f":"COUNTIFS('Registratie lammeren'!E2:E500,\"ZB/VL\",'Registratie lammeren'!G2:G500,\"ja\")","v":0},null,{"$f":"COUNTIFS('Registratie lammeren'!E2:E500,\"ZB/FT\",'Registratie lammeren'!G2:G500,\"ja\")","v":0}]
[]
["Aantal vrouwelijke lammeren (levend geboren)",{"$f":"COUNTIF('Registratie lammeren'!D2:D500,\"O\")-COUNTIFS('Registratie lammeren'!D2:D500,\"O\",'Registratie lammeren'!H2:H500,\"ja\")","v":35},null,{"$f":"COUNTIFS('Registratie lammeren'!E2:E500,\"VL/VL\",'Registratie lammeren'!D2:D500,\"O\")-(COUNTIFS('Registratie lammeren'!E2:E500,\"VL/VL\",'Registratie lammeren'!D2:D500,\"O\",'Registratie lammeren'!H2:H500,\"Ja\"))","v":15},null,{"$f":"COUNTIFS('Registratie lammeren'!E2:E500,\"VL/FT\",'Registratie lammeren'!D2:D500,\"O\")-(COUNTIFS('Registratie lammeren'!E2:E500,\"VL/FT\",'Registratie lammeren'!D2:D500,\"O\",'Registratie lammeren'!H2:H500,\"Ja\"))","v":11},null,{"$f":"COUNTIFS('Registratie lammeren'!E2:E500,\"ZB/VL\",'Registratie lammeren'!D2:D500,\"O\")-(COUNTIFS('Registratie lammeren'!E2:E500,\"ZB/VL\",'Registratie lammeren'!D2:D500,\"O\",'Registratie lammeren'!H2:H500,\"Ja\"))","v":0},null,{"$f":"COUNTIFS('Registratie lammeren'!E2:E500,\"ZB/FT\",'Registratie lammeren'!D2:D500,\"O\")-(COUNTIFS('Registratie lammeren'!E2:E500,\"ZB/FT\",'Registratie lammeren'!D2:D500,\"O\",'Registratie lammeren'!H2:H500,\"Ja\"))","v":9},null,{"$f":"SUM(D18:K18)","v":35}]
["Aantal mannelijke lammeren (levend geboren)",{"$f":"COUNTIF('Registratie lammeren'!D2:D500,\"R\")-COUNTIFS('Registratie lammeren'!D2:D500,\"R\",'Registratie lammeren'!H2:H500,\"ja\")","v":23},null,{"$f":"COUNTIFS('Registratie lammeren'!E2:E500,\"VL/VL\",'Registratie lammeren'!D2:D500,\"R\")-(COUNTIFS('Registratie lammeren'!E2:E500,\"VL/VL\",'Registratie lammeren'!D2:D500,\"R\",'Registratie lammeren'!H2:H500,\"Ja\"))","v":8},null,{"$f":"COUNTIFS('Registratie lammeren'!E2:E500,\"VL/FT\",'Registratie lammeren'!D2:D500,\"R\")-(COUNTIFS('Registratie lammeren'!E2:E500,\"VL/FT\",'Registratie lammeren'!D2:D500,\"R\",'Registratie lammeren'!H2:H500,\"Ja\"))","v":7},null,{"$f":"COUNTIFS('Registratie lammeren'!E2:E500,\"ZB/VL\",'Registratie lammeren'!D2:D500,\"R\")-(COUNTIFS('Registratie lammeren'!E2:E500,\"ZB/VL\",'Registratie lammeren'!D2:D500,\"R\",'Registratie lammeren'!H2:H500,\"Ja\"))","v":0},null,{"$f":"COUNTIFS('Registratie lammeren'!E2:E500,\"ZB/FT\",'Registratie lammeren'!D2:D500,\"R\")-(COUNTIFS('Registratie lammeren'!E2:E500,\"ZB/FT\",'Registratie lammeren'!D2:D500,\"R\",'Registratie lammeren'!H2:H500,\"Ja\"))","v":8},null,{"$f":"SUM(D19:K19)","v":23}]
["% vrouwelijke lammeren",{"$f":"B18/B12","v":0.60344827586206895},null,{"$f":"D18/D12","v":0.65217391304347827},null,{"$f":"F18/F12","v":0.61111111111111116},null,{"$f":"IFERROR(H18/H12,0)","v":0},null,{"$f":"J18/J12","v":0.52941176470588236},null,{"$f":"L18/L12","v":0.60344827586206895}]
["% mannelijke lammeren",{"$f":"B19/B12","v":0.39655172413793105},null,{"$f":"D19/D12","v":0.34782608695652173},null,{"$f":"F19/F12","v":0.3888888888888889},null,{"$f":"IFERROR(H19/H12,0)","v":0},null,{"$f":"J19/J12","v":0.47058823529411764},null,{"$f":"L19/L12","v":0.39655172413793105}]
[]
["Gemiddelde worpgrootte (aantal lammeren/aantal worpen per jaar)",{"$f":"B10/B4","v":2.3333333333333344}]
["Gemiddeld aantal levende lammeren per worp per jaar",{"$f":"B12/B4","v":2.1481481481481488}]
["Gemiddeld aantal levende lammeren verkoopbaar per worp per jaar",{"$f":"B14/B4","v":2.111111111111112}]
["Gemiddeld aantal dode lammeren bij geboorte per worp per jaar",{"$f":"B11/B4","v":0.18518518518518526}]
["Gemiddeld aantal dode lammeren bij verkoop per worp per jaar",{"$f":"B13/B4","v":3.7037037037037049E-2}]
[]
["% sterfte bij lammeren bij geboorte",{"$f":"B11/B10","v":7.9365079365079361E-2},null,{"$f":"D11/D10","v":0.11538461538461539},null,{"$f":"F11/F10","v":5.2631578947368418E-2},null,{"$f":"IFERROR(H11/H10,0)","v":0},null,{"$f":"J11/J10","v":5.5555555555555552E-2}]
["% sterfte bij lammeren tot  verkoopleeftijd",{"$f":"B13/B12","v":1.7241379310344827E-2},null,{"$f":"D13/D12","v":4.3478260869565216E-2},null,{"$f":"F13/F12","v":0},null,{"$f":"IFERROR(H13/H12,0)","v":0},null,{"$f":"J13/J12","v":0}]
[]
["Groei"]
["Gemiddeld geboortegewicht",{"$f":"AVERAGE('Registratie lammeren'!F2:F500)","v":3.6158730158730159}]
[]
[]
[null,"TOTAAL","RAMMEN","OOIEN"]
["Totale gewichtsaanwinst  van geboorte tot verkoop",{"$f":"AVERAGE(Berekeningen!S2:S500)","v":39.848571428571439},{"$f":"AVERAGE(Berekeningen!U2:U500)","v":43.552631578947363},{"$f":"AVERAGE(Berekeningen!T2:T500)","v":35.450000000000003},"kg"]
["Gemiddelde groei van geboorte tot spenen",{"$f":"AVERAGE(Berekeningen!J2:J500)","v":0.29201080669481494},{"$f":"AVERAGE(Berekeningen!P2:P500)","v":0.3177857854218365},{"$f":"AVERAGE(Berekeningen!M2:M500)","v":0.27310915562833243},"kg/dag"]
["Gemiddelde groei van spenen tot verkoop",{"$f":"AVERAGE(Berekeningen!K2:K500)","v":{"$error":"#DIV/0!"}},{"$f":"AVERAGE(Berekeningen!Q2:Q500)","v":{"$error":"#DIV/0!"}},{"$f":"AVERAGE(Berekeningen!N2:N500)","v":{"$error":"#DIV/0!"}},"kg/dag"]
["Gemiddelde groei van geboorte tot verkoop",{"$f":"AVERAGE(Berekeningen!L2:L500)","v":0.28818660432518933},{"$f":"AVERAGE(Berekeningen!R2:R500)","v":0.3140320913575172},{"$f":"AVERAGE(Berekeningen!O2:O500)","v":0.25749508847429997},"kg/dag"]

{"sheet":"Rassen","index":6,"n_rows":8,"n_cols":2,"rows_kept":8,"cut":false,"hidden":false,"merged":[]}
["RASSEN"]
[]
["VL/VL","Vlaams schaap"]
["ZB","Zwart Bles"]
["FT","Franse Texel"]
["VL/FT","Vlaams schaap (moeder) + Franse Texel (vader)"]
["ZB/FT","Zwart Bles (moeder) + Franse Texel (vader)"]
["ZB/VL","Zwart Bles (moeder) + Vlaams schaap (vader)"]

{"sheet":"Resultaten","index":7,"n_rows":10,"n_cols":2,"rows_kept":10,"cut":false,"hidden":true,"merged":[]}
["Resultaten"]
[]
["Rijlabels","Aantal geboren lammeren"]
["2017"]
["mei",4]
["Eindtotaal",4]
[]
[]
["Count of Ooi"]
[4]

{"sheet":"Setup","index":8,"n_rows":6,"n_cols":3,"rows_kept":6,"cut":false,"hidden":true,"merged":[]}
["Deze pagina bevat algemene setup"]
[]
[]
["Geslacht",null,"Keuze"]
["R",null,"Ja"]
["O",null,"Neen"]