{"text_format":"1","workbook":"xlsx","n_sheets":17,"sheets":["week1","week2","week3","week4","week5","week6","week7","week8","week9","week10","week11","week12","week13","week14","week15","cum uitslag","speelschema"],"not_rendered":{"charts":0,"images":0,"macros":1,"external_links":0,"defined_names":2,"comments":0,"pivot_tables":0},"unopened":[],"bounds":{"document_bytes":16777216,"sheet_cells":100000,"rows_first":2000,"rows_last":500,"rows_between":2000,"halvings":0,"cell_chars":16384,"cell_head_chars":4096},"cells_cut":0,"cells_raw":0,"read":"whole","date_system":"1900"}

{"sheet":"week1","index":0,"n_rows":29,"n_cols":7,"rows_kept":29,"cut":false,"hidden":false,"merged":[]}
[null,"2019-11-15"]
[null,"Week 1","Speler 1","Speler 2","Speler 3","Speler 4","Speler 5"]
[null,"Naam","A","B","C","D","E"]
[null,"Ronde 1",53,65,88,72,62]
[null,"Ronde 2",80,58,51,70,50]
[null,"Ronde 3",70,73,54,62,35]
[null,"Ronde 4",37,61,48,61,69]
[null,"Ronde 5",94,69,52,31,50]
[null,"Sub Tot",{"$f":"SUM(C4:C8)","v":334},{"$f":"SUM(D4:D8)","v":326},293,296,266]
[]
[null,"Week 1","Speler 6","Speler 7","Speler 8","Speler9","Speler 10"]
[null,"Naam","F","G","H","I","J"]
[null,"Ronde 1",85,63,41,68,72]
[null,"Ronde 2",21,63,67,84,69]
[null,"Ronde 3",68,54,81,76,65]
[null,"Ronde 4",49,68,71,58,72]
[null,"Ronde 5",77,84,67,57,88]
[null,"Sub Tot",{"$f":"SUM(C13:C17)","v":300},{"$f":"SUM(D13:D17)","v":332},{"$f":"SUM(E13:E17)","v":327},{"$f":"SUM(F13:F17)","v":343},{"$f":"SUM(G13:G17)","v":366}]
[]
[]
[]
[null,"Week 1","Speler 11","Speler 12","Speler13","Speler 14","Speler 15"]
[null,"Naam","K","L"]
[null,"Ronde 1",81,72]
[null,"Ronde 2",72,69]
[null,"Ronde 3",66,39]
[null,"Ronde 4",71,67]
[null,"Ronde 5",74,50]
[null,"Sub Tot",{"$f":"SUM(C24:C28)","v":364},{"$f":"SUM(D24:D28)","v":297},{"$f":"SUM(E24:E28)","v":0},{"$f":"SUM(F24:F28)","v":0},{"$f":"SUM(G24:G28)","v":0}]

{"sheet":"week2","index":1,"n_rows":27,"n_cols":7,"rows_kept":27,"cut":false,"hidden":false,"merged":[]}
[null,"2019-11-22"]
[null,"Week2","Speler 1","Speler 2","Speler 3","Speler 4","Speler 5"]
[null,"Naam",{"$f":"week1!C$3","v":"A"},{"$f":"week1!D$3","v":"B"},{"$f":"week1!E$3","v":"C"},{"$f":"week1!F$3","v":"D"},{"$f":"week1!G$3","v":"E"}]
[null,"Ronde 1",45,67,90,78,98]
[null,"Ronde 2",120,56,65,54,76]
[null,"Ronde 3",67,90,34,34,65]
[null,"Ronde 4",89,58,43,76,43]
[null,"Ronde 5",50,76,60,45,34]
[null,"Sub Tot",{"$f":"SUM(C4:C8)","v":371},{"$f":"SUM(D4:D8)","v":347},292,287,316]
[]
[null,"Week 2","Speler 6","Speler 7","Speler 8","Speler9","Speler 10"]
[null,"Naam",{"$f":"week1!C$12","v":"F"},"G",{"$f":"week1!E$12","v":"H"},"I","J"]
[null,"Ronde 1",45,87,64,54,78]
[null,"Ronde 2",78,65,43,78,67]
[null,"Ronde 3",54,87,110,56,65]
[null,"Ronde 4",34,46,87,99,33]
[null,"Ronde 5",78,64,45,76,56]
[null,"Sub Tot",{"$f":"SUM(C13:C17)","v":289},{"$f":"SUM(D13:D17)","v":349},{"$f":"SUM(E13:E17)","v":349},{"$f":"SUM(F13:F17)","v":363},{"$f":"SUM(G13:G17)","v":299}]
[]
[null,"Week 2","Speler 11","Speler 12","Speler13","Speler 14","Speler 15"]
[null,"Naam","K","L"]
[null,"Ronde 1",99,65]
[null,"Ronde 2",76,87]
[null,"Ronde 3",54,43]
[null,"Ronde 4",76,99]
[null,"Ronde 5",45,78]
[null,"Sub Tot",{"$f":"SUM(C22:C26)","v":350},{"$f":"SUM(D22:D26)","v":372},{"$f":"SUM(E22:E26)","v":0},{"$f":"SUM(F22:F26)","v":0},{"$f":"SUM(G22:G26)","v":0}]

{"sheet":"week3","index":2,"n_rows":36,"n_cols":7,"rows_kept":36,"cut":false,"hidden":false,"merged":[]}
[null,"2019-11-29"]
[null,"Week 3","Speler 1","Speler 2","Speler 3","Speler 4","Speler 5"]
[null,"Naam",{"$f":"week1!C$3","v":"A"},{"$f":"week1!D$3","v":"B"},{"$f":"week1!E$3","v":"C"},{"$f":"week1!F$3","v":"D"},{"$f":"week1!G$3","v":"E"}]
[null,"Ronde 1"]
[null,"Ronde 2"]
[null,"Ronde 3"]
[null,"Ronde 4"]
[null,"Ronde 5"]
[null,"Sub Tot",null,null,null,{"$f":"SUM(F4:F8)","v":0},0]
[]
[null,"Week  3","Speler 6","Speler 7","Speler 8","Speler9","Speler 10"]
[null,"Naam",{"$f":"week1!C$12","v":"F"},{"$f":"week1!D$12","v":"G"},{"$f":"week1!E$12","v":"H"},{"$f":"week1!F$12","v":"I"},{"$f":"week1!G$12","v":"J"}]
[null,"Ronde 1"]
[null,"Ronde 2"]
[null,"Ronde 3"]
[null,"Ronde 4"]
[null,"Ronde 5"]
[null,"Sub Tot",{"$f":"SUM(C13:C17)","v":0},{"$f":"SUM(D13:D17)","v":0},{"$f":"SUM(E13:E17)","v":0}]
[]
[null,"Week  3","Speler 6","Speler 7","Speler 8","Speler9","Speler 10"]
[null,"Naam",null,{"$f":"week1!C$23","v":"K"},{"$f":"week1!C$24","v":81},{"$f":"week1!C$25","v":72},{"$f":"week1!C$26","v":66}]
[null,"Ronde 1"]
[null,"Ronde 2"]
[null,"Ronde 3"]
[null,"Ronde 4"]
[null,"Ronde 5"]
[null,"Sub Tot",{"$f":"SUM(C22:C26)","v":0},{"$f":"SUM(D22:D26)","v":0},{"$f":"SUM(E22:E26)","v":0},{"$f":"SUM(F22:F26)","v":0},{"$f":"SUM(G22:G26)","v":0}]
[]
[null,"Week 3","Speler 11","Speler 12","Speler13","Speler 14","Speler 15"]
[null,"Naam",{"$f":"week1!C23","v":"K"},{"$f":"week1!D23","v":"L"},{"$f":"week1!E23","v":0},{"$f":"week1!F23","v":0},{"$f":"week1!G23","v":0}]
[null,"Ronde 1"]
[null,"Ronde 2"]
[null,"Ronde 3"]
[null,"Ronde 4"]
[null,"Ronde 5"]
[null,"Sub Tot",{"$f":"SUM(C31:C35)","v":0},{"$f":"SUM(D31:D35)","v":0},{"$f":"SUM(E31:E35)","v":0},{"$f":"SUM(F31:F35)","v":0},{"$f":"SUM(G31:G35)","v":0}]

{"sheet":"week4","index":3,"n_rows":27,"n_cols":7,"rows_kept":27,"cut":false,"hidden":false,"merged":[]}
[null,{"$f":"speelschema!A5:B5","v":"2019-12-13"}]
[null,"Week 4","Speler 1","Speler 2","Speler 3","Speler 4","Speler 5"]
[null,"Naam",{"$f":"week1!C$3","v":"A"},{"$f":"week1!D$3","v":"B"},{"$f":"week1!E$3","v":"C"},{"$f":"week1!F$3","v":"D"},{"$f":"week1!G$3","v":"E"}]
[null,"Ronde 1"]
[null,"Ronde 2"]
[null,"Ronde 3"]
[null,"Ronde 4"]
[null,"Ronde 5"]
[null," Totaal",{"$f":"SUM(C4:C8)","v":0},{"$f":"SUM(D4:D8)","v":0},0,0,0]
[]
[null,"Week  4","Speler 6","Speler 7","Speler 8","Speler9","Speler 10"]
[null,"Naam",{"$f":"week1!C$12","v":"F"},{"$f":"week1!D$12","v":"G"},{"$f":"week1!E$12","v":"H"},{"$f":"week1!F$12","v":"I"},{"$f":"week1!G$12","v":"J"}]
[null,"Ronde 1"]
[null,"Ronde 2"]
[null,"Ronde 3"]
[null,"Ronde 4"]
[null,"Ronde 5"]
[null,"Totaal",{"$f":"SUM(C13:C17)","v":0},{"$f":"SUM(D13:D17)","v":0},{"$f":"SUM(E13:E17)","v":0},{"$f":"SUM(F13:F17)","v":0},{"$f":"SUM(G13:G17)","v":0}]
[]
[null,"Week 4","Speler 11","Speler 12","Speler13","Speler 14","Speler 15"]
[null,"Naam",{"$f":"week1!C23","v":"K"},{"$f":"week1!D23","v":"L"},{"$f":"week1!E23","v":0},{"$f":"week1!F23","v":0},{"$f":"week1!G23","v":0}]
[null,"Ronde 1"]
[null,"Ronde 2"]
[null,"Ronde 3"]
[null,"Ronde 4"]
[null,"Ronde 5"]
[null,"Sub Tot",{"$f":"SUM(C22:C26)","v":0},{"$f":"SUM(D22:D26)","v":0},{"$f":"SUM(E22:E26)","v":0},{"$f":"SUM(F22:F26)","v":0},{"$f":"SUM(G22:G26)","v":0}]

{"sheet":"week5","index":4,"n_rows":27,"n_cols":7,"rows_kept":27,"cut":false,"hidden":false,"merged":[]}
[null,{"$f":"speelschema!A6:B6","v":"2020-01-10"}]
[null,"Week  5","Speler 1","Speler 2","Speler 3","Speler 4","Speler 5"]
[null,"Naam",{"$f":"week1!C$3","v":"A"},{"$f":"week1!D$3","v":"B"},{"$f":"week1!E$3","v":"C"},{"$f":"week1!F$3","v":"D"},{"$f":"week1!G$3","v":"E"}]
[null,"Ronde 1"]
[null,"Ronde 2"]
[null,"Ronde 3"]
[null,"Ronde 4"]
[null,"Ronde 5"]
[null," Totaal",{"$f":"SUM(C4:C8)","v":0},{"$f":"SUM(D4:D8)","v":0},0,0,0]
[]
[null,"Week  5","Speler 6","Speler 7","Speler 8","Speler9","Speler 10"]
[null,"Naam",{"$f":"week1!C$12","v":"F"},{"$f":"week1!D$12","v":"G"},{"$f":"week1!E$12","v":"H"},{"$f":"week1!F$12","v":"I"},{"$f":"week1!G$12","v":"J"}]
[null,"Ronde 1"]
[null,"Ronde 2"]
[null,"Ronde 3"]
[null,"Ronde 4"]
[null,"Ronde 5"]
[null,"Totaal",{"$f":"SUM(C13:C17)","v":0},{"$f":"SUM(D13:D17)","v":0},{"$f":"SUM(E13:E17)","v":0},{"$f":"SUM(F13:F17)","v":0},{"$f":"SUM(G13:G17)","v":0}]
[]
[null,"Week 5","Speler 11","Speler 12","Speler13","Speler 14","Speler 15"]
[null,"Naam",{"$f":"week1!C$23","v":"K"},{"$f":"week1!D$23","v":"L"},{"$f":"week1!E23","v":0},{"$f":"week1!F23","v":0},{"$f":"week1!G23","v":0}]
[null,"Ronde 1"]
[null,"Ronde 2"]
[null,"Ronde 3"]
[null,"Ronde 4"]
[null,"Ronde 5"]
[null,"Sub Tot",{"$f":"SUM(C22:C26)","v":0},{"$f":"SUM(D22:D26)","v":0},{"$f":"SUM(E22:E26)","v":0},{"$f":"SUM(F22:F26)","v":0},{"$f":"SUM(G22:G26)","v":0}]

{"sheet":"week6","index":5,"n_rows":27,"n_cols":7,"rows_kept":27,"cut":false,"hidden":false,"merged":[]}
[null,{"$f":"speelschema!A7:B7","v":"2020-01-17"}]
[null,"Week  6","Speler 1","Speler 2","Speler 3","Speler 4","Speler 5"]
[null,"Naam",{"$f":"week1!C$3","v":"A"},{"$f":"week1!D$3","v":"B"},{"$f":"week1!E$3","v":"C"},{"$f":"week1!F$3","v":"D"},{"$f":"week1!G$3","v":"E"}]
[null,"Ronde 1"]
[null,"Ronde 2"]
[null,"Ronde 3"]
[null,"Ronde 4"]
[null,"Ronde 5"]
[null," Totaal",{"$f":"SUM(C4:C8)","v":0},{"$f":"SUM(D4:D8)","v":0},0,0,0]
[]
[null,"Week  6","Speler 6","Speler 7","Speler 8","Speler9","Speler 10"]
[null,"Naam",{"$f":"week1!C$12","v":"F"},{"$f":"week1!D$12","v":"G"},{"$f":"week1!E$12","v":"H"},{"$f":"week1!F$12","v":"I"},{"$f":"week1!G$12","v":"J"}]
[null,"Ronde 1"]
[null,"Ronde 2"]
[null,"Ronde 3"]
[null,"Ronde 4"]
[null,"Ronde 5"]
[null,"Totaal",{"$f":"SUM(C13:C17)","v":0},{"$f":"SUM(D13:D17)","v":0},{"$f":"SUM(E13:E17)","v":0},{"$f":"SUM(F13:F17)","v":0},{"$f":"SUM(G13:G17)","v":0}]
[]
[null,"Week 1","Speler 11","Speler 12","Speler13","Speler 14","Speler 15"]
[null,"Naam",{"$f":"week1!C$23","v":"K"},{"$f":"week1!D$23","v":"L"},{"$f":"week1!E$23","v":0},{"$f":"week1!F23","v":0}]
[null,"Ronde 1"]
[null,"Ronde 2"]
[null,"Ronde 3"]
[null,"Ronde 4"]
[null,"Ronde 5"]
[null,"Sub Tot",{"$f":"SUM(C22:C26)","v":0},{"$f":"SUM(D22:D26)","v":0},{"$f":"SUM(E22:E26)","v":0},{"$f":"SUM(F22:F26)","v":0},{"$f":"SUM(G22:G26)","v":0}]

{"sheet":"week7","index":6,"n_rows":27,"n_cols":7,"rows_kept":27,"cut":false,"hidden":false,"merged":[]}
[null,{"$f":"speelschema!A8:B8","v":"2020-01-24"}]
[null,"Week 7","Speler 1","Speler 2","Speler 3","Speler 4","Speler 5"]
[null,"Naam",{"$f":"week1!C$3","v":"A"},{"$f":"week1!D$3","v":"B"},{"$f":"week1!E$3","v":"C"},{"$f":"week1!F$3","v":"D"},{"$f":"week1!G$3","v":"E"}]
[null,"Ronde 1"]
[null,"Ronde 2"]
[null,"Ronde 3"]
[null,"Ronde 4"]
[null,"Ronde 5"]
[null," Totaal",{"$f":"SUM(C4:C8)","v":0},{"$f":"SUM(D4:D8)","v":0},0,0,0]
[]
[null,"Week 7","Speler 6","Speler 7","Speler 8","Speler9","Speler 10"]
[null,"Naam",{"$f":"week1!C$12","v":"F"},{"$f":"week1!D$12","v":"G"},{"$f":"week1!E$12","v":"H"},{"$f":"week1!F$12","v":"I"},{"$f":"week1!G$12","v":"J"}]
[null,"Ronde 1"]
[null,"Ronde 2"]
[null,"Ronde 3"]
[null,"Ronde 4"]
[null,"Ronde 5"]
[null,"Totaal",{"$f":"SUM(C13:C17)","v":0},{"$f":"SUM(D13:D17)","v":0},{"$f":"SUM(E13:E17)","v":0},{"$f":"SUM(F13:F17)","v":0},{"$f":"SUM(G13:G17)","v":0}]
[]
[null,"Week 7","Speler 11","Speler 12","Speler13","Speler 14","Speler 15"]
[null,"Naam",{"$f":"week1!C$23","v":"K"},{"$f":"week1!D$23","v":"L"},{"$f":"week1!E$23","v":0},{"$f":"week1!F23","v":0}]
[null,"Ronde 1"]
[null,"Ronde 2"]
[null,"Ronde 3"]
[null,"Ronde 4"]
[null,"Ronde 5"]
[null,"Sub Tot",{"$f":"SUM(C22:C26)","v":0},{"$f":"SUM(D22:D26)","v":0},{"$f":"SUM(E22:E26)","v":0},{"$f":"SUM(F22:F26)","v":0},{"$f":"SUM(G22:G26)","v":0}]

{"sheet":"week8","index":7,"n_rows":27,"n_cols":7,"rows_kept":27,"cut":false,"hidden":false,"merged":[]}
[null,{"$f":"speelschema!A9:B9","v":"2020-02-07"}]
[null,"Week 8","Speler 1","Speler 2","Speler 3","Speler 4","Speler 5"]
[null,"Naam",{"$f":"week1!C$3","v":"A"},{"$f":"week1!D$3","v":"B"},{"$f":"week1!E$3","v":"C"},{"$f":"week1!F$3","v":"D"},{"$f":"week1!G$3","v":"E"}]
[null,"Ronde 1"]
[null,"Ronde 2"]
[null,"Ronde 3"]
[null,"Ronde 4"]
[null,"Ronde 5"]
[null," Totaal",{"$f":"SUM(C4:C8)","v":0},{"$f":"SUM(D4:D8)","v":0},0,0,0]
[]
[null,"Week  8","Speler 6","Speler 7","Speler 8","Speler9","Speler 10"]
[null,"Naam",{"$f":"week1!C$12","v":"F"},{"$f":"week1!D$12","v":"G"},{"$f":"week1!E$12","v":"H"},{"$f":"week1!F$12","v":"I"},{"$f":"week1!G$12","v":"J"}]
[null,"Ronde 1"]
[null,"Ronde 2"]
[null,"Ronde 3"]
[null,"Ronde 4"]
[null,"Ronde 5"]
[null,"Totaal",{"$f":"SUM(C13:C17)","v":0},{"$f":"SUM(D13:D17)","v":0},{"$f":"SUM(E13:E17)","v":0},{"$f":"SUM(F13:F17)","v":0},{"$f":"SUM(G13:G17)","v":0}]
[]
[null,"Week 8","Speler 11","Speler 12","Speler13","Speler 14","Speler 15"]
[null,"Naam",{"$f":"week1!C$23","v":"K"},{"$f":"week1!D$23","v":"L"},{"$f":"week1!E$23","v":0},{"$f":"week1!F$23","v":0}]
[null,"Ronde 1"]
[null,"Ronde 2"]
[null,"Ronde 3"]
[null,"Ronde 4"]
[null,"Ronde 5"]
[null,"Sub Tot",{"$f":"SUM(C22:C26)","v":0},{"$f":"SUM(D22:D26)","v":0},{"$f":"SUM(E22:E26)","v":0},{"$f":"SUM(F22:F26)","v":0},{"$f":"SUM(G22:G26)","v":0}]

{"sheet":"week9","index":8,"n_rows":27,"n_cols":7,"rows_kept":27,"cut":false,"hidden":false,"merged":[]}
[null,{"$f":"speelschema!A10:B10","v":"2020-02-14"}]
[null,"Week  9","Speler 1","Speler 2","Speler 3","Speler 4","Speler 5"]
[null,"Naam",{"$f":"week1!C$3","v":"A"},{"$f":"week1!D$3","v":"B"},{"$f":"week1!E$3","v":"C"},{"$f":"week1!F$3","v":"D"},{"$f":"week1!G$3","v":"E"}]
[null,"Ronde 1"]
[null,"Ronde 2"]
[null,"Ronde 3"]
[null,"Ronde 4"]
[null,"Ronde 5"]
[null," Totaal",{"$f":"SUM(C4:C8)","v":0},{"$f":"SUM(D4:D8)","v":0},0,0,0]
[]
[null,"Week  9","Speler 6","Speler 7","Speler 8","Speler9","Speler 10"]
[null,"Naam",{"$f":"week1!C$12","v":"F"},{"$f":"week1!D$12","v":"G"},{"$f":"week1!E$12","v":"H"},{"$f":"week1!F$12","v":"I"},{"$f":"week1!G$12","v":"J"}]
[null,"Ronde 1"]
[null,"Ronde 2"]
[null,"Ronde 3"]
[null,"Ronde 4"]
[null,"Ronde 5"]
[null,"Totaal",{"$f":"SUM(C13:C17)","v":0},{"$f":"SUM(D13:D17)","v":0},{"$f":"SUM(E13:E17)","v":0},{"$f":"SUM(F13:F17)","v":0},{"$f":"SUM(G13:G17)","v":0}]
[]
[null,"Week 9","Speler 11","Speler 12","Speler13","Speler 14","Speler 15"]
[null,"Naam",{"$f":"week1!C$23","v":"K"},{"$f":"week1!D$23","v":"L"},{"$f":"week1!E$23","v":0},{"$f":"week1!F23","v":0}]
[null,"Ronde 1"]
[null,"Ronde 2"]
[null,"Ronde 3"]
[null,"Ronde 4"]
[null,"Ronde 5"]
[null,"Sub Tot",{"$f":"SUM(C22:C26)","v":0},{"$f":"SUM(D22:D26)","v":0},{"$f":"SUM(E22:E26)","v":0},{"$f":"SUM(F22:F26)","v":0},{"$f":"SUM(G22:G26)","v":0}]

{"sheet":"week10","index":9,"n_rows":27,"n_cols":7,"rows_kept":27,"cut":false,"hidden":false,"merged":[]}
[null,{"$f":"speelschema!A11:B11","v":"2020-02-21"}]
[null,"Week 10","Speler 1","Speler 2","Speler 3","Speler 4","Speler 5"]
[null,"Naam",{"$f":"week1!C$3","v":"A"},{"$f":"week1!D$3","v":"B"},{"$f":"week1!E$3","v":"C"},{"$f":"week1!F$3","v":"D"},{"$f":"week1!G$3","v":"E"}]
[null,"Ronde 1"]
[null,"Ronde 2"]
[null,"Ronde 3"]
[null,"Ronde 4"]
[null,"Ronde 5"]
[null," Totaal",{"$f":"SUM(C4:C8)","v":0},{"$f":"SUM(D4:D8)","v":0},0,0,0]
[]
[null,"Week  10","Speler 6","Speler 7","Speler 8","Speler9","Speler 10"]
[null,"Naam",{"$f":"week1!C$12","v":"F"},{"$f":"week1!D$12","v":"G"},{"$f":"week1!E$12","v":"H"},{"$f":"week1!F$12","v":"I"},{"$f":"week1!G$12","v":"J"}]
[null,"Ronde 1"]
[null,"Ronde 2"]
[null,"Ronde 3"]
[null,"Ronde 4"]
[null,"Ronde 5"]
[null,"Totaal",{"$f":"SUM(C13:C17)","v":0},{"$f":"SUM(D13:D17)","v":0},{"$f":"SUM(E13:E17)","v":0},{"$f":"SUM(F13:F17)","v":0},{"$f":"SUM(G13:G17)","v":0}]
[]
[null,"Week 10","Speler 11","Speler 12","Speler13","Speler 14","Speler 15"]
[null,"Naam",{"$f":"week1!C$23","v":"K"},{"$f":"week1!D$23","v":"L"},{"$f":"week1!E$23","v":0},{"$f":"week1!F23","v":0}]
[null,"Ronde 1"]
[null,"Ronde 2"]
[null,"Ronde 3"]
[null,"Ronde 4"]
[null,"Ronde 5"]
[null,"Sub Tot",{"$f":"SUM(C22:C26)","v":0},{"$f":"SUM(D22:D26)","v":0},{"$f":"SUM(E22:E26)","v":0},{"$f":"SUM(F22:F26)","v":0},{"$f":"SUM(G22:G26)","v":0}]

{"sheet":"week11","index":10,"n_rows":27,"n_cols":7,"rows_kept":27,"cut":false,"hidden":false,"merged":[]}
[null,{"$f":"speelschema!A12:B12","v":"2020-02-28"}]
[null,"Week 11","Speler 1","Speler 2","Speler 3","Speler 4","Speler 5"]
[null,"Naam",{"$f":"week1!C$3","v":"A"},{"$f":"week1!D$3","v":"B"},{"$f":"week1!E$3","v":"C"},{"$f":"week1!F$3","v":"D"},{"$f":"week1!G$3","v":"E"}]
[null,"Ronde 1"]
[null,"Ronde 2"]
[null,"Ronde 3"]
[null,"Ronde 4"]
[null,"Ronde 5"]
[null," Totaal",{"$f":"SUM(C4:C8)","v":0},{"$f":"SUM(D4:D8)","v":0},0,0,0]
[]
[null,"Week  11","Speler 6","Speler 7","Speler 8","Speler9","Speler 10"]
[null,"Naam",{"$f":"week1!C$12","v":"F"},{"$f":"week1!D$12","v":"G"},{"$f":"week1!E$12","v":"H"},{"$f":"week1!F$12","v":"I"},{"$f":"week1!G$12","v":"J"}]
[null,"Ronde 1",null,null,null,null,0]
[null,"Ronde 2",0]
[null,"Ronde 3"]
[null,"Ronde 4"]
[null,"Ronde 5"]
[null,"Totaal",{"$f":"SUM(C13:C17)","v":0},{"$f":"SUM(D13:D17)","v":0},{"$f":"SUM(E13:E17)","v":0},{"$f":"SUM(F13:F17)","v":0},{"$f":"SUM(G13:G17)","v":0}]
[]
[null,"Week 11","Speler 11","Speler 12","Speler13","Speler 14","Speler 15"]
[null,"Naam",{"$f":"week1!C$23","v":"K"},{"$f":"week1!D$23","v":"L"},{"$f":"week1!E$23","v":0},{"$f":"week1!F23","v":0}]
[null,"Ronde 1"]
[null,"Ronde 2"]
[null,"Ronde 3"]
[null,"Ronde 4"]
[null,"Ronde 5"]
[null,"Sub Tot",{"$f":"SUM(C22:C26)","v":0},{"$f":"SUM(D22:D26)","v":0},{"$f":"SUM(E22:E26)","v":0},{"$f":"SUM(F22:F26)","v":0},{"$f":"SUM(G22:G26)","v":0}]

{"sheet":"week12","index":11,"n_rows":27,"n_cols":7,"rows_kept":27,"cut":false,"hidden":false,"merged":[]}
[null,{"$f":"speelschema!A13:B13","v":"2020-03-06"}]
[null,"Week 12","Speler 1","Speler 2","Speler 3","Speler 4","Speler 5"]
[null,"Naam",{"$f":"week1!C$3","v":"A"},{"$f":"week1!D$3","v":"B"},{"$f":"week1!E$3","v":"C"},{"$f":"week1!F$3","v":"D"},{"$f":"week1!G$3","v":"E"}]
[null,"Ronde 1"]
[null,"Ronde 2"]
[null,"Ronde 3"]
[null,"Ronde 4"]
[null,"Ronde 5"]
[null," Totaal",{"$f":"SUM(C4:C8)","v":0},{"$f":"SUM(D4:D8)","v":0},0,0,0]
[]
[null,"Week  12","Speler 6","Speler 7","Speler 8","Speler9","Speler 10"]
[null,"Naam",{"$f":"week1!C$12","v":"F"},{"$f":"week1!D$12","v":"G"},{"$f":"week1!E$12","v":"H"},{"$f":"week1!F$12","v":"I"},{"$f":"week1!G$12","v":"J"}]
[null,"Ronde 1"]
[null,"Ronde 2"]
[null,"Ronde 3"]
[null,"Ronde 4"]
[null,"Ronde 5"]
[null,"Totaal",{"$f":"SUM(C13:C17)","v":0},{"$f":"SUM(D13:D17)","v":0},{"$f":"SUM(E13:E17)","v":0},{"$f":"SUM(F13:F17)","v":0},{"$f":"SUM(G13:G17)","v":0}]
[]
[null,"Week 12","Speler 11","Speler 12","Speler13","Speler 14","Speler 15"]
[null,"Naam",{"$f":"week1!C$23","v":"K"},{"$f":"week1!D$23","v":"L"},{"$f":"week1!E$23","v":0},{"$f":"week1!F23","v":0}]
[null,"Ronde 1"]
[null,"Ronde 2"]
[null,"Ronde 3"]
[null,"Ronde 4"]
[null,"Ronde 5"]
[null,"Sub Tot",{"$f":"SUM(C22:C26)","v":0},{"$f":"SUM(D22:D26)","v":0},{"$f":"SUM(E22:E26)","v":0},{"$f":"SUM(F22:F26)","v":0},{"$f":"SUM(G22:G26)","v":0}]

{"sheet":"week13","index":12,"n_rows":27,"n_cols":7,"rows_kept":27,"cut":false,"hidden":false,"merged":[]}
[null,{"$f":"speelschema!A14:B14","v":"2020-03-13"}]
[null,"Week 13","Speler 1","Speler 2","Speler 3","Speler 4","Speler 5"]
[null,"Naam",{"$f":"week1!C$3","v":"A"},{"$f":"week1!D$3","v":"B"},{"$f":"week1!E$3","v":"C"},{"$f":"week1!F$3","v":"D"},{"$f":"week1!G$3","v":"E"}]
[null,"Ronde 1"]
[null,"Ronde 2"]
[null,"Ronde 3"]
[null,"Ronde 4"]
[null,"Ronde 5"]
[null," Totaal",{"$f":"SUM(C4:C8)","v":0},{"$f":"SUM(D4:D8)","v":0},0,0,0]
[]
[null,"Week  13","Speler 6","Speler 7","Speler 8","Speler9","Speler 10"]
[null,"Naam",{"$f":"week1!C$12","v":"F"},{"$f":"week1!D$12","v":"G"},{"$f":"week1!E$12","v":"H"},{"$f":"week1!F$12","v":"I"},{"$f":"week1!G$12","v":"J"}]
[null,"Ronde 1"]
[null,"Ronde 2"]
[null,"Ronde 3",null,null,null,null,0]
[null,"Ronde 4"]
[null,"Ronde 5"]
[null,"Totaal",{"$f":"SUM(C13:C17)","v":0},{"$f":"SUM(D13:D17)","v":0},{"$f":"SUM(E13:E17)","v":0},{"$f":"SUM(F13:F17)","v":0},{"$f":"SUM(G13:G17)","v":0}]
[]
[null,"Week 13","Speler 11","Speler 12","Speler13","Speler 14","Speler 15"]
[null,"Naam",{"$f":"week1!C$23","v":"K"},{"$f":"week1!D$23","v":"L"},{"$f":"week1!E$23","v":0},{"$f":"week1!F23","v":0}]
[null,"Ronde 1"]
[null,"Ronde 2"]
[null,"Ronde 3"]
[null,"Ronde 4"]
[null,"Ronde 5"]
[null,"Sub Tot",{"$f":"SUM(C22:C26)","v":0},{"$f":"SUM(D22:D26)","v":0},{"$f":"SUM(E22:E26)","v":0},{"$f":"SUM(F22:F26)","v":0},{"$f":"SUM(G22:G26)","v":0}]

{"sheet":"week14","index":13,"n_rows":27,"n_cols":7,"rows_kept":27,"cut":false,"hidden":false,"merged":[]}
[null,{"$f":"speelschema!A15:B15","v":"2020-03-20"}]
[null,"Week 14","Speler 1","Speler 2","Speler 3","Speler 4","Speler 5"]
[null,"Naam",{"$f":"week1!C$3","v":"A"},{"$f":"week1!D$3","v":"B"},{"$f":"week1!E$3","v":"C"},{"$f":"week1!F$3","v":"D"},{"$f":"week1!G$3","v":"E"}]
[null,"Ronde 1"]
[null,"Ronde 2"]
[null,"Ronde 3"]
[null,"Ronde 4"]
[null,"Ronde 5"]
[null," Totaal",{"$f":"SUM(C4:C8)","v":0},{"$f":"SUM(D4:D8)","v":0},0,0,0]
[]
[null,"Week  14","Speler 6","Speler 7","Speler 8","Speler9","Speler 10"]
[null,"Naam",{"$f":"week1!C$12","v":"F"},{"$f":"week1!D$12","v":"G"},{"$f":"week1!E$12","v":"H"},{"$f":"week1!F$12","v":"I"},{"$f":"week1!G$12","v":"J"}]
[null,"Ronde 1"]
[null,"Ronde 2"]
[null,"Ronde 3"]
[null,"Ronde 4"]
[null,"Ronde 5"]
[null,"Totaal",{"$f":"SUM(C13:C17)","v":0},{"$f":"SUM(D13:D17)","v":0},{"$f":"SUM(E13:E17)","v":0},{"$f":"SUM(F13:F17)","v":0},{"$f":"SUM(G13:G17)","v":0}]
[]
[null,"Week 14","Speler 11","Speler 12","Speler13","Speler 14","Speler 15"]
[null,"Naam",{"$f":"week1!C$23","v":"K"},{"$f":"week1!D$23","v":"L"},{"$f":"week1!E$23","v":0}]
[null,"Ronde 1"]
[null,"Ronde 2"]
[null,"Ronde 3"]
[null,"Ronde 4"]
[null,"Ronde 5"]
[null,"Sub Tot",{"$f":"SUM(C22:C26)","v":0},{"$f":"SUM(D22:D26)","v":0},{"$f":"SUM(E22:E26)","v":0},{"$f":"SUM(F22:F26)","v":0},{"$f":"SUM(G22:G26)","v":0}]

{"sheet":"week15","index":14,"n_rows":27,"n_cols":7,"rows_kept":27,"cut":false,"hidden":false,"merged":[]}
[null,{"$f":"speelschema!A16:B16","v":"2020-03-27"}]
[null,"Week 15","Speler 1","Speler 2","Speler 3","Speler 4","Speler 5"]
[null,"Naam",{"$f":"week1!C$3","v":"A"},{"$f":"week1!D$3","v":"B"},{"$f":"week1!E$3","v":"C"},{"$f":"week1!F$3","v":"D"},{"$f":"week1!G$3","v":"E"}]
[null,"Ronde 1"]
[null,"Ronde 2"]
[null,"Ronde 3"]
[null,"Ronde 4"]
[null,"Ronde 5"]
[null," Totaal",{"$f":"SUM(C4:C8)","v":0},{"$f":"SUM(D4:D8)","v":0},0,0,0]
[]
[null,"Week  15","Speler 6","Speler 7","Speler 8","Speler9","Speler 10"]
[null,"Naam",{"$f":"week1!C$12","v":"F"},{"$f":"week1!D$12","v":"G"},{"$f":"week1!E$12","v":"H"},{"$f":"week1!F$12","v":"I"},{"$f":"week1!G$12","v":"J"}]
[null,"Ronde 1"]
[null,"Ronde 2"]
[null,"Ronde 3"]
[null,"Ronde 4"]
[null,"Ronde 5"]
[null,"Totaal",{"$f":"SUM(C13:C17)","v":0},{"$f":"SUM(D13:D17)","v":0},{"$f":"SUM(E13:E17)","v":0},{"$f":"SUM(F13:F17)","v":0},{"$f":"SUM(G13:G17)","v":0}]
[]
[null,"Week 15","Speler 11","Speler 12","Speler13","Speler 14","Speler 15"]
[null,"Naam",{"$f":"week1!C$23","v":"K"},{"$f":"week1!D$23","v":"L"},{"$f":"week1!E$23","v":0}]
[null,"Ronde 1"]
[null,"Ronde 2"]
[null,"Ronde 3"]
[null,"Ronde 4"]
[null,"Ronde 5"]
[null,"Sub Tot",{"$f":"SUM(C22:C26)","v":0},{"$f":"SUM(D22:D26)","v":0},{"$f":"SUM(E22:E26)","v":0},{"$f":"SUM(F22:F26)","v":0},{"$f":"SUM(G22:G26)","v":0}]

{"sheet":"cum uitslag","index":15,"n_rows":14,"n_cols":20,"rows_kept":14,"cut":false,"hidden":false,"merged":[]}
[null,"Speeldatum",{"$f":"week1!B1","v":"2019-11-15"},{"$f":"week2!B1","v":"2019-11-22"},{"$f":"week3!B1","v":"2019-11-29"},{"$f":"week4!B1","v":"2019-12-13"},{"$f":"week5!B1","v":"2020-01-10"},{"$f":"week6!B1","v":"2020-01-17"},{"$f":"week7!B1","v":"2020-01-24"},{"$f":"week8!B1","v":"2020-02-07"},{"$f":"week9!B1","v":"2020-02-14"},{"$f":"week10!B1","v":"2020-02-21"},{"$f":"week11!B1","v":"2020-02-28"},{"$f":"week12!B1","v":"2020-03-06"},{"$f":"week13!B1","v":"2020-03-13"},{"$f":"week14!B1","v":"2020-03-20"},{"$f":"week15!B1","v":"2020-03-27"}]
[null,"Naam","week 1","week 2","week 3","week 4","week 5","week 6","week 7","week 8","week 9","week 10","week 11","week 12","week 13","week 14","week 15","Totaal",null,"GEMIDD"]
[null,{"$f":"week1!$C$23","v":"K"},{"$f":"week1!$C29","v":364},{"$f":"week2!$C27","v":350},{"$f":"week3!$C27","v":0},{"$f":"week4!$C27","v":0},{"$f":"week5!$C27","v":0},{"$f":"week6!$C27","v":0},{"$f":"week7!$C27","v":0},{"$f":"week8!$C27","v":0},{"$f":"week9!$C27","v":0},{"$f":"week10!$C27","v":0},{"$f":"week11!$C27","v":0},{"$f":"week12!$C27","v":0},{"$f":"week13!$C27","v":0},{"$f":"week14!$C27","v":0},{"$f":"week15!$C27","v":0},{"$f":"SUM(C3:Q3)","v":714},null,{"$f":"AVERAGEIF(C3:Q3,\"<>0\")","v":357}]
[null,{"$f":"week1!$F$12","v":"I"},{"$f":"week1!$F18","v":343},{"$f":"week2!$F18","v":363},{"$f":"week3!$F18","v":0},{"$f":"week4!$F18","v":0},{"$f":"week5!$F18","v":0},{"$f":"week6!$F18","v":0},{"$f":"week7!$F18","v":0},{"$f":"week8!$F18","v":0},{"$f":"week9!$F18","v":0},{"$f":"week10!$F18","v":0},{"$f":"week11!$F18","v":0},{"$f":"week12!$F18","v":0},{"$f":"week13!$F18","v":0},{"$f":"week14!$F18","v":0},{"$f":"week15!$F18","v":0},{"$f":"SUM(C4:Q4)","v":706},null,353]
[null,{"$f":"week1!$C$3","v":"A"},{"$f":"week1!$C9","v":334},{"$f":"week2!$C9","v":371},{"$f":"week3!$C9","v":0},{"$f":"week4!$C9","v":0},{"$f":"week5!$C9","v":0},{"$f":"week6!$C9","v":0},{"$f":"week7!$C9","v":0},{"$f":"week8!$C9","v":0},{"$f":"week9!$C9","v":0},{"$f":"week10!$C9","v":0},{"$f":"week11!$C9","v":0},{"$f":"week12!$C9","v":0},{"$f":"week13!$C9","v":0},{"$f":"week14!$C9","v":0},{"$f":"week15!$C9","v":0},{"$f":"SUM(C5:Q5)","v":705},null,352.5]
[null,{"$f":"week1!$D$12","v":"G"},{"$f":"week1!$D18","v":332},{"$f":"week2!$D18","v":349},{"$f":"week3!$D18","v":0},{"$f":"week4!$D18","v":0},{"$f":"week5!$D18","v":0},{"$f":"week6!$D18","v":0},{"$f":"week7!$D18","v":0},{"$f":"week8!$D18","v":0},{"$f":"week9!$D18","v":0},{"$f":"week10!$D18","v":0},{"$f":"week11!$D18","v":0},{"$f":"week12!$D18","v":0},{"$f":"week13!$D18","v":0},{"$f":"week14!$D18","v":0},{"$f":"week15!$D18","v":0},{"$f":"SUM(C6:Q6)","v":681},null,340.5]
[null,{"$f":"week1!$E$12","v":"H"},{"$f":"week1!$E18","v":327},{"$f":"week2!$E18","v":349},{"$f":"week3!$E18","v":0},{"$f":"week4!$E18","v":0},{"$f":"week5!$E18","v":0},{"$f":"week6!$E18","v":0},{"$f":"week7!$E18","v":0},{"$f":"week8!$E18","v":0},{"$f":"week9!$E18","v":0},{"$f":"week10!$E18","v":0},{"$f":"week11!$E18","v":0},{"$f":"week12!$E18","v":0},{"$f":"week13!$E18","v":0},{"$f":"week14!$E18","v":0},{"$f":"week15!$E18","v":0},{"$f":"SUM(C7:Q7)","v":676},null,338]
[null,{"$f":"week1!$D$3","v":"B"},{"$f":"week1!$D9","v":326},{"$f":"week2!$D9","v":347},{"$f":"week3!$D9","v":0},{"$f":"week4!$D9","v":0},{"$f":"week5!$D9","v":0},{"$f":"week6!$D9","v":0},{"$f":"week7!$D9","v":0},{"$f":"week8!$D9","v":0},{"$f":"week9!$D9","v":0},{"$f":"week10!$D9","v":0},{"$f":"week11!$D9","v":0},{"$f":"week12!$D9","v":0},{"$f":"week13!$D9","v":0},{"$f":"week14!$D9","v":0},{"$f":"week15!$D9","v":0},{"$f":"SUM(C8:Q8)","v":673},null,336.5]
[null,{"$f":"week1!$D$23","v":"L"},{"$f":"week1!$D29","v":297},{"$f":"week2!$D27","v":372},{"$f":"week3!$D27","v":0},{"$f":"week4!$D27","v":0},{"$f":"week5!$D27","v":0},{"$f":"week6!$D27","v":0},{"$f":"week7!$D27","v":0},{"$f":"week8!$D27","v":0},{"$f":"week9!$D27","v":0},{"$f":"week10!$D27","v":0},{"$f":"week11!$D27","v":0},{"$f":"week12!$D27","v":0},{"$f":"week13!$D27","v":0},{"$f":"week14!$D27","v":0},{"$f":"week15!$D27","v":0},{"$f":"SUM(C9:Q9)","v":669},null,334.5]
[null,{"$f":"week1!$G$12","v":"J"},{"$f":"week1!$G18","v":366},{"$f":"week2!$G18","v":299},{"$f":"week3!$G18","v":0},{"$f":"week4!$G18","v":0},{"$f":"week5!$G18","v":0},{"$f":"week6!$G18","v":0},{"$f":"week7!$G18","v":0},{"$f":"week8!$G18","v":0},{"$f":"week9!$G18","v":0},{"$f":"week10!$G18","v":0},{"$f":"week11!$G18","v":0},{"$f":"week12!$G18","v":0},{"$f":"week13!$G18","v":0},{"$f":"week14!$G18","v":0},{"$f":"week15!$G18","v":0},{"$f":"SUM(C10:Q10)","v":665},null,332.5]
[null,{"$f":"week1!$C$12","v":"F"},{"$f":"week1!$C18","v":300},{"$f":"week2!$C18","v":289},{"$f":"week3!$C18","v":0},{"$f":"week4!$C18","v":0},{"$f":"week5!$C18","v":0},{"$f":"week6!$C18","v":0},{"$f":"week7!$C18","v":0},{"$f":"week8!$C18","v":0},{"$f":"week9!$C18","v":0},{"$f":"week10!$C18","v":0},{"$f":"week11!$C18","v":0},{"$f":"week12!$C18","v":0},{"$f":"week13!$C18","v":0},{"$f":"week14!$C18","v":0},{"$f":"week15!$C18","v":0},{"$f":"SUM(C11:Q11)","v":589},null,294.5]
[null,{"$f":"week1!$E$3","v":"C"},{"$f":"week1!$E9","v":293},{"$f":"week2!$E9","v":292},{"$f":"week3!$E9","v":0},{"$f":"week4!$E9","v":0},{"$f":"week5!$E9","v":0},{"$f":"week6!$E9","v":0},{"$f":"week7!$E9","v":0},{"$f":"week8!$E9","v":0},{"$f":"week9!$E9","v":0},{"$f":"week10!$E9","v":0},{"$f":"week11!$E9","v":0},{"$f":"week12!$E9","v":0},{"$f":"week13!$E9","v":0},{"$f":"week14!$E9","v":0},{"$f":"week15!$E9","v":0},{"$f":"SUM(C12:Q12)","v":585},null,292.5]
[null,{"$f":"week1!$F$3","v":"D"},{"$f":"week1!$F9","v":296},{"$f":"week2!$F9","v":287},{"$f":"week3!$F9","v":0},{"$f":"week4!$F9","v":0},{"$f":"week5!$F9","v":0},{"$f":"week6!$F9","v":0},{"$f":"week7!$F9","v":0},{"$f":"week8!$F9","v":0},{"$f":"week9!$F9","v":0},{"$f":"week10!$F9","v":0},{"$f":"week11!$F9","v":0},{"$f":"week12!$F9","v":0},{"$f":"week13!$F9","v":0},{"$f":"week14!$F9","v":0},{"$f":"week15!$F9","v":0},{"$f":"SUM(C13:Q13)","v":583},null,291.5]
[null,{"$f":"week1!$G$3","v":"E"},{"$f":"week1!$G9","v":266},{"$f":"week2!$G9","v":316},{"$f":"week3!$G9","v":0},{"$f":"week4!$G9","v":0},{"$f":"week5!$G9","v":0},{"$f":"week6!$G9","v":0},{"$f":"week7!$G9","v":0},{"$f":"week8!$G9","v":0},{"$f":"week9!$G9","v":0},{"$f":"week10!$G9","v":0},{"$f":"week11!$G9","v":0},{"$f":"week12!$G9","v":0},{"$f":"week13!$G9","v":0},{"$f":"week14!$G9","v":0},{"$f":"week15!$G9","v":0},{"$f":"SUM(C14:Q14)","v":582},null,291]

{"sheet":"speelschema","index":16,"n_rows":16,"n_cols":2,"rows_kept":16,"cut":false,"hidden":false,"merged":[]}
["SPEELSCHEMA","DATA"]
["week 1",{"$f":"week1!$B$1","v":"2019-11-15"}]
["week 2","2019-11-22"]
["week 3","2019-11-29"]
["week 4","2019-12-13"]
["week 5","2020-01-10"]
["week 6","2020-01-17"]
["week 7","2020-01-24"]
["week 8","2020-02-07"]
["week 9","2020-02-14"]
["week 10","2020-02-21"]
["week 11","2020-02-28"]
["week 12","2020-03-06"]
["week 13","2020-03-13"]
["week 14","2020-03-20"]
["week 15","2020-03-27"]