{"text_format":"1","workbook":"xlsx","n_sheets":6,"sheets":["Startmenu","Factuuroverzicht","Factuur opmaken","Data","Debiteuren","Artikelen"],"not_rendered":{"charts":0,"images":2,"macros":1,"external_links":0,"defined_names":7,"comments":0,"pivot_tables":0},"unopened":[],"bounds":{"document_bytes":16777216,"sheet_cells":100000,"rows_first":2000,"rows_last":500,"rows_between":2000,"halvings":0,"cell_chars":16384,"cell_head_chars":4096},"cells_cut":0,"cells_raw":0,"read":"whole","date_system":"1900"}

{"sheet":"Startmenu","index":0,"n_rows":15,"n_cols":12,"rows_kept":15,"cut":false,"hidden":false,"merged":[[6,12,6,13],[6,14,6,16],[29,12,29,16]]}
[]
[null,null,null,null,null,null,null,null,null,null,null,{"$f":"\"© wp.dejong@outlook.com 2016 - \" & TEXT(H17,\"jjjj\")","v":"© wp.dejong@outlook.com 2016 - 1900"}]
[]
[]
[]
[]
[]
[]
[]
[]
[]
[]
[]
[]
[null,null,null,null,null,null,"("]

{"sheet":"Factuuroverzicht","index":1,"n_rows":10040,"n_cols":28,"rows_kept":2250,"cut":true,"hidden":true,"merged":[],"bounds":{"rows_first":1000,"rows_last":250,"rows_between":1000,"halvings":1}}
[]
[{"$f":"\"Factuurnr.\"","v":"Factuurnr."},"Status","Debiteurnr.","Factuurdatum ","Factuurbedrag","Btwbedrag","Ontvangstdatum","Vervaldatum","Naam op factuur",{"$f":"\"PDF facturen\"","v":"PDF facturen"},"Kwartaal","Factuur -  afhandeling",null,{"$f":"\"Totaal Exclusief Btw : € \"&TEXT($AB$2,\"#.0,00\")","v":"Totaal Exclusief Btw : € 0,00"},null,null,{"$f":"\"Totaal Factuurbedrag : € \"&TEXT($Y$2,\"#.0,00\")","v":"Totaal Factuurbedrag : € 0,00"},{"$f":"\"Totaal Btwbedrag : € \"&TEXT($AA$2,\"#.0,00\")","v":"Totaal Btwbedrag : € 0,00"},{"$f":"\"Totaal Openstaand : € \"&TEXT($Z$2,\"#.0,00\")","v":"Totaal Openstaand : € 0,00"},null,"LinkPath","LinkName",null,null,{"$f":"SUBTOTAL(9,$E$3:$E$10040)","v":0},{"$f":"SUBTOTAL(9,$T$3:$T$10040)","v":0},{"$f":"SUBTOTAL(9,$F$3:$F$10040)","v":0},{"$f":"SUBTOTAL(9,$N$3:$N$10040)","v":0}]
[null,null,null,null,null,null,null,null,null,null,{"$f":"IF(D3=\"\",\"\",\"\"&\"Kwartaal \"&MONTH(MONTH(D3)&0)&TEXT(D3,\" - mmm JJJJ\"))","v":""},null,null,{"$f":"IF(E3=\"\",\"\",(E3)-(F3))","v":""},null,null,null,null,null,{"$f":"IF(B3=1,E3,0)","v":0},null,{"$f":"IF(C3=\"\",\"\",VLOOKUP(C3,Debiteuren!$A$2:$J$9998,10,0))&\"\"","v":""},{"$f":"IF(C3=\"\",\"\",VLOOKUP(C3,Debiteuren!$A$2:$O$9998,15,0)&\"\"&VLOOKUP(C3,Debiteuren!$A$2:$N$9998,14,0))","v":""},null,{"$f":"IF(D3=\"\",\"\",DATEDIF(D3,TODAY(),\"d\"))","v":""},{"$f":"IF(G3=\"\",\"\",DATEDIF(D3,G3,\"d\"))","v":""},{"$f":"DATEDIF(D3,H3,\"d\")","v":0},{"$f":"IF(Y3=\"\",\"\",Y3-AA3)","v":""}]
[null,null,null,null,null,null,null,null,null,null,"",null,null,"",null,null,null,null,null,0,null,{"$f":"IF(C4=\"\",\"\",VLOOKUP(C4,Debiteuren!$A$2:$J$9998,10,0))&\"\"","v":""},{"$f":"IF(C4=\"\",\"\",VLOOKUP(C4,Debiteuren!$A$2:$O$9998,15,0)&\"\"&VLOOKUP(C4,Debiteuren!$A$2:$N$9998,14,0))","v":""},null,"","",0,{"$f":"IF(Y4=\"\",\"\",Y4-AA4)","v":""}]
[null,null,null,null,null,null,null,null,null,null,"",null,null,"",null,null,null,null,null,0,null,{"$f":"IF(C5=\"\",\"\",VLOOKUP(C5,Debiteuren!$A$2:$J$9998,10,0))&\"\"","v":""},{"$f":"IF(C5=\"\",\"\",VLOOKUP(C5,Debiteuren!$A$2:$O$9998,15,0)&\"\"&VLOOKUP(C5,Debiteuren!$A$2:$N$9998,14,0))","v":""},null,"","",0,""]
[null,null,null,null,null,null,null,null,null,null,"",null,null,"",null,null,null,null,null,0,null,{"$f":"IF(C6=\"\",\"\",VLOOKUP(C6,Debiteuren!$A$2:$J$9998,10,0))&\"\"","v":""},{"$f":"IF(C6=\"\",\"\",VLOOKUP(C6,Debiteuren!$A$2:$O$9998,15,0)&\"\"&VLOOKUP(C6,Debiteuren!$A$2:$N$9998,14,0))","v":""},null,"","",0,""]
[null,null,null,null,null,null,null,null,null,null,"",null,null,"",null,null,null,null,null,0,null,{"$f":"IF(C7=\"\",\"\",VLOOKUP(C7,Debiteuren!$A$2:$J$9998,10,0))&\"\"","v":""},{"$f":"IF(C7=\"\",\"\",VLOOKUP(C7,Debiteuren!$A$2:$O$9998,15,0)&\"\"&VLOOKUP(C7,Debiteuren!$A$2:$N$9998,14,0))","v":""},null,"","",0,""]
[null,null,null,null,null,null,null,null,null,null,"",null,null,"",null,null,null,null,null,0,null,{"$f":"IF(C8=\"\",\"\",VLOOKUP(C8,Debiteuren!$A$2:$J$9998,10,0))&\"\"","v":""},{"$f":"IF(C8=\"\",\"\",VLOOKUP(C8,Debiteuren!$A$2:$O$9998,15,0)&\"\"&VLOOKUP(C8,Debiteuren!$A$2:$N$9998,14,0))","v":""},null,"","",0,""]
[null,null,null,null,null,null,null,null,null,null,"",null,null,"",null,null,null,null,null,0,null,{"$f":"IF(C9=\"\",\"\",VLOOKUP(C9,Debiteuren!$A$2:$J$9998,10,0))&\"\"","v":""},{"$f":"IF(C9=\"\",\"\",VLOOKUP(C9,Debiteuren!$A$2:$O$9998,15,0)&\"\"&VLOOKUP(C9,Debiteuren!$A$2:$N$9998,14,0))","v":""},null,"","",0,""]
[null,null,null,null,null,null,null,null,null,null,"",null,null,"",null,null,null,null,null,0,null,{"$f":"IF(C10=\"\",\"\",VLOOKUP(C10,Debiteuren!$A$2:$J$9998,10,0))&\"\"","v":""},{"$f":"IF(C10=\"\",\"\",VLOOKUP(C10,Debiteuren!$A$2:$O$9998,15,0)&\"\"&VLOOKUP(C10,Debiteuren!$A$2:$N$9998,14,0))","v":""},null,"","",0,""]
[null,null,null,null,null,null,null,null,null,null,"",null,null,"",null,null,null,null,null,0,null,{"$f":"IF(C11=\"\",\"\",VLOOKUP(C11,Debiteuren!$A$2:$J$9998,10,0))&\"\"","v":""},{"$f":"IF(C11=\"\",\"\",VLOOKUP(C11,Debiteuren!$A$2:$O$9998,15,0)&\"\"&VLOOKUP(C11,Debiteuren!$A$2:$N$9998,14,0))","v":""},null,"","",0,""]
[null,null,null,null,null,null,null,null,null,null,"",null,null,"",null,null,null,null,null,0,null,{"$f":"IF(C12=\"\",\"\",VLOOKUP(C12,Debiteuren!$A$2:$J$9998,10,0))&\"\"","v":""},{"$f":"IF(C12=\"\",\"\",VLOOKUP(C12,Debiteuren!$A$2:$O$9998,15,0)&\"\"&VLOOKUP(C12,Debiteuren!$A$2:$N$9998,14,0))","v":""},null,"","",0,""]
[null,null,null,null,null,null,null,null,null,null,"",null,null,"",null,null,null,null,null,0,null,{"$f":"IF(C13=\"\",\"\",VLOOKUP(C13,Debiteuren!$A$2:$J$9998,10,0))&\"\"","v":""},{"$f":"IF(C13=\"\",\"\",VLOOKUP(C13,Debiteuren!$A$2:$O$9998,15,0)&\"\"&VLOOKUP(C13,Debiteuren!$A$2:$N$9998,14,0))","v":""},null,"","",0,""]
[null,null,null,null,null,null,null,null,null,null,"",null,null,"",null,null,null,null,null,0,null,{"$f":"IF(C14=\"\",\"\",VLOOKUP(C14,Debiteuren!$A$2:$J$9998,10,0))&\"\"","v":""},{"$f":"IF(C14=\"\",\"\",VLOOKUP(C14,Debiteuren!$A$2:$O$9998,15,0)&\"\"&VLOOKUP(C14,Debiteuren!$A$2:$N$9998,14,0))","v":""},null,"","",0,""]
[null,null,null,null,null,null,null,null,null,null,{"$f":"IF(D15=\"\",\"\",\"\"&\"Kwartaal \"&MONTH(MONTH(D15)&0)&TEXT(D15,\" - mmm JJJJ\"))","v":""},null,null,{"$f":"IF(E15=\"\",\"\",(E15)-(F15))","v":""},null,null,null,null,null,{"$f":"IF(B15=1,E15,0)","v":0},null,{"$f":"IF(C15=\"\",\"\",VLOOKUP(C15,Debiteuren!$A$2:$J$9998,10,0))&\"\"","v":""},{"$f":"IF(C15=\"\",\"\",VLOOKUP(C15,Debiteuren!$A$2:$O$9998,15,0)&\"\"&VLOOKUP(C15,Debiteuren!$A$2:$N$9998,14,0))","v":""},null,{"$f":"IF(D15=\"\",\"\",DATEDIF(D15,TODAY(),\"d\"))","v":""},{"$f":"IF(G15=\"\",\"\",DATEDIF(D15,G15,\"d\"))","v":""},{"$f":"DATEDIF(D15,H15,\"d\")","v":0},""]
[null,null,null,null,null,null,null,null,null,null,"",null,null,"",null,null,null,null,null,0,null,{"$f":"IF(C16=\"\",\"\",VLOOKUP(C16,Debiteuren!$A$2:$J$9998,10,0))&\"\"","v":""},{"$f":"IF(C16=\"\",\"\",VLOOKUP(C16,Debiteuren!$A$2:$O$9998,15,0)&\"\"&VLOOKUP(C16,Debiteuren!$A$2:$N$9998,14,0))","v":""},null,"","",0,""]
[null,null,null,null,null,null,null,null,null,null,"",null,null,"",null,null,null,null,null,0,null,{"$f":"IF(C17=\"\",\"\",VLOOKUP(C17,Debiteuren!$A$2:$J$9998,10,0))&\"\"","v":""},{"$f":"IF(C17=\"\",\"\",VLOOKUP(C17,Debiteuren!$A$2:$O$9998,15,0)&\"\"&VLOOKUP(C17,Debiteuren!$A$2:$N$9998,14,0))","v":""},null,"","",0,""]
[null,null,null,null,null,null,null,null,null,null,"",null,null,"",null,null,null,null,null,0,null,{"$f":"IF(C18=\"\",\"\",VLOOKUP(C18,Debiteuren!$A$2:$J$9998,10,0))&\"\"","v":""},{"$f":"IF(C18=\"\",\"\",VLOOKUP(C18,Debiteuren!$A$2:$O$9998,15,0)&\"\"&VLOOKUP(C18,Debiteuren!$A$2:$N$9998,14,0))","v":""},null,"","",0,""]
[null,null,null,null,null,null,null,null,null,null,"",null,null,"",null,null,null,null,null,0,null,{"$f":"IF(C19=\"\",\"\",VLOOKUP(C19,Debiteuren!$A$2:$J$9998,10,0))&\"\"","v":""},{"$f":"IF(C19=\"\",\"\",VLOOKUP(C19,Debiteuren!$A$2:$O$9998,15,0)&\"\"&VLOOKUP(C19,Debiteuren!$A$2:$N$9998,14,0))","v":""},null,"","",0,""]
[null,null,null,null,null,null,null,null,null,null,"",null,null,"",null,null,null,null,null,0,null,{"$f":"IF(C20=\"\",\"\",VLOOKUP(C20,Debiteuren!$A$2:$J$9998,10,0))&\"\"","v":""},{"$f":"IF(C20=\"\",\"\",VLOOKUP(C20,Debiteuren!$A$2:$O$9998,15,0)&\"\"&VLOOKUP(C20,Debiteuren!$A$2:$N$9998,14,0))","v":""},null,"","",0,""]
[null,null,null,null,null,null,null,null,null,null,"",null,null,"",null,null,null,null,null,0,null,{"$f":"IF(C21=\"\",\"\",VLOOKUP(C21,Debiteuren!$A$2:$J$9998,10,0))&\"\"","v":""},{"$f":"IF(C21=\"\",\"\",VLOOKUP(C21,Debiteuren!$A$2:$O$9998,15,0)&\"\"&VLOOKUP(C21,Debiteuren!$A$2:$N$9998,14,0))","v":""},null,"","",0,""]
[null,null,null,null,null,null,null,null,null,null,"",null,null,"",null,null,null,null,null,0,null,{"$f":"IF(C22=\"\",\"\",VLOOKUP(C22,Debiteuren!$A$2:$J$9998,10,0))&\"\"","v":""},{"$f":"IF(C22=\"\",\"\",VLOOKUP(C22,Debiteuren!$A$2:$O$9998,15,0)&\"\"&VLOOKUP(C22,Debiteuren!$A$2:$N$9998,14,0))","v":""},null,"","",0,""]
[null,null,null,null,null,null,null,null,null,null,"",null,null,"",null,null,null,null,null,0,null,{"$f":"IF(C23=\"\",\"\",VLOOKUP(C23,Debiteuren!$A$2:$J$9998,10,0))&\"\"","v":""},{"$f":"IF(C23=\"\",\"\",VLOOKUP(C23,Debiteuren!$A$2:$O$9998,15,0)&\"\"&VLOOKUP(C23,Debiteuren!$A$2:$N$9998,14,0))","v":""},null,"","",0,""]
[null,null,null,null,null,null,null,null,null,null,"",null,null,"",null,null,null,null,null,0,null,{"$f":"IF(C24=\"\",\"\",VLOOKUP(C24,Debiteuren!$A$2:$J$9998,10,0))&\"\"","v":""},{"$f":"IF(C24=\"\",\"\",VLOOKUP(C24,Debiteuren!$A$2:$O$9998,15,0)&\"\"&VLOOKUP(C24,Debiteuren!$A$2:$N$9998,14,0))","v":""},null,"","",0,""]
[null,null,null,null,null,null,null,null,null,null,"",null,null,"",null,null,null,null,null,0,null,{"$f":"IF(C25=\"\",\"\",VLOOKUP(C25,Debiteuren!$A$2:$J$9998,10,0))&\"\"","v":""},{"$f":"IF(C25=\"\",\"\",VLOOKUP(C25,Debiteuren!$A$2:$O$9998,15,0)&\"\"&VLOOKUP(C25,Debiteuren!$A$2:$N$9998,14,0))","v":""},null,"","",0,""]
[null,null,null,null,null,null,null,null,null,null,"",null,null,"",null,null,null,null,null,0,null,{"$f":"IF(C26=\"\",\"\",VLOOKUP(C26,Debiteuren!$A$2:$J$9998,10,0))&\"\"","v":""},{"$f":"IF(C26=\"\",\"\",VLOOKUP(C26,Debiteuren!$A$2:$O$9998,15,0)&\"\"&VLOOKUP(C26,Debiteuren!$A$2:$N$9998,14,0))","v":""},null,"","",0,""]
[null,null,null,null,null,null,null,null,null,null,"",null,null,"",null,null,null,null,null,0,null,{"$f":"IF(C27=\"\",\"\",VLOOKUP(C27,Debiteuren!$A$2:$J$9998,10,0))&\"\"","v":""},{"$f":"IF(C27=\"\",\"\",VLOOKUP(C27,Debiteuren!$A$2:$O$9998,15,0)&\"\"&VLOOKUP(C27,Debiteuren!$A$2:$N$9998,14,0))","v":""},null,"","",0,""]
[null,null,null,null,null,null,null,null,null,null,"",null,null,"",null,null,null,null,null,0,null,{"$f":"IF(C28=\"\",\"\",VLOOKUP(C28,Debiteuren!$A$2:$J$9998,10,0))&\"\"","v":""},{"$f":"IF(C28=\"\",\"\",VLOOKUP(C28,Debiteuren!$A$2:$O$9998,15,0)&\"\"&VLOOKUP(C28,Debiteuren!$A$2:$N$9998,14,0))","v":""},null,"","",0,""]
[null,null,null,null,null,null,null,null,null,null,"",null,null,"",null,null,null,null,null,0,null,{"$f":"IF(C29=\"\",\"\",VLOOKUP(C29,Debiteuren!$A$2:$J$9998,10,0))&\"\"","v":""},{"$f":"IF(C29=\"\",\"\",VLOOKUP(C29,Debiteuren!$A$2:$O$9998,15,0)&\"\"&VLOOKUP(C29,Debiteuren!$A$2:$N$9998,14,0))","v":""},null,"","",0,""]
[null,null,null,null,null,null,null,null,null,null,"",null,null,"",null,null,null,null,null,0,null,{"$f":"IF(C30=\"\",\"\",VLOOKUP(C30,Debiteuren!$A$2:$J$9998,10,0))&\"\"","v":""},{"$f":"IF(C30=\"\",\"\",VLOOKUP(C30,Debiteuren!$A$2:$O$9998,15,0)&\"\"&VLOOKUP(C30,Debiteuren!$A$2:$N$9998,14,0))","v":""},null,"","",0,""]
[null,null,null,null,null,null,null,null,null,null,"",null,null,"",null,null,null,null,null,0,null,{"$f":"IF(C31=\"\",\"\",VLOOKUP(C31,Debiteuren!$A$2:$J$9998,10,0))&\"\"","v":""},{"$f":"IF(C31=\"\",\"\",VLOOKUP(C31,Debiteuren!$A$2:$O$9998,15,0)&\"\"&VLOOKUP(C31,Debiteuren!$A$2:$N$9998,14,0))","v":""},null,"","",0,""]
[null,null,null,null,null,null,null,null,null,null,"",null,null,"",null,null,null,null,null,0,null,{"$f":"IF(C32=\"\",\"\",VLOOKUP(C32,Debiteuren!$A$2:$J$9998,10,0))&\"\"","v":""},{"$f":"IF(C32=\"\",\"\",VLOOKUP(C32,Debiteuren!$A$2:$O$9998,15,0)&\"\"&VLOOKUP(C32,Debiteuren!$A$2:$N$9998,14,0))","v":""},null,"","",0,""]
[null,null,null,null,null,null,null,null,null,null,"",null,null,"",null,null,null,null,null,0,null,{"$f":"IF(C33=\"\",\"\",VLOOKUP(C33,Debiteuren!$A$2:$J$9998,10,0))&\"\"","v":""},{"$f":"IF(C33=\"\",\"\",VLOOKUP(C33,Debiteuren!$A$2:$O$9998,15,0)&\"\"&VLOOKUP(C33,Debiteuren!$A$2:$N$9998,14,0))","v":""},null,"","",0,""]
[null,null,null,null,null,null,null,null,null,null,"",null,null,"",null,null,null,null,null,0,null,{"$f":"IF(C34=\"\",\"\",VLOOKUP(C34,Debiteuren!$A$2:$J$9998,10,0))&\"\"","v":""},{"$f":"IF(C34=\"\",\"\",VLOOKUP(C34,Debiteuren!$A$2:$O$9998,15,0)&\"\"&VLOOKUP(C34,Debiteuren!$A$2:$N$9998,14,0))","v":""},null,"","",0,""]
[null,null,null,null,null,null,null,null,null,null,"",null,null,"",null,null,null,null,null,0,null,{"$f":"IF(C35=\"\",\"\",VLOOKUP(C35,Debiteuren!$A$2:$J$9998,10,0))&\"\"","v":""},{"$f":"IF(C35=\"\",\"\",VLOOKUP(C35,Debiteuren!$A$2:$O$9998,15,0)&\"\"&VLOOKUP(C35,Debiteuren!$A$2:$N$9998,14,0))","v":""},null,"","",0,""]
[null,null,null,null,null,null,null,null,null,null,"",null,null,"",null,null,null,null,null,0,null,{"$f":"IF(C36=\"\",\"\",VLOOKUP(C36,Debiteuren!$A$2:$J$9998,10,0))&\"\"","v":""},{"$f":"IF(C36=\"\",\"\",VLOOKUP(C36,Debiteuren!$A$2:$O$9998,15,0)&\"\"&VLOOKUP(C36,Debiteuren!$A$2:$N$9998,14,0))","v":""},null,"","",0,""]
[null,null,null,null,null,null,null,null,null,null,"",null,null,"",null,null,null,null,null,0,null,{"$f":"IF(C37=\"\",\"\",VLOOKUP(C37,Debiteuren!$A$2:$J$9998,10,0))&\"\"","v":""},{"$f":"IF(C37=\"\",\"\",VLOOKUP(C37,Debiteuren!$A$2:$O$9998,15,0)&\"\"&VLOOKUP(C37,Debiteuren!$A$2:$N$9998,14,0))","v":""},null,"","",0,""]
[null,null,null,null,null,null,null,null,null,null,"",null,null,"",null,null,null,null,null,0,null,{"$f":"IF(C38=\"\",\"\",VLOOKUP(C38,Debiteuren!$A$2:$J$9998,10,0))&\"\"","v":""},{"$f":"IF(C38=\"\",\"\",VLOOKUP(C38,Debiteuren!$A$2:$O$9998,15,0)&\"\"&VLOOKUP(C38,Debiteuren!$A$2:$N$9998,14,0))","v":""},null,"","",0,""]
[null,null,null,null,null,null,null,null,null,null,"",null,null,"",null,null,null,null,null,0,null,{"$f":"IF(C39=\"\",\"\",VLOOKUP(C39,Debiteuren!$A$2:$J$9998,10,0))&\"\"","v":""},{"$f":"IF(C39=\"\",\"\",VLOOKUP(C39,Debiteuren!$A$2:$O$9998,15,0)&\"\"&VLOOKUP(C39,Debiteuren!$A$2:$N$9998,14,0))","v":""},null,"","",0,""]
[null,null,null,null,null,null,null,null,null,null,"",null,null,"",null,null,null,null,null,0,null,{"$f":"IF(C40=\"\",\"\",VLOOKUP(C40,Debiteuren!$A$2:$J$9998,10,0))&\"\"","v":""},{"$f":"IF(C40=\"\",\"\",VLOOKUP(C40,Debiteuren!$A$2:$O$9998,15,0)&\"\"&VLOOKUP(C40,Debiteuren!$A$2:$N$9998,14,0))","v":""},null,"","",0,""]
[null,null,null,null,null,null,null,null,null,null,"",null,null,"",null,null,null,null,null,0,null,{"$f":"IF(C41=\"\",\"\",VLOOKUP(C41,Debiteuren!$A$2:$J$9998,10,0))&\"\"","v":""},{"$f":"IF(C41=\"\",\"\",VLOOKUP(C41,Debiteuren!$A$2:$O$9998,15,0)&\"\"&VLOOKUP(C41,Debiteuren!$A$2:$N$9998,14,0))","v":""},null,"","",0,""]
[null,null,null,null,null,null,null,null,null,null,"",null,null,"",null,null,null,null,null,0,null,{"$f":"IF(C42=\"\",\"\",VLOOKUP(C42,Debiteuren!$A$2:$J$9998,10,0))&\"\"","v":""},{"$f":"IF(C42=\"\",\"\",VLOOKUP(C42,Debiteuren!$A$2:$O$9998,15,0)&\"\"&VLOOKUP(C42,Debiteuren!$A$2:$N$9998,14,0))","v":""},null,"","",0,""]
[null,null,null,null,null,null,null,null,null,null,"",null,null,"",null,null,null,null,null,0,null,{"$f":"IF(C43=\"\",\"\",VLOOKUP(C43,Debiteuren!$A$2:$J$9998,10,0))&\"\"","v":""},{"$f":"IF(C43=\"\",\"\",VLOOKUP(C43,Debiteuren!$A$2:$O$9998,15,0)&\"\"&VLOOKUP(C43,Debiteuren!$A$2:$N$9998,14,0))","v":""},null,"","",0,""]
[null,null,null,null,null,null,null,null,null,null,"",null,null,"",null,null,null,null,null,0,null,{"$f":"IF(C44=\"\",\"\",VLOOKUP(C44,Debiteuren!$A$2:$J$9998,10,0))&\"\"","v":""},{"$f":"IF(C44=\"\",\"\",VLOOKUP(C44,Debiteuren!$A$2:$O$9998,15,0)&\"\"&VLOOKUP(C44,Debiteuren!$A$2:$N$9998,14,0))","v":""},null,"","",0,""]
[null,null,null,null,null,null,null,null,null,null,"",null,null,"",null,null,null,null,null,0,null,{"$f":"IF(C45=\"\",\"\",VLOOKUP(C45,Debiteuren!$A$2:$J$9998,10,0))&\"\"","v":""},{"$f":"IF(C45=\"\",\"\",VLOOKUP(C45,Debiteuren!$A$2:$O$9998,15,0)&\"\"&VLOOKUP(C45,Debiteuren!$A$2:$N$9998,14,0))","v":""},null,"","",0,""]
[null,null,null,null,null,null,null,null,null,null,"",null,null,"",null,null,null,null,null,0,null,{"$f":"IF(C46=\"\",\"\",VLOOKUP(C46,Debiteuren!$A$2:$J$9998,10,0))&\"\"","v":""},{"$f":"IF(C46=\"\",\"\",VLOOKUP(C46,Debiteuren!$A$2:$O$9998,15,0)&\"\"&VLOOKUP(C46,Debiteuren!$A$2:$N$9998,14,0))","v":""},null,{"$f":"IF(D46=\"\",\"\",DATEDIF(D46,TODAY(),\"d\"))","v":""},{"$f":"IF(G46=\"\",\"\",DATEDIF(D46,G46,\"d\"))","v":""},{"$f":"DATEDIF(D46,H46,\"d\")","v":0},{"$f":"IF(Y46=\"\",\"\",Y46-AA46)","v":""}]
[null,null,null,null,null,null,null,null,null,null,"",null,null,"",null,null,null,null,null,{"$f":"IF(B47=1,E47,0)","v":0},null,{"$f":"IF(C47=\"\",\"\",VLOOKUP(C47,Debiteuren!$A$2:$J$9998,10,0))&\"\"","v":""},{"$f":"IF(C47=\"\",\"\",VLOOKUP(C47,Debiteuren!$A$2:$O$9998,15,0)&\"\"&VLOOKUP(C47,Debiteuren!$A$2:$N$9998,14,0))","v":""},null,"","",0,""]
[null,null,null,null,null,null,null,null,null,null,"",null,null,"",null,null,null,null,null,0,null,{"$f":"IF(C48=\"\",\"\",VLOOKUP(C48,Debiteuren!$A$2:$J$9998,10,0))&\"\"","v":""},{"$f":"IF(C48=\"\",\"\",VLOOKUP(C48,Debiteuren!$A$2:$O$9998,15,0)&\"\"&VLOOKUP(C48,Debiteuren!$A$2:$N$9998,14,0))","v":""},null,"","",0,""]
[null,null,null,null,null,null,null,null,null,null,"",null,null,"",null,null,null,null,null,0,null,{"$f":"IF(C49=\"\",\"\",VLOOKUP(C49,Debiteuren!$A$2:$J$9998,10,0))&\"\"","v":""},{"$f":"IF(C49=\"\",\"\",VLOOKUP(C49,Debiteuren!$A$2:$O$9998,15,0)&\"\"&VLOOKUP(C49,Debiteuren!$A$2:$N$9998,14,0))","v":""},null,"","",0,""]
[null,null,null,null,null,null,null,null,null,null,"",null,null,"",null,null,null,null,null,0,null,{"$f":"IF(C50=\"\",\"\",VLOOKUP(C50,Debiteuren!$A$2:$J$9998,10,0))&\"\"","v":""},{"$f":"IF(C50=\"\",\"\",VLOOKUP(C50,Debiteuren!$A$2:$O$9998,15,0)&\"\"&VLOOKUP(C50,Debiteuren!$A$2:$N$9998,14,0))","v":""},null,"","",0,""]
[null,null,null,null,null,null,null,null,null,null,"",null,null,"",null,null,null,null,null,0,null,{"$f":"IF(C51=\"\",\"\",VLOOKUP(C51,Debiteuren!$A$2:$J$9998,10,0))&\"\"","v":""},{"$f":"IF(C51=\"\",\"\",VLOOKUP(C51,Debiteuren!$A$2:$O$9998,15,0)&\"\"&VLOOKUP(C51,Debiteuren!$A$2:$N$9998,14,0))","v":""},null,"","",0,""]
[null,null,null,null,null,null,null,null,null,null,"",null,null,"",null,null,null,null,null,0,null,{"$f":"IF(C52=\"\",\"\",VLOOKUP(C52,Debiteuren!$A$2:$J$9998,10,0))&\"\"","v":""},{"$f":"IF(C52=\"\",\"\",VLOOKUP(C52,Debiteuren!$A$2:$O$9998,15,0)&\"\"&VLOOKUP(C52,Debiteuren!$A$2:$N$9998,14,0))","v":""},null,"","",0,""]
[null,null,null,null,null,null,null,null,null,null,"",null,null,"",null,null,null,null,null,0,null,{"$f":"IF(C53=\"\",\"\",VLOOKUP(C53,Debiteuren!$A$2:$J$9998,10,0))&\"\"","v":""},{"$f":"IF(C53=\"\",\"\",VLOOKUP(C53,Debiteuren!$A$2:$O$9998,15,0)&\"\"&VLOOKUP(C53,Debiteuren!$A$2:$N$9998,14,0))","v":""},null,"","",0,""]
[null,null,null,null,null,null,null,null,null,null,"",null,null,"",null,null,null,null,null,0,null,{"$f":"IF(C54=\"\",\"\",VLOOKUP(C54,Debiteuren!$A$2:$J$9998,10,0))&\"\"","v":""},{"$f":"IF(C54=\"\",\"\",VLOOKUP(C54,Debiteuren!$A$2:$O$9998,15,0)&\"\"&VLOOKUP(C54,Debiteuren!$A$2:$N$9998,14,0))","v":""},null,"","",0,""]
[null,null,null,null,null,null,null,null,null,null,"",null,null,"",null,null,null,null,null,0,null,{"$f":"IF(C55=\"\",\"\",VLOOKUP(C55,Debiteuren!$A$2:$J$9998,10,0))&\"\"","v":""},{"$f":"IF(C55=\"\",\"\",VLOOKUP(C55,Debiteuren!$A$2:$O$9998,15,0)&\"\"&VLOOKUP(C55,Debiteuren!$A$2:$N$9998,14,0))","v":""},null,"","",0,""]
[null,null,null,null,null,null,null,null,null,null,"",null,null,"",null,null,null,null,null,0,null,{"$f":"IF(C56=\"\",\"\",VLOOKUP(C56,Debiteuren!$A$2:$J$9998,10,0))&\"\"","v":""},{"$f":"IF(C56=\"\",\"\",VLOOKUP(C56,Debiteuren!$A$2:$O$9998,15,0)&\"\"&VLOOKUP(C56,Debiteuren!$A$2:$N$9998,14,0))","v":""},null,"","",0,""]
[null,null,null,null,null,null,null,null,null,null,{"$f":"IF(D57=\"\",\"\",\"\"&\"Kwartaal \"&MONTH(MONTH(D57)&0)&TEXT(D57,\" - mmm JJJJ\"))","v":""},null,null,{"$f":"IF(E57=\"\",\"\",(E57)-(F57))","v":""},null,null,null,null,null,0,null,{"$f":"IF(C57=\"\",\"\",VLOOKUP(C57,Debiteuren!$A$2:$J$9998,10,0))&\"\"","v":""},{"$f":"IF(C57=\"\",\"\",VLOOKUP(C57,Debiteuren!$A$2:$O$9998,15,0)&\"\"&VLOOKUP(C57,Debiteuren!$A$2:$N$9998,14,0))","v":""},null,"","",0,""]
[null,null,null,null,null,null,null,null,null,null,"",null,null,"",null,null,null,null,null,0,null,{"$f":"IF(C58=\"\",\"\",VLOOKUP(C58,Debiteuren!$A$2:$J$9998,10,0))&\"\"","v":""},{"$f":"IF(C58=\"\",\"\",VLOOKUP(C58,Debiteuren!$A$2:$O$9998,15,0)&\"\"&VLOOKUP(C58,Debiteuren!$A$2:$N$9998,14,0))","v":""},null,"","",0,""]
[null,null,null,null,null,null,null,null,null,null,"",null,null,"",null,null,null,null,null,0,null,{"$f":"IF(C59=\"\",\"\",VLOOKUP(C59,Debiteuren!$A$2:$J$9998,10,0))&\"\"","v":""},{"$f":"IF(C59=\"\",\"\",VLOOKUP(C59,Debiteuren!$A$2:$O$9998,15,0)&\"\"&VLOOKUP(C59,Debiteuren!$A$2:$N$9998,14,0))","v":""},null,"","",0,""]
[null,null,null,null,null,null,null,null,null,null,"",null,null,"",null,null,null,null,null,0,null,{"$f":"IF(C60=\"\",\"\",VLOOKUP(C60,Debiteuren!$A$2:$J$9998,10,0))&\"\"","v":""},{"$f":"IF(C60=\"\",\"\",VLOOKUP(C60,Debiteuren!$A$2:$O$9998,15,0)&\"\"&VLOOKUP(C60,Debiteuren!$A$2:$N$9998,14,0))","v":""},null,"","",0,""]
[null,null,null,null,null,null,null,null,null,null,"",null,null,"",null,null,null,null,null,0,null,{"$f":"IF(C61=\"\",\"\",VLOOKUP(C61,Debiteuren!$A$2:$J$9998,10,0))&\"\"","v":""},{"$f":"IF(C61=\"\",\"\",VLOOKUP(C61,Debiteuren!$A$2:$O$9998,15,0)&\"\"&VLOOKUP(C61,Debiteuren!$A$2:$N$9998,14,0))","v":""},null,"","",0,""]
[null,null,null,null,null,null,null,null,null,null,"",null,null,"",null,null,null,null,null,0,null,{"$f":"IF(C62=\"\",\"\",VLOOKUP(C62,Debiteuren!$A$2:$J$9998,10,0))&\"\"","v":""},{"$f":"IF(C62=\"\",\"\",VLOOKUP(C62,Debiteuren!$A$2:$O$9998,15,0)&\"\"&VLOOKUP(C62,Debiteuren!$A$2:$N$9998,14,0))","v":""},null,"","",0,""]
[null,null,null,null,null,null,null,null,null,null,"",null,null,"",null,null,null,null,null,0,null,{"$f":"IF(C63=\"\",\"\",VLOOKUP(C63,Debiteuren!$A$2:$J$9998,10,0))&\"\"","v":""},{"$f":"IF(C63=\"\",\"\",VLOOKUP(C63,Debiteuren!$A$2:$O$9998,15,0)&\"\"&VLOOKUP(C63,Debiteuren!$A$2:$N$9998,14,0))","v":""},null,"","",0,""]
[null,null,null,null,null,null,null,null,null,null,"",null,null,"",null,null,null,null,null,0,null,{"$f":"IF(C64=\"\",\"\",VLOOKUP(C64,Debiteuren!$A$2:$J$9998,10,0))&\"\"","v":""},{"$f":"IF(C64=\"\",\"\",VLOOKUP(C64,Debiteuren!$A$2:$O$9998,15,0)&\"\"&VLOOKUP(C64,Debiteuren!$A$2:$N$9998,14,0))","v":""},null,"","",0,""]
[null,null,null,null,null,null,null,null,null,null,"",null,null,"",null,null,null,null,null,0,null,{"$f":"IF(C65=\"\",\"\",VLOOKUP(C65,Debiteuren!$A$2:$J$9998,10,0))&\"\"","v":""},{"$f":"IF(C65=\"\",\"\",VLOOKUP(C65,Debiteuren!$A$2:$O$9998,15,0)&\"\"&VLOOKUP(C65,Debiteuren!$A$2:$N$9998,14,0))","v":""},null,"","",0,""]
[null,null,null,null,null,null,null,null,null,null,"",null,null,"",null,null,null,null,null,0,null,{"$f":"IF(C66=\"\",\"\",VLOOKUP(C66,Debiteuren!$A$2:$J$9998,10,0))&\"\"","v":""},{"$f":"IF(C66=\"\",\"\",VLOOKUP(C66,Debiteuren!$A$2:$O$9998,15,0)&\"\"&VLOOKUP(C66,Debiteuren!$A$2:$N$9998,14,0))","v":""},null,"","",0,""]
[null,null,null,null,null,null,null,null,null,null,"",null,null,"",null,null,null,null,null,0,null,{"$f":"IF(C67=\"\",\"\",VLOOKUP(C67,Debiteuren!$A$2:$J$9998,10,0))&\"\"","v":""},{"$f":"IF(C67=\"\",\"\",VLOOKUP(C67,Debiteuren!$A$2:$O$9998,15,0)&\"\"&VLOOKUP(C67,Debiteuren!$A$2:$N$9998,14,0))","v":""},null,"","",0,""]
[null,null,null,null,null,null,null,null,null,null,"",null,null,"",null,null,null,null,null,0,null,{"$f":"IF(C68=\"\",\"\",VLOOKUP(C68,Debiteuren!$A$2:$J$9998,10,0))&\"\"","v":""},{"$f":"IF(C68=\"\",\"\",VLOOKUP(C68,Debiteuren!$A$2:$O$9998,15,0)&\"\"&VLOOKUP(C68,Debiteuren!$A$2:$N$9998,14,0))","v":""},null,"","",0,""]
[null,null,null,null,null,null,null,null,null,null,"",null,null,"",null,null,null,null,null,0,null,{"$f":"IF(C69=\"\",\"\",VLOOKUP(C69,Debiteuren!$A$2:$J$9998,10,0))&\"\"","v":""},{"$f":"IF(C69=\"\",\"\",VLOOKUP(C69,Debiteuren!$A$2:$O$9998,15,0)&\"\"&VLOOKUP(C69,Debiteuren!$A$2:$N$9998,14,0))","v":""},null,"","",0,""]
[null,null,null,null,null,null,null,null,null,null,"",null,null,"",null,null,null,null,null,0,null,{"$f":"IF(C70=\"\",\"\",VLOOKUP(C70,Debiteuren!$A$2:$J$9998,10,0))&\"\"","v":""},{"$f":"IF(C70=\"\",\"\",VLOOKUP(C70,Debiteuren!$A$2:$O$9998,15,0)&\"\"&VLOOKUP(C70,Debiteuren!$A$2:$N$9998,14,0))","v":""},null,"","",0,""]
[null,null,null,null,null,null,null,null,null,null,"",null,null,"",null,null,null,null,null,0,null,{"$f":"IF(C71=\"\",\"\",VLOOKUP(C71,Debiteuren!$A$2:$J$9998,10,0))&\"\"","v":""},{"$f":"IF(C71=\"\",\"\",VLOOKUP(C71,Debiteuren!$A$2:$O$9998,15,0)&\"\"&VLOOKUP(C71,Debiteuren!$A$2:$N$9998,14,0))","v":""},null,"","",0,""]
[null,null,null,null,null,null,null,null,null,null,"",null,null,"",null,null,null,null,null,0,null,{"$f":"IF(C72=\"\",\"\",VLOOKUP(C72,Debiteuren!$A$2:$J$9998,10,0))&\"\"","v":""},{"$f":"IF(C72=\"\",\"\",VLOOKUP(C72,Debiteuren!$A$2:$O$9998,15,0)&\"\"&VLOOKUP(C72,Debiteuren!$A$2:$N$9998,14,0))","v":""},null,"","",0,""]
[null,null,null,null,null,null,null,null,null,null,"",null,null,"",null,null,null,null,null,0,null,{"$f":"IF(C73=\"\",\"\",VLOOKUP(C73,Debiteuren!$A$2:$J$9998,10,0))&\"\"","v":""},{"$f":"IF(C73=\"\",\"\",VLOOKUP(C73,Debiteuren!$A$2:$O$9998,15,0)&\"\"&VLOOKUP(C73,Debiteuren!$A$2:$N$9998,14,0))","v":""},null,"","",0,""]
[null,null,null,null,null,null,null,null,null,null,"",null,null,"",null,null,null,null,null,0,null,{"$f":"IF(C74=\"\",\"\",VLOOKUP(C74,Debiteuren!$A$2:$J$9998,10,0))&\"\"","v":""},{"$f":"IF(C74=\"\",\"\",VLOOKUP(C74,Debiteuren!$A$2:$O$9998,15,0)&\"\"&VLOOKUP(C74,Debiteuren!$A$2:$N$9998,14,0))","v":""},null,"","",0,""]
[null,null,null,null,null,null,null,null,null,null,"",null,null,"",null,null,null,null,null,0,null,{"$f":"IF(C75=\"\",\"\",VLOOKUP(C75,Debiteuren!$A$2:$J$9998,10,0))&\"\"","v":""},{"$f":"IF(C75=\"\",\"\",VLOOKUP(C75,Debiteuren!$A$2:$O$9998,15,0)&\"\"&VLOOKUP(C75,Debiteuren!$A$2:$N$9998,14,0))","v":""},null,"","",0,""]
[null,null,null,null,null,null,null,null,null,null,"",null,null,"",null,null,null,null,null,0,null,{"$f":"IF(C76=\"\",\"\",VLOOKUP(C76,Debiteuren!$A$2:$J$9998,10,0))&\"\"","v":""},{"$f":"IF(C76=\"\",\"\",VLOOKUP(C76,Debiteuren!$A$2:$O$9998,15,0)&\"\"&VLOOKUP(C76,Debiteuren!$A$2:$N$9998,14,0))","v":""},null,"","",0,""]
[null,null,null,null,null,null,null,null,null,null,"",null,null,"",null,null,null,null,null,0,null,{"$f":"IF(C77=\"\",\"\",VLOOKUP(C77,Debiteuren!$A$2:$J$9998,10,0))&\"\"","v":""},{"$f":"IF(C77=\"\",\"\",VLOOKUP(C77,Debiteuren!$A$2:$O$9998,15,0)&\"\"&VLOOKUP(C77,Debiteuren!$A$2:$N$9998,14,0))","v":""},null,"","",0,""]
[null,null,null,null,null,null,null,null,null,null,"",null,null,"",null,null,null,null,null,0,null,{"$f":"IF(C78=\"\",\"\",VLOOKUP(C78,Debiteuren!$A$2:$J$9998,10,0))&\"\"","v":""},{"$f":"IF(C78=\"\",\"\",VLOOKUP(C78,Debiteuren!$A$2:$O$9998,15,0)&\"\"&VLOOKUP(C78,Debiteuren!$A$2:$N$9998,14,0))","v":""},null,"","",0,""]
[null,null,null,null,null,null,null,null,null,null,"",null,null,"",null,null,null,null,null,0,null,{"$f":"IF(C79=\"\",\"\",VLOOKUP(C79,Debiteuren!$A$2:$J$9998,10,0))&\"\"","v":""},{"$f":"IF(C79=\"\",\"\",VLOOKUP(C79,Debiteuren!$A$2:$O$9998,15,0)&\"\"&VLOOKUP(C79,Debiteuren!$A$2:$N$9998,14,0))","v":""},null,"","",0,""]
[null,null,null,null,null,null,null,null,null,null,"",null,null,"",null,null,null,null,null,0,null,{"$f":"IF(C80=\"\",\"\",VLOOKUP(C80,Debiteuren!$A$2:$J$9998,10,0))&\"\"","v":""},{"$f":"IF(C80=\"\",\"\",VLOOKUP(C80,Debiteuren!$A$2:$O$9998,15,0)&\"\"&VLOOKUP(C80,Debiteuren!$A$2:$N$9998,14,0))","v":""},null,"","",0,""]
[null,null,null,null,null,null,null,null,null,null,"",null,null,"",null,null,null,null,null,0,null,{"$f":"IF(C81=\"\",\"\",VLOOKUP(C81,Debiteuren!$A$2:$J$9998,10,0))&\"\"","v":""},{"$f":"IF(C81=\"\",\"\",VLOOKUP(C81,Debiteuren!$A$2:$O$9998,15,0)&\"\"&VLOOKUP(C81,Debiteuren!$A$2:$N$9998,14,0))","v":""},null,"","",0,""]
[null,null,null,null,null,null,null,null,null,null,"",null,null,"",null,null,null,null,null,0,null,{"$f":"IF(C82=\"\",\"\",VLOOKUP(C82,Debiteuren!$A$2:$J$9998,10,0))&\"\"","v":""},{"$f":"IF(C82=\"\",\"\",VLOOKUP(C82,Debiteuren!$A$2:$O$9998,15,0)&\"\"&VLOOKUP(C82,Debiteuren!$A$2:$N$9998,14,0))","v":""},null,"","",0,""]
[null,null,null,null,null,null,null,null,null,null,"",null,null,"",null,null,null,null,null,0,null,{"$f":"IF(C83=\"\",\"\",VLOOKUP(C83,Debiteuren!$A$2:$J$9998,10,0))&\"\"","v":""},{"$f":"IF(C83=\"\",\"\",VLOOKUP(C83,Debiteuren!$A$2:$O$9998,15,0)&\"\"&VLOOKUP(C83,Debiteuren!$A$2:$N$9998,14,0))","v":""},null,"","",0,""]
[null,null,null,null,null,null,null,null,null,null,"",null,null,"",null,null,null,null,null,0,null,{"$f":"IF(C84=\"\",\"\",VLOOKUP(C84,Debiteuren!$A$2:$J$9998,10,0))&\"\"","v":""},{"$f":"IF(C84=\"\",\"\",VLOOKUP(C84,Debiteuren!$A$2:$O$9998,15,0)&\"\"&VLOOKUP(C84,Debiteuren!$A$2:$N$9998,14,0))","v":""},null,"","",0,""]
[null,null,null,null,null,null,null,null,null,null,"",null,null,"",null,null,null,null,null,0,null,{"$f":"IF(C85=\"\",\"\",VLOOKUP(C85,Debiteuren!$A$2:$J$9998,10,0))&\"\"","v":""},{"$f":"IF(C85=\"\",\"\",VLOOKUP(C85,Debiteuren!$A$2:$O$9998,15,0)&\"\"&VLOOKUP(C85,Debiteuren!$A$2:$N$9998,14,0))","v":""},null,"","",0,""]
[null,null,null,null,null,null,null,null,null,null,"",null,null,"",null,null,null,null,null,0,null,{"$f":"IF(C86=\"\",\"\",VLOOKUP(C86,Debiteuren!$A$2:$J$9998,10,0))&\"\"","v":""},{"$f":"IF(C86=\"\",\"\",VLOOKUP(C86,Debiteuren!$A$2:$O$9998,15,0)&\"\"&VLOOKUP(C86,Debiteuren!$A$2:$N$9998,14,0))","v":""},null,"","",0,""]
[null,null,null,null,null,null,null,null,null,null,"",null,null,"",null,null,null,null,null,0,null,{"$f":"IF(C87=\"\",\"\",VLOOKUP(C87,Debiteuren!$A$2:$J$9998,10,0))&\"\"","v":""},{"$f":"IF(C87=\"\",\"\",VLOOKUP(C87,Debiteuren!$A$2:$O$9998,15,0)&\"\"&VLOOKUP(C87,Debiteuren!$A$2:$N$9998,14,0))","v":""},null,"","",0,""]
[null,null,null,null,null,null,null,null,null,null,"",null,null,"",null,null,null,null,null,0,null,{"$f":"IF(C88=\"\",\"\",VLOOKUP(C88,Debiteuren!$A$2:$J$9998,10,0))&\"\"","v":""},{"$f":"IF(C88=\"\",\"\",VLOOKUP(C88,Debiteuren!$A$2:$O$9998,15,0)&\"\"&VLOOKUP(C88,Debiteuren!$A$2:$N$9998,14,0))","v":""},null,"","",0,""]
[null,null,null,null,null,null,null,null,null,null,"",null,null,"",null,null,null,null,null,0,null,{"$f":"IF(C89=\"\",\"\",VLOOKUP(C89,Debiteuren!$A$2:$J$9998,10,0))&\"\"","v":""},{"$f":"IF(C89=\"\",\"\",VLOOKUP(C89,Debiteuren!$A$2:$O$9998,15,0)&\"\"&VLOOKUP(C89,Debiteuren!$A$2:$N$9998,14,0))","v":""},null,"","",0,""]
[null,null,null,null,null,null,null,null,null,null,"",null,null,"",null,null,null,null,null,0,null,{"$f":"IF(C90=\"\",\"\",VLOOKUP(C90,Debiteuren!$A$2:$J$9998,10,0))&\"\"","v":""},{"$f":"IF(C90=\"\",\"\",VLOOKUP(C90,Debiteuren!$A$2:$O$9998,15,0)&\"\"&VLOOKUP(C90,Debiteuren!$A$2:$N$9998,14,0))","v":""},null,"","",0,""]
[null,null,null,null,null,null,null,null,null,null,"",null,null,"",null,null,null,null,null,0,null,{"$f":"IF(C91=\"\",\"\",VLOOKUP(C91,Debiteuren!$A$2:$J$9998,10,0))&\"\"","v":""},{"$f":"IF(C91=\"\",\"\",VLOOKUP(C91,Debiteuren!$A$2:$O$9998,15,0)&\"\"&VLOOKUP(C91,Debiteuren!$A$2:$N$9998,14,0))","v":""},null,"","",0,""]
[null,null,null,null,null,null,null,null,null,null,"",null,null,"",null,null,null,null,null,0,null,{"$f":"IF(C92=\"\",\"\",VLOOKUP(C92,Debiteuren!$A$2:$J$9998,10,0))&\"\"","v":""},{"$f":"IF(C92=\"\",\"\",VLOOKUP(C92,Debiteuren!$A$2:$O$9998,15,0)&\"\"&VLOOKUP(C92,Debiteuren!$A$2:$N$9998,14,0))","v":""},null,"","",0,""]
[null,null,null,null,null,null,null,null,null,null,"",null,null,"",null,null,null,null,null,0,null,{"$f":"IF(C93=\"\",\"\",VLOOKUP(C93,Debiteuren!$A$2:$J$9998,10,0))&\"\"","v":""},{"$f":"IF(C93=\"\",\"\",VLOOKUP(C93,Debiteuren!$A$2:$O$9998,15,0)&\"\"&VLOOKUP(C93,Debiteuren!$A$2:$N$9998,14,0))","v":""},null,"","",0,""]
[null,null,null,null,null,null,null,null,null,null,"",null,null,"",null,null,null,null,null,0,null,{"$f":"IF(C94=\"\",\"\",VLOOKUP(C94,Debiteuren!$A$2:$J$9998,10,0))&\"\"","v":""},{"$f":"IF(C94=\"\",\"\",VLOOKUP(C94,Debiteuren!$A$2:$O$9998,15,0)&\"\"&VLOOKUP(C94,Debiteuren!$A$2:$N$9998,14,0))","v":""},null,"","",0,""]
[null,null,null,null,null,null,null,null,null,null,"",null,null,"",null,null,null,null,null,0,null,{"$f":"IF(C95=\"\",\"\",VLOOKUP(C95,Debiteuren!$A$2:$J$9998,10,0))&\"\"","v":""},{"$f":"IF(C95=\"\",\"\",VLOOKUP(C95,Debiteuren!$A$2:$O$9998,15,0)&\"\"&VLOOKUP(C95,Debiteuren!$A$2:$N$9998,14,0))","v":""},null,"","",0,""]
[null,null,null,null,null,null,null,null,null,null,"",null,null,"",null,null,null,null,null,0,null,{"$f":"IF(C96=\"\",\"\",VLOOKUP(C96,Debiteuren!$A$2:$J$9998,10,0))&\"\"","v":""},{"$f":"IF(C96=\"\",\"\",VLOOKUP(C96,Debiteuren!$A$2:$O$9998,15,0)&\"\"&VLOOKUP(C96,Debiteuren!$A$2:$N$9998,14,0))","v":""},null,"","",0,""]
[null,null,null,null,null,null,null,null,null,null,"",null,null,"",null,null,null,null,null,0,null,{"$f":"IF(C97=\"\",\"\",VLOOKUP(C97,Debiteuren!$A$2:$J$9998,10,0))&\"\"","v":""},{"$f":"IF(C97=\"\",\"\",VLOOKUP(C97,Debiteuren!$A$2:$O$9998,15,0)&\"\"&VLOOKUP(C97,Debiteuren!$A$2:$N$9998,14,0))","v":""},null,"","",0,""]
[null,null,null,null,null,null,null,null,null,null,"",null,null,"",null,null,null,null,null,0,null,{"$f":"IF(C98=\"\",\"\",VLOOKUP(C98,Debiteuren!$A$2:$J$9998,10,0))&\"\"","v":""},{"$f":"IF(C98=\"\",\"\",VLOOKUP(C98,Debiteuren!$A$2:$O$9998,15,0)&\"\"&VLOOKUP(C98,Debiteuren!$A$2:$N$9998,14,0))","v":""},null,"","",0,""]
[null,null,null,null,null,null,null,null,null,null,"",null,null,"",null,null,null,null,null,0,null,{"$f":"IF(C99=\"\",\"\",VLOOKUP(C99,Debiteuren!$A$2:$J$9998,10,0))&\"\"","v":""},{"$f":"IF(C99=\"\",\"\",VLOOKUP(C99,Debiteuren!$A$2:$O$9998,15,0)&\"\"&VLOOKUP(C99,Debiteuren!$A$2:$N$9998,14,0))","v":""},null,"","",0,""]
[null,null,null,null,null,null,null,null,null,null,"",null,null,"",null,null,null,null,null,0,null,{"$f":"IF(C100=\"\",\"\",VLOOKUP(C100,Debiteuren!$A$2:$J$9998,10,0))&\"\"","v":""},{"$f":"IF(C100=\"\",\"\",VLOOKUP(C100,Debiteuren!$A$2:$O$9998,15,0)&\"\"&VLOOKUP(C100,Debiteuren!$A$2:$N$9998,14,0))","v":""},null,"","",0,""]
[null,null,null,null,null,null,null,null,null,null,"",null,null,"",null,null,null,null,null,0,null,{"$f":"IF(C101=\"\",\"\",VLOOKUP(C101,Debiteuren!$A$2:$J$9998,10,0))&\"\"","v":""},{"$f":"IF(C101=\"\",\"\",VLOOKUP(C101,Debiteuren!$A$2:$O$9998,15,0)&\"\"&VLOOKUP(C101,Debiteuren!$A$2:$N$9998,14,0))","v":""},null,"","",0,""]
[null,null,null,null,null,null,null,null,null,null,"",null,null,"",null,null,null,null,null,0,null,{"$f":"IF(C102=\"\",\"\",VLOOKUP(C102,Debiteuren!$A$2:$J$9998,10,0))&\"\"","v":""},{"$f":"IF(C102=\"\",\"\",VLOOKUP(C102,Debiteuren!$A$2:$O$9998,15,0)&\"\"&VLOOKUP(C102,Debiteuren!$A$2:$N$9998,14,0))","v":""},null,"","",0,""]
[null,null,null,null,null,null,null,null,null,null,"",null,null,"",null,null,null,null,null,0,null,{"$f":"IF(C103=\"\",\"\",VLOOKUP(C103,Debiteuren!$A$2:$J$9998,10,0))&\"\"","v":""},{"$f":"IF(C103=\"\",\"\",VLOOKUP(C103,Debiteuren!$A$2:$O$9998,15,0)&\"\"&VLOOKUP(C103,Debiteuren!$A$2:$N$9998,14,0))","v":""},null,"","",0,""]
[null,null,null,null,null,null,null,null,null,null,"",null,null,"",null,null,null,null,null,0,null,{"$f":"IF(C104=\"\",\"\",VLOOKUP(C104,Debiteuren!$A$2:$J$9998,10,0))&\"\"","v":""},{"$f":"IF(C104=\"\",\"\",VLOOKUP(C104,Debiteuren!$A$2:$O$9998,15,0)&\"\"&VLOOKUP(C104,Debiteuren!$A$2:$N$9998,14,0))","v":""},null,"","",0,""]
[null,null,null,null,null,null,null,null,null,null,"",null,null,"",null,null,null,null,null,0,null,{"$f":"IF(C105=\"\",\"\",VLOOKUP(C105,Debiteuren!$A$2:$J$9998,10,0))&\"\"","v":""},{"$f":"IF(C105=\"\",\"\",VLOOKUP(C105,Debiteuren!$A$2:$O$9998,15,0)&\"\"&VLOOKUP(C105,Debiteuren!$A$2:$N$9998,14,0))","v":""},null,"","",0,""]
[null,null,null,null,null,null,null,null,null,null,"",null,null,"",null,null,null,null,null,0,null,{"$f":"IF(C106=\"\",\"\",VLOOKUP(C106,Debiteuren!$A$2:$J$9998,10,0))&\"\"","v":""},{"$f":"IF(C106=\"\",\"\",VLOOKUP(C106,Debiteuren!$A$2:$O$9998,15,0)&\"\"&VLOOKUP(C106,Debiteuren!$A$2:$N$9998,14,0))","v":""},null,"","",0,""]
[null,null,null,null,null,null,null,null,null,null,"",null,null,"",null,null,null,null,null,0,null,{"$f":"IF(C107=\"\",\"\",VLOOKUP(C107,Debiteuren!$A$2:$J$9998,10,0))&\"\"","v":""},{"$f":"IF(C107=\"\",\"\",VLOOKUP(C107,Debiteuren!$A$2:$O$9998,15,0)&\"\"&VLOOKUP(C107,Debiteuren!$A$2:$N$9998,14,0))","v":""},null,"","",0,""]
[null,null,null,null,null,null,null,null,null,null,"",null,null,"",null,null,null,null,null,0,null,{"$f":"IF(C108=\"\",\"\",VLOOKUP(C108,Debiteuren!$A$2:$J$9998,10,0))&\"\"","v":""},{"$f":"IF(C108=\"\",\"\",VLOOKUP(C108,Debiteuren!$A$2:$O$9998,15,0)&\"\"&VLOOKUP(C108,Debiteuren!$A$2:$N$9998,14,0))","v":""},null,"","",0,""]
[null,null,null,null,null,null,null,null,null,null,"",null,null,"",null,null,null,null,null,0,null,{"$f":"IF(C109=\"\",\"\",VLOOKUP(C109,Debiteuren!$A$2:$J$9998,10,0))&\"\"","v":""},{"$f":"IF(C109=\"\",\"\",VLOOKUP(C109,Debiteuren!$A$2:$O$9998,15,0)&\"\"&VLOOKUP(C109,Debiteuren!$A$2:$N$9998,14,0))","v":""},null,"","",0,""]
[null,null,null,null,null,null,null,null,null,null,"",null,null,"",null,null,null,null,null,0,null,{"$f":"IF(C110=\"\",\"\",VLOOKUP(C110,Debiteuren!$A$2:$J$9998,10,0))&\"\"","v":""},{"$f":"IF(C110=\"\",\"\",VLOOKUP(C110,Debiteuren!$A$2:$O$9998,15,0)&\"\"&VLOOKUP(C110,Debiteuren!$A$2:$N$9998,14,0))","v":""},null,{"$f":"IF(D110=\"\",\"\",DATEDIF(D110,TODAY(),\"d\"))","v":""},{"$f":"IF(G110=\"\",\"\",DATEDIF(D110,G110,\"d\"))","v":""},{"$f":"DATEDIF(D110,H110,\"d\")","v":0},{"$f":"IF(Y110=\"\",\"\",Y110-AA110)","v":""}]
[null,null,null,null,null,null,null,null,null,null,"",null,null,"",null,null,null,null,null,{"$f":"IF(B111=1,E111,0)","v":0},null,{"$f":"IF(C111=\"\",\"\",VLOOKUP(C111,Debiteuren!$A$2:$J$9998,10,0))&\"\"","v":""},{"$f":"IF(C111=\"\",\"\",VLOOKUP(C111,Debiteuren!$A$2:$O$9998,15,0)&\"\"&VLOOKUP(C111,Debiteuren!$A$2:$N$9998,14,0))","v":""},null,"","",0,""]
[null,null,null,null,null,null,null,null,null,null,"",null,null,"",null,null,null,null,null,0,null,{"$f":"IF(C112=\"\",\"\",VLOOKUP(C112,Debiteuren!$A$2:$J$9998,10,0))&\"\"","v":""},{"$f":"IF(C112=\"\",\"\",VLOOKUP(C112,Debiteuren!$A$2:$O$9998,15,0)&\"\"&VLOOKUP(C112,Debiteuren!$A$2:$N$9998,14,0))","v":""},null,"","",0,""]
[null,null,null,null,null,null,null,null,null,null,"",null,null,"",null,null,null,null,null,0,null,{"$f":"IF(C113=\"\",\"\",VLOOKUP(C113,Debiteuren!$A$2:$J$9998,10,0))&\"\"","v":""},{"$f":"IF(C113=\"\",\"\",VLOOKUP(C113,Debiteuren!$A$2:$O$9998,15,0)&\"\"&VLOOKUP(C113,Debiteuren!$A$2:$N$9998,14,0))","v":""},null,"","",0,""]
[null,null,null,null,null,null,null,null,null,null,"",null,null,"",null,null,null,null,null,0,null,{"$f":"IF(C114=\"\",\"\",VLOOKUP(C114,Debiteuren!$A$2:$J$9998,10,0))&\"\"","v":""},{"$f":"IF(C114=\"\",\"\",VLOOKUP(C114,Debiteuren!$A$2:$O$9998,15,0)&\"\"&VLOOKUP(C114,Debiteuren!$A$2:$N$9998,14,0))","v":""},null,"","",0,""]
[null,null,null,null,null,null,null,null,null,null,"",null,null,"",null,null,null,null,null,0,null,{"$f":"IF(C115=\"\",\"\",VLOOKUP(C115,Debiteuren!$A$2:$J$9998,10,0))&\"\"","v":""},{"$f":"IF(C115=\"\",\"\",VLOOKUP(C115,Debiteuren!$A$2:$O$9998,15,0)&\"\"&VLOOKUP(C115,Debiteuren!$A$2:$N$9998,14,0))","v":""},null,"","",0,""]
[null,null,null,null,null,null,null,null,null,null,"",null,null,"",null,null,null,null,null,0,null,{"$f":"IF(C116=\"\",\"\",VLOOKUP(C116,Debiteuren!$A$2:$J$9998,10,0))&\"\"","v":""},{"$f":"IF(C116=\"\",\"\",VLOOKUP(C116,Debiteuren!$A$2:$O$9998,15,0)&\"\"&VLOOKUP(C116,Debiteuren!$A$2:$N$9998,14,0))","v":""},null,"","",0,""]
[null,null,null,null,null,null,null,null,null,null,"",null,null,"",null,null,null,null,null,0,null,{"$f":"IF(C117=\"\",\"\",VLOOKUP(C117,Debiteuren!$A$2:$J$9998,10,0))&\"\"","v":""},{"$f":"IF(C117=\"\",\"\",VLOOKUP(C117,Debiteuren!$A$2:$O$9998,15,0)&\"\"&VLOOKUP(C117,Debiteuren!$A$2:$N$9998,14,0))","v":""},null,"","",0,""]
[null,null,null,null,null,null,null,null,null,null,"",null,null,"",null,null,null,null,null,0,null,{"$f":"IF(C118=\"\",\"\",VLOOKUP(C118,Debiteuren!$A$2:$J$9998,10,0))&\"\"","v":""},{"$f":"IF(C118=\"\",\"\",VLOOKUP(C118,Debiteuren!$A$2:$O$9998,15,0)&\"\"&VLOOKUP(C118,Debiteuren!$A$2:$N$9998,14,0))","v":""},null,"","",0,""]
[null,null,null,null,null,null,null,null,null,null,"",null,null,"",null,null,null,null,null,0,null,{"$f":"IF(C119=\"\",\"\",VLOOKUP(C119,Debiteuren!$A$2:$J$9998,10,0))&\"\"","v":""},{"$f":"IF(C119=\"\",\"\",VLOOKUP(C119,Debiteuren!$A$2:$O$9998,15,0)&\"\"&VLOOKUP(C119,Debiteuren!$A$2:$N$9998,14,0))","v":""},null,"","",0,""]
[null,null,null,null,null,null,null,null,null,null,"",null,null,"",null,null,null,null,null,0,null,{"$f":"IF(C120=\"\",\"\",VLOOKUP(C120,Debiteuren!$A$2:$J$9998,10,0))&\"\"","v":""},{"$f":"IF(C120=\"\",\"\",VLOOKUP(C120,Debiteuren!$A$2:$O$9998,15,0)&\"\"&VLOOKUP(C120,Debiteuren!$A$2:$N$9998,14,0))","v":""},null,"","",0,""]
[null,null,null,null,null,null,null,null,null,null,{"$f":"IF(D121=\"\",\"\",\"\"&\"Kwartaal \"&MONTH(MONTH(D121)&0)&TEXT(D121,\" - mmm JJJJ\"))","v":""},null,null,{"$f":"IF(E121=\"\",\"\",(E121)-(F121))","v":""},null,null,null,null,null,0,null,{"$f":"IF(C121=\"\",\"\",VLOOKUP(C121,Debiteuren!$A$2:$J$9998,10,0))&\"\"","v":""},{"$f":"IF(C121=\"\",\"\",VLOOKUP(C121,Debiteuren!$A$2:$O$9998,15,0)&\"\"&VLOOKUP(C121,Debiteuren!$A$2:$N$9998,14,0))","v":""},null,"","",0,""]
[null,null,null,null,null,null,null,null,null,null,"",null,null,"",null,null,null,null,null,0,null,{"$f":"IF(C122=\"\",\"\",VLOOKUP(C122,Debiteuren!$A$2:$J$9998,10,0))&\"\"","v":""},{"$f":"IF(C122=\"\",\"\",VLOOKUP(C122,Debiteuren!$A$2:$O$9998,15,0)&\"\"&VLOOKUP(C122,Debiteuren!$A$2:$N$9998,14,0))","v":""},null,"","",0,""]
[null,null,null,null,null,null,null,null,null,null,"",null,null,"",null,null,null,null,null,0,null,{"$f":"IF(C123=\"\",\"\",VLOOKUP(C123,Debiteuren!$A$2:$J$9998,10,0))&\"\"","v":""},{"$f":"IF(C123=\"\",\"\",VLOOKUP(C123,Debiteuren!$A$2:$O$9998,15,0)&\"\"&VLOOKUP(C123,Debiteuren!$A$2:$N$9998,14,0))","v":""},null,"","",0,""]
[null,null,null,null,null,null,null,null,null,null,"",null,null,"",null,null,null,null,null,0,null,{"$f":"IF(C124=\"\",\"\",VLOOKUP(C124,Debiteuren!$A$2:$J$9998,10,0))&\"\"","v":""},{"$f":"IF(C124=\"\",\"\",VLOOKUP(C124,Debiteuren!$A$2:$O$9998,15,0)&\"\"&VLOOKUP(C124,Debiteuren!$A$2:$N$9998,14,0))","v":""},null,"","",0,""]
[null,null,null,null,null,null,null,null,null,null,"",null,null,"",null,null,null,null,null,0,null,{"$f":"IF(C125=\"\",\"\",VLOOKUP(C125,Debiteuren!$A$2:$J$9998,10,0))&\"\"","v":""},{"$f":"IF(C125=\"\",\"\",VLOOKUP(C125,Debiteuren!$A$2:$O$9998,15,0)&\"\"&VLOOKUP(C125,Debiteuren!$A$2:$N$9998,14,0))","v":""},null,"","",0,""]
[null,null,null,null,null,null,null,null,null,null,"",null,null,"",null,null,null,null,null,0,null,{"$f":"IF(C126=\"\",\"\",VLOOKUP(C126,Debiteuren!$A$2:$J$9998,10,0))&\"\"","v":""},{"$f":"IF(C126=\"\",\"\",VLOOKUP(C126,Debiteuren!$A$2:$O$9998,15,0)&\"\"&VLOOKUP(C126,Debiteuren!$A$2:$N$9998,14,0))","v":""},null,"","",0,""]
[null,null,null,null,null,null,null,null,null,null,"",null,null,"",null,null,null,null,null,0,null,{"$f":"IF(C127=\"\",\"\",VLOOKUP(C127,Debiteuren!$A$2:$J$9998,10,0))&\"\"","v":""},{"$f":"IF(C127=\"\",\"\",VLOOKUP(C127,Debiteuren!$A$2:$O$9998,15,0)&\"\"&VLOOKUP(C127,Debiteuren!$A$2:$N$9998,14,0))","v":""},null,"","",0,""]
[null,null,null,null,null,null,null,null,null,null,"",null,null,"",null,null,null,null,null,0,null,{"$f":"IF(C128=\"\",\"\",VLOOKUP(C128,Debiteuren!$A$2:$J$9998,10,0))&\"\"","v":""},{"$f":"IF(C128=\"\",\"\",VLOOKUP(C128,Debiteuren!$A$2:$O$9998,15,0)&\"\"&VLOOKUP(C128,Debiteuren!$A$2:$N$9998,14,0))","v":""},null,"","",0,""]
[null,null,null,null,null,null,null,null,null,null,"",null,null,"",null,null,null,null,null,0,null,{"$f":"IF(C129=\"\",\"\",VLOOKUP(C129,Debiteuren!$A$2:$J$9998,10,0))&\"\"","v":""},{"$f":"IF(C129=\"\",\"\",VLOOKUP(C129,Debiteuren!$A$2:$O$9998,15,0)&\"\"&VLOOKUP(C129,Debiteuren!$A$2:$N$9998,14,0))","v":""},null,"","",0,""]
[null,null,null,null,null,null,null,null,null,null,"",null,null,"",null,null,null,null,null,0,null,{"$f":"IF(C130=\"\",\"\",VLOOKUP(C130,Debiteuren!$A$2:$J$9998,10,0))&\"\"","v":""},{"$f":"IF(C130=\"\",\"\",VLOOKUP(C130,Debiteuren!$A$2:$O$9998,15,0)&\"\"&VLOOKUP(C130,Debiteuren!$A$2:$N$9998,14,0))","v":""},null,"","",0,""]
[null,null,null,null,null,null,null,null,null,null,"",null,null,"",null,null,null,null,null,0,null,{"$f":"IF(C131=\"\",\"\",VLOOKUP(C131,Debiteuren!$A$2:$J$9998,10,0))&\"\"","v":""},{"$f":"IF(C131=\"\",\"\",VLOOKUP(C131,Debiteuren!$A$2:$O$9998,15,0)&\"\"&VLOOKUP(C131,Debiteuren!$A$2:$N$9998,14,0))","v":""},null,"","",0,""]
[null,null,null,null,null,null,null,null,null,null,"",null,null,"",null,null,null,null,null,0,null,{"$f":"IF(C132=\"\",\"\",VLOOKUP(C132,Debiteuren!$A$2:$J$9998,10,0))&\"\"","v":""},{"$f":"IF(C132=\"\",\"\",VLOOKUP(C132,Debiteuren!$A$2:$O$9998,15,0)&\"\"&VLOOKUP(C132,Debiteuren!$A$2:$N$9998,14,0))","v":""},null,"","",0,""]
[null,null,null,null,null,null,null,null,null,null,"",null,null,"",null,null,null,null,null,0,null,{"$f":"IF(C133=\"\",\"\",VLOOKUP(C133,Debiteuren!$A$2:$J$9998,10,0))&\"\"","v":""},{"$f":"IF(C133=\"\",\"\",VLOOKUP(C133,Debiteuren!$A$2:$O$9998,15,0)&\"\"&VLOOKUP(C133,Debiteuren!$A$2:$N$9998,14,0))","v":""},null,"","",0,""]
[null,null,null,null,null,null,null,null,null,null,"",null,null,"",null,null,null,null,null,0,null,{"$f":"IF(C134=\"\",\"\",VLOOKUP(C134,Debiteuren!$A$2:$J$9998,10,0))&\"\"","v":""},{"$f":"IF(C134=\"\",\"\",VLOOKUP(C134,Debiteuren!$A$2:$O$9998,15,0)&\"\"&VLOOKUP(C134,Debiteuren!$A$2:$N$9998,14,0))","v":""},null,"","",0,""]
[null,null,null,null,null,null,null,null,null,null,"",null,null,"",null,null,null,null,null,0,null,{"$f":"IF(C135=\"\",\"\",VLOOKUP(C135,Debiteuren!$A$2:$J$9998,10,0))&\"\"","v":""},{"$f":"IF(C135=\"\",\"\",VLOOKUP(C135,Debiteuren!$A$2:$O$9998,15,0)&\"\"&VLOOKUP(C135,Debiteuren!$A$2:$N$9998,14,0))","v":""},null,"","",0,""]
[null,null,null,null,null,null,null,null,null,null,"",null,null,"",null,null,null,null,null,0,null,{"$f":"IF(C136=\"\",\"\",VLOOKUP(C136,Debiteuren!$A$2:$J$9998,10,0))&\"\"","v":""},{"$f":"IF(C136=\"\",\"\",VLOOKUP(C136,Debiteuren!$A$2:$O$9998,15,0)&\"\"&VLOOKUP(C136,Debiteuren!$A$2:$N$9998,14,0))","v":""},null,"","",0,""]
[null,null,null,null,null,null,null,null,null,null,"",null,null,"",null,null,null,null,null,0,null,{"$f":"IF(C137=\"\",\"\",VLOOKUP(C137,Debiteuren!$A$2:$J$9998,10,0))&\"\"","v":""},{"$f":"IF(C137=\"\",\"\",VLOOKUP(C137,Debiteuren!$A$2:$O$9998,15,0)&\"\"&VLOOKUP(C137,Debiteuren!$A$2:$N$9998,14,0))","v":""},null,"","",0,""]
[null,null,null,null,null,null,null,null,null,null,"",null,null,"",null,null,null,null,null,0,null,{"$f":"IF(C138=\"\",\"\",VLOOKUP(C138,Debiteuren!$A$2:$J$9998,10,0))&\"\"","v":""},{"$f":"IF(C138=\"\",\"\",VLOOKUP(C138,Debiteuren!$A$2:$O$9998,15,0)&\"\"&VLOOKUP(C138,Debiteuren!$A$2:$N$9998,14,0))","v":""},null,"","",0,""]
[null,null,null,null,null,null,null,null,null,null,"",null,null,"",null,null,null,null,null,0,null,{"$f":"IF(C139=\"\",\"\",VLOOKUP(C139,Debiteuren!$A$2:$J$9998,10,0))&\"\"","v":""},{"$f":"IF(C139=\"\",\"\",VLOOKUP(C139,Debiteuren!$A$2:$O$9998,15,0)&\"\"&VLOOKUP(C139,Debiteuren!$A$2:$N$9998,14,0))","v":""},null,"","",0,""]
[null,null,null,null,null,null,null,null,null,null,"",null,null,"",null,null,null,null,null,0,null,{"$f":"IF(C140=\"\",\"\",VLOOKUP(C140,Debiteuren!$A$2:$J$9998,10,0))&\"\"","v":""},{"$f":"IF(C140=\"\",\"\",VLOOKUP(C140,Debiteuren!$A$2:$O$9998,15,0)&\"\"&VLOOKUP(C140,Debiteuren!$A$2:$N$9998,14,0))","v":""},null,"","",0,""]
[null,null,null,null,null,null,null,null,null,null,"",null,null,"",null,null,null,null,null,0,null,{"$f":"IF(C141=\"\",\"\",VLOOKUP(C141,Debiteuren!$A$2:$J$9998,10,0))&\"\"","v":""},{"$f":"IF(C141=\"\",\"\",VLOOKUP(C141,Debiteuren!$A$2:$O$9998,15,0)&\"\"&VLOOKUP(C141,Debiteuren!$A$2:$N$9998,14,0))","v":""},null,"","",0,""]
[null,null,null,null,null,null,null,null,null,null,"",null,null,"",null,null,null,null,null,0,null,{"$f":"IF(C142=\"\",\"\",VLOOKUP(C142,Debiteuren!$A$2:$J$9998,10,0))&\"\"","v":""},{"$f":"IF(C142=\"\",\"\",VLOOKUP(C142,Debiteuren!$A$2:$O$9998,15,0)&\"\"&VLOOKUP(C142,Debiteuren!$A$2:$N$9998,14,0))","v":""},null,"","",0,""]
[null,null,null,null,null,null,null,null,null,null,"",null,null,"",null,null,null,null,null,0,null,{"$f":"IF(C143=\"\",\"\",VLOOKUP(C143,Debiteuren!$A$2:$J$9998,10,0))&\"\"","v":""},{"$f":"IF(C143=\"\",\"\",VLOOKUP(C143,Debiteuren!$A$2:$O$9998,15,0)&\"\"&VLOOKUP(C143,Debiteuren!$A$2:$N$9998,14,0))","v":""},null,"","",0,""]
[null,null,null,null,null,null,null,null,null,null,"",null,null,"",null,null,null,null,null,0,null,{"$f":"IF(C144=\"\",\"\",VLOOKUP(C144,Debiteuren!$A$2:$J$9998,10,0))&\"\"","v":""},{"$f":"IF(C144=\"\",\"\",VLOOKUP(C144,Debiteuren!$A$2:$O$9998,15,0)&\"\"&VLOOKUP(C144,Debiteuren!$A$2:$N$9998,14,0))","v":""},null,"","",0,""]
[null,null,null,null,null,null,null,null,null,null,"",null,null,"",null,null,null,null,null,0,null,{"$f":"IF(C145=\"\",\"\",VLOOKUP(C145,Debiteuren!$A$2:$J$9998,10,0))&\"\"","v":""},{"$f":"IF(C145=\"\",\"\",VLOOKUP(C145,Debiteuren!$A$2:$O$9998,15,0)&\"\"&VLOOKUP(C145,Debiteuren!$A$2:$N$9998,14,0))","v":""},null,"","",0,""]
[null,null,null,null,null,null,null,null,null,null,"",null,null,"",null,null,null,null,null,0,null,{"$f":"IF(C146=\"\",\"\",VLOOKUP(C146,Debiteuren!$A$2:$J$9998,10,0))&\"\"","v":""},{"$f":"IF(C146=\"\",\"\",VLOOKUP(C146,Debiteuren!$A$2:$O$9998,15,0)&\"\"&VLOOKUP(C146,Debiteuren!$A$2:$N$9998,14,0))","v":""},null,"","",0,""]
[null,null,null,null,null,null,null,null,null,null,"",null,null,"",null,null,null,null,null,0,null,{"$f":"IF(C147=\"\",\"\",VLOOKUP(C147,Debiteuren!$A$2:$J$9998,10,0))&\"\"","v":""},{"$f":"IF(C147=\"\",\"\",VLOOKUP(C147,Debiteuren!$A$2:$O$9998,15,0)&\"\"&VLOOKUP(C147,Debiteuren!$A$2:$N$9998,14,0))","v":""},null,"","",0,""]
[null,null,null,null,null,null,null,null,null,null,"",null,null,"",null,null,null,null,null,0,null,{"$f":"IF(C148=\"\",\"\",VLOOKUP(C148,Debiteuren!$A$2:$J$9998,10,0))&\"\"","v":""},{"$f":"IF(C148=\"\",\"\",VLOOKUP(C148,Debiteuren!$A$2:$O$9998,15,0)&\"\"&VLOOKUP(C148,Debiteuren!$A$2:$N$9998,14,0))","v":""},null,"","",0,""]
[null,null,null,null,null,null,null,null,null,null,"",null,null,"",null,null,null,null,null,0,null,{"$f":"IF(C149=\"\",\"\",VLOOKUP(C149,Debiteuren!$A$2:$J$9998,10,0))&\"\"","v":""},{"$f":"IF(C149=\"\",\"\",VLOOKUP(C149,Debiteuren!$A$2:$O$9998,15,0)&\"\"&VLOOKUP(C149,Debiteuren!$A$2:$N$9998,14,0))","v":""},null,"","",0,""]
[null,null,null,null,null,null,null,null,null,null,"",null,null,"",null,null,null,null,null,0,null,{"$f":"IF(C150=\"\",\"\",VLOOKUP(C150,Debiteuren!$A$2:$J$9998,10,0))&\"\"","v":""},{"$f":"IF(C150=\"\",\"\",VLOOKUP(C150,Debiteuren!$A$2:$O$9998,15,0)&\"\"&VLOOKUP(C150,Debiteuren!$A$2:$N$9998,14,0))","v":""},null,"","",0,""]
[null,null,null,null,null,null,null,null,null,null,"",null,null,"",null,null,null,null,null,0,null,{"$f":"IF(C151=\"\",\"\",VLOOKUP(C151,Debiteuren!$A$2:$J$9998,10,0))&\"\"","v":""},{"$f":"IF(C151=\"\",\"\",VLOOKUP(C151,Debiteuren!$A$2:$O$9998,15,0)&\"\"&VLOOKUP(C151,Debiteuren!$A$2:$N$9998,14,0))","v":""},null,"","",0,""]
[null,null,null,null,null,null,null,null,null,null,"",null,null,"",null,null,null,null,null,0,null,{"$f":"IF(C152=\"\",\"\",VLOOKUP(C152,Debiteuren!$A$2:$J$9998,10,0))&\"\"","v":""},{"$f":"IF(C152=\"\",\"\",VLOOKUP(C152,Debiteuren!$A$2:$O$9998,15,0)&\"\"&VLOOKUP(C152,Debiteuren!$A$2:$N$9998,14,0))","v":""},null,"","",0,""]
[null,null,null,null,null,null,null,null,null,null,"",null,null,"",null,null,null,null,null,0,null,{"$f":"IF(C153=\"\",\"\",VLOOKUP(C153,Debiteuren!$A$2:$J$9998,10,0))&\"\"","v":""},{"$f":"IF(C153=\"\",\"\",VLOOKUP(C153,Debiteuren!$A$2:$O$9998,15,0)&\"\"&VLOOKUP(C153,Debiteuren!$A$2:$N$9998,14,0))","v":""},null,"","",0,""]
[null,null,null,null,null,null,null,null,null,null,"",null,null,"",null,null,null,null,null,0,null,{"$f":"IF(C154=\"\",\"\",VLOOKUP(C154,Debiteuren!$A$2:$J$9998,10,0))&\"\"","v":""},{"$f":"IF(C154=\"\",\"\",VLOOKUP(C154,Debiteuren!$A$2:$O$9998,15,0)&\"\"&VLOOKUP(C154,Debiteuren!$A$2:$N$9998,14,0))","v":""},null,"","",0,""]
[null,null,null,null,null,null,null,null,null,null,"",null,null,"",null,null,null,null,null,0,null,{"$f":"IF(C155=\"\",\"\",VLOOKUP(C155,Debiteuren!$A$2:$J$9998,10,0))&\"\"","v":""},{"$f":"IF(C155=\"\",\"\",VLOOKUP(C155,Debiteuren!$A$2:$O$9998,15,0)&\"\"&VLOOKUP(C155,Debiteuren!$A$2:$N$9998,14,0))","v":""},null,"","",0,""]
[null,null,null,null,null,null,null,null,null,null,"",null,null,"",null,null,null,null,null,0,null,{"$f":"IF(C156=\"\",\"\",VLOOKUP(C156,Debiteuren!$A$2:$J$9998,10,0))&\"\"","v":""},{"$f":"IF(C156=\"\",\"\",VLOOKUP(C156,Debiteuren!$A$2:$O$9998,15,0)&\"\"&VLOOKUP(C156,Debiteuren!$A$2:$N$9998,14,0))","v":""},null,"","",0,""]
[null,null,null,null,null,null,null,null,null,null,"",null,null,"",null,null,null,null,null,0,null,{"$f":"IF(C157=\"\",\"\",VLOOKUP(C157,Debiteuren!$A$2:$J$9998,10,0))&\"\"","v":""},{"$f":"IF(C157=\"\",\"\",VLOOKUP(C157,Debiteuren!$A$2:$O$9998,15,0)&\"\"&VLOOKUP(C157,Debiteuren!$A$2:$N$9998,14,0))","v":""},null,"","",0,""]
[null,null,null,null,null,null,null,null,null,null,"",null,null,"",null,null,null,null,null,0,null,{"$f":"IF(C158=\"\",\"\",VLOOKUP(C158,Debiteuren!$A$2:$J$9998,10,0))&\"\"","v":""},{"$f":"IF(C158=\"\",\"\",VLOOKUP(C158,Debiteuren!$A$2:$O$9998,15,0)&\"\"&VLOOKUP(C158,Debiteuren!$A$2:$N$9998,14,0))","v":""},null,"","",0,""]
[null,null,null,null,null,null,null,null,null,null,"",null,null,"",null,null,null,null,null,0,null,{"$f":"IF(C159=\"\",\"\",VLOOKUP(C159,Debiteuren!$A$2:$J$9998,10,0))&\"\"","v":""},{"$f":"IF(C159=\"\",\"\",VLOOKUP(C159,Debiteuren!$A$2:$O$9998,15,0)&\"\"&VLOOKUP(C159,Debiteuren!$A$2:$N$9998,14,0))","v":""},null,"","",0,""]
[null,null,null,null,null,null,null,null,null,null,"",null,null,"",null,null,null,null,null,0,null,{"$f":"IF(C160=\"\",\"\",VLOOKUP(C160,Debiteuren!$A$2:$J$9998,10,0))&\"\"","v":""},{"$f":"IF(C160=\"\",\"\",VLOOKUP(C160,Debiteuren!$A$2:$O$9998,15,0)&\"\"&VLOOKUP(C160,Debiteuren!$A$2:$N$9998,14,0))","v":""},null,"","",0,""]
[null,null,null,null,null,null,null,null,null,null,"",null,null,"",null,null,null,null,null,0,null,{"$f":"IF(C161=\"\",\"\",VLOOKUP(C161,Debiteuren!$A$2:$J$9998,10,0))&\"\"","v":""},{"$f":"IF(C161=\"\",\"\",VLOOKUP(C161,Debiteuren!$A$2:$O$9998,15,0)&\"\"&VLOOKUP(C161,Debiteuren!$A$2:$N$9998,14,0))","v":""},null,"","",0,""]
[null,null,null,null,null,null,null,null,null,null,"",null,null,"",null,null,null,null,null,0,null,{"$f":"IF(C162=\"\",\"\",VLOOKUP(C162,Debiteuren!$A$2:$J$9998,10,0))&\"\"","v":""},{"$f":"IF(C162=\"\",\"\",VLOOKUP(C162,Debiteuren!$A$2:$O$9998,15,0)&\"\"&VLOOKUP(C162,Debiteuren!$A$2:$N$9998,14,0))","v":""},null,"","",0,""]
[null,null,null,null,null,null,null,null,null,null,"",null,null,"",null,null,null,null,null,0,null,{"$f":"IF(C163=\"\",\"\",VLOOKUP(C163,Debiteuren!$A$2:$J$9998,10,0))&\"\"","v":""},{"$f":"IF(C163=\"\",\"\",VLOOKUP(C163,Debiteuren!$A$2:$O$9998,15,0)&\"\"&VLOOKUP(C163,Debiteuren!$A$2:$N$9998,14,0))","v":""},null,"","",0,""]
[null,null,null,null,null,null,null,null,null,null,"",null,null,"",null,null,null,null,null,0,null,{"$f":"IF(C164=\"\",\"\",VLOOKUP(C164,Debiteuren!$A$2:$J$9998,10,0))&\"\"","v":""},{"$f":"IF(C164=\"\",\"\",VLOOKUP(C164,Debiteuren!$A$2:$O$9998,15,0)&\"\"&VLOOKUP(C164,Debiteuren!$A$2:$N$9998,14,0))","v":""},null,"","",0,""]
[null,null,null,null,null,null,null,null,null,null,"",null,null,"",null,null,null,null,null,0,null,{"$f":"IF(C165=\"\",\"\",VLOOKUP(C165,Debiteuren!$A$2:$J$9998,10,0))&\"\"","v":""},{"$f":"IF(C165=\"\",\"\",VLOOKUP(C165,Debiteuren!$A$2:$O$9998,15,0)&\"\"&VLOOKUP(C165,Debiteuren!$A$2:$N$9998,14,0))","v":""},null,"","",0,""]
[null,null,null,null,null,null,null,null,null,null,"",null,null,"",null,null,null,null,null,0,null,{"$f":"IF(C166=\"\",\"\",VLOOKUP(C166,Debiteuren!$A$2:$J$9998,10,0))&\"\"","v":""},{"$f":"IF(C166=\"\",\"\",VLOOKUP(C166,Debiteuren!$A$2:$O$9998,15,0)&\"\"&VLOOKUP(C166,Debiteuren!$A$2:$N$9998,14,0))","v":""},null,"","",0,""]
[null,null,null,null,null,null,null,null,null,null,"",null,null,"",null,null,null,null,null,0,null,{"$f":"IF(C167=\"\",\"\",VLOOKUP(C167,Debiteuren!$A$2:$J$9998,10,0))&\"\"","v":""},{"$f":"IF(C167=\"\",\"\",VLOOKUP(C167,Debiteuren!$A$2:$O$9998,15,0)&\"\"&VLOOKUP(C167,Debiteuren!$A$2:$N$9998,14,0))","v":""},null,"","",0,""]
[null,null,null,null,null,null,null,null,null,null,"",null,null,"",null,null,null,null,null,0,null,{"$f":"IF(C168=\"\",\"\",VLOOKUP(C168,Debiteuren!$A$2:$J$9998,10,0))&\"\"","v":""},{"$f":"IF(C168=\"\",\"\",VLOOKUP(C168,Debiteuren!$A$2:$O$9998,15,0)&\"\"&VLOOKUP(C168,Debiteuren!$A$2:$N$9998,14,0))","v":""},null,"","",0,""]
[null,null,null,null,null,null,null,null,null,null,"",null,null,"",null,null,null,null,null,0,null,{"$f":"IF(C169=\"\",\"\",VLOOKUP(C169,Debiteuren!$A$2:$J$9998,10,0))&\"\"","v":""},{"$f":"IF(C169=\"\",\"\",VLOOKUP(C169,Debiteuren!$A$2:$O$9998,15,0)&\"\"&VLOOKUP(C169,Debiteuren!$A$2:$N$9998,14,0))","v":""},null,"","",0,""]
[null,null,null,null,null,null,null,null,null,null,"",null,null,"",null,null,null,null,null,0,null,{"$f":"IF(C170=\"\",\"\",VLOOKUP(C170,Debiteuren!$A$2:$J$9998,10,0))&\"\"","v":""},{"$f":"IF(C170=\"\",\"\",VLOOKUP(C170,Debiteuren!$A$2:$O$9998,15,0)&\"\"&VLOOKUP(C170,Debiteuren!$A$2:$N$9998,14,0))","v":""},null,"","",0,""]
[null,null,null,null,null,null,null,null,null,null,"",null,null,"",null,null,null,null,null,0,null,{"$f":"IF(C171=\"\",\"\",VLOOKUP(C171,Debiteuren!$A$2:$J$9998,10,0))&\"\"","v":""},{"$f":"IF(C171=\"\",\"\",VLOOKUP(C171,Debiteuren!$A$2:$O$9998,15,0)&\"\"&VLOOKUP(C171,Debiteuren!$A$2:$N$9998,14,0))","v":""},null,"","",0,""]
[null,null,null,null,null,null,null,null,null,null,"",null,null,"",null,null,null,null,null,0,null,{"$f":"IF(C172=\"\",\"\",VLOOKUP(C172,Debiteuren!$A$2:$J$9998,10,0))&\"\"","v":""},{"$f":"IF(C172=\"\",\"\",VLOOKUP(C172,Debiteuren!$A$2:$O$9998,15,0)&\"\"&VLOOKUP(C172,Debiteuren!$A$2:$N$9998,14,0))","v":""},null,"","",0,""]
[null,null,null,null,null,null,null,null,null,null,"",null,null,"",null,null,null,null,null,0,null,{"$f":"IF(C173=\"\",\"\",VLOOKUP(C173,Debiteuren!$A$2:$J$9998,10,0))&\"\"","v":""},{"$f":"IF(C173=\"\",\"\",VLOOKUP(C173,Debiteuren!$A$2:$O$9998,15,0)&\"\"&VLOOKUP(C173,Debiteuren!$A$2:$N$9998,14,0))","v":""},null,"","",0,""]
[null,null,null,null,null,null,null,null,null,null,"",null,null,"",null,null,null,null,null,0,null,{"$f":"IF(C174=\"\",\"\",VLOOKUP(C174,Debiteuren!$A$2:$J$9998,10,0))&\"\"","v":""},{"$f":"IF(C174=\"\",\"\",VLOOKUP(C174,Debiteuren!$A$2:$O$9998,15,0)&\"\"&VLOOKUP(C174,Debiteuren!$A$2:$N$9998,14,0))","v":""},null,{"$f":"IF(D174=\"\",\"\",DATEDIF(D174,TODAY(),\"d\"))","v":""},{"$f":"IF(G174=\"\",\"\",DATEDIF(D174,G174,\"d\"))","v":""},{"$f":"DATEDIF(D174,H174,\"d\")","v":0},{"$f":"IF(Y174=\"\",\"\",Y174-AA174)","v":""}]
[null,null,null,null,null,null,null,null,null,null,"",null,null,"",null,null,null,null,null,{"$f":"IF(B175=1,E175,0)","v":0},null,{"$f":"IF(C175=\"\",\"\",VLOOKUP(C175,Debiteuren!$A$2:$J$9998,10,0))&\"\"","v":""},{"$f":"IF(C175=\"\",\"\",VLOOKUP(C175,Debiteuren!$A$2:$O$9998,15,0)&\"\"&VLOOKUP(C175,Debiteuren!$A$2:$N$9998,14,0))","v":""},null,"","",0,""]
[null,null,null,null,null,null,null,null,null,null,"",null,null,"",null,null,null,null,null,0,null,{"$f":"IF(C176=\"\",\"\",VLOOKUP(C176,Debiteuren!$A$2:$J$9998,10,0))&\"\"","v":""},{"$f":"IF(C176=\"\",\"\",VLOOKUP(C176,Debiteuren!$A$2:$O$9998,15,0)&\"\"&VLOOKUP(C176,Debiteuren!$A$2:$N$9998,14,0))","v":""},null,"","",0,""]
[null,null,null,null,null,null,null,null,null,null,"",null,null,"",null,null,null,null,null,0,null,{"$f":"IF(C177=\"\",\"\",VLOOKUP(C177,Debiteuren!$A$2:$J$9998,10,0))&\"\"","v":""},{"$f":"IF(C177=\"\",\"\",VLOOKUP(C177,Debiteuren!$A$2:$O$9998,15,0)&\"\"&VLOOKUP(C177,Debiteuren!$A$2:$N$9998,14,0))","v":""},null,"","",0,""]
[null,null,null,null,null,null,null,null,null,null,"",null,null,"",null,null,null,null,null,0,null,{"$f":"IF(C178=\"\",\"\",VLOOKUP(C178,Debiteuren!$A$2:$J$9998,10,0))&\"\"","v":""},{"$f":"IF(C178=\"\",\"\",VLOOKUP(C178,Debiteuren!$A$2:$O$9998,15,0)&\"\"&VLOOKUP(C178,Debiteuren!$A$2:$N$9998,14,0))","v":""},null,"","",0,""]
[null,null,null,null,null,null,null,null,null,null,"",null,null,"",null,null,null,null,null,0,null,{"$f":"IF(C179=\"\",\"\",VLOOKUP(C179,Debiteuren!$A$2:$J$9998,10,0))&\"\"","v":""},{"$f":"IF(C179=\"\",\"\",VLOOKUP(C179,Debiteuren!$A$2:$O$9998,15,0)&\"\"&VLOOKUP(C179,Debiteuren!$A$2:$N$9998,14,0))","v":""},null,"","",0,""]
[null,null,null,null,null,null,null,null,null,null,"",null,null,"",null,null,null,null,null,0,null,{"$f":"IF(C180=\"\",\"\",VLOOKUP(C180,Debiteuren!$A$2:$J$9998,10,0))&\"\"","v":""},{"$f":"IF(C180=\"\",\"\",VLOOKUP(C180,Debiteuren!$A$2:$O$9998,15,0)&\"\"&VLOOKUP(C180,Debiteuren!$A$2:$N$9998,14,0))","v":""},null,"","",0,""]
[null,null,null,null,null,null,null,null,null,null,"",null,null,"",null,null,null,null,null,0,null,{"$f":"IF(C181=\"\",\"\",VLOOKUP(C181,Debiteuren!$A$2:$J$9998,10,0))&\"\"","v":""},{"$f":"IF(C181=\"\",\"\",VLOOKUP(C181,Debiteuren!$A$2:$O$9998,15,0)&\"\"&VLOOKUP(C181,Debiteuren!$A$2:$N$9998,14,0))","v":""},null,"","",0,""]
[null,null,null,null,null,null,null,null,null,null,"",null,null,"",null,null,null,null,null,0,null,{"$f":"IF(C182=\"\",\"\",VLOOKUP(C182,Debiteuren!$A$2:$J$9998,10,0))&\"\"","v":""},{"$f":"IF(C182=\"\",\"\",VLOOKUP(C182,Debiteuren!$A$2:$O$9998,15,0)&\"\"&VLOOKUP(C182,Debiteuren!$A$2:$N$9998,14,0))","v":""},null,"","",0,""]
[null,null,null,null,null,null,null,null,null,null,"",null,null,"",null,null,null,null,null,0,null,{"$f":"IF(C183=\"\",\"\",VLOOKUP(C183,Debiteuren!$A$2:$J$9998,10,0))&\"\"","v":""},{"$f":"IF(C183=\"\",\"\",VLOOKUP(C183,Debiteuren!$A$2:$O$9998,15,0)&\"\"&VLOOKUP(C183,Debiteuren!$A$2:$N$9998,14,0))","v":""},null,"","",0,""]
[null,null,null,null,null,null,null,null,null,null,"",null,null,"",null,null,null,null,null,0,null,{"$f":"IF(C184=\"\",\"\",VLOOKUP(C184,Debiteuren!$A$2:$J$9998,10,0))&\"\"","v":""},{"$f":"IF(C184=\"\",\"\",VLOOKUP(C184,Debiteuren!$A$2:$O$9998,15,0)&\"\"&VLOOKUP(C184,Debiteuren!$A$2:$N$9998,14,0))","v":""},null,"","",0,""]
[null,null,null,null,null,null,null,null,null,null,{"$f":"IF(D185=\"\",\"\",\"\"&\"Kwartaal \"&MONTH(MONTH(D185)&0)&TEXT(D185,\" - mmm JJJJ\"))","v":""},null,null,{"$f":"IF(E185=\"\",\"\",(E185)-(F185))","v":""},null,null,null,null,null,0,null,{"$f":"IF(C185=\"\",\"\",VLOOKUP(C185,Debiteuren!$A$2:$J$9998,10,0))&\"\"","v":""},{"$f":"IF(C185=\"\",\"\",VLOOKUP(C185,Debiteuren!$A$2:$O$9998,15,0)&\"\"&VLOOKUP(C185,Debiteuren!$A$2:$N$9998,14,0))","v":""},null,"","",0,""]
[null,null,null,null,null,null,null,null,null,null,"",null,null,"",null,null,null,null,null,0,null,{"$f":"IF(C186=\"\",\"\",VLOOKUP(C186,Debiteuren!$A$2:$J$9998,10,0))&\"\"","v":""},{"$f":"IF(C186=\"\",\"\",VLOOKUP(C186,Debiteuren!$A$2:$O$9998,15,0)&\"\"&VLOOKUP(C186,Debiteuren!$A$2:$N$9998,14,0))","v":""},null,"","",0,""]
[null,null,null,null,null,null,null,null,null,null,"",null,null,"",null,null,null,null,null,0,null,{"$f":"IF(C187=\"\",\"\",VLOOKUP(C187,Debiteuren!$A$2:$J$9998,10,0))&\"\"","v":""},{"$f":"IF(C187=\"\",\"\",VLOOKUP(C187,Debiteuren!$A$2:$O$9998,15,0)&\"\"&VLOOKUP(C187,Debiteuren!$A$2:$N$9998,14,0))","v":""},null,"","",0,""]
[null,null,null,null,null,null,null,null,null,null,"",null,null,"",null,null,null,null,null,0,null,{"$f":"IF(C188=\"\",\"\",VLOOKUP(C188,Debiteuren!$A$2:$J$9998,10,0))&\"\"","v":""},{"$f":"IF(C188=\"\",\"\",VLOOKUP(C188,Debiteuren!$A$2:$O$9998,15,0)&\"\"&VLOOKUP(C188,Debiteuren!$A$2:$N$9998,14,0))","v":""},null,"","",0,""]
[null,null,null,null,null,null,null,null,null,null,"",null,null,"",null,null,null,null,null,0,null,{"$f":"IF(C189=\"\",\"\",VLOOKUP(C189,Debiteuren!$A$2:$J$9998,10,0))&\"\"","v":""},{"$f":"IF(C189=\"\",\"\",VLOOKUP(C189,Debiteuren!$A$2:$O$9998,15,0)&\"\"&VLOOKUP(C189,Debiteuren!$A$2:$N$9998,14,0))","v":""},null,"","",0,""]
[null,null,null,null,null,null,null,null,null,null,"",null,null,"",null,null,null,null,null,0,null,{"$f":"IF(C190=\"\",\"\",VLOOKUP(C190,Debiteuren!$A$2:$J$9998,10,0))&\"\"","v":""},{"$f":"IF(C190=\"\",\"\",VLOOKUP(C190,Debiteuren!$A$2:$O$9998,15,0)&\"\"&VLOOKUP(C190,Debiteuren!$A$2:$N$9998,14,0))","v":""},null,"","",0,""]
[null,null,null,null,null,null,null,null,null,null,"",null,null,"",null,null,null,null,null,0,null,{"$f":"IF(C191=\"\",\"\",VLOOKUP(C191,Debiteuren!$A$2:$J$9998,10,0))&\"\"","v":""},{"$f":"IF(C191=\"\",\"\",VLOOKUP(C191,Debiteuren!$A$2:$O$9998,15,0)&\"\"&VLOOKUP(C191,Debiteuren!$A$2:$N$9998,14,0))","v":""},null,"","",0,""]
[null,null,null,null,null,null,null,null,null,null,"",null,null,"",null,null,null,null,null,0,null,{"$f":"IF(C192=\"\",\"\",VLOOKUP(C192,Debiteuren!$A$2:$J$9998,10,0))&\"\"","v":""},{"$f":"IF(C192=\"\",\"\",VLOOKUP(C192,Debiteuren!$A$2:$O$9998,15,0)&\"\"&VLOOKUP(C192,Debiteuren!$A$2:$N$9998,14,0))","v":""},null,"","",0,""]
[null,null,null,null,null,null,null,null,null,null,"",null,null,"",null,null,null,null,null,0,null,{"$f":"IF(C193=\"\",\"\",VLOOKUP(C193,Debiteuren!$A$2:$J$9998,10,0))&\"\"","v":""},{"$f":"IF(C193=\"\",\"\",VLOOKUP(C193,Debiteuren!$A$2:$O$9998,15,0)&\"\"&VLOOKUP(C193,Debiteuren!$A$2:$N$9998,14,0))","v":""},null,"","",0,""]
[null,null,null,null,null,null,null,null,null,null,"",null,null,"",null,null,null,null,null,0,null,{"$f":"IF(C194=\"\",\"\",VLOOKUP(C194,Debiteuren!$A$2:$J$9998,10,0))&\"\"","v":""},{"$f":"IF(C194=\"\",\"\",VLOOKUP(C194,Debiteuren!$A$2:$O$9998,15,0)&\"\"&VLOOKUP(C194,Debiteuren!$A$2:$N$9998,14,0))","v":""},null,"","",0,""]
[null,null,null,null,null,null,null,null,null,null,"",null,null,"",null,null,null,null,null,0,null,{"$f":"IF(C195=\"\",\"\",VLOOKUP(C195,Debiteuren!$A$2:$J$9998,10,0))&\"\"","v":""},{"$f":"IF(C195=\"\",\"\",VLOOKUP(C195,Debiteuren!$A$2:$O$9998,15,0)&\"\"&VLOOKUP(C195,Debiteuren!$A$2:$N$9998,14,0))","v":""},null,"","",0,""]
[null,null,null,null,null,null,null,null,null,null,"",null,null,"",null,null,null,null,null,0,null,{"$f":"IF(C196=\"\",\"\",VLOOKUP(C196,Debiteuren!$A$2:$J$9998,10,0))&\"\"","v":""},{"$f":"IF(C196=\"\",\"\",VLOOKUP(C196,Debiteuren!$A$2:$O$9998,15,0)&\"\"&VLOOKUP(C196,Debiteuren!$A$2:$N$9998,14,0))","v":""},null,"","",0,""]
[null,null,null,null,null,null,null,null,null,null,"",null,null,"",null,null,null,null,null,0,null,{"$f":"IF(C197=\"\",\"\",VLOOKUP(C197,Debiteuren!$A$2:$J$9998,10,0))&\"\"","v":""},{"$f":"IF(C197=\"\",\"\",VLOOKUP(C197,Debiteuren!$A$2:$O$9998,15,0)&\"\"&VLOOKUP(C197,Debiteuren!$A$2:$N$9998,14,0))","v":""},null,"","",0,""]
[null,null,null,null,null,null,null,null,null,null,"",null,null,"",null,null,null,null,null,0,null,{"$f":"IF(C198=\"\",\"\",VLOOKUP(C198,Debiteuren!$A$2:$J$9998,10,0))&\"\"","v":""},{"$f":"IF(C198=\"\",\"\",VLOOKUP(C198,Debiteuren!$A$2:$O$9998,15,0)&\"\"&VLOOKUP(C198,Debiteuren!$A$2:$N$9998,14,0))","v":""},null,"","",0,""]
[null,null,null,null,null,null,null,null,null,null,"",null,null,"",null,null,null,null,null,0,null,{"$f":"IF(C199=\"\",\"\",VLOOKUP(C199,Debiteuren!$A$2:$J$9998,10,0))&\"\"","v":""},{"$f":"IF(C199=\"\",\"\",VLOOKUP(C199,Debiteuren!$A$2:$O$9998,15,0)&\"\"&VLOOKUP(C199,Debiteuren!$A$2:$N$9998,14,0))","v":""},null,"","",0,""]
[null,null,null,null,null,null,null,null,null,null,"",null,null,"",null,null,null,null,null,0,null,{"$f":"IF(C200=\"\",\"\",VLOOKUP(C200,Debiteuren!$A$2:$J$9998,10,0))&\"\"","v":""},{"$f":"IF(C200=\"\",\"\",VLOOKUP(C200,Debiteuren!$A$2:$O$9998,15,0)&\"\"&VLOOKUP(C200,Debiteuren!$A$2:$N$9998,14,0))","v":""},null,"","",0,""]
[null,null,null,null,null,null,null,null,null,null,"",null,null,"",null,null,null,null,null,0,null,{"$f":"IF(C201=\"\",\"\",VLOOKUP(C201,Debiteuren!$A$2:$J$9998,10,0))&\"\"","v":""},{"$f":"IF(C201=\"\",\"\",VLOOKUP(C201,Debiteuren!$A$2:$O$9998,15,0)&\"\"&VLOOKUP(C201,Debiteuren!$A$2:$N$9998,14,0))","v":""},null,"","",0,""]
[null,null,null,null,null,null,null,null,null,null,"",null,null,"",null,null,null,null,null,0,null,{"$f":"IF(C202=\"\",\"\",VLOOKUP(C202,Debiteuren!$A$2:$J$9998,10,0))&\"\"","v":""},{"$f":"IF(C202=\"\",\"\",VLOOKUP(C202,Debiteuren!$A$2:$O$9998,15,0)&\"\"&VLOOKUP(C202,Debiteuren!$A$2:$N$9998,14,0))","v":""},null,"","",0,""]
[null,null,null,null,null,null,null,null,null,null,"",null,null,"",null,null,null,null,null,0,null,{"$f":"IF(C203=\"\",\"\",VLOOKUP(C203,Debiteuren!$A$2:$J$9998,10,0))&\"\"","v":""},{"$f":"IF(C203=\"\",\"\",VLOOKUP(C203,Debiteuren!$A$2:$O$9998,15,0)&\"\"&VLOOKUP(C203,Debiteuren!$A$2:$N$9998,14,0))","v":""},null,"","",0,""]
[null,null,null,null,null,null,null,null,null,null,"",null,null,"",null,null,null,null,null,0,null,{"$f":"IF(C204=\"\",\"\",VLOOKUP(C204,Debiteuren!$A$2:$J$9998,10,0))&\"\"","v":""},{"$f":"IF(C204=\"\",\"\",VLOOKUP(C204,Debiteuren!$A$2:$O$9998,15,0)&\"\"&VLOOKUP(C204,Debiteuren!$A$2:$N$9998,14,0))","v":""},null,"","",0,""]
[null,null,null,null,null,null,null,null,null,null,"",null,null,"",null,null,null,null,null,0,null,{"$f":"IF(C205=\"\",\"\",VLOOKUP(C205,Debiteuren!$A$2:$J$9998,10,0))&\"\"","v":""},{"$f":"IF(C205=\"\",\"\",VLOOKUP(C205,Debiteuren!$A$2:$O$9998,15,0)&\"\"&VLOOKUP(C205,Debiteuren!$A$2:$N$9998,14,0))","v":""},null,"","",0,""]
[null,null,null,null,null,null,null,null,null,null,"",null,null,"",null,null,null,null,null,0,null,{"$f":"IF(C206=\"\",\"\",VLOOKUP(C206,Debiteuren!$A$2:$J$9998,10,0))&\"\"","v":""},{"$f":"IF(C206=\"\",\"\",VLOOKUP(C206,Debiteuren!$A$2:$O$9998,15,0)&\"\"&VLOOKUP(C206,Debiteuren!$A$2:$N$9998,14,0))","v":""},null,"","",0,""]
[null,null,null,null,null,null,null,null,null,null,"",null,null,"",null,null,null,null,null,0,null,{"$f":"IF(C207=\"\",\"\",VLOOKUP(C207,Debiteuren!$A$2:$J$9998,10,0))&\"\"","v":""},{"$f":"IF(C207=\"\",\"\",VLOOKUP(C207,Debiteuren!$A$2:$O$9998,15,0)&\"\"&VLOOKUP(C207,Debiteuren!$A$2:$N$9998,14,0))","v":""},null,"","",0,""]
[null,null,null,null,null,null,null,null,null,null,"",null,null,"",null,null,null,null,null,0,null,{"$f":"IF(C208=\"\",\"\",VLOOKUP(C208,Debiteuren!$A$2:$J$9998,10,0))&\"\"","v":""},{"$f":"IF(C208=\"\",\"\",VLOOKUP(C208,Debiteuren!$A$2:$O$9998,15,0)&\"\"&VLOOKUP(C208,Debiteuren!$A$2:$N$9998,14,0))","v":""},null,"","",0,""]
[null,null,null,null,null,null,null,null,null,null,"",null,null,"",null,null,null,null,null,0,null,{"$f":"IF(C209=\"\",\"\",VLOOKUP(C209,Debiteuren!$A$2:$J$9998,10,0))&\"\"","v":""},{"$f":"IF(C209=\"\",\"\",VLOOKUP(C209,Debiteuren!$A$2:$O$9998,15,0)&\"\"&VLOOKUP(C209,Debiteuren!$A$2:$N$9998,14,0))","v":""},null,"","",0,""]
[null,null,null,null,null,null,null,null,null,null,"",null,null,"",null,null,null,null,null,0,null,{"$f":"IF(C210=\"\",\"\",VLOOKUP(C210,Debiteuren!$A$2:$J$9998,10,0))&\"\"","v":""},{"$f":"IF(C210=\"\",\"\",VLOOKUP(C210,Debiteuren!$A$2:$O$9998,15,0)&\"\"&VLOOKUP(C210,Debiteuren!$A$2:$N$9998,14,0))","v":""},null,"","",0,""]
[null,null,null,null,null,null,null,null,null,null,"",null,null,"",null,null,null,null,null,0,null,{"$f":"IF(C211=\"\",\"\",VLOOKUP(C211,Debiteuren!$A$2:$J$9998,10,0))&\"\"","v":""},{"$f":"IF(C211=\"\",\"\",VLOOKUP(C211,Debiteuren!$A$2:$O$9998,15,0)&\"\"&VLOOKUP(C211,Debiteuren!$A$2:$N$9998,14,0))","v":""},null,"","",0,""]
[null,null,null,null,null,null,null,null,null,null,"",null,null,"",null,null,null,null,null,0,null,{"$f":"IF(C212=\"\",\"\",VLOOKUP(C212,Debiteuren!$A$2:$J$9998,10,0))&\"\"","v":""},{"$f":"IF(C212=\"\",\"\",VLOOKUP(C212,Debiteuren!$A$2:$O$9998,15,0)&\"\"&VLOOKUP(C212,Debiteuren!$A$2:$N$9998,14,0))","v":""},null,"","",0,""]
[null,null,null,null,null,null,null,null,null,null,"",null,null,"",null,null,null,null,null,0,null,{"$f":"IF(C213=\"\",\"\",VLOOKUP(C213,Debiteuren!$A$2:$J$9998,10,0))&\"\"","v":""},{"$f":"IF(C213=\"\",\"\",VLOOKUP(C213,Debiteuren!$A$2:$O$9998,15,0)&\"\"&VLOOKUP(C213,Debiteuren!$A$2:$N$9998,14,0))","v":""},null,"","",0,""]
[null,null,null,null,null,null,null,null,null,null,"",null,null,"",null,null,null,null,null,0,null,{"$f":"IF(C214=\"\",\"\",VLOOKUP(C214,Debiteuren!$A$2:$J$9998,10,0))&\"\"","v":""},{"$f":"IF(C214=\"\",\"\",VLOOKUP(C214,Debiteuren!$A$2:$O$9998,15,0)&\"\"&VLOOKUP(C214,Debiteuren!$A$2:$N$9998,14,0))","v":""},null,"","",0,""]
[null,null,null,null,null,null,null,null,null,null,"",null,null,"",null,null,null,null,null,0,null,{"$f":"IF(C215=\"\",\"\",VLOOKUP(C215,Debiteuren!$A$2:$J$9998,10,0))&\"\"","v":""},{"$f":"IF(C215=\"\",\"\",VLOOKUP(C215,Debiteuren!$A$2:$O$9998,15,0)&\"\"&VLOOKUP(C215,Debiteuren!$A$2:$N$9998,14,0))","v":""},null,"","",0,""]
[null,null,null,null,null,null,null,null,null,null,"",null,null,"",null,null,null,null,null,0,null,{"$f":"IF(C216=\"\",\"\",VLOOKUP(C216,Debiteuren!$A$2:$J$9998,10,0))&\"\"","v":""},{"$f":"IF(C216=\"\",\"\",VLOOKUP(C216,Debiteuren!$A$2:$O$9998,15,0)&\"\"&VLOOKUP(C216,Debiteuren!$A$2:$N$9998,14,0))","v":""},null,"","",0,""]
[null,null,null,null,null,null,null,null,null,null,"",null,null,"",null,null,null,null,null,0,null,{"$f":"IF(C217=\"\",\"\",VLOOKUP(C217,Debiteuren!$A$2:$J$9998,10,0))&\"\"","v":""},{"$f":"IF(C217=\"\",\"\",VLOOKUP(C217,Debiteuren!$A$2:$O$9998,15,0)&\"\"&VLOOKUP(C217,Debiteuren!$A$2:$N$9998,14,0))","v":""},null,"","",0,""]
[null,null,null,null,null,null,null,null,null,null,"",null,null,"",null,null,null,null,null,0,null,{"$f":"IF(C218=\"\",\"\",VLOOKUP(C218,Debiteuren!$A$2:$J$9998,10,0))&\"\"","v":""},{"$f":"IF(C218=\"\",\"\",VLOOKUP(C218,Debiteuren!$A$2:$O$9998,15,0)&\"\"&VLOOKUP(C218,Debiteuren!$A$2:$N$9998,14,0))","v":""},null,"","",0,""]
[null,null,null,null,null,null,null,null,null,null,"",null,null,"",null,null,null,null,null,0,null,{"$f":"IF(C219=\"\",\"\",VLOOKUP(C219,Debiteuren!$A$2:$J$9998,10,0))&\"\"","v":""},{"$f":"IF(C219=\"\",\"\",VLOOKUP(C219,Debiteuren!$A$2:$O$9998,15,0)&\"\"&VLOOKUP(C219,Debiteuren!$A$2:$N$9998,14,0))","v":""},null,"","",0,""]
[null,null,null,null,null,null,null,null,null,null,"",null,null,"",null,null,null,null,null,0,null,{"$f":"IF(C220=\"\",\"\",VLOOKUP(C220,Debiteuren!$A$2:$J$9998,10,0))&\"\"","v":""},{"$f":"IF(C220=\"\",\"\",VLOOKUP(C220,Debiteuren!$A$2:$O$9998,15,0)&\"\"&VLOOKUP(C220,Debiteuren!$A$2:$N$9998,14,0))","v":""},null,"","",0,""]
[null,null,null,null,null,null,null,null,null,null,"",null,null,"",null,null,null,null,null,0,null,{"$f":"IF(C221=\"\",\"\",VLOOKUP(C221,Debiteuren!$A$2:$J$9998,10,0))&\"\"","v":""},{"$f":"IF(C221=\"\",\"\",VLOOKUP(C221,Debiteuren!$A$2:$O$9998,15,0)&\"\"&VLOOKUP(C221,Debiteuren!$A$2:$N$9998,14,0))","v":""},null,"","",0,""]
[null,null,null,null,null,null,null,null,null,null,"",null,null,"",null,null,null,null,null,0,null,{"$f":"IF(C222=\"\",\"\",VLOOKUP(C222,Debiteuren!$A$2:$J$9998,10,0))&\"\"","v":""},{"$f":"IF(C222=\"\",\"\",VLOOKUP(C222,Debiteuren!$A$2:$O$9998,15,0)&\"\"&VLOOKUP(C222,Debiteuren!$A$2:$N$9998,14,0))","v":""},null,"","",0,""]
[null,null,null,null,null,null,null,null,null,null,"",null,null,"",null,null,null,null,null,0,null,{"$f":"IF(C223=\"\",\"\",VLOOKUP(C223,Debiteuren!$A$2:$J$9998,10,0))&\"\"","v":""},{"$f":"IF(C223=\"\",\"\",VLOOKUP(C223,Debiteuren!$A$2:$O$9998,15,0)&\"\"&VLOOKUP(C223,Debiteuren!$A$2:$N$9998,14,0))","v":""},null,"","",0,""]
[null,null,null,null,null,null,null,null,null,null,"",null,null,"",null,null,null,null,null,0,null,{"$f":"IF(C224=\"\",\"\",VLOOKUP(C224,Debiteuren!$A$2:$J$9998,10,0))&\"\"","v":""},{"$f":"IF(C224=\"\",\"\",VLOOKUP(C224,Debiteuren!$A$2:$O$9998,15,0)&\"\"&VLOOKUP(C224,Debiteuren!$A$2:$N$9998,14,0))","v":""},null,"","",0,""]
[null,null,null,null,null,null,null,null,null,null,"",null,null,"",null,null,null,null,null,0,null,{"$f":"IF(C225=\"\",\"\",VLOOKUP(C225,Debiteuren!$A$2:$J$9998,10,0))&\"\"","v":""},{"$f":"IF(C225=\"\",\"\",VLOOKUP(C225,Debiteuren!$A$2:$O$9998,15,0)&\"\"&VLOOKUP(C225,Debiteuren!$A$2:$N$9998,14,0))","v":""},null,"","",0,""]
[null,null,null,null,null,null,null,null,null,null,"",null,null,"",null,null,null,null,null,0,null,{"$f":"IF(C226=\"\",\"\",VLOOKUP(C226,Debiteuren!$A$2:$J$9998,10,0))&\"\"","v":""},{"$f":"IF(C226=\"\",\"\",VLOOKUP(C226,Debiteuren!$A$2:$O$9998,15,0)&\"\"&VLOOKUP(C226,Debiteuren!$A$2:$N$9998,14,0))","v":""},null,"","",0,""]
[null,null,null,null,null,null,null,null,null,null,"",null,null,"",null,null,null,null,null,0,null,{"$f":"IF(C227=\"\",\"\",VLOOKUP(C227,Debiteuren!$A$2:$J$9998,10,0))&\"\"","v":""},{"$f":"IF(C227=\"\",\"\",VLOOKUP(C227,Debiteuren!$A$2:$O$9998,15,0)&\"\"&VLOOKUP(C227,Debiteuren!$A$2:$N$9998,14,0))","v":""},null,"","",0,""]
[null,null,null,null,null,null,null,null,null,null,"",null,null,"",null,null,null,null,null,0,null,{"$f":"IF(C228=\"\",\"\",VLOOKUP(C228,Debiteuren!$A$2:$J$9998,10,0))&\"\"","v":""},{"$f":"IF(C228=\"\",\"\",VLOOKUP(C228,Debiteuren!$A$2:$O$9998,15,0)&\"\"&VLOOKUP(C228,Debiteuren!$A$2:$N$9998,14,0))","v":""},null,"","",0,""]
[null,null,null,null,null,null,null,null,null,null,"",null,null,"",null,null,null,null,null,0,null,{"$f":"IF(C229=\"\",\"\",VLOOKUP(C229,Debiteuren!$A$2:$J$9998,10,0))&\"\"","v":""},{"$f":"IF(C229=\"\",\"\",VLOOKUP(C229,Debiteuren!$A$2:$O$9998,15,0)&\"\"&VLOOKUP(C229,Debiteuren!$A$2:$N$9998,14,0))","v":""},null,"","",0,""]
[null,null,null,null,null,null,null,null,null,null,"",null,null,"",null,null,null,null,null,0,null,{"$f":"IF(C230=\"\",\"\",VLOOKUP(C230,Debiteuren!$A$2:$J$9998,10,0))&\"\"","v":""},{"$f":"IF(C230=\"\",\"\",VLOOKUP(C230,Debiteuren!$A$2:$O$9998,15,0)&\"\"&VLOOKUP(C230,Debiteuren!$A$2:$N$9998,14,0))","v":""},null,"","",0,""]
[null,null,null,null,null,null,null,null,null,null,"",null,null,"",null,null,null,null,null,0,null,{"$f":"IF(C231=\"\",\"\",VLOOKUP(C231,Debiteuren!$A$2:$J$9998,10,0))&\"\"","v":""},{"$f":"IF(C231=\"\",\"\",VLOOKUP(C231,Debiteuren!$A$2:$O$9998,15,0)&\"\"&VLOOKUP(C231,Debiteuren!$A$2:$N$9998,14,0))","v":""},null,"","",0,""]
[null,null,null,null,null,null,null,null,null,null,"",null,null,"",null,null,null,null,null,0,null,{"$f":"IF(C232=\"\",\"\",VLOOKUP(C232,Debiteuren!$A$2:$J$9998,10,0))&\"\"","v":""},{"$f":"IF(C232=\"\",\"\",VLOOKUP(C232,Debiteuren!$A$2:$O$9998,15,0)&\"\"&VLOOKUP(C232,Debiteuren!$A$2:$N$9998,14,0))","v":""},null,"","",0,""]
[null,null,null,null,null,null,null,null,null,null,"",null,null,"",null,null,null,null,null,0,null,{"$f":"IF(C233=\"\",\"\",VLOOKUP(C233,Debiteuren!$A$2:$J$9998,10,0))&\"\"","v":""},{"$f":"IF(C233=\"\",\"\",VLOOKUP(C233,Debiteuren!$A$2:$O$9998,15,0)&\"\"&VLOOKUP(C233,Debiteuren!$A$2:$N$9998,14,0))","v":""},null,"","",0,""]
[null,null,null,null,null,null,null,null,null,null,"",null,null,"",null,null,null,null,null,0,null,{"$f":"IF(C234=\"\",\"\",VLOOKUP(C234,Debiteuren!$A$2:$J$9998,10,0))&\"\"","v":""},{"$f":"IF(C234=\"\",\"\",VLOOKUP(C234,Debiteuren!$A$2:$O$9998,15,0)&\"\"&VLOOKUP(C234,Debiteuren!$A$2:$N$9998,14,0))","v":""},null,"","",0,""]
[null,null,null,null,null,null,null,null,null,null,"",null,null,"",null,null,null,null,null,0,null,{"$f":"IF(C235=\"\",\"\",VLOOKUP(C235,Debiteuren!$A$2:$J$9998,10,0))&\"\"","v":""},{"$f":"IF(C235=\"\",\"\",VLOOKUP(C235,Debiteuren!$A$2:$O$9998,15,0)&\"\"&VLOOKUP(C235,Debiteuren!$A$2:$N$9998,14,0))","v":""},null,"","",0,""]
[null,null,null,null,null,null,null,null,null,null,"",null,null,"",null,null,null,null,null,0,null,{"$f":"IF(C236=\"\",\"\",VLOOKUP(C236,Debiteuren!$A$2:$J$9998,10,0))&\"\"","v":""},{"$f":"IF(C236=\"\",\"\",VLOOKUP(C236,Debiteuren!$A$2:$O$9998,15,0)&\"\"&VLOOKUP(C236,Debiteuren!$A$2:$N$9998,14,0))","v":""},null,"","",0,""]
[null,null,null,null,null,null,null,null,null,null,"",null,null,"",null,null,null,null,null,0,null,{"$f":"IF(C237=\"\",\"\",VLOOKUP(C237,Debiteuren!$A$2:$J$9998,10,0))&\"\"","v":""},{"$f":"IF(C237=\"\",\"\",VLOOKUP(C237,Debiteuren!$A$2:$O$9998,15,0)&\"\"&VLOOKUP(C237,Debiteuren!$A$2:$N$9998,14,0))","v":""},null,"","",0,""]
[null,null,null,null,null,null,null,null,null,null,"",null,null,"",null,null,null,null,null,0,null,{"$f":"IF(C238=\"\",\"\",VLOOKUP(C238,Debiteuren!$A$2:$J$9998,10,0))&\"\"","v":""},{"$f":"IF(C238=\"\",\"\",VLOOKUP(C238,Debiteuren!$A$2:$O$9998,15,0)&\"\"&VLOOKUP(C238,Debiteuren!$A$2:$N$9998,14,0))","v":""},null,{"$f":"IF(D238=\"\",\"\",DATEDIF(D238,TODAY(),\"d\"))","v":""},{"$f":"IF(G238=\"\",\"\",DATEDIF(D238,G238,\"d\"))","v":""},{"$f":"DATEDIF(D238,H238,\"d\")","v":0},{"$f":"IF(Y238=\"\",\"\",Y238-AA238)","v":""}]
[null,null,null,null,null,null,null,null,null,null,"",null,null,"",null,null,null,null,null,{"$f":"IF(B239=1,E239,0)","v":0},null,{"$f":"IF(C239=\"\",\"\",VLOOKUP(C239,Debiteuren!$A$2:$J$9998,10,0))&\"\"","v":""},{"$f":"IF(C239=\"\",\"\",VLOOKUP(C239,Debiteuren!$A$2:$O$9998,15,0)&\"\"&VLOOKUP(C239,Debiteuren!$A$2:$N$9998,14,0))","v":""},null,"","",0,""]
[null,null,null,null,null,null,null,null,null,null,"",null,null,"",null,null,null,null,null,0,null,{"$f":"IF(C240=\"\",\"\",VLOOKUP(C240,Debiteuren!$A$2:$J$9998,10,0))&\"\"","v":""},{"$f":"IF(C240=\"\",\"\",VLOOKUP(C240,Debiteuren!$A$2:$O$9998,15,0)&\"\"&VLOOKUP(C240,Debiteuren!$A$2:$N$9998,14,0))","v":""},null,"","",0,""]
[null,null,null,null,null,null,null,null,null,null,"",null,null,"",null,null,null,null,null,0,null,{"$f":"IF(C241=\"\",\"\",VLOOKUP(C241,Debiteuren!$A$2:$J$9998,10,0))&\"\"","v":""},{"$f":"IF(C241=\"\",\"\",VLOOKUP(C241,Debiteuren!$A$2:$O$9998,15,0)&\"\"&VLOOKUP(C241,Debiteuren!$A$2:$N$9998,14,0))","v":""},null,"","",0,""]
[null,null,null,null,null,null,null,null,null,null,"",null,null,"",null,null,null,null,null,0,null,{"$f":"IF(C242=\"\",\"\",VLOOKUP(C242,Debiteuren!$A$2:$J$9998,10,0))&\"\"","v":""},{"$f":"IF(C242=\"\",\"\",VLOOKUP(C242,Debiteuren!$A$2:$O$9998,15,0)&\"\"&VLOOKUP(C242,Debiteuren!$A$2:$N$9998,14,0))","v":""},null,"","",0,""]
[null,null,null,null,null,null,null,null,null,null,"",null,null,"",null,null,null,null,null,0,null,{"$f":"IF(C243=\"\",\"\",VLOOKUP(C243,Debiteuren!$A$2:$J$9998,10,0))&\"\"","v":""},{"$f":"IF(C243=\"\",\"\",VLOOKUP(C243,Debiteuren!$A$2:$O$9998,15,0)&\"\"&VLOOKUP(C243,Debiteuren!$A$2:$N$9998,14,0))","v":""},null,"","",0,""]
[null,null,null,null,null,null,null,null,null,null,"",null,null,"",null,null,null,null,null,0,null,{"$f":"IF(C244=\"\",\"\",VLOOKUP(C244,Debiteuren!$A$2:$J$9998,10,0))&\"\"","v":""},{"$f":"IF(C244=\"\",\"\",VLOOKUP(C244,Debiteuren!$A$2:$O$9998,15,0)&\"\"&VLOOKUP(C244,Debiteuren!$A$2:$N$9998,14,0))","v":""},null,"","",0,""]
[null,null,null,null,null,null,null,null,null,null,"",null,null,"",null,null,null,null,null,0,null,{"$f":"IF(C245=\"\",\"\",VLOOKUP(C245,Debiteuren!$A$2:$J$9998,10,0))&\"\"","v":""},{"$f":"IF(C245=\"\",\"\",VLOOKUP(C245,Debiteuren!$A$2:$O$9998,15,0)&\"\"&VLOOKUP(C245,Debiteuren!$A$2:$N$9998,14,0))","v":""},null,"","",0,""]
[null,null,null,null,null,null,null,null,null,null,"",null,null,"",null,null,null,null,null,0,null,{"$f":"IF(C246=\"\",\"\",VLOOKUP(C246,Debiteuren!$A$2:$J$9998,10,0))&\"\"","v":""},{"$f":"IF(C246=\"\",\"\",VLOOKUP(C246,Debiteuren!$A$2:$O$9998,15,0)&\"\"&VLOOKUP(C246,Debiteuren!$A$2:$N$9998,14,0))","v":""},null,"","",0,""]
[null,null,null,null,null,null,null,null,null,null,"",null,null,"",null,null,null,null,null,0,null,{"$f":"IF(C247=\"\",\"\",VLOOKUP(C247,Debiteuren!$A$2:$J$9998,10,0))&\"\"","v":""},{"$f":"IF(C247=\"\",\"\",VLOOKUP(C247,Debiteuren!$A$2:$O$9998,15,0)&\"\"&VLOOKUP(C247,Debiteuren!$A$2:$N$9998,14,0))","v":""},null,"","",0,""]
[null,null,null,null,null,null,null,null,null,null,"",null,null,"",null,null,null,null,null,0,null,{"$f":"IF(C248=\"\",\"\",VLOOKUP(C248,Debiteuren!$A$2:$J$9998,10,0))&\"\"","v":""},{"$f":"IF(C248=\"\",\"\",VLOOKUP(C248,Debiteuren!$A$2:$O$9998,15,0)&\"\"&VLOOKUP(C248,Debiteuren!$A$2:$N$9998,14,0))","v":""},null,"","",0,""]
[null,null,null,null,null,null,null,null,null,null,{"$f":"IF(D249=\"\",\"\",\"\"&\"Kwartaal \"&MONTH(MONTH(D249)&0)&TEXT(D249,\" - mmm JJJJ\"))","v":""},null,null,{"$f":"IF(E249=\"\",\"\",(E249)-(F249))","v":""},null,null,null,null,null,0,null,{"$f":"IF(C249=\"\",\"\",VLOOKUP(C249,Debiteuren!$A$2:$J$9998,10,0))&\"\"","v":""},{"$f":"IF(C249=\"\",\"\",VLOOKUP(C249,Debiteuren!$A$2:$O$9998,15,0)&\"\"&VLOOKUP(C249,Debiteuren!$A$2:$N$9998,14,0))","v":""},null,"","",0,""]
[null,null,null,null,null,null,null,null,null,null,"",null,null,"",null,null,null,null,null,0,null,{"$f":"IF(C250=\"\",\"\",VLOOKUP(C250,Debiteuren!$A$2:$J$9998,10,0))&\"\"","v":""},{"$f":"IF(C250=\"\",\"\",VLOOKUP(C250,Debiteuren!$A$2:$O$9998,15,0)&\"\"&VLOOKUP(C250,Debiteuren!$A$2:$N$9998,14,0))","v":""},null,"","",0,""]
[null,null,null,null,null,null,null,null,null,null,"",null,null,"",null,null,null,null,null,0,null,{"$f":"IF(C251=\"\",\"\",VLOOKUP(C251,Debiteuren!$A$2:$J$9998,10,0))&\"\"","v":""},{"$f":"IF(C251=\"\",\"\",VLOOKUP(C251,Debiteuren!$A$2:$O$9998,15,0)&\"\"&VLOOKUP(C251,Debiteuren!$A$2:$N$9998,14,0))","v":""},null,"","",0,""]
[null,null,null,null,null,null,null,null,null,null,"",null,null,"",null,null,null,null,null,0,null,{"$f":"IF(C252=\"\",\"\",VLOOKUP(C252,Debiteuren!$A$2:$J$9998,10,0))&\"\"","v":""},{"$f":"IF(C252=\"\",\"\",VLOOKUP(C252,Debiteuren!$A$2:$O$9998,15,0)&\"\"&VLOOKUP(C252,Debiteuren!$A$2:$N$9998,14,0))","v":""},null,"","",0,""]
[null,null,null,null,null,null,null,null,null,null,"",null,null,"",null,null,null,null,null,0,null,{"$f":"IF(C253=\"\",\"\",VLOOKUP(C253,Debiteuren!$A$2:$J$9998,10,0))&\"\"","v":""},{"$f":"IF(C253=\"\",\"\",VLOOKUP(C253,Debiteuren!$A$2:$O$9998,15,0)&\"\"&VLOOKUP(C253,Debiteuren!$A$2:$N$9998,14,0))","v":""},null,"","",0,""]
[null,null,null,null,null,null,null,null,null,null,"",null,null,"",null,null,null,null,null,0,null,{"$f":"IF(C254=\"\",\"\",VLOOKUP(C254,Debiteuren!$A$2:$J$9998,10,0))&\"\"","v":""},{"$f":"IF(C254=\"\",\"\",VLOOKUP(C254,Debiteuren!$A$2:$O$9998,15,0)&\"\"&VLOOKUP(C254,Debiteuren!$A$2:$N$9998,14,0))","v":""},null,"","",0,""]
[null,null,null,null,null,null,null,null,null,null,"",null,null,"",null,null,null,null,null,0,null,{"$f":"IF(C255=\"\",\"\",VLOOKUP(C255,Debiteuren!$A$2:$J$9998,10,0))&\"\"","v":""},{"$f":"IF(C255=\"\",\"\",VLOOKUP(C255,Debiteuren!$A$2:$O$9998,15,0)&\"\"&VLOOKUP(C255,Debiteuren!$A$2:$N$9998,14,0))","v":""},null,"","",0,""]
[null,null,null,null,null,null,null,null,null,null,"",null,null,"",null,null,null,null,null,0,null,{"$f":"IF(C256=\"\",\"\",VLOOKUP(C256,Debiteuren!$A$2:$J$9998,10,0))&\"\"","v":""},{"$f":"IF(C256=\"\",\"\",VLOOKUP(C256,Debiteuren!$A$2:$O$9998,15,0)&\"\"&VLOOKUP(C256,Debiteuren!$A$2:$N$9998,14,0))","v":""},null,"","",0,""]
[null,null,null,null,null,null,null,null,null,null,"",null,null,"",null,null,null,null,null,0,null,{"$f":"IF(C257=\"\",\"\",VLOOKUP(C257,Debiteuren!$A$2:$J$9998,10,0))&\"\"","v":""},{"$f":"IF(C257=\"\",\"\",VLOOKUP(C257,Debiteuren!$A$2:$O$9998,15,0)&\"\"&VLOOKUP(C257,Debiteuren!$A$2:$N$9998,14,0))","v":""},null,"","",0,""]
[null,null,null,null,null,null,null,null,null,null,"",null,null,"",null,null,null,null,null,0,null,{"$f":"IF(C258=\"\",\"\",VLOOKUP(C258,Debiteuren!$A$2:$J$9998,10,0))&\"\"","v":""},{"$f":"IF(C258=\"\",\"\",VLOOKUP(C258,Debiteuren!$A$2:$O$9998,15,0)&\"\"&VLOOKUP(C258,Debiteuren!$A$2:$N$9998,14,0))","v":""},null,"","",0,""]
[null,null,null,null,null,null,null,null,null,null,"",null,null,"",null,null,null,null,null,0,null,{"$f":"IF(C259=\"\",\"\",VLOOKUP(C259,Debiteuren!$A$2:$J$9998,10,0))&\"\"","v":""},{"$f":"IF(C259=\"\",\"\",VLOOKUP(C259,Debiteuren!$A$2:$O$9998,15,0)&\"\"&VLOOKUP(C259,Debiteuren!$A$2:$N$9998,14,0))","v":""},null,"","",0,""]
[null,null,null,null,null,null,null,null,null,null,"",null,null,"",null,null,null,null,null,0,null,{"$f":"IF(C260=\"\",\"\",VLOOKUP(C260,Debiteuren!$A$2:$J$9998,10,0))&\"\"","v":""},{"$f":"IF(C260=\"\",\"\",VLOOKUP(C260,Debiteuren!$A$2:$O$9998,15,0)&\"\"&VLOOKUP(C260,Debiteuren!$A$2:$N$9998,14,0))","v":""},null,"","",0,""]
[null,null,null,null,null,null,null,null,null,null,"",null,null,"",null,null,null,null,null,0,null,{"$f":"IF(C261=\"\",\"\",VLOOKUP(C261,Debiteuren!$A$2:$J$9998,10,0))&\"\"","v":""},{"$f":"IF(C261=\"\",\"\",VLOOKUP(C261,Debiteuren!$A$2:$O$9998,15,0)&\"\"&VLOOKUP(C261,Debiteuren!$A$2:$N$9998,14,0))","v":""},null,"","",0,""]
[null,null,null,null,null,null,null,null,null,null,"",null,null,"",null,null,null,null,null,0,null,{"$f":"IF(C262=\"\",\"\",VLOOKUP(C262,Debiteuren!$A$2:$J$9998,10,0))&\"\"","v":""},{"$f":"IF(C262=\"\",\"\",VLOOKUP(C262,Debiteuren!$A$2:$O$9998,15,0)&\"\"&VLOOKUP(C262,Debiteuren!$A$2:$N$9998,14,0))","v":""},null,"","",0,""]
[null,null,null,null,null,null,null,null,null,null,"",null,null,"",null,null,null,null,null,0,null,{"$f":"IF(C263=\"\",\"\",VLOOKUP(C263,Debiteuren!$A$2:$J$9998,10,0))&\"\"","v":""},{"$f":"IF(C263=\"\",\"\",VLOOKUP(C263,Debiteuren!$A$2:$O$9998,15,0)&\"\"&VLOOKUP(C263,Debiteuren!$A$2:$N$9998,14,0))","v":""},null,"","",0,""]
[null,null,null,null,null,null,null,null,null,null,"",null,null,"",null,null,null,null,null,0,null,{"$f":"IF(C264=\"\",\"\",VLOOKUP(C264,Debiteuren!$A$2:$J$9998,10,0))&\"\"","v":""},{"$f":"IF(C264=\"\",\"\",VLOOKUP(C264,Debiteuren!$A$2:$O$9998,15,0)&\"\"&VLOOKUP(C264,Debiteuren!$A$2:$N$9998,14,0))","v":""},null,"","",0,""]
[null,null,null,null,null,null,null,null,null,null,"",null,null,"",null,null,null,null,null,0,null,{"$f":"IF(C265=\"\",\"\",VLOOKUP(C265,Debiteuren!$A$2:$J$9998,10,0))&\"\"","v":""},{"$f":"IF(C265=\"\",\"\",VLOOKUP(C265,Debiteuren!$A$2:$O$9998,15,0)&\"\"&VLOOKUP(C265,Debiteuren!$A$2:$N$9998,14,0))","v":""},null,"","",0,""]
[null,null,null,null,null,null,null,null,null,null,"",null,null,"",null,null,null,null,null,0,null,{"$f":"IF(C266=\"\",\"\",VLOOKUP(C266,Debiteuren!$A$2:$J$9998,10,0))&\"\"","v":""},{"$f":"IF(C266=\"\",\"\",VLOOKUP(C266,Debiteuren!$A$2:$O$9998,15,0)&\"\"&VLOOKUP(C266,Debiteuren!$A$2:$N$9998,14,0))","v":""},null,"","",0,""]
[null,null,null,null,null,null,null,null,null,null,"",null,null,"",null,null,null,null,null,0,null,{"$f":"IF(C267=\"\",\"\",VLOOKUP(C267,Debiteuren!$A$2:$J$9998,10,0))&\"\"","v":""},{"$f":"IF(C267=\"\",\"\",VLOOKUP(C267,Debiteuren!$A$2:$O$9998,15,0)&\"\"&VLOOKUP(C267,Debiteuren!$A$2:$N$9998,14,0))","v":""},null,"","",0,""]
[null,null,null,null,null,null,null,null,null,null,"",null,null,"",null,null,null,null,null,0,null,{"$f":"IF(C268=\"\",\"\",VLOOKUP(C268,Debiteuren!$A$2:$J$9998,10,0))&\"\"","v":""},{"$f":"IF(C268=\"\",\"\",VLOOKUP(C268,Debiteuren!$A$2:$O$9998,15,0)&\"\"&VLOOKUP(C268,Debiteuren!$A$2:$N$9998,14,0))","v":""},null,"","",0,""]
[null,null,null,null,null,null,null,null,null,null,"",null,null,"",null,null,null,null,null,0,null,{"$f":"IF(C269=\"\",\"\",VLOOKUP(C269,Debiteuren!$A$2:$J$9998,10,0))&\"\"","v":""},{"$f":"IF(C269=\"\",\"\",VLOOKUP(C269,Debiteuren!$A$2:$O$9998,15,0)&\"\"&VLOOKUP(C269,Debiteuren!$A$2:$N$9998,14,0))","v":""},null,"","",0,""]
[null,null,null,null,null,null,null,null,null,null,"",null,null,"",null,null,null,null,null,0,null,{"$f":"IF(C270=\"\",\"\",VLOOKUP(C270,Debiteuren!$A$2:$J$9998,10,0))&\"\"","v":""},{"$f":"IF(C270=\"\",\"\",VLOOKUP(C270,Debiteuren!$A$2:$O$9998,15,0)&\"\"&VLOOKUP(C270,Debiteuren!$A$2:$N$9998,14,0))","v":""},null,"","",0,""]
[null,null,null,null,null,null,null,null,null,null,"",null,null,"",null,null,null,null,null,0,null,{"$f":"IF(C271=\"\",\"\",VLOOKUP(C271,Debiteuren!$A$2:$J$9998,10,0))&\"\"","v":""},{"$f":"IF(C271=\"\",\"\",VLOOKUP(C271,Debiteuren!$A$2:$O$9998,15,0)&\"\"&VLOOKUP(C271,Debiteuren!$A$2:$N$9998,14,0))","v":""},null,"","",0,""]
[null,null,null,null,null,null,null,null,null,null,"",null,null,"",null,null,null,null,null,0,null,{"$f":"IF(C272=\"\",\"\",VLOOKUP(C272,Debiteuren!$A$2:$J$9998,10,0))&\"\"","v":""},{"$f":"IF(C272=\"\",\"\",VLOOKUP(C272,Debiteuren!$A$2:$O$9998,15,0)&\"\"&VLOOKUP(C272,Debiteuren!$A$2:$N$9998,14,0))","v":""},null,"","",0,""]
[null,null,null,null,null,null,null,null,null,null,"",null,null,"",null,null,null,null,null,0,null,{"$f":"IF(C273=\"\",\"\",VLOOKUP(C273,Debiteuren!$A$2:$J$9998,10,0))&\"\"","v":""},{"$f":"IF(C273=\"\",\"\",VLOOKUP(C273,Debiteuren!$A$2:$O$9998,15,0)&\"\"&VLOOKUP(C273,Debiteuren!$A$2:$N$9998,14,0))","v":""},null,"","",0,""]
[null,null,null,null,null,null,null,null,null,null,"",null,null,"",null,null,null,null,null,0,null,{"$f":"IF(C274=\"\",\"\",VLOOKUP(C274,Debiteuren!$A$2:$J$9998,10,0))&\"\"","v":""},{"$f":"IF(C274=\"\",\"\",VLOOKUP(C274,Debiteuren!$A$2:$O$9998,15,0)&\"\"&VLOOKUP(C274,Debiteuren!$A$2:$N$9998,14,0))","v":""},null,"","",0,""]
[null,null,null,null,null,null,null,null,null,null,"",null,null,"",null,null,null,null,null,0,null,{"$f":"IF(C275=\"\",\"\",VLOOKUP(C275,Debiteuren!$A$2:$J$9998,10,0))&\"\"","v":""},{"$f":"IF(C275=\"\",\"\",VLOOKUP(C275,Debiteuren!$A$2:$O$9998,15,0)&\"\"&VLOOKUP(C275,Debiteuren!$A$2:$N$9998,14,0))","v":""},null,"","",0,""]
[null,null,null,null,null,null,null,null,null,null,"",null,null,"",null,null,null,null,null,0,null,{"$f":"IF(C276=\"\",\"\",VLOOKUP(C276,Debiteuren!$A$2:$J$9998,10,0))&\"\"","v":""},{"$f":"IF(C276=\"\",\"\",VLOOKUP(C276,Debiteuren!$A$2:$O$9998,15,0)&\"\"&VLOOKUP(C276,Debiteuren!$A$2:$N$9998,14,0))","v":""},null,"","",0,""]
[null,null,null,null,null,null,null,null,null,null,"",null,null,"",null,null,null,null,null,0,null,{"$f":"IF(C277=\"\",\"\",VLOOKUP(C277,Debiteuren!$A$2:$J$9998,10,0))&\"\"","v":""},{"$f":"IF(C277=\"\",\"\",VLOOKUP(C277,Debiteuren!$A$2:$O$9998,15,0)&\"\"&VLOOKUP(C277,Debiteuren!$A$2:$N$9998,14,0))","v":""},null,"","",0,""]
[null,null,null,null,null,null,null,null,null,null,"",null,null,"",null,null,null,null,null,0,null,{"$f":"IF(C278=\"\",\"\",VLOOKUP(C278,Debiteuren!$A$2:$J$9998,10,0))&\"\"","v":""},{"$f":"IF(C278=\"\",\"\",VLOOKUP(C278,Debiteuren!$A$2:$O$9998,15,0)&\"\"&VLOOKUP(C278,Debiteuren!$A$2:$N$9998,14,0))","v":""},null,"","",0,""]
[null,null,null,null,null,null,null,null,null,null,"",null,null,"",null,null,null,null,null,0,null,{"$f":"IF(C279=\"\",\"\",VLOOKUP(C279,Debiteuren!$A$2:$J$9998,10,0))&\"\"","v":""},{"$f":"IF(C279=\"\",\"\",VLOOKUP(C279,Debiteuren!$A$2:$O$9998,15,0)&\"\"&VLOOKUP(C279,Debiteuren!$A$2:$N$9998,14,0))","v":""},null,"","",0,""]
[null,null,null,null,null,null,null,null,null,null,"",null,null,"",null,null,null,null,null,0,null,{"$f":"IF(C280=\"\",\"\",VLOOKUP(C280,Debiteuren!$A$2:$J$9998,10,0))&\"\"","v":""},{"$f":"IF(C280=\"\",\"\",VLOOKUP(C280,Debiteuren!$A$2:$O$9998,15,0)&\"\"&VLOOKUP(C280,Debiteuren!$A$2:$N$9998,14,0))","v":""},null,"","",0,""]
[null,null,null,null,null,null,null,null,null,null,"",null,null,"",null,null,null,null,null,0,null,{"$f":"IF(C281=\"\",\"\",VLOOKUP(C281,Debiteuren!$A$2:$J$9998,10,0))&\"\"","v":""},{"$f":"IF(C281=\"\",\"\",VLOOKUP(C281,Debiteuren!$A$2:$O$9998,15,0)&\"\"&VLOOKUP(C281,Debiteuren!$A$2:$N$9998,14,0))","v":""},null,"","",0,""]
[null,null,null,null,null,null,null,null,null,null,"",null,null,"",null,null,null,null,null,0,null,{"$f":"IF(C282=\"\",\"\",VLOOKUP(C282,Debiteuren!$A$2:$J$9998,10,0))&\"\"","v":""},{"$f":"IF(C282=\"\",\"\",VLOOKUP(C282,Debiteuren!$A$2:$O$9998,15,0)&\"\"&VLOOKUP(C282,Debiteuren!$A$2:$N$9998,14,0))","v":""},null,"","",0,""]
[null,null,null,null,null,null,null,null,null,null,"",null,null,"",null,null,null,null,null,0,null,{"$f":"IF(C283=\"\",\"\",VLOOKUP(C283,Debiteuren!$A$2:$J$9998,10,0))&\"\"","v":""},{"$f":"IF(C283=\"\",\"\",VLOOKUP(C283,Debiteuren!$A$2:$O$9998,15,0)&\"\"&VLOOKUP(C283,Debiteuren!$A$2:$N$9998,14,0))","v":""},null,"","",0,""]
[null,null,null,null,null,null,null,null,null,null,"",null,null,"",null,null,null,null,null,0,null,{"$f":"IF(C284=\"\",\"\",VLOOKUP(C284,Debiteuren!$A$2:$J$9998,10,0))&\"\"","v":""},{"$f":"IF(C284=\"\",\"\",VLOOKUP(C284,Debiteuren!$A$2:$O$9998,15,0)&\"\"&VLOOKUP(C284,Debiteuren!$A$2:$N$9998,14,0))","v":""},null,"","",0,""]
[null,null,null,null,null,null,null,null,null,null,"",null,null,"",null,null,null,null,null,0,null,{"$f":"IF(C285=\"\",\"\",VLOOKUP(C285,Debiteuren!$A$2:$J$9998,10,0))&\"\"","v":""},{"$f":"IF(C285=\"\",\"\",VLOOKUP(C285,Debiteuren!$A$2:$O$9998,15,0)&\"\"&VLOOKUP(C285,Debiteuren!$A$2:$N$9998,14,0))","v":""},null,"","",0,""]
[null,null,null,null,null,null,null,null,null,null,"",null,null,"",null,null,null,null,null,0,null,{"$f":"IF(C286=\"\",\"\",VLOOKUP(C286,Debiteuren!$A$2:$J$9998,10,0))&\"\"","v":""},{"$f":"IF(C286=\"\",\"\",VLOOKUP(C286,Debiteuren!$A$2:$O$9998,15,0)&\"\"&VLOOKUP(C286,Debiteuren!$A$2:$N$9998,14,0))","v":""},null,"","",0,""]
[null,null,null,null,null,null,null,null,null,null,"",null,null,"",null,null,null,null,null,0,null,{"$f":"IF(C287=\"\",\"\",VLOOKUP(C287,Debiteuren!$A$2:$J$9998,10,0))&\"\"","v":""},{"$f":"IF(C287=\"\",\"\",VLOOKUP(C287,Debiteuren!$A$2:$O$9998,15,0)&\"\"&VLOOKUP(C287,Debiteuren!$A$2:$N$9998,14,0))","v":""},null,"","",0,""]
[null,null,null,null,null,null,null,null,null,null,"",null,null,"",null,null,null,null,null,0,null,{"$f":"IF(C288=\"\",\"\",VLOOKUP(C288,Debiteuren!$A$2:$J$9998,10,0))&\"\"","v":""},{"$f":"IF(C288=\"\",\"\",VLOOKUP(C288,Debiteuren!$A$2:$O$9998,15,0)&\"\"&VLOOKUP(C288,Debiteuren!$A$2:$N$9998,14,0))","v":""},null,"","",0,""]
[null,null,null,null,null,null,null,null,null,null,"",null,null,"",null,null,null,null,null,0,null,{"$f":"IF(C289=\"\",\"\",VLOOKUP(C289,Debiteuren!$A$2:$J$9998,10,0))&\"\"","v":""},{"$f":"IF(C289=\"\",\"\",VLOOKUP(C289,Debiteuren!$A$2:$O$9998,15,0)&\"\"&VLOOKUP(C289,Debiteuren!$A$2:$N$9998,14,0))","v":""},null,"","",0,""]
[null,null,null,null,null,null,null,null,null,null,"",null,null,"",null,null,null,null,null,0,null,{"$f":"IF(C290=\"\",\"\",VLOOKUP(C290,Debiteuren!$A$2:$J$9998,10,0))&\"\"","v":""},{"$f":"IF(C290=\"\",\"\",VLOOKUP(C290,Debiteuren!$A$2:$O$9998,15,0)&\"\"&VLOOKUP(C290,Debiteuren!$A$2:$N$9998,14,0))","v":""},null,"","",0,""]
[null,null,null,null,null,null,null,null,null,null,"",null,null,"",null,null,null,null,null,0,null,{"$f":"IF(C291=\"\",\"\",VLOOKUP(C291,Debiteuren!$A$2:$J$9998,10,0))&\"\"","v":""},{"$f":"IF(C291=\"\",\"\",VLOOKUP(C291,Debiteuren!$A$2:$O$9998,15,0)&\"\"&VLOOKUP(C291,Debiteuren!$A$2:$N$9998,14,0))","v":""},null,"","",0,""]
[null,null,null,null,null,null,null,null,null,null,"",null,null,"",null,null,null,null,null,0,null,{"$f":"IF(C292=\"\",\"\",VLOOKUP(C292,Debiteuren!$A$2:$J$9998,10,0))&\"\"","v":""},{"$f":"IF(C292=\"\",\"\",VLOOKUP(C292,Debiteuren!$A$2:$O$9998,15,0)&\"\"&VLOOKUP(C292,Debiteuren!$A$2:$N$9998,14,0))","v":""},null,"","",0,""]
[null,null,null,null,null,null,null,null,null,null,"",null,null,"",null,null,null,null,null,0,null,{"$f":"IF(C293=\"\",\"\",VLOOKUP(C293,Debiteuren!$A$2:$J$9998,10,0))&\"\"","v":""},{"$f":"IF(C293=\"\",\"\",VLOOKUP(C293,Debiteuren!$A$2:$O$9998,15,0)&\"\"&VLOOKUP(C293,Debiteuren!$A$2:$N$9998,14,0))","v":""},null,"","",0,""]
[null,null,null,null,null,null,null,null,null,null,"",null,null,"",null,null,null,null,null,0,null,{"$f":"IF(C294=\"\",\"\",VLOOKUP(C294,Debiteuren!$A$2:$J$9998,10,0))&\"\"","v":""},{"$f":"IF(C294=\"\",\"\",VLOOKUP(C294,Debiteuren!$A$2:$O$9998,15,0)&\"\"&VLOOKUP(C294,Debiteuren!$A$2:$N$9998,14,0))","v":""},null,"","",0,""]
[null,null,null,null,null,null,null,null,null,null,"",null,null,"",null,null,null,null,null,0,null,{"$f":"IF(C295=\"\",\"\",VLOOKUP(C295,Debiteuren!$A$2:$J$9998,10,0))&\"\"","v":""},{"$f":"IF(C295=\"\",\"\",VLOOKUP(C295,Debiteuren!$A$2:$O$9998,15,0)&\"\"&VLOOKUP(C295,Debiteuren!$A$2:$N$9998,14,0))","v":""},null,"","",0,""]
[null,null,null,null,null,null,null,null,null,null,"",null,null,"",null,null,null,null,null,0,null,{"$f":"IF(C296=\"\",\"\",VLOOKUP(C296,Debiteuren!$A$2:$J$9998,10,0))&\"\"","v":""},{"$f":"IF(C296=\"\",\"\",VLOOKUP(C296,Debiteuren!$A$2:$O$9998,15,0)&\"\"&VLOOKUP(C296,Debiteuren!$A$2:$N$9998,14,0))","v":""},null,"","",0,""]
[null,null,null,null,null,null,null,null,null,null,"",null,null,"",null,null,null,null,null,0,null,{"$f":"IF(C297=\"\",\"\",VLOOKUP(C297,Debiteuren!$A$2:$J$9998,10,0))&\"\"","v":""},{"$f":"IF(C297=\"\",\"\",VLOOKUP(C297,Debiteuren!$A$2:$O$9998,15,0)&\"\"&VLOOKUP(C297,Debiteuren!$A$2:$N$9998,14,0))","v":""},null,"","",0,""]
[null,null,null,null,null,null,null,null,null,null,"",null,null,"",null,null,null,null,null,0,null,{"$f":"IF(C298=\"\",\"\",VLOOKUP(C298,Debiteuren!$A$2:$J$9998,10,0))&\"\"","v":""},{"$f":"IF(C298=\"\",\"\",VLOOKUP(C298,Debiteuren!$A$2:$O$9998,15,0)&\"\"&VLOOKUP(C298,Debiteuren!$A$2:$N$9998,14,0))","v":""},null,"","",0,""]
[null,null,null,null,null,null,null,null,null,null,"",null,null,"",null,null,null,null,null,0,null,{"$f":"IF(C299=\"\",\"\",VLOOKUP(C299,Debiteuren!$A$2:$J$9998,10,0))&\"\"","v":""},{"$f":"IF(C299=\"\",\"\",VLOOKUP(C299,Debiteuren!$A$2:$O$9998,15,0)&\"\"&VLOOKUP(C299,Debiteuren!$A$2:$N$9998,14,0))","v":""},null,"","",0,""]
[null,null,null,null,null,null,null,null,null,null,"",null,null,"",null,null,null,null,null,0,null,{"$f":"IF(C300=\"\",\"\",VLOOKUP(C300,Debiteuren!$A$2:$J$9998,10,0))&\"\"","v":""},{"$f":"IF(C300=\"\",\"\",VLOOKUP(C300,Debiteuren!$A$2:$O$9998,15,0)&\"\"&VLOOKUP(C300,Debiteuren!$A$2:$N$9998,14,0))","v":""},null,"","",0,""]
[null,null,null,null,null,null,null,null,null,null,"",null,null,"",null,null,null,null,null,0,null,{"$f":"IF(C301=\"\",\"\",VLOOKUP(C301,Debiteuren!$A$2:$J$9998,10,0))&\"\"","v":""},{"$f":"IF(C301=\"\",\"\",VLOOKUP(C301,Debiteuren!$A$2:$O$9998,15,0)&\"\"&VLOOKUP(C301,Debiteuren!$A$2:$N$9998,14,0))","v":""},null,"","",0,""]
[null,null,null,null,null,null,null,null,null,null,"",null,null,"",null,null,null,null,null,0,null,{"$f":"IF(C302=\"\",\"\",VLOOKUP(C302,Debiteuren!$A$2:$J$9998,10,0))&\"\"","v":""},{"$f":"IF(C302=\"\",\"\",VLOOKUP(C302,Debiteuren!$A$2:$O$9998,15,0)&\"\"&VLOOKUP(C302,Debiteuren!$A$2:$N$9998,14,0))","v":""},null,{"$f":"IF(D302=\"\",\"\",DATEDIF(D302,TODAY(),\"d\"))","v":""},{"$f":"IF(G302=\"\",\"\",DATEDIF(D302,G302,\"d\"))","v":""},{"$f":"DATEDIF(D302,H302,\"d\")","v":0},{"$f":"IF(Y302=\"\",\"\",Y302-AA302)","v":""}]
[null,null,null,null,null,null,null,null,null,null,"",null,null,"",null,null,null,null,null,{"$f":"IF(B303=1,E303,0)","v":0},null,{"$f":"IF(C303=\"\",\"\",VLOOKUP(C303,Debiteuren!$A$2:$J$9998,10,0))&\"\"","v":""},{"$f":"IF(C303=\"\",\"\",VLOOKUP(C303,Debiteuren!$A$2:$O$9998,15,0)&\"\"&VLOOKUP(C303,Debiteuren!$A$2:$N$9998,14,0))","v":""},null,"","",0,""]
[null,null,null,null,null,null,null,null,null,null,"",null,null,"",null,null,null,null,null,0,null,{"$f":"IF(C304=\"\",\"\",VLOOKUP(C304,Debiteuren!$A$2:$J$9998,10,0))&\"\"","v":""},{"$f":"IF(C304=\"\",\"\",VLOOKUP(C304,Debiteuren!$A$2:$O$9998,15,0)&\"\"&VLOOKUP(C304,Debiteuren!$A$2:$N$9998,14,0))","v":""},null,"","",0,""]
[null,null,null,null,null,null,null,null,null,null,"",null,null,"",null,null,null,null,null,0,null,{"$f":"IF(C305=\"\",\"\",VLOOKUP(C305,Debiteuren!$A$2:$J$9998,10,0))&\"\"","v":""},{"$f":"IF(C305=\"\",\"\",VLOOKUP(C305,Debiteuren!$A$2:$O$9998,15,0)&\"\"&VLOOKUP(C305,Debiteuren!$A$2:$N$9998,14,0))","v":""},null,"","",0,""]
[null,null,null,null,null,null,null,null,null,null,"",null,null,"",null,null,null,null,null,0,null,{"$f":"IF(C306=\"\",\"\",VLOOKUP(C306,Debiteuren!$A$2:$J$9998,10,0))&\"\"","v":""},{"$f":"IF(C306=\"\",\"\",VLOOKUP(C306,Debiteuren!$A$2:$O$9998,15,0)&\"\"&VLOOKUP(C306,Debiteuren!$A$2:$N$9998,14,0))","v":""},null,"","",0,""]
[null,null,null,null,null,null,null,null,null,null,"",null,null,"",null,null,null,null,null,0,null,{"$f":"IF(C307=\"\",\"\",VLOOKUP(C307,Debiteuren!$A$2:$J$9998,10,0))&\"\"","v":""},{"$f":"IF(C307=\"\",\"\",VLOOKUP(C307,Debiteuren!$A$2:$O$9998,15,0)&\"\"&VLOOKUP(C307,Debiteuren!$A$2:$N$9998,14,0))","v":""},null,"","",0,""]
[null,null,null,null,null,null,null,null,null,null,"",null,null,"",null,null,null,null,null,0,null,{"$f":"IF(C308=\"\",\"\",VLOOKUP(C308,Debiteuren!$A$2:$J$9998,10,0))&\"\"","v":""},{"$f":"IF(C308=\"\",\"\",VLOOKUP(C308,Debiteuren!$A$2:$O$9998,15,0)&\"\"&VLOOKUP(C308,Debiteuren!$A$2:$N$9998,14,0))","v":""},null,"","",0,""]
[null,null,null,null,null,null,null,null,null,null,"",null,null,"",null,null,null,null,null,0,null,{"$f":"IF(C309=\"\",\"\",VLOOKUP(C309,Debiteuren!$A$2:$J$9998,10,0))&\"\"","v":""},{"$f":"IF(C309=\"\",\"\",VLOOKUP(C309,Debiteuren!$A$2:$O$9998,15,0)&\"\"&VLOOKUP(C309,Debiteuren!$A$2:$N$9998,14,0))","v":""},null,"","",0,""]
[null,null,null,null,null,null,null,null,null,null,"",null,null,"",null,null,null,null,null,0,null,{"$f":"IF(C310=\"\",\"\",VLOOKUP(C310,Debiteuren!$A$2:$J$9998,10,0))&\"\"","v":""},{"$f":"IF(C310=\"\",\"\",VLOOKUP(C310,Debiteuren!$A$2:$O$9998,15,0)&\"\"&VLOOKUP(C310,Debiteuren!$A$2:$N$9998,14,0))","v":""},null,"","",0,""]
[null,null,null,null,null,null,null,null,null,null,"",null,null,"",null,null,null,null,null,0,null,{"$f":"IF(C311=\"\",\"\",VLOOKUP(C311,Debiteuren!$A$2:$J$9998,10,0))&\"\"","v":""},{"$f":"IF(C311=\"\",\"\",VLOOKUP(C311,Debiteuren!$A$2:$O$9998,15,0)&\"\"&VLOOKUP(C311,Debiteuren!$A$2:$N$9998,14,0))","v":""},null,"","",0,""]
[null,null,null,null,null,null,null,null,null,null,"",null,null,"",null,null,null,null,null,0,null,{"$f":"IF(C312=\"\",\"\",VLOOKUP(C312,Debiteuren!$A$2:$J$9998,10,0))&\"\"","v":""},{"$f":"IF(C312=\"\",\"\",VLOOKUP(C312,Debiteuren!$A$2:$O$9998,15,0)&\"\"&VLOOKUP(C312,Debiteuren!$A$2:$N$9998,14,0))","v":""},null,"","",0,""]
[null,null,null,null,null,null,null,null,null,null,{"$f":"IF(D313=\"\",\"\",\"\"&\"Kwartaal \"&MONTH(MONTH(D313)&0)&TEXT(D313,\" - mmm JJJJ\"))","v":""},null,null,{"$f":"IF(E313=\"\",\"\",(E313)-(F313))","v":""},null,null,null,null,null,0,null,{"$f":"IF(C313=\"\",\"\",VLOOKUP(C313,Debiteuren!$A$2:$J$9998,10,0))&\"\"","v":""},{"$f":"IF(C313=\"\",\"\",VLOOKUP(C313,Debiteuren!$A$2:$O$9998,15,0)&\"\"&VLOOKUP(C313,Debiteuren!$A$2:$N$9998,14,0))","v":""},null,"","",0,""]
[null,null,null,null,null,null,null,null,null,null,"",null,null,"",null,null,null,null,null,0,null,{"$f":"IF(C314=\"\",\"\",VLOOKUP(C314,Debiteuren!$A$2:$J$9998,10,0))&\"\"","v":""},{"$f":"IF(C314=\"\",\"\",VLOOKUP(C314,Debiteuren!$A$2:$O$9998,15,0)&\"\"&VLOOKUP(C314,Debiteuren!$A$2:$N$9998,14,0))","v":""},null,"","",0,""]
[null,null,null,null,null,null,null,null,null,null,"",null,null,"",null,null,null,null,null,0,null,{"$f":"IF(C315=\"\",\"\",VLOOKUP(C315,Debiteuren!$A$2:$J$9998,10,0))&\"\"","v":""},{"$f":"IF(C315=\"\",\"\",VLOOKUP(C315,Debiteuren!$A$2:$O$9998,15,0)&\"\"&VLOOKUP(C315,Debiteuren!$A$2:$N$9998,14,0))","v":""},null,"","",0,""]
[null,null,null,null,null,null,null,null,null,null,"",null,null,"",null,null,null,null,null,0,null,{"$f":"IF(C316=\"\",\"\",VLOOKUP(C316,Debiteuren!$A$2:$J$9998,10,0))&\"\"","v":""},{"$f":"IF(C316=\"\",\"\",VLOOKUP(C316,Debiteuren!$A$2:$O$9998,15,0)&\"\"&VLOOKUP(C316,Debiteuren!$A$2:$N$9998,14,0))","v":""},null,"","",0,""]
[null,null,null,null,null,null,null,null,null,null,"",null,null,"",null,null,null,null,null,0,null,{"$f":"IF(C317=\"\",\"\",VLOOKUP(C317,Debiteuren!$A$2:$J$9998,10,0))&\"\"","v":""},{"$f":"IF(C317=\"\",\"\",VLOOKUP(C317,Debiteuren!$A$2:$O$9998,15,0)&\"\"&VLOOKUP(C317,Debiteuren!$A$2:$N$9998,14,0))","v":""},null,"","",0,""]
[null,null,null,null,null,null,null,null,null,null,"",null,null,"",null,null,null,null,null,0,null,{"$f":"IF(C318=\"\",\"\",VLOOKUP(C318,Debiteuren!$A$2:$J$9998,10,0))&\"\"","v":""},{"$f":"IF(C318=\"\",\"\",VLOOKUP(C318,Debiteuren!$A$2:$O$9998,15,0)&\"\"&VLOOKUP(C318,Debiteuren!$A$2:$N$9998,14,0))","v":""},null,"","",0,""]
[null,null,null,null,null,null,null,null,null,null,"",null,null,"",null,null,null,null,null,0,null,{"$f":"IF(C319=\"\",\"\",VLOOKUP(C319,Debiteuren!$A$2:$J$9998,10,0))&\"\"","v":""},{"$f":"IF(C319=\"\",\"\",VLOOKUP(C319,Debiteuren!$A$2:$O$9998,15,0)&\"\"&VLOOKUP(C319,Debiteuren!$A$2:$N$9998,14,0))","v":""},null,"","",0,""]
[null,null,null,null,null,null,null,null,null,null,"",null,null,"",null,null,null,null,null,0,null,{"$f":"IF(C320=\"\",\"\",VLOOKUP(C320,Debiteuren!$A$2:$J$9998,10,0))&\"\"","v":""},{"$f":"IF(C320=\"\",\"\",VLOOKUP(C320,Debiteuren!$A$2:$O$9998,15,0)&\"\"&VLOOKUP(C320,Debiteuren!$A$2:$N$9998,14,0))","v":""},null,"","",0,""]
[null,null,null,null,null,null,null,null,null,null,"",null,null,"",null,null,null,null,null,0,null,{"$f":"IF(C321=\"\",\"\",VLOOKUP(C321,Debiteuren!$A$2:$J$9998,10,0))&\"\"","v":""},{"$f":"IF(C321=\"\",\"\",VLOOKUP(C321,Debiteuren!$A$2:$O$9998,15,0)&\"\"&VLOOKUP(C321,Debiteuren!$A$2:$N$9998,14,0))","v":""},null,"","",0,""]
[null,null,null,null,null,null,null,null,null,null,"",null,null,"",null,null,null,null,null,0,null,{"$f":"IF(C322=\"\",\"\",VLOOKUP(C322,Debiteuren!$A$2:$J$9998,10,0))&\"\"","v":""},{"$f":"IF(C322=\"\",\"\",VLOOKUP(C322,Debiteuren!$A$2:$O$9998,15,0)&\"\"&VLOOKUP(C322,Debiteuren!$A$2:$N$9998,14,0))","v":""},null,"","",0,""]
[null,null,null,null,null,null,null,null,null,null,"",null,null,"",null,null,null,null,null,0,null,{"$f":"IF(C323=\"\",\"\",VLOOKUP(C323,Debiteuren!$A$2:$J$9998,10,0))&\"\"","v":""},{"$f":"IF(C323=\"\",\"\",VLOOKUP(C323,Debiteuren!$A$2:$O$9998,15,0)&\"\"&VLOOKUP(C323,Debiteuren!$A$2:$N$9998,14,0))","v":""},null,"","",0,""]
[null,null,null,null,null,null,null,null,null,null,"",null,null,"",null,null,null,null,null,0,null,{"$f":"IF(C324=\"\",\"\",VLOOKUP(C324,Debiteuren!$A$2:$J$9998,10,0))&\"\"","v":""},{"$f":"IF(C324=\"\",\"\",VLOOKUP(C324,Debiteuren!$A$2:$O$9998,15,0)&\"\"&VLOOKUP(C324,Debiteuren!$A$2:$N$9998,14,0))","v":""},null,"","",0,""]
[null,null,null,null,null,null,null,null,null,null,"",null,null,"",null,null,null,null,null,0,null,{"$f":"IF(C325=\"\",\"\",VLOOKUP(C325,Debiteuren!$A$2:$J$9998,10,0))&\"\"","v":""},{"$f":"IF(C325=\"\",\"\",VLOOKUP(C325,Debiteuren!$A$2:$O$9998,15,0)&\"\"&VLOOKUP(C325,Debiteuren!$A$2:$N$9998,14,0))","v":""},null,"","",0,""]
[null,null,null,null,null,null,null,null,null,null,"",null,null,"",null,null,null,null,null,0,null,{"$f":"IF(C326=\"\",\"\",VLOOKUP(C326,Debiteuren!$A$2:$J$9998,10,0))&\"\"","v":""},{"$f":"IF(C326=\"\",\"\",VLOOKUP(C326,Debiteuren!$A$2:$O$9998,15,0)&\"\"&VLOOKUP(C326,Debiteuren!$A$2:$N$9998,14,0))","v":""},null,"","",0,""]
[null,null,null,null,null,null,null,null,null,null,"",null,null,"",null,null,null,null,null,0,null,{"$f":"IF(C327=\"\",\"\",VLOOKUP(C327,Debiteuren!$A$2:$J$9998,10,0))&\"\"","v":""},{"$f":"IF(C327=\"\",\"\",VLOOKUP(C327,Debiteuren!$A$2:$O$9998,15,0)&\"\"&VLOOKUP(C327,Debiteuren!$A$2:$N$9998,14,0))","v":""},null,"","",0,""]
[null,null,null,null,null,null,null,null,null,null,"",null,null,"",null,null,null,null,null,0,null,{"$f":"IF(C328=\"\",\"\",VLOOKUP(C328,Debiteuren!$A$2:$J$9998,10,0))&\"\"","v":""},{"$f":"IF(C328=\"\",\"\",VLOOKUP(C328,Debiteuren!$A$2:$O$9998,15,0)&\"\"&VLOOKUP(C328,Debiteuren!$A$2:$N$9998,14,0))","v":""},null,"","",0,""]
[null,null,null,null,null,null,null,null,null,null,"",null,null,"",null,null,null,null,null,0,null,{"$f":"IF(C329=\"\",\"\",VLOOKUP(C329,Debiteuren!$A$2:$J$9998,10,0))&\"\"","v":""},{"$f":"IF(C329=\"\",\"\",VLOOKUP(C329,Debiteuren!$A$2:$O$9998,15,0)&\"\"&VLOOKUP(C329,Debiteuren!$A$2:$N$9998,14,0))","v":""},null,"","",0,""]
[null,null,null,null,null,null,null,null,null,null,"",null,null,"",null,null,null,null,null,0,null,{"$f":"IF(C330=\"\",\"\",VLOOKUP(C330,Debiteuren!$A$2:$J$9998,10,0))&\"\"","v":""},{"$f":"IF(C330=\"\",\"\",VLOOKUP(C330,Debiteuren!$A$2:$O$9998,15,0)&\"\"&VLOOKUP(C330,Debiteuren!$A$2:$N$9998,14,0))","v":""},null,"","",0,""]
[null,null,null,null,null,null,null,null,null,null,"",null,null,"",null,null,null,null,null,0,null,{"$f":"IF(C331=\"\",\"\",VLOOKUP(C331,Debiteuren!$A$2:$J$9998,10,0))&\"\"","v":""},{"$f":"IF(C331=\"\",\"\",VLOOKUP(C331,Debiteuren!$A$2:$O$9998,15,0)&\"\"&VLOOKUP(C331,Debiteuren!$A$2:$N$9998,14,0))","v":""},null,"","",0,""]
[null,null,null,null,null,null,null,null,null,null,"",null,null,"",null,null,null,null,null,0,null,{"$f":"IF(C332=\"\",\"\",VLOOKUP(C332,Debiteuren!$A$2:$J$9998,10,0))&\"\"","v":""},{"$f":"IF(C332=\"\",\"\",VLOOKUP(C332,Debiteuren!$A$2:$O$9998,15,0)&\"\"&VLOOKUP(C332,Debiteuren!$A$2:$N$9998,14,0))","v":""},null,"","",0,""]
[null,null,null,null,null,null,null,null,null,null,"",null,null,"",null,null,null,null,null,0,null,{"$f":"IF(C333=\"\",\"\",VLOOKUP(C333,Debiteuren!$A$2:$J$9998,10,0))&\"\"","v":""},{"$f":"IF(C333=\"\",\"\",VLOOKUP(C333,Debiteuren!$A$2:$O$9998,15,0)&\"\"&VLOOKUP(C333,Debiteuren!$A$2:$N$9998,14,0))","v":""},null,"","",0,""]
[null,null,null,null,null,null,null,null,null,null,"",null,null,"",null,null,null,null,null,0,null,{"$f":"IF(C334=\"\",\"\",VLOOKUP(C334,Debiteuren!$A$2:$J$9998,10,0))&\"\"","v":""},{"$f":"IF(C334=\"\",\"\",VLOOKUP(C334,Debiteuren!$A$2:$O$9998,15,0)&\"\"&VLOOKUP(C334,Debiteuren!$A$2:$N$9998,14,0))","v":""},null,"","",0,""]
[null,null,null,null,null,null,null,null,null,null,"",null,null,"",null,null,null,null,null,0,null,{"$f":"IF(C335=\"\",\"\",VLOOKUP(C335,Debiteuren!$A$2:$J$9998,10,0))&\"\"","v":""},{"$f":"IF(C335=\"\",\"\",VLOOKUP(C335,Debiteuren!$A$2:$O$9998,15,0)&\"\"&VLOOKUP(C335,Debiteuren!$A$2:$N$9998,14,0))","v":""},null,"","",0,""]
[null,null,null,null,null,null,null,null,null,null,"",null,null,"",null,null,null,null,null,0,null,{"$f":"IF(C336=\"\",\"\",VLOOKUP(C336,Debiteuren!$A$2:$J$9998,10,0))&\"\"","v":""},{"$f":"IF(C336=\"\",\"\",VLOOKUP(C336,Debiteuren!$A$2:$O$9998,15,0)&\"\"&VLOOKUP(C336,Debiteuren!$A$2:$N$9998,14,0))","v":""},null,"","",0,""]
[null,null,null,null,null,null,null,null,null,null,"",null,null,"",null,null,null,null,null,0,null,{"$f":"IF(C337=\"\",\"\",VLOOKUP(C337,Debiteuren!$A$2:$J$9998,10,0))&\"\"","v":""},{"$f":"IF(C337=\"\",\"\",VLOOKUP(C337,Debiteuren!$A$2:$O$9998,15,0)&\"\"&VLOOKUP(C337,Debiteuren!$A$2:$N$9998,14,0))","v":""},null,"","",0,""]
[null,null,null,null,null,null,null,null,null,null,"",null,null,"",null,null,null,null,null,0,null,{"$f":"IF(C338=\"\",\"\",VLOOKUP(C338,Debiteuren!$A$2:$J$9998,10,0))&\"\"","v":""},{"$f":"IF(C338=\"\",\"\",VLOOKUP(C338,Debiteuren!$A$2:$O$9998,15,0)&\"\"&VLOOKUP(C338,Debiteuren!$A$2:$N$9998,14,0))","v":""},null,"","",0,""]
[null,null,null,null,null,null,null,null,null,null,"",null,null,"",null,null,null,null,null,0,null,{"$f":"IF(C339=\"\",\"\",VLOOKUP(C339,Debiteuren!$A$2:$J$9998,10,0))&\"\"","v":""},{"$f":"IF(C339=\"\",\"\",VLOOKUP(C339,Debiteuren!$A$2:$O$9998,15,0)&\"\"&VLOOKUP(C339,Debiteuren!$A$2:$N$9998,14,0))","v":""},null,"","",0,""]
[null,null,null,null,null,null,null,null,null,null,"",null,null,"",null,null,null,null,null,0,null,{"$f":"IF(C340=\"\",\"\",VLOOKUP(C340,Debiteuren!$A$2:$J$9998,10,0))&\"\"","v":""},{"$f":"IF(C340=\"\",\"\",VLOOKUP(C340,Debiteuren!$A$2:$O$9998,15,0)&\"\"&VLOOKUP(C340,Debiteuren!$A$2:$N$9998,14,0))","v":""},null,"","",0,""]
[null,null,null,null,null,null,null,null,null,null,"",null,null,"",null,null,null,null,null,0,null,{"$f":"IF(C341=\"\",\"\",VLOOKUP(C341,Debiteuren!$A$2:$J$9998,10,0))&\"\"","v":""},{"$f":"IF(C341=\"\",\"\",VLOOKUP(C341,Debiteuren!$A$2:$O$9998,15,0)&\"\"&VLOOKUP(C341,Debiteuren!$A$2:$N$9998,14,0))","v":""},null,"","",0,""]
[null,null,null,null,null,null,null,null,null,null,"",null,null,"",null,null,null,null,null,0,null,{"$f":"IF(C342=\"\",\"\",VLOOKUP(C342,Debiteuren!$A$2:$J$9998,10,0))&\"\"","v":""},{"$f":"IF(C342=\"\",\"\",VLOOKUP(C342,Debiteuren!$A$2:$O$9998,15,0)&\"\"&VLOOKUP(C342,Debiteuren!$A$2:$N$9998,14,0))","v":""},null,"","",0,""]
[null,null,null,null,null,null,null,null,null,null,"",null,null,"",null,null,null,null,null,0,null,{"$f":"IF(C343=\"\",\"\",VLOOKUP(C343,Debiteuren!$A$2:$J$9998,10,0))&\"\"","v":""},{"$f":"IF(C343=\"\",\"\",VLOOKUP(C343,Debiteuren!$A$2:$O$9998,15,0)&\"\"&VLOOKUP(C343,Debiteuren!$A$2:$N$9998,14,0))","v":""},null,"","",0,""]
[null,null,null,null,null,null,null,null,null,null,"",null,null,"",null,null,null,null,null,0,null,{"$f":"IF(C344=\"\",\"\",VLOOKUP(C344,Debiteuren!$A$2:$J$9998,10,0))&\"\"","v":""},{"$f":"IF(C344=\"\",\"\",VLOOKUP(C344,Debiteuren!$A$2:$O$9998,15,0)&\"\"&VLOOKUP(C344,Debiteuren!$A$2:$N$9998,14,0))","v":""},null,"","",0,""]
[null,null,null,null,null,null,null,null,null,null,"",null,null,"",null,null,null,null,null,0,null,{"$f":"IF(C345=\"\",\"\",VLOOKUP(C345,Debiteuren!$A$2:$J$9998,10,0))&\"\"","v":""},{"$f":"IF(C345=\"\",\"\",VLOOKUP(C345,Debiteuren!$A$2:$O$9998,15,0)&\"\"&VLOOKUP(C345,Debiteuren!$A$2:$N$9998,14,0))","v":""},null,"","",0,""]
[null,null,null,null,null,null,null,null,null,null,"",null,null,"",null,null,null,null,null,0,null,{"$f":"IF(C346=\"\",\"\",VLOOKUP(C346,Debiteuren!$A$2:$J$9998,10,0))&\"\"","v":""},{"$f":"IF(C346=\"\",\"\",VLOOKUP(C346,Debiteuren!$A$2:$O$9998,15,0)&\"\"&VLOOKUP(C346,Debiteuren!$A$2:$N$9998,14,0))","v":""},null,"","",0,""]
[null,null,null,null,null,null,null,null,null,null,"",null,null,"",null,null,null,null,null,0,null,{"$f":"IF(C347=\"\",\"\",VLOOKUP(C347,Debiteuren!$A$2:$J$9998,10,0))&\"\"","v":""},{"$f":"IF(C347=\"\",\"\",VLOOKUP(C347,Debiteuren!$A$2:$O$9998,15,0)&\"\"&VLOOKUP(C347,Debiteuren!$A$2:$N$9998,14,0))","v":""},null,"","",0,""]
[null,null,null,null,null,null,null,null,null,null,"",null,null,"",null,null,null,null,null,0,null,{"$f":"IF(C348=\"\",\"\",VLOOKUP(C348,Debiteuren!$A$2:$J$9998,10,0))&\"\"","v":""},{"$f":"IF(C348=\"\",\"\",VLOOKUP(C348,Debiteuren!$A$2:$O$9998,15,0)&\"\"&VLOOKUP(C348,Debiteuren!$A$2:$N$9998,14,0))","v":""},null,"","",0,""]
[null,null,null,null,null,null,null,null,null,null,"",null,null,"",null,null,null,null,null,0,null,{"$f":"IF(C349=\"\",\"\",VLOOKUP(C349,Debiteuren!$A$2:$J$9998,10,0))&\"\"","v":""},{"$f":"IF(C349=\"\",\"\",VLOOKUP(C349,Debiteuren!$A$2:$O$9998,15,0)&\"\"&VLOOKUP(C349,Debiteuren!$A$2:$N$9998,14,0))","v":""},null,"","",0,""]
[null,null,null,null,null,null,null,null,null,null,"",null,null,"",null,null,null,null,null,0,null,{"$f":"IF(C350=\"\",\"\",VLOOKUP(C350,Debiteuren!$A$2:$J$9998,10,0))&\"\"","v":""},{"$f":"IF(C350=\"\",\"\",VLOOKUP(C350,Debiteuren!$A$2:$O$9998,15,0)&\"\"&VLOOKUP(C350,Debiteuren!$A$2:$N$9998,14,0))","v":""},null,"","",0,""]
[null,null,null,null,null,null,null,null,null,null,"",null,null,"",null,null,null,null,null,0,null,{"$f":"IF(C351=\"\",\"\",VLOOKUP(C351,Debiteuren!$A$2:$J$9998,10,0))&\"\"","v":""},{"$f":"IF(C351=\"\",\"\",VLOOKUP(C351,Debiteuren!$A$2:$O$9998,15,0)&\"\"&VLOOKUP(C351,Debiteuren!$A$2:$N$9998,14,0))","v":""},null,"","",0,""]
[null,null,null,null,null,null,null,null,null,null,"",null,null,"",null,null,null,null,null,0,null,{"$f":"IF(C352=\"\",\"\",VLOOKUP(C352,Debiteuren!$A$2:$J$9998,10,0))&\"\"","v":""},{"$f":"IF(C352=\"\",\"\",VLOOKUP(C352,Debiteuren!$A$2:$O$9998,15,0)&\"\"&VLOOKUP(C352,Debiteuren!$A$2:$N$9998,14,0))","v":""},null,"","",0,""]
[null,null,null,null,null,null,null,null,null,null,"",null,null,"",null,null,null,null,null,0,null,{"$f":"IF(C353=\"\",\"\",VLOOKUP(C353,Debiteuren!$A$2:$J$9998,10,0))&\"\"","v":""},{"$f":"IF(C353=\"\",\"\",VLOOKUP(C353,Debiteuren!$A$2:$O$9998,15,0)&\"\"&VLOOKUP(C353,Debiteuren!$A$2:$N$9998,14,0))","v":""},null,"","",0,""]
[null,null,null,null,null,null,null,null,null,null,"",null,null,"",null,null,null,null,null,0,null,{"$f":"IF(C354=\"\",\"\",VLOOKUP(C354,Debiteuren!$A$2:$J$9998,10,0))&\"\"","v":""},{"$f":"IF(C354=\"\",\"\",VLOOKUP(C354,Debiteuren!$A$2:$O$9998,15,0)&\"\"&VLOOKUP(C354,Debiteuren!$A$2:$N$9998,14,0))","v":""},null,"","",0,""]
[null,null,null,null,null,null,null,null,null,null,"",null,null,"",null,null,null,null,null,0,null,{"$f":"IF(C355=\"\",\"\",VLOOKUP(C355,Debiteuren!$A$2:$J$9998,10,0))&\"\"","v":""},{"$f":"IF(C355=\"\",\"\",VLOOKUP(C355,Debiteuren!$A$2:$O$9998,15,0)&\"\"&VLOOKUP(C355,Debiteuren!$A$2:$N$9998,14,0))","v":""},null,"","",0,""]
[null,null,null,null,null,null,null,null,null,null,"",null,null,"",null,null,null,null,null,0,null,{"$f":"IF(C356=\"\",\"\",VLOOKUP(C356,Debiteuren!$A$2:$J$9998,10,0))&\"\"","v":""},{"$f":"IF(C356=\"\",\"\",VLOOKUP(C356,Debiteuren!$A$2:$O$9998,15,0)&\"\"&VLOOKUP(C356,Debiteuren!$A$2:$N$9998,14,0))","v":""},null,"","",0,""]
[null,null,null,null,null,null,null,null,null,null,"",null,null,"",null,null,null,null,null,0,null,{"$f":"IF(C357=\"\",\"\",VLOOKUP(C357,Debiteuren!$A$2:$J$9998,10,0))&\"\"","v":""},{"$f":"IF(C357=\"\",\"\",VLOOKUP(C357,Debiteuren!$A$2:$O$9998,15,0)&\"\"&VLOOKUP(C357,Debiteuren!$A$2:$N$9998,14,0))","v":""},null,"","",0,""]
[null,null,null,null,null,null,null,null,null,null,"",null,null,"",null,null,null,null,null,0,null,{"$f":"IF(C358=\"\",\"\",VLOOKUP(C358,Debiteuren!$A$2:$J$9998,10,0))&\"\"","v":""},{"$f":"IF(C358=\"\",\"\",VLOOKUP(C358,Debiteuren!$A$2:$O$9998,15,0)&\"\"&VLOOKUP(C358,Debiteuren!$A$2:$N$9998,14,0))","v":""},null,"","",0,""]
[null,null,null,null,null,null,null,null,null,null,"",null,null,"",null,null,null,null,null,0,null,{"$f":"IF(C359=\"\",\"\",VLOOKUP(C359,Debiteuren!$A$2:$J$9998,10,0))&\"\"","v":""},{"$f":"IF(C359=\"\",\"\",VLOOKUP(C359,Debiteuren!$A$2:$O$9998,15,0)&\"\"&VLOOKUP(C359,Debiteuren!$A$2:$N$9998,14,0))","v":""},null,"","",0,""]
[null,null,null,null,null,null,null,null,null,null,"",null,null,"",null,null,null,null,null,0,null,{"$f":"IF(C360=\"\",\"\",VLOOKUP(C360,Debiteuren!$A$2:$J$9998,10,0))&\"\"","v":""},{"$f":"IF(C360=\"\",\"\",VLOOKUP(C360,Debiteuren!$A$2:$O$9998,15,0)&\"\"&VLOOKUP(C360,Debiteuren!$A$2:$N$9998,14,0))","v":""},null,"","",0,""]
[null,null,null,null,null,null,null,null,null,null,"",null,null,"",null,null,null,null,null,0,null,{"$f":"IF(C361=\"\",\"\",VLOOKUP(C361,Debiteuren!$A$2:$J$9998,10,0))&\"\"","v":""},{"$f":"IF(C361=\"\",\"\",VLOOKUP(C361,Debiteuren!$A$2:$O$9998,15,0)&\"\"&VLOOKUP(C361,Debiteuren!$A$2:$N$9998,14,0))","v":""},null,"","",0,""]
[null,null,null,null,null,null,null,null,null,null,"",null,null,"",null,null,null,null,null,0,null,{"$f":"IF(C362=\"\",\"\",VLOOKUP(C362,Debiteuren!$A$2:$J$9998,10,0))&\"\"","v":""},{"$f":"IF(C362=\"\",\"\",VLOOKUP(C362,Debiteuren!$A$2:$O$9998,15,0)&\"\"&VLOOKUP(C362,Debiteuren!$A$2:$N$9998,14,0))","v":""},null,"","",0,""]
[null,null,null,null,null,null,null,null,null,null,"",null,null,"",null,null,null,null,null,0,null,{"$f":"IF(C363=\"\",\"\",VLOOKUP(C363,Debiteuren!$A$2:$J$9998,10,0))&\"\"","v":""},{"$f":"IF(C363=\"\",\"\",VLOOKUP(C363,Debiteuren!$A$2:$O$9998,15,0)&\"\"&VLOOKUP(C363,Debiteuren!$A$2:$N$9998,14,0))","v":""},null,"","",0,""]
[null,null,null,null,null,null,null,null,null,null,"",null,null,"",null,null,null,null,null,0,null,{"$f":"IF(C364=\"\",\"\",VLOOKUP(C364,Debiteuren!$A$2:$J$9998,10,0))&\"\"","v":""},{"$f":"IF(C364=\"\",\"\",VLOOKUP(C364,Debiteuren!$A$2:$O$9998,15,0)&\"\"&VLOOKUP(C364,Debiteuren!$A$2:$N$9998,14,0))","v":""},null,"","",0,""]
[null,null,null,null,null,null,null,null,null,null,"",null,null,"",null,null,null,null,null,0,null,{"$f":"IF(C365=\"\",\"\",VLOOKUP(C365,Debiteuren!$A$2:$J$9998,10,0))&\"\"","v":""},{"$f":"IF(C365=\"\",\"\",VLOOKUP(C365,Debiteuren!$A$2:$O$9998,15,0)&\"\"&VLOOKUP(C365,Debiteuren!$A$2:$N$9998,14,0))","v":""},null,"","",0,""]
[null,null,null,null,null,null,null,null,null,null,"",null,null,"",null,null,null,null,null,0,null,{"$f":"IF(C366=\"\",\"\",VLOOKUP(C366,Debiteuren!$A$2:$J$9998,10,0))&\"\"","v":""},{"$f":"IF(C366=\"\",\"\",VLOOKUP(C366,Debiteuren!$A$2:$O$9998,15,0)&\"\"&VLOOKUP(C366,Debiteuren!$A$2:$N$9998,14,0))","v":""},null,{"$f":"IF(D366=\"\",\"\",DATEDIF(D366,TODAY(),\"d\"))","v":""},{"$f":"IF(G366=\"\",\"\",DATEDIF(D366,G366,\"d\"))","v":""},{"$f":"DATEDIF(D366,H366,\"d\")","v":0},{"$f":"IF(Y366=\"\",\"\",Y366-AA366)","v":""}]
[null,null,null,null,null,null,null,null,null,null,"",null,null,"",null,null,null,null,null,{"$f":"IF(B367=1,E367,0)","v":0},null,{"$f":"IF(C367=\"\",\"\",VLOOKUP(C367,Debiteuren!$A$2:$J$9998,10,0))&\"\"","v":""},{"$f":"IF(C367=\"\",\"\",VLOOKUP(C367,Debiteuren!$A$2:$O$9998,15,0)&\"\"&VLOOKUP(C367,Debiteuren!$A$2:$N$9998,14,0))","v":""},null,"","",0,""]
[null,null,null,null,null,null,null,null,null,null,"",null,null,"",null,null,null,null,null,0,null,{"$f":"IF(C368=\"\",\"\",VLOOKUP(C368,Debiteuren!$A$2:$J$9998,10,0))&\"\"","v":""},{"$f":"IF(C368=\"\",\"\",VLOOKUP(C368,Debiteuren!$A$2:$O$9998,15,0)&\"\"&VLOOKUP(C368,Debiteuren!$A$2:$N$9998,14,0))","v":""},null,"","",0,""]
[null,null,null,null,null,null,null,null,null,null,"",null,null,"",null,null,null,null,null,0,null,{"$f":"IF(C369=\"\",\"\",VLOOKUP(C369,Debiteuren!$A$2:$J$9998,10,0))&\"\"","v":""},{"$f":"IF(C369=\"\",\"\",VLOOKUP(C369,Debiteuren!$A$2:$O$9998,15,0)&\"\"&VLOOKUP(C369,Debiteuren!$A$2:$N$9998,14,0))","v":""},null,"","",0,""]
[null,null,null,null,null,null,null,null,null,null,"",null,null,"",null,null,null,null,null,0,null,{"$f":"IF(C370=\"\",\"\",VLOOKUP(C370,Debiteuren!$A$2:$J$9998,10,0))&\"\"","v":""},{"$f":"IF(C370=\"\",\"\",VLOOKUP(C370,Debiteuren!$A$2:$O$9998,15,0)&\"\"&VLOOKUP(C370,Debiteuren!$A$2:$N$9998,14,0))","v":""},null,"","",0,""]
[null,null,null,null,null,null,null,null,null,null,"",null,null,"",null,null,null,null,null,0,null,{"$f":"IF(C371=\"\",\"\",VLOOKUP(C371,Debiteuren!$A$2:$J$9998,10,0))&\"\"","v":""},{"$f":"IF(C371=\"\",\"\",VLOOKUP(C371,Debiteuren!$A$2:$O$9998,15,0)&\"\"&VLOOKUP(C371,Debiteuren!$A$2:$N$9998,14,0))","v":""},null,"","",0,""]
[null,null,null,null,null,null,null,null,null,null,"",null,null,"",null,null,null,null,null,0,null,{"$f":"IF(C372=\"\",\"\",VLOOKUP(C372,Debiteuren!$A$2:$J$9998,10,0))&\"\"","v":""},{"$f":"IF(C372=\"\",\"\",VLOOKUP(C372,Debiteuren!$A$2:$O$9998,15,0)&\"\"&VLOOKUP(C372,Debiteuren!$A$2:$N$9998,14,0))","v":""},null,"","",0,""]
[null,null,null,null,null,null,null,null,null,null,"",null,null,"",null,null,null,null,null,0,null,{"$f":"IF(C373=\"\",\"\",VLOOKUP(C373,Debiteuren!$A$2:$J$9998,10,0))&\"\"","v":""},{"$f":"IF(C373=\"\",\"\",VLOOKUP(C373,Debiteuren!$A$2:$O$9998,15,0)&\"\"&VLOOKUP(C373,Debiteuren!$A$2:$N$9998,14,0))","v":""},null,"","",0,""]
[null,null,null,null,null,null,null,null,null,null,"",null,null,"",null,null,null,null,null,0,null,{"$f":"IF(C374=\"\",\"\",VLOOKUP(C374,Debiteuren!$A$2:$J$9998,10,0))&\"\"","v":""},{"$f":"IF(C374=\"\",\"\",VLOOKUP(C374,Debiteuren!$A$2:$O$9998,15,0)&\"\"&VLOOKUP(C374,Debiteuren!$A$2:$N$9998,14,0))","v":""},null,"","",0,""]
[null,null,null,null,null,null,null,null,null,null,"",null,null,"",null,null,null,null,null,0,null,{"$f":"IF(C375=\"\",\"\",VLOOKUP(C375,Debiteuren!$A$2:$J$9998,10,0))&\"\"","v":""},{"$f":"IF(C375=\"\",\"\",VLOOKUP(C375,Debiteuren!$A$2:$O$9998,15,0)&\"\"&VLOOKUP(C375,Debiteuren!$A$2:$N$9998,14,0))","v":""},null,"","",0,""]
[null,null,null,null,null,null,null,null,null,null,"",null,null,"",null,null,null,null,null,0,null,{"$f":"IF(C376=\"\",\"\",VLOOKUP(C376,Debiteuren!$A$2:$J$9998,10,0))&\"\"","v":""},{"$f":"IF(C376=\"\",\"\",VLOOKUP(C376,Debiteuren!$A$2:$O$9998,15,0)&\"\"&VLOOKUP(C376,Debiteuren!$A$2:$N$9998,14,0))","v":""},null,"","",0,""]
[null,null,null,null,null,null,null,null,null,null,{"$f":"IF(D377=\"\",\"\",\"\"&\"Kwartaal \"&MONTH(MONTH(D377)&0)&TEXT(D377,\" - mmm JJJJ\"))","v":""},null,null,{"$f":"IF(E377=\"\",\"\",(E377)-(F377))","v":""},null,null,null,null,null,0,null,{"$f":"IF(C377=\"\",\"\",VLOOKUP(C377,Debiteuren!$A$2:$J$9998,10,0))&\"\"","v":""},{"$f":"IF(C377=\"\",\"\",VLOOKUP(C377,Debiteuren!$A$2:$O$9998,15,0)&\"\"&VLOOKUP(C377,Debiteuren!$A$2:$N$9998,14,0))","v":""},null,"","",0,""]
[null,null,null,null,null,null,null,null,null,null,"",null,null,"",null,null,null,null,null,0,null,{"$f":"IF(C378=\"\",\"\",VLOOKUP(C378,Debiteuren!$A$2:$J$9998,10,0))&\"\"","v":""},{"$f":"IF(C378=\"\",\"\",VLOOKUP(C378,Debiteuren!$A$2:$O$9998,15,0)&\"\"&VLOOKUP(C378,Debiteuren!$A$2:$N$9998,14,0))","v":""},null,"","",0,""]
[null,null,null,null,null,null,null,null,null,null,"",null,null,"",null,null,null,null,null,0,null,{"$f":"IF(C379=\"\",\"\",VLOOKUP(C379,Debiteuren!$A$2:$J$9998,10,0))&\"\"","v":""},{"$f":"IF(C379=\"\",\"\",VLOOKUP(C379,Debiteuren!$A$2:$O$9998,15,0)&\"\"&VLOOKUP(C379,Debiteuren!$A$2:$N$9998,14,0))","v":""},null,"","",0,""]
[null,null,null,null,null,null,null,null,null,null,"",null,null,"",null,null,null,null,null,0,null,{"$f":"IF(C380=\"\",\"\",VLOOKUP(C380,Debiteuren!$A$2:$J$9998,10,0))&\"\"","v":""},{"$f":"IF(C380=\"\",\"\",VLOOKUP(C380,Debiteuren!$A$2:$O$9998,15,0)&\"\"&VLOOKUP(C380,Debiteuren!$A$2:$N$9998,14,0))","v":""},null,"","",0,""]
[null,null,null,null,null,null,null,null,null,null,"",null,null,"",null,null,null,null,null,0,null,{"$f":"IF(C381=\"\",\"\",VLOOKUP(C381,Debiteuren!$A$2:$J$9998,10,0))&\"\"","v":""},{"$f":"IF(C381=\"\",\"\",VLOOKUP(C381,Debiteuren!$A$2:$O$9998,15,0)&\"\"&VLOOKUP(C381,Debiteuren!$A$2:$N$9998,14,0))","v":""},null,"","",0,""]
[null,null,null,null,null,null,null,null,null,null,"",null,null,"",null,null,null,null,null,0,null,{"$f":"IF(C382=\"\",\"\",VLOOKUP(C382,Debiteuren!$A$2:$J$9998,10,0))&\"\"","v":""},{"$f":"IF(C382=\"\",\"\",VLOOKUP(C382,Debiteuren!$A$2:$O$9998,15,0)&\"\"&VLOOKUP(C382,Debiteuren!$A$2:$N$9998,14,0))","v":""},null,"","",0,""]
[null,null,null,null,null,null,null,null,null,null,"",null,null,"",null,null,null,null,null,0,null,{"$f":"IF(C383=\"\",\"\",VLOOKUP(C383,Debiteuren!$A$2:$J$9998,10,0))&\"\"","v":""},{"$f":"IF(C383=\"\",\"\",VLOOKUP(C383,Debiteuren!$A$2:$O$9998,15,0)&\"\"&VLOOKUP(C383,Debiteuren!$A$2:$N$9998,14,0))","v":""},null,"","",0,""]
[null,null,null,null,null,null,null,null,null,null,"",null,null,"",null,null,null,null,null,0,null,{"$f":"IF(C384=\"\",\"\",VLOOKUP(C384,Debiteuren!$A$2:$J$9998,10,0))&\"\"","v":""},{"$f":"IF(C384=\"\",\"\",VLOOKUP(C384,Debiteuren!$A$2:$O$9998,15,0)&\"\"&VLOOKUP(C384,Debiteuren!$A$2:$N$9998,14,0))","v":""},null,"","",0,""]
[null,null,null,null,null,null,null,null,null,null,"",null,null,"",null,null,null,null,null,0,null,{"$f":"IF(C385=\"\",\"\",VLOOKUP(C385,Debiteuren!$A$2:$J$9998,10,0))&\"\"","v":""},{"$f":"IF(C385=\"\",\"\",VLOOKUP(C385,Debiteuren!$A$2:$O$9998,15,0)&\"\"&VLOOKUP(C385,Debiteuren!$A$2:$N$9998,14,0))","v":""},null,"","",0,""]
[null,null,null,null,null,null,null,null,null,null,"",null,null,"",null,null,null,null,null,0,null,{"$f":"IF(C386=\"\",\"\",VLOOKUP(C386,Debiteuren!$A$2:$J$9998,10,0))&\"\"","v":""},{"$f":"IF(C386=\"\",\"\",VLOOKUP(C386,Debiteuren!$A$2:$O$9998,15,0)&\"\"&VLOOKUP(C386,Debiteuren!$A$2:$N$9998,14,0))","v":""},null,"","",0,""]
[null,null,null,null,null,null,null,null,null,null,"",null,null,"",null,null,null,null,null,0,null,{"$f":"IF(C387=\"\",\"\",VLOOKUP(C387,Debiteuren!$A$2:$J$9998,10,0))&\"\"","v":""},{"$f":"IF(C387=\"\",\"\",VLOOKUP(C387,Debiteuren!$A$2:$O$9998,15,0)&\"\"&VLOOKUP(C387,Debiteuren!$A$2:$N$9998,14,0))","v":""},null,"","",0,""]
[null,null,null,null,null,null,null,null,null,null,"",null,null,"",null,null,null,null,null,0,null,{"$f":"IF(C388=\"\",\"\",VLOOKUP(C388,Debiteuren!$A$2:$J$9998,10,0))&\"\"","v":""},{"$f":"IF(C388=\"\",\"\",VLOOKUP(C388,Debiteuren!$A$2:$O$9998,15,0)&\"\"&VLOOKUP(C388,Debiteuren!$A$2:$N$9998,14,0))","v":""},null,"","",0,""]
[null,null,null,null,null,null,null,null,null,null,"",null,null,"",null,null,null,null,null,0,null,{"$f":"IF(C389=\"\",\"\",VLOOKUP(C389,Debiteuren!$A$2:$J$9998,10,0))&\"\"","v":""},{"$f":"IF(C389=\"\",\"\",VLOOKUP(C389,Debiteuren!$A$2:$O$9998,15,0)&\"\"&VLOOKUP(C389,Debiteuren!$A$2:$N$9998,14,0))","v":""},null,"","",0,""]
[null,null,null,null,null,null,null,null,null,null,"",null,null,"",null,null,null,null,null,0,null,{"$f":"IF(C390=\"\",\"\",VLOOKUP(C390,Debiteuren!$A$2:$J$9998,10,0))&\"\"","v":""},{"$f":"IF(C390=\"\",\"\",VLOOKUP(C390,Debiteuren!$A$2:$O$9998,15,0)&\"\"&VLOOKUP(C390,Debiteuren!$A$2:$N$9998,14,0))","v":""},null,"","",0,""]
[null,null,null,null,null,null,null,null,null,null,"",null,null,"",null,null,null,null,null,0,null,{"$f":"IF(C391=\"\",\"\",VLOOKUP(C391,Debiteuren!$A$2:$J$9998,10,0))&\"\"","v":""},{"$f":"IF(C391=\"\",\"\",VLOOKUP(C391,Debiteuren!$A$2:$O$9998,15,0)&\"\"&VLOOKUP(C391,Debiteuren!$A$2:$N$9998,14,0))","v":""},null,"","",0,""]
[null,null,null,null,null,null,null,null,null,null,"",null,null,"",null,null,null,null,null,0,null,{"$f":"IF(C392=\"\",\"\",VLOOKUP(C392,Debiteuren!$A$2:$J$9998,10,0))&\"\"","v":""},{"$f":"IF(C392=\"\",\"\",VLOOKUP(C392,Debiteuren!$A$2:$O$9998,15,0)&\"\"&VLOOKUP(C392,Debiteuren!$A$2:$N$9998,14,0))","v":""},null,"","",0,""]
[null,null,null,null,null,null,null,null,null,null,"",null,null,"",null,null,null,null,null,0,null,{"$f":"IF(C393=\"\",\"\",VLOOKUP(C393,Debiteuren!$A$2:$J$9998,10,0))&\"\"","v":""},{"$f":"IF(C393=\"\",\"\",VLOOKUP(C393,Debiteuren!$A$2:$O$9998,15,0)&\"\"&VLOOKUP(C393,Debiteuren!$A$2:$N$9998,14,0))","v":""},null,"","",0,""]
[null,null,null,null,null,null,null,null,null,null,"",null,null,"",null,null,null,null,null,0,null,{"$f":"IF(C394=\"\",\"\",VLOOKUP(C394,Debiteuren!$A$2:$J$9998,10,0))&\"\"","v":""},{"$f":"IF(C394=\"\",\"\",VLOOKUP(C394,Debiteuren!$A$2:$O$9998,15,0)&\"\"&VLOOKUP(C394,Debiteuren!$A$2:$N$9998,14,0))","v":""},null,"","",0,""]
[null,null,null,null,null,null,null,null,null,null,"",null,null,"",null,null,null,null,null,0,null,{"$f":"IF(C395=\"\",\"\",VLOOKUP(C395,Debiteuren!$A$2:$J$9998,10,0))&\"\"","v":""},{"$f":"IF(C395=\"\",\"\",VLOOKUP(C395,Debiteuren!$A$2:$O$9998,15,0)&\"\"&VLOOKUP(C395,Debiteuren!$A$2:$N$9998,14,0))","v":""},null,"","",0,""]
[null,null,null,null,null,null,null,null,null,null,"",null,null,"",null,null,null,null,null,0,null,{"$f":"IF(C396=\"\",\"\",VLOOKUP(C396,Debiteuren!$A$2:$J$9998,10,0))&\"\"","v":""},{"$f":"IF(C396=\"\",\"\",VLOOKUP(C396,Debiteuren!$A$2:$O$9998,15,0)&\"\"&VLOOKUP(C396,Debiteuren!$A$2:$N$9998,14,0))","v":""},null,"","",0,""]
[null,null,null,null,null,null,null,null,null,null,"",null,null,"",null,null,null,null,null,0,null,{"$f":"IF(C397=\"\",\"\",VLOOKUP(C397,Debiteuren!$A$2:$J$9998,10,0))&\"\"","v":""},{"$f":"IF(C397=\"\",\"\",VLOOKUP(C397,Debiteuren!$A$2:$O$9998,15,0)&\"\"&VLOOKUP(C397,Debiteuren!$A$2:$N$9998,14,0))","v":""},null,"","",0,""]
[null,null,null,null,null,null,null,null,null,null,"",null,null,"",null,null,null,null,null,0,null,{"$f":"IF(C398=\"\",\"\",VLOOKUP(C398,Debiteuren!$A$2:$J$9998,10,0))&\"\"","v":""},{"$f":"IF(C398=\"\",\"\",VLOOKUP(C398,Debiteuren!$A$2:$O$9998,15,0)&\"\"&VLOOKUP(C398,Debiteuren!$A$2:$N$9998,14,0))","v":""},null,"","",0,""]
[null,null,null,null,null,null,null,null,null,null,"",null,null,"",null,null,null,null,null,0,null,{"$f":"IF(C399=\"\",\"\",VLOOKUP(C399,Debiteuren!$A$2:$J$9998,10,0))&\"\"","v":""},{"$f":"IF(C399=\"\",\"\",VLOOKUP(C399,Debiteuren!$A$2:$O$9998,15,0)&\"\"&VLOOKUP(C399,Debiteuren!$A$2:$N$9998,14,0))","v":""},null,"","",0,""]
[null,null,null,null,null,null,null,null,null,null,"",null,null,"",null,null,null,null,null,0,null,{"$f":"IF(C400=\"\",\"\",VLOOKUP(C400,Debiteuren!$A$2:$J$9998,10,0))&\"\"","v":""},{"$f":"IF(C400=\"\",\"\",VLOOKUP(C400,Debiteuren!$A$2:$O$9998,15,0)&\"\"&VLOOKUP(C400,Debiteuren!$A$2:$N$9998,14,0))","v":""},null,"","",0,""]
[null,null,null,null,null,null,null,null,null,null,"",null,null,"",null,null,null,null,null,0,null,{"$f":"IF(C401=\"\",\"\",VLOOKUP(C401,Debiteuren!$A$2:$J$9998,10,0))&\"\"","v":""},{"$f":"IF(C401=\"\",\"\",VLOOKUP(C401,Debiteuren!$A$2:$O$9998,15,0)&\"\"&VLOOKUP(C401,Debiteuren!$A$2:$N$9998,14,0))","v":""},null,"","",0,""]
[null,null,null,null,null,null,null,null,null,null,"",null,null,"",null,null,null,null,null,0,null,{"$f":"IF(C402=\"\",\"\",VLOOKUP(C402,Debiteuren!$A$2:$J$9998,10,0))&\"\"","v":""},{"$f":"IF(C402=\"\",\"\",VLOOKUP(C402,Debiteuren!$A$2:$O$9998,15,0)&\"\"&VLOOKUP(C402,Debiteuren!$A$2:$N$9998,14,0))","v":""},null,"","",0,""]
[null,null,null,null,null,null,null,null,null,null,"",null,null,"",null,null,null,null,null,0,null,{"$f":"IF(C403=\"\",\"\",VLOOKUP(C403,Debiteuren!$A$2:$J$9998,10,0))&\"\"","v":""},{"$f":"IF(C403=\"\",\"\",VLOOKUP(C403,Debiteuren!$A$2:$O$9998,15,0)&\"\"&VLOOKUP(C403,Debiteuren!$A$2:$N$9998,14,0))","v":""},null,"","",0,""]
[null,null,null,null,null,null,null,null,null,null,"",null,null,"",null,null,null,null,null,0,null,{"$f":"IF(C404=\"\",\"\",VLOOKUP(C404,Debiteuren!$A$2:$J$9998,10,0))&\"\"","v":""},{"$f":"IF(C404=\"\",\"\",VLOOKUP(C404,Debiteuren!$A$2:$O$9998,15,0)&\"\"&VLOOKUP(C404,Debiteuren!$A$2:$N$9998,14,0))","v":""},null,"","",0,""]
[null,null,null,null,null,null,null,null,null,null,"",null,null,"",null,null,null,null,null,0,null,{"$f":"IF(C405=\"\",\"\",VLOOKUP(C405,Debiteuren!$A$2:$J$9998,10,0))&\"\"","v":""},{"$f":"IF(C405=\"\",\"\",VLOOKUP(C405,Debiteuren!$A$2:$O$9998,15,0)&\"\"&VLOOKUP(C405,Debiteuren!$A$2:$N$9998,14,0))","v":""},null,"","",0,""]
[null,null,null,null,null,null,null,null,null,null,"",null,null,"",null,null,null,null,null,0,null,{"$f":"IF(C406=\"\",\"\",VLOOKUP(C406,Debiteuren!$A$2:$J$9998,10,0))&\"\"","v":""},{"$f":"IF(C406=\"\",\"\",VLOOKUP(C406,Debiteuren!$A$2:$O$9998,15,0)&\"\"&VLOOKUP(C406,Debiteuren!$A$2:$N$9998,14,0))","v":""},null,"","",0,""]
[null,null,null,null,null,null,null,null,null,null,"",null,null,"",null,null,null,null,null,0,null,{"$f":"IF(C407=\"\",\"\",VLOOKUP(C407,Debiteuren!$A$2:$J$9998,10,0))&\"\"","v":""},{"$f":"IF(C407=\"\",\"\",VLOOKUP(C407,Debiteuren!$A$2:$O$9998,15,0)&\"\"&VLOOKUP(C407,Debiteuren!$A$2:$N$9998,14,0))","v":""},null,"","",0,""]
[null,null,null,null,null,null,null,null,null,null,"",null,null,"",null,null,null,null,null,0,null,{"$f":"IF(C408=\"\",\"\",VLOOKUP(C408,Debiteuren!$A$2:$J$9998,10,0))&\"\"","v":""},{"$f":"IF(C408=\"\",\"\",VLOOKUP(C408,Debiteuren!$A$2:$O$9998,15,0)&\"\"&VLOOKUP(C408,Debiteuren!$A$2:$N$9998,14,0))","v":""},null,"","",0,""]
[null,null,null,null,null,null,null,null,null,null,"",null,null,"",null,null,null,null,null,0,null,{"$f":"IF(C409=\"\",\"\",VLOOKUP(C409,Debiteuren!$A$2:$J$9998,10,0))&\"\"","v":""},{"$f":"IF(C409=\"\",\"\",VLOOKUP(C409,Debiteuren!$A$2:$O$9998,15,0)&\"\"&VLOOKUP(C409,Debiteuren!$A$2:$N$9998,14,0))","v":""},null,"","",0,""]
[null,null,null,null,null,null,null,null,null,null,"",null,null,"",null,null,null,null,null,0,null,{"$f":"IF(C410=\"\",\"\",VLOOKUP(C410,Debiteuren!$A$2:$J$9998,10,0))&\"\"","v":""},{"$f":"IF(C410=\"\",\"\",VLOOKUP(C410,Debiteuren!$A$2:$O$9998,15,0)&\"\"&VLOOKUP(C410,Debiteuren!$A$2:$N$9998,14,0))","v":""},null,"","",0,""]
[null,null,null,null,null,null,null,null,null,null,"",null,null,"",null,null,null,null,null,0,null,{"$f":"IF(C411=\"\",\"\",VLOOKUP(C411,Debiteuren!$A$2:$J$9998,10,0))&\"\"","v":""},{"$f":"IF(C411=\"\",\"\",VLOOKUP(C411,Debiteuren!$A$2:$O$9998,15,0)&\"\"&VLOOKUP(C411,Debiteuren!$A$2:$N$9998,14,0))","v":""},null,"","",0,""]
[null,null,null,null,null,null,null,null,null,null,"",null,null,"",null,null,null,null,null,0,null,{"$f":"IF(C412=\"\",\"\",VLOOKUP(C412,Debiteuren!$A$2:$J$9998,10,0))&\"\"","v":""},{"$f":"IF(C412=\"\",\"\",VLOOKUP(C412,Debiteuren!$A$2:$O$9998,15,0)&\"\"&VLOOKUP(C412,Debiteuren!$A$2:$N$9998,14,0))","v":""},null,"","",0,""]
[null,null,null,null,null,null,null,null,null,null,"",null,null,"",null,null,null,null,null,0,null,{"$f":"IF(C413=\"\",\"\",VLOOKUP(C413,Debiteuren!$A$2:$J$9998,10,0))&\"\"","v":""},{"$f":"IF(C413=\"\",\"\",VLOOKUP(C413,Debiteuren!$A$2:$O$9998,15,0)&\"\"&VLOOKUP(C413,Debiteuren!$A$2:$N$9998,14,0))","v":""},null,"","",0,""]
[null,null,null,null,null,null,null,null,null,null,"",null,null,"",null,null,null,null,null,0,null,{"$f":"IF(C414=\"\",\"\",VLOOKUP(C414,Debiteuren!$A$2:$J$9998,10,0))&\"\"","v":""},{"$f":"IF(C414=\"\",\"\",VLOOKUP(C414,Debiteuren!$A$2:$O$9998,15,0)&\"\"&VLOOKUP(C414,Debiteuren!$A$2:$N$9998,14,0))","v":""},null,"","",0,""]
[null,null,null,null,null,null,null,null,null,null,"",null,null,"",null,null,null,null,null,0,null,{"$f":"IF(C415=\"\",\"\",VLOOKUP(C415,Debiteuren!$A$2:$J$9998,10,0))&\"\"","v":""},{"$f":"IF(C415=\"\",\"\",VLOOKUP(C415,Debiteuren!$A$2:$O$9998,15,0)&\"\"&VLOOKUP(C415,Debiteuren!$A$2:$N$9998,14,0))","v":""},null,"","",0,""]
[null,null,null,null,null,null,null,null,null,null,"",null,null,"",null,null,null,null,null,0,null,{"$f":"IF(C416=\"\",\"\",VLOOKUP(C416,Debiteuren!$A$2:$J$9998,10,0))&\"\"","v":""},{"$f":"IF(C416=\"\",\"\",VLOOKUP(C416,Debiteuren!$A$2:$O$9998,15,0)&\"\"&VLOOKUP(C416,Debiteuren!$A$2:$N$9998,14,0))","v":""},null,"","",0,""]
[null,null,null,null,null,null,null,null,null,null,"",null,null,"",null,null,null,null,null,0,null,{"$f":"IF(C417=\"\",\"\",VLOOKUP(C417,Debiteuren!$A$2:$J$9998,10,0))&\"\"","v":""},{"$f":"IF(C417=\"\",\"\",VLOOKUP(C417,Debiteuren!$A$2:$O$9998,15,0)&\"\"&VLOOKUP(C417,Debiteuren!$A$2:$N$9998,14,0))","v":""},null,"","",0,""]
[null,null,null,null,null,null,null,null,null,null,"",null,null,"",null,null,null,null,null,0,null,{"$f":"IF(C418=\"\",\"\",VLOOKUP(C418,Debiteuren!$A$2:$J$9998,10,0))&\"\"","v":""},{"$f":"IF(C418=\"\",\"\",VLOOKUP(C418,Debiteuren!$A$2:$O$9998,15,0)&\"\"&VLOOKUP(C418,Debiteuren!$A$2:$N$9998,14,0))","v":""},null,"","",0,""]
[null,null,null,null,null,null,null,null,null,null,"",null,null,"",null,null,null,null,null,0,null,{"$f":"IF(C419=\"\",\"\",VLOOKUP(C419,Debiteuren!$A$2:$J$9998,10,0))&\"\"","v":""},{"$f":"IF(C419=\"\",\"\",VLOOKUP(C419,Debiteuren!$A$2:$O$9998,15,0)&\"\"&VLOOKUP(C419,Debiteuren!$A$2:$N$9998,14,0))","v":""},null,"","",0,""]
[null,null,null,null,null,null,null,null,null,null,"",null,null,"",null,null,null,null,null,0,null,{"$f":"IF(C420=\"\",\"\",VLOOKUP(C420,Debiteuren!$A$2:$J$9998,10,0))&\"\"","v":""},{"$f":"IF(C420=\"\",\"\",VLOOKUP(C420,Debiteuren!$A$2:$O$9998,15,0)&\"\"&VLOOKUP(C420,Debiteuren!$A$2:$N$9998,14,0))","v":""},null,"","",0,""]
[null,null,null,null,null,null,null,null,null,null,"",null,null,"",null,null,null,null,null,0,null,{"$f":"IF(C421=\"\",\"\",VLOOKUP(C421,Debiteuren!$A$2:$J$9998,10,0))&\"\"","v":""},{"$f":"IF(C421=\"\",\"\",VLOOKUP(C421,Debiteuren!$A$2:$O$9998,15,0)&\"\"&VLOOKUP(C421,Debiteuren!$A$2:$N$9998,14,0))","v":""},null,"","",0,""]
[null,null,null,null,null,null,null,null,null,null,"",null,null,"",null,null,null,null,null,0,null,{"$f":"IF(C422=\"\",\"\",VLOOKUP(C422,Debiteuren!$A$2:$J$9998,10,0))&\"\"","v":""},{"$f":"IF(C422=\"\",\"\",VLOOKUP(C422,Debiteuren!$A$2:$O$9998,15,0)&\"\"&VLOOKUP(C422,Debiteuren!$A$2:$N$9998,14,0))","v":""},null,"","",0,""]
[null,null,null,null,null,null,null,null,null,null,"",null,null,"",null,null,null,null,null,0,null,{"$f":"IF(C423=\"\",\"\",VLOOKUP(C423,Debiteuren!$A$2:$J$9998,10,0))&\"\"","v":""},{"$f":"IF(C423=\"\",\"\",VLOOKUP(C423,Debiteuren!$A$2:$O$9998,15,0)&\"\"&VLOOKUP(C423,Debiteuren!$A$2:$N$9998,14,0))","v":""},null,"","",0,""]
[null,null,null,null,null,null,null,null,null,null,"",null,null,"",null,null,null,null,null,0,null,{"$f":"IF(C424=\"\",\"\",VLOOKUP(C424,Debiteuren!$A$2:$J$9998,10,0))&\"\"","v":""},{"$f":"IF(C424=\"\",\"\",VLOOKUP(C424,Debiteuren!$A$2:$O$9998,15,0)&\"\"&VLOOKUP(C424,Debiteuren!$A$2:$N$9998,14,0))","v":""},null,"","",0,""]
[null,null,null,null,null,null,null,null,null,null,"",null,null,"",null,null,null,null,null,0,null,{"$f":"IF(C425=\"\",\"\",VLOOKUP(C425,Debiteuren!$A$2:$J$9998,10,0))&\"\"","v":""},{"$f":"IF(C425=\"\",\"\",VLOOKUP(C425,Debiteuren!$A$2:$O$9998,15,0)&\"\"&VLOOKUP(C425,Debiteuren!$A$2:$N$9998,14,0))","v":""},null,"","",0,""]
[null,null,null,null,null,null,null,null,null,null,"",null,null,"",null,null,null,null,null,0,null,{"$f":"IF(C426=\"\",\"\",VLOOKUP(C426,Debiteuren!$A$2:$J$9998,10,0))&\"\"","v":""},{"$f":"IF(C426=\"\",\"\",VLOOKUP(C426,Debiteuren!$A$2:$O$9998,15,0)&\"\"&VLOOKUP(C426,Debiteuren!$A$2:$N$9998,14,0))","v":""},null,"","",0,""]
[null,null,null,null,null,null,null,null,null,null,"",null,null,"",null,null,null,null,null,0,null,{"$f":"IF(C427=\"\",\"\",VLOOKUP(C427,Debiteuren!$A$2:$J$9998,10,0))&\"\"","v":""},{"$f":"IF(C427=\"\",\"\",VLOOKUP(C427,Debiteuren!$A$2:$O$9998,15,0)&\"\"&VLOOKUP(C427,Debiteuren!$A$2:$N$9998,14,0))","v":""},null,"","",0,""]
[null,null,null,null,null,null,null,null,null,null,"",null,null,"",null,null,null,null,null,0,null,{"$f":"IF(C428=\"\",\"\",VLOOKUP(C428,Debiteuren!$A$2:$J$9998,10,0))&\"\"","v":""},{"$f":"IF(C428=\"\",\"\",VLOOKUP(C428,Debiteuren!$A$2:$O$9998,15,0)&\"\"&VLOOKUP(C428,Debiteuren!$A$2:$N$9998,14,0))","v":""},null,"","",0,""]
[null,null,null,null,null,null,null,null,null,null,"",null,null,"",null,null,null,null,null,0,null,{"$f":"IF(C429=\"\",\"\",VLOOKUP(C429,Debiteuren!$A$2:$J$9998,10,0))&\"\"","v":""},{"$f":"IF(C429=\"\",\"\",VLOOKUP(C429,Debiteuren!$A$2:$O$9998,15,0)&\"\"&VLOOKUP(C429,Debiteuren!$A$2:$N$9998,14,0))","v":""},null,"","",0,""]
[null,null,null,null,null,null,null,null,null,null,"",null,null,"",null,null,null,null,null,0,null,{"$f":"IF(C430=\"\",\"\",VLOOKUP(C430,Debiteuren!$A$2:$J$9998,10,0))&\"\"","v":""},{"$f":"IF(C430=\"\",\"\",VLOOKUP(C430,Debiteuren!$A$2:$O$9998,15,0)&\"\"&VLOOKUP(C430,Debiteuren!$A$2:$N$9998,14,0))","v":""},null,{"$f":"IF(D430=\"\",\"\",DATEDIF(D430,TODAY(),\"d\"))","v":""},{"$f":"IF(G430=\"\",\"\",DATEDIF(D430,G430,\"d\"))","v":""},{"$f":"DATEDIF(D430,H430,\"d\")","v":0},{"$f":"IF(Y430=\"\",\"\",Y430-AA430)","v":""}]
[null,null,null,null,null,null,null,null,null,null,"",null,null,"",null,null,null,null,null,{"$f":"IF(B431=1,E431,0)","v":0},null,{"$f":"IF(C431=\"\",\"\",VLOOKUP(C431,Debiteuren!$A$2:$J$9998,10,0))&\"\"","v":""},{"$f":"IF(C431=\"\",\"\",VLOOKUP(C431,Debiteuren!$A$2:$O$9998,15,0)&\"\"&VLOOKUP(C431,Debiteuren!$A$2:$N$9998,14,0))","v":""},null,"","",0,""]
[null,null,null,null,null,null,null,null,null,null,"",null,null,"",null,null,null,null,null,0,null,{"$f":"IF(C432=\"\",\"\",VLOOKUP(C432,Debiteuren!$A$2:$J$9998,10,0))&\"\"","v":""},{"$f":"IF(C432=\"\",\"\",VLOOKUP(C432,Debiteuren!$A$2:$O$9998,15,0)&\"\"&VLOOKUP(C432,Debiteuren!$A$2:$N$9998,14,0))","v":""},null,"","",0,""]
[null,null,null,null,null,null,null,null,null,null,"",null,null,"",null,null,null,null,null,0,null,{"$f":"IF(C433=\"\",\"\",VLOOKUP(C433,Debiteuren!$A$2:$J$9998,10,0))&\"\"","v":""},{"$f":"IF(C433=\"\",\"\",VLOOKUP(C433,Debiteuren!$A$2:$O$9998,15,0)&\"\"&VLOOKUP(C433,Debiteuren!$A$2:$N$9998,14,0))","v":""},null,"","",0,""]
[null,null,null,null,null,null,null,null,null,null,"",null,null,"",null,null,null,null,null,0,null,{"$f":"IF(C434=\"\",\"\",VLOOKUP(C434,Debiteuren!$A$2:$J$9998,10,0))&\"\"","v":""},{"$f":"IF(C434=\"\",\"\",VLOOKUP(C434,Debiteuren!$A$2:$O$9998,15,0)&\"\"&VLOOKUP(C434,Debiteuren!$A$2:$N$9998,14,0))","v":""},null,"","",0,""]
[null,null,null,null,null,null,null,null,null,null,"",null,null,"",null,null,null,null,null,0,null,{"$f":"IF(C435=\"\",\"\",VLOOKUP(C435,Debiteuren!$A$2:$J$9998,10,0))&\"\"","v":""},{"$f":"IF(C435=\"\",\"\",VLOOKUP(C435,Debiteuren!$A$2:$O$9998,15,0)&\"\"&VLOOKUP(C435,Debiteuren!$A$2:$N$9998,14,0))","v":""},null,"","",0,""]
[null,null,null,null,null,null,null,null,null,null,"",null,null,"",null,null,null,null,null,0,null,{"$f":"IF(C436=\"\",\"\",VLOOKUP(C436,Debiteuren!$A$2:$J$9998,10,0))&\"\"","v":""},{"$f":"IF(C436=\"\",\"\",VLOOKUP(C436,Debiteuren!$A$2:$O$9998,15,0)&\"\"&VLOOKUP(C436,Debiteuren!$A$2:$N$9998,14,0))","v":""},null,"","",0,""]
[null,null,null,null,null,null,null,null,null,null,"",null,null,"",null,null,null,null,null,0,null,{"$f":"IF(C437=\"\",\"\",VLOOKUP(C437,Debiteuren!$A$2:$J$9998,10,0))&\"\"","v":""},{"$f":"IF(C437=\"\",\"\",VLOOKUP(C437,Debiteuren!$A$2:$O$9998,15,0)&\"\"&VLOOKUP(C437,Debiteuren!$A$2:$N$9998,14,0))","v":""},null,"","",0,""]
[null,null,null,null,null,null,null,null,null,null,"",null,null,"",null,null,null,null,null,0,null,{"$f":"IF(C438=\"\",\"\",VLOOKUP(C438,Debiteuren!$A$2:$J$9998,10,0))&\"\"","v":""},{"$f":"IF(C438=\"\",\"\",VLOOKUP(C438,Debiteuren!$A$2:$O$9998,15,0)&\"\"&VLOOKUP(C438,Debiteuren!$A$2:$N$9998,14,0))","v":""},null,"","",0,""]
[null,null,null,null,null,null,null,null,null,null,"",null,null,"",null,null,null,null,null,0,null,{"$f":"IF(C439=\"\",\"\",VLOOKUP(C439,Debiteuren!$A$2:$J$9998,10,0))&\"\"","v":""},{"$f":"IF(C439=\"\",\"\",VLOOKUP(C439,Debiteuren!$A$2:$O$9998,15,0)&\"\"&VLOOKUP(C439,Debiteuren!$A$2:$N$9998,14,0))","v":""},null,"","",0,""]
[null,null,null,null,null,null,null,null,null,null,"",null,null,"",null,null,null,null,null,0,null,{"$f":"IF(C440=\"\",\"\",VLOOKUP(C440,Debiteuren!$A$2:$J$9998,10,0))&\"\"","v":""},{"$f":"IF(C440=\"\",\"\",VLOOKUP(C440,Debiteuren!$A$2:$O$9998,15,0)&\"\"&VLOOKUP(C440,Debiteuren!$A$2:$N$9998,14,0))","v":""},null,"","",0,""]
[null,null,null,null,null,null,null,null,null,null,{"$f":"IF(D441=\"\",\"\",\"\"&\"Kwartaal \"&MONTH(MONTH(D441)&0)&TEXT(D441,\" - mmm JJJJ\"))","v":""},null,null,{"$f":"IF(E441=\"\",\"\",(E441)-(F441))","v":""},null,null,null,null,null,0,null,{"$f":"IF(C441=\"\",\"\",VLOOKUP(C441,Debiteuren!$A$2:$J$9998,10,0))&\"\"","v":""},{"$f":"IF(C441=\"\",\"\",VLOOKUP(C441,Debiteuren!$A$2:$O$9998,15,0)&\"\"&VLOOKUP(C441,Debiteuren!$A$2:$N$9998,14,0))","v":""},null,"","",0,""]
[null,null,null,null,null,null,null,null,null,null,"",null,null,"",null,null,null,null,null,0,null,{"$f":"IF(C442=\"\",\"\",VLOOKUP(C442,Debiteuren!$A$2:$J$9998,10,0))&\"\"","v":""},{"$f":"IF(C442=\"\",\"\",VLOOKUP(C442,Debiteuren!$A$2:$O$9998,15,0)&\"\"&VLOOKUP(C442,Debiteuren!$A$2:$N$9998,14,0))","v":""},null,"","",0,""]
[null,null,null,null,null,null,null,null,null,null,"",null,null,"",null,null,null,null,null,0,null,{"$f":"IF(C443=\"\",\"\",VLOOKUP(C443,Debiteuren!$A$2:$J$9998,10,0))&\"\"","v":""},{"$f":"IF(C443=\"\",\"\",VLOOKUP(C443,Debiteuren!$A$2:$O$9998,15,0)&\"\"&VLOOKUP(C443,Debiteuren!$A$2:$N$9998,14,0))","v":""},null,"","",0,""]
[null,null,null,null,null,null,null,null,null,null,"",null,null,"",null,null,null,null,null,0,null,{"$f":"IF(C444=\"\",\"\",VLOOKUP(C444,Debiteuren!$A$2:$J$9998,10,0))&\"\"","v":""},{"$f":"IF(C444=\"\",\"\",VLOOKUP(C444,Debiteuren!$A$2:$O$9998,15,0)&\"\"&VLOOKUP(C444,Debiteuren!$A$2:$N$9998,14,0))","v":""},null,"","",0,""]
[null,null,null,null,null,null,null,null,null,null,"",null,null,"",null,null,null,null,null,0,null,{"$f":"IF(C445=\"\",\"\",VLOOKUP(C445,Debiteuren!$A$2:$J$9998,10,0))&\"\"","v":""},{"$f":"IF(C445=\"\",\"\",VLOOKUP(C445,Debiteuren!$A$2:$O$9998,15,0)&\"\"&VLOOKUP(C445,Debiteuren!$A$2:$N$9998,14,0))","v":""},null,"","",0,""]
[null,null,null,null,null,null,null,null,null,null,"",null,null,"",null,null,null,null,null,0,null,{"$f":"IF(C446=\"\",\"\",VLOOKUP(C446,Debiteuren!$A$2:$J$9998,10,0))&\"\"","v":""},{"$f":"IF(C446=\"\",\"\",VLOOKUP(C446,Debiteuren!$A$2:$O$9998,15,0)&\"\"&VLOOKUP(C446,Debiteuren!$A$2:$N$9998,14,0))","v":""},null,"","",0,""]
[null,null,null,null,null,null,null,null,null,null,"",null,null,"",null,null,null,null,null,0,null,{"$f":"IF(C447=\"\",\"\",VLOOKUP(C447,Debiteuren!$A$2:$J$9998,10,0))&\"\"","v":""},{"$f":"IF(C447=\"\",\"\",VLOOKUP(C447,Debiteuren!$A$2:$O$9998,15,0)&\"\"&VLOOKUP(C447,Debiteuren!$A$2:$N$9998,14,0))","v":""},null,"","",0,""]
[null,null,null,null,null,null,null,null,null,null,"",null,null,"",null,null,null,null,null,0,null,{"$f":"IF(C448=\"\",\"\",VLOOKUP(C448,Debiteuren!$A$2:$J$9998,10,0))&\"\"","v":""},{"$f":"IF(C448=\"\",\"\",VLOOKUP(C448,Debiteuren!$A$2:$O$9998,15,0)&\"\"&VLOOKUP(C448,Debiteuren!$A$2:$N$9998,14,0))","v":""},null,"","",0,""]
[null,null,null,null,null,null,null,null,null,null,"",null,null,"",null,null,null,null,null,0,null,{"$f":"IF(C449=\"\",\"\",VLOOKUP(C449,Debiteuren!$A$2:$J$9998,10,0))&\"\"","v":""},{"$f":"IF(C449=\"\",\"\",VLOOKUP(C449,Debiteuren!$A$2:$O$9998,15,0)&\"\"&VLOOKUP(C449,Debiteuren!$A$2:$N$9998,14,0))","v":""},null,"","",0,""]
[null,null,null,null,null,null,null,null,null,null,"",null,null,"",null,null,null,null,null,0,null,{"$f":"IF(C450=\"\",\"\",VLOOKUP(C450,Debiteuren!$A$2:$J$9998,10,0))&\"\"","v":""},{"$f":"IF(C450=\"\",\"\",VLOOKUP(C450,Debiteuren!$A$2:$O$9998,15,0)&\"\"&VLOOKUP(C450,Debiteuren!$A$2:$N$9998,14,0))","v":""},null,"","",0,""]
[null,null,null,null,null,null,null,null,null,null,"",null,null,"",null,null,null,null,null,0,null,{"$f":"IF(C451=\"\",\"\",VLOOKUP(C451,Debiteuren!$A$2:$J$9998,10,0))&\"\"","v":""},{"$f":"IF(C451=\"\",\"\",VLOOKUP(C451,Debiteuren!$A$2:$O$9998,15,0)&\"\"&VLOOKUP(C451,Debiteuren!$A$2:$N$9998,14,0))","v":""},null,"","",0,""]
[null,null,null,null,null,null,null,null,null,null,"",null,null,"",null,null,null,null,null,0,null,{"$f":"IF(C452=\"\",\"\",VLOOKUP(C452,Debiteuren!$A$2:$J$9998,10,0))&\"\"","v":""},{"$f":"IF(C452=\"\",\"\",VLOOKUP(C452,Debiteuren!$A$2:$O$9998,15,0)&\"\"&VLOOKUP(C452,Debiteuren!$A$2:$N$9998,14,0))","v":""},null,"","",0,""]
[null,null,null,null,null,null,null,null,null,null,"",null,null,"",null,null,null,null,null,0,null,{"$f":"IF(C453=\"\",\"\",VLOOKUP(C453,Debiteuren!$A$2:$J$9998,10,0))&\"\"","v":""},{"$f":"IF(C453=\"\",\"\",VLOOKUP(C453,Debiteuren!$A$2:$O$9998,15,0)&\"\"&VLOOKUP(C453,Debiteuren!$A$2:$N$9998,14,0))","v":""},null,"","",0,""]
[null,null,null,null,null,null,null,null,null,null,"",null,null,"",null,null,null,null,null,0,null,{"$f":"IF(C454=\"\",\"\",VLOOKUP(C454,Debiteuren!$A$2:$J$9998,10,0))&\"\"","v":""},{"$f":"IF(C454=\"\",\"\",VLOOKUP(C454,Debiteuren!$A$2:$O$9998,15,0)&\"\"&VLOOKUP(C454,Debiteuren!$A$2:$N$9998,14,0))","v":""},null,"","",0,""]
[null,null,null,null,null,null,null,null,null,null,"",null,null,"",null,null,null,null,null,0,null,{"$f":"IF(C455=\"\",\"\",VLOOKUP(C455,Debiteuren!$A$2:$J$9998,10,0))&\"\"","v":""},{"$f":"IF(C455=\"\",\"\",VLOOKUP(C455,Debiteuren!$A$2:$O$9998,15,0)&\"\"&VLOOKUP(C455,Debiteuren!$A$2:$N$9998,14,0))","v":""},null,"","",0,""]
[null,null,null,null,null,null,null,null,null,null,"",null,null,"",null,null,null,null,null,0,null,{"$f":"IF(C456=\"\",\"\",VLOOKUP(C456,Debiteuren!$A$2:$J$9998,10,0))&\"\"","v":""},{"$f":"IF(C456=\"\",\"\",VLOOKUP(C456,Debiteuren!$A$2:$O$9998,15,0)&\"\"&VLOOKUP(C456,Debiteuren!$A$2:$N$9998,14,0))","v":""},null,"","",0,""]
[null,null,null,null,null,null,null,null,null,null,"",null,null,"",null,null,null,null,null,0,null,{"$f":"IF(C457=\"\",\"\",VLOOKUP(C457,Debiteuren!$A$2:$J$9998,10,0))&\"\"","v":""},{"$f":"IF(C457=\"\",\"\",VLOOKUP(C457,Debiteuren!$A$2:$O$9998,15,0)&\"\"&VLOOKUP(C457,Debiteuren!$A$2:$N$9998,14,0))","v":""},null,"","",0,""]
[null,null,null,null,null,null,null,null,null,null,"",null,null,"",null,null,null,null,null,0,null,{"$f":"IF(C458=\"\",\"\",VLOOKUP(C458,Debiteuren!$A$2:$J$9998,10,0))&\"\"","v":""},{"$f":"IF(C458=\"\",\"\",VLOOKUP(C458,Debiteuren!$A$2:$O$9998,15,0)&\"\"&VLOOKUP(C458,Debiteuren!$A$2:$N$9998,14,0))","v":""},null,"","",0,""]
[null,null,null,null,null,null,null,null,null,null,"",null,null,"",null,null,null,null,null,0,null,{"$f":"IF(C459=\"\",\"\",VLOOKUP(C459,Debiteuren!$A$2:$J$9998,10,0))&\"\"","v":""},{"$f":"IF(C459=\"\",\"\",VLOOKUP(C459,Debiteuren!$A$2:$O$9998,15,0)&\"\"&VLOOKUP(C459,Debiteuren!$A$2:$N$9998,14,0))","v":""},null,"","",0,""]
[null,null,null,null,null,null,null,null,null,null,"",null,null,"",null,null,null,null,null,0,null,{"$f":"IF(C460=\"\",\"\",VLOOKUP(C460,Debiteuren!$A$2:$J$9998,10,0))&\"\"","v":""},{"$f":"IF(C460=\"\",\"\",VLOOKUP(C460,Debiteuren!$A$2:$O$9998,15,0)&\"\"&VLOOKUP(C460,Debiteuren!$A$2:$N$9998,14,0))","v":""},null,"","",0,""]
[null,null,null,null,null,null,null,null,null,null,"",null,null,"",null,null,null,null,null,0,null,{"$f":"IF(C461=\"\",\"\",VLOOKUP(C461,Debiteuren!$A$2:$J$9998,10,0))&\"\"","v":""},{"$f":"IF(C461=\"\",\"\",VLOOKUP(C461,Debiteuren!$A$2:$O$9998,15,0)&\"\"&VLOOKUP(C461,Debiteuren!$A$2:$N$9998,14,0))","v":""},null,"","",0,""]
[null,null,null,null,null,null,null,null,null,null,"",null,null,"",null,null,null,null,null,0,null,{"$f":"IF(C462=\"\",\"\",VLOOKUP(C462,Debiteuren!$A$2:$J$9998,10,0))&\"\"","v":""},{"$f":"IF(C462=\"\",\"\",VLOOKUP(C462,Debiteuren!$A$2:$O$9998,15,0)&\"\"&VLOOKUP(C462,Debiteuren!$A$2:$N$9998,14,0))","v":""},null,"","",0,""]
[null,null,null,null,null,null,null,null,null,null,"",null,null,"",null,null,null,null,null,0,null,{"$f":"IF(C463=\"\",\"\",VLOOKUP(C463,Debiteuren!$A$2:$J$9998,10,0))&\"\"","v":""},{"$f":"IF(C463=\"\",\"\",VLOOKUP(C463,Debiteuren!$A$2:$O$9998,15,0)&\"\"&VLOOKUP(C463,Debiteuren!$A$2:$N$9998,14,0))","v":""},null,"","",0,""]
[null,null,null,null,null,null,null,null,null,null,"",null,null,"",null,null,null,null,null,0,null,{"$f":"IF(C464=\"\",\"\",VLOOKUP(C464,Debiteuren!$A$2:$J$9998,10,0))&\"\"","v":""},{"$f":"IF(C464=\"\",\"\",VLOOKUP(C464,Debiteuren!$A$2:$O$9998,15,0)&\"\"&VLOOKUP(C464,Debiteuren!$A$2:$N$9998,14,0))","v":""},null,"","",0,""]
[null,null,null,null,null,null,null,null,null,null,"",null,null,"",null,null,null,null,null,0,null,{"$f":"IF(C465=\"\",\"\",VLOOKUP(C465,Debiteuren!$A$2:$J$9998,10,0))&\"\"","v":""},{"$f":"IF(C465=\"\",\"\",VLOOKUP(C465,Debiteuren!$A$2:$O$9998,15,0)&\"\"&VLOOKUP(C465,Debiteuren!$A$2:$N$9998,14,0))","v":""},null,"","",0,""]
[null,null,null,null,null,null,null,null,null,null,"",null,null,"",null,null,null,null,null,0,null,{"$f":"IF(C466=\"\",\"\",VLOOKUP(C466,Debiteuren!$A$2:$J$9998,10,0))&\"\"","v":""},{"$f":"IF(C466=\"\",\"\",VLOOKUP(C466,Debiteuren!$A$2:$O$9998,15,0)&\"\"&VLOOKUP(C466,Debiteuren!$A$2:$N$9998,14,0))","v":""},null,"","",0,""]
[null,null,null,null,null,null,null,null,null,null,"",null,null,"",null,null,null,null,null,0,null,{"$f":"IF(C467=\"\",\"\",VLOOKUP(C467,Debiteuren!$A$2:$J$9998,10,0))&\"\"","v":""},{"$f":"IF(C467=\"\",\"\",VLOOKUP(C467,Debiteuren!$A$2:$O$9998,15,0)&\"\"&VLOOKUP(C467,Debiteuren!$A$2:$N$9998,14,0))","v":""},null,"","",0,""]
[null,null,null,null,null,null,null,null,null,null,"",null,null,"",null,null,null,null,null,0,null,{"$f":"IF(C468=\"\",\"\",VLOOKUP(C468,Debiteuren!$A$2:$J$9998,10,0))&\"\"","v":""},{"$f":"IF(C468=\"\",\"\",VLOOKUP(C468,Debiteuren!$A$2:$O$9998,15,0)&\"\"&VLOOKUP(C468,Debiteuren!$A$2:$N$9998,14,0))","v":""},null,"","",0,""]
[null,null,null,null,null,null,null,null,null,null,"",null,null,"",null,null,null,null,null,0,null,{"$f":"IF(C469=\"\",\"\",VLOOKUP(C469,Debiteuren!$A$2:$J$9998,10,0))&\"\"","v":""},{"$f":"IF(C469=\"\",\"\",VLOOKUP(C469,Debiteuren!$A$2:$O$9998,15,0)&\"\"&VLOOKUP(C469,Debiteuren!$A$2:$N$9998,14,0))","v":""},null,"","",0,""]
[null,null,null,null,null,null,null,null,null,null,"",null,null,"",null,null,null,null,null,0,null,{"$f":"IF(C470=\"\",\"\",VLOOKUP(C470,Debiteuren!$A$2:$J$9998,10,0))&\"\"","v":""},{"$f":"IF(C470=\"\",\"\",VLOOKUP(C470,Debiteuren!$A$2:$O$9998,15,0)&\"\"&VLOOKUP(C470,Debiteuren!$A$2:$N$9998,14,0))","v":""},null,"","",0,""]
[null,null,null,null,null,null,null,null,null,null,"",null,null,"",null,null,null,null,null,0,null,{"$f":"IF(C471=\"\",\"\",VLOOKUP(C471,Debiteuren!$A$2:$J$9998,10,0))&\"\"","v":""},{"$f":"IF(C471=\"\",\"\",VLOOKUP(C471,Debiteuren!$A$2:$O$9998,15,0)&\"\"&VLOOKUP(C471,Debiteuren!$A$2:$N$9998,14,0))","v":""},null,"","",0,""]
[null,null,null,null,null,null,null,null,null,null,"",null,null,"",null,null,null,null,null,0,null,{"$f":"IF(C472=\"\",\"\",VLOOKUP(C472,Debiteuren!$A$2:$J$9998,10,0))&\"\"","v":""},{"$f":"IF(C472=\"\",\"\",VLOOKUP(C472,Debiteuren!$A$2:$O$9998,15,0)&\"\"&VLOOKUP(C472,Debiteuren!$A$2:$N$9998,14,0))","v":""},null,"","",0,""]
[null,null,null,null,null,null,null,null,null,null,"",null,null,"",null,null,null,null,null,0,null,{"$f":"IF(C473=\"\",\"\",VLOOKUP(C473,Debiteuren!$A$2:$J$9998,10,0))&\"\"","v":""},{"$f":"IF(C473=\"\",\"\",VLOOKUP(C473,Debiteuren!$A$2:$O$9998,15,0)&\"\"&VLOOKUP(C473,Debiteuren!$A$2:$N$9998,14,0))","v":""},null,"","",0,""]
[null,null,null,null,null,null,null,null,null,null,"",null,null,"",null,null,null,null,null,0,null,{"$f":"IF(C474=\"\",\"\",VLOOKUP(C474,Debiteuren!$A$2:$J$9998,10,0))&\"\"","v":""},{"$f":"IF(C474=\"\",\"\",VLOOKUP(C474,Debiteuren!$A$2:$O$9998,15,0)&\"\"&VLOOKUP(C474,Debiteuren!$A$2:$N$9998,14,0))","v":""},null,"","",0,""]
[null,null,null,null,null,null,null,null,null,null,"",null,null,"",null,null,null,null,null,0,null,{"$f":"IF(C475=\"\",\"\",VLOOKUP(C475,Debiteuren!$A$2:$J$9998,10,0))&\"\"","v":""},{"$f":"IF(C475=\"\",\"\",VLOOKUP(C475,Debiteuren!$A$2:$O$9998,15,0)&\"\"&VLOOKUP(C475,Debiteuren!$A$2:$N$9998,14,0))","v":""},null,"","",0,""]
[null,null,null,null,null,null,null,null,null,null,"",null,null,"",null,null,null,null,null,0,null,{"$f":"IF(C476=\"\",\"\",VLOOKUP(C476,Debiteuren!$A$2:$J$9998,10,0))&\"\"","v":""},{"$f":"IF(C476=\"\",\"\",VLOOKUP(C476,Debiteuren!$A$2:$O$9998,15,0)&\"\"&VLOOKUP(C476,Debiteuren!$A$2:$N$9998,14,0))","v":""},null,"","",0,""]
[null,null,null,null,null,null,null,null,null,null,"",null,null,"",null,null,null,null,null,0,null,{"$f":"IF(C477=\"\",\"\",VLOOKUP(C477,Debiteuren!$A$2:$J$9998,10,0))&\"\"","v":""},{"$f":"IF(C477=\"\",\"\",VLOOKUP(C477,Debiteuren!$A$2:$O$9998,15,0)&\"\"&VLOOKUP(C477,Debiteuren!$A$2:$N$9998,14,0))","v":""},null,"","",0,""]
[null,null,null,null,null,null,null,null,null,null,"",null,null,"",null,null,null,null,null,0,null,{"$f":"IF(C478=\"\",\"\",VLOOKUP(C478,Debiteuren!$A$2:$J$9998,10,0))&\"\"","v":""},{"$f":"IF(C478=\"\",\"\",VLOOKUP(C478,Debiteuren!$A$2:$O$9998,15,0)&\"\"&VLOOKUP(C478,Debiteuren!$A$2:$N$9998,14,0))","v":""},null,"","",0,""]
[null,null,null,null,null,null,null,null,null,null,"",null,null,"",null,null,null,null,null,0,null,{"$f":"IF(C479=\"\",\"\",VLOOKUP(C479,Debiteuren!$A$2:$J$9998,10,0))&\"\"","v":""},{"$f":"IF(C479=\"\",\"\",VLOOKUP(C479,Debiteuren!$A$2:$O$9998,15,0)&\"\"&VLOOKUP(C479,Debiteuren!$A$2:$N$9998,14,0))","v":""},null,"","",0,""]
[null,null,null,null,null,null,null,null,null,null,"",null,null,"",null,null,null,null,null,0,null,{"$f":"IF(C480=\"\",\"\",VLOOKUP(C480,Debiteuren!$A$2:$J$9998,10,0))&\"\"","v":""},{"$f":"IF(C480=\"\",\"\",VLOOKUP(C480,Debiteuren!$A$2:$O$9998,15,0)&\"\"&VLOOKUP(C480,Debiteuren!$A$2:$N$9998,14,0))","v":""},null,"","",0,""]
[null,null,null,null,null,null,null,null,null,null,"",null,null,"",null,null,null,null,null,0,null,{"$f":"IF(C481=\"\",\"\",VLOOKUP(C481,Debiteuren!$A$2:$J$9998,10,0))&\"\"","v":""},{"$f":"IF(C481=\"\",\"\",VLOOKUP(C481,Debiteuren!$A$2:$O$9998,15,0)&\"\"&VLOOKUP(C481,Debiteuren!$A$2:$N$9998,14,0))","v":""},null,"","",0,""]
[null,null,null,null,null,null,null,null,null,null,"",null,null,"",null,null,null,null,null,0,null,{"$f":"IF(C482=\"\",\"\",VLOOKUP(C482,Debiteuren!$A$2:$J$9998,10,0))&\"\"","v":""},{"$f":"IF(C482=\"\",\"\",VLOOKUP(C482,Debiteuren!$A$2:$O$9998,15,0)&\"\"&VLOOKUP(C482,Debiteuren!$A$2:$N$9998,14,0))","v":""},null,"","",0,""]
[null,null,null,null,null,null,null,null,null,null,"",null,null,"",null,null,null,null,null,0,null,{"$f":"IF(C483=\"\",\"\",VLOOKUP(C483,Debiteuren!$A$2:$J$9998,10,0))&\"\"","v":""},{"$f":"IF(C483=\"\",\"\",VLOOKUP(C483,Debiteuren!$A$2:$O$9998,15,0)&\"\"&VLOOKUP(C483,Debiteuren!$A$2:$N$9998,14,0))","v":""},null,"","",0,""]
[null,null,null,null,null,null,null,null,null,null,"",null,null,"",null,null,null,null,null,0,null,{"$f":"IF(C484=\"\",\"\",VLOOKUP(C484,Debiteuren!$A$2:$J$9998,10,0))&\"\"","v":""},{"$f":"IF(C484=\"\",\"\",VLOOKUP(C484,Debiteuren!$A$2:$O$9998,15,0)&\"\"&VLOOKUP(C484,Debiteuren!$A$2:$N$9998,14,0))","v":""},null,"","",0,""]
[null,null,null,null,null,null,null,null,null,null,"",null,null,"",null,null,null,null,null,0,null,{"$f":"IF(C485=\"\",\"\",VLOOKUP(C485,Debiteuren!$A$2:$J$9998,10,0))&\"\"","v":""},{"$f":"IF(C485=\"\",\"\",VLOOKUP(C485,Debiteuren!$A$2:$O$9998,15,0)&\"\"&VLOOKUP(C485,Debiteuren!$A$2:$N$9998,14,0))","v":""},null,"","",0,""]
[null,null,null,null,null,null,null,null,null,null,"",null,null,"",null,null,null,null,null,0,null,{"$f":"IF(C486=\"\",\"\",VLOOKUP(C486,Debiteuren!$A$2:$J$9998,10,0))&\"\"","v":""},{"$f":"IF(C486=\"\",\"\",VLOOKUP(C486,Debiteuren!$A$2:$O$9998,15,0)&\"\"&VLOOKUP(C486,Debiteuren!$A$2:$N$9998,14,0))","v":""},null,"","",0,""]
[null,null,null,null,null,null,null,null,null,null,"",null,null,"",null,null,null,null,null,0,null,{"$f":"IF(C487=\"\",\"\",VLOOKUP(C487,Debiteuren!$A$2:$J$9998,10,0))&\"\"","v":""},{"$f":"IF(C487=\"\",\"\",VLOOKUP(C487,Debiteuren!$A$2:$O$9998,15,0)&\"\"&VLOOKUP(C487,Debiteuren!$A$2:$N$9998,14,0))","v":""},null,"","",0,""]
[null,null,null,null,null,null,null,null,null,null,"",null,null,"",null,null,null,null,null,0,null,{"$f":"IF(C488=\"\",\"\",VLOOKUP(C488,Debiteuren!$A$2:$J$9998,10,0))&\"\"","v":""},{"$f":"IF(C488=\"\",\"\",VLOOKUP(C488,Debiteuren!$A$2:$O$9998,15,0)&\"\"&VLOOKUP(C488,Debiteuren!$A$2:$N$9998,14,0))","v":""},null,"","",0,""]
[null,null,null,null,null,null,null,null,null,null,"",null,null,"",null,null,null,null,null,0,null,{"$f":"IF(C489=\"\",\"\",VLOOKUP(C489,Debiteuren!$A$2:$J$9998,10,0))&\"\"","v":""},{"$f":"IF(C489=\"\",\"\",VLOOKUP(C489,Debiteuren!$A$2:$O$9998,15,0)&\"\"&VLOOKUP(C489,Debiteuren!$A$2:$N$9998,14,0))","v":""},null,"","",0,""]
[null,null,null,null,null,null,null,null,null,null,"",null,null,"",null,null,null,null,null,0,null,{"$f":"IF(C490=\"\",\"\",VLOOKUP(C490,Debiteuren!$A$2:$J$9998,10,0))&\"\"","v":""},{"$f":"IF(C490=\"\",\"\",VLOOKUP(C490,Debiteuren!$A$2:$O$9998,15,0)&\"\"&VLOOKUP(C490,Debiteuren!$A$2:$N$9998,14,0))","v":""},null,"","",0,""]
[null,null,null,null,null,null,null,null,null,null,"",null,null,"",null,null,null,null,null,0,null,{"$f":"IF(C491=\"\",\"\",VLOOKUP(C491,Debiteuren!$A$2:$J$9998,10,0))&\"\"","v":""},{"$f":"IF(C491=\"\",\"\",VLOOKUP(C491,Debiteuren!$A$2:$O$9998,15,0)&\"\"&VLOOKUP(C491,Debiteuren!$A$2:$N$9998,14,0))","v":""},null,"","",0,""]
[null,null,null,null,null,null,null,null,null,null,"",null,null,"",null,null,null,null,null,0,null,{"$f":"IF(C492=\"\",\"\",VLOOKUP(C492,Debiteuren!$A$2:$J$9998,10,0))&\"\"","v":""},{"$f":"IF(C492=\"\",\"\",VLOOKUP(C492,Debiteuren!$A$2:$O$9998,15,0)&\"\"&VLOOKUP(C492,Debiteuren!$A$2:$N$9998,14,0))","v":""},null,"","",0,""]
[null,null,null,null,null,null,null,null,null,null,"",null,null,"",null,null,null,null,null,0,null,{"$f":"IF(C493=\"\",\"\",VLOOKUP(C493,Debiteuren!$A$2:$J$9998,10,0))&\"\"","v":""},{"$f":"IF(C493=\"\",\"\",VLOOKUP(C493,Debiteuren!$A$2:$O$9998,15,0)&\"\"&VLOOKUP(C493,Debiteuren!$A$2:$N$9998,14,0))","v":""},null,"","",0,""]
[null,null,null,null,null,null,null,null,null,null,"",null,null,"",null,null,null,null,null,0,null,{"$f":"IF(C494=\"\",\"\",VLOOKUP(C494,Debiteuren!$A$2:$J$9998,10,0))&\"\"","v":""},{"$f":"IF(C494=\"\",\"\",VLOOKUP(C494,Debiteuren!$A$2:$O$9998,15,0)&\"\"&VLOOKUP(C494,Debiteuren!$A$2:$N$9998,14,0))","v":""},null,{"$f":"IF(D494=\"\",\"\",DATEDIF(D494,TODAY(),\"d\"))","v":""},{"$f":"IF(G494=\"\",\"\",DATEDIF(D494,G494,\"d\"))","v":""},{"$f":"DATEDIF(D494,H494,\"d\")","v":0},{"$f":"IF(Y494=\"\",\"\",Y494-AA494)","v":""}]
[null,null,null,null,null,null,null,null,null,null,"",null,null,"",null,null,null,null,null,{"$f":"IF(B495=1,E495,0)","v":0},null,{"$f":"IF(C495=\"\",\"\",VLOOKUP(C495,Debiteuren!$A$2:$J$9998,10,0))&\"\"","v":""},{"$f":"IF(C495=\"\",\"\",VLOOKUP(C495,Debiteuren!$A$2:$O$9998,15,0)&\"\"&VLOOKUP(C495,Debiteuren!$A$2:$N$9998,14,0))","v":""},null,"","",0,""]
[null,null,null,null,null,null,null,null,null,null,"",null,null,"",null,null,null,null,null,0,null,{"$f":"IF(C496=\"\",\"\",VLOOKUP(C496,Debiteuren!$A$2:$J$9998,10,0))&\"\"","v":""},{"$f":"IF(C496=\"\",\"\",VLOOKUP(C496,Debiteuren!$A$2:$O$9998,15,0)&\"\"&VLOOKUP(C496,Debiteuren!$A$2:$N$9998,14,0))","v":""},null,"","",0,""]
[null,null,null,null,null,null,null,null,null,null,"",null,null,"",null,null,null,null,null,0,null,{"$f":"IF(C497=\"\",\"\",VLOOKUP(C497,Debiteuren!$A$2:$J$9998,10,0))&\"\"","v":""},{"$f":"IF(C497=\"\",\"\",VLOOKUP(C497,Debiteuren!$A$2:$O$9998,15,0)&\"\"&VLOOKUP(C497,Debiteuren!$A$2:$N$9998,14,0))","v":""},null,"","",0,""]
[null,null,null,null,null,null,null,null,null,null,"",null,null,"",null,null,null,null,null,0,null,{"$f":"IF(C498=\"\",\"\",VLOOKUP(C498,Debiteuren!$A$2:$J$9998,10,0))&\"\"","v":""},{"$f":"IF(C498=\"\",\"\",VLOOKUP(C498,Debiteuren!$A$2:$O$9998,15,0)&\"\"&VLOOKUP(C498,Debiteuren!$A$2:$N$9998,14,0))","v":""},null,"","",0,""]
[null,null,null,null,null,null,null,null,null,null,"",null,null,"",null,null,null,null,null,0,null,{"$f":"IF(C499=\"\",\"\",VLOOKUP(C499,Debiteuren!$A$2:$J$9998,10,0))&\"\"","v":""},{"$f":"IF(C499=\"\",\"\",VLOOKUP(C499,Debiteuren!$A$2:$O$9998,15,0)&\"\"&VLOOKUP(C499,Debiteuren!$A$2:$N$9998,14,0))","v":""},null,"","",0,""]
[null,null,null,null,null,null,null,null,null,null,"",null,null,"",null,null,null,null,null,0,null,{"$f":"IF(C500=\"\",\"\",VLOOKUP(C500,Debiteuren!$A$2:$J$9998,10,0))&\"\"","v":""},{"$f":"IF(C500=\"\",\"\",VLOOKUP(C500,Debiteuren!$A$2:$O$9998,15,0)&\"\"&VLOOKUP(C500,Debiteuren!$A$2:$N$9998,14,0))","v":""},null,"","",0,""]
[null,null,null,null,null,null,null,null,null,null,"",null,null,"",null,null,null,null,null,0,null,{"$f":"IF(C501=\"\",\"\",VLOOKUP(C501,Debiteuren!$A$2:$J$9998,10,0))&\"\"","v":""},{"$f":"IF(C501=\"\",\"\",VLOOKUP(C501,Debiteuren!$A$2:$O$9998,15,0)&\"\"&VLOOKUP(C501,Debiteuren!$A$2:$N$9998,14,0))","v":""},null,"","",0,""]
[null,null,null,null,null,null,null,null,null,null,"",null,null,"",null,null,null,null,null,0,null,{"$f":"IF(C502=\"\",\"\",VLOOKUP(C502,Debiteuren!$A$2:$J$9998,10,0))&\"\"","v":""},{"$f":"IF(C502=\"\",\"\",VLOOKUP(C502,Debiteuren!$A$2:$O$9998,15,0)&\"\"&VLOOKUP(C502,Debiteuren!$A$2:$N$9998,14,0))","v":""},null,"","",0,""]
[null,null,null,null,null,null,null,null,null,null,"",null,null,"",null,null,null,null,null,0,null,{"$f":"IF(C503=\"\",\"\",VLOOKUP(C503,Debiteuren!$A$2:$J$9998,10,0))&\"\"","v":""},{"$f":"IF(C503=\"\",\"\",VLOOKUP(C503,Debiteuren!$A$2:$O$9998,15,0)&\"\"&VLOOKUP(C503,Debiteuren!$A$2:$N$9998,14,0))","v":""},null,"","",0,""]
[null,null,null,null,null,null,null,null,null,null,"",null,null,"",null,null,null,null,null,0,null,{"$f":"IF(C504=\"\",\"\",VLOOKUP(C504,Debiteuren!$A$2:$J$9998,10,0))&\"\"","v":""},{"$f":"IF(C504=\"\",\"\",VLOOKUP(C504,Debiteuren!$A$2:$O$9998,15,0)&\"\"&VLOOKUP(C504,Debiteuren!$A$2:$N$9998,14,0))","v":""},null,"","",0,""]
[null,null,null,null,null,null,null,null,null,null,{"$f":"IF(D505=\"\",\"\",\"\"&\"Kwartaal \"&MONTH(MONTH(D505)&0)&TEXT(D505,\" - mmm JJJJ\"))","v":""},null,null,{"$f":"IF(E505=\"\",\"\",(E505)-(F505))","v":""},null,null,null,null,null,0,null,{"$f":"IF(C505=\"\",\"\",VLOOKUP(C505,Debiteuren!$A$2:$J$9998,10,0))&\"\"","v":""},{"$f":"IF(C505=\"\",\"\",VLOOKUP(C505,Debiteuren!$A$2:$O$9998,15,0)&\"\"&VLOOKUP(C505,Debiteuren!$A$2:$N$9998,14,0))","v":""},null,"","",0,""]
[null,null,null,null,null,null,null,null,null,null,"",null,null,"",null,null,null,null,null,0,null,{"$f":"IF(C506=\"\",\"\",VLOOKUP(C506,Debiteuren!$A$2:$J$9998,10,0))&\"\"","v":""},{"$f":"IF(C506=\"\",\"\",VLOOKUP(C506,Debiteuren!$A$2:$O$9998,15,0)&\"\"&VLOOKUP(C506,Debiteuren!$A$2:$N$9998,14,0))","v":""},null,"","",0,""]
[null,null,null,null,null,null,null,null,null,null,"",null,null,"",null,null,null,null,null,0,null,{"$f":"IF(C507=\"\",\"\",VLOOKUP(C507,Debiteuren!$A$2:$J$9998,10,0))&\"\"","v":""},{"$f":"IF(C507=\"\",\"\",VLOOKUP(C507,Debiteuren!$A$2:$O$9998,15,0)&\"\"&VLOOKUP(C507,Debiteuren!$A$2:$N$9998,14,0))","v":""},null,"","",0,""]
[null,null,null,null,null,null,null,null,null,null,"",null,null,"",null,null,null,null,null,0,null,{"$f":"IF(C508=\"\",\"\",VLOOKUP(C508,Debiteuren!$A$2:$J$9998,10,0))&\"\"","v":""},{"$f":"IF(C508=\"\",\"\",VLOOKUP(C508,Debiteuren!$A$2:$O$9998,15,0)&\"\"&VLOOKUP(C508,Debiteuren!$A$2:$N$9998,14,0))","v":""},null,"","",0,""]
[null,null,null,null,null,null,null,null,null,null,"",null,null,"",null,null,null,null,null,0,null,{"$f":"IF(C509=\"\",\"\",VLOOKUP(C509,Debiteuren!$A$2:$J$9998,10,0))&\"\"","v":""},{"$f":"IF(C509=\"\",\"\",VLOOKUP(C509,Debiteuren!$A$2:$O$9998,15,0)&\"\"&VLOOKUP(C509,Debiteuren!$A$2:$N$9998,14,0))","v":""},null,"","",0,""]
[null,null,null,null,null,null,null,null,null,null,"",null,null,"",null,null,null,null,null,0,null,{"$f":"IF(C510=\"\",\"\",VLOOKUP(C510,Debiteuren!$A$2:$J$9998,10,0))&\"\"","v":""},{"$f":"IF(C510=\"\",\"\",VLOOKUP(C510,Debiteuren!$A$2:$O$9998,15,0)&\"\"&VLOOKUP(C510,Debiteuren!$A$2:$N$9998,14,0))","v":""},null,"","",0,""]
[null,null,null,null,null,null,null,null,null,null,"",null,null,"",null,null,null,null,null,0,null,{"$f":"IF(C511=\"\",\"\",VLOOKUP(C511,Debiteuren!$A$2:$J$9998,10,0))&\"\"","v":""},{"$f":"IF(C511=\"\",\"\",VLOOKUP(C511,Debiteuren!$A$2:$O$9998,15,0)&\"\"&VLOOKUP(C511,Debiteuren!$A$2:$N$9998,14,0))","v":""},null,"","",0,""]
[null,null,null,null,null,null,null,null,null,null,"",null,null,"",null,null,null,null,null,0,null,{"$f":"IF(C512=\"\",\"\",VLOOKUP(C512,Debiteuren!$A$2:$J$9998,10,0))&\"\"","v":""},{"$f":"IF(C512=\"\",\"\",VLOOKUP(C512,Debiteuren!$A$2:$O$9998,15,0)&\"\"&VLOOKUP(C512,Debiteuren!$A$2:$N$9998,14,0))","v":""},null,"","",0,""]
[null,null,null,null,null,null,null,null,null,null,"",null,null,"",null,null,null,null,null,0,null,{"$f":"IF(C513=\"\",\"\",VLOOKUP(C513,Debiteuren!$A$2:$J$9998,10,0))&\"\"","v":""},{"$f":"IF(C513=\"\",\"\",VLOOKUP(C513,Debiteuren!$A$2:$O$9998,15,0)&\"\"&VLOOKUP(C513,Debiteuren!$A$2:$N$9998,14,0))","v":""},null,"","",0,""]
[null,null,null,null,null,null,null,null,null,null,"",null,null,"",null,null,null,null,null,0,null,{"$f":"IF(C514=\"\",\"\",VLOOKUP(C514,Debiteuren!$A$2:$J$9998,10,0))&\"\"","v":""},{"$f":"IF(C514=\"\",\"\",VLOOKUP(C514,Debiteuren!$A$2:$O$9998,15,0)&\"\"&VLOOKUP(C514,Debiteuren!$A$2:$N$9998,14,0))","v":""},null,"","",0,""]
[null,null,null,null,null,null,null,null,null,null,"",null,null,"",null,null,null,null,null,0,null,{"$f":"IF(C515=\"\",\"\",VLOOKUP(C515,Debiteuren!$A$2:$J$9998,10,0))&\"\"","v":""},{"$f":"IF(C515=\"\",\"\",VLOOKUP(C515,Debiteuren!$A$2:$O$9998,15,0)&\"\"&VLOOKUP(C515,Debiteuren!$A$2:$N$9998,14,0))","v":""},null,"","",0,""]
[null,null,null,null,null,null,null,null,null,null,"",null,null,"",null,null,null,null,null,0,null,{"$f":"IF(C516=\"\",\"\",VLOOKUP(C516,Debiteuren!$A$2:$J$9998,10,0))&\"\"","v":""},{"$f":"IF(C516=\"\",\"\",VLOOKUP(C516,Debiteuren!$A$2:$O$9998,15,0)&\"\"&VLOOKUP(C516,Debiteuren!$A$2:$N$9998,14,0))","v":""},null,"","",0,""]
[null,null,null,null,null,null,null,null,null,null,"",null,null,"",null,null,null,null,null,0,null,{"$f":"IF(C517=\"\",\"\",VLOOKUP(C517,Debiteuren!$A$2:$J$9998,10,0))&\"\"","v":""},{"$f":"IF(C517=\"\",\"\",VLOOKUP(C517,Debiteuren!$A$2:$O$9998,15,0)&\"\"&VLOOKUP(C517,Debiteuren!$A$2:$N$9998,14,0))","v":""},null,"","",0,""]
[null,null,null,null,null,null,null,null,null,null,"",null,null,"",null,null,null,null,null,0,null,{"$f":"IF(C518=\"\",\"\",VLOOKUP(C518,Debiteuren!$A$2:$J$9998,10,0))&\"\"","v":""},{"$f":"IF(C518=\"\",\"\",VLOOKUP(C518,Debiteuren!$A$2:$O$9998,15,0)&\"\"&VLOOKUP(C518,Debiteuren!$A$2:$N$9998,14,0))","v":""},null,"","",0,""]
[null,null,null,null,null,null,null,null,null,null,"",null,null,"",null,null,null,null,null,0,null,{"$f":"IF(C519=\"\",\"\",VLOOKUP(C519,Debiteuren!$A$2:$J$9998,10,0))&\"\"","v":""},{"$f":"IF(C519=\"\",\"\",VLOOKUP(C519,Debiteuren!$A$2:$O$9998,15,0)&\"\"&VLOOKUP(C519,Debiteuren!$A$2:$N$9998,14,0))","v":""},null,"","",0,""]
[null,null,null,null,null,null,null,null,null,null,"",null,null,"",null,null,null,null,null,0,null,{"$f":"IF(C520=\"\",\"\",VLOOKUP(C520,Debiteuren!$A$2:$J$9998,10,0))&\"\"","v":""},{"$f":"IF(C520=\"\",\"\",VLOOKUP(C520,Debiteuren!$A$2:$O$9998,15,0)&\"\"&VLOOKUP(C520,Debiteuren!$A$2:$N$9998,14,0))","v":""},null,"","",0,""]
[null,null,null,null,null,null,null,null,null,null,"",null,null,"",null,null,null,null,null,0,null,{"$f":"IF(C521=\"\",\"\",VLOOKUP(C521,Debiteuren!$A$2:$J$9998,10,0))&\"\"","v":""},{"$f":"IF(C521=\"\",\"\",VLOOKUP(C521,Debiteuren!$A$2:$O$9998,15,0)&\"\"&VLOOKUP(C521,Debiteuren!$A$2:$N$9998,14,0))","v":""},null,"","",0,""]
[null,null,null,null,null,null,null,null,null,null,"",null,null,"",null,null,null,null,null,0,null,{"$f":"IF(C522=\"\",\"\",VLOOKUP(C522,Debiteuren!$A$2:$J$9998,10,0))&\"\"","v":""},{"$f":"IF(C522=\"\",\"\",VLOOKUP(C522,Debiteuren!$A$2:$O$9998,15,0)&\"\"&VLOOKUP(C522,Debiteuren!$A$2:$N$9998,14,0))","v":""},null,"","",0,""]
[null,null,null,null,null,null,null,null,null,null,"",null,null,"",null,null,null,null,null,0,null,{"$f":"IF(C523=\"\",\"\",VLOOKUP(C523,Debiteuren!$A$2:$J$9998,10,0))&\"\"","v":""},{"$f":"IF(C523=\"\",\"\",VLOOKUP(C523,Debiteuren!$A$2:$O$9998,15,0)&\"\"&VLOOKUP(C523,Debiteuren!$A$2:$N$9998,14,0))","v":""},null,"","",0,""]
[null,null,null,null,null,null,null,null,null,null,"",null,null,"",null,null,null,null,null,0,null,{"$f":"IF(C524=\"\",\"\",VLOOKUP(C524,Debiteuren!$A$2:$J$9998,10,0))&\"\"","v":""},{"$f":"IF(C524=\"\",\"\",VLOOKUP(C524,Debiteuren!$A$2:$O$9998,15,0)&\"\"&VLOOKUP(C524,Debiteuren!$A$2:$N$9998,14,0))","v":""},null,"","",0,""]
[null,null,null,null,null,null,null,null,null,null,"",null,null,"",null,null,null,null,null,0,null,{"$f":"IF(C525=\"\",\"\",VLOOKUP(C525,Debiteuren!$A$2:$J$9998,10,0))&\"\"","v":""},{"$f":"IF(C525=\"\",\"\",VLOOKUP(C525,Debiteuren!$A$2:$O$9998,15,0)&\"\"&VLOOKUP(C525,Debiteuren!$A$2:$N$9998,14,0))","v":""},null,"","",0,""]
[null,null,null,null,null,null,null,null,null,null,"",null,null,"",null,null,null,null,null,0,null,{"$f":"IF(C526=\"\",\"\",VLOOKUP(C526,Debiteuren!$A$2:$J$9998,10,0))&\"\"","v":""},{"$f":"IF(C526=\"\",\"\",VLOOKUP(C526,Debiteuren!$A$2:$O$9998,15,0)&\"\"&VLOOKUP(C526,Debiteuren!$A$2:$N$9998,14,0))","v":""},null,"","",0,""]
[null,null,null,null,null,null,null,null,null,null,"",null,null,"",null,null,null,null,null,0,null,{"$f":"IF(C527=\"\",\"\",VLOOKUP(C527,Debiteuren!$A$2:$J$9998,10,0))&\"\"","v":""},{"$f":"IF(C527=\"\",\"\",VLOOKUP(C527,Debiteuren!$A$2:$O$9998,15,0)&\"\"&VLOOKUP(C527,Debiteuren!$A$2:$N$9998,14,0))","v":""},null,"","",0,""]
[null,null,null,null,null,null,null,null,null,null,"",null,null,"",null,null,null,null,null,0,null,{"$f":"IF(C528=\"\",\"\",VLOOKUP(C528,Debiteuren!$A$2:$J$9998,10,0))&\"\"","v":""},{"$f":"IF(C528=\"\",\"\",VLOOKUP(C528,Debiteuren!$A$2:$O$9998,15,0)&\"\"&VLOOKUP(C528,Debiteuren!$A$2:$N$9998,14,0))","v":""},null,"","",0,""]
[null,null,null,null,null,null,null,null,null,null,"",null,null,"",null,null,null,null,null,0,null,{"$f":"IF(C529=\"\",\"\",VLOOKUP(C529,Debiteuren!$A$2:$J$9998,10,0))&\"\"","v":""},{"$f":"IF(C529=\"\",\"\",VLOOKUP(C529,Debiteuren!$A$2:$O$9998,15,0)&\"\"&VLOOKUP(C529,Debiteuren!$A$2:$N$9998,14,0))","v":""},null,"","",0,""]
[null,null,null,null,null,null,null,null,null,null,"",null,null,"",null,null,null,null,null,0,null,{"$f":"IF(C530=\"\",\"\",VLOOKUP(C530,Debiteuren!$A$2:$J$9998,10,0))&\"\"","v":""},{"$f":"IF(C530=\"\",\"\",VLOOKUP(C530,Debiteuren!$A$2:$O$9998,15,0)&\"\"&VLOOKUP(C530,Debiteuren!$A$2:$N$9998,14,0))","v":""},null,"","",0,""]
[null,null,null,null,null,null,null,null,null,null,"",null,null,"",null,null,null,null,null,0,null,{"$f":"IF(C531=\"\",\"\",VLOOKUP(C531,Debiteuren!$A$2:$J$9998,10,0))&\"\"","v":""},{"$f":"IF(C531=\"\",\"\",VLOOKUP(C531,Debiteuren!$A$2:$O$9998,15,0)&\"\"&VLOOKUP(C531,Debiteuren!$A$2:$N$9998,14,0))","v":""},null,"","",0,""]
[null,null,null,null,null,null,null,null,null,null,"",null,null,"",null,null,null,null,null,0,null,{"$f":"IF(C532=\"\",\"\",VLOOKUP(C532,Debiteuren!$A$2:$J$9998,10,0))&\"\"","v":""},{"$f":"IF(C532=\"\",\"\",VLOOKUP(C532,Debiteuren!$A$2:$O$9998,15,0)&\"\"&VLOOKUP(C532,Debiteuren!$A$2:$N$9998,14,0))","v":""},null,"","",0,""]
[null,null,null,null,null,null,null,null,null,null,"",null,null,"",null,null,null,null,null,0,null,{"$f":"IF(C533=\"\",\"\",VLOOKUP(C533,Debiteuren!$A$2:$J$9998,10,0))&\"\"","v":""},{"$f":"IF(C533=\"\",\"\",VLOOKUP(C533,Debiteuren!$A$2:$O$9998,15,0)&\"\"&VLOOKUP(C533,Debiteuren!$A$2:$N$9998,14,0))","v":""},null,"","",0,""]
[null,null,null,null,null,null,null,null,null,null,"",null,null,"",null,null,null,null,null,0,null,{"$f":"IF(C534=\"\",\"\",VLOOKUP(C534,Debiteuren!$A$2:$J$9998,10,0))&\"\"","v":""},{"$f":"IF(C534=\"\",\"\",VLOOKUP(C534,Debiteuren!$A$2:$O$9998,15,0)&\"\"&VLOOKUP(C534,Debiteuren!$A$2:$N$9998,14,0))","v":""},null,"","",0,""]
[null,null,null,null,null,null,null,null,null,null,"",null,null,"",null,null,null,null,null,0,null,{"$f":"IF(C535=\"\",\"\",VLOOKUP(C535,Debiteuren!$A$2:$J$9998,10,0))&\"\"","v":""},{"$f":"IF(C535=\"\",\"\",VLOOKUP(C535,Debiteuren!$A$2:$O$9998,15,0)&\"\"&VLOOKUP(C535,Debiteuren!$A$2:$N$9998,14,0))","v":""},null,"","",0,""]
[null,null,null,null,null,null,null,null,null,null,"",null,null,"",null,null,null,null,null,0,null,{"$f":"IF(C536=\"\",\"\",VLOOKUP(C536,Debiteuren!$A$2:$J$9998,10,0))&\"\"","v":""},{"$f":"IF(C536=\"\",\"\",VLOOKUP(C536,Debiteuren!$A$2:$O$9998,15,0)&\"\"&VLOOKUP(C536,Debiteuren!$A$2:$N$9998,14,0))","v":""},null,"","",0,""]
[null,null,null,null,null,null,null,null,null,null,"",null,null,"",null,null,null,null,null,0,null,{"$f":"IF(C537=\"\",\"\",VLOOKUP(C537,Debiteuren!$A$2:$J$9998,10,0))&\"\"","v":""},{"$f":"IF(C537=\"\",\"\",VLOOKUP(C537,Debiteuren!$A$2:$O$9998,15,0)&\"\"&VLOOKUP(C537,Debiteuren!$A$2:$N$9998,14,0))","v":""},null,"","",0,""]
[null,null,null,null,null,null,null,null,null,null,"",null,null,"",null,null,null,null,null,0,null,{"$f":"IF(C538=\"\",\"\",VLOOKUP(C538,Debiteuren!$A$2:$J$9998,10,0))&\"\"","v":""},{"$f":"IF(C538=\"\",\"\",VLOOKUP(C538,Debiteuren!$A$2:$O$9998,15,0)&\"\"&VLOOKUP(C538,Debiteuren!$A$2:$N$9998,14,0))","v":""},null,"","",0,""]
[null,null,null,null,null,null,null,null,null,null,"",null,null,"",null,null,null,null,null,0,null,{"$f":"IF(C539=\"\",\"\",VLOOKUP(C539,Debiteuren!$A$2:$J$9998,10,0))&\"\"","v":""},{"$f":"IF(C539=\"\",\"\",VLOOKUP(C539,Debiteuren!$A$2:$O$9998,15,0)&\"\"&VLOOKUP(C539,Debiteuren!$A$2:$N$9998,14,0))","v":""},null,"","",0,""]
[null,null,null,null,null,null,null,null,null,null,"",null,null,"",null,null,null,null,null,0,null,{"$f":"IF(C540=\"\",\"\",VLOOKUP(C540,Debiteuren!$A$2:$J$9998,10,0))&\"\"","v":""},{"$f":"IF(C540=\"\",\"\",VLOOKUP(C540,Debiteuren!$A$2:$O$9998,15,0)&\"\"&VLOOKUP(C540,Debiteuren!$A$2:$N$9998,14,0))","v":""},null,"","",0,""]
[null,null,null,null,null,null,null,null,null,null,"",null,null,"",null,null,null,null,null,0,null,{"$f":"IF(C541=\"\",\"\",VLOOKUP(C541,Debiteuren!$A$2:$J$9998,10,0))&\"\"","v":""},{"$f":"IF(C541=\"\",\"\",VLOOKUP(C541,Debiteuren!$A$2:$O$9998,15,0)&\"\"&VLOOKUP(C541,Debiteuren!$A$2:$N$9998,14,0))","v":""},null,"","",0,""]
[null,null,null,null,null,null,null,null,null,null,"",null,null,"",null,null,null,null,null,0,null,{"$f":"IF(C542=\"\",\"\",VLOOKUP(C542,Debiteuren!$A$2:$J$9998,10,0))&\"\"","v":""},{"$f":"IF(C542=\"\",\"\",VLOOKUP(C542,Debiteuren!$A$2:$O$9998,15,0)&\"\"&VLOOKUP(C542,Debiteuren!$A$2:$N$9998,14,0))","v":""},null,"","",0,""]
[null,null,null,null,null,null,null,null,null,null,"",null,null,"",null,null,null,null,null,0,null,{"$f":"IF(C543=\"\",\"\",VLOOKUP(C543,Debiteuren!$A$2:$J$9998,10,0))&\"\"","v":""},{"$f":"IF(C543=\"\",\"\",VLOOKUP(C543,Debiteuren!$A$2:$O$9998,15,0)&\"\"&VLOOKUP(C543,Debiteuren!$A$2:$N$9998,14,0))","v":""},null,"","",0,""]
[null,null,null,null,null,null,null,null,null,null,"",null,null,"",null,null,null,null,null,0,null,{"$f":"IF(C544=\"\",\"\",VLOOKUP(C544,Debiteuren!$A$2:$J$9998,10,0))&\"\"","v":""},{"$f":"IF(C544=\"\",\"\",VLOOKUP(C544,Debiteuren!$A$2:$O$9998,15,0)&\"\"&VLOOKUP(C544,Debiteuren!$A$2:$N$9998,14,0))","v":""},null,"","",0,""]
[null,null,null,null,null,null,null,null,null,null,"",null,null,"",null,null,null,null,null,0,null,{"$f":"IF(C545=\"\",\"\",VLOOKUP(C545,Debiteuren!$A$2:$J$9998,10,0))&\"\"","v":""},{"$f":"IF(C545=\"\",\"\",VLOOKUP(C545,Debiteuren!$A$2:$O$9998,15,0)&\"\"&VLOOKUP(C545,Debiteuren!$A$2:$N$9998,14,0))","v":""},null,"","",0,""]
[null,null,null,null,null,null,null,null,null,null,"",null,null,"",null,null,null,null,null,0,null,{"$f":"IF(C546=\"\",\"\",VLOOKUP(C546,Debiteuren!$A$2:$J$9998,10,0))&\"\"","v":""},{"$f":"IF(C546=\"\",\"\",VLOOKUP(C546,Debiteuren!$A$2:$O$9998,15,0)&\"\"&VLOOKUP(C546,Debiteuren!$A$2:$N$9998,14,0))","v":""},null,"","",0,""]
[null,null,null,null,null,null,null,null,null,null,"",null,null,"",null,null,null,null,null,0,null,{"$f":"IF(C547=\"\",\"\",VLOOKUP(C547,Debiteuren!$A$2:$J$9998,10,0))&\"\"","v":""},{"$f":"IF(C547=\"\",\"\",VLOOKUP(C547,Debiteuren!$A$2:$O$9998,15,0)&\"\"&VLOOKUP(C547,Debiteuren!$A$2:$N$9998,14,0))","v":""},null,"","",0,""]
[null,null,null,null,null,null,null,null,null,null,"",null,null,"",null,null,null,null,null,0,null,{"$f":"IF(C548=\"\",\"\",VLOOKUP(C548,Debiteuren!$A$2:$J$9998,10,0))&\"\"","v":""},{"$f":"IF(C548=\"\",\"\",VLOOKUP(C548,Debiteuren!$A$2:$O$9998,15,0)&\"\"&VLOOKUP(C548,Debiteuren!$A$2:$N$9998,14,0))","v":""},null,"","",0,""]
[null,null,null,null,null,null,null,null,null,null,"",null,null,"",null,null,null,null,null,0,null,{"$f":"IF(C549=\"\",\"\",VLOOKUP(C549,Debiteuren!$A$2:$J$9998,10,0))&\"\"","v":""},{"$f":"IF(C549=\"\",\"\",VLOOKUP(C549,Debiteuren!$A$2:$O$9998,15,0)&\"\"&VLOOKUP(C549,Debiteuren!$A$2:$N$9998,14,0))","v":""},null,"","",0,""]
[null,null,null,null,null,null,null,null,null,null,"",null,null,"",null,null,null,null,null,0,null,{"$f":"IF(C550=\"\",\"\",VLOOKUP(C550,Debiteuren!$A$2:$J$9998,10,0))&\"\"","v":""},{"$f":"IF(C550=\"\",\"\",VLOOKUP(C550,Debiteuren!$A$2:$O$9998,15,0)&\"\"&VLOOKUP(C550,Debiteuren!$A$2:$N$9998,14,0))","v":""},null,"","",0,""]
[null,null,null,null,null,null,null,null,null,null,"",null,null,"",null,null,null,null,null,0,null,{"$f":"IF(C551=\"\",\"\",VLOOKUP(C551,Debiteuren!$A$2:$J$9998,10,0))&\"\"","v":""},{"$f":"IF(C551=\"\",\"\",VLOOKUP(C551,Debiteuren!$A$2:$O$9998,15,0)&\"\"&VLOOKUP(C551,Debiteuren!$A$2:$N$9998,14,0))","v":""},null,"","",0,""]
[null,null,null,null,null,null,null,null,null,null,"",null,null,"",null,null,null,null,null,0,null,{"$f":"IF(C552=\"\",\"\",VLOOKUP(C552,Debiteuren!$A$2:$J$9998,10,0))&\"\"","v":""},{"$f":"IF(C552=\"\",\"\",VLOOKUP(C552,Debiteuren!$A$2:$O$9998,15,0)&\"\"&VLOOKUP(C552,Debiteuren!$A$2:$N$9998,14,0))","v":""},null,"","",0,""]
[null,null,null,null,null,null,null,null,null,null,"",null,null,"",null,null,null,null,null,0,null,{"$f":"IF(C553=\"\",\"\",VLOOKUP(C553,Debiteuren!$A$2:$J$9998,10,0))&\"\"","v":""},{"$f":"IF(C553=\"\",\"\",VLOOKUP(C553,Debiteuren!$A$2:$O$9998,15,0)&\"\"&VLOOKUP(C553,Debiteuren!$A$2:$N$9998,14,0))","v":""},null,"","",0,""]
[null,null,null,null,null,null,null,null,null,null,"",null,null,"",null,null,null,null,null,0,null,{"$f":"IF(C554=\"\",\"\",VLOOKUP(C554,Debiteuren!$A$2:$J$9998,10,0))&\"\"","v":""},{"$f":"IF(C554=\"\",\"\",VLOOKUP(C554,Debiteuren!$A$2:$O$9998,15,0)&\"\"&VLOOKUP(C554,Debiteuren!$A$2:$N$9998,14,0))","v":""},null,"","",0,""]
[null,null,null,null,null,null,null,null,null,null,"",null,null,"",null,null,null,null,null,0,null,{"$f":"IF(C555=\"\",\"\",VLOOKUP(C555,Debiteuren!$A$2:$J$9998,10,0))&\"\"","v":""},{"$f":"IF(C555=\"\",\"\",VLOOKUP(C555,Debiteuren!$A$2:$O$9998,15,0)&\"\"&VLOOKUP(C555,Debiteuren!$A$2:$N$9998,14,0))","v":""},null,"","",0,""]
[null,null,null,null,null,null,null,null,null,null,"",null,null,"",null,null,null,null,null,0,null,{"$f":"IF(C556=\"\",\"\",VLOOKUP(C556,Debiteuren!$A$2:$J$9998,10,0))&\"\"","v":""},{"$f":"IF(C556=\"\",\"\",VLOOKUP(C556,Debiteuren!$A$2:$O$9998,15,0)&\"\"&VLOOKUP(C556,Debiteuren!$A$2:$N$9998,14,0))","v":""},null,"","",0,""]
[null,null,null,null,null,null,null,null,null,null,"",null,null,"",null,null,null,null,null,0,null,{"$f":"IF(C557=\"\",\"\",VLOOKUP(C557,Debiteuren!$A$2:$J$9998,10,0))&\"\"","v":""},{"$f":"IF(C557=\"\",\"\",VLOOKUP(C557,Debiteuren!$A$2:$O$9998,15,0)&\"\"&VLOOKUP(C557,Debiteuren!$A$2:$N$9998,14,0))","v":""},null,"","",0,""]
[null,null,null,null,null,null,null,null,null,null,"",null,null,"",null,null,null,null,null,0,null,{"$f":"IF(C558=\"\",\"\",VLOOKUP(C558,Debiteuren!$A$2:$J$9998,10,0))&\"\"","v":""},{"$f":"IF(C558=\"\",\"\",VLOOKUP(C558,Debiteuren!$A$2:$O$9998,15,0)&\"\"&VLOOKUP(C558,Debiteuren!$A$2:$N$9998,14,0))","v":""},null,{"$f":"IF(D558=\"\",\"\",DATEDIF(D558,TODAY(),\"d\"))","v":""},{"$f":"IF(G558=\"\",\"\",DATEDIF(D558,G558,\"d\"))","v":""},{"$f":"DATEDIF(D558,H558,\"d\")","v":0},{"$f":"IF(Y558=\"\",\"\",Y558-AA558)","v":""}]
[null,null,null,null,null,null,null,null,null,null,"",null,null,"",null,null,null,null,null,{"$f":"IF(B559=1,E559,0)","v":0},null,{"$f":"IF(C559=\"\",\"\",VLOOKUP(C559,Debiteuren!$A$2:$J$9998,10,0))&\"\"","v":""},{"$f":"IF(C559=\"\",\"\",VLOOKUP(C559,Debiteuren!$A$2:$O$9998,15,0)&\"\"&VLOOKUP(C559,Debiteuren!$A$2:$N$9998,14,0))","v":""},null,"","",0,""]
[null,null,null,null,null,null,null,null,null,null,"",null,null,"",null,null,null,null,null,0,null,{"$f":"IF(C560=\"\",\"\",VLOOKUP(C560,Debiteuren!$A$2:$J$9998,10,0))&\"\"","v":""},{"$f":"IF(C560=\"\",\"\",VLOOKUP(C560,Debiteuren!$A$2:$O$9998,15,0)&\"\"&VLOOKUP(C560,Debiteuren!$A$2:$N$9998,14,0))","v":""},null,"","",0,""]
[null,null,null,null,null,null,null,null,null,null,"",null,null,"",null,null,null,null,null,0,null,{"$f":"IF(C561=\"\",\"\",VLOOKUP(C561,Debiteuren!$A$2:$J$9998,10,0))&\"\"","v":""},{"$f":"IF(C561=\"\",\"\",VLOOKUP(C561,Debiteuren!$A$2:$O$9998,15,0)&\"\"&VLOOKUP(C561,Debiteuren!$A$2:$N$9998,14,0))","v":""},null,"","",0,""]
[null,null,null,null,null,null,null,null,null,null,"",null,null,"",null,null,null,null,null,0,null,{"$f":"IF(C562=\"\",\"\",VLOOKUP(C562,Debiteuren!$A$2:$J$9998,10,0))&\"\"","v":""},{"$f":"IF(C562=\"\",\"\",VLOOKUP(C562,Debiteuren!$A$2:$O$9998,15,0)&\"\"&VLOOKUP(C562,Debiteuren!$A$2:$N$9998,14,0))","v":""},null,"","",0,""]
[null,null,null,null,null,null,null,null,null,null,"",null,null,"",null,null,null,null,null,0,null,{"$f":"IF(C563=\"\",\"\",VLOOKUP(C563,Debiteuren!$A$2:$J$9998,10,0))&\"\"","v":""},{"$f":"IF(C563=\"\",\"\",VLOOKUP(C563,Debiteuren!$A$2:$O$9998,15,0)&\"\"&VLOOKUP(C563,Debiteuren!$A$2:$N$9998,14,0))","v":""},null,"","",0,""]
[null,null,null,null,null,null,null,null,null,null,"",null,null,"",null,null,null,null,null,0,null,{"$f":"IF(C564=\"\",\"\",VLOOKUP(C564,Debiteuren!$A$2:$J$9998,10,0))&\"\"","v":""},{"$f":"IF(C564=\"\",\"\",VLOOKUP(C564,Debiteuren!$A$2:$O$9998,15,0)&\"\"&VLOOKUP(C564,Debiteuren!$A$2:$N$9998,14,0))","v":""},null,"","",0,""]
[null,null,null,null,null,null,null,null,null,null,"",null,null,"",null,null,null,null,null,0,null,{"$f":"IF(C565=\"\",\"\",VLOOKUP(C565,Debiteuren!$A$2:$J$9998,10,0))&\"\"","v":""},{"$f":"IF(C565=\"\",\"\",VLOOKUP(C565,Debiteuren!$A$2:$O$9998,15,0)&\"\"&VLOOKUP(C565,Debiteuren!$A$2:$N$9998,14,0))","v":""},null,"","",0,""]
[null,null,null,null,null,null,null,null,null,null,"",null,null,"",null,null,null,null,null,0,null,{"$f":"IF(C566=\"\",\"\",VLOOKUP(C566,Debiteuren!$A$2:$J$9998,10,0))&\"\"","v":""},{"$f":"IF(C566=\"\",\"\",VLOOKUP(C566,Debiteuren!$A$2:$O$9998,15,0)&\"\"&VLOOKUP(C566,Debiteuren!$A$2:$N$9998,14,0))","v":""},null,"","",0,""]
[null,null,null,null,null,null,null,null,null,null,"",null,null,"",null,null,null,null,null,0,null,{"$f":"IF(C567=\"\",\"\",VLOOKUP(C567,Debiteuren!$A$2:$J$9998,10,0))&\"\"","v":""},{"$f":"IF(C567=\"\",\"\",VLOOKUP(C567,Debiteuren!$A$2:$O$9998,15,0)&\"\"&VLOOKUP(C567,Debiteuren!$A$2:$N$9998,14,0))","v":""},null,"","",0,""]
[null,null,null,null,null,null,null,null,null,null,"",null,null,"",null,null,null,null,null,0,null,{"$f":"IF(C568=\"\",\"\",VLOOKUP(C568,Debiteuren!$A$2:$J$9998,10,0))&\"\"","v":""},{"$f":"IF(C568=\"\",\"\",VLOOKUP(C568,Debiteuren!$A$2:$O$9998,15,0)&\"\"&VLOOKUP(C568,Debiteuren!$A$2:$N$9998,14,0))","v":""},null,"","",0,""]
[null,null,null,null,null,null,null,null,null,null,{"$f":"IF(D569=\"\",\"\",\"\"&\"Kwartaal \"&MONTH(MONTH(D569)&0)&TEXT(D569,\" - mmm JJJJ\"))","v":""},null,null,{"$f":"IF(E569=\"\",\"\",(E569)-(F569))","v":""},null,null,null,null,null,0,null,{"$f":"IF(C569=\"\",\"\",VLOOKUP(C569,Debiteuren!$A$2:$J$9998,10,0))&\"\"","v":""},{"$f":"IF(C569=\"\",\"\",VLOOKUP(C569,Debiteuren!$A$2:$O$9998,15,0)&\"\"&VLOOKUP(C569,Debiteuren!$A$2:$N$9998,14,0))","v":""},null,"","",0,""]
[null,null,null,null,null,null,null,null,null,null,"",null,null,"",null,null,null,null,null,0,null,{"$f":"IF(C570=\"\",\"\",VLOOKUP(C570,Debiteuren!$A$2:$J$9998,10,0))&\"\"","v":""},{"$f":"IF(C570=\"\",\"\",VLOOKUP(C570,Debiteuren!$A$2:$O$9998,15,0)&\"\"&VLOOKUP(C570,Debiteuren!$A$2:$N$9998,14,0))","v":""},null,"","",0,""]
[null,null,null,null,null,null,null,null,null,null,"",null,null,"",null,null,null,null,null,0,null,{"$f":"IF(C571=\"\",\"\",VLOOKUP(C571,Debiteuren!$A$2:$J$9998,10,0))&\"\"","v":""},{"$f":"IF(C571=\"\",\"\",VLOOKUP(C571,Debiteuren!$A$2:$O$9998,15,0)&\"\"&VLOOKUP(C571,Debiteuren!$A$2:$N$9998,14,0))","v":""},null,"","",0,""]
[null,null,null,null,null,null,null,null,null,null,"",null,null,"",null,null,null,null,null,0,null,{"$f":"IF(C572=\"\",\"\",VLOOKUP(C572,Debiteuren!$A$2:$J$9998,10,0))&\"\"","v":""},{"$f":"IF(C572=\"\",\"\",VLOOKUP(C572,Debiteuren!$A$2:$O$9998,15,0)&\"\"&VLOOKUP(C572,Debiteuren!$A$2:$N$9998,14,0))","v":""},null,"","",0,""]
[null,null,null,null,null,null,null,null,null,null,"",null,null,"",null,null,null,null,null,0,null,{"$f":"IF(C573=\"\",\"\",VLOOKUP(C573,Debiteuren!$A$2:$J$9998,10,0))&\"\"","v":""},{"$f":"IF(C573=\"\",\"\",VLOOKUP(C573,Debiteuren!$A$2:$O$9998,15,0)&\"\"&VLOOKUP(C573,Debiteuren!$A$2:$N$9998,14,0))","v":""},null,"","",0,""]
[null,null,null,null,null,null,null,null,null,null,"",null,null,"",null,null,null,null,null,0,null,{"$f":"IF(C574=\"\",\"\",VLOOKUP(C574,Debiteuren!$A$2:$J$9998,10,0))&\"\"","v":""},{"$f":"IF(C574=\"\",\"\",VLOOKUP(C574,Debiteuren!$A$2:$O$9998,15,0)&\"\"&VLOOKUP(C574,Debiteuren!$A$2:$N$9998,14,0))","v":""},null,"","",0,""]
[null,null,null,null,null,null,null,null,null,null,"",null,null,"",null,null,null,null,null,0,null,{"$f":"IF(C575=\"\",\"\",VLOOKUP(C575,Debiteuren!$A$2:$J$9998,10,0))&\"\"","v":""},{"$f":"IF(C575=\"\",\"\",VLOOKUP(C575,Debiteuren!$A$2:$O$9998,15,0)&\"\"&VLOOKUP(C575,Debiteuren!$A$2:$N$9998,14,0))","v":""},null,"","",0,""]
[null,null,null,null,null,null,null,null,null,null,"",null,null,"",null,null,null,null,null,0,null,{"$f":"IF(C576=\"\",\"\",VLOOKUP(C576,Debiteuren!$A$2:$J$9998,10,0))&\"\"","v":""},{"$f":"IF(C576=\"\",\"\",VLOOKUP(C576,Debiteuren!$A$2:$O$9998,15,0)&\"\"&VLOOKUP(C576,Debiteuren!$A$2:$N$9998,14,0))","v":""},null,"","",0,""]
[null,null,null,null,null,null,null,null,null,null,"",null,null,"",null,null,null,null,null,0,null,{"$f":"IF(C577=\"\",\"\",VLOOKUP(C577,Debiteuren!$A$2:$J$9998,10,0))&\"\"","v":""},{"$f":"IF(C577=\"\",\"\",VLOOKUP(C577,Debiteuren!$A$2:$O$9998,15,0)&\"\"&VLOOKUP(C577,Debiteuren!$A$2:$N$9998,14,0))","v":""},null,"","",0,""]
[null,null,null,null,null,null,null,null,null,null,"",null,null,"",null,null,null,null,null,0,null,{"$f":"IF(C578=\"\",\"\",VLOOKUP(C578,Debiteuren!$A$2:$J$9998,10,0))&\"\"","v":""},{"$f":"IF(C578=\"\",\"\",VLOOKUP(C578,Debiteuren!$A$2:$O$9998,15,0)&\"\"&VLOOKUP(C578,Debiteuren!$A$2:$N$9998,14,0))","v":""},null,"","",0,""]
[null,null,null,null,null,null,null,null,null,null,"",null,null,"",null,null,null,null,null,0,null,{"$f":"IF(C579=\"\",\"\",VLOOKUP(C579,Debiteuren!$A$2:$J$9998,10,0))&\"\"","v":""},{"$f":"IF(C579=\"\",\"\",VLOOKUP(C579,Debiteuren!$A$2:$O$9998,15,0)&\"\"&VLOOKUP(C579,Debiteuren!$A$2:$N$9998,14,0))","v":""},null,"","",0,""]
[null,null,null,null,null,null,null,null,null,null,"",null,null,"",null,null,null,null,null,0,null,{"$f":"IF(C580=\"\",\"\",VLOOKUP(C580,Debiteuren!$A$2:$J$9998,10,0))&\"\"","v":""},{"$f":"IF(C580=\"\",\"\",VLOOKUP(C580,Debiteuren!$A$2:$O$9998,15,0)&\"\"&VLOOKUP(C580,Debiteuren!$A$2:$N$9998,14,0))","v":""},null,"","",0,""]
[null,null,null,null,null,null,null,null,null,null,"",null,null,"",null,null,null,null,null,0,null,{"$f":"IF(C581=\"\",\"\",VLOOKUP(C581,Debiteuren!$A$2:$J$9998,10,0))&\"\"","v":""},{"$f":"IF(C581=\"\",\"\",VLOOKUP(C581,Debiteuren!$A$2:$O$9998,15,0)&\"\"&VLOOKUP(C581,Debiteuren!$A$2:$N$9998,14,0))","v":""},null,"","",0,""]
[null,null,null,null,null,null,null,null,null,null,"",null,null,"",null,null,null,null,null,0,null,{"$f":"IF(C582=\"\",\"\",VLOOKUP(C582,Debiteuren!$A$2:$J$9998,10,0))&\"\"","v":""},{"$f":"IF(C582=\"\",\"\",VLOOKUP(C582,Debiteuren!$A$2:$O$9998,15,0)&\"\"&VLOOKUP(C582,Debiteuren!$A$2:$N$9998,14,0))","v":""},null,"","",0,""]
[null,null,null,null,null,null,null,null,null,null,"",null,null,"",null,null,null,null,null,0,null,{"$f":"IF(C583=\"\",\"\",VLOOKUP(C583,Debiteuren!$A$2:$J$9998,10,0))&\"\"","v":""},{"$f":"IF(C583=\"\",\"\",VLOOKUP(C583,Debiteuren!$A$2:$O$9998,15,0)&\"\"&VLOOKUP(C583,Debiteuren!$A$2:$N$9998,14,0))","v":""},null,"","",0,""]
[null,null,null,null,null,null,null,null,null,null,"",null,null,"",null,null,null,null,null,0,null,{"$f":"IF(C584=\"\",\"\",VLOOKUP(C584,Debiteuren!$A$2:$J$9998,10,0))&\"\"","v":""},{"$f":"IF(C584=\"\",\"\",VLOOKUP(C584,Debiteuren!$A$2:$O$9998,15,0)&\"\"&VLOOKUP(C584,Debiteuren!$A$2:$N$9998,14,0))","v":""},null,"","",0,""]
[null,null,null,null,null,null,null,null,null,null,"",null,null,"",null,null,null,null,null,0,null,{"$f":"IF(C585=\"\",\"\",VLOOKUP(C585,Debiteuren!$A$2:$J$9998,10,0))&\"\"","v":""},{"$f":"IF(C585=\"\",\"\",VLOOKUP(C585,Debiteuren!$A$2:$O$9998,15,0)&\"\"&VLOOKUP(C585,Debiteuren!$A$2:$N$9998,14,0))","v":""},null,"","",0,""]
[null,null,null,null,null,null,null,null,null,null,"",null,null,"",null,null,null,null,null,0,null,{"$f":"IF(C586=\"\",\"\",VLOOKUP(C586,Debiteuren!$A$2:$J$9998,10,0))&\"\"","v":""},{"$f":"IF(C586=\"\",\"\",VLOOKUP(C586,Debiteuren!$A$2:$O$9998,15,0)&\"\"&VLOOKUP(C586,Debiteuren!$A$2:$N$9998,14,0))","v":""},null,"","",0,""]
[null,null,null,null,null,null,null,null,null,null,"",null,null,"",null,null,null,null,null,0,null,{"$f":"IF(C587=\"\",\"\",VLOOKUP(C587,Debiteuren!$A$2:$J$9998,10,0))&\"\"","v":""},{"$f":"IF(C587=\"\",\"\",VLOOKUP(C587,Debiteuren!$A$2:$O$9998,15,0)&\"\"&VLOOKUP(C587,Debiteuren!$A$2:$N$9998,14,0))","v":""},null,"","",0,""]
[null,null,null,null,null,null,null,null,null,null,"",null,null,"",null,null,null,null,null,0,null,{"$f":"IF(C588=\"\",\"\",VLOOKUP(C588,Debiteuren!$A$2:$J$9998,10,0))&\"\"","v":""},{"$f":"IF(C588=\"\",\"\",VLOOKUP(C588,Debiteuren!$A$2:$O$9998,15,0)&\"\"&VLOOKUP(C588,Debiteuren!$A$2:$N$9998,14,0))","v":""},null,"","",0,""]
[null,null,null,null,null,null,null,null,null,null,"",null,null,"",null,null,null,null,null,0,null,{"$f":"IF(C589=\"\",\"\",VLOOKUP(C589,Debiteuren!$A$2:$J$9998,10,0))&\"\"","v":""},{"$f":"IF(C589=\"\",\"\",VLOOKUP(C589,Debiteuren!$A$2:$O$9998,15,0)&\"\"&VLOOKUP(C589,Debiteuren!$A$2:$N$9998,14,0))","v":""},null,"","",0,""]
[null,null,null,null,null,null,null,null,null,null,"",null,null,"",null,null,null,null,null,0,null,{"$f":"IF(C590=\"\",\"\",VLOOKUP(C590,Debiteuren!$A$2:$J$9998,10,0))&\"\"","v":""},{"$f":"IF(C590=\"\",\"\",VLOOKUP(C590,Debiteuren!$A$2:$O$9998,15,0)&\"\"&VLOOKUP(C590,Debiteuren!$A$2:$N$9998,14,0))","v":""},null,"","",0,""]
[null,null,null,null,null,null,null,null,null,null,"",null,null,"",null,null,null,null,null,0,null,{"$f":"IF(C591=\"\",\"\",VLOOKUP(C591,Debiteuren!$A$2:$J$9998,10,0))&\"\"","v":""},{"$f":"IF(C591=\"\",\"\",VLOOKUP(C591,Debiteuren!$A$2:$O$9998,15,0)&\"\"&VLOOKUP(C591,Debiteuren!$A$2:$N$9998,14,0))","v":""},null,"","",0,""]
[null,null,null,null,null,null,null,null,null,null,"",null,null,"",null,null,null,null,null,0,null,{"$f":"IF(C592=\"\",\"\",VLOOKUP(C592,Debiteuren!$A$2:$J$9998,10,0))&\"\"","v":""},{"$f":"IF(C592=\"\",\"\",VLOOKUP(C592,Debiteuren!$A$2:$O$9998,15,0)&\"\"&VLOOKUP(C592,Debiteuren!$A$2:$N$9998,14,0))","v":""},null,"","",0,""]
[null,null,null,null,null,null,null,null,null,null,"",null,null,"",null,null,null,null,null,0,null,{"$f":"IF(C593=\"\",\"\",VLOOKUP(C593,Debiteuren!$A$2:$J$9998,10,0))&\"\"","v":""},{"$f":"IF(C593=\"\",\"\",VLOOKUP(C593,Debiteuren!$A$2:$O$9998,15,0)&\"\"&VLOOKUP(C593,Debiteuren!$A$2:$N$9998,14,0))","v":""},null,"","",0,""]
[null,null,null,null,null,null,null,null,null,null,"",null,null,"",null,null,null,null,null,0,null,{"$f":"IF(C594=\"\",\"\",VLOOKUP(C594,Debiteuren!$A$2:$J$9998,10,0))&\"\"","v":""},{"$f":"IF(C594=\"\",\"\",VLOOKUP(C594,Debiteuren!$A$2:$O$9998,15,0)&\"\"&VLOOKUP(C594,Debiteuren!$A$2:$N$9998,14,0))","v":""},null,"","",0,""]
[null,null,null,null,null,null,null,null,null,null,"",null,null,"",null,null,null,null,null,0,null,{"$f":"IF(C595=\"\",\"\",VLOOKUP(C595,Debiteuren!$A$2:$J$9998,10,0))&\"\"","v":""},{"$f":"IF(C595=\"\",\"\",VLOOKUP(C595,Debiteuren!$A$2:$O$9998,15,0)&\"\"&VLOOKUP(C595,Debiteuren!$A$2:$N$9998,14,0))","v":""},null,"","",0,""]
[null,null,null,null,null,null,null,null,null,null,"",null,null,"",null,null,null,null,null,0,null,{"$f":"IF(C596=\"\",\"\",VLOOKUP(C596,Debiteuren!$A$2:$J$9998,10,0))&\"\"","v":""},{"$f":"IF(C596=\"\",\"\",VLOOKUP(C596,Debiteuren!$A$2:$O$9998,15,0)&\"\"&VLOOKUP(C596,Debiteuren!$A$2:$N$9998,14,0))","v":""},null,"","",0,""]
[null,null,null,null,null,null,null,null,null,null,"",null,null,"",null,null,null,null,null,0,null,{"$f":"IF(C597=\"\",\"\",VLOOKUP(C597,Debiteuren!$A$2:$J$9998,10,0))&\"\"","v":""},{"$f":"IF(C597=\"\",\"\",VLOOKUP(C597,Debiteuren!$A$2:$O$9998,15,0)&\"\"&VLOOKUP(C597,Debiteuren!$A$2:$N$9998,14,0))","v":""},null,"","",0,""]
[null,null,null,null,null,null,null,null,null,null,"",null,null,"",null,null,null,null,null,0,null,{"$f":"IF(C598=\"\",\"\",VLOOKUP(C598,Debiteuren!$A$2:$J$9998,10,0))&\"\"","v":""},{"$f":"IF(C598=\"\",\"\",VLOOKUP(C598,Debiteuren!$A$2:$O$9998,15,0)&\"\"&VLOOKUP(C598,Debiteuren!$A$2:$N$9998,14,0))","v":""},null,"","",0,""]
[null,null,null,null,null,null,null,null,null,null,"",null,null,"",null,null,null,null,null,0,null,{"$f":"IF(C599=\"\",\"\",VLOOKUP(C599,Debiteuren!$A$2:$J$9998,10,0))&\"\"","v":""},{"$f":"IF(C599=\"\",\"\",VLOOKUP(C599,Debiteuren!$A$2:$O$9998,15,0)&\"\"&VLOOKUP(C599,Debiteuren!$A$2:$N$9998,14,0))","v":""},null,"","",0,""]
[null,null,null,null,null,null,null,null,null,null,"",null,null,"",null,null,null,null,null,0,null,{"$f":"IF(C600=\"\",\"\",VLOOKUP(C600,Debiteuren!$A$2:$J$9998,10,0))&\"\"","v":""},{"$f":"IF(C600=\"\",\"\",VLOOKUP(C600,Debiteuren!$A$2:$O$9998,15,0)&\"\"&VLOOKUP(C600,Debiteuren!$A$2:$N$9998,14,0))","v":""},null,"","",0,""]
[null,null,null,null,null,null,null,null,null,null,"",null,null,"",null,null,null,null,null,0,null,{"$f":"IF(C601=\"\",\"\",VLOOKUP(C601,Debiteuren!$A$2:$J$9998,10,0))&\"\"","v":""},{"$f":"IF(C601=\"\",\"\",VLOOKUP(C601,Debiteuren!$A$2:$O$9998,15,0)&\"\"&VLOOKUP(C601,Debiteuren!$A$2:$N$9998,14,0))","v":""},null,"","",0,""]
[null,null,null,null,null,null,null,null,null,null,"",null,null,"",null,null,null,null,null,0,null,{"$f":"IF(C602=\"\",\"\",VLOOKUP(C602,Debiteuren!$A$2:$J$9998,10,0))&\"\"","v":""},{"$f":"IF(C602=\"\",\"\",VLOOKUP(C602,Debiteuren!$A$2:$O$9998,15,0)&\"\"&VLOOKUP(C602,Debiteuren!$A$2:$N$9998,14,0))","v":""},null,"","",0,""]
[null,null,null,null,null,null,null,null,null,null,"",null,null,"",null,null,null,null,null,0,null,{"$f":"IF(C603=\"\",\"\",VLOOKUP(C603,Debiteuren!$A$2:$J$9998,10,0))&\"\"","v":""},{"$f":"IF(C603=\"\",\"\",VLOOKUP(C603,Debiteuren!$A$2:$O$9998,15,0)&\"\"&VLOOKUP(C603,Debiteuren!$A$2:$N$9998,14,0))","v":""},null,"","",0,""]
[null,null,null,null,null,null,null,null,null,null,"",null,null,"",null,null,null,null,null,0,null,{"$f":"IF(C604=\"\",\"\",VLOOKUP(C604,Debiteuren!$A$2:$J$9998,10,0))&\"\"","v":""},{"$f":"IF(C604=\"\",\"\",VLOOKUP(C604,Debiteuren!$A$2:$O$9998,15,0)&\"\"&VLOOKUP(C604,Debiteuren!$A$2:$N$9998,14,0))","v":""},null,"","",0,""]
[null,null,null,null,null,null,null,null,null,null,"",null,null,"",null,null,null,null,null,0,null,{"$f":"IF(C605=\"\",\"\",VLOOKUP(C605,Debiteuren!$A$2:$J$9998,10,0))&\"\"","v":""},{"$f":"IF(C605=\"\",\"\",VLOOKUP(C605,Debiteuren!$A$2:$O$9998,15,0)&\"\"&VLOOKUP(C605,Debiteuren!$A$2:$N$9998,14,0))","v":""},null,"","",0,""]
[null,null,null,null,null,null,null,null,null,null,"",null,null,"",null,null,null,null,null,0,null,{"$f":"IF(C606=\"\",\"\",VLOOKUP(C606,Debiteuren!$A$2:$J$9998,10,0))&\"\"","v":""},{"$f":"IF(C606=\"\",\"\",VLOOKUP(C606,Debiteuren!$A$2:$O$9998,15,0)&\"\"&VLOOKUP(C606,Debiteuren!$A$2:$N$9998,14,0))","v":""},null,"","",0,""]
[null,null,null,null,null,null,null,null,null,null,"",null,null,"",null,null,null,null,null,0,null,{"$f":"IF(C607=\"\",\"\",VLOOKUP(C607,Debiteuren!$A$2:$J$9998,10,0))&\"\"","v":""},{"$f":"IF(C607=\"\",\"\",VLOOKUP(C607,Debiteuren!$A$2:$O$9998,15,0)&\"\"&VLOOKUP(C607,Debiteuren!$A$2:$N$9998,14,0))","v":""},null,"","",0,""]
[null,null,null,null,null,null,null,null,null,null,"",null,null,"",null,null,null,null,null,0,null,{"$f":"IF(C608=\"\",\"\",VLOOKUP(C608,Debiteuren!$A$2:$J$9998,10,0))&\"\"","v":""},{"$f":"IF(C608=\"\",\"\",VLOOKUP(C608,Debiteuren!$A$2:$O$9998,15,0)&\"\"&VLOOKUP(C608,Debiteuren!$A$2:$N$9998,14,0))","v":""},null,"","",0,""]
[null,null,null,null,null,null,null,null,null,null,"",null,null,"",null,null,null,null,null,0,null,{"$f":"IF(C609=\"\",\"\",VLOOKUP(C609,Debiteuren!$A$2:$J$9998,10,0))&\"\"","v":""},{"$f":"IF(C609=\"\",\"\",VLOOKUP(C609,Debiteuren!$A$2:$O$9998,15,0)&\"\"&VLOOKUP(C609,Debiteuren!$A$2:$N$9998,14,0))","v":""},null,"","",0,""]
[null,null,null,null,null,null,null,null,null,null,"",null,null,"",null,null,null,null,null,0,null,{"$f":"IF(C610=\"\",\"\",VLOOKUP(C610,Debiteuren!$A$2:$J$9998,10,0))&\"\"","v":""},{"$f":"IF(C610=\"\",\"\",VLOOKUP(C610,Debiteuren!$A$2:$O$9998,15,0)&\"\"&VLOOKUP(C610,Debiteuren!$A$2:$N$9998,14,0))","v":""},null,"","",0,""]
[null,null,null,null,null,null,null,null,null,null,"",null,null,"",null,null,null,null,null,0,null,{"$f":"IF(C611=\"\",\"\",VLOOKUP(C611,Debiteuren!$A$2:$J$9998,10,0))&\"\"","v":""},{"$f":"IF(C611=\"\",\"\",VLOOKUP(C611,Debiteuren!$A$2:$O$9998,15,0)&\"\"&VLOOKUP(C611,Debiteuren!$A$2:$N$9998,14,0))","v":""},null,"","",0,""]
[null,null,null,null,null,null,null,null,null,null,"",null,null,"",null,null,null,null,null,0,null,{"$f":"IF(C612=\"\",\"\",VLOOKUP(C612,Debiteuren!$A$2:$J$9998,10,0))&\"\"","v":""},{"$f":"IF(C612=\"\",\"\",VLOOKUP(C612,Debiteuren!$A$2:$O$9998,15,0)&\"\"&VLOOKUP(C612,Debiteuren!$A$2:$N$9998,14,0))","v":""},null,"","",0,""]
[null,null,null,null,null,null,null,null,null,null,"",null,null,"",null,null,null,null,null,0,null,{"$f":"IF(C613=\"\",\"\",VLOOKUP(C613,Debiteuren!$A$2:$J$9998,10,0))&\"\"","v":""},{"$f":"IF(C613=\"\",\"\",VLOOKUP(C613,Debiteuren!$A$2:$O$9998,15,0)&\"\"&VLOOKUP(C613,Debiteuren!$A$2:$N$9998,14,0))","v":""},null,"","",0,""]
[null,null,null,null,null,null,null,null,null,null,"",null,null,"",null,null,null,null,null,0,null,{"$f":"IF(C614=\"\",\"\",VLOOKUP(C614,Debiteuren!$A$2:$J$9998,10,0))&\"\"","v":""},{"$f":"IF(C614=\"\",\"\",VLOOKUP(C614,Debiteuren!$A$2:$O$9998,15,0)&\"\"&VLOOKUP(C614,Debiteuren!$A$2:$N$9998,14,0))","v":""},null,"","",0,""]
[null,null,null,null,null,null,null,null,null,null,"",null,null,"",null,null,null,null,null,0,null,{"$f":"IF(C615=\"\",\"\",VLOOKUP(C615,Debiteuren!$A$2:$J$9998,10,0))&\"\"","v":""},{"$f":"IF(C615=\"\",\"\",VLOOKUP(C615,Debiteuren!$A$2:$O$9998,15,0)&\"\"&VLOOKUP(C615,Debiteuren!$A$2:$N$9998,14,0))","v":""},null,"","",0,""]
[null,null,null,null,null,null,null,null,null,null,"",null,null,"",null,null,null,null,null,0,null,{"$f":"IF(C616=\"\",\"\",VLOOKUP(C616,Debiteuren!$A$2:$J$9998,10,0))&\"\"","v":""},{"$f":"IF(C616=\"\",\"\",VLOOKUP(C616,Debiteuren!$A$2:$O$9998,15,0)&\"\"&VLOOKUP(C616,Debiteuren!$A$2:$N$9998,14,0))","v":""},null,"","",0,""]
[null,null,null,null,null,null,null,null,null,null,"",null,null,"",null,null,null,null,null,0,null,{"$f":"IF(C617=\"\",\"\",VLOOKUP(C617,Debiteuren!$A$2:$J$9998,10,0))&\"\"","v":""},{"$f":"IF(C617=\"\",\"\",VLOOKUP(C617,Debiteuren!$A$2:$O$9998,15,0)&\"\"&VLOOKUP(C617,Debiteuren!$A$2:$N$9998,14,0))","v":""},null,"","",0,""]
[null,null,null,null,null,null,null,null,null,null,"",null,null,"",null,null,null,null,null,0,null,{"$f":"IF(C618=\"\",\"\",VLOOKUP(C618,Debiteuren!$A$2:$J$9998,10,0))&\"\"","v":""},{"$f":"IF(C618=\"\",\"\",VLOOKUP(C618,Debiteuren!$A$2:$O$9998,15,0)&\"\"&VLOOKUP(C618,Debiteuren!$A$2:$N$9998,14,0))","v":""},null,"","",0,""]
[null,null,null,null,null,null,null,null,null,null,"",null,null,"",null,null,null,null,null,0,null,{"$f":"IF(C619=\"\",\"\",VLOOKUP(C619,Debiteuren!$A$2:$J$9998,10,0))&\"\"","v":""},{"$f":"IF(C619=\"\",\"\",VLOOKUP(C619,Debiteuren!$A$2:$O$9998,15,0)&\"\"&VLOOKUP(C619,Debiteuren!$A$2:$N$9998,14,0))","v":""},null,"","",0,""]
[null,null,null,null,null,null,null,null,null,null,"",null,null,"",null,null,null,null,null,0,null,{"$f":"IF(C620=\"\",\"\",VLOOKUP(C620,Debiteuren!$A$2:$J$9998,10,0))&\"\"","v":""},{"$f":"IF(C620=\"\",\"\",VLOOKUP(C620,Debiteuren!$A$2:$O$9998,15,0)&\"\"&VLOOKUP(C620,Debiteuren!$A$2:$N$9998,14,0))","v":""},null,"","",0,""]
[null,null,null,null,null,null,null,null,null,null,"",null,null,"",null,null,null,null,null,0,null,{"$f":"IF(C621=\"\",\"\",VLOOKUP(C621,Debiteuren!$A$2:$J$9998,10,0))&\"\"","v":""},{"$f":"IF(C621=\"\",\"\",VLOOKUP(C621,Debiteuren!$A$2:$O$9998,15,0)&\"\"&VLOOKUP(C621,Debiteuren!$A$2:$N$9998,14,0))","v":""},null,"","",0,""]
[null,null,null,null,null,null,null,null,null,null,"",null,null,"",null,null,null,null,null,0,null,{"$f":"IF(C622=\"\",\"\",VLOOKUP(C622,Debiteuren!$A$2:$J$9998,10,0))&\"\"","v":""},{"$f":"IF(C622=\"\",\"\",VLOOKUP(C622,Debiteuren!$A$2:$O$9998,15,0)&\"\"&VLOOKUP(C622,Debiteuren!$A$2:$N$9998,14,0))","v":""},null,{"$f":"IF(D622=\"\",\"\",DATEDIF(D622,TODAY(),\"d\"))","v":""},{"$f":"IF(G622=\"\",\"\",DATEDIF(D622,G622,\"d\"))","v":""},{"$f":"DATEDIF(D622,H622,\"d\")","v":0},{"$f":"IF(Y622=\"\",\"\",Y622-AA622)","v":""}]
[null,null,null,null,null,null,null,null,null,null,"",null,null,"",null,null,null,null,null,{"$f":"IF(B623=1,E623,0)","v":0},null,{"$f":"IF(C623=\"\",\"\",VLOOKUP(C623,Debiteuren!$A$2:$J$9998,10,0))&\"\"","v":""},{"$f":"IF(C623=\"\",\"\",VLOOKUP(C623,Debiteuren!$A$2:$O$9998,15,0)&\"\"&VLOOKUP(C623,Debiteuren!$A$2:$N$9998,14,0))","v":""},null,"","",0,""]
[null,null,null,null,null,null,null,null,null,null,"",null,null,"",null,null,null,null,null,0,null,{"$f":"IF(C624=\"\",\"\",VLOOKUP(C624,Debiteuren!$A$2:$J$9998,10,0))&\"\"","v":""},{"$f":"IF(C624=\"\",\"\",VLOOKUP(C624,Debiteuren!$A$2:$O$9998,15,0)&\"\"&VLOOKUP(C624,Debiteuren!$A$2:$N$9998,14,0))","v":""},null,"","",0,""]
[null,null,null,null,null,null,null,null,null,null,"",null,null,"",null,null,null,null,null,0,null,{"$f":"IF(C625=\"\",\"\",VLOOKUP(C625,Debiteuren!$A$2:$J$9998,10,0))&\"\"","v":""},{"$f":"IF(C625=\"\",\"\",VLOOKUP(C625,Debiteuren!$A$2:$O$9998,15,0)&\"\"&VLOOKUP(C625,Debiteuren!$A$2:$N$9998,14,0))","v":""},null,"","",0,""]
[null,null,null,null,null,null,null,null,null,null,"",null,null,"",null,null,null,null,null,0,null,{"$f":"IF(C626=\"\",\"\",VLOOKUP(C626,Debiteuren!$A$2:$J$9998,10,0))&\"\"","v":""},{"$f":"IF(C626=\"\",\"\",VLOOKUP(C626,Debiteuren!$A$2:$O$9998,15,0)&\"\"&VLOOKUP(C626,Debiteuren!$A$2:$N$9998,14,0))","v":""},null,"","",0,""]
[null,null,null,null,null,null,null,null,null,null,"",null,null,"",null,null,null,null,null,0,null,{"$f":"IF(C627=\"\",\"\",VLOOKUP(C627,Debiteuren!$A$2:$J$9998,10,0))&\"\"","v":""},{"$f":"IF(C627=\"\",\"\",VLOOKUP(C627,Debiteuren!$A$2:$O$9998,15,0)&\"\"&VLOOKUP(C627,Debiteuren!$A$2:$N$9998,14,0))","v":""},null,"","",0,""]
[null,null,null,null,null,null,null,null,null,null,"",null,null,"",null,null,null,null,null,0,null,{"$f":"IF(C628=\"\",\"\",VLOOKUP(C628,Debiteuren!$A$2:$J$9998,10,0))&\"\"","v":""},{"$f":"IF(C628=\"\",\"\",VLOOKUP(C628,Debiteuren!$A$2:$O$9998,15,0)&\"\"&VLOOKUP(C628,Debiteuren!$A$2:$N$9998,14,0))","v":""},null,"","",0,""]
[null,null,null,null,null,null,null,null,null,null,"",null,null,"",null,null,null,null,null,0,null,{"$f":"IF(C629=\"\",\"\",VLOOKUP(C629,Debiteuren!$A$2:$J$9998,10,0))&\"\"","v":""},{"$f":"IF(C629=\"\",\"\",VLOOKUP(C629,Debiteuren!$A$2:$O$9998,15,0)&\"\"&VLOOKUP(C629,Debiteuren!$A$2:$N$9998,14,0))","v":""},null,"","",0,""]
[null,null,null,null,null,null,null,null,null,null,"",null,null,"",null,null,null,null,null,0,null,{"$f":"IF(C630=\"\",\"\",VLOOKUP(C630,Debiteuren!$A$2:$J$9998,10,0))&\"\"","v":""},{"$f":"IF(C630=\"\",\"\",VLOOKUP(C630,Debiteuren!$A$2:$O$9998,15,0)&\"\"&VLOOKUP(C630,Debiteuren!$A$2:$N$9998,14,0))","v":""},null,"","",0,""]
[null,null,null,null,null,null,null,null,null,null,"",null,null,"",null,null,null,null,null,0,null,{"$f":"IF(C631=\"\",\"\",VLOOKUP(C631,Debiteuren!$A$2:$J$9998,10,0))&\"\"","v":""},{"$f":"IF(C631=\"\",\"\",VLOOKUP(C631,Debiteuren!$A$2:$O$9998,15,0)&\"\"&VLOOKUP(C631,Debiteuren!$A$2:$N$9998,14,0))","v":""},null,"","",0,""]
[null,null,null,null,null,null,null,null,null,null,"",null,null,"",null,null,null,null,null,0,null,{"$f":"IF(C632=\"\",\"\",VLOOKUP(C632,Debiteuren!$A$2:$J$9998,10,0))&\"\"","v":""},{"$f":"IF(C632=\"\",\"\",VLOOKUP(C632,Debiteuren!$A$2:$O$9998,15,0)&\"\"&VLOOKUP(C632,Debiteuren!$A$2:$N$9998,14,0))","v":""},null,"","",0,""]
[null,null,null,null,null,null,null,null,null,null,{"$f":"IF(D633=\"\",\"\",\"\"&\"Kwartaal \"&MONTH(MONTH(D633)&0)&TEXT(D633,\" - mmm JJJJ\"))","v":""},null,null,{"$f":"IF(E633=\"\",\"\",(E633)-(F633))","v":""},null,null,null,null,null,0,null,{"$f":"IF(C633=\"\",\"\",VLOOKUP(C633,Debiteuren!$A$2:$J$9998,10,0))&\"\"","v":""},{"$f":"IF(C633=\"\",\"\",VLOOKUP(C633,Debiteuren!$A$2:$O$9998,15,0)&\"\"&VLOOKUP(C633,Debiteuren!$A$2:$N$9998,14,0))","v":""},null,"","",0,""]
[null,null,null,null,null,null,null,null,null,null,"",null,null,"",null,null,null,null,null,0,null,{"$f":"IF(C634=\"\",\"\",VLOOKUP(C634,Debiteuren!$A$2:$J$9998,10,0))&\"\"","v":""},{"$f":"IF(C634=\"\",\"\",VLOOKUP(C634,Debiteuren!$A$2:$O$9998,15,0)&\"\"&VLOOKUP(C634,Debiteuren!$A$2:$N$9998,14,0))","v":""},null,"","",0,""]
[null,null,null,null,null,null,null,null,null,null,"",null,null,"",null,null,null,null,null,0,null,{"$f":"IF(C635=\"\",\"\",VLOOKUP(C635,Debiteuren!$A$2:$J$9998,10,0))&\"\"","v":""},{"$f":"IF(C635=\"\",\"\",VLOOKUP(C635,Debiteuren!$A$2:$O$9998,15,0)&\"\"&VLOOKUP(C635,Debiteuren!$A$2:$N$9998,14,0))","v":""},null,"","",0,""]
[null,null,null,null,null,null,null,null,null,null,"",null,null,"",null,null,null,null,null,0,null,{"$f":"IF(C636=\"\",\"\",VLOOKUP(C636,Debiteuren!$A$2:$J$9998,10,0))&\"\"","v":""},{"$f":"IF(C636=\"\",\"\",VLOOKUP(C636,Debiteuren!$A$2:$O$9998,15,0)&\"\"&VLOOKUP(C636,Debiteuren!$A$2:$N$9998,14,0))","v":""},null,"","",0,""]
[null,null,null,null,null,null,null,null,null,null,"",null,null,"",null,null,null,null,null,0,null,{"$f":"IF(C637=\"\",\"\",VLOOKUP(C637,Debiteuren!$A$2:$J$9998,10,0))&\"\"","v":""},{"$f":"IF(C637=\"\",\"\",VLOOKUP(C637,Debiteuren!$A$2:$O$9998,15,0)&\"\"&VLOOKUP(C637,Debiteuren!$A$2:$N$9998,14,0))","v":""},null,"","",0,""]
[null,null,null,null,null,null,null,null,null,null,"",null,null,"",null,null,null,null,null,0,null,{"$f":"IF(C638=\"\",\"\",VLOOKUP(C638,Debiteuren!$A$2:$J$9998,10,0))&\"\"","v":""},{"$f":"IF(C638=\"\",\"\",VLOOKUP(C638,Debiteuren!$A$2:$O$9998,15,0)&\"\"&VLOOKUP(C638,Debiteuren!$A$2:$N$9998,14,0))","v":""},null,"","",0,""]
[null,null,null,null,null,null,null,null,null,null,"",null,null,"",null,null,null,null,null,0,null,{"$f":"IF(C639=\"\",\"\",VLOOKUP(C639,Debiteuren!$A$2:$J$9998,10,0))&\"\"","v":""},{"$f":"IF(C639=\"\",\"\",VLOOKUP(C639,Debiteuren!$A$2:$O$9998,15,0)&\"\"&VLOOKUP(C639,Debiteuren!$A$2:$N$9998,14,0))","v":""},null,"","",0,""]
[null,null,null,null,null,null,null,null,null,null,"",null,null,"",null,null,null,null,null,0,null,{"$f":"IF(C640=\"\",\"\",VLOOKUP(C640,Debiteuren!$A$2:$J$9998,10,0))&\"\"","v":""},{"$f":"IF(C640=\"\",\"\",VLOOKUP(C640,Debiteuren!$A$2:$O$9998,15,0)&\"\"&VLOOKUP(C640,Debiteuren!$A$2:$N$9998,14,0))","v":""},null,"","",0,""]
[null,null,null,null,null,null,null,null,null,null,"",null,null,"",null,null,null,null,null,0,null,{"$f":"IF(C641=\"\",\"\",VLOOKUP(C641,Debiteuren!$A$2:$J$9998,10,0))&\"\"","v":""},{"$f":"IF(C641=\"\",\"\",VLOOKUP(C641,Debiteuren!$A$2:$O$9998,15,0)&\"\"&VLOOKUP(C641,Debiteuren!$A$2:$N$9998,14,0))","v":""},null,"","",0,""]
[null,null,null,null,null,null,null,null,null,null,"",null,null,"",null,null,null,null,null,0,null,{"$f":"IF(C642=\"\",\"\",VLOOKUP(C642,Debiteuren!$A$2:$J$9998,10,0))&\"\"","v":""},{"$f":"IF(C642=\"\",\"\",VLOOKUP(C642,Debiteuren!$A$2:$O$9998,15,0)&\"\"&VLOOKUP(C642,Debiteuren!$A$2:$N$9998,14,0))","v":""},null,"","",0,""]
[null,null,null,null,null,null,null,null,null,null,"",null,null,"",null,null,null,null,null,0,null,{"$f":"IF(C643=\"\",\"\",VLOOKUP(C643,Debiteuren!$A$2:$J$9998,10,0))&\"\"","v":""},{"$f":"IF(C643=\"\",\"\",VLOOKUP(C643,Debiteuren!$A$2:$O$9998,15,0)&\"\"&VLOOKUP(C643,Debiteuren!$A$2:$N$9998,14,0))","v":""},null,"","",0,""]
[null,null,null,null,null,null,null,null,null,null,"",null,null,"",null,null,null,null,null,0,null,{"$f":"IF(C644=\"\",\"\",VLOOKUP(C644,Debiteuren!$A$2:$J$9998,10,0))&\"\"","v":""},{"$f":"IF(C644=\"\",\"\",VLOOKUP(C644,Debiteuren!$A$2:$O$9998,15,0)&\"\"&VLOOKUP(C644,Debiteuren!$A$2:$N$9998,14,0))","v":""},null,"","",0,""]
[null,null,null,null,null,null,null,null,null,null,"",null,null,"",null,null,null,null,null,0,null,{"$f":"IF(C645=\"\",\"\",VLOOKUP(C645,Debiteuren!$A$2:$J$9998,10,0))&\"\"","v":""},{"$f":"IF(C645=\"\",\"\",VLOOKUP(C645,Debiteuren!$A$2:$O$9998,15,0)&\"\"&VLOOKUP(C645,Debiteuren!$A$2:$N$9998,14,0))","v":""},null,"","",0,""]
[null,null,null,null,null,null,null,null,null,null,"",null,null,"",null,null,null,null,null,0,null,{"$f":"IF(C646=\"\",\"\",VLOOKUP(C646,Debiteuren!$A$2:$J$9998,10,0))&\"\"","v":""},{"$f":"IF(C646=\"\",\"\",VLOOKUP(C646,Debiteuren!$A$2:$O$9998,15,0)&\"\"&VLOOKUP(C646,Debiteuren!$A$2:$N$9998,14,0))","v":""},null,"","",0,""]
[null,null,null,null,null,null,null,null,null,null,"",null,null,"",null,null,null,null,null,0,null,{"$f":"IF(C647=\"\",\"\",VLOOKUP(C647,Debiteuren!$A$2:$J$9998,10,0))&\"\"","v":""},{"$f":"IF(C647=\"\",\"\",VLOOKUP(C647,Debiteuren!$A$2:$O$9998,15,0)&\"\"&VLOOKUP(C647,Debiteuren!$A$2:$N$9998,14,0))","v":""},null,"","",0,""]
[null,null,null,null,null,null,null,null,null,null,"",null,null,"",null,null,null,null,null,0,null,{"$f":"IF(C648=\"\",\"\",VLOOKUP(C648,Debiteuren!$A$2:$J$9998,10,0))&\"\"","v":""},{"$f":"IF(C648=\"\",\"\",VLOOKUP(C648,Debiteuren!$A$2:$O$9998,15,0)&\"\"&VLOOKUP(C648,Debiteuren!$A$2:$N$9998,14,0))","v":""},null,"","",0,""]
[null,null,null,null,null,null,null,null,null,null,"",null,null,"",null,null,null,null,null,0,null,{"$f":"IF(C649=\"\",\"\",VLOOKUP(C649,Debiteuren!$A$2:$J$9998,10,0))&\"\"","v":""},{"$f":"IF(C649=\"\",\"\",VLOOKUP(C649,Debiteuren!$A$2:$O$9998,15,0)&\"\"&VLOOKUP(C649,Debiteuren!$A$2:$N$9998,14,0))","v":""},null,"","",0,""]
[null,null,null,null,null,null,null,null,null,null,"",null,null,"",null,null,null,null,null,0,null,{"$f":"IF(C650=\"\",\"\",VLOOKUP(C650,Debiteuren!$A$2:$J$9998,10,0))&\"\"","v":""},{"$f":"IF(C650=\"\",\"\",VLOOKUP(C650,Debiteuren!$A$2:$O$9998,15,0)&\"\"&VLOOKUP(C650,Debiteuren!$A$2:$N$9998,14,0))","v":""},null,"","",0,""]
[null,null,null,null,null,null,null,null,null,null,"",null,null,"",null,null,null,null,null,0,null,{"$f":"IF(C651=\"\",\"\",VLOOKUP(C651,Debiteuren!$A$2:$J$9998,10,0))&\"\"","v":""},{"$f":"IF(C651=\"\",\"\",VLOOKUP(C651,Debiteuren!$A$2:$O$9998,15,0)&\"\"&VLOOKUP(C651,Debiteuren!$A$2:$N$9998,14,0))","v":""},null,"","",0,""]
[null,null,null,null,null,null,null,null,null,null,"",null,null,"",null,null,null,null,null,0,null,{"$f":"IF(C652=\"\",\"\",VLOOKUP(C652,Debiteuren!$A$2:$J$9998,10,0))&\"\"","v":""},{"$f":"IF(C652=\"\",\"\",VLOOKUP(C652,Debiteuren!$A$2:$O$9998,15,0)&\"\"&VLOOKUP(C652,Debiteuren!$A$2:$N$9998,14,0))","v":""},null,"","",0,""]
[null,null,null,null,null,null,null,null,null,null,"",null,null,"",null,null,null,null,null,0,null,{"$f":"IF(C653=\"\",\"\",VLOOKUP(C653,Debiteuren!$A$2:$J$9998,10,0))&\"\"","v":""},{"$f":"IF(C653=\"\",\"\",VLOOKUP(C653,Debiteuren!$A$2:$O$9998,15,0)&\"\"&VLOOKUP(C653,Debiteuren!$A$2:$N$9998,14,0))","v":""},null,"","",0,""]
[null,null,null,null,null,null,null,null,null,null,"",null,null,"",null,null,null,null,null,0,null,{"$f":"IF(C654=\"\",\"\",VLOOKUP(C654,Debiteuren!$A$2:$J$9998,10,0))&\"\"","v":""},{"$f":"IF(C654=\"\",\"\",VLOOKUP(C654,Debiteuren!$A$2:$O$9998,15,0)&\"\"&VLOOKUP(C654,Debiteuren!$A$2:$N$9998,14,0))","v":""},null,"","",0,""]
[null,null,null,null,null,null,null,null,null,null,"",null,null,"",null,null,null,null,null,0,null,{"$f":"IF(C655=\"\",\"\",VLOOKUP(C655,Debiteuren!$A$2:$J$9998,10,0))&\"\"","v":""},{"$f":"IF(C655=\"\",\"\",VLOOKUP(C655,Debiteuren!$A$2:$O$9998,15,0)&\"\"&VLOOKUP(C655,Debiteuren!$A$2:$N$9998,14,0))","v":""},null,"","",0,""]
[null,null,null,null,null,null,null,null,null,null,"",null,null,"",null,null,null,null,null,0,null,{"$f":"IF(C656=\"\",\"\",VLOOKUP(C656,Debiteuren!$A$2:$J$9998,10,0))&\"\"","v":""},{"$f":"IF(C656=\"\",\"\",VLOOKUP(C656,Debiteuren!$A$2:$O$9998,15,0)&\"\"&VLOOKUP(C656,Debiteuren!$A$2:$N$9998,14,0))","v":""},null,"","",0,""]
[null,null,null,null,null,null,null,null,null,null,"",null,null,"",null,null,null,null,null,0,null,{"$f":"IF(C657=\"\",\"\",VLOOKUP(C657,Debiteuren!$A$2:$J$9998,10,0))&\"\"","v":""},{"$f":"IF(C657=\"\",\"\",VLOOKUP(C657,Debiteuren!$A$2:$O$9998,15,0)&\"\"&VLOOKUP(C657,Debiteuren!$A$2:$N$9998,14,0))","v":""},null,"","",0,""]
[null,null,null,null,null,null,null,null,null,null,"",null,null,"",null,null,null,null,null,0,null,{"$f":"IF(C658=\"\",\"\",VLOOKUP(C658,Debiteuren!$A$2:$J$9998,10,0))&\"\"","v":""},{"$f":"IF(C658=\"\",\"\",VLOOKUP(C658,Debiteuren!$A$2:$O$9998,15,0)&\"\"&VLOOKUP(C658,Debiteuren!$A$2:$N$9998,14,0))","v":""},null,"","",0,""]
[null,null,null,null,null,null,null,null,null,null,"",null,null,"",null,null,null,null,null,0,null,{"$f":"IF(C659=\"\",\"\",VLOOKUP(C659,Debiteuren!$A$2:$J$9998,10,0))&\"\"","v":""},{"$f":"IF(C659=\"\",\"\",VLOOKUP(C659,Debiteuren!$A$2:$O$9998,15,0)&\"\"&VLOOKUP(C659,Debiteuren!$A$2:$N$9998,14,0))","v":""},null,"","",0,""]
[null,null,null,null,null,null,null,null,null,null,"",null,null,"",null,null,null,null,null,0,null,{"$f":"IF(C660=\"\",\"\",VLOOKUP(C660,Debiteuren!$A$2:$J$9998,10,0))&\"\"","v":""},{"$f":"IF(C660=\"\",\"\",VLOOKUP(C660,Debiteuren!$A$2:$O$9998,15,0)&\"\"&VLOOKUP(C660,Debiteuren!$A$2:$N$9998,14,0))","v":""},null,"","",0,""]
[null,null,null,null,null,null,null,null,null,null,"",null,null,"",null,null,null,null,null,0,null,{"$f":"IF(C661=\"\",\"\",VLOOKUP(C661,Debiteuren!$A$2:$J$9998,10,0))&\"\"","v":""},{"$f":"IF(C661=\"\",\"\",VLOOKUP(C661,Debiteuren!$A$2:$O$9998,15,0)&\"\"&VLOOKUP(C661,Debiteuren!$A$2:$N$9998,14,0))","v":""},null,"","",0,""]
[null,null,null,null,null,null,null,null,null,null,"",null,null,"",null,null,null,null,null,0,null,{"$f":"IF(C662=\"\",\"\",VLOOKUP(C662,Debiteuren!$A$2:$J$9998,10,0))&\"\"","v":""},{"$f":"IF(C662=\"\",\"\",VLOOKUP(C662,Debiteuren!$A$2:$O$9998,15,0)&\"\"&VLOOKUP(C662,Debiteuren!$A$2:$N$9998,14,0))","v":""},null,"","",0,""]
[null,null,null,null,null,null,null,null,null,null,"",null,null,"",null,null,null,null,null,0,null,{"$f":"IF(C663=\"\",\"\",VLOOKUP(C663,Debiteuren!$A$2:$J$9998,10,0))&\"\"","v":""},{"$f":"IF(C663=\"\",\"\",VLOOKUP(C663,Debiteuren!$A$2:$O$9998,15,0)&\"\"&VLOOKUP(C663,Debiteuren!$A$2:$N$9998,14,0))","v":""},null,"","",0,""]
[null,null,null,null,null,null,null,null,null,null,"",null,null,"",null,null,null,null,null,0,null,{"$f":"IF(C664=\"\",\"\",VLOOKUP(C664,Debiteuren!$A$2:$J$9998,10,0))&\"\"","v":""},{"$f":"IF(C664=\"\",\"\",VLOOKUP(C664,Debiteuren!$A$2:$O$9998,15,0)&\"\"&VLOOKUP(C664,Debiteuren!$A$2:$N$9998,14,0))","v":""},null,"","",0,""]
[null,null,null,null,null,null,null,null,null,null,"",null,null,"",null,null,null,null,null,0,null,{"$f":"IF(C665=\"\",\"\",VLOOKUP(C665,Debiteuren!$A$2:$J$9998,10,0))&\"\"","v":""},{"$f":"IF(C665=\"\",\"\",VLOOKUP(C665,Debiteuren!$A$2:$O$9998,15,0)&\"\"&VLOOKUP(C665,Debiteuren!$A$2:$N$9998,14,0))","v":""},null,"","",0,""]
[null,null,null,null,null,null,null,null,null,null,"",null,null,"",null,null,null,null,null,0,null,{"$f":"IF(C666=\"\",\"\",VLOOKUP(C666,Debiteuren!$A$2:$J$9998,10,0))&\"\"","v":""},{"$f":"IF(C666=\"\",\"\",VLOOKUP(C666,Debiteuren!$A$2:$O$9998,15,0)&\"\"&VLOOKUP(C666,Debiteuren!$A$2:$N$9998,14,0))","v":""},null,"","",0,""]
[null,null,null,null,null,null,null,null,null,null,"",null,null,"",null,null,null,null,null,0,null,{"$f":"IF(C667=\"\",\"\",VLOOKUP(C667,Debiteuren!$A$2:$J$9998,10,0))&\"\"","v":""},{"$f":"IF(C667=\"\",\"\",VLOOKUP(C667,Debiteuren!$A$2:$O$9998,15,0)&\"\"&VLOOKUP(C667,Debiteuren!$A$2:$N$9998,14,0))","v":""},null,"","",0,""]
[null,null,null,null,null,null,null,null,null,null,"",null,null,"",null,null,null,null,null,0,null,{"$f":"IF(C668=\"\",\"\",VLOOKUP(C668,Debiteuren!$A$2:$J$9998,10,0))&\"\"","v":""},{"$f":"IF(C668=\"\",\"\",VLOOKUP(C668,Debiteuren!$A$2:$O$9998,15,0)&\"\"&VLOOKUP(C668,Debiteuren!$A$2:$N$9998,14,0))","v":""},null,"","",0,""]
[null,null,null,null,null,null,null,null,null,null,"",null,null,"",null,null,null,null,null,0,null,{"$f":"IF(C669=\"\",\"\",VLOOKUP(C669,Debiteuren!$A$2:$J$9998,10,0))&\"\"","v":""},{"$f":"IF(C669=\"\",\"\",VLOOKUP(C669,Debiteuren!$A$2:$O$9998,15,0)&\"\"&VLOOKUP(C669,Debiteuren!$A$2:$N$9998,14,0))","v":""},null,"","",0,""]
[null,null,null,null,null,null,null,null,null,null,"",null,null,"",null,null,null,null,null,0,null,{"$f":"IF(C670=\"\",\"\",VLOOKUP(C670,Debiteuren!$A$2:$J$9998,10,0))&\"\"","v":""},{"$f":"IF(C670=\"\",\"\",VLOOKUP(C670,Debiteuren!$A$2:$O$9998,15,0)&\"\"&VLOOKUP(C670,Debiteuren!$A$2:$N$9998,14,0))","v":""},null,"","",0,""]
[null,null,null,null,null,null,null,null,null,null,"",null,null,"",null,null,null,null,null,0,null,{"$f":"IF(C671=\"\",\"\",VLOOKUP(C671,Debiteuren!$A$2:$J$9998,10,0))&\"\"","v":""},{"$f":"IF(C671=\"\",\"\",VLOOKUP(C671,Debiteuren!$A$2:$O$9998,15,0)&\"\"&VLOOKUP(C671,Debiteuren!$A$2:$N$9998,14,0))","v":""},null,"","",0,""]
[null,null,null,null,null,null,null,null,null,null,"",null,null,"",null,null,null,null,null,0,null,{"$f":"IF(C672=\"\",\"\",VLOOKUP(C672,Debiteuren!$A$2:$J$9998,10,0))&\"\"","v":""},{"$f":"IF(C672=\"\",\"\",VLOOKUP(C672,Debiteuren!$A$2:$O$9998,15,0)&\"\"&VLOOKUP(C672,Debiteuren!$A$2:$N$9998,14,0))","v":""},null,"","",0,""]
[null,null,null,null,null,null,null,null,null,null,"",null,null,"",null,null,null,null,null,0,null,{"$f":"IF(C673=\"\",\"\",VLOOKUP(C673,Debiteuren!$A$2:$J$9998,10,0))&\"\"","v":""},{"$f":"IF(C673=\"\",\"\",VLOOKUP(C673,Debiteuren!$A$2:$O$9998,15,0)&\"\"&VLOOKUP(C673,Debiteuren!$A$2:$N$9998,14,0))","v":""},null,"","",0,""]
[null,null,null,null,null,null,null,null,null,null,"",null,null,"",null,null,null,null,null,0,null,{"$f":"IF(C674=\"\",\"\",VLOOKUP(C674,Debiteuren!$A$2:$J$9998,10,0))&\"\"","v":""},{"$f":"IF(C674=\"\",\"\",VLOOKUP(C674,Debiteuren!$A$2:$O$9998,15,0)&\"\"&VLOOKUP(C674,Debiteuren!$A$2:$N$9998,14,0))","v":""},null,"","",0,""]
[null,null,null,null,null,null,null,null,null,null,"",null,null,"",null,null,null,null,null,0,null,{"$f":"IF(C675=\"\",\"\",VLOOKUP(C675,Debiteuren!$A$2:$J$9998,10,0))&\"\"","v":""},{"$f":"IF(C675=\"\",\"\",VLOOKUP(C675,Debiteuren!$A$2:$O$9998,15,0)&\"\"&VLOOKUP(C675,Debiteuren!$A$2:$N$9998,14,0))","v":""},null,"","",0,""]
[null,null,null,null,null,null,null,null,null,null,"",null,null,"",null,null,null,null,null,0,null,{"$f":"IF(C676=\"\",\"\",VLOOKUP(C676,Debiteuren!$A$2:$J$9998,10,0))&\"\"","v":""},{"$f":"IF(C676=\"\",\"\",VLOOKUP(C676,Debiteuren!$A$2:$O$9998,15,0)&\"\"&VLOOKUP(C676,Debiteuren!$A$2:$N$9998,14,0))","v":""},null,"","",0,""]
[null,null,null,null,null,null,null,null,null,null,"",null,null,"",null,null,null,null,null,0,null,{"$f":"IF(C677=\"\",\"\",VLOOKUP(C677,Debiteuren!$A$2:$J$9998,10,0))&\"\"","v":""},{"$f":"IF(C677=\"\",\"\",VLOOKUP(C677,Debiteuren!$A$2:$O$9998,15,0)&\"\"&VLOOKUP(C677,Debiteuren!$A$2:$N$9998,14,0))","v":""},null,"","",0,""]
[null,null,null,null,null,null,null,null,null,null,"",null,null,"",null,null,null,null,null,0,null,{"$f":"IF(C678=\"\",\"\",VLOOKUP(C678,Debiteuren!$A$2:$J$9998,10,0))&\"\"","v":""},{"$f":"IF(C678=\"\",\"\",VLOOKUP(C678,Debiteuren!$A$2:$O$9998,15,0)&\"\"&VLOOKUP(C678,Debiteuren!$A$2:$N$9998,14,0))","v":""},null,"","",0,""]
[null,null,null,null,null,null,null,null,null,null,"",null,null,"",null,null,null,null,null,0,null,{"$f":"IF(C679=\"\",\"\",VLOOKUP(C679,Debiteuren!$A$2:$J$9998,10,0))&\"\"","v":""},{"$f":"IF(C679=\"\",\"\",VLOOKUP(C679,Debiteuren!$A$2:$O$9998,15,0)&\"\"&VLOOKUP(C679,Debiteuren!$A$2:$N$9998,14,0))","v":""},null,"","",0,""]
[null,null,null,null,null,null,null,null,null,null,"",null,null,"",null,null,null,null,null,0,null,{"$f":"IF(C680=\"\",\"\",VLOOKUP(C680,Debiteuren!$A$2:$J$9998,10,0))&\"\"","v":""},{"$f":"IF(C680=\"\",\"\",VLOOKUP(C680,Debiteuren!$A$2:$O$9998,15,0)&\"\"&VLOOKUP(C680,Debiteuren!$A$2:$N$9998,14,0))","v":""},null,"","",0,""]
[null,null,null,null,null,null,null,null,null,null,"",null,null,"",null,null,null,null,null,0,null,{"$f":"IF(C681=\"\",\"\",VLOOKUP(C681,Debiteuren!$A$2:$J$9998,10,0))&\"\"","v":""},{"$f":"IF(C681=\"\",\"\",VLOOKUP(C681,Debiteuren!$A$2:$O$9998,15,0)&\"\"&VLOOKUP(C681,Debiteuren!$A$2:$N$9998,14,0))","v":""},null,"","",0,""]
[null,null,null,null,null,null,null,null,null,null,"",null,null,"",null,null,null,null,null,0,null,{"$f":"IF(C682=\"\",\"\",VLOOKUP(C682,Debiteuren!$A$2:$J$9998,10,0))&\"\"","v":""},{"$f":"IF(C682=\"\",\"\",VLOOKUP(C682,Debiteuren!$A$2:$O$9998,15,0)&\"\"&VLOOKUP(C682,Debiteuren!$A$2:$N$9998,14,0))","v":""},null,"","",0,""]
[null,null,null,null,null,null,null,null,null,null,"",null,null,"",null,null,null,null,null,0,null,{"$f":"IF(C683=\"\",\"\",VLOOKUP(C683,Debiteuren!$A$2:$J$9998,10,0))&\"\"","v":""},{"$f":"IF(C683=\"\",\"\",VLOOKUP(C683,Debiteuren!$A$2:$O$9998,15,0)&\"\"&VLOOKUP(C683,Debiteuren!$A$2:$N$9998,14,0))","v":""},null,"","",0,""]
[null,null,null,null,null,null,null,null,null,null,"",null,null,"",null,null,null,null,null,0,null,{"$f":"IF(C684=\"\",\"\",VLOOKUP(C684,Debiteuren!$A$2:$J$9998,10,0))&\"\"","v":""},{"$f":"IF(C684=\"\",\"\",VLOOKUP(C684,Debiteuren!$A$2:$O$9998,15,0)&\"\"&VLOOKUP(C684,Debiteuren!$A$2:$N$9998,14,0))","v":""},null,"","",0,""]
[null,null,null,null,null,null,null,null,null,null,"",null,null,"",null,null,null,null,null,0,null,{"$f":"IF(C685=\"\",\"\",VLOOKUP(C685,Debiteuren!$A$2:$J$9998,10,0))&\"\"","v":""},{"$f":"IF(C685=\"\",\"\",VLOOKUP(C685,Debiteuren!$A$2:$O$9998,15,0)&\"\"&VLOOKUP(C685,Debiteuren!$A$2:$N$9998,14,0))","v":""},null,"","",0,""]
[null,null,null,null,null,null,null,null,null,null,"",null,null,"",null,null,null,null,null,0,null,{"$f":"IF(C686=\"\",\"\",VLOOKUP(C686,Debiteuren!$A$2:$J$9998,10,0))&\"\"","v":""},{"$f":"IF(C686=\"\",\"\",VLOOKUP(C686,Debiteuren!$A$2:$O$9998,15,0)&\"\"&VLOOKUP(C686,Debiteuren!$A$2:$N$9998,14,0))","v":""},null,{"$f":"IF(D686=\"\",\"\",DATEDIF(D686,TODAY(),\"d\"))","v":""},{"$f":"IF(G686=\"\",\"\",DATEDIF(D686,G686,\"d\"))","v":""},{"$f":"DATEDIF(D686,H686,\"d\")","v":0},{"$f":"IF(Y686=\"\",\"\",Y686-AA686)","v":""}]
[null,null,null,null,null,null,null,null,null,null,"",null,null,"",null,null,null,null,null,{"$f":"IF(B687=1,E687,0)","v":0},null,{"$f":"IF(C687=\"\",\"\",VLOOKUP(C687,Debiteuren!$A$2:$J$9998,10,0))&\"\"","v":""},{"$f":"IF(C687=\"\",\"\",VLOOKUP(C687,Debiteuren!$A$2:$O$9998,15,0)&\"\"&VLOOKUP(C687,Debiteuren!$A$2:$N$9998,14,0))","v":""},null,"","",0,""]
[null,null,null,null,null,null,null,null,null,null,"",null,null,"",null,null,null,null,null,0,null,{"$f":"IF(C688=\"\",\"\",VLOOKUP(C688,Debiteuren!$A$2:$J$9998,10,0))&\"\"","v":""},{"$f":"IF(C688=\"\",\"\",VLOOKUP(C688,Debiteuren!$A$2:$O$9998,15,0)&\"\"&VLOOKUP(C688,Debiteuren!$A$2:$N$9998,14,0))","v":""},null,"","",0,""]
[null,null,null,null,null,null,null,null,null,null,"",null,null,"",null,null,null,null,null,0,null,{"$f":"IF(C689=\"\",\"\",VLOOKUP(C689,Debiteuren!$A$2:$J$9998,10,0))&\"\"","v":""},{"$f":"IF(C689=\"\",\"\",VLOOKUP(C689,Debiteuren!$A$2:$O$9998,15,0)&\"\"&VLOOKUP(C689,Debiteuren!$A$2:$N$9998,14,0))","v":""},null,"","",0,""]
[null,null,null,null,null,null,null,null,null,null,"",null,null,"",null,null,null,null,null,0,null,{"$f":"IF(C690=\"\",\"\",VLOOKUP(C690,Debiteuren!$A$2:$J$9998,10,0))&\"\"","v":""},{"$f":"IF(C690=\"\",\"\",VLOOKUP(C690,Debiteuren!$A$2:$O$9998,15,0)&\"\"&VLOOKUP(C690,Debiteuren!$A$2:$N$9998,14,0))","v":""},null,"","",0,""]
[null,null,null,null,null,null,null,null,null,null,"",null,null,"",null,null,null,null,null,0,null,{"$f":"IF(C691=\"\",\"\",VLOOKUP(C691,Debiteuren!$A$2:$J$9998,10,0))&\"\"","v":""},{"$f":"IF(C691=\"\",\"\",VLOOKUP(C691,Debiteuren!$A$2:$O$9998,15,0)&\"\"&VLOOKUP(C691,Debiteuren!$A$2:$N$9998,14,0))","v":""},null,"","",0,""]
[null,null,null,null,null,null,null,null,null,null,"",null,null,"",null,null,null,null,null,0,null,{"$f":"IF(C692=\"\",\"\",VLOOKUP(C692,Debiteuren!$A$2:$J$9998,10,0))&\"\"","v":""},{"$f":"IF(C692=\"\",\"\",VLOOKUP(C692,Debiteuren!$A$2:$O$9998,15,0)&\"\"&VLOOKUP(C692,Debiteuren!$A$2:$N$9998,14,0))","v":""},null,"","",0,""]
[null,null,null,null,null,null,null,null,null,null,"",null,null,"",null,null,null,null,null,0,null,{"$f":"IF(C693=\"\",\"\",VLOOKUP(C693,Debiteuren!$A$2:$J$9998,10,0))&\"\"","v":""},{"$f":"IF(C693=\"\",\"\",VLOOKUP(C693,Debiteuren!$A$2:$O$9998,15,0)&\"\"&VLOOKUP(C693,Debiteuren!$A$2:$N$9998,14,0))","v":""},null,"","",0,""]
[null,null,null,null,null,null,null,null,null,null,"",null,null,"",null,null,null,null,null,0,null,{"$f":"IF(C694=\"\",\"\",VLOOKUP(C694,Debiteuren!$A$2:$J$9998,10,0))&\"\"","v":""},{"$f":"IF(C694=\"\",\"\",VLOOKUP(C694,Debiteuren!$A$2:$O$9998,15,0)&\"\"&VLOOKUP(C694,Debiteuren!$A$2:$N$9998,14,0))","v":""},null,"","",0,""]
[null,null,null,null,null,null,null,null,null,null,"",null,null,"",null,null,null,null,null,0,null,{"$f":"IF(C695=\"\",\"\",VLOOKUP(C695,Debiteuren!$A$2:$J$9998,10,0))&\"\"","v":""},{"$f":"IF(C695=\"\",\"\",VLOOKUP(C695,Debiteuren!$A$2:$O$9998,15,0)&\"\"&VLOOKUP(C695,Debiteuren!$A$2:$N$9998,14,0))","v":""},null,"","",0,""]
[null,null,null,null,null,null,null,null,null,null,"",null,null,"",null,null,null,null,null,0,null,{"$f":"IF(C696=\"\",\"\",VLOOKUP(C696,Debiteuren!$A$2:$J$9998,10,0))&\"\"","v":""},{"$f":"IF(C696=\"\",\"\",VLOOKUP(C696,Debiteuren!$A$2:$O$9998,15,0)&\"\"&VLOOKUP(C696,Debiteuren!$A$2:$N$9998,14,0))","v":""},null,"","",0,""]
[null,null,null,null,null,null,null,null,null,null,{"$f":"IF(D697=\"\",\"\",\"\"&\"Kwartaal \"&MONTH(MONTH(D697)&0)&TEXT(D697,\" - mmm JJJJ\"))","v":""},null,null,{"$f":"IF(E697=\"\",\"\",(E697)-(F697))","v":""},null,null,null,null,null,0,null,{"$f":"IF(C697=\"\",\"\",VLOOKUP(C697,Debiteuren!$A$2:$J$9998,10,0))&\"\"","v":""},{"$f":"IF(C697=\"\",\"\",VLOOKUP(C697,Debiteuren!$A$2:$O$9998,15,0)&\"\"&VLOOKUP(C697,Debiteuren!$A$2:$N$9998,14,0))","v":""},null,"","",0,""]
[null,null,null,null,null,null,null,null,null,null,"",null,null,"",null,null,null,null,null,0,null,{"$f":"IF(C698=\"\",\"\",VLOOKUP(C698,Debiteuren!$A$2:$J$9998,10,0))&\"\"","v":""},{"$f":"IF(C698=\"\",\"\",VLOOKUP(C698,Debiteuren!$A$2:$O$9998,15,0)&\"\"&VLOOKUP(C698,Debiteuren!$A$2:$N$9998,14,0))","v":""},null,"","",0,""]
[null,null,null,null,null,null,null,null,null,null,"",null,null,"",null,null,null,null,null,0,null,{"$f":"IF(C699=\"\",\"\",VLOOKUP(C699,Debiteuren!$A$2:$J$9998,10,0))&\"\"","v":""},{"$f":"IF(C699=\"\",\"\",VLOOKUP(C699,Debiteuren!$A$2:$O$9998,15,0)&\"\"&VLOOKUP(C699,Debiteuren!$A$2:$N$9998,14,0))","v":""},null,"","",0,""]
[null,null,null,null,null,null,null,null,null,null,"",null,null,"",null,null,null,null,null,0,null,{"$f":"IF(C700=\"\",\"\",VLOOKUP(C700,Debiteuren!$A$2:$J$9998,10,0))&\"\"","v":""},{"$f":"IF(C700=\"\",\"\",VLOOKUP(C700,Debiteuren!$A$2:$O$9998,15,0)&\"\"&VLOOKUP(C700,Debiteuren!$A$2:$N$9998,14,0))","v":""},null,"","",0,""]
[null,null,null,null,null,null,null,null,null,null,"",null,null,"",null,null,null,null,null,0,null,{"$f":"IF(C701=\"\",\"\",VLOOKUP(C701,Debiteuren!$A$2:$J$9998,10,0))&\"\"","v":""},{"$f":"IF(C701=\"\",\"\",VLOOKUP(C701,Debiteuren!$A$2:$O$9998,15,0)&\"\"&VLOOKUP(C701,Debiteuren!$A$2:$N$9998,14,0))","v":""},null,"","",0,""]
[null,null,null,null,null,null,null,null,null,null,"",null,null,"",null,null,null,null,null,0,null,{"$f":"IF(C702=\"\",\"\",VLOOKUP(C702,Debiteuren!$A$2:$J$9998,10,0))&\"\"","v":""},{"$f":"IF(C702=\"\",\"\",VLOOKUP(C702,Debiteuren!$A$2:$O$9998,15,0)&\"\"&VLOOKUP(C702,Debiteuren!$A$2:$N$9998,14,0))","v":""},null,"","",0,""]
[null,null,null,null,null,null,null,null,null,null,"",null,null,"",null,null,null,null,null,0,null,{"$f":"IF(C703=\"\",\"\",VLOOKUP(C703,Debiteuren!$A$2:$J$9998,10,0))&\"\"","v":""},{"$f":"IF(C703=\"\",\"\",VLOOKUP(C703,Debiteuren!$A$2:$O$9998,15,0)&\"\"&VLOOKUP(C703,Debiteuren!$A$2:$N$9998,14,0))","v":""},null,"","",0,""]
[null,null,null,null,null,null,null,null,null,null,"",null,null,"",null,null,null,null,null,0,null,{"$f":"IF(C704=\"\",\"\",VLOOKUP(C704,Debiteuren!$A$2:$J$9998,10,0))&\"\"","v":""},{"$f":"IF(C704=\"\",\"\",VLOOKUP(C704,Debiteuren!$A$2:$O$9998,15,0)&\"\"&VLOOKUP(C704,Debiteuren!$A$2:$N$9998,14,0))","v":""},null,"","",0,""]
[null,null,null,null,null,null,null,null,null,null,"",null,null,"",null,null,null,null,null,0,null,{"$f":"IF(C705=\"\",\"\",VLOOKUP(C705,Debiteuren!$A$2:$J$9998,10,0))&\"\"","v":""},{"$f":"IF(C705=\"\",\"\",VLOOKUP(C705,Debiteuren!$A$2:$O$9998,15,0)&\"\"&VLOOKUP(C705,Debiteuren!$A$2:$N$9998,14,0))","v":""},null,"","",0,""]
[null,null,null,null,null,null,null,null,null,null,"",null,null,"",null,null,null,null,null,0,null,{"$f":"IF(C706=\"\",\"\",VLOOKUP(C706,Debiteuren!$A$2:$J$9998,10,0))&\"\"","v":""},{"$f":"IF(C706=\"\",\"\",VLOOKUP(C706,Debiteuren!$A$2:$O$9998,15,0)&\"\"&VLOOKUP(C706,Debiteuren!$A$2:$N$9998,14,0))","v":""},null,"","",0,""]
[null,null,null,null,null,null,null,null,null,null,"",null,null,"",null,null,null,null,null,0,null,{"$f":"IF(C707=\"\",\"\",VLOOKUP(C707,Debiteuren!$A$2:$J$9998,10,0))&\"\"","v":""},{"$f":"IF(C707=\"\",\"\",VLOOKUP(C707,Debiteuren!$A$2:$O$9998,15,0)&\"\"&VLOOKUP(C707,Debiteuren!$A$2:$N$9998,14,0))","v":""},null,"","",0,""]
[null,null,null,null,null,null,null,null,null,null,"",null,null,"",null,null,null,null,null,0,null,{"$f":"IF(C708=\"\",\"\",VLOOKUP(C708,Debiteuren!$A$2:$J$9998,10,0))&\"\"","v":""},{"$f":"IF(C708=\"\",\"\",VLOOKUP(C708,Debiteuren!$A$2:$O$9998,15,0)&\"\"&VLOOKUP(C708,Debiteuren!$A$2:$N$9998,14,0))","v":""},null,"","",0,""]
[null,null,null,null,null,null,null,null,null,null,"",null,null,"",null,null,null,null,null,0,null,{"$f":"IF(C709=\"\",\"\",VLOOKUP(C709,Debiteuren!$A$2:$J$9998,10,0))&\"\"","v":""},{"$f":"IF(C709=\"\",\"\",VLOOKUP(C709,Debiteuren!$A$2:$O$9998,15,0)&\"\"&VLOOKUP(C709,Debiteuren!$A$2:$N$9998,14,0))","v":""},null,"","",0,""]
[null,null,null,null,null,null,null,null,null,null,"",null,null,"",null,null,null,null,null,0,null,{"$f":"IF(C710=\"\",\"\",VLOOKUP(C710,Debiteuren!$A$2:$J$9998,10,0))&\"\"","v":""},{"$f":"IF(C710=\"\",\"\",VLOOKUP(C710,Debiteuren!$A$2:$O$9998,15,0)&\"\"&VLOOKUP(C710,Debiteuren!$A$2:$N$9998,14,0))","v":""},null,"","",0,""]
[null,null,null,null,null,null,null,null,null,null,"",null,null,"",null,null,null,null,null,0,null,{"$f":"IF(C711=\"\",\"\",VLOOKUP(C711,Debiteuren!$A$2:$J$9998,10,0))&\"\"","v":""},{"$f":"IF(C711=\"\",\"\",VLOOKUP(C711,Debiteuren!$A$2:$O$9998,15,0)&\"\"&VLOOKUP(C711,Debiteuren!$A$2:$N$9998,14,0))","v":""},null,"","",0,""]
[null,null,null,null,null,null,null,null,null,null,"",null,null,"",null,null,null,null,null,0,null,{"$f":"IF(C712=\"\",\"\",VLOOKUP(C712,Debiteuren!$A$2:$J$9998,10,0))&\"\"","v":""},{"$f":"IF(C712=\"\",\"\",VLOOKUP(C712,Debiteuren!$A$2:$O$9998,15,0)&\"\"&VLOOKUP(C712,Debiteuren!$A$2:$N$9998,14,0))","v":""},null,"","",0,""]
[null,null,null,null,null,null,null,null,null,null,"",null,null,"",null,null,null,null,null,0,null,{"$f":"IF(C713=\"\",\"\",VLOOKUP(C713,Debiteuren!$A$2:$J$9998,10,0))&\"\"","v":""},{"$f":"IF(C713=\"\",\"\",VLOOKUP(C713,Debiteuren!$A$2:$O$9998,15,0)&\"\"&VLOOKUP(C713,Debiteuren!$A$2:$N$9998,14,0))","v":""},null,"","",0,""]
[null,null,null,null,null,null,null,null,null,null,"",null,null,"",null,null,null,null,null,0,null,{"$f":"IF(C714=\"\",\"\",VLOOKUP(C714,Debiteuren!$A$2:$J$9998,10,0))&\"\"","v":""},{"$f":"IF(C714=\"\",\"\",VLOOKUP(C714,Debiteuren!$A$2:$O$9998,15,0)&\"\"&VLOOKUP(C714,Debiteuren!$A$2:$N$9998,14,0))","v":""},null,"","",0,""]
[null,null,null,null,null,null,null,null,null,null,"",null,null,"",null,null,null,null,null,0,null,{"$f":"IF(C715=\"\",\"\",VLOOKUP(C715,Debiteuren!$A$2:$J$9998,10,0))&\"\"","v":""},{"$f":"IF(C715=\"\",\"\",VLOOKUP(C715,Debiteuren!$A$2:$O$9998,15,0)&\"\"&VLOOKUP(C715,Debiteuren!$A$2:$N$9998,14,0))","v":""},null,"","",0,""]
[null,null,null,null,null,null,null,null,null,null,"",null,null,"",null,null,null,null,null,0,null,{"$f":"IF(C716=\"\",\"\",VLOOKUP(C716,Debiteuren!$A$2:$J$9998,10,0))&\"\"","v":""},{"$f":"IF(C716=\"\",\"\",VLOOKUP(C716,Debiteuren!$A$2:$O$9998,15,0)&\"\"&VLOOKUP(C716,Debiteuren!$A$2:$N$9998,14,0))","v":""},null,"","",0,""]
[null,null,null,null,null,null,null,null,null,null,"",null,null,"",null,null,null,null,null,0,null,{"$f":"IF(C717=\"\",\"\",VLOOKUP(C717,Debiteuren!$A$2:$J$9998,10,0))&\"\"","v":""},{"$f":"IF(C717=\"\",\"\",VLOOKUP(C717,Debiteuren!$A$2:$O$9998,15,0)&\"\"&VLOOKUP(C717,Debiteuren!$A$2:$N$9998,14,0))","v":""},null,"","",0,""]
[null,null,null,null,null,null,null,null,null,null,"",null,null,"",null,null,null,null,null,0,null,{"$f":"IF(C718=\"\",\"\",VLOOKUP(C718,Debiteuren!$A$2:$J$9998,10,0))&\"\"","v":""},{"$f":"IF(C718=\"\",\"\",VLOOKUP(C718,Debiteuren!$A$2:$O$9998,15,0)&\"\"&VLOOKUP(C718,Debiteuren!$A$2:$N$9998,14,0))","v":""},null,"","",0,""]
[null,null,null,null,null,null,null,null,null,null,"",null,null,"",null,null,null,null,null,0,null,{"$f":"IF(C719=\"\",\"\",VLOOKUP(C719,Debiteuren!$A$2:$J$9998,10,0))&\"\"","v":""},{"$f":"IF(C719=\"\",\"\",VLOOKUP(C719,Debiteuren!$A$2:$O$9998,15,0)&\"\"&VLOOKUP(C719,Debiteuren!$A$2:$N$9998,14,0))","v":""},null,"","",0,""]
[null,null,null,null,null,null,null,null,null,null,"",null,null,"",null,null,null,null,null,0,null,{"$f":"IF(C720=\"\",\"\",VLOOKUP(C720,Debiteuren!$A$2:$J$9998,10,0))&\"\"","v":""},{"$f":"IF(C720=\"\",\"\",VLOOKUP(C720,Debiteuren!$A$2:$O$9998,15,0)&\"\"&VLOOKUP(C720,Debiteuren!$A$2:$N$9998,14,0))","v":""},null,"","",0,""]
[null,null,null,null,null,null,null,null,null,null,"",null,null,"",null,null,null,null,null,0,null,{"$f":"IF(C721=\"\",\"\",VLOOKUP(C721,Debiteuren!$A$2:$J$9998,10,0))&\"\"","v":""},{"$f":"IF(C721=\"\",\"\",VLOOKUP(C721,Debiteuren!$A$2:$O$9998,15,0)&\"\"&VLOOKUP(C721,Debiteuren!$A$2:$N$9998,14,0))","v":""},null,"","",0,""]
[null,null,null,null,null,null,null,null,null,null,"",null,null,"",null,null,null,null,null,0,null,{"$f":"IF(C722=\"\",\"\",VLOOKUP(C722,Debiteuren!$A$2:$J$9998,10,0))&\"\"","v":""},{"$f":"IF(C722=\"\",\"\",VLOOKUP(C722,Debiteuren!$A$2:$O$9998,15,0)&\"\"&VLOOKUP(C722,Debiteuren!$A$2:$N$9998,14,0))","v":""},null,"","",0,""]
[null,null,null,null,null,null,null,null,null,null,"",null,null,"",null,null,null,null,null,0,null,{"$f":"IF(C723=\"\",\"\",VLOOKUP(C723,Debiteuren!$A$2:$J$9998,10,0))&\"\"","v":""},{"$f":"IF(C723=\"\",\"\",VLOOKUP(C723,Debiteuren!$A$2:$O$9998,15,0)&\"\"&VLOOKUP(C723,Debiteuren!$A$2:$N$9998,14,0))","v":""},null,"","",0,""]
[null,null,null,null,null,null,null,null,null,null,"",null,null,"",null,null,null,null,null,0,null,{"$f":"IF(C724=\"\",\"\",VLOOKUP(C724,Debiteuren!$A$2:$J$9998,10,0))&\"\"","v":""},{"$f":"IF(C724=\"\",\"\",VLOOKUP(C724,Debiteuren!$A$2:$O$9998,15,0)&\"\"&VLOOKUP(C724,Debiteuren!$A$2:$N$9998,14,0))","v":""},null,"","",0,""]
[null,null,null,null,null,null,null,null,null,null,"",null,null,"",null,null,null,null,null,0,null,{"$f":"IF(C725=\"\",\"\",VLOOKUP(C725,Debiteuren!$A$2:$J$9998,10,0))&\"\"","v":""},{"$f":"IF(C725=\"\",\"\",VLOOKUP(C725,Debiteuren!$A$2:$O$9998,15,0)&\"\"&VLOOKUP(C725,Debiteuren!$A$2:$N$9998,14,0))","v":""},null,"","",0,""]
[null,null,null,null,null,null,null,null,null,null,"",null,null,"",null,null,null,null,null,0,null,{"$f":"IF(C726=\"\",\"\",VLOOKUP(C726,Debiteuren!$A$2:$J$9998,10,0))&\"\"","v":""},{"$f":"IF(C726=\"\",\"\",VLOOKUP(C726,Debiteuren!$A$2:$O$9998,15,0)&\"\"&VLOOKUP(C726,Debiteuren!$A$2:$N$9998,14,0))","v":""},null,"","",0,""]
[null,null,null,null,null,null,null,null,null,null,"",null,null,"",null,null,null,null,null,0,null,{"$f":"IF(C727=\"\",\"\",VLOOKUP(C727,Debiteuren!$A$2:$J$9998,10,0))&\"\"","v":""},{"$f":"IF(C727=\"\",\"\",VLOOKUP(C727,Debiteuren!$A$2:$O$9998,15,0)&\"\"&VLOOKUP(C727,Debiteuren!$A$2:$N$9998,14,0))","v":""},null,"","",0,""]
[null,null,null,null,null,null,null,null,null,null,"",null,null,"",null,null,null,null,null,0,null,{"$f":"IF(C728=\"\",\"\",VLOOKUP(C728,Debiteuren!$A$2:$J$9998,10,0))&\"\"","v":""},{"$f":"IF(C728=\"\",\"\",VLOOKUP(C728,Debiteuren!$A$2:$O$9998,15,0)&\"\"&VLOOKUP(C728,Debiteuren!$A$2:$N$9998,14,0))","v":""},null,"","",0,""]
[null,null,null,null,null,null,null,null,null,null,"",null,null,"",null,null,null,null,null,0,null,{"$f":"IF(C729=\"\",\"\",VLOOKUP(C729,Debiteuren!$A$2:$J$9998,10,0))&\"\"","v":""},{"$f":"IF(C729=\"\",\"\",VLOOKUP(C729,Debiteuren!$A$2:$O$9998,15,0)&\"\"&VLOOKUP(C729,Debiteuren!$A$2:$N$9998,14,0))","v":""},null,"","",0,""]
[null,null,null,null,null,null,null,null,null,null,"",null,null,"",null,null,null,null,null,0,null,{"$f":"IF(C730=\"\",\"\",VLOOKUP(C730,Debiteuren!$A$2:$J$9998,10,0))&\"\"","v":""},{"$f":"IF(C730=\"\",\"\",VLOOKUP(C730,Debiteuren!$A$2:$O$9998,15,0)&\"\"&VLOOKUP(C730,Debiteuren!$A$2:$N$9998,14,0))","v":""},null,"","",0,""]
[null,null,null,null,null,null,null,null,null,null,"",null,null,"",null,null,null,null,null,0,null,{"$f":"IF(C731=\"\",\"\",VLOOKUP(C731,Debiteuren!$A$2:$J$9998,10,0))&\"\"","v":""},{"$f":"IF(C731=\"\",\"\",VLOOKUP(C731,Debiteuren!$A$2:$O$9998,15,0)&\"\"&VLOOKUP(C731,Debiteuren!$A$2:$N$9998,14,0))","v":""},null,"","",0,""]
[null,null,null,null,null,null,null,null,null,null,"",null,null,"",null,null,null,null,null,0,null,{"$f":"IF(C732=\"\",\"\",VLOOKUP(C732,Debiteuren!$A$2:$J$9998,10,0))&\"\"","v":""},{"$f":"IF(C732=\"\",\"\",VLOOKUP(C732,Debiteuren!$A$2:$O$9998,15,0)&\"\"&VLOOKUP(C732,Debiteuren!$A$2:$N$9998,14,0))","v":""},null,"","",0,""]
[null,null,null,null,null,null,null,null,null,null,"",null,null,"",null,null,null,null,null,0,null,{"$f":"IF(C733=\"\",\"\",VLOOKUP(C733,Debiteuren!$A$2:$J$9998,10,0))&\"\"","v":""},{"$f":"IF(C733=\"\",\"\",VLOOKUP(C733,Debiteuren!$A$2:$O$9998,15,0)&\"\"&VLOOKUP(C733,Debiteuren!$A$2:$N$9998,14,0))","v":""},null,"","",0,""]
[null,null,null,null,null,null,null,null,null,null,"",null,null,"",null,null,null,null,null,0,null,{"$f":"IF(C734=\"\",\"\",VLOOKUP(C734,Debiteuren!$A$2:$J$9998,10,0))&\"\"","v":""},{"$f":"IF(C734=\"\",\"\",VLOOKUP(C734,Debiteuren!$A$2:$O$9998,15,0)&\"\"&VLOOKUP(C734,Debiteuren!$A$2:$N$9998,14,0))","v":""},null,"","",0,""]
[null,null,null,null,null,null,null,null,null,null,"",null,null,"",null,null,null,null,null,0,null,{"$f":"IF(C735=\"\",\"\",VLOOKUP(C735,Debiteuren!$A$2:$J$9998,10,0))&\"\"","v":""},{"$f":"IF(C735=\"\",\"\",VLOOKUP(C735,Debiteuren!$A$2:$O$9998,15,0)&\"\"&VLOOKUP(C735,Debiteuren!$A$2:$N$9998,14,0))","v":""},null,"","",0,""]
[null,null,null,null,null,null,null,null,null,null,"",null,null,"",null,null,null,null,null,0,null,{"$f":"IF(C736=\"\",\"\",VLOOKUP(C736,Debiteuren!$A$2:$J$9998,10,0))&\"\"","v":""},{"$f":"IF(C736=\"\",\"\",VLOOKUP(C736,Debiteuren!$A$2:$O$9998,15,0)&\"\"&VLOOKUP(C736,Debiteuren!$A$2:$N$9998,14,0))","v":""},null,"","",0,""]
[null,null,null,null,null,null,null,null,null,null,"",null,null,"",null,null,null,null,null,0,null,{"$f":"IF(C737=\"\",\"\",VLOOKUP(C737,Debiteuren!$A$2:$J$9998,10,0))&\"\"","v":""},{"$f":"IF(C737=\"\",\"\",VLOOKUP(C737,Debiteuren!$A$2:$O$9998,15,0)&\"\"&VLOOKUP(C737,Debiteuren!$A$2:$N$9998,14,0))","v":""},null,"","",0,""]
[null,null,null,null,null,null,null,null,null,null,"",null,null,"",null,null,null,null,null,0,null,{"$f":"IF(C738=\"\",\"\",VLOOKUP(C738,Debiteuren!$A$2:$J$9998,10,0))&\"\"","v":""},{"$f":"IF(C738=\"\",\"\",VLOOKUP(C738,Debiteuren!$A$2:$O$9998,15,0)&\"\"&VLOOKUP(C738,Debiteuren!$A$2:$N$9998,14,0))","v":""},null,"","",0,""]
[null,null,null,null,null,null,null,null,null,null,"",null,null,"",null,null,null,null,null,0,null,{"$f":"IF(C739=\"\",\"\",VLOOKUP(C739,Debiteuren!$A$2:$J$9998,10,0))&\"\"","v":""},{"$f":"IF(C739=\"\",\"\",VLOOKUP(C739,Debiteuren!$A$2:$O$9998,15,0)&\"\"&VLOOKUP(C739,Debiteuren!$A$2:$N$9998,14,0))","v":""},null,"","",0,""]
[null,null,null,null,null,null,null,null,null,null,"",null,null,"",null,null,null,null,null,0,null,{"$f":"IF(C740=\"\",\"\",VLOOKUP(C740,Debiteuren!$A$2:$J$9998,10,0))&\"\"","v":""},{"$f":"IF(C740=\"\",\"\",VLOOKUP(C740,Debiteuren!$A$2:$O$9998,15,0)&\"\"&VLOOKUP(C740,Debiteuren!$A$2:$N$9998,14,0))","v":""},null,"","",0,""]
[null,null,null,null,null,null,null,null,null,null,"",null,null,"",null,null,null,null,null,0,null,{"$f":"IF(C741=\"\",\"\",VLOOKUP(C741,Debiteuren!$A$2:$J$9998,10,0))&\"\"","v":""},{"$f":"IF(C741=\"\",\"\",VLOOKUP(C741,Debiteuren!$A$2:$O$9998,15,0)&\"\"&VLOOKUP(C741,Debiteuren!$A$2:$N$9998,14,0))","v":""},null,"","",0,""]
[null,null,null,null,null,null,null,null,null,null,"",null,null,"",null,null,null,null,null,0,null,{"$f":"IF(C742=\"\",\"\",VLOOKUP(C742,Debiteuren!$A$2:$J$9998,10,0))&\"\"","v":""},{"$f":"IF(C742=\"\",\"\",VLOOKUP(C742,Debiteuren!$A$2:$O$9998,15,0)&\"\"&VLOOKUP(C742,Debiteuren!$A$2:$N$9998,14,0))","v":""},null,"","",0,""]
[null,null,null,null,null,null,null,null,null,null,"",null,null,"",null,null,null,null,null,0,null,{"$f":"IF(C743=\"\",\"\",VLOOKUP(C743,Debiteuren!$A$2:$J$9998,10,0))&\"\"","v":""},{"$f":"IF(C743=\"\",\"\",VLOOKUP(C743,Debiteuren!$A$2:$O$9998,15,0)&\"\"&VLOOKUP(C743,Debiteuren!$A$2:$N$9998,14,0))","v":""},null,"","",0,""]
[null,null,null,null,null,null,null,null,null,null,"",null,null,"",null,null,null,null,null,0,null,{"$f":"IF(C744=\"\",\"\",VLOOKUP(C744,Debiteuren!$A$2:$J$9998,10,0))&\"\"","v":""},{"$f":"IF(C744=\"\",\"\",VLOOKUP(C744,Debiteuren!$A$2:$O$9998,15,0)&\"\"&VLOOKUP(C744,Debiteuren!$A$2:$N$9998,14,0))","v":""},null,"","",0,""]
[null,null,null,null,null,null,null,null,null,null,"",null,null,"",null,null,null,null,null,0,null,{"$f":"IF(C745=\"\",\"\",VLOOKUP(C745,Debiteuren!$A$2:$J$9998,10,0))&\"\"","v":""},{"$f":"IF(C745=\"\",\"\",VLOOKUP(C745,Debiteuren!$A$2:$O$9998,15,0)&\"\"&VLOOKUP(C745,Debiteuren!$A$2:$N$9998,14,0))","v":""},null,"","",0,""]
[null,null,null,null,null,null,null,null,null,null,"",null,null,"",null,null,null,null,null,0,null,{"$f":"IF(C746=\"\",\"\",VLOOKUP(C746,Debiteuren!$A$2:$J$9998,10,0))&\"\"","v":""},{"$f":"IF(C746=\"\",\"\",VLOOKUP(C746,Debiteuren!$A$2:$O$9998,15,0)&\"\"&VLOOKUP(C746,Debiteuren!$A$2:$N$9998,14,0))","v":""},null,"","",0,""]
[null,null,null,null,null,null,null,null,null,null,"",null,null,"",null,null,null,null,null,0,null,{"$f":"IF(C747=\"\",\"\",VLOOKUP(C747,Debiteuren!$A$2:$J$9998,10,0))&\"\"","v":""},{"$f":"IF(C747=\"\",\"\",VLOOKUP(C747,Debiteuren!$A$2:$O$9998,15,0)&\"\"&VLOOKUP(C747,Debiteuren!$A$2:$N$9998,14,0))","v":""},null,"","",0,""]
[null,null,null,null,null,null,null,null,null,null,"",null,null,"",null,null,null,null,null,0,null,{"$f":"IF(C748=\"\",\"\",VLOOKUP(C748,Debiteuren!$A$2:$J$9998,10,0))&\"\"","v":""},{"$f":"IF(C748=\"\",\"\",VLOOKUP(C748,Debiteuren!$A$2:$O$9998,15,0)&\"\"&VLOOKUP(C748,Debiteuren!$A$2:$N$9998,14,0))","v":""},null,"","",0,""]
[null,null,null,null,null,null,null,null,null,null,"",null,null,"",null,null,null,null,null,0,null,{"$f":"IF(C749=\"\",\"\",VLOOKUP(C749,Debiteuren!$A$2:$J$9998,10,0))&\"\"","v":""},{"$f":"IF(C749=\"\",\"\",VLOOKUP(C749,Debiteuren!$A$2:$O$9998,15,0)&\"\"&VLOOKUP(C749,Debiteuren!$A$2:$N$9998,14,0))","v":""},null,"","",0,""]
[null,null,null,null,null,null,null,null,null,null,"",null,null,"",null,null,null,null,null,0,null,{"$f":"IF(C750=\"\",\"\",VLOOKUP(C750,Debiteuren!$A$2:$J$9998,10,0))&\"\"","v":""},{"$f":"IF(C750=\"\",\"\",VLOOKUP(C750,Debiteuren!$A$2:$O$9998,15,0)&\"\"&VLOOKUP(C750,Debiteuren!$A$2:$N$9998,14,0))","v":""},null,{"$f":"IF(D750=\"\",\"\",DATEDIF(D750,TODAY(),\"d\"))","v":""},{"$f":"IF(G750=\"\",\"\",DATEDIF(D750,G750,\"d\"))","v":""},{"$f":"DATEDIF(D750,H750,\"d\")","v":0},{"$f":"IF(Y750=\"\",\"\",Y750-AA750)","v":""}]
[null,null,null,null,null,null,null,null,null,null,"",null,null,"",null,null,null,null,null,{"$f":"IF(B751=1,E751,0)","v":0},null,{"$f":"IF(C751=\"\",\"\",VLOOKUP(C751,Debiteuren!$A$2:$J$9998,10,0))&\"\"","v":""},{"$f":"IF(C751=\"\",\"\",VLOOKUP(C751,Debiteuren!$A$2:$O$9998,15,0)&\"\"&VLOOKUP(C751,Debiteuren!$A$2:$N$9998,14,0))","v":""},null,"","",0,""]
[null,null,null,null,null,null,null,null,null,null,"",null,null,"",null,null,null,null,null,0,null,{"$f":"IF(C752=\"\",\"\",VLOOKUP(C752,Debiteuren!$A$2:$J$9998,10,0))&\"\"","v":""},{"$f":"IF(C752=\"\",\"\",VLOOKUP(C752,Debiteuren!$A$2:$O$9998,15,0)&\"\"&VLOOKUP(C752,Debiteuren!$A$2:$N$9998,14,0))","v":""},null,"","",0,""]
[null,null,null,null,null,null,null,null,null,null,"",null,null,"",null,null,null,null,null,0,null,{"$f":"IF(C753=\"\",\"\",VLOOKUP(C753,Debiteuren!$A$2:$J$9998,10,0))&\"\"","v":""},{"$f":"IF(C753=\"\",\"\",VLOOKUP(C753,Debiteuren!$A$2:$O$9998,15,0)&\"\"&VLOOKUP(C753,Debiteuren!$A$2:$N$9998,14,0))","v":""},null,"","",0,""]
[null,null,null,null,null,null,null,null,null,null,"",null,null,"",null,null,null,null,null,0,null,{"$f":"IF(C754=\"\",\"\",VLOOKUP(C754,Debiteuren!$A$2:$J$9998,10,0))&\"\"","v":""},{"$f":"IF(C754=\"\",\"\",VLOOKUP(C754,Debiteuren!$A$2:$O$9998,15,0)&\"\"&VLOOKUP(C754,Debiteuren!$A$2:$N$9998,14,0))","v":""},null,"","",0,""]
[null,null,null,null,null,null,null,null,null,null,"",null,null,"",null,null,null,null,null,0,null,{"$f":"IF(C755=\"\",\"\",VLOOKUP(C755,Debiteuren!$A$2:$J$9998,10,0))&\"\"","v":""},{"$f":"IF(C755=\"\",\"\",VLOOKUP(C755,Debiteuren!$A$2:$O$9998,15,0)&\"\"&VLOOKUP(C755,Debiteuren!$A$2:$N$9998,14,0))","v":""},null,"","",0,""]
[null,null,null,null,null,null,null,null,null,null,"",null,null,"",null,null,null,null,null,0,null,{"$f":"IF(C756=\"\",\"\",VLOOKUP(C756,Debiteuren!$A$2:$J$9998,10,0))&\"\"","v":""},{"$f":"IF(C756=\"\",\"\",VLOOKUP(C756,Debiteuren!$A$2:$O$9998,15,0)&\"\"&VLOOKUP(C756,Debiteuren!$A$2:$N$9998,14,0))","v":""},null,"","",0,""]
[null,null,null,null,null,null,null,null,null,null,"",null,null,"",null,null,null,null,null,0,null,{"$f":"IF(C757=\"\",\"\",VLOOKUP(C757,Debiteuren!$A$2:$J$9998,10,0))&\"\"","v":""},{"$f":"IF(C757=\"\",\"\",VLOOKUP(C757,Debiteuren!$A$2:$O$9998,15,0)&\"\"&VLOOKUP(C757,Debiteuren!$A$2:$N$9998,14,0))","v":""},null,"","",0,""]
[null,null,null,null,null,null,null,null,null,null,"",null,null,"",null,null,null,null,null,0,null,{"$f":"IF(C758=\"\",\"\",VLOOKUP(C758,Debiteuren!$A$2:$J$9998,10,0))&\"\"","v":""},{"$f":"IF(C758=\"\",\"\",VLOOKUP(C758,Debiteuren!$A$2:$O$9998,15,0)&\"\"&VLOOKUP(C758,Debiteuren!$A$2:$N$9998,14,0))","v":""},null,"","",0,""]
[null,null,null,null,null,null,null,null,null,null,"",null,null,"",null,null,null,null,null,0,null,{"$f":"IF(C759=\"\",\"\",VLOOKUP(C759,Debiteuren!$A$2:$J$9998,10,0))&\"\"","v":""},{"$f":"IF(C759=\"\",\"\",VLOOKUP(C759,Debiteuren!$A$2:$O$9998,15,0)&\"\"&VLOOKUP(C759,Debiteuren!$A$2:$N$9998,14,0))","v":""},null,"","",0,""]
[null,null,null,null,null,null,null,null,null,null,"",null,null,"",null,null,null,null,null,0,null,{"$f":"IF(C760=\"\",\"\",VLOOKUP(C760,Debiteuren!$A$2:$J$9998,10,0))&\"\"","v":""},{"$f":"IF(C760=\"\",\"\",VLOOKUP(C760,Debiteuren!$A$2:$O$9998,15,0)&\"\"&VLOOKUP(C760,Debiteuren!$A$2:$N$9998,14,0))","v":""},null,"","",0,""]
[null,null,null,null,null,null,null,null,null,null,{"$f":"IF(D761=\"\",\"\",\"\"&\"Kwartaal \"&MONTH(MONTH(D761)&0)&TEXT(D761,\" - mmm JJJJ\"))","v":""},null,null,{"$f":"IF(E761=\"\",\"\",(E761)-(F761))","v":""},null,null,null,null,null,0,null,{"$f":"IF(C761=\"\",\"\",VLOOKUP(C761,Debiteuren!$A$2:$J$9998,10,0))&\"\"","v":""},{"$f":"IF(C761=\"\",\"\",VLOOKUP(C761,Debiteuren!$A$2:$O$9998,15,0)&\"\"&VLOOKUP(C761,Debiteuren!$A$2:$N$9998,14,0))","v":""},null,"","",0,""]
[null,null,null,null,null,null,null,null,null,null,"",null,null,"",null,null,null,null,null,0,null,{"$f":"IF(C762=\"\",\"\",VLOOKUP(C762,Debiteuren!$A$2:$J$9998,10,0))&\"\"","v":""},{"$f":"IF(C762=\"\",\"\",VLOOKUP(C762,Debiteuren!$A$2:$O$9998,15,0)&\"\"&VLOOKUP(C762,Debiteuren!$A$2:$N$9998,14,0))","v":""},null,"","",0,""]
[null,null,null,null,null,null,null,null,null,null,"",null,null,"",null,null,null,null,null,0,null,{"$f":"IF(C763=\"\",\"\",VLOOKUP(C763,Debiteuren!$A$2:$J$9998,10,0))&\"\"","v":""},{"$f":"IF(C763=\"\",\"\",VLOOKUP(C763,Debiteuren!$A$2:$O$9998,15,0)&\"\"&VLOOKUP(C763,Debiteuren!$A$2:$N$9998,14,0))","v":""},null,"","",0,""]
[null,null,null,null,null,null,null,null,null,null,"",null,null,"",null,null,null,null,null,0,null,{"$f":"IF(C764=\"\",\"\",VLOOKUP(C764,Debiteuren!$A$2:$J$9998,10,0))&\"\"","v":""},{"$f":"IF(C764=\"\",\"\",VLOOKUP(C764,Debiteuren!$A$2:$O$9998,15,0)&\"\"&VLOOKUP(C764,Debiteuren!$A$2:$N$9998,14,0))","v":""},null,"","",0,""]
[null,null,null,null,null,null,null,null,null,null,"",null,null,"",null,null,null,null,null,0,null,{"$f":"IF(C765=\"\",\"\",VLOOKUP(C765,Debiteuren!$A$2:$J$9998,10,0))&\"\"","v":""},{"$f":"IF(C765=\"\",\"\",VLOOKUP(C765,Debiteuren!$A$2:$O$9998,15,0)&\"\"&VLOOKUP(C765,Debiteuren!$A$2:$N$9998,14,0))","v":""},null,"","",0,""]
[null,null,null,null,null,null,null,null,null,null,"",null,null,"",null,null,null,null,null,0,null,{"$f":"IF(C766=\"\",\"\",VLOOKUP(C766,Debiteuren!$A$2:$J$9998,10,0))&\"\"","v":""},{"$f":"IF(C766=\"\",\"\",VLOOKUP(C766,Debiteuren!$A$2:$O$9998,15,0)&\"\"&VLOOKUP(C766,Debiteuren!$A$2:$N$9998,14,0))","v":""},null,"","",0,""]
[null,null,null,null,null,null,null,null,null,null,"",null,null,"",null,null,null,null,null,0,null,{"$f":"IF(C767=\"\",\"\",VLOOKUP(C767,Debiteuren!$A$2:$J$9998,10,0))&\"\"","v":""},{"$f":"IF(C767=\"\",\"\",VLOOKUP(C767,Debiteuren!$A$2:$O$9998,15,0)&\"\"&VLOOKUP(C767,Debiteuren!$A$2:$N$9998,14,0))","v":""},null,"","",0,""]
[null,null,null,null,null,null,null,null,null,null,"",null,null,"",null,null,null,null,null,0,null,{"$f":"IF(C768=\"\",\"\",VLOOKUP(C768,Debiteuren!$A$2:$J$9998,10,0))&\"\"","v":""},{"$f":"IF(C768=\"\",\"\",VLOOKUP(C768,Debiteuren!$A$2:$O$9998,15,0)&\"\"&VLOOKUP(C768,Debiteuren!$A$2:$N$9998,14,0))","v":""},null,"","",0,""]
[null,null,null,null,null,null,null,null,null,null,"",null,null,"",null,null,null,null,null,0,null,{"$f":"IF(C769=\"\",\"\",VLOOKUP(C769,Debiteuren!$A$2:$J$9998,10,0))&\"\"","v":""},{"$f":"IF(C769=\"\",\"\",VLOOKUP(C769,Debiteuren!$A$2:$O$9998,15,0)&\"\"&VLOOKUP(C769,Debiteuren!$A$2:$N$9998,14,0))","v":""},null,"","",0,""]
[null,null,null,null,null,null,null,null,null,null,"",null,null,"",null,null,null,null,null,0,null,{"$f":"IF(C770=\"\",\"\",VLOOKUP(C770,Debiteuren!$A$2:$J$9998,10,0))&\"\"","v":""},{"$f":"IF(C770=\"\",\"\",VLOOKUP(C770,Debiteuren!$A$2:$O$9998,15,0)&\"\"&VLOOKUP(C770,Debiteuren!$A$2:$N$9998,14,0))","v":""},null,"","",0,""]
[null,null,null,null,null,null,null,null,null,null,"",null,null,"",null,null,null,null,null,0,null,{"$f":"IF(C771=\"\",\"\",VLOOKUP(C771,Debiteuren!$A$2:$J$9998,10,0))&\"\"","v":""},{"$f":"IF(C771=\"\",\"\",VLOOKUP(C771,Debiteuren!$A$2:$O$9998,15,0)&\"\"&VLOOKUP(C771,Debiteuren!$A$2:$N$9998,14,0))","v":""},null,"","",0,""]
[null,null,null,null,null,null,null,null,null,null,"",null,null,"",null,null,null,null,null,0,null,{"$f":"IF(C772=\"\",\"\",VLOOKUP(C772,Debiteuren!$A$2:$J$9998,10,0))&\"\"","v":""},{"$f":"IF(C772=\"\",\"\",VLOOKUP(C772,Debiteuren!$A$2:$O$9998,15,0)&\"\"&VLOOKUP(C772,Debiteuren!$A$2:$N$9998,14,0))","v":""},null,"","",0,""]
[null,null,null,null,null,null,null,null,null,null,"",null,null,"",null,null,null,null,null,0,null,{"$f":"IF(C773=\"\",\"\",VLOOKUP(C773,Debiteuren!$A$2:$J$9998,10,0))&\"\"","v":""},{"$f":"IF(C773=\"\",\"\",VLOOKUP(C773,Debiteuren!$A$2:$O$9998,15,0)&\"\"&VLOOKUP(C773,Debiteuren!$A$2:$N$9998,14,0))","v":""},null,"","",0,""]
[null,null,null,null,null,null,null,null,null,null,"",null,null,"",null,null,null,null,null,0,null,{"$f":"IF(C774=\"\",\"\",VLOOKUP(C774,Debiteuren!$A$2:$J$9998,10,0))&\"\"","v":""},{"$f":"IF(C774=\"\",\"\",VLOOKUP(C774,Debiteuren!$A$2:$O$9998,15,0)&\"\"&VLOOKUP(C774,Debiteuren!$A$2:$N$9998,14,0))","v":""},null,"","",0,""]
[null,null,null,null,null,null,null,null,null,null,"",null,null,"",null,null,null,null,null,0,null,{"$f":"IF(C775=\"\",\"\",VLOOKUP(C775,Debiteuren!$A$2:$J$9998,10,0))&\"\"","v":""},{"$f":"IF(C775=\"\",\"\",VLOOKUP(C775,Debiteuren!$A$2:$O$9998,15,0)&\"\"&VLOOKUP(C775,Debiteuren!$A$2:$N$9998,14,0))","v":""},null,"","",0,""]
[null,null,null,null,null,null,null,null,null,null,"",null,null,"",null,null,null,null,null,0,null,{"$f":"IF(C776=\"\",\"\",VLOOKUP(C776,Debiteuren!$A$2:$J$9998,10,0))&\"\"","v":""},{"$f":"IF(C776=\"\",\"\",VLOOKUP(C776,Debiteuren!$A$2:$O$9998,15,0)&\"\"&VLOOKUP(C776,Debiteuren!$A$2:$N$9998,14,0))","v":""},null,"","",0,""]
[null,null,null,null,null,null,null,null,null,null,"",null,null,"",null,null,null,null,null,0,null,{"$f":"IF(C777=\"\",\"\",VLOOKUP(C777,Debiteuren!$A$2:$J$9998,10,0))&\"\"","v":""},{"$f":"IF(C777=\"\",\"\",VLOOKUP(C777,Debiteuren!$A$2:$O$9998,15,0)&\"\"&VLOOKUP(C777,Debiteuren!$A$2:$N$9998,14,0))","v":""},null,"","",0,""]
[null,null,null,null,null,null,null,null,null,null,"",null,null,"",null,null,null,null,null,0,null,{"$f":"IF(C778=\"\",\"\",VLOOKUP(C778,Debiteuren!$A$2:$J$9998,10,0))&\"\"","v":""},{"$f":"IF(C778=\"\",\"\",VLOOKUP(C778,Debiteuren!$A$2:$O$9998,15,0)&\"\"&VLOOKUP(C778,Debiteuren!$A$2:$N$9998,14,0))","v":""},null,"","",0,""]
[null,null,null,null,null,null,null,null,null,null,"",null,null,"",null,null,null,null,null,0,null,{"$f":"IF(C779=\"\",\"\",VLOOKUP(C779,Debiteuren!$A$2:$J$9998,10,0))&\"\"","v":""},{"$f":"IF(C779=\"\",\"\",VLOOKUP(C779,Debiteuren!$A$2:$O$9998,15,0)&\"\"&VLOOKUP(C779,Debiteuren!$A$2:$N$9998,14,0))","v":""},null,"","",0,""]
[null,null,null,null,null,null,null,null,null,null,"",null,null,"",null,null,null,null,null,0,null,{"$f":"IF(C780=\"\",\"\",VLOOKUP(C780,Debiteuren!$A$2:$J$9998,10,0))&\"\"","v":""},{"$f":"IF(C780=\"\",\"\",VLOOKUP(C780,Debiteuren!$A$2:$O$9998,15,0)&\"\"&VLOOKUP(C780,Debiteuren!$A$2:$N$9998,14,0))","v":""},null,"","",0,""]
[null,null,null,null,null,null,null,null,null,null,"",null,null,"",null,null,null,null,null,0,null,{"$f":"IF(C781=\"\",\"\",VLOOKUP(C781,Debiteuren!$A$2:$J$9998,10,0))&\"\"","v":""},{"$f":"IF(C781=\"\",\"\",VLOOKUP(C781,Debiteuren!$A$2:$O$9998,15,0)&\"\"&VLOOKUP(C781,Debiteuren!$A$2:$N$9998,14,0))","v":""},null,"","",0,""]
[null,null,null,null,null,null,null,null,null,null,"",null,null,"",null,null,null,null,null,0,null,{"$f":"IF(C782=\"\",\"\",VLOOKUP(C782,Debiteuren!$A$2:$J$9998,10,0))&\"\"","v":""},{"$f":"IF(C782=\"\",\"\",VLOOKUP(C782,Debiteuren!$A$2:$O$9998,15,0)&\"\"&VLOOKUP(C782,Debiteuren!$A$2:$N$9998,14,0))","v":""},null,"","",0,""]
[null,null,null,null,null,null,null,null,null,null,"",null,null,"",null,null,null,null,null,0,null,{"$f":"IF(C783=\"\",\"\",VLOOKUP(C783,Debiteuren!$A$2:$J$9998,10,0))&\"\"","v":""},{"$f":"IF(C783=\"\",\"\",VLOOKUP(C783,Debiteuren!$A$2:$O$9998,15,0)&\"\"&VLOOKUP(C783,Debiteuren!$A$2:$N$9998,14,0))","v":""},null,"","",0,""]
[null,null,null,null,null,null,null,null,null,null,"",null,null,"",null,null,null,null,null,0,null,{"$f":"IF(C784=\"\",\"\",VLOOKUP(C784,Debiteuren!$A$2:$J$9998,10,0))&\"\"","v":""},{"$f":"IF(C784=\"\",\"\",VLOOKUP(C784,Debiteuren!$A$2:$O$9998,15,0)&\"\"&VLOOKUP(C784,Debiteuren!$A$2:$N$9998,14,0))","v":""},null,"","",0,""]
[null,null,null,null,null,null,null,null,null,null,"",null,null,"",null,null,null,null,null,0,null,{"$f":"IF(C785=\"\",\"\",VLOOKUP(C785,Debiteuren!$A$2:$J$9998,10,0))&\"\"","v":""},{"$f":"IF(C785=\"\",\"\",VLOOKUP(C785,Debiteuren!$A$2:$O$9998,15,0)&\"\"&VLOOKUP(C785,Debiteuren!$A$2:$N$9998,14,0))","v":""},null,"","",0,""]
[null,null,null,null,null,null,null,null,null,null,"",null,null,"",null,null,null,null,null,0,null,{"$f":"IF(C786=\"\",\"\",VLOOKUP(C786,Debiteuren!$A$2:$J$9998,10,0))&\"\"","v":""},{"$f":"IF(C786=\"\",\"\",VLOOKUP(C786,Debiteuren!$A$2:$O$9998,15,0)&\"\"&VLOOKUP(C786,Debiteuren!$A$2:$N$9998,14,0))","v":""},null,"","",0,""]
[null,null,null,null,null,null,null,null,null,null,"",null,null,"",null,null,null,null,null,0,null,{"$f":"IF(C787=\"\",\"\",VLOOKUP(C787,Debiteuren!$A$2:$J$9998,10,0))&\"\"","v":""},{"$f":"IF(C787=\"\",\"\",VLOOKUP(C787,Debiteuren!$A$2:$O$9998,15,0)&\"\"&VLOOKUP(C787,Debiteuren!$A$2:$N$9998,14,0))","v":""},null,"","",0,""]
[null,null,null,null,null,null,null,null,null,null,"",null,null,"",null,null,null,null,null,0,null,{"$f":"IF(C788=\"\",\"\",VLOOKUP(C788,Debiteuren!$A$2:$J$9998,10,0))&\"\"","v":""},{"$f":"IF(C788=\"\",\"\",VLOOKUP(C788,Debiteuren!$A$2:$O$9998,15,0)&\"\"&VLOOKUP(C788,Debiteuren!$A$2:$N$9998,14,0))","v":""},null,"","",0,""]
[null,null,null,null,null,null,null,null,null,null,"",null,null,"",null,null,null,null,null,0,null,{"$f":"IF(C789=\"\",\"\",VLOOKUP(C789,Debiteuren!$A$2:$J$9998,10,0))&\"\"","v":""},{"$f":"IF(C789=\"\",\"\",VLOOKUP(C789,Debiteuren!$A$2:$O$9998,15,0)&\"\"&VLOOKUP(C789,Debiteuren!$A$2:$N$9998,14,0))","v":""},null,"","",0,""]
[null,null,null,null,null,null,null,null,null,null,"",null,null,"",null,null,null,null,null,0,null,{"$f":"IF(C790=\"\",\"\",VLOOKUP(C790,Debiteuren!$A$2:$J$9998,10,0))&\"\"","v":""},{"$f":"IF(C790=\"\",\"\",VLOOKUP(C790,Debiteuren!$A$2:$O$9998,15,0)&\"\"&VLOOKUP(C790,Debiteuren!$A$2:$N$9998,14,0))","v":""},null,"","",0,""]
[null,null,null,null,null,null,null,null,null,null,"",null,null,"",null,null,null,null,null,0,null,{"$f":"IF(C791=\"\",\"\",VLOOKUP(C791,Debiteuren!$A$2:$J$9998,10,0))&\"\"","v":""},{"$f":"IF(C791=\"\",\"\",VLOOKUP(C791,Debiteuren!$A$2:$O$9998,15,0)&\"\"&VLOOKUP(C791,Debiteuren!$A$2:$N$9998,14,0))","v":""},null,"","",0,""]
[null,null,null,null,null,null,null,null,null,null,"",null,null,"",null,null,null,null,null,0,null,{"$f":"IF(C792=\"\",\"\",VLOOKUP(C792,Debiteuren!$A$2:$J$9998,10,0))&\"\"","v":""},{"$f":"IF(C792=\"\",\"\",VLOOKUP(C792,Debiteuren!$A$2:$O$9998,15,0)&\"\"&VLOOKUP(C792,Debiteuren!$A$2:$N$9998,14,0))","v":""},null,"","",0,""]
[null,null,null,null,null,null,null,null,null,null,"",null,null,"",null,null,null,null,null,0,null,{"$f":"IF(C793=\"\",\"\",VLOOKUP(C793,Debiteuren!$A$2:$J$9998,10,0))&\"\"","v":""},{"$f":"IF(C793=\"\",\"\",VLOOKUP(C793,Debiteuren!$A$2:$O$9998,15,0)&\"\"&VLOOKUP(C793,Debiteuren!$A$2:$N$9998,14,0))","v":""},null,"","",0,""]
[null,null,null,null,null,null,null,null,null,null,"",null,null,"",null,null,null,null,null,0,null,{"$f":"IF(C794=\"\",\"\",VLOOKUP(C794,Debiteuren!$A$2:$J$9998,10,0))&\"\"","v":""},{"$f":"IF(C794=\"\",\"\",VLOOKUP(C794,Debiteuren!$A$2:$O$9998,15,0)&\"\"&VLOOKUP(C794,Debiteuren!$A$2:$N$9998,14,0))","v":""},null,"","",0,""]
[null,null,null,null,null,null,null,null,null,null,"",null,null,"",null,null,null,null,null,0,null,{"$f":"IF(C795=\"\",\"\",VLOOKUP(C795,Debiteuren!$A$2:$J$9998,10,0))&\"\"","v":""},{"$f":"IF(C795=\"\",\"\",VLOOKUP(C795,Debiteuren!$A$2:$O$9998,15,0)&\"\"&VLOOKUP(C795,Debiteuren!$A$2:$N$9998,14,0))","v":""},null,"","",0,""]
[null,null,null,null,null,null,null,null,null,null,"",null,null,"",null,null,null,null,null,0,null,{"$f":"IF(C796=\"\",\"\",VLOOKUP(C796,Debiteuren!$A$2:$J$9998,10,0))&\"\"","v":""},{"$f":"IF(C796=\"\",\"\",VLOOKUP(C796,Debiteuren!$A$2:$O$9998,15,0)&\"\"&VLOOKUP(C796,Debiteuren!$A$2:$N$9998,14,0))","v":""},null,"","",0,""]
[null,null,null,null,null,null,null,null,null,null,"",null,null,"",null,null,null,null,null,0,null,{"$f":"IF(C797=\"\",\"\",VLOOKUP(C797,Debiteuren!$A$2:$J$9998,10,0))&\"\"","v":""},{"$f":"IF(C797=\"\",\"\",VLOOKUP(C797,Debiteuren!$A$2:$O$9998,15,0)&\"\"&VLOOKUP(C797,Debiteuren!$A$2:$N$9998,14,0))","v":""},null,"","",0,""]
[null,null,null,null,null,null,null,null,null,null,"",null,null,"",null,null,null,null,null,0,null,{"$f":"IF(C798=\"\",\"\",VLOOKUP(C798,Debiteuren!$A$2:$J$9998,10,0))&\"\"","v":""},{"$f":"IF(C798=\"\",\"\",VLOOKUP(C798,Debiteuren!$A$2:$O$9998,15,0)&\"\"&VLOOKUP(C798,Debiteuren!$A$2:$N$9998,14,0))","v":""},null,"","",0,""]
[null,null,null,null,null,null,null,null,null,null,"",null,null,"",null,null,null,null,null,0,null,{"$f":"IF(C799=\"\",\"\",VLOOKUP(C799,Debiteuren!$A$2:$J$9998,10,0))&\"\"","v":""},{"$f":"IF(C799=\"\",\"\",VLOOKUP(C799,Debiteuren!$A$2:$O$9998,15,0)&\"\"&VLOOKUP(C799,Debiteuren!$A$2:$N$9998,14,0))","v":""},null,"","",0,""]
[null,null,null,null,null,null,null,null,null,null,"",null,null,"",null,null,null,null,null,0,null,{"$f":"IF(C800=\"\",\"\",VLOOKUP(C800,Debiteuren!$A$2:$J$9998,10,0))&\"\"","v":""},{"$f":"IF(C800=\"\",\"\",VLOOKUP(C800,Debiteuren!$A$2:$O$9998,15,0)&\"\"&VLOOKUP(C800,Debiteuren!$A$2:$N$9998,14,0))","v":""},null,"","",0,""]
[null,null,null,null,null,null,null,null,null,null,"",null,null,"",null,null,null,null,null,0,null,{"$f":"IF(C801=\"\",\"\",VLOOKUP(C801,Debiteuren!$A$2:$J$9998,10,0))&\"\"","v":""},{"$f":"IF(C801=\"\",\"\",VLOOKUP(C801,Debiteuren!$A$2:$O$9998,15,0)&\"\"&VLOOKUP(C801,Debiteuren!$A$2:$N$9998,14,0))","v":""},null,"","",0,""]
[null,null,null,null,null,null,null,null,null,null,"",null,null,"",null,null,null,null,null,0,null,{"$f":"IF(C802=\"\",\"\",VLOOKUP(C802,Debiteuren!$A$2:$J$9998,10,0))&\"\"","v":""},{"$f":"IF(C802=\"\",\"\",VLOOKUP(C802,Debiteuren!$A$2:$O$9998,15,0)&\"\"&VLOOKUP(C802,Debiteuren!$A$2:$N$9998,14,0))","v":""},null,"","",0,""]
[null,null,null,null,null,null,null,null,null,null,"",null,null,"",null,null,null,null,null,0,null,{"$f":"IF(C803=\"\",\"\",VLOOKUP(C803,Debiteuren!$A$2:$J$9998,10,0))&\"\"","v":""},{"$f":"IF(C803=\"\",\"\",VLOOKUP(C803,Debiteuren!$A$2:$O$9998,15,0)&\"\"&VLOOKUP(C803,Debiteuren!$A$2:$N$9998,14,0))","v":""},null,"","",0,""]
[null,null,null,null,null,null,null,null,null,null,"",null,null,"",null,null,null,null,null,0,null,{"$f":"IF(C804=\"\",\"\",VLOOKUP(C804,Debiteuren!$A$2:$J$9998,10,0))&\"\"","v":""},{"$f":"IF(C804=\"\",\"\",VLOOKUP(C804,Debiteuren!$A$2:$O$9998,15,0)&\"\"&VLOOKUP(C804,Debiteuren!$A$2:$N$9998,14,0))","v":""},null,"","",0,""]
[null,null,null,null,null,null,null,null,null,null,"",null,null,"",null,null,null,null,null,0,null,{"$f":"IF(C805=\"\",\"\",VLOOKUP(C805,Debiteuren!$A$2:$J$9998,10,0))&\"\"","v":""},{"$f":"IF(C805=\"\",\"\",VLOOKUP(C805,Debiteuren!$A$2:$O$9998,15,0)&\"\"&VLOOKUP(C805,Debiteuren!$A$2:$N$9998,14,0))","v":""},null,"","",0,""]
[null,null,null,null,null,null,null,null,null,null,"",null,null,"",null,null,null,null,null,0,null,{"$f":"IF(C806=\"\",\"\",VLOOKUP(C806,Debiteuren!$A$2:$J$9998,10,0))&\"\"","v":""},{"$f":"IF(C806=\"\",\"\",VLOOKUP(C806,Debiteuren!$A$2:$O$9998,15,0)&\"\"&VLOOKUP(C806,Debiteuren!$A$2:$N$9998,14,0))","v":""},null,"","",0,""]
[null,null,null,null,null,null,null,null,null,null,"",null,null,"",null,null,null,null,null,0,null,{"$f":"IF(C807=\"\",\"\",VLOOKUP(C807,Debiteuren!$A$2:$J$9998,10,0))&\"\"","v":""},{"$f":"IF(C807=\"\",\"\",VLOOKUP(C807,Debiteuren!$A$2:$O$9998,15,0)&\"\"&VLOOKUP(C807,Debiteuren!$A$2:$N$9998,14,0))","v":""},null,"","",0,""]
[null,null,null,null,null,null,null,null,null,null,"",null,null,"",null,null,null,null,null,0,null,{"$f":"IF(C808=\"\",\"\",VLOOKUP(C808,Debiteuren!$A$2:$J$9998,10,0))&\"\"","v":""},{"$f":"IF(C808=\"\",\"\",VLOOKUP(C808,Debiteuren!$A$2:$O$9998,15,0)&\"\"&VLOOKUP(C808,Debiteuren!$A$2:$N$9998,14,0))","v":""},null,"","",0,""]
[null,null,null,null,null,null,null,null,null,null,"",null,null,"",null,null,null,null,null,0,null,{"$f":"IF(C809=\"\",\"\",VLOOKUP(C809,Debiteuren!$A$2:$J$9998,10,0))&\"\"","v":""},{"$f":"IF(C809=\"\",\"\",VLOOKUP(C809,Debiteuren!$A$2:$O$9998,15,0)&\"\"&VLOOKUP(C809,Debiteuren!$A$2:$N$9998,14,0))","v":""},null,"","",0,""]
[null,null,null,null,null,null,null,null,null,null,"",null,null,"",null,null,null,null,null,0,null,{"$f":"IF(C810=\"\",\"\",VLOOKUP(C810,Debiteuren!$A$2:$J$9998,10,0))&\"\"","v":""},{"$f":"IF(C810=\"\",\"\",VLOOKUP(C810,Debiteuren!$A$2:$O$9998,15,0)&\"\"&VLOOKUP(C810,Debiteuren!$A$2:$N$9998,14,0))","v":""},null,"","",0,""]
[null,null,null,null,null,null,null,null,null,null,"",null,null,"",null,null,null,null,null,0,null,{"$f":"IF(C811=\"\",\"\",VLOOKUP(C811,Debiteuren!$A$2:$J$9998,10,0))&\"\"","v":""},{"$f":"IF(C811=\"\",\"\",VLOOKUP(C811,Debiteuren!$A$2:$O$9998,15,0)&\"\"&VLOOKUP(C811,Debiteuren!$A$2:$N$9998,14,0))","v":""},null,"","",0,""]
[null,null,null,null,null,null,null,null,null,null,"",null,null,"",null,null,null,null,null,0,null,{"$f":"IF(C812=\"\",\"\",VLOOKUP(C812,Debiteuren!$A$2:$J$9998,10,0))&\"\"","v":""},{"$f":"IF(C812=\"\",\"\",VLOOKUP(C812,Debiteuren!$A$2:$O$9998,15,0)&\"\"&VLOOKUP(C812,Debiteuren!$A$2:$N$9998,14,0))","v":""},null,"","",0,""]
[null,null,null,null,null,null,null,null,null,null,"",null,null,"",null,null,null,null,null,0,null,{"$f":"IF(C813=\"\",\"\",VLOOKUP(C813,Debiteuren!$A$2:$J$9998,10,0))&\"\"","v":""},{"$f":"IF(C813=\"\",\"\",VLOOKUP(C813,Debiteuren!$A$2:$O$9998,15,0)&\"\"&VLOOKUP(C813,Debiteuren!$A$2:$N$9998,14,0))","v":""},null,"","",0,""]
[null,null,null,null,null,null,null,null,null,null,"",null,null,"",null,null,null,null,null,0,null,{"$f":"IF(C814=\"\",\"\",VLOOKUP(C814,Debiteuren!$A$2:$J$9998,10,0))&\"\"","v":""},{"$f":"IF(C814=\"\",\"\",VLOOKUP(C814,Debiteuren!$A$2:$O$9998,15,0)&\"\"&VLOOKUP(C814,Debiteuren!$A$2:$N$9998,14,0))","v":""},null,{"$f":"IF(D814=\"\",\"\",DATEDIF(D814,TODAY(),\"d\"))","v":""},{"$f":"IF(G814=\"\",\"\",DATEDIF(D814,G814,\"d\"))","v":""},{"$f":"DATEDIF(D814,H814,\"d\")","v":0},{"$f":"IF(Y814=\"\",\"\",Y814-AA814)","v":""}]
[null,null,null,null,null,null,null,null,null,null,"",null,null,"",null,null,null,null,null,{"$f":"IF(B815=1,E815,0)","v":0},null,{"$f":"IF(C815=\"\",\"\",VLOOKUP(C815,Debiteuren!$A$2:$J$9998,10,0))&\"\"","v":""},{"$f":"IF(C815=\"\",\"\",VLOOKUP(C815,Debiteuren!$A$2:$O$9998,15,0)&\"\"&VLOOKUP(C815,Debiteuren!$A$2:$N$9998,14,0))","v":""},null,"","",0,""]
[null,null,null,null,null,null,null,null,null,null,"",null,null,"",null,null,null,null,null,0,null,{"$f":"IF(C816=\"\",\"\",VLOOKUP(C816,Debiteuren!$A$2:$J$9998,10,0))&\"\"","v":""},{"$f":"IF(C816=\"\",\"\",VLOOKUP(C816,Debiteuren!$A$2:$O$9998,15,0)&\"\"&VLOOKUP(C816,Debiteuren!$A$2:$N$9998,14,0))","v":""},null,"","",0,""]
[null,null,null,null,null,null,null,null,null,null,"",null,null,"",null,null,null,null,null,0,null,{"$f":"IF(C817=\"\",\"\",VLOOKUP(C817,Debiteuren!$A$2:$J$9998,10,0))&\"\"","v":""},{"$f":"IF(C817=\"\",\"\",VLOOKUP(C817,Debiteuren!$A$2:$O$9998,15,0)&\"\"&VLOOKUP(C817,Debiteuren!$A$2:$N$9998,14,0))","v":""},null,"","",0,""]
[null,null,null,null,null,null,null,null,null,null,"",null,null,"",null,null,null,null,null,0,null,{"$f":"IF(C818=\"\",\"\",VLOOKUP(C818,Debiteuren!$A$2:$J$9998,10,0))&\"\"","v":""},{"$f":"IF(C818=\"\",\"\",VLOOKUP(C818,Debiteuren!$A$2:$O$9998,15,0)&\"\"&VLOOKUP(C818,Debiteuren!$A$2:$N$9998,14,0))","v":""},null,"","",0,""]
[null,null,null,null,null,null,null,null,null,null,"",null,null,"",null,null,null,null,null,0,null,{"$f":"IF(C819=\"\",\"\",VLOOKUP(C819,Debiteuren!$A$2:$J$9998,10,0))&\"\"","v":""},{"$f":"IF(C819=\"\",\"\",VLOOKUP(C819,Debiteuren!$A$2:$O$9998,15,0)&\"\"&VLOOKUP(C819,Debiteuren!$A$2:$N$9998,14,0))","v":""},null,"","",0,""]
[null,null,null,null,null,null,null,null,null,null,"",null,null,"",null,null,null,null,null,0,null,{"$f":"IF(C820=\"\",\"\",VLOOKUP(C820,Debiteuren!$A$2:$J$9998,10,0))&\"\"","v":""},{"$f":"IF(C820=\"\",\"\",VLOOKUP(C820,Debiteuren!$A$2:$O$9998,15,0)&\"\"&VLOOKUP(C820,Debiteuren!$A$2:$N$9998,14,0))","v":""},null,"","",0,""]
[null,null,null,null,null,null,null,null,null,null,"",null,null,"",null,null,null,null,null,0,null,{"$f":"IF(C821=\"\",\"\",VLOOKUP(C821,Debiteuren!$A$2:$J$9998,10,0))&\"\"","v":""},{"$f":"IF(C821=\"\",\"\",VLOOKUP(C821,Debiteuren!$A$2:$O$9998,15,0)&\"\"&VLOOKUP(C821,Debiteuren!$A$2:$N$9998,14,0))","v":""},null,"","",0,""]
[null,null,null,null,null,null,null,null,null,null,"",null,null,"",null,null,null,null,null,0,null,{"$f":"IF(C822=\"\",\"\",VLOOKUP(C822,Debiteuren!$A$2:$J$9998,10,0))&\"\"","v":""},{"$f":"IF(C822=\"\",\"\",VLOOKUP(C822,Debiteuren!$A$2:$O$9998,15,0)&\"\"&VLOOKUP(C822,Debiteuren!$A$2:$N$9998,14,0))","v":""},null,"","",0,""]
[null,null,null,null,null,null,null,null,null,null,"",null,null,"",null,null,null,null,null,0,null,{"$f":"IF(C823=\"\",\"\",VLOOKUP(C823,Debiteuren!$A$2:$J$9998,10,0))&\"\"","v":""},{"$f":"IF(C823=\"\",\"\",VLOOKUP(C823,Debiteuren!$A$2:$O$9998,15,0)&\"\"&VLOOKUP(C823,Debiteuren!$A$2:$N$9998,14,0))","v":""},null,"","",0,""]
[null,null,null,null,null,null,null,null,null,null,"",null,null,"",null,null,null,null,null,0,null,{"$f":"IF(C824=\"\",\"\",VLOOKUP(C824,Debiteuren!$A$2:$J$9998,10,0))&\"\"","v":""},{"$f":"IF(C824=\"\",\"\",VLOOKUP(C824,Debiteuren!$A$2:$O$9998,15,0)&\"\"&VLOOKUP(C824,Debiteuren!$A$2:$N$9998,14,0))","v":""},null,"","",0,""]
[null,null,null,null,null,null,null,null,null,null,{"$f":"IF(D825=\"\",\"\",\"\"&\"Kwartaal \"&MONTH(MONTH(D825)&0)&TEXT(D825,\" - mmm JJJJ\"))","v":""},null,null,{"$f":"IF(E825=\"\",\"\",(E825)-(F825))","v":""},null,null,null,null,null,0,null,{"$f":"IF(C825=\"\",\"\",VLOOKUP(C825,Debiteuren!$A$2:$J$9998,10,0))&\"\"","v":""},{"$f":"IF(C825=\"\",\"\",VLOOKUP(C825,Debiteuren!$A$2:$O$9998,15,0)&\"\"&VLOOKUP(C825,Debiteuren!$A$2:$N$9998,14,0))","v":""},null,"","",0,""]
[null,null,null,null,null,null,null,null,null,null,"",null,null,"",null,null,null,null,null,0,null,{"$f":"IF(C826=\"\",\"\",VLOOKUP(C826,Debiteuren!$A$2:$J$9998,10,0))&\"\"","v":""},{"$f":"IF(C826=\"\",\"\",VLOOKUP(C826,Debiteuren!$A$2:$O$9998,15,0)&\"\"&VLOOKUP(C826,Debiteuren!$A$2:$N$9998,14,0))","v":""},null,"","",0,""]
[null,null,null,null,null,null,null,null,null,null,"",null,null,"",null,null,null,null,null,0,null,{"$f":"IF(C827=\"\",\"\",VLOOKUP(C827,Debiteuren!$A$2:$J$9998,10,0))&\"\"","v":""},{"$f":"IF(C827=\"\",\"\",VLOOKUP(C827,Debiteuren!$A$2:$O$9998,15,0)&\"\"&VLOOKUP(C827,Debiteuren!$A$2:$N$9998,14,0))","v":""},null,"","",0,""]
[null,null,null,null,null,null,null,null,null,null,"",null,null,"",null,null,null,null,null,0,null,{"$f":"IF(C828=\"\",\"\",VLOOKUP(C828,Debiteuren!$A$2:$J$9998,10,0))&\"\"","v":""},{"$f":"IF(C828=\"\",\"\",VLOOKUP(C828,Debiteuren!$A$2:$O$9998,15,0)&\"\"&VLOOKUP(C828,Debiteuren!$A$2:$N$9998,14,0))","v":""},null,"","",0,""]
[null,null,null,null,null,null,null,null,null,null,"",null,null,"",null,null,null,null,null,0,null,{"$f":"IF(C829=\"\",\"\",VLOOKUP(C829,Debiteuren!$A$2:$J$9998,10,0))&\"\"","v":""},{"$f":"IF(C829=\"\",\"\",VLOOKUP(C829,Debiteuren!$A$2:$O$9998,15,0)&\"\"&VLOOKUP(C829,Debiteuren!$A$2:$N$9998,14,0))","v":""},null,"","",0,""]
[null,null,null,null,null,null,null,null,null,null,"",null,null,"",null,null,null,null,null,0,null,{"$f":"IF(C830=\"\",\"\",VLOOKUP(C830,Debiteuren!$A$2:$J$9998,10,0))&\"\"","v":""},{"$f":"IF(C830=\"\",\"\",VLOOKUP(C830,Debiteuren!$A$2:$O$9998,15,0)&\"\"&VLOOKUP(C830,Debiteuren!$A$2:$N$9998,14,0))","v":""},null,"","",0,""]
[null,null,null,null,null,null,null,null,null,null,"",null,null,"",null,null,null,null,null,0,null,{"$f":"IF(C831=\"\",\"\",VLOOKUP(C831,Debiteuren!$A$2:$J$9998,10,0))&\"\"","v":""},{"$f":"IF(C831=\"\",\"\",VLOOKUP(C831,Debiteuren!$A$2:$O$9998,15,0)&\"\"&VLOOKUP(C831,Debiteuren!$A$2:$N$9998,14,0))","v":""},null,"","",0,""]
[null,null,null,null,null,null,null,null,null,null,"",null,null,"",null,null,null,null,null,0,null,{"$f":"IF(C832=\"\",\"\",VLOOKUP(C832,Debiteuren!$A$2:$J$9998,10,0))&\"\"","v":""},{"$f":"IF(C832=\"\",\"\",VLOOKUP(C832,Debiteuren!$A$2:$O$9998,15,0)&\"\"&VLOOKUP(C832,Debiteuren!$A$2:$N$9998,14,0))","v":""},null,"","",0,""]
[null,null,null,null,null,null,null,null,null,null,"",null,null,"",null,null,null,null,null,0,null,{"$f":"IF(C833=\"\",\"\",VLOOKUP(C833,Debiteuren!$A$2:$J$9998,10,0))&\"\"","v":""},{"$f":"IF(C833=\"\",\"\",VLOOKUP(C833,Debiteuren!$A$2:$O$9998,15,0)&\"\"&VLOOKUP(C833,Debiteuren!$A$2:$N$9998,14,0))","v":""},null,"","",0,""]
[null,null,null,null,null,null,null,null,null,null,"",null,null,"",null,null,null,null,null,0,null,{"$f":"IF(C834=\"\",\"\",VLOOKUP(C834,Debiteuren!$A$2:$J$9998,10,0))&\"\"","v":""},{"$f":"IF(C834=\"\",\"\",VLOOKUP(C834,Debiteuren!$A$2:$O$9998,15,0)&\"\"&VLOOKUP(C834,Debiteuren!$A$2:$N$9998,14,0))","v":""},null,"","",0,""]
[null,null,null,null,null,null,null,null,null,null,"",null,null,"",null,null,null,null,null,0,null,{"$f":"IF(C835=\"\",\"\",VLOOKUP(C835,Debiteuren!$A$2:$J$9998,10,0))&\"\"","v":""},{"$f":"IF(C835=\"\",\"\",VLOOKUP(C835,Debiteuren!$A$2:$O$9998,15,0)&\"\"&VLOOKUP(C835,Debiteuren!$A$2:$N$9998,14,0))","v":""},null,"","",0,""]
[null,null,null,null,null,null,null,null,null,null,"",null,null,"",null,null,null,null,null,0,null,{"$f":"IF(C836=\"\",\"\",VLOOKUP(C836,Debiteuren!$A$2:$J$9998,10,0))&\"\"","v":""},{"$f":"IF(C836=\"\",\"\",VLOOKUP(C836,Debiteuren!$A$2:$O$9998,15,0)&\"\"&VLOOKUP(C836,Debiteuren!$A$2:$N$9998,14,0))","v":""},null,"","",0,""]
[null,null,null,null,null,null,null,null,null,null,"",null,null,"",null,null,null,null,null,0,null,{"$f":"IF(C837=\"\",\"\",VLOOKUP(C837,Debiteuren!$A$2:$J$9998,10,0))&\"\"","v":""},{"$f":"IF(C837=\"\",\"\",VLOOKUP(C837,Debiteuren!$A$2:$O$9998,15,0)&\"\"&VLOOKUP(C837,Debiteuren!$A$2:$N$9998,14,0))","v":""},null,"","",0,""]
[null,null,null,null,null,null,null,null,null,null,"",null,null,"",null,null,null,null,null,0,null,{"$f":"IF(C838=\"\",\"\",VLOOKUP(C838,Debiteuren!$A$2:$J$9998,10,0))&\"\"","v":""},{"$f":"IF(C838=\"\",\"\",VLOOKUP(C838,Debiteuren!$A$2:$O$9998,15,0)&\"\"&VLOOKUP(C838,Debiteuren!$A$2:$N$9998,14,0))","v":""},null,"","",0,""]
[null,null,null,null,null,null,null,null,null,null,"",null,null,"",null,null,null,null,null,0,null,{"$f":"IF(C839=\"\",\"\",VLOOKUP(C839,Debiteuren!$A$2:$J$9998,10,0))&\"\"","v":""},{"$f":"IF(C839=\"\",\"\",VLOOKUP(C839,Debiteuren!$A$2:$O$9998,15,0)&\"\"&VLOOKUP(C839,Debiteuren!$A$2:$N$9998,14,0))","v":""},null,"","",0,""]
[null,null,null,null,null,null,null,null,null,null,"",null,null,"",null,null,null,null,null,0,null,{"$f":"IF(C840=\"\",\"\",VLOOKUP(C840,Debiteuren!$A$2:$J$9998,10,0))&\"\"","v":""},{"$f":"IF(C840=\"\",\"\",VLOOKUP(C840,Debiteuren!$A$2:$O$9998,15,0)&\"\"&VLOOKUP(C840,Debiteuren!$A$2:$N$9998,14,0))","v":""},null,"","",0,""]
[null,null,null,null,null,null,null,null,null,null,"",null,null,"",null,null,null,null,null,0,null,{"$f":"IF(C841=\"\",\"\",VLOOKUP(C841,Debiteuren!$A$2:$J$9998,10,0))&\"\"","v":""},{"$f":"IF(C841=\"\",\"\",VLOOKUP(C841,Debiteuren!$A$2:$O$9998,15,0)&\"\"&VLOOKUP(C841,Debiteuren!$A$2:$N$9998,14,0))","v":""},null,"","",0,""]
[null,null,null,null,null,null,null,null,null,null,"",null,null,"",null,null,null,null,null,0,null,{"$f":"IF(C842=\"\",\"\",VLOOKUP(C842,Debiteuren!$A$2:$J$9998,10,0))&\"\"","v":""},{"$f":"IF(C842=\"\",\"\",VLOOKUP(C842,Debiteuren!$A$2:$O$9998,15,0)&\"\"&VLOOKUP(C842,Debiteuren!$A$2:$N$9998,14,0))","v":""},null,"","",0,""]
[null,null,null,null,null,null,null,null,null,null,"",null,null,"",null,null,null,null,null,0,null,{"$f":"IF(C843=\"\",\"\",VLOOKUP(C843,Debiteuren!$A$2:$J$9998,10,0))&\"\"","v":""},{"$f":"IF(C843=\"\",\"\",VLOOKUP(C843,Debiteuren!$A$2:$O$9998,15,0)&\"\"&VLOOKUP(C843,Debiteuren!$A$2:$N$9998,14,0))","v":""},null,"","",0,""]
[null,null,null,null,null,null,null,null,null,null,"",null,null,"",null,null,null,null,null,0,null,{"$f":"IF(C844=\"\",\"\",VLOOKUP(C844,Debiteuren!$A$2:$J$9998,10,0))&\"\"","v":""},{"$f":"IF(C844=\"\",\"\",VLOOKUP(C844,Debiteuren!$A$2:$O$9998,15,0)&\"\"&VLOOKUP(C844,Debiteuren!$A$2:$N$9998,14,0))","v":""},null,"","",0,""]
[null,null,null,null,null,null,null,null,null,null,"",null,null,"",null,null,null,null,null,0,null,{"$f":"IF(C845=\"\",\"\",VLOOKUP(C845,Debiteuren!$A$2:$J$9998,10,0))&\"\"","v":""},{"$f":"IF(C845=\"\",\"\",VLOOKUP(C845,Debiteuren!$A$2:$O$9998,15,0)&\"\"&VLOOKUP(C845,Debiteuren!$A$2:$N$9998,14,0))","v":""},null,"","",0,""]
[null,null,null,null,null,null,null,null,null,null,"",null,null,"",null,null,null,null,null,0,null,{"$f":"IF(C846=\"\",\"\",VLOOKUP(C846,Debiteuren!$A$2:$J$9998,10,0))&\"\"","v":""},{"$f":"IF(C846=\"\",\"\",VLOOKUP(C846,Debiteuren!$A$2:$O$9998,15,0)&\"\"&VLOOKUP(C846,Debiteuren!$A$2:$N$9998,14,0))","v":""},null,"","",0,""]
[null,null,null,null,null,null,null,null,null,null,"",null,null,"",null,null,null,null,null,0,null,{"$f":"IF(C847=\"\",\"\",VLOOKUP(C847,Debiteuren!$A$2:$J$9998,10,0))&\"\"","v":""},{"$f":"IF(C847=\"\",\"\",VLOOKUP(C847,Debiteuren!$A$2:$O$9998,15,0)&\"\"&VLOOKUP(C847,Debiteuren!$A$2:$N$9998,14,0))","v":""},null,"","",0,""]
[null,null,null,null,null,null,null,null,null,null,"",null,null,"",null,null,null,null,null,0,null,{"$f":"IF(C848=\"\",\"\",VLOOKUP(C848,Debiteuren!$A$2:$J$9998,10,0))&\"\"","v":""},{"$f":"IF(C848=\"\",\"\",VLOOKUP(C848,Debiteuren!$A$2:$O$9998,15,0)&\"\"&VLOOKUP(C848,Debiteuren!$A$2:$N$9998,14,0))","v":""},null,"","",0,""]
[null,null,null,null,null,null,null,null,null,null,"",null,null,"",null,null,null,null,null,0,null,{"$f":"IF(C849=\"\",\"\",VLOOKUP(C849,Debiteuren!$A$2:$J$9998,10,0))&\"\"","v":""},{"$f":"IF(C849=\"\",\"\",VLOOKUP(C849,Debiteuren!$A$2:$O$9998,15,0)&\"\"&VLOOKUP(C849,Debiteuren!$A$2:$N$9998,14,0))","v":""},null,"","",0,""]
[null,null,null,null,null,null,null,null,null,null,"",null,null,"",null,null,null,null,null,0,null,{"$f":"IF(C850=\"\",\"\",VLOOKUP(C850,Debiteuren!$A$2:$J$9998,10,0))&\"\"","v":""},{"$f":"IF(C850=\"\",\"\",VLOOKUP(C850,Debiteuren!$A$2:$O$9998,15,0)&\"\"&VLOOKUP(C850,Debiteuren!$A$2:$N$9998,14,0))","v":""},null,"","",0,""]
[null,null,null,null,null,null,null,null,null,null,"",null,null,"",null,null,null,null,null,0,null,{"$f":"IF(C851=\"\",\"\",VLOOKUP(C851,Debiteuren!$A$2:$J$9998,10,0))&\"\"","v":""},{"$f":"IF(C851=\"\",\"\",VLOOKUP(C851,Debiteuren!$A$2:$O$9998,15,0)&\"\"&VLOOKUP(C851,Debiteuren!$A$2:$N$9998,14,0))","v":""},null,"","",0,""]
[null,null,null,null,null,null,null,null,null,null,"",null,null,"",null,null,null,null,null,0,null,{"$f":"IF(C852=\"\",\"\",VLOOKUP(C852,Debiteuren!$A$2:$J$9998,10,0))&\"\"","v":""},{"$f":"IF(C852=\"\",\"\",VLOOKUP(C852,Debiteuren!$A$2:$O$9998,15,0)&\"\"&VLOOKUP(C852,Debiteuren!$A$2:$N$9998,14,0))","v":""},null,"","",0,""]
[null,null,null,null,null,null,null,null,null,null,"",null,null,"",null,null,null,null,null,0,null,{"$f":"IF(C853=\"\",\"\",VLOOKUP(C853,Debiteuren!$A$2:$J$9998,10,0))&\"\"","v":""},{"$f":"IF(C853=\"\",\"\",VLOOKUP(C853,Debiteuren!$A$2:$O$9998,15,0)&\"\"&VLOOKUP(C853,Debiteuren!$A$2:$N$9998,14,0))","v":""},null,"","",0,""]
[null,null,null,null,null,null,null,null,null,null,"",null,null,"",null,null,null,null,null,0,null,{"$f":"IF(C854=\"\",\"\",VLOOKUP(C854,Debiteuren!$A$2:$J$9998,10,0))&\"\"","v":""},{"$f":"IF(C854=\"\",\"\",VLOOKUP(C854,Debiteuren!$A$2:$O$9998,15,0)&\"\"&VLOOKUP(C854,Debiteuren!$A$2:$N$9998,14,0))","v":""},null,"","",0,""]
[null,null,null,null,null,null,null,null,null,null,"",null,null,"",null,null,null,null,null,0,null,{"$f":"IF(C855=\"\",\"\",VLOOKUP(C855,Debiteuren!$A$2:$J$9998,10,0))&\"\"","v":""},{"$f":"IF(C855=\"\",\"\",VLOOKUP(C855,Debiteuren!$A$2:$O$9998,15,0)&\"\"&VLOOKUP(C855,Debiteuren!$A$2:$N$9998,14,0))","v":""},null,"","",0,""]
[null,null,null,null,null,null,null,null,null,null,"",null,null,"",null,null,null,null,null,0,null,{"$f":"IF(C856=\"\",\"\",VLOOKUP(C856,Debiteuren!$A$2:$J$9998,10,0))&\"\"","v":""},{"$f":"IF(C856=\"\",\"\",VLOOKUP(C856,Debiteuren!$A$2:$O$9998,15,0)&\"\"&VLOOKUP(C856,Debiteuren!$A$2:$N$9998,14,0))","v":""},null,"","",0,""]
[null,null,null,null,null,null,null,null,null,null,"",null,null,"",null,null,null,null,null,0,null,{"$f":"IF(C857=\"\",\"\",VLOOKUP(C857,Debiteuren!$A$2:$J$9998,10,0))&\"\"","v":""},{"$f":"IF(C857=\"\",\"\",VLOOKUP(C857,Debiteuren!$A$2:$O$9998,15,0)&\"\"&VLOOKUP(C857,Debiteuren!$A$2:$N$9998,14,0))","v":""},null,"","",0,""]
[null,null,null,null,null,null,null,null,null,null,"",null,null,"",null,null,null,null,null,0,null,{"$f":"IF(C858=\"\",\"\",VLOOKUP(C858,Debiteuren!$A$2:$J$9998,10,0))&\"\"","v":""},{"$f":"IF(C858=\"\",\"\",VLOOKUP(C858,Debiteuren!$A$2:$O$9998,15,0)&\"\"&VLOOKUP(C858,Debiteuren!$A$2:$N$9998,14,0))","v":""},null,"","",0,""]
[null,null,null,null,null,null,null,null,null,null,"",null,null,"",null,null,null,null,null,0,null,{"$f":"IF(C859=\"\",\"\",VLOOKUP(C859,Debiteuren!$A$2:$J$9998,10,0))&\"\"","v":""},{"$f":"IF(C859=\"\",\"\",VLOOKUP(C859,Debiteuren!$A$2:$O$9998,15,0)&\"\"&VLOOKUP(C859,Debiteuren!$A$2:$N$9998,14,0))","v":""},null,"","",0,""]
[null,null,null,null,null,null,null,null,null,null,"",null,null,"",null,null,null,null,null,0,null,{"$f":"IF(C860=\"\",\"\",VLOOKUP(C860,Debiteuren!$A$2:$J$9998,10,0))&\"\"","v":""},{"$f":"IF(C860=\"\",\"\",VLOOKUP(C860,Debiteuren!$A$2:$O$9998,15,0)&\"\"&VLOOKUP(C860,Debiteuren!$A$2:$N$9998,14,0))","v":""},null,"","",0,""]
[null,null,null,null,null,null,null,null,null,null,"",null,null,"",null,null,null,null,null,0,null,{"$f":"IF(C861=\"\",\"\",VLOOKUP(C861,Debiteuren!$A$2:$J$9998,10,0))&\"\"","v":""},{"$f":"IF(C861=\"\",\"\",VLOOKUP(C861,Debiteuren!$A$2:$O$9998,15,0)&\"\"&VLOOKUP(C861,Debiteuren!$A$2:$N$9998,14,0))","v":""},null,"","",0,""]
[null,null,null,null,null,null,null,null,null,null,"",null,null,"",null,null,null,null,null,0,null,{"$f":"IF(C862=\"\",\"\",VLOOKUP(C862,Debiteuren!$A$2:$J$9998,10,0))&\"\"","v":""},{"$f":"IF(C862=\"\",\"\",VLOOKUP(C862,Debiteuren!$A$2:$O$9998,15,0)&\"\"&VLOOKUP(C862,Debiteuren!$A$2:$N$9998,14,0))","v":""},null,"","",0,""]
[null,null,null,null,null,null,null,null,null,null,"",null,null,"",null,null,null,null,null,0,null,{"$f":"IF(C863=\"\",\"\",VLOOKUP(C863,Debiteuren!$A$2:$J$9998,10,0))&\"\"","v":""},{"$f":"IF(C863=\"\",\"\",VLOOKUP(C863,Debiteuren!$A$2:$O$9998,15,0)&\"\"&VLOOKUP(C863,Debiteuren!$A$2:$N$9998,14,0))","v":""},null,"","",0,""]
[null,null,null,null,null,null,null,null,null,null,"",null,null,"",null,null,null,null,null,0,null,{"$f":"IF(C864=\"\",\"\",VLOOKUP(C864,Debiteuren!$A$2:$J$9998,10,0))&\"\"","v":""},{"$f":"IF(C864=\"\",\"\",VLOOKUP(C864,Debiteuren!$A$2:$O$9998,15,0)&\"\"&VLOOKUP(C864,Debiteuren!$A$2:$N$9998,14,0))","v":""},null,"","",0,""]
[null,null,null,null,null,null,null,null,null,null,"",null,null,"",null,null,null,null,null,0,null,{"$f":"IF(C865=\"\",\"\",VLOOKUP(C865,Debiteuren!$A$2:$J$9998,10,0))&\"\"","v":""},{"$f":"IF(C865=\"\",\"\",VLOOKUP(C865,Debiteuren!$A$2:$O$9998,15,0)&\"\"&VLOOKUP(C865,Debiteuren!$A$2:$N$9998,14,0))","v":""},null,"","",0,""]
[null,null,null,null,null,null,null,null,null,null,"",null,null,"",null,null,null,null,null,0,null,{"$f":"IF(C866=\"\",\"\",VLOOKUP(C866,Debiteuren!$A$2:$J$9998,10,0))&\"\"","v":""},{"$f":"IF(C866=\"\",\"\",VLOOKUP(C866,Debiteuren!$A$2:$O$9998,15,0)&\"\"&VLOOKUP(C866,Debiteuren!$A$2:$N$9998,14,0))","v":""},null,"","",0,""]
[null,null,null,null,null,null,null,null,null,null,"",null,null,"",null,null,null,null,null,0,null,{"$f":"IF(C867=\"\",\"\",VLOOKUP(C867,Debiteuren!$A$2:$J$9998,10,0))&\"\"","v":""},{"$f":"IF(C867=\"\",\"\",VLOOKUP(C867,Debiteuren!$A$2:$O$9998,15,0)&\"\"&VLOOKUP(C867,Debiteuren!$A$2:$N$9998,14,0))","v":""},null,"","",0,""]
[null,null,null,null,null,null,null,null,null,null,"",null,null,"",null,null,null,null,null,0,null,{"$f":"IF(C868=\"\",\"\",VLOOKUP(C868,Debiteuren!$A$2:$J$9998,10,0))&\"\"","v":""},{"$f":"IF(C868=\"\",\"\",VLOOKUP(C868,Debiteuren!$A$2:$O$9998,15,0)&\"\"&VLOOKUP(C868,Debiteuren!$A$2:$N$9998,14,0))","v":""},null,"","",0,""]
[null,null,null,null,null,null,null,null,null,null,"",null,null,"",null,null,null,null,null,0,null,{"$f":"IF(C869=\"\",\"\",VLOOKUP(C869,Debiteuren!$A$2:$J$9998,10,0))&\"\"","v":""},{"$f":"IF(C869=\"\",\"\",VLOOKUP(C869,Debiteuren!$A$2:$O$9998,15,0)&\"\"&VLOOKUP(C869,Debiteuren!$A$2:$N$9998,14,0))","v":""},null,"","",0,""]
[null,null,null,null,null,null,null,null,null,null,"",null,null,"",null,null,null,null,null,0,null,{"$f":"IF(C870=\"\",\"\",VLOOKUP(C870,Debiteuren!$A$2:$J$9998,10,0))&\"\"","v":""},{"$f":"IF(C870=\"\",\"\",VLOOKUP(C870,Debiteuren!$A$2:$O$9998,15,0)&\"\"&VLOOKUP(C870,Debiteuren!$A$2:$N$9998,14,0))","v":""},null,"","",0,""]
[null,null,null,null,null,null,null,null,null,null,"",null,null,"",null,null,null,null,null,0,null,{"$f":"IF(C871=\"\",\"\",VLOOKUP(C871,Debiteuren!$A$2:$J$9998,10,0))&\"\"","v":""},{"$f":"IF(C871=\"\",\"\",VLOOKUP(C871,Debiteuren!$A$2:$O$9998,15,0)&\"\"&VLOOKUP(C871,Debiteuren!$A$2:$N$9998,14,0))","v":""},null,"","",0,""]
[null,null,null,null,null,null,null,null,null,null,"",null,null,"",null,null,null,null,null,0,null,{"$f":"IF(C872=\"\",\"\",VLOOKUP(C872,Debiteuren!$A$2:$J$9998,10,0))&\"\"","v":""},{"$f":"IF(C872=\"\",\"\",VLOOKUP(C872,Debiteuren!$A$2:$O$9998,15,0)&\"\"&VLOOKUP(C872,Debiteuren!$A$2:$N$9998,14,0))","v":""},null,"","",0,""]
[null,null,null,null,null,null,null,null,null,null,"",null,null,"",null,null,null,null,null,0,null,{"$f":"IF(C873=\"\",\"\",VLOOKUP(C873,Debiteuren!$A$2:$J$9998,10,0))&\"\"","v":""},{"$f":"IF(C873=\"\",\"\",VLOOKUP(C873,Debiteuren!$A$2:$O$9998,15,0)&\"\"&VLOOKUP(C873,Debiteuren!$A$2:$N$9998,14,0))","v":""},null,"","",0,""]
[null,null,null,null,null,null,null,null,null,null,"",null,null,"",null,null,null,null,null,0,null,{"$f":"IF(C874=\"\",\"\",VLOOKUP(C874,Debiteuren!$A$2:$J$9998,10,0))&\"\"","v":""},{"$f":"IF(C874=\"\",\"\",VLOOKUP(C874,Debiteuren!$A$2:$O$9998,15,0)&\"\"&VLOOKUP(C874,Debiteuren!$A$2:$N$9998,14,0))","v":""},null,"","",0,""]
[null,null,null,null,null,null,null,null,null,null,"",null,null,"",null,null,null,null,null,0,null,{"$f":"IF(C875=\"\",\"\",VLOOKUP(C875,Debiteuren!$A$2:$J$9998,10,0))&\"\"","v":""},{"$f":"IF(C875=\"\",\"\",VLOOKUP(C875,Debiteuren!$A$2:$O$9998,15,0)&\"\"&VLOOKUP(C875,Debiteuren!$A$2:$N$9998,14,0))","v":""},null,"","",0,""]
[null,null,null,null,null,null,null,null,null,null,"",null,null,"",null,null,null,null,null,0,null,{"$f":"IF(C876=\"\",\"\",VLOOKUP(C876,Debiteuren!$A$2:$J$9998,10,0))&\"\"","v":""},{"$f":"IF(C876=\"\",\"\",VLOOKUP(C876,Debiteuren!$A$2:$O$9998,15,0)&\"\"&VLOOKUP(C876,Debiteuren!$A$2:$N$9998,14,0))","v":""},null,"","",0,""]
[null,null,null,null,null,null,null,null,null,null,"",null,null,"",null,null,null,null,null,0,null,{"$f":"IF(C877=\"\",\"\",VLOOKUP(C877,Debiteuren!$A$2:$J$9998,10,0))&\"\"","v":""},{"$f":"IF(C877=\"\",\"\",VLOOKUP(C877,Debiteuren!$A$2:$O$9998,15,0)&\"\"&VLOOKUP(C877,Debiteuren!$A$2:$N$9998,14,0))","v":""},null,"","",0,""]
[null,null,null,null,null,null,null,null,null,null,"",null,null,"",null,null,null,null,null,0,null,{"$f":"IF(C878=\"\",\"\",VLOOKUP(C878,Debiteuren!$A$2:$J$9998,10,0))&\"\"","v":""},{"$f":"IF(C878=\"\",\"\",VLOOKUP(C878,Debiteuren!$A$2:$O$9998,15,0)&\"\"&VLOOKUP(C878,Debiteuren!$A$2:$N$9998,14,0))","v":""},null,{"$f":"IF(D878=\"\",\"\",DATEDIF(D878,TODAY(),\"d\"))","v":""},{"$f":"IF(G878=\"\",\"\",DATEDIF(D878,G878,\"d\"))","v":""},{"$f":"DATEDIF(D878,H878,\"d\")","v":0},{"$f":"IF(Y878=\"\",\"\",Y878-AA878)","v":""}]
[null,null,null,null,null,null,null,null,null,null,"",null,null,"",null,null,null,null,null,{"$f":"IF(B879=1,E879,0)","v":0},null,{"$f":"IF(C879=\"\",\"\",VLOOKUP(C879,Debiteuren!$A$2:$J$9998,10,0))&\"\"","v":""},{"$f":"IF(C879=\"\",\"\",VLOOKUP(C879,Debiteuren!$A$2:$O$9998,15,0)&\"\"&VLOOKUP(C879,Debiteuren!$A$2:$N$9998,14,0))","v":""},null,"","",0,""]
[null,null,null,null,null,null,null,null,null,null,"",null,null,"",null,null,null,null,null,0,null,{"$f":"IF(C880=\"\",\"\",VLOOKUP(C880,Debiteuren!$A$2:$J$9998,10,0))&\"\"","v":""},{"$f":"IF(C880=\"\",\"\",VLOOKUP(C880,Debiteuren!$A$2:$O$9998,15,0)&\"\"&VLOOKUP(C880,Debiteuren!$A$2:$N$9998,14,0))","v":""},null,"","",0,""]
[null,null,null,null,null,null,null,null,null,null,"",null,null,"",null,null,null,null,null,0,null,{"$f":"IF(C881=\"\",\"\",VLOOKUP(C881,Debiteuren!$A$2:$J$9998,10,0))&\"\"","v":""},{"$f":"IF(C881=\"\",\"\",VLOOKUP(C881,Debiteuren!$A$2:$O$9998,15,0)&\"\"&VLOOKUP(C881,Debiteuren!$A$2:$N$9998,14,0))","v":""},null,"","",0,""]
[null,null,null,null,null,null,null,null,null,null,"",null,null,"",null,null,null,null,null,0,null,{"$f":"IF(C882=\"\",\"\",VLOOKUP(C882,Debiteuren!$A$2:$J$9998,10,0))&\"\"","v":""},{"$f":"IF(C882=\"\",\"\",VLOOKUP(C882,Debiteuren!$A$2:$O$9998,15,0)&\"\"&VLOOKUP(C882,Debiteuren!$A$2:$N$9998,14,0))","v":""},null,"","",0,""]
[null,null,null,null,null,null,null,null,null,null,"",null,null,"",null,null,null,null,null,0,null,{"$f":"IF(C883=\"\",\"\",VLOOKUP(C883,Debiteuren!$A$2:$J$9998,10,0))&\"\"","v":""},{"$f":"IF(C883=\"\",\"\",VLOOKUP(C883,Debiteuren!$A$2:$O$9998,15,0)&\"\"&VLOOKUP(C883,Debiteuren!$A$2:$N$9998,14,0))","v":""},null,"","",0,""]
[null,null,null,null,null,null,null,null,null,null,"",null,null,"",null,null,null,null,null,0,null,{"$f":"IF(C884=\"\",\"\",VLOOKUP(C884,Debiteuren!$A$2:$J$9998,10,0))&\"\"","v":""},{"$f":"IF(C884=\"\",\"\",VLOOKUP(C884,Debiteuren!$A$2:$O$9998,15,0)&\"\"&VLOOKUP(C884,Debiteuren!$A$2:$N$9998,14,0))","v":""},null,"","",0,""]
[null,null,null,null,null,null,null,null,null,null,"",null,null,"",null,null,null,null,null,0,null,{"$f":"IF(C885=\"\",\"\",VLOOKUP(C885,Debiteuren!$A$2:$J$9998,10,0))&\"\"","v":""},{"$f":"IF(C885=\"\",\"\",VLOOKUP(C885,Debiteuren!$A$2:$O$9998,15,0)&\"\"&VLOOKUP(C885,Debiteuren!$A$2:$N$9998,14,0))","v":""},null,"","",0,""]
[null,null,null,null,null,null,null,null,null,null,"",null,null,"",null,null,null,null,null,0,null,{"$f":"IF(C886=\"\",\"\",VLOOKUP(C886,Debiteuren!$A$2:$J$9998,10,0))&\"\"","v":""},{"$f":"IF(C886=\"\",\"\",VLOOKUP(C886,Debiteuren!$A$2:$O$9998,15,0)&\"\"&VLOOKUP(C886,Debiteuren!$A$2:$N$9998,14,0))","v":""},null,"","",0,""]
[null,null,null,null,null,null,null,null,null,null,"",null,null,"",null,null,null,null,null,0,null,{"$f":"IF(C887=\"\",\"\",VLOOKUP(C887,Debiteuren!$A$2:$J$9998,10,0))&\"\"","v":""},{"$f":"IF(C887=\"\",\"\",VLOOKUP(C887,Debiteuren!$A$2:$O$9998,15,0)&\"\"&VLOOKUP(C887,Debiteuren!$A$2:$N$9998,14,0))","v":""},null,"","",0,""]
[null,null,null,null,null,null,null,null,null,null,"",null,null,"",null,null,null,null,null,0,null,{"$f":"IF(C888=\"\",\"\",VLOOKUP(C888,Debiteuren!$A$2:$J$9998,10,0))&\"\"","v":""},{"$f":"IF(C888=\"\",\"\",VLOOKUP(C888,Debiteuren!$A$2:$O$9998,15,0)&\"\"&VLOOKUP(C888,Debiteuren!$A$2:$N$9998,14,0))","v":""},null,"","",0,""]
[null,null,null,null,null,null,null,null,null,null,{"$f":"IF(D889=\"\",\"\",\"\"&\"Kwartaal \"&MONTH(MONTH(D889)&0)&TEXT(D889,\" - mmm JJJJ\"))","v":""},null,null,{"$f":"IF(E889=\"\",\"\",(E889)-(F889))","v":""},null,null,null,null,null,0,null,{"$f":"IF(C889=\"\",\"\",VLOOKUP(C889,Debiteuren!$A$2:$J$9998,10,0))&\"\"","v":""},{"$f":"IF(C889=\"\",\"\",VLOOKUP(C889,Debiteuren!$A$2:$O$9998,15,0)&\"\"&VLOOKUP(C889,Debiteuren!$A$2:$N$9998,14,0))","v":""},null,"","",0,""]
[null,null,null,null,null,null,null,null,null,null,"",null,null,"",null,null,null,null,null,0,null,{"$f":"IF(C890=\"\",\"\",VLOOKUP(C890,Debiteuren!$A$2:$J$9998,10,0))&\"\"","v":""},{"$f":"IF(C890=\"\",\"\",VLOOKUP(C890,Debiteuren!$A$2:$O$9998,15,0)&\"\"&VLOOKUP(C890,Debiteuren!$A$2:$N$9998,14,0))","v":""},null,"","",0,""]
[null,null,null,null,null,null,null,null,null,null,"",null,null,"",null,null,null,null,null,0,null,{"$f":"IF(C891=\"\",\"\",VLOOKUP(C891,Debiteuren!$A$2:$J$9998,10,0))&\"\"","v":""},{"$f":"IF(C891=\"\",\"\",VLOOKUP(C891,Debiteuren!$A$2:$O$9998,15,0)&\"\"&VLOOKUP(C891,Debiteuren!$A$2:$N$9998,14,0))","v":""},null,"","",0,""]
[null,null,null,null,null,null,null,null,null,null,"",null,null,"",null,null,null,null,null,0,null,{"$f":"IF(C892=\"\",\"\",VLOOKUP(C892,Debiteuren!$A$2:$J$9998,10,0))&\"\"","v":""},{"$f":"IF(C892=\"\",\"\",VLOOKUP(C892,Debiteuren!$A$2:$O$9998,15,0)&\"\"&VLOOKUP(C892,Debiteuren!$A$2:$N$9998,14,0))","v":""},null,"","",0,""]
[null,null,null,null,null,null,null,null,null,null,"",null,null,"",null,null,null,null,null,0,null,{"$f":"IF(C893=\"\",\"\",VLOOKUP(C893,Debiteuren!$A$2:$J$9998,10,0))&\"\"","v":""},{"$f":"IF(C893=\"\",\"\",VLOOKUP(C893,Debiteuren!$A$2:$O$9998,15,0)&\"\"&VLOOKUP(C893,Debiteuren!$A$2:$N$9998,14,0))","v":""},null,"","",0,""]
[null,null,null,null,null,null,null,null,null,null,"",null,null,"",null,null,null,null,null,0,null,{"$f":"IF(C894=\"\",\"\",VLOOKUP(C894,Debiteuren!$A$2:$J$9998,10,0))&\"\"","v":""},{"$f":"IF(C894=\"\",\"\",VLOOKUP(C894,Debiteuren!$A$2:$O$9998,15,0)&\"\"&VLOOKUP(C894,Debiteuren!$A$2:$N$9998,14,0))","v":""},null,"","",0,""]
[null,null,null,null,null,null,null,null,null,null,"",null,null,"",null,null,null,null,null,0,null,{"$f":"IF(C895=\"\",\"\",VLOOKUP(C895,Debiteuren!$A$2:$J$9998,10,0))&\"\"","v":""},{"$f":"IF(C895=\"\",\"\",VLOOKUP(C895,Debiteuren!$A$2:$O$9998,15,0)&\"\"&VLOOKUP(C895,Debiteuren!$A$2:$N$9998,14,0))","v":""},null,"","",0,""]
[null,null,null,null,null,null,null,null,null,null,"",null,null,"",null,null,null,null,null,0,null,{"$f":"IF(C896=\"\",\"\",VLOOKUP(C896,Debiteuren!$A$2:$J$9998,10,0))&\"\"","v":""},{"$f":"IF(C896=\"\",\"\",VLOOKUP(C896,Debiteuren!$A$2:$O$9998,15,0)&\"\"&VLOOKUP(C896,Debiteuren!$A$2:$N$9998,14,0))","v":""},null,"","",0,""]
[null,null,null,null,null,null,null,null,null,null,"",null,null,"",null,null,null,null,null,0,null,{"$f":"IF(C897=\"\",\"\",VLOOKUP(C897,Debiteuren!$A$2:$J$9998,10,0))&\"\"","v":""},{"$f":"IF(C897=\"\",\"\",VLOOKUP(C897,Debiteuren!$A$2:$O$9998,15,0)&\"\"&VLOOKUP(C897,Debiteuren!$A$2:$N$9998,14,0))","v":""},null,"","",0,""]
[null,null,null,null,null,null,null,null,null,null,"",null,null,"",null,null,null,null,null,0,null,{"$f":"IF(C898=\"\",\"\",VLOOKUP(C898,Debiteuren!$A$2:$J$9998,10,0))&\"\"","v":""},{"$f":"IF(C898=\"\",\"\",VLOOKUP(C898,Debiteuren!$A$2:$O$9998,15,0)&\"\"&VLOOKUP(C898,Debiteuren!$A$2:$N$9998,14,0))","v":""},null,"","",0,""]
[null,null,null,null,null,null,null,null,null,null,"",null,null,"",null,null,null,null,null,0,null,{"$f":"IF(C899=\"\",\"\",VLOOKUP(C899,Debiteuren!$A$2:$J$9998,10,0))&\"\"","v":""},{"$f":"IF(C899=\"\",\"\",VLOOKUP(C899,Debiteuren!$A$2:$O$9998,15,0)&\"\"&VLOOKUP(C899,Debiteuren!$A$2:$N$9998,14,0))","v":""},null,"","",0,""]
[null,null,null,null,null,null,null,null,null,null,"",null,null,"",null,null,null,null,null,0,null,{"$f":"IF(C900=\"\",\"\",VLOOKUP(C900,Debiteuren!$A$2:$J$9998,10,0))&\"\"","v":""},{"$f":"IF(C900=\"\",\"\",VLOOKUP(C900,Debiteuren!$A$2:$O$9998,15,0)&\"\"&VLOOKUP(C900,Debiteuren!$A$2:$N$9998,14,0))","v":""},null,"","",0,""]
[null,null,null,null,null,null,null,null,null,null,"",null,null,"",null,null,null,null,null,0,null,{"$f":"IF(C901=\"\",\"\",VLOOKUP(C901,Debiteuren!$A$2:$J$9998,10,0))&\"\"","v":""},{"$f":"IF(C901=\"\",\"\",VLOOKUP(C901,Debiteuren!$A$2:$O$9998,15,0)&\"\"&VLOOKUP(C901,Debiteuren!$A$2:$N$9998,14,0))","v":""},null,"","",0,""]
[null,null,null,null,null,null,null,null,null,null,"",null,null,"",null,null,null,null,null,0,null,{"$f":"IF(C902=\"\",\"\",VLOOKUP(C902,Debiteuren!$A$2:$J$9998,10,0))&\"\"","v":""},{"$f":"IF(C902=\"\",\"\",VLOOKUP(C902,Debiteuren!$A$2:$O$9998,15,0)&\"\"&VLOOKUP(C902,Debiteuren!$A$2:$N$9998,14,0))","v":""},null,"","",0,""]
[null,null,null,null,null,null,null,null,null,null,"",null,null,"",null,null,null,null,null,0,null,{"$f":"IF(C903=\"\",\"\",VLOOKUP(C903,Debiteuren!$A$2:$J$9998,10,0))&\"\"","v":""},{"$f":"IF(C903=\"\",\"\",VLOOKUP(C903,Debiteuren!$A$2:$O$9998,15,0)&\"\"&VLOOKUP(C903,Debiteuren!$A$2:$N$9998,14,0))","v":""},null,"","",0,""]
[null,null,null,null,null,null,null,null,null,null,"",null,null,"",null,null,null,null,null,0,null,{"$f":"IF(C904=\"\",\"\",VLOOKUP(C904,Debiteuren!$A$2:$J$9998,10,0))&\"\"","v":""},{"$f":"IF(C904=\"\",\"\",VLOOKUP(C904,Debiteuren!$A$2:$O$9998,15,0)&\"\"&VLOOKUP(C904,Debiteuren!$A$2:$N$9998,14,0))","v":""},null,"","",0,""]
[null,null,null,null,null,null,null,null,null,null,"",null,null,"",null,null,null,null,null,0,null,{"$f":"IF(C905=\"\",\"\",VLOOKUP(C905,Debiteuren!$A$2:$J$9998,10,0))&\"\"","v":""},{"$f":"IF(C905=\"\",\"\",VLOOKUP(C905,Debiteuren!$A$2:$O$9998,15,0)&\"\"&VLOOKUP(C905,Debiteuren!$A$2:$N$9998,14,0))","v":""},null,"","",0,""]
[null,null,null,null,null,null,null,null,null,null,"",null,null,"",null,null,null,null,null,0,null,{"$f":"IF(C906=\"\",\"\",VLOOKUP(C906,Debiteuren!$A$2:$J$9998,10,0))&\"\"","v":""},{"$f":"IF(C906=\"\",\"\",VLOOKUP(C906,Debiteuren!$A$2:$O$9998,15,0)&\"\"&VLOOKUP(C906,Debiteuren!$A$2:$N$9998,14,0))","v":""},null,"","",0,""]
[null,null,null,null,null,null,null,null,null,null,"",null,null,"",null,null,null,null,null,0,null,{"$f":"IF(C907=\"\",\"\",VLOOKUP(C907,Debiteuren!$A$2:$J$9998,10,0))&\"\"","v":""},{"$f":"IF(C907=\"\",\"\",VLOOKUP(C907,Debiteuren!$A$2:$O$9998,15,0)&\"\"&VLOOKUP(C907,Debiteuren!$A$2:$N$9998,14,0))","v":""},null,"","",0,""]
[null,null,null,null,null,null,null,null,null,null,"",null,null,"",null,null,null,null,null,0,null,{"$f":"IF(C908=\"\",\"\",VLOOKUP(C908,Debiteuren!$A$2:$J$9998,10,0))&\"\"","v":""},{"$f":"IF(C908=\"\",\"\",VLOOKUP(C908,Debiteuren!$A$2:$O$9998,15,0)&\"\"&VLOOKUP(C908,Debiteuren!$A$2:$N$9998,14,0))","v":""},null,"","",0,""]
[null,null,null,null,null,null,null,null,null,null,"",null,null,"",null,null,null,null,null,0,null,{"$f":"IF(C909=\"\",\"\",VLOOKUP(C909,Debiteuren!$A$2:$J$9998,10,0))&\"\"","v":""},{"$f":"IF(C909=\"\",\"\",VLOOKUP(C909,Debiteuren!$A$2:$O$9998,15,0)&\"\"&VLOOKUP(C909,Debiteuren!$A$2:$N$9998,14,0))","v":""},null,"","",0,""]
[null,null,null,null,null,null,null,null,null,null,"",null,null,"",null,null,null,null,null,0,null,{"$f":"IF(C910=\"\",\"\",VLOOKUP(C910,Debiteuren!$A$2:$J$9998,10,0))&\"\"","v":""},{"$f":"IF(C910=\"\",\"\",VLOOKUP(C910,Debiteuren!$A$2:$O$9998,15,0)&\"\"&VLOOKUP(C910,Debiteuren!$A$2:$N$9998,14,0))","v":""},null,"","",0,""]
[null,null,null,null,null,null,null,null,null,null,"",null,null,"",null,null,null,null,null,0,null,{"$f":"IF(C911=\"\",\"\",VLOOKUP(C911,Debiteuren!$A$2:$J$9998,10,0))&\"\"","v":""},{"$f":"IF(C911=\"\",\"\",VLOOKUP(C911,Debiteuren!$A$2:$O$9998,15,0)&\"\"&VLOOKUP(C911,Debiteuren!$A$2:$N$9998,14,0))","v":""},null,"","",0,""]
[null,null,null,null,null,null,null,null,null,null,"",null,null,"",null,null,null,null,null,0,null,{"$f":"IF(C912=\"\",\"\",VLOOKUP(C912,Debiteuren!$A$2:$J$9998,10,0))&\"\"","v":""},{"$f":"IF(C912=\"\",\"\",VLOOKUP(C912,Debiteuren!$A$2:$O$9998,15,0)&\"\"&VLOOKUP(C912,Debiteuren!$A$2:$N$9998,14,0))","v":""},null,"","",0,""]
[null,null,null,null,null,null,null,null,null,null,"",null,null,"",null,null,null,null,null,0,null,{"$f":"IF(C913=\"\",\"\",VLOOKUP(C913,Debiteuren!$A$2:$J$9998,10,0))&\"\"","v":""},{"$f":"IF(C913=\"\",\"\",VLOOKUP(C913,Debiteuren!$A$2:$O$9998,15,0)&\"\"&VLOOKUP(C913,Debiteuren!$A$2:$N$9998,14,0))","v":""},null,"","",0,""]
[null,null,null,null,null,null,null,null,null,null,"",null,null,"",null,null,null,null,null,0,null,{"$f":"IF(C914=\"\",\"\",VLOOKUP(C914,Debiteuren!$A$2:$J$9998,10,0))&\"\"","v":""},{"$f":"IF(C914=\"\",\"\",VLOOKUP(C914,Debiteuren!$A$2:$O$9998,15,0)&\"\"&VLOOKUP(C914,Debiteuren!$A$2:$N$9998,14,0))","v":""},null,"","",0,""]
[null,null,null,null,null,null,null,null,null,null,"",null,null,"",null,null,null,null,null,0,null,{"$f":"IF(C915=\"\",\"\",VLOOKUP(C915,Debiteuren!$A$2:$J$9998,10,0))&\"\"","v":""},{"$f":"IF(C915=\"\",\"\",VLOOKUP(C915,Debiteuren!$A$2:$O$9998,15,0)&\"\"&VLOOKUP(C915,Debiteuren!$A$2:$N$9998,14,0))","v":""},null,"","",0,""]
[null,null,null,null,null,null,null,null,null,null,"",null,null,"",null,null,null,null,null,0,null,{"$f":"IF(C916=\"\",\"\",VLOOKUP(C916,Debiteuren!$A$2:$J$9998,10,0))&\"\"","v":""},{"$f":"IF(C916=\"\",\"\",VLOOKUP(C916,Debiteuren!$A$2:$O$9998,15,0)&\"\"&VLOOKUP(C916,Debiteuren!$A$2:$N$9998,14,0))","v":""},null,"","",0,""]
[null,null,null,null,null,null,null,null,null,null,"",null,null,"",null,null,null,null,null,0,null,{"$f":"IF(C917=\"\",\"\",VLOOKUP(C917,Debiteuren!$A$2:$J$9998,10,0))&\"\"","v":""},{"$f":"IF(C917=\"\",\"\",VLOOKUP(C917,Debiteuren!$A$2:$O$9998,15,0)&\"\"&VLOOKUP(C917,Debiteuren!$A$2:$N$9998,14,0))","v":""},null,"","",0,""]
[null,null,null,null,null,null,null,null,null,null,"",null,null,"",null,null,null,null,null,0,null,{"$f":"IF(C918=\"\",\"\",VLOOKUP(C918,Debiteuren!$A$2:$J$9998,10,0))&\"\"","v":""},{"$f":"IF(C918=\"\",\"\",VLOOKUP(C918,Debiteuren!$A$2:$O$9998,15,0)&\"\"&VLOOKUP(C918,Debiteuren!$A$2:$N$9998,14,0))","v":""},null,"","",0,""]
[null,null,null,null,null,null,null,null,null,null,"",null,null,"",null,null,null,null,null,0,null,{"$f":"IF(C919=\"\",\"\",VLOOKUP(C919,Debiteuren!$A$2:$J$9998,10,0))&\"\"","v":""},{"$f":"IF(C919=\"\",\"\",VLOOKUP(C919,Debiteuren!$A$2:$O$9998,15,0)&\"\"&VLOOKUP(C919,Debiteuren!$A$2:$N$9998,14,0))","v":""},null,"","",0,""]
[null,null,null,null,null,null,null,null,null,null,"",null,null,"",null,null,null,null,null,0,null,{"$f":"IF(C920=\"\",\"\",VLOOKUP(C920,Debiteuren!$A$2:$J$9998,10,0))&\"\"","v":""},{"$f":"IF(C920=\"\",\"\",VLOOKUP(C920,Debiteuren!$A$2:$O$9998,15,0)&\"\"&VLOOKUP(C920,Debiteuren!$A$2:$N$9998,14,0))","v":""},null,"","",0,""]
[null,null,null,null,null,null,null,null,null,null,"",null,null,"",null,null,null,null,null,0,null,{"$f":"IF(C921=\"\",\"\",VLOOKUP(C921,Debiteuren!$A$2:$J$9998,10,0))&\"\"","v":""},{"$f":"IF(C921=\"\",\"\",VLOOKUP(C921,Debiteuren!$A$2:$O$9998,15,0)&\"\"&VLOOKUP(C921,Debiteuren!$A$2:$N$9998,14,0))","v":""},null,"","",0,""]
[null,null,null,null,null,null,null,null,null,null,"",null,null,"",null,null,null,null,null,0,null,{"$f":"IF(C922=\"\",\"\",VLOOKUP(C922,Debiteuren!$A$2:$J$9998,10,0))&\"\"","v":""},{"$f":"IF(C922=\"\",\"\",VLOOKUP(C922,Debiteuren!$A$2:$O$9998,15,0)&\"\"&VLOOKUP(C922,Debiteuren!$A$2:$N$9998,14,0))","v":""},null,"","",0,""]
[null,null,null,null,null,null,null,null,null,null,"",null,null,"",null,null,null,null,null,0,null,{"$f":"IF(C923=\"\",\"\",VLOOKUP(C923,Debiteuren!$A$2:$J$9998,10,0))&\"\"","v":""},{"$f":"IF(C923=\"\",\"\",VLOOKUP(C923,Debiteuren!$A$2:$O$9998,15,0)&\"\"&VLOOKUP(C923,Debiteuren!$A$2:$N$9998,14,0))","v":""},null,"","",0,""]
[null,null,null,null,null,null,null,null,null,null,"",null,null,"",null,null,null,null,null,0,null,{"$f":"IF(C924=\"\",\"\",VLOOKUP(C924,Debiteuren!$A$2:$J$9998,10,0))&\"\"","v":""},{"$f":"IF(C924=\"\",\"\",VLOOKUP(C924,Debiteuren!$A$2:$O$9998,15,0)&\"\"&VLOOKUP(C924,Debiteuren!$A$2:$N$9998,14,0))","v":""},null,"","",0,""]
[null,null,null,null,null,null,null,null,null,null,"",null,null,"",null,null,null,null,null,0,null,{"$f":"IF(C925=\"\",\"\",VLOOKUP(C925,Debiteuren!$A$2:$J$9998,10,0))&\"\"","v":""},{"$f":"IF(C925=\"\",\"\",VLOOKUP(C925,Debiteuren!$A$2:$O$9998,15,0)&\"\"&VLOOKUP(C925,Debiteuren!$A$2:$N$9998,14,0))","v":""},null,"","",0,""]
[null,null,null,null,null,null,null,null,null,null,"",null,null,"",null,null,null,null,null,0,null,{"$f":"IF(C926=\"\",\"\",VLOOKUP(C926,Debiteuren!$A$2:$J$9998,10,0))&\"\"","v":""},{"$f":"IF(C926=\"\",\"\",VLOOKUP(C926,Debiteuren!$A$2:$O$9998,15,0)&\"\"&VLOOKUP(C926,Debiteuren!$A$2:$N$9998,14,0))","v":""},null,"","",0,""]
[null,null,null,null,null,null,null,null,null,null,"",null,null,"",null,null,null,null,null,0,null,{"$f":"IF(C927=\"\",\"\",VLOOKUP(C927,Debiteuren!$A$2:$J$9998,10,0))&\"\"","v":""},{"$f":"IF(C927=\"\",\"\",VLOOKUP(C927,Debiteuren!$A$2:$O$9998,15,0)&\"\"&VLOOKUP(C927,Debiteuren!$A$2:$N$9998,14,0))","v":""},null,"","",0,""]
[null,null,null,null,null,null,null,null,null,null,"",null,null,"",null,null,null,null,null,0,null,{"$f":"IF(C928=\"\",\"\",VLOOKUP(C928,Debiteuren!$A$2:$J$9998,10,0))&\"\"","v":""},{"$f":"IF(C928=\"\",\"\",VLOOKUP(C928,Debiteuren!$A$2:$O$9998,15,0)&\"\"&VLOOKUP(C928,Debiteuren!$A$2:$N$9998,14,0))","v":""},null,"","",0,""]
[null,null,null,null,null,null,null,null,null,null,"",null,null,"",null,null,null,null,null,0,null,{"$f":"IF(C929=\"\",\"\",VLOOKUP(C929,Debiteuren!$A$2:$J$9998,10,0))&\"\"","v":""},{"$f":"IF(C929=\"\",\"\",VLOOKUP(C929,Debiteuren!$A$2:$O$9998,15,0)&\"\"&VLOOKUP(C929,Debiteuren!$A$2:$N$9998,14,0))","v":""},null,"","",0,""]
[null,null,null,null,null,null,null,null,null,null,"",null,null,"",null,null,null,null,null,0,null,{"$f":"IF(C930=\"\",\"\",VLOOKUP(C930,Debiteuren!$A$2:$J$9998,10,0))&\"\"","v":""},{"$f":"IF(C930=\"\",\"\",VLOOKUP(C930,Debiteuren!$A$2:$O$9998,15,0)&\"\"&VLOOKUP(C930,Debiteuren!$A$2:$N$9998,14,0))","v":""},null,"","",0,""]
[null,null,null,null,null,null,null,null,null,null,"",null,null,"",null,null,null,null,null,0,null,{"$f":"IF(C931=\"\",\"\",VLOOKUP(C931,Debiteuren!$A$2:$J$9998,10,0))&\"\"","v":""},{"$f":"IF(C931=\"\",\"\",VLOOKUP(C931,Debiteuren!$A$2:$O$9998,15,0)&\"\"&VLOOKUP(C931,Debiteuren!$A$2:$N$9998,14,0))","v":""},null,"","",0,""]
[null,null,null,null,null,null,null,null,null,null,"",null,null,"",null,null,null,null,null,0,null,{"$f":"IF(C932=\"\",\"\",VLOOKUP(C932,Debiteuren!$A$2:$J$9998,10,0))&\"\"","v":""},{"$f":"IF(C932=\"\",\"\",VLOOKUP(C932,Debiteuren!$A$2:$O$9998,15,0)&\"\"&VLOOKUP(C932,Debiteuren!$A$2:$N$9998,14,0))","v":""},null,"","",0,""]
[null,null,null,null,null,null,null,null,null,null,"",null,null,"",null,null,null,null,null,0,null,{"$f":"IF(C933=\"\",\"\",VLOOKUP(C933,Debiteuren!$A$2:$J$9998,10,0))&\"\"","v":""},{"$f":"IF(C933=\"\",\"\",VLOOKUP(C933,Debiteuren!$A$2:$O$9998,15,0)&\"\"&VLOOKUP(C933,Debiteuren!$A$2:$N$9998,14,0))","v":""},null,"","",0,""]
[null,null,null,null,null,null,null,null,null,null,"",null,null,"",null,null,null,null,null,0,null,{"$f":"IF(C934=\"\",\"\",VLOOKUP(C934,Debiteuren!$A$2:$J$9998,10,0))&\"\"","v":""},{"$f":"IF(C934=\"\",\"\",VLOOKUP(C934,Debiteuren!$A$2:$O$9998,15,0)&\"\"&VLOOKUP(C934,Debiteuren!$A$2:$N$9998,14,0))","v":""},null,"","",0,""]
[null,null,null,null,null,null,null,null,null,null,"",null,null,"",null,null,null,null,null,0,null,{"$f":"IF(C935=\"\",\"\",VLOOKUP(C935,Debiteuren!$A$2:$J$9998,10,0))&\"\"","v":""},{"$f":"IF(C935=\"\",\"\",VLOOKUP(C935,Debiteuren!$A$2:$O$9998,15,0)&\"\"&VLOOKUP(C935,Debiteuren!$A$2:$N$9998,14,0))","v":""},null,"","",0,""]
[null,null,null,null,null,null,null,null,null,null,"",null,null,"",null,null,null,null,null,0,null,{"$f":"IF(C936=\"\",\"\",VLOOKUP(C936,Debiteuren!$A$2:$J$9998,10,0))&\"\"","v":""},{"$f":"IF(C936=\"\",\"\",VLOOKUP(C936,Debiteuren!$A$2:$O$9998,15,0)&\"\"&VLOOKUP(C936,Debiteuren!$A$2:$N$9998,14,0))","v":""},null,"","",0,""]
[null,null,null,null,null,null,null,null,null,null,"",null,null,"",null,null,null,null,null,0,null,{"$f":"IF(C937=\"\",\"\",VLOOKUP(C937,Debiteuren!$A$2:$J$9998,10,0))&\"\"","v":""},{"$f":"IF(C937=\"\",\"\",VLOOKUP(C937,Debiteuren!$A$2:$O$9998,15,0)&\"\"&VLOOKUP(C937,Debiteuren!$A$2:$N$9998,14,0))","v":""},null,"","",0,""]
[null,null,null,null,null,null,null,null,null,null,"",null,null,"",null,null,null,null,null,0,null,{"$f":"IF(C938=\"\",\"\",VLOOKUP(C938,Debiteuren!$A$2:$J$9998,10,0))&\"\"","v":""},{"$f":"IF(C938=\"\",\"\",VLOOKUP(C938,Debiteuren!$A$2:$O$9998,15,0)&\"\"&VLOOKUP(C938,Debiteuren!$A$2:$N$9998,14,0))","v":""},null,"","",0,""]
[null,null,null,null,null,null,null,null,null,null,"",null,null,"",null,null,null,null,null,0,null,{"$f":"IF(C939=\"\",\"\",VLOOKUP(C939,Debiteuren!$A$2:$J$9998,10,0))&\"\"","v":""},{"$f":"IF(C939=\"\",\"\",VLOOKUP(C939,Debiteuren!$A$2:$O$9998,15,0)&\"\"&VLOOKUP(C939,Debiteuren!$A$2:$N$9998,14,0))","v":""},null,"","",0,""]
[null,null,null,null,null,null,null,null,null,null,"",null,null,"",null,null,null,null,null,0,null,{"$f":"IF(C940=\"\",\"\",VLOOKUP(C940,Debiteuren!$A$2:$J$9998,10,0))&\"\"","v":""},{"$f":"IF(C940=\"\",\"\",VLOOKUP(C940,Debiteuren!$A$2:$O$9998,15,0)&\"\"&VLOOKUP(C940,Debiteuren!$A$2:$N$9998,14,0))","v":""},null,"","",0,""]
[null,null,null,null,null,null,null,null,null,null,"",null,null,"",null,null,null,null,null,0,null,{"$f":"IF(C941=\"\",\"\",VLOOKUP(C941,Debiteuren!$A$2:$J$9998,10,0))&\"\"","v":""},{"$f":"IF(C941=\"\",\"\",VLOOKUP(C941,Debiteuren!$A$2:$O$9998,15,0)&\"\"&VLOOKUP(C941,Debiteuren!$A$2:$N$9998,14,0))","v":""},null,"","",0,""]
[null,null,null,null,null,null,null,null,null,null,"",null,null,"",null,null,null,null,null,0,null,{"$f":"IF(C942=\"\",\"\",VLOOKUP(C942,Debiteuren!$A$2:$J$9998,10,0))&\"\"","v":""},{"$f":"IF(C942=\"\",\"\",VLOOKUP(C942,Debiteuren!$A$2:$O$9998,15,0)&\"\"&VLOOKUP(C942,Debiteuren!$A$2:$N$9998,14,0))","v":""},null,{"$f":"IF(D942=\"\",\"\",DATEDIF(D942,TODAY(),\"d\"))","v":""},{"$f":"IF(G942=\"\",\"\",DATEDIF(D942,G942,\"d\"))","v":""},{"$f":"DATEDIF(D942,H942,\"d\")","v":0},{"$f":"IF(Y942=\"\",\"\",Y942-AA942)","v":""}]
[null,null,null,null,null,null,null,null,null,null,"",null,null,"",null,null,null,null,null,{"$f":"IF(B943=1,E943,0)","v":0},null,{"$f":"IF(C943=\"\",\"\",VLOOKUP(C943,Debiteuren!$A$2:$J$9998,10,0))&\"\"","v":""},{"$f":"IF(C943=\"\",\"\",VLOOKUP(C943,Debiteuren!$A$2:$O$9998,15,0)&\"\"&VLOOKUP(C943,Debiteuren!$A$2:$N$9998,14,0))","v":""},null,"","",0,""]
[null,null,null,null,null,null,null,null,null,null,"",null,null,"",null,null,null,null,null,0,null,{"$f":"IF(C944=\"\",\"\",VLOOKUP(C944,Debiteuren!$A$2:$J$9998,10,0))&\"\"","v":""},{"$f":"IF(C944=\"\",\"\",VLOOKUP(C944,Debiteuren!$A$2:$O$9998,15,0)&\"\"&VLOOKUP(C944,Debiteuren!$A$2:$N$9998,14,0))","v":""},null,"","",0,""]
[null,null,null,null,null,null,null,null,null,null,"",null,null,"",null,null,null,null,null,0,null,{"$f":"IF(C945=\"\",\"\",VLOOKUP(C945,Debiteuren!$A$2:$J$9998,10,0))&\"\"","v":""},{"$f":"IF(C945=\"\",\"\",VLOOKUP(C945,Debiteuren!$A$2:$O$9998,15,0)&\"\"&VLOOKUP(C945,Debiteuren!$A$2:$N$9998,14,0))","v":""},null,"","",0,""]
[null,null,null,null,null,null,null,null,null,null,"",null,null,"",null,null,null,null,null,0,null,{"$f":"IF(C946=\"\",\"\",VLOOKUP(C946,Debiteuren!$A$2:$J$9998,10,0))&\"\"","v":""},{"$f":"IF(C946=\"\",\"\",VLOOKUP(C946,Debiteuren!$A$2:$O$9998,15,0)&\"\"&VLOOKUP(C946,Debiteuren!$A$2:$N$9998,14,0))","v":""},null,"","",0,""]
[null,null,null,null,null,null,null,null,null,null,"",null,null,"",null,null,null,null,null,0,null,{"$f":"IF(C947=\"\",\"\",VLOOKUP(C947,Debiteuren!$A$2:$J$9998,10,0))&\"\"","v":""},{"$f":"IF(C947=\"\",\"\",VLOOKUP(C947,Debiteuren!$A$2:$O$9998,15,0)&\"\"&VLOOKUP(C947,Debiteuren!$A$2:$N$9998,14,0))","v":""},null,"","",0,""]
[null,null,null,null,null,null,null,null,null,null,"",null,null,"",null,null,null,null,null,0,null,{"$f":"IF(C948=\"\",\"\",VLOOKUP(C948,Debiteuren!$A$2:$J$9998,10,0))&\"\"","v":""},{"$f":"IF(C948=\"\",\"\",VLOOKUP(C948,Debiteuren!$A$2:$O$9998,15,0)&\"\"&VLOOKUP(C948,Debiteuren!$A$2:$N$9998,14,0))","v":""},null,"","",0,""]
[null,null,null,null,null,null,null,null,null,null,"",null,null,"",null,null,null,null,null,0,null,{"$f":"IF(C949=\"\",\"\",VLOOKUP(C949,Debiteuren!$A$2:$J$9998,10,0))&\"\"","v":""},{"$f":"IF(C949=\"\",\"\",VLOOKUP(C949,Debiteuren!$A$2:$O$9998,15,0)&\"\"&VLOOKUP(C949,Debiteuren!$A$2:$N$9998,14,0))","v":""},null,"","",0,""]
[null,null,null,null,null,null,null,null,null,null,"",null,null,"",null,null,null,null,null,0,null,{"$f":"IF(C950=\"\",\"\",VLOOKUP(C950,Debiteuren!$A$2:$J$9998,10,0))&\"\"","v":""},{"$f":"IF(C950=\"\",\"\",VLOOKUP(C950,Debiteuren!$A$2:$O$9998,15,0)&\"\"&VLOOKUP(C950,Debiteuren!$A$2:$N$9998,14,0))","v":""},null,"","",0,""]
[null,null,null,null,null,null,null,null,null,null,"",null,null,"",null,null,null,null,null,0,null,{"$f":"IF(C951=\"\",\"\",VLOOKUP(C951,Debiteuren!$A$2:$J$9998,10,0))&\"\"","v":""},{"$f":"IF(C951=\"\",\"\",VLOOKUP(C951,Debiteuren!$A$2:$O$9998,15,0)&\"\"&VLOOKUP(C951,Debiteuren!$A$2:$N$9998,14,0))","v":""},null,"","",0,""]
[null,null,null,null,null,null,null,null,null,null,"",null,null,"",null,null,null,null,null,0,null,{"$f":"IF(C952=\"\",\"\",VLOOKUP(C952,Debiteuren!$A$2:$J$9998,10,0))&\"\"","v":""},{"$f":"IF(C952=\"\",\"\",VLOOKUP(C952,Debiteuren!$A$2:$O$9998,15,0)&\"\"&VLOOKUP(C952,Debiteuren!$A$2:$N$9998,14,0))","v":""},null,"","",0,""]
[null,null,null,null,null,null,null,null,null,null,{"$f":"IF(D953=\"\",\"\",\"\"&\"Kwartaal \"&MONTH(MONTH(D953)&0)&TEXT(D953,\" - mmm JJJJ\"))","v":""},null,null,{"$f":"IF(E953=\"\",\"\",(E953)-(F953))","v":""},null,null,null,null,null,0,null,{"$f":"IF(C953=\"\",\"\",VLOOKUP(C953,Debiteuren!$A$2:$J$9998,10,0))&\"\"","v":""},{"$f":"IF(C953=\"\",\"\",VLOOKUP(C953,Debiteuren!$A$2:$O$9998,15,0)&\"\"&VLOOKUP(C953,Debiteuren!$A$2:$N$9998,14,0))","v":""},null,"","",0,""]
[null,null,null,null,null,null,null,null,null,null,"",null,null,"",null,null,null,null,null,0,null,{"$f":"IF(C954=\"\",\"\",VLOOKUP(C954,Debiteuren!$A$2:$J$9998,10,0))&\"\"","v":""},{"$f":"IF(C954=\"\",\"\",VLOOKUP(C954,Debiteuren!$A$2:$O$9998,15,0)&\"\"&VLOOKUP(C954,Debiteuren!$A$2:$N$9998,14,0))","v":""},null,"","",0,""]
[null,null,null,null,null,null,null,null,null,null,"",null,null,"",null,null,null,null,null,0,null,{"$f":"IF(C955=\"\",\"\",VLOOKUP(C955,Debiteuren!$A$2:$J$9998,10,0))&\"\"","v":""},{"$f":"IF(C955=\"\",\"\",VLOOKUP(C955,Debiteuren!$A$2:$O$9998,15,0)&\"\"&VLOOKUP(C955,Debiteuren!$A$2:$N$9998,14,0))","v":""},null,"","",0,""]
[null,null,null,null,null,null,null,null,null,null,"",null,null,"",null,null,null,null,null,0,null,{"$f":"IF(C956=\"\",\"\",VLOOKUP(C956,Debiteuren!$A$2:$J$9998,10,0))&\"\"","v":""},{"$f":"IF(C956=\"\",\"\",VLOOKUP(C956,Debiteuren!$A$2:$O$9998,15,0)&\"\"&VLOOKUP(C956,Debiteuren!$A$2:$N$9998,14,0))","v":""},null,"","",0,""]
[null,null,null,null,null,null,null,null,null,null,"",null,null,"",null,null,null,null,null,0,null,{"$f":"IF(C957=\"\",\"\",VLOOKUP(C957,Debiteuren!$A$2:$J$9998,10,0))&\"\"","v":""},{"$f":"IF(C957=\"\",\"\",VLOOKUP(C957,Debiteuren!$A$2:$O$9998,15,0)&\"\"&VLOOKUP(C957,Debiteuren!$A$2:$N$9998,14,0))","v":""},null,"","",0,""]
[null,null,null,null,null,null,null,null,null,null,"",null,null,"",null,null,null,null,null,0,null,{"$f":"IF(C958=\"\",\"\",VLOOKUP(C958,Debiteuren!$A$2:$J$9998,10,0))&\"\"","v":""},{"$f":"IF(C958=\"\",\"\",VLOOKUP(C958,Debiteuren!$A$2:$O$9998,15,0)&\"\"&VLOOKUP(C958,Debiteuren!$A$2:$N$9998,14,0))","v":""},null,"","",0,""]
[null,null,null,null,null,null,null,null,null,null,"",null,null,"",null,null,null,null,null,0,null,{"$f":"IF(C959=\"\",\"\",VLOOKUP(C959,Debiteuren!$A$2:$J$9998,10,0))&\"\"","v":""},{"$f":"IF(C959=\"\",\"\",VLOOKUP(C959,Debiteuren!$A$2:$O$9998,15,0)&\"\"&VLOOKUP(C959,Debiteuren!$A$2:$N$9998,14,0))","v":""},null,"","",0,""]
[null,null,null,null,null,null,null,null,null,null,"",null,null,"",null,null,null,null,null,0,null,{"$f":"IF(C960=\"\",\"\",VLOOKUP(C960,Debiteuren!$A$2:$J$9998,10,0))&\"\"","v":""},{"$f":"IF(C960=\"\",\"\",VLOOKUP(C960,Debiteuren!$A$2:$O$9998,15,0)&\"\"&VLOOKUP(C960,Debiteuren!$A$2:$N$9998,14,0))","v":""},null,"","",0,""]
[null,null,null,null,null,null,null,null,null,null,"",null,null,"",null,null,null,null,null,0,null,{"$f":"IF(C961=\"\",\"\",VLOOKUP(C961,Debiteuren!$A$2:$J$9998,10,0))&\"\"","v":""},{"$f":"IF(C961=\"\",\"\",VLOOKUP(C961,Debiteuren!$A$2:$O$9998,15,0)&\"\"&VLOOKUP(C961,Debiteuren!$A$2:$N$9998,14,0))","v":""},null,"","",0,""]
[null,null,null,null,null,null,null,null,null,null,"",null,null,"",null,null,null,null,null,0,null,{"$f":"IF(C962=\"\",\"\",VLOOKUP(C962,Debiteuren!$A$2:$J$9998,10,0))&\"\"","v":""},{"$f":"IF(C962=\"\",\"\",VLOOKUP(C962,Debiteuren!$A$2:$O$9998,15,0)&\"\"&VLOOKUP(C962,Debiteuren!$A$2:$N$9998,14,0))","v":""},null,"","",0,""]
[null,null,null,null,null,null,null,null,null,null,"",null,null,"",null,null,null,null,null,0,null,{"$f":"IF(C963=\"\",\"\",VLOOKUP(C963,Debiteuren!$A$2:$J$9998,10,0))&\"\"","v":""},{"$f":"IF(C963=\"\",\"\",VLOOKUP(C963,Debiteuren!$A$2:$O$9998,15,0)&\"\"&VLOOKUP(C963,Debiteuren!$A$2:$N$9998,14,0))","v":""},null,"","",0,""]
[null,null,null,null,null,null,null,null,null,null,"",null,null,"",null,null,null,null,null,0,null,{"$f":"IF(C964=\"\",\"\",VLOOKUP(C964,Debiteuren!$A$2:$J$9998,10,0))&\"\"","v":""},{"$f":"IF(C964=\"\",\"\",VLOOKUP(C964,Debiteuren!$A$2:$O$9998,15,0)&\"\"&VLOOKUP(C964,Debiteuren!$A$2:$N$9998,14,0))","v":""},null,"","",0,""]
[null,null,null,null,null,null,null,null,null,null,"",null,null,"",null,null,null,null,null,0,null,{"$f":"IF(C965=\"\",\"\",VLOOKUP(C965,Debiteuren!$A$2:$J$9998,10,0))&\"\"","v":""},{"$f":"IF(C965=\"\",\"\",VLOOKUP(C965,Debiteuren!$A$2:$O$9998,15,0)&\"\"&VLOOKUP(C965,Debiteuren!$A$2:$N$9998,14,0))","v":""},null,"","",0,""]
[null,null,null,null,null,null,null,null,null,null,"",null,null,"",null,null,null,null,null,0,null,{"$f":"IF(C966=\"\",\"\",VLOOKUP(C966,Debiteuren!$A$2:$J$9998,10,0))&\"\"","v":""},{"$f":"IF(C966=\"\",\"\",VLOOKUP(C966,Debiteuren!$A$2:$O$9998,15,0)&\"\"&VLOOKUP(C966,Debiteuren!$A$2:$N$9998,14,0))","v":""},null,"","",0,""]
[null,null,null,null,null,null,null,null,null,null,"",null,null,"",null,null,null,null,null,0,null,{"$f":"IF(C967=\"\",\"\",VLOOKUP(C967,Debiteuren!$A$2:$J$9998,10,0))&\"\"","v":""},{"$f":"IF(C967=\"\",\"\",VLOOKUP(C967,Debiteuren!$A$2:$O$9998,15,0)&\"\"&VLOOKUP(C967,Debiteuren!$A$2:$N$9998,14,0))","v":""},null,"","",0,""]
[null,null,null,null,null,null,null,null,null,null,"",null,null,"",null,null,null,null,null,0,null,{"$f":"IF(C968=\"\",\"\",VLOOKUP(C968,Debiteuren!$A$2:$J$9998,10,0))&\"\"","v":""},{"$f":"IF(C968=\"\",\"\",VLOOKUP(C968,Debiteuren!$A$2:$O$9998,15,0)&\"\"&VLOOKUP(C968,Debiteuren!$A$2:$N$9998,14,0))","v":""},null,"","",0,""]
[null,null,null,null,null,null,null,null,null,null,"",null,null,"",null,null,null,null,null,0,null,{"$f":"IF(C969=\"\",\"\",VLOOKUP(C969,Debiteuren!$A$2:$J$9998,10,0))&\"\"","v":""},{"$f":"IF(C969=\"\",\"\",VLOOKUP(C969,Debiteuren!$A$2:$O$9998,15,0)&\"\"&VLOOKUP(C969,Debiteuren!$A$2:$N$9998,14,0))","v":""},null,"","",0,""]
[null,null,null,null,null,null,null,null,null,null,"",null,null,"",null,null,null,null,null,0,null,{"$f":"IF(C970=\"\",\"\",VLOOKUP(C970,Debiteuren!$A$2:$J$9998,10,0))&\"\"","v":""},{"$f":"IF(C970=\"\",\"\",VLOOKUP(C970,Debiteuren!$A$2:$O$9998,15,0)&\"\"&VLOOKUP(C970,Debiteuren!$A$2:$N$9998,14,0))","v":""},null,"","",0,""]
[null,null,null,null,null,null,null,null,null,null,"",null,null,"",null,null,null,null,null,0,null,{"$f":"IF(C971=\"\",\"\",VLOOKUP(C971,Debiteuren!$A$2:$J$9998,10,0))&\"\"","v":""},{"$f":"IF(C971=\"\",\"\",VLOOKUP(C971,Debiteuren!$A$2:$O$9998,15,0)&\"\"&VLOOKUP(C971,Debiteuren!$A$2:$N$9998,14,0))","v":""},null,"","",0,""]
[null,null,null,null,null,null,null,null,null,null,"",null,null,"",null,null,null,null,null,0,null,{"$f":"IF(C972=\"\",\"\",VLOOKUP(C972,Debiteuren!$A$2:$J$9998,10,0))&\"\"","v":""},{"$f":"IF(C972=\"\",\"\",VLOOKUP(C972,Debiteuren!$A$2:$O$9998,15,0)&\"\"&VLOOKUP(C972,Debiteuren!$A$2:$N$9998,14,0))","v":""},null,"","",0,""]
[null,null,null,null,null,null,null,null,null,null,"",null,null,"",null,null,null,null,null,0,null,{"$f":"IF(C973=\"\",\"\",VLOOKUP(C973,Debiteuren!$A$2:$J$9998,10,0))&\"\"","v":""},{"$f":"IF(C973=\"\",\"\",VLOOKUP(C973,Debiteuren!$A$2:$O$9998,15,0)&\"\"&VLOOKUP(C973,Debiteuren!$A$2:$N$9998,14,0))","v":""},null,"","",0,""]
[null,null,null,null,null,null,null,null,null,null,"",null,null,"",null,null,null,null,null,0,null,{"$f":"IF(C974=\"\",\"\",VLOOKUP(C974,Debiteuren!$A$2:$J$9998,10,0))&\"\"","v":""},{"$f":"IF(C974=\"\",\"\",VLOOKUP(C974,Debiteuren!$A$2:$O$9998,15,0)&\"\"&VLOOKUP(C974,Debiteuren!$A$2:$N$9998,14,0))","v":""},null,"","",0,""]
[null,null,null,null,null,null,null,null,null,null,"",null,null,"",null,null,null,null,null,0,null,{"$f":"IF(C975=\"\",\"\",VLOOKUP(C975,Debiteuren!$A$2:$J$9998,10,0))&\"\"","v":""},{"$f":"IF(C975=\"\",\"\",VLOOKUP(C975,Debiteuren!$A$2:$O$9998,15,0)&\"\"&VLOOKUP(C975,Debiteuren!$A$2:$N$9998,14,0))","v":""},null,"","",0,""]
[null,null,null,null,null,null,null,null,null,null,"",null,null,"",null,null,null,null,null,0,null,{"$f":"IF(C976=\"\",\"\",VLOOKUP(C976,Debiteuren!$A$2:$J$9998,10,0))&\"\"","v":""},{"$f":"IF(C976=\"\",\"\",VLOOKUP(C976,Debiteuren!$A$2:$O$9998,15,0)&\"\"&VLOOKUP(C976,Debiteuren!$A$2:$N$9998,14,0))","v":""},null,"","",0,""]
[null,null,null,null,null,null,null,null,null,null,"",null,null,"",null,null,null,null,null,0,null,{"$f":"IF(C977=\"\",\"\",VLOOKUP(C977,Debiteuren!$A$2:$J$9998,10,0))&\"\"","v":""},{"$f":"IF(C977=\"\",\"\",VLOOKUP(C977,Debiteuren!$A$2:$O$9998,15,0)&\"\"&VLOOKUP(C977,Debiteuren!$A$2:$N$9998,14,0))","v":""},null,"","",0,""]
[null,null,null,null,null,null,null,null,null,null,"",null,null,"",null,null,null,null,null,0,null,{"$f":"IF(C978=\"\",\"\",VLOOKUP(C978,Debiteuren!$A$2:$J$9998,10,0))&\"\"","v":""},{"$f":"IF(C978=\"\",\"\",VLOOKUP(C978,Debiteuren!$A$2:$O$9998,15,0)&\"\"&VLOOKUP(C978,Debiteuren!$A$2:$N$9998,14,0))","v":""},null,"","",0,""]
[null,null,null,null,null,null,null,null,null,null,"",null,null,"",null,null,null,null,null,0,null,{"$f":"IF(C979=\"\",\"\",VLOOKUP(C979,Debiteuren!$A$2:$J$9998,10,0))&\"\"","v":""},{"$f":"IF(C979=\"\",\"\",VLOOKUP(C979,Debiteuren!$A$2:$O$9998,15,0)&\"\"&VLOOKUP(C979,Debiteuren!$A$2:$N$9998,14,0))","v":""},null,"","",0,""]
[null,null,null,null,null,null,null,null,null,null,"",null,null,"",null,null,null,null,null,0,null,{"$f":"IF(C980=\"\",\"\",VLOOKUP(C980,Debiteuren!$A$2:$J$9998,10,0))&\"\"","v":""},{"$f":"IF(C980=\"\",\"\",VLOOKUP(C980,Debiteuren!$A$2:$O$9998,15,0)&\"\"&VLOOKUP(C980,Debiteuren!$A$2:$N$9998,14,0))","v":""},null,"","",0,""]
[null,null,null,null,null,null,null,null,null,null,"",null,null,"",null,null,null,null,null,0,null,{"$f":"IF(C981=\"\",\"\",VLOOKUP(C981,Debiteuren!$A$2:$J$9998,10,0))&\"\"","v":""},{"$f":"IF(C981=\"\",\"\",VLOOKUP(C981,Debiteuren!$A$2:$O$9998,15,0)&\"\"&VLOOKUP(C981,Debiteuren!$A$2:$N$9998,14,0))","v":""},null,"","",0,""]
[null,null,null,null,null,null,null,null,null,null,"",null,null,"",null,null,null,null,null,0,null,{"$f":"IF(C982=\"\",\"\",VLOOKUP(C982,Debiteuren!$A$2:$J$9998,10,0))&\"\"","v":""},{"$f":"IF(C982=\"\",\"\",VLOOKUP(C982,Debiteuren!$A$2:$O$9998,15,0)&\"\"&VLOOKUP(C982,Debiteuren!$A$2:$N$9998,14,0))","v":""},null,"","",0,""]
[null,null,null,null,null,null,null,null,null,null,"",null,null,"",null,null,null,null,null,0,null,{"$f":"IF(C983=\"\",\"\",VLOOKUP(C983,Debiteuren!$A$2:$J$9998,10,0))&\"\"","v":""},{"$f":"IF(C983=\"\",\"\",VLOOKUP(C983,Debiteuren!$A$2:$O$9998,15,0)&\"\"&VLOOKUP(C983,Debiteuren!$A$2:$N$9998,14,0))","v":""},null,"","",0,""]
[null,null,null,null,null,null,null,null,null,null,"",null,null,"",null,null,null,null,null,0,null,{"$f":"IF(C984=\"\",\"\",VLOOKUP(C984,Debiteuren!$A$2:$J$9998,10,0))&\"\"","v":""},{"$f":"IF(C984=\"\",\"\",VLOOKUP(C984,Debiteuren!$A$2:$O$9998,15,0)&\"\"&VLOOKUP(C984,Debiteuren!$A$2:$N$9998,14,0))","v":""},null,"","",0,""]
[null,null,null,null,null,null,null,null,null,null,"",null,null,"",null,null,null,null,null,0,null,{"$f":"IF(C985=\"\",\"\",VLOOKUP(C985,Debiteuren!$A$2:$J$9998,10,0))&\"\"","v":""},{"$f":"IF(C985=\"\",\"\",VLOOKUP(C985,Debiteuren!$A$2:$O$9998,15,0)&\"\"&VLOOKUP(C985,Debiteuren!$A$2:$N$9998,14,0))","v":""},null,"","",0,""]
[null,null,null,null,null,null,null,null,null,null,"",null,null,"",null,null,null,null,null,0,null,{"$f":"IF(C986=\"\",\"\",VLOOKUP(C986,Debiteuren!$A$2:$J$9998,10,0))&\"\"","v":""},{"$f":"IF(C986=\"\",\"\",VLOOKUP(C986,Debiteuren!$A$2:$O$9998,15,0)&\"\"&VLOOKUP(C986,Debiteuren!$A$2:$N$9998,14,0))","v":""},null,"","",0,""]
[null,null,null,null,null,null,null,null,null,null,"",null,null,"",null,null,null,null,null,0,null,{"$f":"IF(C987=\"\",\"\",VLOOKUP(C987,Debiteuren!$A$2:$J$9998,10,0))&\"\"","v":""},{"$f":"IF(C987=\"\",\"\",VLOOKUP(C987,Debiteuren!$A$2:$O$9998,15,0)&\"\"&VLOOKUP(C987,Debiteuren!$A$2:$N$9998,14,0))","v":""},null,"","",0,""]
[null,null,null,null,null,null,null,null,null,null,"",null,null,"",null,null,null,null,null,0,null,{"$f":"IF(C988=\"\",\"\",VLOOKUP(C988,Debiteuren!$A$2:$J$9998,10,0))&\"\"","v":""},{"$f":"IF(C988=\"\",\"\",VLOOKUP(C988,Debiteuren!$A$2:$O$9998,15,0)&\"\"&VLOOKUP(C988,Debiteuren!$A$2:$N$9998,14,0))","v":""},null,"","",0,""]
[null,null,null,null,null,null,null,null,null,null,"",null,null,"",null,null,null,null,null,0,null,{"$f":"IF(C989=\"\",\"\",VLOOKUP(C989,Debiteuren!$A$2:$J$9998,10,0))&\"\"","v":""},{"$f":"IF(C989=\"\",\"\",VLOOKUP(C989,Debiteuren!$A$2:$O$9998,15,0)&\"\"&VLOOKUP(C989,Debiteuren!$A$2:$N$9998,14,0))","v":""},null,"","",0,""]
[null,null,null,null,null,null,null,null,null,null,"",null,null,"",null,null,null,null,null,0,null,{"$f":"IF(C990=\"\",\"\",VLOOKUP(C990,Debiteuren!$A$2:$J$9998,10,0))&\"\"","v":""},{"$f":"IF(C990=\"\",\"\",VLOOKUP(C990,Debiteuren!$A$2:$O$9998,15,0)&\"\"&VLOOKUP(C990,Debiteuren!$A$2:$N$9998,14,0))","v":""},null,"","",0,""]
[null,null,null,null,null,null,null,null,null,null,"",null,null,"",null,null,null,null,null,0,null,{"$f":"IF(C991=\"\",\"\",VLOOKUP(C991,Debiteuren!$A$2:$J$9998,10,0))&\"\"","v":""},{"$f":"IF(C991=\"\",\"\",VLOOKUP(C991,Debiteuren!$A$2:$O$9998,15,0)&\"\"&VLOOKUP(C991,Debiteuren!$A$2:$N$9998,14,0))","v":""},null,"","",0,""]
[null,null,null,null,null,null,null,null,null,null,"",null,null,"",null,null,null,null,null,0,null,{"$f":"IF(C992=\"\",\"\",VLOOKUP(C992,Debiteuren!$A$2:$J$9998,10,0))&\"\"","v":""},{"$f":"IF(C992=\"\",\"\",VLOOKUP(C992,Debiteuren!$A$2:$O$9998,15,0)&\"\"&VLOOKUP(C992,Debiteuren!$A$2:$N$9998,14,0))","v":""},null,"","",0,""]
[null,null,null,null,null,null,null,null,null,null,"",null,null,"",null,null,null,null,null,0,null,{"$f":"IF(C993=\"\",\"\",VLOOKUP(C993,Debiteuren!$A$2:$J$9998,10,0))&\"\"","v":""},{"$f":"IF(C993=\"\",\"\",VLOOKUP(C993,Debiteuren!$A$2:$O$9998,15,0)&\"\"&VLOOKUP(C993,Debiteuren!$A$2:$N$9998,14,0))","v":""},null,"","",0,""]
[null,null,null,null,null,null,null,null,null,null,"",null,null,"",null,null,null,null,null,0,null,{"$f":"IF(C994=\"\",\"\",VLOOKUP(C994,Debiteuren!$A$2:$J$9998,10,0))&\"\"","v":""},{"$f":"IF(C994=\"\",\"\",VLOOKUP(C994,Debiteuren!$A$2:$O$9998,15,0)&\"\"&VLOOKUP(C994,Debiteuren!$A$2:$N$9998,14,0))","v":""},null,"","",0,""]
[null,null,null,null,null,null,null,null,null,null,"",null,null,"",null,null,null,null,null,0,null,{"$f":"IF(C995=\"\",\"\",VLOOKUP(C995,Debiteuren!$A$2:$J$9998,10,0))&\"\"","v":""},{"$f":"IF(C995=\"\",\"\",VLOOKUP(C995,Debiteuren!$A$2:$O$9998,15,0)&\"\"&VLOOKUP(C995,Debiteuren!$A$2:$N$9998,14,0))","v":""},null,"","",0,""]
[null,null,null,null,null,null,null,null,null,null,"",null,null,"",null,null,null,null,null,0,null,{"$f":"IF(C996=\"\",\"\",VLOOKUP(C996,Debiteuren!$A$2:$J$9998,10,0))&\"\"","v":""},{"$f":"IF(C996=\"\",\"\",VLOOKUP(C996,Debiteuren!$A$2:$O$9998,15,0)&\"\"&VLOOKUP(C996,Debiteuren!$A$2:$N$9998,14,0))","v":""},null,"","",0,""]
[null,null,null,null,null,null,null,null,null,null,"",null,null,"",null,null,null,null,null,0,null,{"$f":"IF(C997=\"\",\"\",VLOOKUP(C997,Debiteuren!$A$2:$J$9998,10,0))&\"\"","v":""},{"$f":"IF(C997=\"\",\"\",VLOOKUP(C997,Debiteuren!$A$2:$O$9998,15,0)&\"\"&VLOOKUP(C997,Debiteuren!$A$2:$N$9998,14,0))","v":""},null,"","",0,""]
[null,null,null,null,null,null,null,null,null,null,"",null,null,"",null,null,null,null,null,0,null,{"$f":"IF(C998=\"\",\"\",VLOOKUP(C998,Debiteuren!$A$2:$J$9998,10,0))&\"\"","v":""},{"$f":"IF(C998=\"\",\"\",VLOOKUP(C998,Debiteuren!$A$2:$O$9998,15,0)&\"\"&VLOOKUP(C998,Debiteuren!$A$2:$N$9998,14,0))","v":""},null,"","",0,""]
[null,null,null,null,null,null,null,null,null,null,"",null,null,"",null,null,null,null,null,0,null,{"$f":"IF(C999=\"\",\"\",VLOOKUP(C999,Debiteuren!$A$2:$J$9998,10,0))&\"\"","v":""},{"$f":"IF(C999=\"\",\"\",VLOOKUP(C999,Debiteuren!$A$2:$O$9998,15,0)&\"\"&VLOOKUP(C999,Debiteuren!$A$2:$N$9998,14,0))","v":""},null,"","",0,""]
[null,null,null,null,null,null,null,null,null,null,"",null,null,"",null,null,null,null,null,0,null,{"$f":"IF(C1000=\"\",\"\",VLOOKUP(C1000,Debiteuren!$A$2:$J$9998,10,0))&\"\"","v":""},{"$f":"IF(C1000=\"\",\"\",VLOOKUP(C1000,Debiteuren!$A$2:$O$9998,15,0)&\"\"&VLOOKUP(C1000,Debiteuren!$A$2:$N$9998,14,0))","v":""},null,"","",0,""]
[null,null,null,null,null,null,null,null,null,null,"",null,null,"",null,null,null,null,null,0,null,{"$f":"IF(C1002=\"\",\"\",VLOOKUP(C1002,Debiteuren!$A$2:$J$9998,10,0))&\"\"","v":""},{"$f":"IF(C1002=\"\",\"\",VLOOKUP(C1002,Debiteuren!$A$2:$O$9998,15,0)&\"\"&VLOOKUP(C1002,Debiteuren!$A$2:$N$9998,14,0))","v":""},null,"","",0,""]
[null,null,null,null,null,null,null,null,null,null,"",null,null,"",null,null,null,null,null,0,null,{"$f":"IF(C1013=\"\",\"\",VLOOKUP(C1013,Debiteuren!$A$2:$J$9998,10,0))&\"\"","v":""},{"$f":"IF(C1013=\"\",\"\",VLOOKUP(C1013,Debiteuren!$A$2:$O$9998,15,0)&\"\"&VLOOKUP(C1013,Debiteuren!$A$2:$N$9998,14,0))","v":""},null,"","",0,""]
[null,null,null,null,null,null,null,null,null,null,"",null,null,"",null,null,null,null,null,0,null,{"$f":"IF(C1025=\"\",\"\",VLOOKUP(C1025,Debiteuren!$A$2:$J$9998,10,0))&\"\"","v":""},{"$f":"IF(C1025=\"\",\"\",VLOOKUP(C1025,Debiteuren!$A$2:$O$9998,15,0)&\"\"&VLOOKUP(C1025,Debiteuren!$A$2:$N$9998,14,0))","v":""},null,"","",0,""]
[null,null,null,null,null,null,null,null,null,null,"",null,null,"",null,null,null,null,null,0,null,{"$f":"IF(C1032=\"\",\"\",VLOOKUP(C1032,Debiteuren!$A$2:$J$9998,10,0))&\"\"","v":""},{"$f":"IF(C1032=\"\",\"\",VLOOKUP(C1032,Debiteuren!$A$2:$O$9998,15,0)&\"\"&VLOOKUP(C1032,Debiteuren!$A$2:$N$9998,14,0))","v":""},null,"","",0,""]
[null,null,null,null,null,null,null,null,null,null,"",null,null,"",null,null,null,null,null,0,null,{"$f":"IF(C1041=\"\",\"\",VLOOKUP(C1041,Debiteuren!$A$2:$J$9998,10,0))&\"\"","v":""},{"$f":"IF(C1041=\"\",\"\",VLOOKUP(C1041,Debiteuren!$A$2:$O$9998,15,0)&\"\"&VLOOKUP(C1041,Debiteuren!$A$2:$N$9998,14,0))","v":""},null,"","",0,""]
[null,null,null,null,null,null,null,null,null,null,"",null,null,"",null,null,null,null,null,0,null,{"$f":"IF(C1046=\"\",\"\",VLOOKUP(C1046,Debiteuren!$A$2:$J$9998,10,0))&\"\"","v":""},{"$f":"IF(C1046=\"\",\"\",VLOOKUP(C1046,Debiteuren!$A$2:$O$9998,15,0)&\"\"&VLOOKUP(C1046,Debiteuren!$A$2:$N$9998,14,0))","v":""},null,"","",0,""]
[null,null,null,null,null,null,null,null,null,null,"",null,null,"",null,null,null,null,null,0,null,{"$f":"IF(C1053=\"\",\"\",VLOOKUP(C1053,Debiteuren!$A$2:$J$9998,10,0))&\"\"","v":""},{"$f":"IF(C1053=\"\",\"\",VLOOKUP(C1053,Debiteuren!$A$2:$O$9998,15,0)&\"\"&VLOOKUP(C1053,Debiteuren!$A$2:$N$9998,14,0))","v":""},null,"","",0,""]
[null,null,null,null,null,null,null,null,null,null,"",null,null,"",null,null,null,null,null,0,null,{"$f":"IF(C1065=\"\",\"\",VLOOKUP(C1065,Debiteuren!$A$2:$J$9998,10,0))&\"\"","v":""},{"$f":"IF(C1065=\"\",\"\",VLOOKUP(C1065,Debiteuren!$A$2:$O$9998,15,0)&\"\"&VLOOKUP(C1065,Debiteuren!$A$2:$N$9998,14,0))","v":""},null,"","",0,""]
[null,null,null,null,null,null,null,null,null,null,"",null,null,"",null,null,null,null,null,0,null,{"$f":"IF(C1072=\"\",\"\",VLOOKUP(C1072,Debiteuren!$A$2:$J$9998,10,0))&\"\"","v":""},{"$f":"IF(C1072=\"\",\"\",VLOOKUP(C1072,Debiteuren!$A$2:$O$9998,15,0)&\"\"&VLOOKUP(C1072,Debiteuren!$A$2:$N$9998,14,0))","v":""},null,"","",0,""]
[null,null,null,null,null,null,null,null,null,null,"",null,null,"",null,null,null,null,null,0,null,{"$f":"IF(C1082=\"\",\"\",VLOOKUP(C1082,Debiteuren!$A$2:$J$9998,10,0))&\"\"","v":""},{"$f":"IF(C1082=\"\",\"\",VLOOKUP(C1082,Debiteuren!$A$2:$O$9998,15,0)&\"\"&VLOOKUP(C1082,Debiteuren!$A$2:$N$9998,14,0))","v":""},null,"","",0,""]
[null,null,null,null,null,null,null,null,null,null,"",null,null,"",null,null,null,null,null,0,null,{"$f":"IF(C1095=\"\",\"\",VLOOKUP(C1095,Debiteuren!$A$2:$J$9998,10,0))&\"\"","v":""},{"$f":"IF(C1095=\"\",\"\",VLOOKUP(C1095,Debiteuren!$A$2:$O$9998,15,0)&\"\"&VLOOKUP(C1095,Debiteuren!$A$2:$N$9998,14,0))","v":""},null,"","",0,""]
[null,null,null,null,null,null,null,null,null,null,"",null,null,"",null,null,null,null,null,0,null,{"$f":"IF(C1102=\"\",\"\",VLOOKUP(C1102,Debiteuren!$A$2:$J$9998,10,0))&\"\"","v":""},{"$f":"IF(C1102=\"\",\"\",VLOOKUP(C1102,Debiteuren!$A$2:$O$9998,15,0)&\"\"&VLOOKUP(C1102,Debiteuren!$A$2:$N$9998,14,0))","v":""},null,"","",0,""]
[null,null,null,null,null,null,null,null,null,null,"",null,null,"",null,null,null,null,null,0,null,{"$f":"IF(C1114=\"\",\"\",VLOOKUP(C1114,Debiteuren!$A$2:$J$9998,10,0))&\"\"","v":""},{"$f":"IF(C1114=\"\",\"\",VLOOKUP(C1114,Debiteuren!$A$2:$O$9998,15,0)&\"\"&VLOOKUP(C1114,Debiteuren!$A$2:$N$9998,14,0))","v":""},null,"","",0,""]
[null,null,null,null,null,null,null,null,null,null,"",null,null,"",null,null,null,null,null,0,null,{"$f":"IF(C1117=\"\",\"\",VLOOKUP(C1117,Debiteuren!$A$2:$J$9998,10,0))&\"\"","v":""},{"$f":"IF(C1117=\"\",\"\",VLOOKUP(C1117,Debiteuren!$A$2:$O$9998,15,0)&\"\"&VLOOKUP(C1117,Debiteuren!$A$2:$N$9998,14,0))","v":""},null,"","",0,""]
[null,null,null,null,null,null,null,null,null,null,"",null,null,"",null,null,null,null,null,0,null,{"$f":"IF(C1131=\"\",\"\",VLOOKUP(C1131,Debiteuren!$A$2:$J$9998,10,0))&\"\"","v":""},{"$f":"IF(C1131=\"\",\"\",VLOOKUP(C1131,Debiteuren!$A$2:$O$9998,15,0)&\"\"&VLOOKUP(C1131,Debiteuren!$A$2:$N$9998,14,0))","v":""},null,"","",0,""]
[null,null,null,null,null,null,null,null,null,null,"",null,null,"",null,null,null,null,null,{"$f":"IF(B1135=1,E1135,0)","v":0},null,{"$f":"IF(C1135=\"\",\"\",VLOOKUP(C1135,Debiteuren!$A$2:$J$9998,10,0))&\"\"","v":""},{"$f":"IF(C1135=\"\",\"\",VLOOKUP(C1135,Debiteuren!$A$2:$O$9998,15,0)&\"\"&VLOOKUP(C1135,Debiteuren!$A$2:$N$9998,14,0))","v":""},null,"","",0,""]
[null,null,null,null,null,null,null,null,null,null,"",null,null,"",null,null,null,null,null,0,null,{"$f":"IF(C1142=\"\",\"\",VLOOKUP(C1142,Debiteuren!$A$2:$J$9998,10,0))&\"\"","v":""},{"$f":"IF(C1142=\"\",\"\",VLOOKUP(C1142,Debiteuren!$A$2:$O$9998,15,0)&\"\"&VLOOKUP(C1142,Debiteuren!$A$2:$N$9998,14,0))","v":""},null,"","",0,""]
[null,null,null,null,null,null,null,null,null,null,"",null,null,"",null,null,null,null,null,0,null,{"$f":"IF(C1154=\"\",\"\",VLOOKUP(C1154,Debiteuren!$A$2:$J$9998,10,0))&\"\"","v":""},{"$f":"IF(C1154=\"\",\"\",VLOOKUP(C1154,Debiteuren!$A$2:$O$9998,15,0)&\"\"&VLOOKUP(C1154,Debiteuren!$A$2:$N$9998,14,0))","v":""},null,"","",0,""]
[null,null,null,null,null,null,null,null,null,null,"",null,null,"",null,null,null,null,null,0,null,{"$f":"IF(C1166=\"\",\"\",VLOOKUP(C1166,Debiteuren!$A$2:$J$9998,10,0))&\"\"","v":""},{"$f":"IF(C1166=\"\",\"\",VLOOKUP(C1166,Debiteuren!$A$2:$O$9998,15,0)&\"\"&VLOOKUP(C1166,Debiteuren!$A$2:$N$9998,14,0))","v":""},null,"","",0,""]
[null,null,null,null,null,null,null,null,null,null,"",null,null,"",null,null,null,null,null,0,null,{"$f":"IF(C1172=\"\",\"\",VLOOKUP(C1172,Debiteuren!$A$2:$J$9998,10,0))&\"\"","v":""},{"$f":"IF(C1172=\"\",\"\",VLOOKUP(C1172,Debiteuren!$A$2:$O$9998,15,0)&\"\"&VLOOKUP(C1172,Debiteuren!$A$2:$N$9998,14,0))","v":""},null,"","",0,""]
[null,null,null,null,null,null,null,null,null,null,"",null,null,"",null,null,null,null,null,0,null,{"$f":"IF(C1184=\"\",\"\",VLOOKUP(C1184,Debiteuren!$A$2:$J$9998,10,0))&\"\"","v":""},{"$f":"IF(C1184=\"\",\"\",VLOOKUP(C1184,Debiteuren!$A$2:$O$9998,15,0)&\"\"&VLOOKUP(C1184,Debiteuren!$A$2:$N$9998,14,0))","v":""},null,"","",0,""]
[null,null,null,null,null,null,null,null,null,null,"",null,null,"",null,null,null,null,null,0,null,{"$f":"IF(C1191=\"\",\"\",VLOOKUP(C1191,Debiteuren!$A$2:$J$9998,10,0))&\"\"","v":""},{"$f":"IF(C1191=\"\",\"\",VLOOKUP(C1191,Debiteuren!$A$2:$O$9998,15,0)&\"\"&VLOOKUP(C1191,Debiteuren!$A$2:$N$9998,14,0))","v":""},null,"","",0,""]
[null,null,null,null,null,null,null,null,null,null,"",null,null,"",null,null,null,null,null,0,null,{"$f":"IF(C1194=\"\",\"\",VLOOKUP(C1194,Debiteuren!$A$2:$J$9998,10,0))&\"\"","v":""},{"$f":"IF(C1194=\"\",\"\",VLOOKUP(C1194,Debiteuren!$A$2:$O$9998,15,0)&\"\"&VLOOKUP(C1194,Debiteuren!$A$2:$N$9998,14,0))","v":""},null,"","",0,""]
[null,null,null,null,null,null,null,null,null,null,"",null,null,"",null,null,null,null,null,0,null,{"$f":"IF(C1203=\"\",\"\",VLOOKUP(C1203,Debiteuren!$A$2:$J$9998,10,0))&\"\"","v":""},{"$f":"IF(C1203=\"\",\"\",VLOOKUP(C1203,Debiteuren!$A$2:$O$9998,15,0)&\"\"&VLOOKUP(C1203,Debiteuren!$A$2:$N$9998,14,0))","v":""},null,"","",0,""]
[null,null,null,null,null,null,null,null,null,null,"",null,null,"",null,null,null,null,null,0,null,{"$f":"IF(C1212=\"\",\"\",VLOOKUP(C1212,Debiteuren!$A$2:$J$9998,10,0))&\"\"","v":""},{"$f":"IF(C1212=\"\",\"\",VLOOKUP(C1212,Debiteuren!$A$2:$O$9998,15,0)&\"\"&VLOOKUP(C1212,Debiteuren!$A$2:$N$9998,14,0))","v":""},null,"","",0,""]
[null,null,null,null,null,null,null,null,null,null,"",null,null,"",null,null,null,null,null,0,null,{"$f":"IF(C1224=\"\",\"\",VLOOKUP(C1224,Debiteuren!$A$2:$J$9998,10,0))&\"\"","v":""},{"$f":"IF(C1224=\"\",\"\",VLOOKUP(C1224,Debiteuren!$A$2:$O$9998,15,0)&\"\"&VLOOKUP(C1224,Debiteuren!$A$2:$N$9998,14,0))","v":""},null,"","",0,""]
[null,null,null,null,null,null,null,null,null,null,"",null,null,"",null,null,null,null,null,0,null,{"$f":"IF(C1236=\"\",\"\",VLOOKUP(C1236,Debiteuren!$A$2:$J$9998,10,0))&\"\"","v":""},{"$f":"IF(C1236=\"\",\"\",VLOOKUP(C1236,Debiteuren!$A$2:$O$9998,15,0)&\"\"&VLOOKUP(C1236,Debiteuren!$A$2:$N$9998,14,0))","v":""},null,"","",0,""]
[null,null,null,null,null,null,null,null,null,null,"",null,null,"",null,null,null,null,null,0,null,{"$f":"IF(C1243=\"\",\"\",VLOOKUP(C1243,Debiteuren!$A$2:$J$9998,10,0))&\"\"","v":""},{"$f":"IF(C1243=\"\",\"\",VLOOKUP(C1243,Debiteuren!$A$2:$O$9998,15,0)&\"\"&VLOOKUP(C1243,Debiteuren!$A$2:$N$9998,14,0))","v":""},null,"","",0,""]
[null,null,null,null,null,null,null,null,null,null,"",null,null,"",null,null,null,null,null,0,null,{"$f":"IF(C1252=\"\",\"\",VLOOKUP(C1252,Debiteuren!$A$2:$J$9998,10,0))&\"\"","v":""},{"$f":"IF(C1252=\"\",\"\",VLOOKUP(C1252,Debiteuren!$A$2:$O$9998,15,0)&\"\"&VLOOKUP(C1252,Debiteuren!$A$2:$N$9998,14,0))","v":""},null,"","",0,""]
[null,null,null,null,null,null,null,null,null,null,"",null,null,"",null,null,null,null,null,0,null,{"$f":"IF(C1261=\"\",\"\",VLOOKUP(C1261,Debiteuren!$A$2:$J$9998,10,0))&\"\"","v":""},{"$f":"IF(C1261=\"\",\"\",VLOOKUP(C1261,Debiteuren!$A$2:$O$9998,15,0)&\"\"&VLOOKUP(C1261,Debiteuren!$A$2:$N$9998,14,0))","v":""},null,"","",0,""]
[null,null,null,null,null,null,null,null,null,null,"",null,null,"",null,null,null,null,null,0,null,{"$f":"IF(C1264=\"\",\"\",VLOOKUP(C1264,Debiteuren!$A$2:$J$9998,10,0))&\"\"","v":""},{"$f":"IF(C1264=\"\",\"\",VLOOKUP(C1264,Debiteuren!$A$2:$O$9998,15,0)&\"\"&VLOOKUP(C1264,Debiteuren!$A$2:$N$9998,14,0))","v":""},null,"","",0,""]
[null,null,null,null,null,null,null,null,null,null,"",null,null,"",null,null,null,null,null,0,null,{"$f":"IF(C1276=\"\",\"\",VLOOKUP(C1276,Debiteuren!$A$2:$J$9998,10,0))&\"\"","v":""},{"$f":"IF(C1276=\"\",\"\",VLOOKUP(C1276,Debiteuren!$A$2:$O$9998,15,0)&\"\"&VLOOKUP(C1276,Debiteuren!$A$2:$N$9998,14,0))","v":""},null,"","",0,""]
[null,null,null,null,null,null,null,null,null,null,"",null,null,"",null,null,null,null,null,0,null,{"$f":"IF(C1283=\"\",\"\",VLOOKUP(C1283,Debiteuren!$A$2:$J$9998,10,0))&\"\"","v":""},{"$f":"IF(C1283=\"\",\"\",VLOOKUP(C1283,Debiteuren!$A$2:$O$9998,15,0)&\"\"&VLOOKUP(C1283,Debiteuren!$A$2:$N$9998,14,0))","v":""},null,"","",0,""]
[null,null,null,null,null,null,null,null,null,null,"",null,null,"",null,null,null,null,null,0,null,{"$f":"IF(C1293=\"\",\"\",VLOOKUP(C1293,Debiteuren!$A$2:$J$9998,10,0))&\"\"","v":""},{"$f":"IF(C1293=\"\",\"\",VLOOKUP(C1293,Debiteuren!$A$2:$O$9998,15,0)&\"\"&VLOOKUP(C1293,Debiteuren!$A$2:$N$9998,14,0))","v":""},null,"","",0,""]
[null,null,null,null,null,null,null,null,null,null,"",null,null,"",null,null,null,null,null,0,null,{"$f":"IF(C1306=\"\",\"\",VLOOKUP(C1306,Debiteuren!$A$2:$J$9998,10,0))&\"\"","v":""},{"$f":"IF(C1306=\"\",\"\",VLOOKUP(C1306,Debiteuren!$A$2:$O$9998,15,0)&\"\"&VLOOKUP(C1306,Debiteuren!$A$2:$N$9998,14,0))","v":""},null,"","",0,""]
[null,null,null,null,null,null,null,null,null,null,"",null,null,"",null,null,null,null,null,0,null,{"$f":"IF(C1313=\"\",\"\",VLOOKUP(C1313,Debiteuren!$A$2:$J$9998,10,0))&\"\"","v":""},{"$f":"IF(C1313=\"\",\"\",VLOOKUP(C1313,Debiteuren!$A$2:$O$9998,15,0)&\"\"&VLOOKUP(C1313,Debiteuren!$A$2:$N$9998,14,0))","v":""},null,"","",0,""]
[null,null,null,null,null,null,null,null,null,null,"",null,null,"",null,null,null,null,null,0,null,{"$f":"IF(C1325=\"\",\"\",VLOOKUP(C1325,Debiteuren!$A$2:$J$9998,10,0))&\"\"","v":""},{"$f":"IF(C1325=\"\",\"\",VLOOKUP(C1325,Debiteuren!$A$2:$O$9998,15,0)&\"\"&VLOOKUP(C1325,Debiteuren!$A$2:$N$9998,14,0))","v":""},null,"","",0,""]
[null,null,null,null,null,null,null,null,null,null,"",null,null,"",null,null,null,null,null,0,null,{"$f":"IF(C1332=\"\",\"\",VLOOKUP(C1332,Debiteuren!$A$2:$J$9998,10,0))&\"\"","v":""},{"$f":"IF(C1332=\"\",\"\",VLOOKUP(C1332,Debiteuren!$A$2:$O$9998,15,0)&\"\"&VLOOKUP(C1332,Debiteuren!$A$2:$N$9998,14,0))","v":""},null,"","",0,""]
[null,null,null,null,null,null,null,null,null,null,"",null,null,"",null,null,null,null,null,0,null,{"$f":"IF(C1342=\"\",\"\",VLOOKUP(C1342,Debiteuren!$A$2:$J$9998,10,0))&\"\"","v":""},{"$f":"IF(C1342=\"\",\"\",VLOOKUP(C1342,Debiteuren!$A$2:$O$9998,15,0)&\"\"&VLOOKUP(C1342,Debiteuren!$A$2:$N$9998,14,0))","v":""},null,"","",0,""]
[null,null,null,null,null,null,null,null,null,null,"",null,null,"",null,null,null,null,null,0,null,{"$f":"IF(C1346=\"\",\"\",VLOOKUP(C1346,Debiteuren!$A$2:$J$9998,10,0))&\"\"","v":""},{"$f":"IF(C1346=\"\",\"\",VLOOKUP(C1346,Debiteuren!$A$2:$O$9998,15,0)&\"\"&VLOOKUP(C1346,Debiteuren!$A$2:$N$9998,14,0))","v":""},null,"","",0,""]
[null,null,null,null,null,null,null,null,null,null,"",null,null,"",null,null,null,null,null,0,null,{"$f":"IF(C1353=\"\",\"\",VLOOKUP(C1353,Debiteuren!$A$2:$J$9998,10,0))&\"\"","v":""},{"$f":"IF(C1353=\"\",\"\",VLOOKUP(C1353,Debiteuren!$A$2:$O$9998,15,0)&\"\"&VLOOKUP(C1353,Debiteuren!$A$2:$N$9998,14,0))","v":""},null,"","",0,""]
[null,null,null,null,null,null,null,null,null,null,"",null,null,"",null,null,null,null,null,0,null,{"$f":"IF(C1365=\"\",\"\",VLOOKUP(C1365,Debiteuren!$A$2:$J$9998,10,0))&\"\"","v":""},{"$f":"IF(C1365=\"\",\"\",VLOOKUP(C1365,Debiteuren!$A$2:$O$9998,15,0)&\"\"&VLOOKUP(C1365,Debiteuren!$A$2:$N$9998,14,0))","v":""},null,"","",0,""]
[null,null,null,null,null,null,null,null,null,null,"",null,null,"",null,null,null,null,null,0,null,{"$f":"IF(C1373=\"\",\"\",VLOOKUP(C1373,Debiteuren!$A$2:$J$9998,10,0))&\"\"","v":""},{"$f":"IF(C1373=\"\",\"\",VLOOKUP(C1373,Debiteuren!$A$2:$O$9998,15,0)&\"\"&VLOOKUP(C1373,Debiteuren!$A$2:$N$9998,14,0))","v":""},null,"","",0,""]
[null,null,null,null,null,null,null,null,null,null,"",null,null,"",null,null,null,null,null,0,null,{"$f":"IF(C1383=\"\",\"\",VLOOKUP(C1383,Debiteuren!$A$2:$J$9998,10,0))&\"\"","v":""},{"$f":"IF(C1383=\"\",\"\",VLOOKUP(C1383,Debiteuren!$A$2:$O$9998,15,0)&\"\"&VLOOKUP(C1383,Debiteuren!$A$2:$N$9998,14,0))","v":""},null,"","",0,""]
[null,null,null,null,null,null,null,null,null,null,"",null,null,"",null,null,null,null,null,0,null,{"$f":"IF(C1395=\"\",\"\",VLOOKUP(C1395,Debiteuren!$A$2:$J$9998,10,0))&\"\"","v":""},{"$f":"IF(C1395=\"\",\"\",VLOOKUP(C1395,Debiteuren!$A$2:$O$9998,15,0)&\"\"&VLOOKUP(C1395,Debiteuren!$A$2:$N$9998,14,0))","v":""},null,"","",0,""]
[null,null,null,null,null,null,null,null,null,null,"",null,null,"",null,null,null,null,null,0,null,{"$f":"IF(C1402=\"\",\"\",VLOOKUP(C1402,Debiteuren!$A$2:$J$9998,10,0))&\"\"","v":""},{"$f":"IF(C1402=\"\",\"\",VLOOKUP(C1402,Debiteuren!$A$2:$O$9998,15,0)&\"\"&VLOOKUP(C1402,Debiteuren!$A$2:$N$9998,14,0))","v":""},null,"","",0,""]
[null,null,null,null,null,null,null,null,null,null,"",null,null,"",null,null,null,null,null,0,null,{"$f":"IF(C1405=\"\",\"\",VLOOKUP(C1405,Debiteuren!$A$2:$J$9998,10,0))&\"\"","v":""},{"$f":"IF(C1405=\"\",\"\",VLOOKUP(C1405,Debiteuren!$A$2:$O$9998,15,0)&\"\"&VLOOKUP(C1405,Debiteuren!$A$2:$N$9998,14,0))","v":""},null,"","",0,""]
[null,null,null,null,null,null,null,null,null,null,"",null,null,"",null,null,null,null,null,0,null,{"$f":"IF(C1414=\"\",\"\",VLOOKUP(C1414,Debiteuren!$A$2:$J$9998,10,0))&\"\"","v":""},{"$f":"IF(C1414=\"\",\"\",VLOOKUP(C1414,Debiteuren!$A$2:$O$9998,15,0)&\"\"&VLOOKUP(C1414,Debiteuren!$A$2:$N$9998,14,0))","v":""},null,"","",0,""]
[null,null,null,null,null,null,null,null,null,null,"",null,null,"",null,null,null,null,null,0,null,{"$f":"IF(C1423=\"\",\"\",VLOOKUP(C1423,Debiteuren!$A$2:$J$9998,10,0))&\"\"","v":""},{"$f":"IF(C1423=\"\",\"\",VLOOKUP(C1423,Debiteuren!$A$2:$O$9998,15,0)&\"\"&VLOOKUP(C1423,Debiteuren!$A$2:$N$9998,14,0))","v":""},null,"","",0,""]
[null,null,null,null,null,null,null,null,null,null,"",null,null,"",null,null,null,null,null,0,null,{"$f":"IF(C1435=\"\",\"\",VLOOKUP(C1435,Debiteuren!$A$2:$J$9998,10,0))&\"\"","v":""},{"$f":"IF(C1435=\"\",\"\",VLOOKUP(C1435,Debiteuren!$A$2:$O$9998,15,0)&\"\"&VLOOKUP(C1435,Debiteuren!$A$2:$N$9998,14,0))","v":""},null,"","",0,""]
[null,null,null,null,null,null,null,null,null,null,"",null,null,"",null,null,null,null,null,0,null,{"$f":"IF(C1442=\"\",\"\",VLOOKUP(C1442,Debiteuren!$A$2:$J$9998,10,0))&\"\"","v":""},{"$f":"IF(C1442=\"\",\"\",VLOOKUP(C1442,Debiteuren!$A$2:$O$9998,15,0)&\"\"&VLOOKUP(C1442,Debiteuren!$A$2:$N$9998,14,0))","v":""},null,"","",0,""]
[null,null,null,null,null,null,null,null,null,null,"",null,null,"",null,null,null,null,null,0,null,{"$f":"IF(C1454=\"\",\"\",VLOOKUP(C1454,Debiteuren!$A$2:$J$9998,10,0))&\"\"","v":""},{"$f":"IF(C1454=\"\",\"\",VLOOKUP(C1454,Debiteuren!$A$2:$O$9998,15,0)&\"\"&VLOOKUP(C1454,Debiteuren!$A$2:$N$9998,14,0))","v":""},null,{"$f":"IF(D1454=\"\",\"\",DATEDIF(D1454,TODAY(),\"d\"))","v":""},{"$f":"IF(G1454=\"\",\"\",DATEDIF(D1454,G1454,\"d\"))","v":""},{"$f":"DATEDIF(D1454,H1454,\"d\")","v":0},{"$f":"IF(Y1454=\"\",\"\",Y1454-AA1454)","v":""}]
[null,null,null,null,null,null,null,null,null,null,"",null,null,"",null,null,null,null,null,0,null,{"$f":"IF(C1463=\"\",\"\",VLOOKUP(C1463,Debiteuren!$A$2:$J$9998,10,0))&\"\"","v":""},{"$f":"IF(C1463=\"\",\"\",VLOOKUP(C1463,Debiteuren!$A$2:$O$9998,15,0)&\"\"&VLOOKUP(C1463,Debiteuren!$A$2:$N$9998,14,0))","v":""},null,"","",0,""]
[null,null,null,null,null,null,null,null,null,null,"",null,null,"",null,null,null,null,null,0,null,{"$f":"IF(C1472=\"\",\"\",VLOOKUP(C1472,Debiteuren!$A$2:$J$9998,10,0))&\"\"","v":""},{"$f":"IF(C1472=\"\",\"\",VLOOKUP(C1472,Debiteuren!$A$2:$O$9998,15,0)&\"\"&VLOOKUP(C1472,Debiteuren!$A$2:$N$9998,14,0))","v":""},null,"","",0,""]
[null,null,null,null,null,null,null,null,null,null,"",null,null,"",null,null,null,null,null,0,null,{"$f":"IF(C1475=\"\",\"\",VLOOKUP(C1475,Debiteuren!$A$2:$J$9998,10,0))&\"\"","v":""},{"$f":"IF(C1475=\"\",\"\",VLOOKUP(C1475,Debiteuren!$A$2:$O$9998,15,0)&\"\"&VLOOKUP(C1475,Debiteuren!$A$2:$N$9998,14,0))","v":""},null,"","",0,""]
[null,null,null,null,null,null,null,null,null,null,"",null,null,"",null,null,null,null,null,0,null,{"$f":"IF(C1491=\"\",\"\",VLOOKUP(C1491,Debiteuren!$A$2:$J$9998,10,0))&\"\"","v":""},{"$f":"IF(C1491=\"\",\"\",VLOOKUP(C1491,Debiteuren!$A$2:$O$9998,15,0)&\"\"&VLOOKUP(C1491,Debiteuren!$A$2:$N$9998,14,0))","v":""},null,"","",0,""]
[null,null,null,null,null,null,null,null,null,null,"",null,null,"",null,null,null,null,null,0,null,{"$f":"IF(C1494=\"\",\"\",VLOOKUP(C1494,Debiteuren!$A$2:$J$9998,10,0))&\"\"","v":""},{"$f":"IF(C1494=\"\",\"\",VLOOKUP(C1494,Debiteuren!$A$2:$O$9998,15,0)&\"\"&VLOOKUP(C1494,Debiteuren!$A$2:$N$9998,14,0))","v":""},null,"","",0,""]
[null,null,null,null,null,null,null,null,null,null,"",null,null,"",null,null,null,null,null,0,null,{"$f":"IF(C1504=\"\",\"\",VLOOKUP(C1504,Debiteuren!$A$2:$J$9998,10,0))&\"\"","v":""},{"$f":"IF(C1504=\"\",\"\",VLOOKUP(C1504,Debiteuren!$A$2:$O$9998,15,0)&\"\"&VLOOKUP(C1504,Debiteuren!$A$2:$N$9998,14,0))","v":""},null,"","",0,""]
[null,null,null,null,null,null,null,null,null,null,"",null,null,"",null,null,null,null,null,0,null,{"$f":"IF(C1512=\"\",\"\",VLOOKUP(C1512,Debiteuren!$A$2:$J$9998,10,0))&\"\"","v":""},{"$f":"IF(C1512=\"\",\"\",VLOOKUP(C1512,Debiteuren!$A$2:$O$9998,15,0)&\"\"&VLOOKUP(C1512,Debiteuren!$A$2:$N$9998,14,0))","v":""},null,"","",0,""]
[null,null,null,null,null,null,null,null,null,null,"",null,null,"",null,null,null,null,null,0,null,{"$f":"IF(C1524=\"\",\"\",VLOOKUP(C1524,Debiteuren!$A$2:$J$9998,10,0))&\"\"","v":""},{"$f":"IF(C1524=\"\",\"\",VLOOKUP(C1524,Debiteuren!$A$2:$O$9998,15,0)&\"\"&VLOOKUP(C1524,Debiteuren!$A$2:$N$9998,14,0))","v":""},null,"","",0,""]
[null,null,null,null,null,null,null,null,null,null,"",null,null,"",null,null,null,null,null,0,null,{"$f":"IF(C1536=\"\",\"\",VLOOKUP(C1536,Debiteuren!$A$2:$J$9998,10,0))&\"\"","v":""},{"$f":"IF(C1536=\"\",\"\",VLOOKUP(C1536,Debiteuren!$A$2:$O$9998,15,0)&\"\"&VLOOKUP(C1536,Debiteuren!$A$2:$N$9998,14,0))","v":""},null,"","",0,""]
[null,null,null,null,null,null,null,null,null,null,"",null,null,"",null,null,null,null,null,0,null,{"$f":"IF(C1543=\"\",\"\",VLOOKUP(C1543,Debiteuren!$A$2:$J$9998,10,0))&\"\"","v":""},{"$f":"IF(C1543=\"\",\"\",VLOOKUP(C1543,Debiteuren!$A$2:$O$9998,15,0)&\"\"&VLOOKUP(C1543,Debiteuren!$A$2:$N$9998,14,0))","v":""},null,"","",0,""]
[null,null,null,null,null,null,null,null,null,null,"",null,null,"",null,null,null,null,null,0,null,{"$f":"IF(C1545=\"\",\"\",VLOOKUP(C1545,Debiteuren!$A$2:$J$9998,10,0))&\"\"","v":""},{"$f":"IF(C1545=\"\",\"\",VLOOKUP(C1545,Debiteuren!$A$2:$O$9998,15,0)&\"\"&VLOOKUP(C1545,Debiteuren!$A$2:$N$9998,14,0))","v":""},null,"","",0,""]
[null,null,null,null,null,null,null,null,null,null,"",null,null,"",null,null,null,null,null,0,null,{"$f":"IF(C1561=\"\",\"\",VLOOKUP(C1561,Debiteuren!$A$2:$J$9998,10,0))&\"\"","v":""},{"$f":"IF(C1561=\"\",\"\",VLOOKUP(C1561,Debiteuren!$A$2:$O$9998,15,0)&\"\"&VLOOKUP(C1561,Debiteuren!$A$2:$N$9998,14,0))","v":""},null,"","",0,""]
[null,null,null,null,null,null,null,null,null,null,"",null,null,"",null,null,null,null,null,0,null,{"$f":"IF(C1564=\"\",\"\",VLOOKUP(C1564,Debiteuren!$A$2:$J$9998,10,0))&\"\"","v":""},{"$f":"IF(C1564=\"\",\"\",VLOOKUP(C1564,Debiteuren!$A$2:$O$9998,15,0)&\"\"&VLOOKUP(C1564,Debiteuren!$A$2:$N$9998,14,0))","v":""},null,"","",0,""]
[null,null,null,null,null,null,null,null,null,null,"",null,null,"",null,null,null,null,null,0,null,{"$f":"IF(C1576=\"\",\"\",VLOOKUP(C1576,Debiteuren!$A$2:$J$9998,10,0))&\"\"","v":""},{"$f":"IF(C1576=\"\",\"\",VLOOKUP(C1576,Debiteuren!$A$2:$O$9998,15,0)&\"\"&VLOOKUP(C1576,Debiteuren!$A$2:$N$9998,14,0))","v":""},null,"","",0,""]
[null,null,null,null,null,null,null,null,null,null,"",null,null,"",null,null,null,null,null,0,null,{"$f":"IF(C1584=\"\",\"\",VLOOKUP(C1584,Debiteuren!$A$2:$J$9998,10,0))&\"\"","v":""},{"$f":"IF(C1584=\"\",\"\",VLOOKUP(C1584,Debiteuren!$A$2:$O$9998,15,0)&\"\"&VLOOKUP(C1584,Debiteuren!$A$2:$N$9998,14,0))","v":""},null,"","",0,""]
[null,null,null,null,null,null,null,null,null,null,"",null,null,"",null,null,null,null,null,0,null,{"$f":"IF(C1594=\"\",\"\",VLOOKUP(C1594,Debiteuren!$A$2:$J$9998,10,0))&\"\"","v":""},{"$f":"IF(C1594=\"\",\"\",VLOOKUP(C1594,Debiteuren!$A$2:$O$9998,15,0)&\"\"&VLOOKUP(C1594,Debiteuren!$A$2:$N$9998,14,0))","v":""},null,"","",0,""]
[null,null,null,null,null,null,null,null,null,null,"",null,null,"",null,null,null,null,null,0,null,{"$f":"IF(C1606=\"\",\"\",VLOOKUP(C1606,Debiteuren!$A$2:$J$9998,10,0))&\"\"","v":""},{"$f":"IF(C1606=\"\",\"\",VLOOKUP(C1606,Debiteuren!$A$2:$O$9998,15,0)&\"\"&VLOOKUP(C1606,Debiteuren!$A$2:$N$9998,14,0))","v":""},null,"","",0,""]
[null,null,null,null,null,null,null,null,null,null,"",null,null,"",null,null,null,null,null,0,null,{"$f":"IF(C1613=\"\",\"\",VLOOKUP(C1613,Debiteuren!$A$2:$J$9998,10,0))&\"\"","v":""},{"$f":"IF(C1613=\"\",\"\",VLOOKUP(C1613,Debiteuren!$A$2:$O$9998,15,0)&\"\"&VLOOKUP(C1613,Debiteuren!$A$2:$N$9998,14,0))","v":""},null,"","",0,""]
[null,null,null,null,null,null,null,null,null,null,"",null,null,"",null,null,null,null,null,0,null,{"$f":"IF(C1616=\"\",\"\",VLOOKUP(C1616,Debiteuren!$A$2:$J$9998,10,0))&\"\"","v":""},{"$f":"IF(C1616=\"\",\"\",VLOOKUP(C1616,Debiteuren!$A$2:$O$9998,15,0)&\"\"&VLOOKUP(C1616,Debiteuren!$A$2:$N$9998,14,0))","v":""},null,"","",0,""]
[null,null,null,null,null,null,null,null,null,null,"",null,null,"",null,null,null,null,null,0,null,{"$f":"IF(C1625=\"\",\"\",VLOOKUP(C1625,Debiteuren!$A$2:$J$9998,10,0))&\"\"","v":""},{"$f":"IF(C1625=\"\",\"\",VLOOKUP(C1625,Debiteuren!$A$2:$O$9998,15,0)&\"\"&VLOOKUP(C1625,Debiteuren!$A$2:$N$9998,14,0))","v":""},null,"","",0,""]
[null,null,null,null,null,null,null,null,null,null,"",null,null,"",null,null,null,null,null,0,null,{"$f":"IF(C1634=\"\",\"\",VLOOKUP(C1634,Debiteuren!$A$2:$J$9998,10,0))&\"\"","v":""},{"$f":"IF(C1634=\"\",\"\",VLOOKUP(C1634,Debiteuren!$A$2:$O$9998,15,0)&\"\"&VLOOKUP(C1634,Debiteuren!$A$2:$N$9998,14,0))","v":""},null,"","",0,""]
[null,null,null,null,null,null,null,null,null,null,"",null,null,"",null,null,null,null,null,0,null,{"$f":"IF(C1646=\"\",\"\",VLOOKUP(C1646,Debiteuren!$A$2:$J$9998,10,0))&\"\"","v":""},{"$f":"IF(C1646=\"\",\"\",VLOOKUP(C1646,Debiteuren!$A$2:$O$9998,15,0)&\"\"&VLOOKUP(C1646,Debiteuren!$A$2:$N$9998,14,0))","v":""},null,{"$f":"IF(D1646=\"\",\"\",DATEDIF(D1646,TODAY(),\"d\"))","v":""},{"$f":"IF(G1646=\"\",\"\",DATEDIF(D1646,G1646,\"d\"))","v":""},{"$f":"DATEDIF(D1646,H1646,\"d\")","v":0},{"$f":"IF(Y1646=\"\",\"\",Y1646-AA1646)","v":""}]
[null,null,null,null,null,null,null,null,null,null,"",null,null,"",null,null,null,null,null,0,null,{"$f":"IF(C1653=\"\",\"\",VLOOKUP(C1653,Debiteuren!$A$2:$J$9998,10,0))&\"\"","v":""},{"$f":"IF(C1653=\"\",\"\",VLOOKUP(C1653,Debiteuren!$A$2:$O$9998,15,0)&\"\"&VLOOKUP(C1653,Debiteuren!$A$2:$N$9998,14,0))","v":""},null,"","",0,""]
[null,null,null,null,null,null,null,null,null,null,"",null,null,"",null,null,null,null,null,0,null,{"$f":"IF(C1665=\"\",\"\",VLOOKUP(C1665,Debiteuren!$A$2:$J$9998,10,0))&\"\"","v":""},{"$f":"IF(C1665=\"\",\"\",VLOOKUP(C1665,Debiteuren!$A$2:$O$9998,15,0)&\"\"&VLOOKUP(C1665,Debiteuren!$A$2:$N$9998,14,0))","v":""},null,"","",0,""]
[null,null,null,null,null,null,null,null,null,null,"",null,null,"",null,null,null,null,null,0,null,{"$f":"IF(C1674=\"\",\"\",VLOOKUP(C1674,Debiteuren!$A$2:$J$9998,10,0))&\"\"","v":""},{"$f":"IF(C1674=\"\",\"\",VLOOKUP(C1674,Debiteuren!$A$2:$O$9998,15,0)&\"\"&VLOOKUP(C1674,Debiteuren!$A$2:$N$9998,14,0))","v":""},null,"","",0,""]
[null,null,null,null,null,null,null,null,null,null,"",null,null,"",null,null,null,null,null,0,null,{"$f":"IF(C1683=\"\",\"\",VLOOKUP(C1683,Debiteuren!$A$2:$J$9998,10,0))&\"\"","v":""},{"$f":"IF(C1683=\"\",\"\",VLOOKUP(C1683,Debiteuren!$A$2:$O$9998,15,0)&\"\"&VLOOKUP(C1683,Debiteuren!$A$2:$N$9998,14,0))","v":""},null,"","",0,""]
[null,null,null,null,null,null,null,null,null,null,"",null,null,"",null,null,null,null,null,0,null,{"$f":"IF(C1686=\"\",\"\",VLOOKUP(C1686,Debiteuren!$A$2:$J$9998,10,0))&\"\"","v":""},{"$f":"IF(C1686=\"\",\"\",VLOOKUP(C1686,Debiteuren!$A$2:$O$9998,15,0)&\"\"&VLOOKUP(C1686,Debiteuren!$A$2:$N$9998,14,0))","v":""},null,"","",0,""]
[null,null,null,null,null,null,null,null,null,null,"",null,null,"",null,null,null,null,null,0,null,{"$f":"IF(C1702=\"\",\"\",VLOOKUP(C1702,Debiteuren!$A$2:$J$9998,10,0))&\"\"","v":""},{"$f":"IF(C1702=\"\",\"\",VLOOKUP(C1702,Debiteuren!$A$2:$O$9998,15,0)&\"\"&VLOOKUP(C1702,Debiteuren!$A$2:$N$9998,14,0))","v":""},null,"","",0,""]
[null,null,null,null,null,null,null,null,null,null,"",null,null,"",null,null,null,null,null,0,null,{"$f":"IF(C1705=\"\",\"\",VLOOKUP(C1705,Debiteuren!$A$2:$J$9998,10,0))&\"\"","v":""},{"$f":"IF(C1705=\"\",\"\",VLOOKUP(C1705,Debiteuren!$A$2:$O$9998,15,0)&\"\"&VLOOKUP(C1705,Debiteuren!$A$2:$N$9998,14,0))","v":""},null,"","",0,""]
[null,null,null,null,null,null,null,null,null,null,"",null,null,"",null,null,null,null,null,0,null,{"$f":"IF(C1716=\"\",\"\",VLOOKUP(C1716,Debiteuren!$A$2:$J$9998,10,0))&\"\"","v":""},{"$f":"IF(C1716=\"\",\"\",VLOOKUP(C1716,Debiteuren!$A$2:$O$9998,15,0)&\"\"&VLOOKUP(C1716,Debiteuren!$A$2:$N$9998,14,0))","v":""},null,"","",0,""]
[null,null,null,null,null,null,null,null,null,null,"",null,null,"",null,null,null,null,null,0,null,{"$f":"IF(C1723=\"\",\"\",VLOOKUP(C1723,Debiteuren!$A$2:$J$9998,10,0))&\"\"","v":""},{"$f":"IF(C1723=\"\",\"\",VLOOKUP(C1723,Debiteuren!$A$2:$O$9998,15,0)&\"\"&VLOOKUP(C1723,Debiteuren!$A$2:$N$9998,14,0))","v":""},null,"","",0,""]
[null,null,null,null,null,null,null,null,null,null,"",null,null,"",null,null,null,null,null,0,null,{"$f":"IF(C1735=\"\",\"\",VLOOKUP(C1735,Debiteuren!$A$2:$J$9998,10,0))&\"\"","v":""},{"$f":"IF(C1735=\"\",\"\",VLOOKUP(C1735,Debiteuren!$A$2:$O$9998,15,0)&\"\"&VLOOKUP(C1735,Debiteuren!$A$2:$N$9998,14,0))","v":""},null,"","",0,""]
[null,null,null,null,null,null,null,null,null,null,"",null,null,"",null,null,null,null,null,0,null,{"$f":"IF(C1742=\"\",\"\",VLOOKUP(C1742,Debiteuren!$A$2:$J$9998,10,0))&\"\"","v":""},{"$f":"IF(C1742=\"\",\"\",VLOOKUP(C1742,Debiteuren!$A$2:$O$9998,15,0)&\"\"&VLOOKUP(C1742,Debiteuren!$A$2:$N$9998,14,0))","v":""},null,"","",0,""]
[null,null,null,null,null,null,null,null,null,null,"",null,null,"",null,null,null,null,null,0,null,{"$f":"IF(C1754=\"\",\"\",VLOOKUP(C1754,Debiteuren!$A$2:$J$9998,10,0))&\"\"","v":""},{"$f":"IF(C1754=\"\",\"\",VLOOKUP(C1754,Debiteuren!$A$2:$O$9998,15,0)&\"\"&VLOOKUP(C1754,Debiteuren!$A$2:$N$9998,14,0))","v":""},null,"","",0,""]
[null,null,null,null,null,null,null,null,null,null,"",null,null,"",null,null,null,null,null,0,null,{"$f":"IF(C1756=\"\",\"\",VLOOKUP(C1756,Debiteuren!$A$2:$J$9998,10,0))&\"\"","v":""},{"$f":"IF(C1756=\"\",\"\",VLOOKUP(C1756,Debiteuren!$A$2:$O$9998,15,0)&\"\"&VLOOKUP(C1756,Debiteuren!$A$2:$N$9998,14,0))","v":""},null,"","",0,""]
[null,null,null,null,null,null,null,null,null,null,"",null,null,"",null,null,null,null,null,0,null,{"$f":"IF(C1772=\"\",\"\",VLOOKUP(C1772,Debiteuren!$A$2:$J$9998,10,0))&\"\"","v":""},{"$f":"IF(C1772=\"\",\"\",VLOOKUP(C1772,Debiteuren!$A$2:$O$9998,15,0)&\"\"&VLOOKUP(C1772,Debiteuren!$A$2:$N$9998,14,0))","v":""},null,"","",0,""]
[null,null,null,null,null,null,null,null,null,null,"",null,null,"",null,null,null,null,null,{"$f":"IF(B1775=1,E1775,0)","v":0},null,{"$f":"IF(C1775=\"\",\"\",VLOOKUP(C1775,Debiteuren!$A$2:$J$9998,10,0))&\"\"","v":""},{"$f":"IF(C1775=\"\",\"\",VLOOKUP(C1775,Debiteuren!$A$2:$O$9998,15,0)&\"\"&VLOOKUP(C1775,Debiteuren!$A$2:$N$9998,14,0))","v":""},null,"","",0,""]
[null,null,null,null,null,null,null,null,null,null,"",null,null,"",null,null,null,null,null,0,null,{"$f":"IF(C1787=\"\",\"\",VLOOKUP(C1787,Debiteuren!$A$2:$J$9998,10,0))&\"\"","v":""},{"$f":"IF(C1787=\"\",\"\",VLOOKUP(C1787,Debiteuren!$A$2:$O$9998,15,0)&\"\"&VLOOKUP(C1787,Debiteuren!$A$2:$N$9998,14,0))","v":""},null,"","",0,""]
[null,null,null,null,null,null,null,null,null,null,"",null,null,"",null,null,null,null,null,0,null,{"$f":"IF(C1795=\"\",\"\",VLOOKUP(C1795,Debiteuren!$A$2:$J$9998,10,0))&\"\"","v":""},{"$f":"IF(C1795=\"\",\"\",VLOOKUP(C1795,Debiteuren!$A$2:$O$9998,15,0)&\"\"&VLOOKUP(C1795,Debiteuren!$A$2:$N$9998,14,0))","v":""},null,"","",0,""]
[null,null,null,null,null,null,null,null,null,null,"",null,null,"",null,null,null,null,null,0,null,{"$f":"IF(C1805=\"\",\"\",VLOOKUP(C1805,Debiteuren!$A$2:$J$9998,10,0))&\"\"","v":""},{"$f":"IF(C1805=\"\",\"\",VLOOKUP(C1805,Debiteuren!$A$2:$O$9998,15,0)&\"\"&VLOOKUP(C1805,Debiteuren!$A$2:$N$9998,14,0))","v":""},null,"","",0,""]
[null,null,null,null,null,null,null,null,null,null,"",null,null,"",null,null,null,null,null,0,null,{"$f":"IF(C1812=\"\",\"\",VLOOKUP(C1812,Debiteuren!$A$2:$J$9998,10,0))&\"\"","v":""},{"$f":"IF(C1812=\"\",\"\",VLOOKUP(C1812,Debiteuren!$A$2:$O$9998,15,0)&\"\"&VLOOKUP(C1812,Debiteuren!$A$2:$N$9998,14,0))","v":""},null,"","",0,""]
[null,null,null,null,null,null,null,null,null,null,"",null,null,"",null,null,null,null,null,0,null,{"$f":"IF(C1824=\"\",\"\",VLOOKUP(C1824,Debiteuren!$A$2:$J$9998,10,0))&\"\"","v":""},{"$f":"IF(C1824=\"\",\"\",VLOOKUP(C1824,Debiteuren!$A$2:$O$9998,15,0)&\"\"&VLOOKUP(C1824,Debiteuren!$A$2:$N$9998,14,0))","v":""},null,"","",0,""]
[null,null,null,null,null,null,null,null,null,null,"",null,null,"",null,null,null,null,null,0,null,{"$f":"IF(C1827=\"\",\"\",VLOOKUP(C1827,Debiteuren!$A$2:$J$9998,10,0))&\"\"","v":""},{"$f":"IF(C1827=\"\",\"\",VLOOKUP(C1827,Debiteuren!$A$2:$O$9998,15,0)&\"\"&VLOOKUP(C1827,Debiteuren!$A$2:$N$9998,14,0))","v":""},null,"","",0,""]
[null,null,null,null,null,null,null,null,null,null,"",null,null,"",null,null,null,null,null,0,null,{"$f":"IF(C1836=\"\",\"\",VLOOKUP(C1836,Debiteuren!$A$2:$J$9998,10,0))&\"\"","v":""},{"$f":"IF(C1836=\"\",\"\",VLOOKUP(C1836,Debiteuren!$A$2:$O$9998,15,0)&\"\"&VLOOKUP(C1836,Debiteuren!$A$2:$N$9998,14,0))","v":""},null,"","",0,""]
[null,null,null,null,null,null,null,null,null,null,"",null,null,"",null,null,null,null,null,0,null,{"$f":"IF(C1845=\"\",\"\",VLOOKUP(C1845,Debiteuren!$A$2:$J$9998,10,0))&\"\"","v":""},{"$f":"IF(C1845=\"\",\"\",VLOOKUP(C1845,Debiteuren!$A$2:$O$9998,15,0)&\"\"&VLOOKUP(C1845,Debiteuren!$A$2:$N$9998,14,0))","v":""},null,"","",0,""]
[null,null,null,null,null,null,null,null,null,null,"",null,null,"",null,null,null,null,null,0,null,{"$f":"IF(C1861=\"\",\"\",VLOOKUP(C1861,Debiteuren!$A$2:$J$9998,10,0))&\"\"","v":""},{"$f":"IF(C1861=\"\",\"\",VLOOKUP(C1861,Debiteuren!$A$2:$O$9998,15,0)&\"\"&VLOOKUP(C1861,Debiteuren!$A$2:$N$9998,14,0))","v":""},null,"","",0,""]
[null,null,null,null,null,null,null,null,null,null,"",null,null,"",null,null,null,null,null,0,null,{"$f":"IF(C1864=\"\",\"\",VLOOKUP(C1864,Debiteuren!$A$2:$J$9998,10,0))&\"\"","v":""},{"$f":"IF(C1864=\"\",\"\",VLOOKUP(C1864,Debiteuren!$A$2:$O$9998,15,0)&\"\"&VLOOKUP(C1864,Debiteuren!$A$2:$N$9998,14,0))","v":""},null,"","",0,""]
[null,null,null,null,null,null,null,null,null,null,"",null,null,"",null,null,null,null,null,0,null,{"$f":"IF(C1876=\"\",\"\",VLOOKUP(C1876,Debiteuren!$A$2:$J$9998,10,0))&\"\"","v":""},{"$f":"IF(C1876=\"\",\"\",VLOOKUP(C1876,Debiteuren!$A$2:$O$9998,15,0)&\"\"&VLOOKUP(C1876,Debiteuren!$A$2:$N$9998,14,0))","v":""},null,"","",0,""]
[null,null,null,null,null,null,null,null,null,null,"",null,null,"",null,null,null,null,null,0,null,{"$f":"IF(C1885=\"\",\"\",VLOOKUP(C1885,Debiteuren!$A$2:$J$9998,10,0))&\"\"","v":""},{"$f":"IF(C1885=\"\",\"\",VLOOKUP(C1885,Debiteuren!$A$2:$O$9998,15,0)&\"\"&VLOOKUP(C1885,Debiteuren!$A$2:$N$9998,14,0))","v":""},null,"","",0,""]
[null,null,null,null,null,null,null,null,null,null,"",null,null,"",null,null,null,null,null,0,null,{"$f":"IF(C1894=\"\",\"\",VLOOKUP(C1894,Debiteuren!$A$2:$J$9998,10,0))&\"\"","v":""},{"$f":"IF(C1894=\"\",\"\",VLOOKUP(C1894,Debiteuren!$A$2:$O$9998,15,0)&\"\"&VLOOKUP(C1894,Debiteuren!$A$2:$N$9998,14,0))","v":""},null,"","",0,""]
[null,null,null,null,null,null,null,null,null,null,"",null,null,"",null,null,null,null,null,0,null,{"$f":"IF(C1897=\"\",\"\",VLOOKUP(C1897,Debiteuren!$A$2:$J$9998,10,0))&\"\"","v":""},{"$f":"IF(C1897=\"\",\"\",VLOOKUP(C1897,Debiteuren!$A$2:$O$9998,15,0)&\"\"&VLOOKUP(C1897,Debiteuren!$A$2:$N$9998,14,0))","v":""},null,"","",0,""]
[null,null,null,null,null,null,null,null,null,null,{"$f":"IF(D1913=\"\",\"\",\"\"&\"Kwartaal \"&MONTH(MONTH(D1913)&0)&TEXT(D1913,\" - mmm JJJJ\"))","v":""},null,null,{"$f":"IF(E1913=\"\",\"\",(E1913)-(F1913))","v":""},null,null,null,null,null,0,null,{"$f":"IF(C1913=\"\",\"\",VLOOKUP(C1913,Debiteuren!$A$2:$J$9998,10,0))&\"\"","v":""},{"$f":"IF(C1913=\"\",\"\",VLOOKUP(C1913,Debiteuren!$A$2:$O$9998,15,0)&\"\"&VLOOKUP(C1913,Debiteuren!$A$2:$N$9998,14,0))","v":""},null,"","",0,""]
[null,null,null,null,null,null,null,null,null,null,"",null,null,"",null,null,null,null,null,0,null,{"$f":"IF(C1916=\"\",\"\",VLOOKUP(C1916,Debiteuren!$A$2:$J$9998,10,0))&\"\"","v":""},{"$f":"IF(C1916=\"\",\"\",VLOOKUP(C1916,Debiteuren!$A$2:$O$9998,15,0)&\"\"&VLOOKUP(C1916,Debiteuren!$A$2:$N$9998,14,0))","v":""},null,"","",0,""]
[null,null,null,null,null,null,null,null,null,null,"",null,null,"",null,null,null,null,null,0,null,{"$f":"IF(C1931=\"\",\"\",VLOOKUP(C1931,Debiteuren!$A$2:$J$9998,10,0))&\"\"","v":""},{"$f":"IF(C1931=\"\",\"\",VLOOKUP(C1931,Debiteuren!$A$2:$O$9998,15,0)&\"\"&VLOOKUP(C1931,Debiteuren!$A$2:$N$9998,14,0))","v":""},null,"","",0,""]
[null,null,null,null,null,null,null,null,null,null,"",null,null,"",null,null,null,null,null,0,null,{"$f":"IF(C1934=\"\",\"\",VLOOKUP(C1934,Debiteuren!$A$2:$J$9998,10,0))&\"\"","v":""},{"$f":"IF(C1934=\"\",\"\",VLOOKUP(C1934,Debiteuren!$A$2:$O$9998,15,0)&\"\"&VLOOKUP(C1934,Debiteuren!$A$2:$N$9998,14,0))","v":""},null,"","",0,""]
[null,null,null,null,null,null,null,null,null,null,"",null,null,"",null,null,null,null,null,0,null,{"$f":"IF(C1946=\"\",\"\",VLOOKUP(C1946,Debiteuren!$A$2:$J$9998,10,0))&\"\"","v":""},{"$f":"IF(C1946=\"\",\"\",VLOOKUP(C1946,Debiteuren!$A$2:$O$9998,15,0)&\"\"&VLOOKUP(C1946,Debiteuren!$A$2:$N$9998,14,0))","v":""},null,"","",0,""]
[null,null,null,null,null,null,null,null,null,null,"",null,null,"",null,null,null,null,null,0,null,{"$f":"IF(C1953=\"\",\"\",VLOOKUP(C1953,Debiteuren!$A$2:$J$9998,10,0))&\"\"","v":""},{"$f":"IF(C1953=\"\",\"\",VLOOKUP(C1953,Debiteuren!$A$2:$O$9998,15,0)&\"\"&VLOOKUP(C1953,Debiteuren!$A$2:$N$9998,14,0))","v":""},null,"","",0,""]
[null,null,null,null,null,null,null,null,null,null,"",null,null,"",null,null,null,null,null,0,null,{"$f":"IF(C1965=\"\",\"\",VLOOKUP(C1965,Debiteuren!$A$2:$J$9998,10,0))&\"\"","v":""},{"$f":"IF(C1965=\"\",\"\",VLOOKUP(C1965,Debiteuren!$A$2:$O$9998,15,0)&\"\"&VLOOKUP(C1965,Debiteuren!$A$2:$N$9998,14,0))","v":""},null,"","",0,""]
[null,null,null,null,null,null,null,null,null,null,"",null,null,"",null,null,null,null,null,0,null,{"$f":"IF(C1971=\"\",\"\",VLOOKUP(C1971,Debiteuren!$A$2:$J$9998,10,0))&\"\"","v":""},{"$f":"IF(C1971=\"\",\"\",VLOOKUP(C1971,Debiteuren!$A$2:$O$9998,15,0)&\"\"&VLOOKUP(C1971,Debiteuren!$A$2:$N$9998,14,0))","v":""},null,"","",0,""]
[null,null,null,null,null,null,null,null,null,null,"",null,null,"",null,null,null,null,null,0,null,{"$f":"IF(C1983=\"\",\"\",VLOOKUP(C1983,Debiteuren!$A$2:$J$9998,10,0))&\"\"","v":""},{"$f":"IF(C1983=\"\",\"\",VLOOKUP(C1983,Debiteuren!$A$2:$O$9998,15,0)&\"\"&VLOOKUP(C1983,Debiteuren!$A$2:$N$9998,14,0))","v":""},null,"","",0,""]
[null,null,null,null,null,null,null,null,null,null,"",null,null,"",null,null,null,null,null,0,null,{"$f":"IF(C1986=\"\",\"\",VLOOKUP(C1986,Debiteuren!$A$2:$J$9998,10,0))&\"\"","v":""},{"$f":"IF(C1986=\"\",\"\",VLOOKUP(C1986,Debiteuren!$A$2:$O$9998,15,0)&\"\"&VLOOKUP(C1986,Debiteuren!$A$2:$N$9998,14,0))","v":""},null,"","",0,""]
[null,null,null,null,null,null,null,null,null,null,"",null,null,"",null,null,null,null,null,0,null,{"$f":"IF(C2002=\"\",\"\",VLOOKUP(C2002,Debiteuren!$A$2:$J$9998,10,0))&\"\"","v":""},{"$f":"IF(C2002=\"\",\"\",VLOOKUP(C2002,Debiteuren!$A$2:$O$9998,15,0)&\"\"&VLOOKUP(C2002,Debiteuren!$A$2:$N$9998,14,0))","v":""},null,"","",0,""]
[null,null,null,null,null,null,null,null,null,null,"",null,null,"",null,null,null,null,null,0,null,{"$f":"IF(C2006=\"\",\"\",VLOOKUP(C2006,Debiteuren!$A$2:$J$9998,10,0))&\"\"","v":""},{"$f":"IF(C2006=\"\",\"\",VLOOKUP(C2006,Debiteuren!$A$2:$O$9998,15,0)&\"\"&VLOOKUP(C2006,Debiteuren!$A$2:$N$9998,14,0))","v":""},null,"","",0,""]
[null,null,null,null,null,null,null,null,null,null,"",null,null,"",null,null,null,null,null,0,null,{"$f":"IF(C2016=\"\",\"\",VLOOKUP(C2016,Debiteuren!$A$2:$J$9998,10,0))&\"\"","v":""},{"$f":"IF(C2016=\"\",\"\",VLOOKUP(C2016,Debiteuren!$A$2:$O$9998,15,0)&\"\"&VLOOKUP(C2016,Debiteuren!$A$2:$N$9998,14,0))","v":""},null,"","",0,""]
[null,null,null,null,null,null,null,null,null,null,"",null,null,"",null,null,null,null,null,0,null,{"$f":"IF(C2023=\"\",\"\",VLOOKUP(C2023,Debiteuren!$A$2:$J$9998,10,0))&\"\"","v":""},{"$f":"IF(C2023=\"\",\"\",VLOOKUP(C2023,Debiteuren!$A$2:$O$9998,15,0)&\"\"&VLOOKUP(C2023,Debiteuren!$A$2:$N$9998,14,0))","v":""},null,"","",0,""]
[null,null,null,null,null,null,null,null,null,null,"",null,null,"",null,null,null,null,null,0,null,{"$f":"IF(C2035=\"\",\"\",VLOOKUP(C2035,Debiteuren!$A$2:$J$9998,10,0))&\"\"","v":""},{"$f":"IF(C2035=\"\",\"\",VLOOKUP(C2035,Debiteuren!$A$2:$O$9998,15,0)&\"\"&VLOOKUP(C2035,Debiteuren!$A$2:$N$9998,14,0))","v":""},null,"","",0,""]
[null,null,null,null,null,null,null,null,null,null,"",null,null,"",null,null,null,null,null,0,null,{"$f":"IF(C2042=\"\",\"\",VLOOKUP(C2042,Debiteuren!$A$2:$J$9998,10,0))&\"\"","v":""},{"$f":"IF(C2042=\"\",\"\",VLOOKUP(C2042,Debiteuren!$A$2:$O$9998,15,0)&\"\"&VLOOKUP(C2042,Debiteuren!$A$2:$N$9998,14,0))","v":""},null,"","",0,""]
[null,null,null,null,null,null,null,null,null,null,"",null,null,"",null,null,null,null,null,0,null,{"$f":"IF(C2047=\"\",\"\",VLOOKUP(C2047,Debiteuren!$A$2:$J$9998,10,0))&\"\"","v":""},{"$f":"IF(C2047=\"\",\"\",VLOOKUP(C2047,Debiteuren!$A$2:$O$9998,15,0)&\"\"&VLOOKUP(C2047,Debiteuren!$A$2:$N$9998,14,0))","v":""},null,"","",0,""]
[null,null,null,null,null,null,null,null,null,null,"",null,null,"",null,null,null,null,null,0,null,{"$f":"IF(C2056=\"\",\"\",VLOOKUP(C2056,Debiteuren!$A$2:$J$9998,10,0))&\"\"","v":""},{"$f":"IF(C2056=\"\",\"\",VLOOKUP(C2056,Debiteuren!$A$2:$O$9998,15,0)&\"\"&VLOOKUP(C2056,Debiteuren!$A$2:$N$9998,14,0))","v":""},null,"","",0,""]
[null,null,null,null,null,null,null,null,null,null,"",null,null,"",null,null,null,null,null,0,null,{"$f":"IF(C2072=\"\",\"\",VLOOKUP(C2072,Debiteuren!$A$2:$J$9998,10,0))&\"\"","v":""},{"$f":"IF(C2072=\"\",\"\",VLOOKUP(C2072,Debiteuren!$A$2:$O$9998,15,0)&\"\"&VLOOKUP(C2072,Debiteuren!$A$2:$N$9998,14,0))","v":""},null,"","",0,""]
[null,null,null,null,null,null,null,null,null,null,"",null,null,"",null,null,null,null,null,0,null,{"$f":"IF(C2075=\"\",\"\",VLOOKUP(C2075,Debiteuren!$A$2:$J$9998,10,0))&\"\"","v":""},{"$f":"IF(C2075=\"\",\"\",VLOOKUP(C2075,Debiteuren!$A$2:$O$9998,15,0)&\"\"&VLOOKUP(C2075,Debiteuren!$A$2:$N$9998,14,0))","v":""},null,"","",0,""]
[null,null,null,null,null,null,null,null,null,null,"",null,null,"",null,null,null,null,null,0,null,{"$f":"IF(C2086=\"\",\"\",VLOOKUP(C2086,Debiteuren!$A$2:$J$9998,10,0))&\"\"","v":""},{"$f":"IF(C2086=\"\",\"\",VLOOKUP(C2086,Debiteuren!$A$2:$O$9998,15,0)&\"\"&VLOOKUP(C2086,Debiteuren!$A$2:$N$9998,14,0))","v":""},null,"","",0,""]
[null,null,null,null,null,null,null,null,null,null,"",null,null,"",null,null,null,null,null,0,null,{"$f":"IF(C2093=\"\",\"\",VLOOKUP(C2093,Debiteuren!$A$2:$J$9998,10,0))&\"\"","v":""},{"$f":"IF(C2093=\"\",\"\",VLOOKUP(C2093,Debiteuren!$A$2:$O$9998,15,0)&\"\"&VLOOKUP(C2093,Debiteuren!$A$2:$N$9998,14,0))","v":""},null,"","",0,""]
[null,null,null,null,null,null,null,null,null,null,{"$f":"IF(D2105=\"\",\"\",\"\"&\"Kwartaal \"&MONTH(MONTH(D2105)&0)&TEXT(D2105,\" - mmm JJJJ\"))","v":""},null,null,{"$f":"IF(E2105=\"\",\"\",(E2105)-(F2105))","v":""},null,null,null,null,null,0,null,{"$f":"IF(C2105=\"\",\"\",VLOOKUP(C2105,Debiteuren!$A$2:$J$9998,10,0))&\"\"","v":""},{"$f":"IF(C2105=\"\",\"\",VLOOKUP(C2105,Debiteuren!$A$2:$O$9998,15,0)&\"\"&VLOOKUP(C2105,Debiteuren!$A$2:$N$9998,14,0))","v":""},null,"","",0,""]
[null,null,null,null,null,null,null,null,null,null,"",null,null,"",null,null,null,null,null,0,null,{"$f":"IF(C2112=\"\",\"\",VLOOKUP(C2112,Debiteuren!$A$2:$J$9998,10,0))&\"\"","v":""},{"$f":"IF(C2112=\"\",\"\",VLOOKUP(C2112,Debiteuren!$A$2:$O$9998,15,0)&\"\"&VLOOKUP(C2112,Debiteuren!$A$2:$N$9998,14,0))","v":""},null,"","",0,""]
[null,null,null,null,null,null,null,null,null,null,"",null,null,"",null,null,null,null,null,0,null,{"$f":"IF(C2124=\"\",\"\",VLOOKUP(C2124,Debiteuren!$A$2:$J$9998,10,0))&\"\"","v":""},{"$f":"IF(C2124=\"\",\"\",VLOOKUP(C2124,Debiteuren!$A$2:$O$9998,15,0)&\"\"&VLOOKUP(C2124,Debiteuren!$A$2:$N$9998,14,0))","v":""},null,"","",0,""]
[null,null,null,null,null,null,null,null,null,null,"",null,null,"",null,null,null,null,null,0,null,{"$f":"IF(C2127=\"\",\"\",VLOOKUP(C2127,Debiteuren!$A$2:$J$9998,10,0))&\"\"","v":""},{"$f":"IF(C2127=\"\",\"\",VLOOKUP(C2127,Debiteuren!$A$2:$O$9998,15,0)&\"\"&VLOOKUP(C2127,Debiteuren!$A$2:$N$9998,14,0))","v":""},null,"","",0,""]
[null,null,null,null,null,null,null,null,null,null,"",null,null,"",null,null,null,null,null,0,null,{"$f":"IF(C2142=\"\",\"\",VLOOKUP(C2142,Debiteuren!$A$2:$J$9998,10,0))&\"\"","v":""},{"$f":"IF(C2142=\"\",\"\",VLOOKUP(C2142,Debiteuren!$A$2:$O$9998,15,0)&\"\"&VLOOKUP(C2142,Debiteuren!$A$2:$N$9998,14,0))","v":""},null,"","",0,""]
[null,null,null,null,null,null,null,null,null,null,"",null,null,"",null,null,null,null,null,0,null,{"$f":"IF(C2145=\"\",\"\",VLOOKUP(C2145,Debiteuren!$A$2:$J$9998,10,0))&\"\"","v":""},{"$f":"IF(C2145=\"\",\"\",VLOOKUP(C2145,Debiteuren!$A$2:$O$9998,15,0)&\"\"&VLOOKUP(C2145,Debiteuren!$A$2:$N$9998,14,0))","v":""},null,"","",0,""]
[null,null,null,null,null,null,null,null,null,null,"",null,null,"",null,null,null,null,null,0,null,{"$f":"IF(C2152=\"\",\"\",VLOOKUP(C2152,Debiteuren!$A$2:$J$9998,10,0))&\"\"","v":""},{"$f":"IF(C2152=\"\",\"\",VLOOKUP(C2152,Debiteuren!$A$2:$O$9998,15,0)&\"\"&VLOOKUP(C2152,Debiteuren!$A$2:$N$9998,14,0))","v":""},null,"","",0,""]
[null,null,null,null,null,null,null,null,null,null,"",null,null,"",null,null,null,null,null,0,null,{"$f":"IF(C2164=\"\",\"\",VLOOKUP(C2164,Debiteuren!$A$2:$J$9998,10,0))&\"\"","v":""},{"$f":"IF(C2164=\"\",\"\",VLOOKUP(C2164,Debiteuren!$A$2:$O$9998,15,0)&\"\"&VLOOKUP(C2164,Debiteuren!$A$2:$N$9998,14,0))","v":""},null,"","",0,""]
[null,null,null,null,null,null,null,null,null,null,"",null,null,"",null,null,null,null,null,0,null,{"$f":"IF(C2176=\"\",\"\",VLOOKUP(C2176,Debiteuren!$A$2:$J$9998,10,0))&\"\"","v":""},{"$f":"IF(C2176=\"\",\"\",VLOOKUP(C2176,Debiteuren!$A$2:$O$9998,15,0)&\"\"&VLOOKUP(C2176,Debiteuren!$A$2:$N$9998,14,0))","v":""},null,"","",0,""]
[null,null,null,null,null,null,null,null,null,null,"",null,null,"",null,null,null,null,null,0,null,{"$f":"IF(C2182=\"\",\"\",VLOOKUP(C2182,Debiteuren!$A$2:$J$9998,10,0))&\"\"","v":""},{"$f":"IF(C2182=\"\",\"\",VLOOKUP(C2182,Debiteuren!$A$2:$O$9998,15,0)&\"\"&VLOOKUP(C2182,Debiteuren!$A$2:$N$9998,14,0))","v":""},null,"","",0,""]
[null,null,null,null,null,null,null,null,null,null,"",null,null,"",null,null,null,null,null,0,null,{"$f":"IF(C2194=\"\",\"\",VLOOKUP(C2194,Debiteuren!$A$2:$J$9998,10,0))&\"\"","v":""},{"$f":"IF(C2194=\"\",\"\",VLOOKUP(C2194,Debiteuren!$A$2:$O$9998,15,0)&\"\"&VLOOKUP(C2194,Debiteuren!$A$2:$N$9998,14,0))","v":""},null,"","",0,""]
[null,null,null,null,null,null,null,null,null,null,"",null,null,"",null,null,null,null,null,0,null,{"$f":"IF(C2197=\"\",\"\",VLOOKUP(C2197,Debiteuren!$A$2:$J$9998,10,0))&\"\"","v":""},{"$f":"IF(C2197=\"\",\"\",VLOOKUP(C2197,Debiteuren!$A$2:$O$9998,15,0)&\"\"&VLOOKUP(C2197,Debiteuren!$A$2:$N$9998,14,0))","v":""},null,"","",0,""]
[null,null,null,null,null,null,null,null,null,null,"",null,null,"",null,null,null,null,null,0,null,{"$f":"IF(C2213=\"\",\"\",VLOOKUP(C2213,Debiteuren!$A$2:$J$9998,10,0))&\"\"","v":""},{"$f":"IF(C2213=\"\",\"\",VLOOKUP(C2213,Debiteuren!$A$2:$O$9998,15,0)&\"\"&VLOOKUP(C2213,Debiteuren!$A$2:$N$9998,14,0))","v":""},null,"","",0,""]
[null,null,null,null,null,null,null,null,null,null,"",null,null,"",null,null,null,null,null,0,null,{"$f":"IF(C2217=\"\",\"\",VLOOKUP(C2217,Debiteuren!$A$2:$J$9998,10,0))&\"\"","v":""},{"$f":"IF(C2217=\"\",\"\",VLOOKUP(C2217,Debiteuren!$A$2:$O$9998,15,0)&\"\"&VLOOKUP(C2217,Debiteuren!$A$2:$N$9998,14,0))","v":""},null,"","",0,""]
[null,null,null,null,null,null,null,null,null,null,"",null,null,"",null,null,null,null,null,0,null,{"$f":"IF(C2222=\"\",\"\",VLOOKUP(C2222,Debiteuren!$A$2:$J$9998,10,0))&\"\"","v":""},{"$f":"IF(C2222=\"\",\"\",VLOOKUP(C2222,Debiteuren!$A$2:$O$9998,15,0)&\"\"&VLOOKUP(C2222,Debiteuren!$A$2:$N$9998,14,0))","v":""},null,{"$f":"IF(D2222=\"\",\"\",DATEDIF(D2222,TODAY(),\"d\"))","v":""},{"$f":"IF(G2222=\"\",\"\",DATEDIF(D2222,G2222,\"d\"))","v":""},{"$f":"DATEDIF(D2222,H2222,\"d\")","v":0},{"$f":"IF(Y2222=\"\",\"\",Y2222-AA2222)","v":""}]
[null,null,null,null,null,null,null,null,null,null,"",null,null,"",null,null,null,null,null,0,null,{"$f":"IF(C2234=\"\",\"\",VLOOKUP(C2234,Debiteuren!$A$2:$J$9998,10,0))&\"\"","v":""},{"$f":"IF(C2234=\"\",\"\",VLOOKUP(C2234,Debiteuren!$A$2:$O$9998,15,0)&\"\"&VLOOKUP(C2234,Debiteuren!$A$2:$N$9998,14,0))","v":""},null,"","",0,""]
[null,null,null,null,null,null,null,null,null,null,"",null,null,"",null,null,null,null,null,0,null,{"$f":"IF(C2246=\"\",\"\",VLOOKUP(C2246,Debiteuren!$A$2:$J$9998,10,0))&\"\"","v":""},{"$f":"IF(C2246=\"\",\"\",VLOOKUP(C2246,Debiteuren!$A$2:$O$9998,15,0)&\"\"&VLOOKUP(C2246,Debiteuren!$A$2:$N$9998,14,0))","v":""},null,"","",0,""]
[null,null,null,null,null,null,null,null,null,null,"",null,null,"",null,null,null,null,null,0,null,{"$f":"IF(C2256=\"\",\"\",VLOOKUP(C2256,Debiteuren!$A$2:$J$9998,10,0))&\"\"","v":""},{"$f":"IF(C2256=\"\",\"\",VLOOKUP(C2256,Debiteuren!$A$2:$O$9998,15,0)&\"\"&VLOOKUP(C2256,Debiteuren!$A$2:$N$9998,14,0))","v":""},null,"","",0,""]
[null,null,null,null,null,null,null,null,null,null,"",null,null,"",null,null,null,null,null,0,null,{"$f":"IF(C2264=\"\",\"\",VLOOKUP(C2264,Debiteuren!$A$2:$J$9998,10,0))&\"\"","v":""},{"$f":"IF(C2264=\"\",\"\",VLOOKUP(C2264,Debiteuren!$A$2:$O$9998,15,0)&\"\"&VLOOKUP(C2264,Debiteuren!$A$2:$N$9998,14,0))","v":""},null,"","",0,""]
[null,null,null,null,null,null,null,null,null,null,"",null,null,"",null,null,null,null,null,0,null,{"$f":"IF(C2271=\"\",\"\",VLOOKUP(C2271,Debiteuren!$A$2:$J$9998,10,0))&\"\"","v":""},{"$f":"IF(C2271=\"\",\"\",VLOOKUP(C2271,Debiteuren!$A$2:$O$9998,15,0)&\"\"&VLOOKUP(C2271,Debiteuren!$A$2:$N$9998,14,0))","v":""},null,"","",0,""]
[null,null,null,null,null,null,null,null,null,null,"",null,null,"",null,null,null,null,null,0,null,{"$f":"IF(C2283=\"\",\"\",VLOOKUP(C2283,Debiteuren!$A$2:$J$9998,10,0))&\"\"","v":""},{"$f":"IF(C2283=\"\",\"\",VLOOKUP(C2283,Debiteuren!$A$2:$O$9998,15,0)&\"\"&VLOOKUP(C2283,Debiteuren!$A$2:$N$9998,14,0))","v":""},null,"","",0,""]
[null,null,null,null,null,null,null,null,null,null,"",null,null,"",null,null,null,null,null,0,null,{"$f":"IF(C2286=\"\",\"\",VLOOKUP(C2286,Debiteuren!$A$2:$J$9998,10,0))&\"\"","v":""},{"$f":"IF(C2286=\"\",\"\",VLOOKUP(C2286,Debiteuren!$A$2:$O$9998,15,0)&\"\"&VLOOKUP(C2286,Debiteuren!$A$2:$N$9998,14,0))","v":""},null,{"$f":"IF(D2286=\"\",\"\",DATEDIF(D2286,TODAY(),\"d\"))","v":""},{"$f":"IF(G2286=\"\",\"\",DATEDIF(D2286,G2286,\"d\"))","v":""},{"$f":"DATEDIF(D2286,H2286,\"d\")","v":0},{"$f":"IF(Y2286=\"\",\"\",Y2286-AA2286)","v":""}]
[null,null,null,null,null,null,null,null,null,null,{"$f":"IF(D2297=\"\",\"\",\"\"&\"Kwartaal \"&MONTH(MONTH(D2297)&0)&TEXT(D2297,\" - mmm JJJJ\"))","v":""},null,null,{"$f":"IF(E2297=\"\",\"\",(E2297)-(F2297))","v":""},null,null,null,null,null,0,null,{"$f":"IF(C2297=\"\",\"\",VLOOKUP(C2297,Debiteuren!$A$2:$J$9998,10,0))&\"\"","v":""},{"$f":"IF(C2297=\"\",\"\",VLOOKUP(C2297,Debiteuren!$A$2:$O$9998,15,0)&\"\"&VLOOKUP(C2297,Debiteuren!$A$2:$N$9998,14,0))","v":""},null,"","",0,""]
[null,null,null,null,null,null,null,null,null,null,"",null,null,"",null,null,null,null,null,0,null,{"$f":"IF(C2304=\"\",\"\",VLOOKUP(C2304,Debiteuren!$A$2:$J$9998,10,0))&\"\"","v":""},{"$f":"IF(C2304=\"\",\"\",VLOOKUP(C2304,Debiteuren!$A$2:$O$9998,15,0)&\"\"&VLOOKUP(C2304,Debiteuren!$A$2:$N$9998,14,0))","v":""},null,"","",0,""]
[null,null,null,null,null,null,null,null,null,null,"",null,null,"",null,null,null,null,null,0,null,{"$f":"IF(C2316=\"\",\"\",VLOOKUP(C2316,Debiteuren!$A$2:$J$9998,10,0))&\"\"","v":""},{"$f":"IF(C2316=\"\",\"\",VLOOKUP(C2316,Debiteuren!$A$2:$O$9998,15,0)&\"\"&VLOOKUP(C2316,Debiteuren!$A$2:$N$9998,14,0))","v":""},null,"","",0,""]
[null,null,null,null,null,null,null,null,null,null,"",null,null,"",null,null,null,null,null,0,null,{"$f":"IF(C2323=\"\",\"\",VLOOKUP(C2323,Debiteuren!$A$2:$J$9998,10,0))&\"\"","v":""},{"$f":"IF(C2323=\"\",\"\",VLOOKUP(C2323,Debiteuren!$A$2:$O$9998,15,0)&\"\"&VLOOKUP(C2323,Debiteuren!$A$2:$N$9998,14,0))","v":""},null,"","",0,""]
[null,null,null,null,null,null,null,null,null,null,"",null,null,"",null,null,null,null,null,0,null,{"$f":"IF(C2335=\"\",\"\",VLOOKUP(C2335,Debiteuren!$A$2:$J$9998,10,0))&\"\"","v":""},{"$f":"IF(C2335=\"\",\"\",VLOOKUP(C2335,Debiteuren!$A$2:$O$9998,15,0)&\"\"&VLOOKUP(C2335,Debiteuren!$A$2:$N$9998,14,0))","v":""},null,"","",0,""]
[null,null,null,null,null,null,null,null,null,null,"",null,null,"",null,null,null,null,null,0,null,{"$f":"IF(C2338=\"\",\"\",VLOOKUP(C2338,Debiteuren!$A$2:$J$9998,10,0))&\"\"","v":""},{"$f":"IF(C2338=\"\",\"\",VLOOKUP(C2338,Debiteuren!$A$2:$O$9998,15,0)&\"\"&VLOOKUP(C2338,Debiteuren!$A$2:$N$9998,14,0))","v":""},null,"","",0,""]
[null,null,null,null,null,null,null,null,null,null,"",null,null,"",null,null,null,null,null,0,null,{"$f":"IF(C2353=\"\",\"\",VLOOKUP(C2353,Debiteuren!$A$2:$J$9998,10,0))&\"\"","v":""},{"$f":"IF(C2353=\"\",\"\",VLOOKUP(C2353,Debiteuren!$A$2:$O$9998,15,0)&\"\"&VLOOKUP(C2353,Debiteuren!$A$2:$N$9998,14,0))","v":""},null,"","",0,""]
[null,null,null,null,null,null,null,null,null,null,"",null,null,"",null,null,null,null,null,0,null,{"$f":"IF(C2356=\"\",\"\",VLOOKUP(C2356,Debiteuren!$A$2:$J$9998,10,0))&\"\"","v":""},{"$f":"IF(C2356=\"\",\"\",VLOOKUP(C2356,Debiteuren!$A$2:$O$9998,15,0)&\"\"&VLOOKUP(C2356,Debiteuren!$A$2:$N$9998,14,0))","v":""},null,"","",0,""]
[null,null,null,null,null,null,null,null,null,null,"",null,null,"",null,null,null,null,null,0,null,{"$f":"IF(C2363=\"\",\"\",VLOOKUP(C2363,Debiteuren!$A$2:$J$9998,10,0))&\"\"","v":""},{"$f":"IF(C2363=\"\",\"\",VLOOKUP(C2363,Debiteuren!$A$2:$O$9998,15,0)&\"\"&VLOOKUP(C2363,Debiteuren!$A$2:$N$9998,14,0))","v":""},null,"","",0,""]
[null,null,null,null,null,null,null,null,null,null,"",null,null,"",null,null,null,null,null,0,null,{"$f":"IF(C2375=\"\",\"\",VLOOKUP(C2375,Debiteuren!$A$2:$J$9998,10,0))&\"\"","v":""},{"$f":"IF(C2375=\"\",\"\",VLOOKUP(C2375,Debiteuren!$A$2:$O$9998,15,0)&\"\"&VLOOKUP(C2375,Debiteuren!$A$2:$N$9998,14,0))","v":""},null,"","",0,""]
[null,null,null,null,null,null,null,null,null,null,"",null,null,"",null,null,null,null,null,0,null,{"$f":"IF(C2387=\"\",\"\",VLOOKUP(C2387,Debiteuren!$A$2:$J$9998,10,0))&\"\"","v":""},{"$f":"IF(C2387=\"\",\"\",VLOOKUP(C2387,Debiteuren!$A$2:$O$9998,15,0)&\"\"&VLOOKUP(C2387,Debiteuren!$A$2:$N$9998,14,0))","v":""},null,"","",0,""]
[null,null,null,null,null,null,null,null,null,null,"",null,null,"",null,null,null,null,null,0,null,{"$f":"IF(C2393=\"\",\"\",VLOOKUP(C2393,Debiteuren!$A$2:$J$9998,10,0))&\"\"","v":""},{"$f":"IF(C2393=\"\",\"\",VLOOKUP(C2393,Debiteuren!$A$2:$O$9998,15,0)&\"\"&VLOOKUP(C2393,Debiteuren!$A$2:$N$9998,14,0))","v":""},null,"","",0,""]
[null,null,null,null,null,null,null,null,null,null,"",null,null,"",null,null,null,null,null,0,null,{"$f":"IF(C2405=\"\",\"\",VLOOKUP(C2405,Debiteuren!$A$2:$J$9998,10,0))&\"\"","v":""},{"$f":"IF(C2405=\"\",\"\",VLOOKUP(C2405,Debiteuren!$A$2:$O$9998,15,0)&\"\"&VLOOKUP(C2405,Debiteuren!$A$2:$N$9998,14,0))","v":""},null,"","",0,""]
[null,null,null,null,null,null,null,null,null,null,"",null,null,"",null,null,null,null,null,0,null,{"$f":"IF(C2412=\"\",\"\",VLOOKUP(C2412,Debiteuren!$A$2:$J$9998,10,0))&\"\"","v":""},{"$f":"IF(C2412=\"\",\"\",VLOOKUP(C2412,Debiteuren!$A$2:$O$9998,15,0)&\"\"&VLOOKUP(C2412,Debiteuren!$A$2:$N$9998,14,0))","v":""},null,"","",0,""]
[null,null,null,null,null,null,null,null,null,null,"",null,null,"",null,null,null,null,null,0,null,{"$f":"IF(C2418=\"\",\"\",VLOOKUP(C2418,Debiteuren!$A$2:$J$9998,10,0))&\"\"","v":""},{"$f":"IF(C2418=\"\",\"\",VLOOKUP(C2418,Debiteuren!$A$2:$O$9998,15,0)&\"\"&VLOOKUP(C2418,Debiteuren!$A$2:$N$9998,14,0))","v":""},null,"","",0,""]
[null,null,null,null,null,null,null,null,null,null,"",null,null,"",null,null,null,null,null,0,null,{"$f":"IF(C2426=\"\",\"\",VLOOKUP(C2426,Debiteuren!$A$2:$J$9998,10,0))&\"\"","v":""},{"$f":"IF(C2426=\"\",\"\",VLOOKUP(C2426,Debiteuren!$A$2:$O$9998,15,0)&\"\"&VLOOKUP(C2426,Debiteuren!$A$2:$N$9998,14,0))","v":""},null,"","",0,""]
[null,null,null,null,null,null,null,null,null,null,"",null,null,"",null,null,null,null,null,0,null,{"$f":"IF(C2433=\"\",\"\",VLOOKUP(C2433,Debiteuren!$A$2:$J$9998,10,0))&\"\"","v":""},{"$f":"IF(C2433=\"\",\"\",VLOOKUP(C2433,Debiteuren!$A$2:$O$9998,15,0)&\"\"&VLOOKUP(C2433,Debiteuren!$A$2:$N$9998,14,0))","v":""},null,"","",0,""]
[null,null,null,null,null,null,null,null,null,null,"",null,null,"",null,null,null,null,null,0,null,{"$f":"IF(C2445=\"\",\"\",VLOOKUP(C2445,Debiteuren!$A$2:$J$9998,10,0))&\"\"","v":""},{"$f":"IF(C2445=\"\",\"\",VLOOKUP(C2445,Debiteuren!$A$2:$O$9998,15,0)&\"\"&VLOOKUP(C2445,Debiteuren!$A$2:$N$9998,14,0))","v":""},null,"","",0,""]
[null,null,null,null,null,null,null,null,null,null,"",null,null,"",null,null,null,null,null,0,null,{"$f":"IF(C2452=\"\",\"\",VLOOKUP(C2452,Debiteuren!$A$2:$J$9998,10,0))&\"\"","v":""},{"$f":"IF(C2452=\"\",\"\",VLOOKUP(C2452,Debiteuren!$A$2:$O$9998,15,0)&\"\"&VLOOKUP(C2452,Debiteuren!$A$2:$N$9998,14,0))","v":""},null,"","",0,""]
[null,null,null,null,null,null,null,null,null,null,"",null,null,"",null,null,null,null,null,0,null,{"$f":"IF(C2467=\"\",\"\",VLOOKUP(C2467,Debiteuren!$A$2:$J$9998,10,0))&\"\"","v":""},{"$f":"IF(C2467=\"\",\"\",VLOOKUP(C2467,Debiteuren!$A$2:$O$9998,15,0)&\"\"&VLOOKUP(C2467,Debiteuren!$A$2:$N$9998,14,0))","v":""},null,"","",0,""]
[null,null,null,null,null,null,null,null,null,null,"",null,null,"",null,null,null,null,null,0,null,{"$f":"IF(C2475=\"\",\"\",VLOOKUP(C2475,Debiteuren!$A$2:$J$9998,10,0))&\"\"","v":""},{"$f":"IF(C2475=\"\",\"\",VLOOKUP(C2475,Debiteuren!$A$2:$O$9998,15,0)&\"\"&VLOOKUP(C2475,Debiteuren!$A$2:$N$9998,14,0))","v":""},null,"","",0,""]
[null,null,null,null,null,null,null,null,null,null,"",null,null,"",null,null,null,null,null,0,null,{"$f":"IF(C2482=\"\",\"\",VLOOKUP(C2482,Debiteuren!$A$2:$J$9998,10,0))&\"\"","v":""},{"$f":"IF(C2482=\"\",\"\",VLOOKUP(C2482,Debiteuren!$A$2:$O$9998,15,0)&\"\"&VLOOKUP(C2482,Debiteuren!$A$2:$N$9998,14,0))","v":""},null,"","",0,""]
[null,null,null,null,null,null,null,null,null,null,"",null,null,"",null,null,null,null,null,0,null,{"$f":"IF(C2494=\"\",\"\",VLOOKUP(C2494,Debiteuren!$A$2:$J$9998,10,0))&\"\"","v":""},{"$f":"IF(C2494=\"\",\"\",VLOOKUP(C2494,Debiteuren!$A$2:$O$9998,15,0)&\"\"&VLOOKUP(C2494,Debiteuren!$A$2:$N$9998,14,0))","v":""},null,"","",0,""]
[null,null,null,null,null,null,null,null,null,null,"",null,null,"",null,null,null,null,null,0,null,{"$f":"IF(C2497=\"\",\"\",VLOOKUP(C2497,Debiteuren!$A$2:$J$9998,10,0))&\"\"","v":""},{"$f":"IF(C2497=\"\",\"\",VLOOKUP(C2497,Debiteuren!$A$2:$O$9998,15,0)&\"\"&VLOOKUP(C2497,Debiteuren!$A$2:$N$9998,14,0))","v":""},null,"","",0,""]
[null,null,null,null,null,null,null,null,null,null,"",null,null,"",null,null,null,null,null,0,null,{"$f":"IF(C2508=\"\",\"\",VLOOKUP(C2508,Debiteuren!$A$2:$J$9998,10,0))&\"\"","v":""},{"$f":"IF(C2508=\"\",\"\",VLOOKUP(C2508,Debiteuren!$A$2:$O$9998,15,0)&\"\"&VLOOKUP(C2508,Debiteuren!$A$2:$N$9998,14,0))","v":""},null,"","",0,""]
[null,null,null,null,null,null,null,null,null,null,"",null,null,"",null,null,null,null,null,0,null,{"$f":"IF(C2515=\"\",\"\",VLOOKUP(C2515,Debiteuren!$A$2:$J$9998,10,0))&\"\"","v":""},{"$f":"IF(C2515=\"\",\"\",VLOOKUP(C2515,Debiteuren!$A$2:$O$9998,15,0)&\"\"&VLOOKUP(C2515,Debiteuren!$A$2:$N$9998,14,0))","v":""},null,"","",0,""]
[null,null,null,null,null,null,null,null,null,null,"",null,null,"",null,null,null,null,null,0,null,{"$f":"IF(C2522=\"\",\"\",VLOOKUP(C2522,Debiteuren!$A$2:$J$9998,10,0))&\"\"","v":""},{"$f":"IF(C2522=\"\",\"\",VLOOKUP(C2522,Debiteuren!$A$2:$O$9998,15,0)&\"\"&VLOOKUP(C2522,Debiteuren!$A$2:$N$9998,14,0))","v":""},null,"","",0,""]
[null,null,null,null,null,null,null,null,null,null,"",null,null,"",null,null,null,null,null,0,null,{"$f":"IF(C2534=\"\",\"\",VLOOKUP(C2534,Debiteuren!$A$2:$J$9998,10,0))&\"\"","v":""},{"$f":"IF(C2534=\"\",\"\",VLOOKUP(C2534,Debiteuren!$A$2:$O$9998,15,0)&\"\"&VLOOKUP(C2534,Debiteuren!$A$2:$N$9998,14,0))","v":""},null,"","",0,""]
[null,null,null,null,null,null,null,null,null,null,"",null,null,"",null,null,null,null,null,0,null,{"$f":"IF(C2546=\"\",\"\",VLOOKUP(C2546,Debiteuren!$A$2:$J$9998,10,0))&\"\"","v":""},{"$f":"IF(C2546=\"\",\"\",VLOOKUP(C2546,Debiteuren!$A$2:$O$9998,15,0)&\"\"&VLOOKUP(C2546,Debiteuren!$A$2:$N$9998,14,0))","v":""},null,"","",0,""]
[null,null,null,null,null,null,null,null,null,null,"",null,null,"",null,null,null,null,null,0,null,{"$f":"IF(C2549=\"\",\"\",VLOOKUP(C2549,Debiteuren!$A$2:$J$9998,10,0))&\"\"","v":""},{"$f":"IF(C2549=\"\",\"\",VLOOKUP(C2549,Debiteuren!$A$2:$O$9998,15,0)&\"\"&VLOOKUP(C2549,Debiteuren!$A$2:$N$9998,14,0))","v":""},null,"","",0,""]
[null,null,null,null,null,null,null,null,null,null,"",null,null,"",null,null,null,null,null,0,null,{"$f":"IF(C2564=\"\",\"\",VLOOKUP(C2564,Debiteuren!$A$2:$J$9998,10,0))&\"\"","v":""},{"$f":"IF(C2564=\"\",\"\",VLOOKUP(C2564,Debiteuren!$A$2:$O$9998,15,0)&\"\"&VLOOKUP(C2564,Debiteuren!$A$2:$N$9998,14,0))","v":""},null,"","",0,""]
[null,null,null,null,null,null,null,null,null,null,"",null,null,"",null,null,null,null,null,0,null,{"$f":"IF(C2567=\"\",\"\",VLOOKUP(C2567,Debiteuren!$A$2:$J$9998,10,0))&\"\"","v":""},{"$f":"IF(C2567=\"\",\"\",VLOOKUP(C2567,Debiteuren!$A$2:$O$9998,15,0)&\"\"&VLOOKUP(C2567,Debiteuren!$A$2:$N$9998,14,0))","v":""},null,"","",0,""]
[null,null,null,null,null,null,null,null,null,null,"",null,null,"",null,null,null,null,null,0,null,{"$f":"IF(C2574=\"\",\"\",VLOOKUP(C2574,Debiteuren!$A$2:$J$9998,10,0))&\"\"","v":""},{"$f":"IF(C2574=\"\",\"\",VLOOKUP(C2574,Debiteuren!$A$2:$O$9998,15,0)&\"\"&VLOOKUP(C2574,Debiteuren!$A$2:$N$9998,14,0))","v":""},null,"","",0,""]
[null,null,null,null,null,null,null,null,null,null,"",null,null,"",null,null,null,null,null,0,null,{"$f":"IF(C2588=\"\",\"\",VLOOKUP(C2588,Debiteuren!$A$2:$J$9998,10,0))&\"\"","v":""},{"$f":"IF(C2588=\"\",\"\",VLOOKUP(C2588,Debiteuren!$A$2:$O$9998,15,0)&\"\"&VLOOKUP(C2588,Debiteuren!$A$2:$N$9998,14,0))","v":""},null,"","",0,""]
[null,null,null,null,null,null,null,null,null,null,"",null,null,"",null,null,null,null,null,0,null,{"$f":"IF(C2592=\"\",\"\",VLOOKUP(C2592,Debiteuren!$A$2:$J$9998,10,0))&\"\"","v":""},{"$f":"IF(C2592=\"\",\"\",VLOOKUP(C2592,Debiteuren!$A$2:$O$9998,15,0)&\"\"&VLOOKUP(C2592,Debiteuren!$A$2:$N$9998,14,0))","v":""},null,"","",0,""]
[null,null,null,null,null,null,null,null,null,null,"",null,null,"",null,null,null,null,null,0,null,{"$f":"IF(C2604=\"\",\"\",VLOOKUP(C2604,Debiteuren!$A$2:$J$9998,10,0))&\"\"","v":""},{"$f":"IF(C2604=\"\",\"\",VLOOKUP(C2604,Debiteuren!$A$2:$O$9998,15,0)&\"\"&VLOOKUP(C2604,Debiteuren!$A$2:$N$9998,14,0))","v":""},null,"","",0,""]
[null,null,null,null,null,null,null,null,null,null,"",null,null,"",null,null,null,null,null,0,null,{"$f":"IF(C2616=\"\",\"\",VLOOKUP(C2616,Debiteuren!$A$2:$J$9998,10,0))&\"\"","v":""},{"$f":"IF(C2616=\"\",\"\",VLOOKUP(C2616,Debiteuren!$A$2:$O$9998,15,0)&\"\"&VLOOKUP(C2616,Debiteuren!$A$2:$N$9998,14,0))","v":""},null,"","",0,""]
[null,null,null,null,null,null,null,null,null,null,"",null,null,"",null,null,null,null,null,0,null,{"$f":"IF(C2623=\"\",\"\",VLOOKUP(C2623,Debiteuren!$A$2:$J$9998,10,0))&\"\"","v":""},{"$f":"IF(C2623=\"\",\"\",VLOOKUP(C2623,Debiteuren!$A$2:$O$9998,15,0)&\"\"&VLOOKUP(C2623,Debiteuren!$A$2:$N$9998,14,0))","v":""},null,"","",0,""]
[null,null,null,null,null,null,null,null,null,null,"",null,null,"",null,null,null,null,null,0,null,{"$f":"IF(C2629=\"\",\"\",VLOOKUP(C2629,Debiteuren!$A$2:$J$9998,10,0))&\"\"","v":""},{"$f":"IF(C2629=\"\",\"\",VLOOKUP(C2629,Debiteuren!$A$2:$O$9998,15,0)&\"\"&VLOOKUP(C2629,Debiteuren!$A$2:$N$9998,14,0))","v":""},null,"","",0,""]
[null,null,null,null,null,null,null,null,null,null,"",null,null,"",null,null,null,null,null,0,null,{"$f":"IF(C2641=\"\",\"\",VLOOKUP(C2641,Debiteuren!$A$2:$J$9998,10,0))&\"\"","v":""},{"$f":"IF(C2641=\"\",\"\",VLOOKUP(C2641,Debiteuren!$A$2:$O$9998,15,0)&\"\"&VLOOKUP(C2641,Debiteuren!$A$2:$N$9998,14,0))","v":""},null,"","",0,""]
[null,null,null,null,null,null,null,null,null,null,"",null,null,"",null,null,null,null,null,0,null,{"$f":"IF(C2644=\"\",\"\",VLOOKUP(C2644,Debiteuren!$A$2:$J$9998,10,0))&\"\"","v":""},{"$f":"IF(C2644=\"\",\"\",VLOOKUP(C2644,Debiteuren!$A$2:$O$9998,15,0)&\"\"&VLOOKUP(C2644,Debiteuren!$A$2:$N$9998,14,0))","v":""},null,"","",0,""]
[null,null,null,null,null,null,null,null,null,null,"",null,null,"",null,null,null,null,null,0,null,{"$f":"IF(C2656=\"\",\"\",VLOOKUP(C2656,Debiteuren!$A$2:$J$9998,10,0))&\"\"","v":""},{"$f":"IF(C2656=\"\",\"\",VLOOKUP(C2656,Debiteuren!$A$2:$O$9998,15,0)&\"\"&VLOOKUP(C2656,Debiteuren!$A$2:$N$9998,14,0))","v":""},null,"","",0,""]
[null,null,null,null,null,null,null,null,null,null,"",null,null,"",null,null,null,null,null,0,null,{"$f":"IF(C2663=\"\",\"\",VLOOKUP(C2663,Debiteuren!$A$2:$J$9998,10,0))&\"\"","v":""},{"$f":"IF(C2663=\"\",\"\",VLOOKUP(C2663,Debiteuren!$A$2:$O$9998,15,0)&\"\"&VLOOKUP(C2663,Debiteuren!$A$2:$N$9998,14,0))","v":""},null,"","",0,""]
[null,null,null,null,null,null,null,null,null,null,"",null,null,"",null,null,null,null,null,0,null,{"$f":"IF(C2678=\"\",\"\",VLOOKUP(C2678,Debiteuren!$A$2:$J$9998,10,0))&\"\"","v":""},{"$f":"IF(C2678=\"\",\"\",VLOOKUP(C2678,Debiteuren!$A$2:$O$9998,15,0)&\"\"&VLOOKUP(C2678,Debiteuren!$A$2:$N$9998,14,0))","v":""},null,"","",0,""]
[null,null,null,null,null,null,null,null,null,null,"",null,null,"",null,null,null,null,null,0,null,{"$f":"IF(C2686=\"\",\"\",VLOOKUP(C2686,Debiteuren!$A$2:$J$9998,10,0))&\"\"","v":""},{"$f":"IF(C2686=\"\",\"\",VLOOKUP(C2686,Debiteuren!$A$2:$O$9998,15,0)&\"\"&VLOOKUP(C2686,Debiteuren!$A$2:$N$9998,14,0))","v":""},null,"","",0,""]
[null,null,null,null,null,null,null,null,null,null,"",null,null,"",null,null,null,null,null,0,null,{"$f":"IF(C2693=\"\",\"\",VLOOKUP(C2693,Debiteuren!$A$2:$J$9998,10,0))&\"\"","v":""},{"$f":"IF(C2693=\"\",\"\",VLOOKUP(C2693,Debiteuren!$A$2:$O$9998,15,0)&\"\"&VLOOKUP(C2693,Debiteuren!$A$2:$N$9998,14,0))","v":""},null,"","",0,""]
[null,null,null,null,null,null,null,null,null,null,"",null,null,"",null,null,null,null,null,0,null,{"$f":"IF(C2705=\"\",\"\",VLOOKUP(C2705,Debiteuren!$A$2:$J$9998,10,0))&\"\"","v":""},{"$f":"IF(C2705=\"\",\"\",VLOOKUP(C2705,Debiteuren!$A$2:$O$9998,15,0)&\"\"&VLOOKUP(C2705,Debiteuren!$A$2:$N$9998,14,0))","v":""},null,"","",0,""]
[null,null,null,null,null,null,null,null,null,null,"",null,null,"",null,null,null,null,null,0,null,{"$f":"IF(C2712=\"\",\"\",VLOOKUP(C2712,Debiteuren!$A$2:$J$9998,10,0))&\"\"","v":""},{"$f":"IF(C2712=\"\",\"\",VLOOKUP(C2712,Debiteuren!$A$2:$O$9998,15,0)&\"\"&VLOOKUP(C2712,Debiteuren!$A$2:$N$9998,14,0))","v":""},null,"","",0,""]
[null,null,null,null,null,null,null,null,null,null,"",null,null,"",null,null,null,null,null,0,null,{"$f":"IF(C2719=\"\",\"\",VLOOKUP(C2719,Debiteuren!$A$2:$J$9998,10,0))&\"\"","v":""},{"$f":"IF(C2719=\"\",\"\",VLOOKUP(C2719,Debiteuren!$A$2:$O$9998,15,0)&\"\"&VLOOKUP(C2719,Debiteuren!$A$2:$N$9998,14,0))","v":""},null,"","",0,""]
[null,null,null,null,null,null,null,null,null,null,"",null,null,"",null,null,null,null,null,0,null,{"$f":"IF(C2726=\"\",\"\",VLOOKUP(C2726,Debiteuren!$A$2:$J$9998,10,0))&\"\"","v":""},{"$f":"IF(C2726=\"\",\"\",VLOOKUP(C2726,Debiteuren!$A$2:$O$9998,15,0)&\"\"&VLOOKUP(C2726,Debiteuren!$A$2:$N$9998,14,0))","v":""},null,"","",0,""]
[null,null,null,null,null,null,null,null,null,null,"",null,null,"",null,null,null,null,null,0,null,{"$f":"IF(C2733=\"\",\"\",VLOOKUP(C2733,Debiteuren!$A$2:$J$9998,10,0))&\"\"","v":""},{"$f":"IF(C2733=\"\",\"\",VLOOKUP(C2733,Debiteuren!$A$2:$O$9998,15,0)&\"\"&VLOOKUP(C2733,Debiteuren!$A$2:$N$9998,14,0))","v":""},null,"","",0,""]
[null,null,null,null,null,null,null,null,null,null,{"$f":"IF(D2745=\"\",\"\",\"\"&\"Kwartaal \"&MONTH(MONTH(D2745)&0)&TEXT(D2745,\" - mmm JJJJ\"))","v":""},null,null,{"$f":"IF(E2745=\"\",\"\",(E2745)-(F2745))","v":""},null,null,null,null,null,0,null,{"$f":"IF(C2745=\"\",\"\",VLOOKUP(C2745,Debiteuren!$A$2:$J$9998,10,0))&\"\"","v":""},{"$f":"IF(C2745=\"\",\"\",VLOOKUP(C2745,Debiteuren!$A$2:$O$9998,15,0)&\"\"&VLOOKUP(C2745,Debiteuren!$A$2:$N$9998,14,0))","v":""},null,"","",0,""]
[null,null,null,null,null,null,null,null,null,null,"",null,null,"",null,null,null,null,null,0,null,{"$f":"IF(C2752=\"\",\"\",VLOOKUP(C2752,Debiteuren!$A$2:$J$9998,10,0))&\"\"","v":""},{"$f":"IF(C2752=\"\",\"\",VLOOKUP(C2752,Debiteuren!$A$2:$O$9998,15,0)&\"\"&VLOOKUP(C2752,Debiteuren!$A$2:$N$9998,14,0))","v":""},null,"","",0,""]
[null,null,null,null,null,null,null,null,null,null,"",null,null,"",null,null,null,null,null,0,null,{"$f":"IF(C2760=\"\",\"\",VLOOKUP(C2760,Debiteuren!$A$2:$J$9998,10,0))&\"\"","v":""},{"$f":"IF(C2760=\"\",\"\",VLOOKUP(C2760,Debiteuren!$A$2:$O$9998,15,0)&\"\"&VLOOKUP(C2760,Debiteuren!$A$2:$N$9998,14,0))","v":""},null,"","",0,""]
[null,null,null,null,null,null,null,null,null,null,"",null,null,"",null,null,null,null,null,0,null,{"$f":"IF(C2775=\"\",\"\",VLOOKUP(C2775,Debiteuren!$A$2:$J$9998,10,0))&\"\"","v":""},{"$f":"IF(C2775=\"\",\"\",VLOOKUP(C2775,Debiteuren!$A$2:$O$9998,15,0)&\"\"&VLOOKUP(C2775,Debiteuren!$A$2:$N$9998,14,0))","v":""},null,"","",0,""]
[null,null,null,null,null,null,null,null,null,null,"",null,null,"",null,null,null,null,null,0,null,{"$f":"IF(C2782=\"\",\"\",VLOOKUP(C2782,Debiteuren!$A$2:$J$9998,10,0))&\"\"","v":""},{"$f":"IF(C2782=\"\",\"\",VLOOKUP(C2782,Debiteuren!$A$2:$O$9998,15,0)&\"\"&VLOOKUP(C2782,Debiteuren!$A$2:$N$9998,14,0))","v":""},null,"","",0,""]
[null,null,null,null,null,null,null,null,null,null,"",null,null,"",null,null,null,null,null,0,null,{"$f":"IF(C2785=\"\",\"\",VLOOKUP(C2785,Debiteuren!$A$2:$J$9998,10,0))&\"\"","v":""},{"$f":"IF(C2785=\"\",\"\",VLOOKUP(C2785,Debiteuren!$A$2:$O$9998,15,0)&\"\"&VLOOKUP(C2785,Debiteuren!$A$2:$N$9998,14,0))","v":""},null,"","",0,""]
[null,null,null,null,null,null,null,null,null,null,"",null,null,"",null,null,null,null,null,{"$f":"IF(B2799=1,E2799,0)","v":0},null,{"$f":"IF(C2799=\"\",\"\",VLOOKUP(C2799,Debiteuren!$A$2:$J$9998,10,0))&\"\"","v":""},{"$f":"IF(C2799=\"\",\"\",VLOOKUP(C2799,Debiteuren!$A$2:$O$9998,15,0)&\"\"&VLOOKUP(C2799,Debiteuren!$A$2:$N$9998,14,0))","v":""},null,"","",0,""]
[null,null,null,null,null,null,null,null,null,null,"",null,null,"",null,null,null,null,null,0,null,{"$f":"IF(C2803=\"\",\"\",VLOOKUP(C2803,Debiteuren!$A$2:$J$9998,10,0))&\"\"","v":""},{"$f":"IF(C2803=\"\",\"\",VLOOKUP(C2803,Debiteuren!$A$2:$O$9998,15,0)&\"\"&VLOOKUP(C2803,Debiteuren!$A$2:$N$9998,14,0))","v":""},null,"","",0,""]
[null,null,null,null,null,null,null,null,null,null,"",null,null,"",null,null,null,null,null,0,null,{"$f":"IF(C2815=\"\",\"\",VLOOKUP(C2815,Debiteuren!$A$2:$J$9998,10,0))&\"\"","v":""},{"$f":"IF(C2815=\"\",\"\",VLOOKUP(C2815,Debiteuren!$A$2:$O$9998,15,0)&\"\"&VLOOKUP(C2815,Debiteuren!$A$2:$N$9998,14,0))","v":""},null,"","",0,""]
[null,null,null,null,null,null,null,null,null,null,"",null,null,"",null,null,null,null,null,0,null,{"$f":"IF(C2822=\"\",\"\",VLOOKUP(C2822,Debiteuren!$A$2:$J$9998,10,0))&\"\"","v":""},{"$f":"IF(C2822=\"\",\"\",VLOOKUP(C2822,Debiteuren!$A$2:$O$9998,15,0)&\"\"&VLOOKUP(C2822,Debiteuren!$A$2:$N$9998,14,0))","v":""},null,"","",0,""]
[null,null,null,null,null,null,null,null,null,null,"",null,null,"",null,null,null,null,null,0,null,{"$f":"IF(C2834=\"\",\"\",VLOOKUP(C2834,Debiteuren!$A$2:$J$9998,10,0))&\"\"","v":""},{"$f":"IF(C2834=\"\",\"\",VLOOKUP(C2834,Debiteuren!$A$2:$O$9998,15,0)&\"\"&VLOOKUP(C2834,Debiteuren!$A$2:$N$9998,14,0))","v":""},null,"","",0,""]
[null,null,null,null,null,null,null,null,null,null,"",null,null,"",null,null,null,null,null,0,null,{"$f":"IF(C2840=\"\",\"\",VLOOKUP(C2840,Debiteuren!$A$2:$J$9998,10,0))&\"\"","v":""},{"$f":"IF(C2840=\"\",\"\",VLOOKUP(C2840,Debiteuren!$A$2:$O$9998,15,0)&\"\"&VLOOKUP(C2840,Debiteuren!$A$2:$N$9998,14,0))","v":""},null,"","",0,""]
[null,null,null,null,null,null,null,null,null,null,"",null,null,"",null,null,null,null,null,0,null,{"$f":"IF(C2852=\"\",\"\",VLOOKUP(C2852,Debiteuren!$A$2:$J$9998,10,0))&\"\"","v":""},{"$f":"IF(C2852=\"\",\"\",VLOOKUP(C2852,Debiteuren!$A$2:$O$9998,15,0)&\"\"&VLOOKUP(C2852,Debiteuren!$A$2:$N$9998,14,0))","v":""},null,"","",0,""]
[null,null,null,null,null,null,null,null,null,null,"",null,null,"",null,null,null,null,null,0,null,{"$f":"IF(C2855=\"\",\"\",VLOOKUP(C2855,Debiteuren!$A$2:$J$9998,10,0))&\"\"","v":""},{"$f":"IF(C2855=\"\",\"\",VLOOKUP(C2855,Debiteuren!$A$2:$O$9998,15,0)&\"\"&VLOOKUP(C2855,Debiteuren!$A$2:$N$9998,14,0))","v":""},null,"","",0,""]
[null,null,null,null,null,null,null,null,null,null,"",null,null,"",null,null,null,null,null,0,null,{"$f":"IF(C2867=\"\",\"\",VLOOKUP(C2867,Debiteuren!$A$2:$J$9998,10,0))&\"\"","v":""},{"$f":"IF(C2867=\"\",\"\",VLOOKUP(C2867,Debiteuren!$A$2:$O$9998,15,0)&\"\"&VLOOKUP(C2867,Debiteuren!$A$2:$N$9998,14,0))","v":""},null,"","",0,""]
[null,null,null,null,null,null,null,null,null,null,"",null,null,"",null,null,null,null,null,0,null,{"$f":"IF(C2874=\"\",\"\",VLOOKUP(C2874,Debiteuren!$A$2:$J$9998,10,0))&\"\"","v":""},{"$f":"IF(C2874=\"\",\"\",VLOOKUP(C2874,Debiteuren!$A$2:$O$9998,15,0)&\"\"&VLOOKUP(C2874,Debiteuren!$A$2:$N$9998,14,0))","v":""},null,"","",0,""]
[null,null,null,null,null,null,null,null,null,null,"",null,null,"",null,null,null,null,null,0,null,{"$f":"IF(C2889=\"\",\"\",VLOOKUP(C2889,Debiteuren!$A$2:$J$9998,10,0))&\"\"","v":""},{"$f":"IF(C2889=\"\",\"\",VLOOKUP(C2889,Debiteuren!$A$2:$O$9998,15,0)&\"\"&VLOOKUP(C2889,Debiteuren!$A$2:$N$9998,14,0))","v":""},null,"","",0,""]
[null,null,null,null,null,null,null,null,null,null,"",null,null,"",null,null,null,null,null,0,null,{"$f":"IF(C2892=\"\",\"\",VLOOKUP(C2892,Debiteuren!$A$2:$J$9998,10,0))&\"\"","v":""},{"$f":"IF(C2892=\"\",\"\",VLOOKUP(C2892,Debiteuren!$A$2:$O$9998,15,0)&\"\"&VLOOKUP(C2892,Debiteuren!$A$2:$N$9998,14,0))","v":""},null,"","",0,""]
[null,null,null,null,null,null,null,null,null,null,"",null,null,"",null,null,null,null,null,0,null,{"$f":"IF(C2904=\"\",\"\",VLOOKUP(C2904,Debiteuren!$A$2:$J$9998,10,0))&\"\"","v":""},{"$f":"IF(C2904=\"\",\"\",VLOOKUP(C2904,Debiteuren!$A$2:$O$9998,15,0)&\"\"&VLOOKUP(C2904,Debiteuren!$A$2:$N$9998,14,0))","v":""},null,"","",0,""]
[null,null,null,null,null,null,null,null,null,null,"",null,null,"",null,null,null,null,null,0,null,{"$f":"IF(C2916=\"\",\"\",VLOOKUP(C2916,Debiteuren!$A$2:$J$9998,10,0))&\"\"","v":""},{"$f":"IF(C2916=\"\",\"\",VLOOKUP(C2916,Debiteuren!$A$2:$O$9998,15,0)&\"\"&VLOOKUP(C2916,Debiteuren!$A$2:$N$9998,14,0))","v":""},null,"","",0,""]
[null,null,null,null,null,null,null,null,null,null,"",null,null,"",null,null,null,null,null,0,null,{"$f":"IF(C2923=\"\",\"\",VLOOKUP(C2923,Debiteuren!$A$2:$J$9998,10,0))&\"\"","v":""},{"$f":"IF(C2923=\"\",\"\",VLOOKUP(C2923,Debiteuren!$A$2:$O$9998,15,0)&\"\"&VLOOKUP(C2923,Debiteuren!$A$2:$N$9998,14,0))","v":""},null,"","",0,""]
[null,null,null,null,null,null,null,null,null,null,"",null,null,"",null,null,null,null,null,0,null,{"$f":"IF(C2930=\"\",\"\",VLOOKUP(C2930,Debiteuren!$A$2:$J$9998,10,0))&\"\"","v":""},{"$f":"IF(C2930=\"\",\"\",VLOOKUP(C2930,Debiteuren!$A$2:$O$9998,15,0)&\"\"&VLOOKUP(C2930,Debiteuren!$A$2:$N$9998,14,0))","v":""},null,"","",0,""]
[null,null,null,null,null,null,null,null,null,null,"",null,null,"",null,null,null,null,null,0,null,{"$f":"IF(C2941=\"\",\"\",VLOOKUP(C2941,Debiteuren!$A$2:$J$9998,10,0))&\"\"","v":""},{"$f":"IF(C2941=\"\",\"\",VLOOKUP(C2941,Debiteuren!$A$2:$O$9998,15,0)&\"\"&VLOOKUP(C2941,Debiteuren!$A$2:$N$9998,14,0))","v":""},null,"","",0,""]
[null,null,null,null,null,null,null,null,null,null,"",null,null,"",null,null,null,null,null,0,null,{"$f":"IF(C2944=\"\",\"\",VLOOKUP(C2944,Debiteuren!$A$2:$J$9998,10,0))&\"\"","v":""},{"$f":"IF(C2944=\"\",\"\",VLOOKUP(C2944,Debiteuren!$A$2:$O$9998,15,0)&\"\"&VLOOKUP(C2944,Debiteuren!$A$2:$N$9998,14,0))","v":""},null,"","",0,""]
[null,null,null,null,null,null,null,null,null,null,"",null,null,"",null,null,null,null,null,0,null,{"$f":"IF(C2956=\"\",\"\",VLOOKUP(C2956,Debiteuren!$A$2:$J$9998,10,0))&\"\"","v":""},{"$f":"IF(C2956=\"\",\"\",VLOOKUP(C2956,Debiteuren!$A$2:$O$9998,15,0)&\"\"&VLOOKUP(C2956,Debiteuren!$A$2:$N$9998,14,0))","v":""},null,"","",0,""]
[null,null,null,null,null,null,null,null,null,null,"",null,null,"",null,null,null,null,null,0,null,{"$f":"IF(C2961=\"\",\"\",VLOOKUP(C2961,Debiteuren!$A$2:$J$9998,10,0))&\"\"","v":""},{"$f":"IF(C2961=\"\",\"\",VLOOKUP(C2961,Debiteuren!$A$2:$O$9998,15,0)&\"\"&VLOOKUP(C2961,Debiteuren!$A$2:$N$9998,14,0))","v":""},null,"","",0,""]
[null,null,null,null,null,null,null,null,null,null,"",null,null,"",null,null,null,null,null,0,null,{"$f":"IF(C2974=\"\",\"\",VLOOKUP(C2974,Debiteuren!$A$2:$J$9998,10,0))&\"\"","v":""},{"$f":"IF(C2974=\"\",\"\",VLOOKUP(C2974,Debiteuren!$A$2:$O$9998,15,0)&\"\"&VLOOKUP(C2974,Debiteuren!$A$2:$N$9998,14,0))","v":""},null,"","",0,""]
[null,null,null,null,null,null,null,null,null,null,"",null,null,"",null,null,null,null,null,0,null,{"$f":"IF(C2986=\"\",\"\",VLOOKUP(C2986,Debiteuren!$A$2:$J$9998,10,0))&\"\"","v":""},{"$f":"IF(C2986=\"\",\"\",VLOOKUP(C2986,Debiteuren!$A$2:$O$9998,15,0)&\"\"&VLOOKUP(C2986,Debiteuren!$A$2:$N$9998,14,0))","v":""},null,"","",0,""]
[null,null,null,null,null,null,null,null,null,null,"",null,null,"",null,null,null,null,null,0,null,{"$f":"IF(C2993=\"\",\"\",VLOOKUP(C2993,Debiteuren!$A$2:$J$9998,10,0))&\"\"","v":""},{"$f":"IF(C2993=\"\",\"\",VLOOKUP(C2993,Debiteuren!$A$2:$O$9998,15,0)&\"\"&VLOOKUP(C2993,Debiteuren!$A$2:$N$9998,14,0))","v":""},null,"","",0,""]
[null,null,null,null,null,null,null,null,null,null,"",null,null,"",null,null,null,null,null,0,null,{"$f":"IF(C2996=\"\",\"\",VLOOKUP(C2996,Debiteuren!$A$2:$J$9998,10,0))&\"\"","v":""},{"$f":"IF(C2996=\"\",\"\",VLOOKUP(C2996,Debiteuren!$A$2:$O$9998,15,0)&\"\"&VLOOKUP(C2996,Debiteuren!$A$2:$N$9998,14,0))","v":""},null,"","",0,""]
[null,null,null,null,null,null,null,null,null,null,"",null,null,"",null,null,null,null,null,0,null,{"$f":"IF(C3010=\"\",\"\",VLOOKUP(C3010,Debiteuren!$A$2:$J$9998,10,0))&\"\"","v":""},{"$f":"IF(C3010=\"\",\"\",VLOOKUP(C3010,Debiteuren!$A$2:$O$9998,15,0)&\"\"&VLOOKUP(C3010,Debiteuren!$A$2:$N$9998,14,0))","v":""},null,"","",0,""]
[null,null,null,null,null,null,null,null,null,null,"",null,null,"",null,null,null,null,null,0,null,{"$f":"IF(C3014=\"\",\"\",VLOOKUP(C3014,Debiteuren!$A$2:$J$9998,10,0))&\"\"","v":""},{"$f":"IF(C3014=\"\",\"\",VLOOKUP(C3014,Debiteuren!$A$2:$O$9998,15,0)&\"\"&VLOOKUP(C3014,Debiteuren!$A$2:$N$9998,14,0))","v":""},null,"","",0,""]
[null,null,null,null,null,null,null,null,null,null,"",null,null,"",null,null,null,null,null,0,null,{"$f":"IF(C3026=\"\",\"\",VLOOKUP(C3026,Debiteuren!$A$2:$J$9998,10,0))&\"\"","v":""},{"$f":"IF(C3026=\"\",\"\",VLOOKUP(C3026,Debiteuren!$A$2:$O$9998,15,0)&\"\"&VLOOKUP(C3026,Debiteuren!$A$2:$N$9998,14,0))","v":""},null,"","",0,""]
[null,null,null,null,null,null,null,null,null,null,"",null,null,"",null,null,null,null,null,0,null,{"$f":"IF(C3033=\"\",\"\",VLOOKUP(C3033,Debiteuren!$A$2:$J$9998,10,0))&\"\"","v":""},{"$f":"IF(C3033=\"\",\"\",VLOOKUP(C3033,Debiteuren!$A$2:$O$9998,15,0)&\"\"&VLOOKUP(C3033,Debiteuren!$A$2:$N$9998,14,0))","v":""},null,"","",0,""]
[null,null,null,null,null,null,null,null,null,null,"",null,null,"",null,null,null,null,null,0,null,{"$f":"IF(C3045=\"\",\"\",VLOOKUP(C3045,Debiteuren!$A$2:$J$9998,10,0))&\"\"","v":""},{"$f":"IF(C3045=\"\",\"\",VLOOKUP(C3045,Debiteuren!$A$2:$O$9998,15,0)&\"\"&VLOOKUP(C3045,Debiteuren!$A$2:$N$9998,14,0))","v":""},null,"","",0,""]
[null,null,null,null,null,null,null,null,null,null,"",null,null,"",null,null,null,null,null,0,null,{"$f":"IF(C3051=\"\",\"\",VLOOKUP(C3051,Debiteuren!$A$2:$J$9998,10,0))&\"\"","v":""},{"$f":"IF(C3051=\"\",\"\",VLOOKUP(C3051,Debiteuren!$A$2:$O$9998,15,0)&\"\"&VLOOKUP(C3051,Debiteuren!$A$2:$N$9998,14,0))","v":""},null,"","",0,""]
[null,null,null,null,null,null,null,null,null,null,"",null,null,"",null,null,null,null,null,0,null,{"$f":"IF(C3063=\"\",\"\",VLOOKUP(C3063,Debiteuren!$A$2:$J$9998,10,0))&\"\"","v":""},{"$f":"IF(C3063=\"\",\"\",VLOOKUP(C3063,Debiteuren!$A$2:$O$9998,15,0)&\"\"&VLOOKUP(C3063,Debiteuren!$A$2:$N$9998,14,0))","v":""},null,"","",0,""]
[null,null,null,null,null,null,null,null,null,null,"",null,null,"",null,null,null,null,null,0,null,{"$f":"IF(C3066=\"\",\"\",VLOOKUP(C3066,Debiteuren!$A$2:$J$9998,10,0))&\"\"","v":""},{"$f":"IF(C3066=\"\",\"\",VLOOKUP(C3066,Debiteuren!$A$2:$O$9998,15,0)&\"\"&VLOOKUP(C3066,Debiteuren!$A$2:$N$9998,14,0))","v":""},null,"","",0,""]
[null,null,null,null,null,null,null,null,null,null,"",null,null,"",null,null,null,null,null,0,null,{"$f":"IF(C3082=\"\",\"\",VLOOKUP(C3082,Debiteuren!$A$2:$J$9998,10,0))&\"\"","v":""},{"$f":"IF(C3082=\"\",\"\",VLOOKUP(C3082,Debiteuren!$A$2:$O$9998,15,0)&\"\"&VLOOKUP(C3082,Debiteuren!$A$2:$N$9998,14,0))","v":""},null,"","",0,""]
[null,null,null,null,null,null,null,null,null,null,"",null,null,"",null,null,null,null,null,0,null,{"$f":"IF(C3085=\"\",\"\",VLOOKUP(C3085,Debiteuren!$A$2:$J$9998,10,0))&\"\"","v":""},{"$f":"IF(C3085=\"\",\"\",VLOOKUP(C3085,Debiteuren!$A$2:$O$9998,15,0)&\"\"&VLOOKUP(C3085,Debiteuren!$A$2:$N$9998,14,0))","v":""},null,"","",0,""]
[null,null,null,null,null,null,null,null,null,null,"",null,null,"",null,null,null,null,null,0,null,{"$f":"IF(C3100=\"\",\"\",VLOOKUP(C3100,Debiteuren!$A$2:$J$9998,10,0))&\"\"","v":""},{"$f":"IF(C3100=\"\",\"\",VLOOKUP(C3100,Debiteuren!$A$2:$O$9998,15,0)&\"\"&VLOOKUP(C3100,Debiteuren!$A$2:$N$9998,14,0))","v":""},null,"","",0,""]
[null,null,null,null,null,null,null,null,null,null,"",null,null,"",null,null,null,null,null,0,null,{"$f":"IF(C3103=\"\",\"\",VLOOKUP(C3103,Debiteuren!$A$2:$J$9998,10,0))&\"\"","v":""},{"$f":"IF(C3103=\"\",\"\",VLOOKUP(C3103,Debiteuren!$A$2:$O$9998,15,0)&\"\"&VLOOKUP(C3103,Debiteuren!$A$2:$N$9998,14,0))","v":""},null,"","",0,""]
[null,null,null,null,null,null,null,null,null,null,"",null,null,"",null,null,null,null,null,0,null,{"$f":"IF(C3115=\"\",\"\",VLOOKUP(C3115,Debiteuren!$A$2:$J$9998,10,0))&\"\"","v":""},{"$f":"IF(C3115=\"\",\"\",VLOOKUP(C3115,Debiteuren!$A$2:$O$9998,15,0)&\"\"&VLOOKUP(C3115,Debiteuren!$A$2:$N$9998,14,0))","v":""},null,"","",0,""]
[null,null,null,null,null,null,null,null,null,null,"",null,null,"",null,null,null,null,null,0,null,{"$f":"IF(C3122=\"\",\"\",VLOOKUP(C3122,Debiteuren!$A$2:$J$9998,10,0))&\"\"","v":""},{"$f":"IF(C3122=\"\",\"\",VLOOKUP(C3122,Debiteuren!$A$2:$O$9998,15,0)&\"\"&VLOOKUP(C3122,Debiteuren!$A$2:$N$9998,14,0))","v":""},null,"","",0,""]
[null,null,null,null,null,null,null,null,null,null,"",null,null,"",null,null,null,null,null,0,null,{"$f":"IF(C3131=\"\",\"\",VLOOKUP(C3131,Debiteuren!$A$2:$J$9998,10,0))&\"\"","v":""},{"$f":"IF(C3131=\"\",\"\",VLOOKUP(C3131,Debiteuren!$A$2:$O$9998,15,0)&\"\"&VLOOKUP(C3131,Debiteuren!$A$2:$N$9998,14,0))","v":""},null,"","",0,""]
[null,null,null,null,null,null,null,null,null,null,"",null,null,"",null,null,null,null,null,0,null,{"$f":"IF(C3136=\"\",\"\",VLOOKUP(C3136,Debiteuren!$A$2:$J$9998,10,0))&\"\"","v":""},{"$f":"IF(C3136=\"\",\"\",VLOOKUP(C3136,Debiteuren!$A$2:$O$9998,15,0)&\"\"&VLOOKUP(C3136,Debiteuren!$A$2:$N$9998,14,0))","v":""},null,"","",0,""]
[null,null,null,null,null,null,null,null,null,null,"",null,null,"",null,null,null,null,null,0,null,{"$f":"IF(C3152=\"\",\"\",VLOOKUP(C3152,Debiteuren!$A$2:$J$9998,10,0))&\"\"","v":""},{"$f":"IF(C3152=\"\",\"\",VLOOKUP(C3152,Debiteuren!$A$2:$O$9998,15,0)&\"\"&VLOOKUP(C3152,Debiteuren!$A$2:$N$9998,14,0))","v":""},null,"","",0,""]
[null,null,null,null,null,null,null,null,null,null,"",null,null,"",null,null,null,null,null,0,null,{"$f":"IF(C3155=\"\",\"\",VLOOKUP(C3155,Debiteuren!$A$2:$J$9998,10,0))&\"\"","v":""},{"$f":"IF(C3155=\"\",\"\",VLOOKUP(C3155,Debiteuren!$A$2:$O$9998,15,0)&\"\"&VLOOKUP(C3155,Debiteuren!$A$2:$N$9998,14,0))","v":""},null,"","",0,""]
[null,null,null,null,null,null,null,null,null,null,"",null,null,"",null,null,null,null,null,0,null,{"$f":"IF(C3167=\"\",\"\",VLOOKUP(C3167,Debiteuren!$A$2:$J$9998,10,0))&\"\"","v":""},{"$f":"IF(C3167=\"\",\"\",VLOOKUP(C3167,Debiteuren!$A$2:$O$9998,15,0)&\"\"&VLOOKUP(C3167,Debiteuren!$A$2:$N$9998,14,0))","v":""},null,"","",0,""]
[null,null,null,null,null,null,null,null,null,null,"",null,null,"",null,null,null,null,null,0,null,{"$f":"IF(C3172=\"\",\"\",VLOOKUP(C3172,Debiteuren!$A$2:$J$9998,10,0))&\"\"","v":""},{"$f":"IF(C3172=\"\",\"\",VLOOKUP(C3172,Debiteuren!$A$2:$O$9998,15,0)&\"\"&VLOOKUP(C3172,Debiteuren!$A$2:$N$9998,14,0))","v":""},null,"","",0,""]
[null,null,null,null,null,null,null,null,null,null,"",null,null,"",null,null,null,null,null,0,null,{"$f":"IF(C3185=\"\",\"\",VLOOKUP(C3185,Debiteuren!$A$2:$J$9998,10,0))&\"\"","v":""},{"$f":"IF(C3185=\"\",\"\",VLOOKUP(C3185,Debiteuren!$A$2:$O$9998,15,0)&\"\"&VLOOKUP(C3185,Debiteuren!$A$2:$N$9998,14,0))","v":""},null,"","",0,""]
[null,null,null,null,null,null,null,null,null,null,"",null,null,"",null,null,null,null,null,0,null,{"$f":"IF(C3192=\"\",\"\",VLOOKUP(C3192,Debiteuren!$A$2:$J$9998,10,0))&\"\"","v":""},{"$f":"IF(C3192=\"\",\"\",VLOOKUP(C3192,Debiteuren!$A$2:$O$9998,15,0)&\"\"&VLOOKUP(C3192,Debiteuren!$A$2:$N$9998,14,0))","v":""},null,"","",0,""]
[null,null,null,null,null,null,null,null,null,null,"",null,null,"",null,null,null,null,null,0,null,{"$f":"IF(C3204=\"\",\"\",VLOOKUP(C3204,Debiteuren!$A$2:$J$9998,10,0))&\"\"","v":""},{"$f":"IF(C3204=\"\",\"\",VLOOKUP(C3204,Debiteuren!$A$2:$O$9998,15,0)&\"\"&VLOOKUP(C3204,Debiteuren!$A$2:$N$9998,14,0))","v":""},null,"","",0,""]
[null,null,null,null,null,null,null,null,null,null,"",null,null,"",null,null,null,null,null,0,null,{"$f":"IF(C3207=\"\",\"\",VLOOKUP(C3207,Debiteuren!$A$2:$J$9998,10,0))&\"\"","v":""},{"$f":"IF(C3207=\"\",\"\",VLOOKUP(C3207,Debiteuren!$A$2:$O$9998,15,0)&\"\"&VLOOKUP(C3207,Debiteuren!$A$2:$N$9998,14,0))","v":""},null,"","",0,""]
[null,null,null,null,null,null,null,null,null,null,"",null,null,"",null,null,null,null,null,0,null,{"$f":"IF(C3221=\"\",\"\",VLOOKUP(C3221,Debiteuren!$A$2:$J$9998,10,0))&\"\"","v":""},{"$f":"IF(C3221=\"\",\"\",VLOOKUP(C3221,Debiteuren!$A$2:$O$9998,15,0)&\"\"&VLOOKUP(C3221,Debiteuren!$A$2:$N$9998,14,0))","v":""},null,"","",0,""]
[null,null,null,null,null,null,null,null,null,null,"",null,null,"",null,null,null,null,null,0,null,{"$f":"IF(C3225=\"\",\"\",VLOOKUP(C3225,Debiteuren!$A$2:$J$9998,10,0))&\"\"","v":""},{"$f":"IF(C3225=\"\",\"\",VLOOKUP(C3225,Debiteuren!$A$2:$O$9998,15,0)&\"\"&VLOOKUP(C3225,Debiteuren!$A$2:$N$9998,14,0))","v":""},null,"","",0,""]
[null,null,null,null,null,null,null,null,null,null,"",null,null,"",null,null,null,null,null,0,null,{"$f":"IF(C3241=\"\",\"\",VLOOKUP(C3241,Debiteuren!$A$2:$J$9998,10,0))&\"\"","v":""},{"$f":"IF(C3241=\"\",\"\",VLOOKUP(C3241,Debiteuren!$A$2:$O$9998,15,0)&\"\"&VLOOKUP(C3241,Debiteuren!$A$2:$N$9998,14,0))","v":""},null,"","",0,""]
[null,null,null,null,null,null,null,null,null,null,"",null,null,"",null,null,null,null,null,0,null,{"$f":"IF(C3244=\"\",\"\",VLOOKUP(C3244,Debiteuren!$A$2:$J$9998,10,0))&\"\"","v":""},{"$f":"IF(C3244=\"\",\"\",VLOOKUP(C3244,Debiteuren!$A$2:$O$9998,15,0)&\"\"&VLOOKUP(C3244,Debiteuren!$A$2:$N$9998,14,0))","v":""},null,"","",0,""]
[null,null,null,null,null,null,null,null,null,null,"",null,null,"",null,null,null,null,null,0,null,{"$f":"IF(C3256=\"\",\"\",VLOOKUP(C3256,Debiteuren!$A$2:$J$9998,10,0))&\"\"","v":""},{"$f":"IF(C3256=\"\",\"\",VLOOKUP(C3256,Debiteuren!$A$2:$O$9998,15,0)&\"\"&VLOOKUP(C3256,Debiteuren!$A$2:$N$9998,14,0))","v":""},null,"","",0,""]
[null,null,null,null,null,null,null,null,null,null,"",null,null,"",null,null,null,null,null,0,null,{"$f":"IF(C3262=\"\",\"\",VLOOKUP(C3262,Debiteuren!$A$2:$J$9998,10,0))&\"\"","v":""},{"$f":"IF(C3262=\"\",\"\",VLOOKUP(C3262,Debiteuren!$A$2:$O$9998,15,0)&\"\"&VLOOKUP(C3262,Debiteuren!$A$2:$N$9998,14,0))","v":""},null,"","",0,""]
[null,null,null,null,null,null,null,null,null,null,"",null,null,"",null,null,null,null,null,0,null,{"$f":"IF(C3274=\"\",\"\",VLOOKUP(C3274,Debiteuren!$A$2:$J$9998,10,0))&\"\"","v":""},{"$f":"IF(C3274=\"\",\"\",VLOOKUP(C3274,Debiteuren!$A$2:$O$9998,15,0)&\"\"&VLOOKUP(C3274,Debiteuren!$A$2:$N$9998,14,0))","v":""},null,"","",0,""]
[null,null,null,null,null,null,null,null,null,null,"",null,null,"",null,null,null,null,null,0,null,{"$f":"IF(C3277=\"\",\"\",VLOOKUP(C3277,Debiteuren!$A$2:$J$9998,10,0))&\"\"","v":""},{"$f":"IF(C3277=\"\",\"\",VLOOKUP(C3277,Debiteuren!$A$2:$O$9998,15,0)&\"\"&VLOOKUP(C3277,Debiteuren!$A$2:$N$9998,14,0))","v":""},null,"","",0,""]
[null,null,null,null,null,null,null,null,null,null,"",null,null,"",null,null,null,null,null,0,null,{"$f":"IF(C3293=\"\",\"\",VLOOKUP(C3293,Debiteuren!$A$2:$J$9998,10,0))&\"\"","v":""},{"$f":"IF(C3293=\"\",\"\",VLOOKUP(C3293,Debiteuren!$A$2:$O$9998,15,0)&\"\"&VLOOKUP(C3293,Debiteuren!$A$2:$N$9998,14,0))","v":""},null,"","",0,""]
[null,null,null,null,null,null,null,null,null,null,"",null,null,"",null,null,null,null,null,0,null,{"$f":"IF(C3301=\"\",\"\",VLOOKUP(C3301,Debiteuren!$A$2:$J$9998,10,0))&\"\"","v":""},{"$f":"IF(C3301=\"\",\"\",VLOOKUP(C3301,Debiteuren!$A$2:$O$9998,15,0)&\"\"&VLOOKUP(C3301,Debiteuren!$A$2:$N$9998,14,0))","v":""},null,"","",0,""]
[null,null,null,null,null,null,null,null,null,null,"",null,null,"",null,null,null,null,null,{"$f":"IF(B3311=1,E3311,0)","v":0},null,{"$f":"IF(C3311=\"\",\"\",VLOOKUP(C3311,Debiteuren!$A$2:$J$9998,10,0))&\"\"","v":""},{"$f":"IF(C3311=\"\",\"\",VLOOKUP(C3311,Debiteuren!$A$2:$O$9998,15,0)&\"\"&VLOOKUP(C3311,Debiteuren!$A$2:$N$9998,14,0))","v":""},null,"","",0,""]
[null,null,null,null,null,null,null,null,null,null,"",null,null,"",null,null,null,null,null,0,null,{"$f":"IF(C3314=\"\",\"\",VLOOKUP(C3314,Debiteuren!$A$2:$J$9998,10,0))&\"\"","v":""},{"$f":"IF(C3314=\"\",\"\",VLOOKUP(C3314,Debiteuren!$A$2:$O$9998,15,0)&\"\"&VLOOKUP(C3314,Debiteuren!$A$2:$N$9998,14,0))","v":""},null,"","",0,""]
[null,null,null,null,null,null,null,null,null,null,"",null,null,"",null,null,null,null,null,0,null,{"$f":"IF(C3326=\"\",\"\",VLOOKUP(C3326,Debiteuren!$A$2:$J$9998,10,0))&\"\"","v":""},{"$f":"IF(C3326=\"\",\"\",VLOOKUP(C3326,Debiteuren!$A$2:$O$9998,15,0)&\"\"&VLOOKUP(C3326,Debiteuren!$A$2:$N$9998,14,0))","v":""},null,"","",0,""]
[null,null,null,null,null,null,null,null,null,null,"",null,null,"",null,null,null,null,null,0,null,{"$f":"IF(C3333=\"\",\"\",VLOOKUP(C3333,Debiteuren!$A$2:$J$9998,10,0))&\"\"","v":""},{"$f":"IF(C3333=\"\",\"\",VLOOKUP(C3333,Debiteuren!$A$2:$O$9998,15,0)&\"\"&VLOOKUP(C3333,Debiteuren!$A$2:$N$9998,14,0))","v":""},null,"","",0,""]
[null,null,null,null,null,null,null,null,null,null,"",null,null,"",null,null,null,null,null,0,null,{"$f":"IF(C3342=\"\",\"\",VLOOKUP(C3342,Debiteuren!$A$2:$J$9998,10,0))&\"\"","v":""},{"$f":"IF(C3342=\"\",\"\",VLOOKUP(C3342,Debiteuren!$A$2:$O$9998,15,0)&\"\"&VLOOKUP(C3342,Debiteuren!$A$2:$N$9998,14,0))","v":""},null,"","",0,""]
[null,null,null,null,null,null,null,null,null,null,"",null,null,"",null,null,null,null,null,0,null,{"$f":"IF(C3347=\"\",\"\",VLOOKUP(C3347,Debiteuren!$A$2:$J$9998,10,0))&\"\"","v":""},{"$f":"IF(C3347=\"\",\"\",VLOOKUP(C3347,Debiteuren!$A$2:$O$9998,15,0)&\"\"&VLOOKUP(C3347,Debiteuren!$A$2:$N$9998,14,0))","v":""},null,"","",0,""]
[null,null,null,null,null,null,null,null,null,null,"",null,null,"",null,null,null,null,null,0,null,{"$f":"IF(C3363=\"\",\"\",VLOOKUP(C3363,Debiteuren!$A$2:$J$9998,10,0))&\"\"","v":""},{"$f":"IF(C3363=\"\",\"\",VLOOKUP(C3363,Debiteuren!$A$2:$O$9998,15,0)&\"\"&VLOOKUP(C3363,Debiteuren!$A$2:$N$9998,14,0))","v":""},null,"","",0,""]
[null,null,null,null,null,null,null,null,null,null,"",null,null,"",null,null,null,null,null,0,null,{"$f":"IF(C3366=\"\",\"\",VLOOKUP(C3366,Debiteuren!$A$2:$J$9998,10,0))&\"\"","v":""},{"$f":"IF(C3366=\"\",\"\",VLOOKUP(C3366,Debiteuren!$A$2:$O$9998,15,0)&\"\"&VLOOKUP(C3366,Debiteuren!$A$2:$N$9998,14,0))","v":""},null,"","",0,""]
[null,null,null,null,null,null,null,null,null,null,"",null,null,"",null,null,null,null,null,0,null,{"$f":"IF(C3382=\"\",\"\",VLOOKUP(C3382,Debiteuren!$A$2:$J$9998,10,0))&\"\"","v":""},{"$f":"IF(C3382=\"\",\"\",VLOOKUP(C3382,Debiteuren!$A$2:$O$9998,15,0)&\"\"&VLOOKUP(C3382,Debiteuren!$A$2:$N$9998,14,0))","v":""},null,"","",0,""]
[null,null,null,null,null,null,null,null,null,null,"",null,null,"",null,null,null,null,null,0,null,{"$f":"IF(C3383=\"\",\"\",VLOOKUP(C3383,Debiteuren!$A$2:$J$9998,10,0))&\"\"","v":""},{"$f":"IF(C3383=\"\",\"\",VLOOKUP(C3383,Debiteuren!$A$2:$O$9998,15,0)&\"\"&VLOOKUP(C3383,Debiteuren!$A$2:$N$9998,14,0))","v":""},null,"","",0,""]
[null,null,null,null,null,null,null,null,null,null,"",null,null,"",null,null,null,null,null,0,null,{"$f":"IF(C3396=\"\",\"\",VLOOKUP(C3396,Debiteuren!$A$2:$J$9998,10,0))&\"\"","v":""},{"$f":"IF(C3396=\"\",\"\",VLOOKUP(C3396,Debiteuren!$A$2:$O$9998,15,0)&\"\"&VLOOKUP(C3396,Debiteuren!$A$2:$N$9998,14,0))","v":""},null,"","",0,""]
[null,null,null,null,null,null,null,null,null,null,"",null,null,"",null,null,null,null,null,0,null,{"$f":"IF(C3403=\"\",\"\",VLOOKUP(C3403,Debiteuren!$A$2:$J$9998,10,0))&\"\"","v":""},{"$f":"IF(C3403=\"\",\"\",VLOOKUP(C3403,Debiteuren!$A$2:$O$9998,15,0)&\"\"&VLOOKUP(C3403,Debiteuren!$A$2:$N$9998,14,0))","v":""},null,"","",0,""]
[null,null,null,null,null,null,null,null,null,null,"",null,null,"",null,null,null,null,null,0,null,{"$f":"IF(C3415=\"\",\"\",VLOOKUP(C3415,Debiteuren!$A$2:$J$9998,10,0))&\"\"","v":""},{"$f":"IF(C3415=\"\",\"\",VLOOKUP(C3415,Debiteuren!$A$2:$O$9998,15,0)&\"\"&VLOOKUP(C3415,Debiteuren!$A$2:$N$9998,14,0))","v":""},null,"","",0,""]
[null,null,null,null,null,null,null,null,null,null,"",null,null,"",null,null,null,null,null,0,null,{"$f":"IF(C3422=\"\",\"\",VLOOKUP(C3422,Debiteuren!$A$2:$J$9998,10,0))&\"\"","v":""},{"$f":"IF(C3422=\"\",\"\",VLOOKUP(C3422,Debiteuren!$A$2:$O$9998,15,0)&\"\"&VLOOKUP(C3422,Debiteuren!$A$2:$N$9998,14,0))","v":""},null,"","",0,""]
[null,null,null,null,null,null,null,null,null,null,"",null,null,"",null,null,null,null,null,0,null,{"$f":"IF(C3432=\"\",\"\",VLOOKUP(C3432,Debiteuren!$A$2:$J$9998,10,0))&\"\"","v":""},{"$f":"IF(C3432=\"\",\"\",VLOOKUP(C3432,Debiteuren!$A$2:$O$9998,15,0)&\"\"&VLOOKUP(C3432,Debiteuren!$A$2:$N$9998,14,0))","v":""},null,"","",0,""]
[null,null,null,null,null,null,null,null,null,null,"",null,null,"",null,null,null,null,null,0,null,{"$f":"IF(C3436=\"\",\"\",VLOOKUP(C3436,Debiteuren!$A$2:$J$9998,10,0))&\"\"","v":""},{"$f":"IF(C3436=\"\",\"\",VLOOKUP(C3436,Debiteuren!$A$2:$O$9998,15,0)&\"\"&VLOOKUP(C3436,Debiteuren!$A$2:$N$9998,14,0))","v":""},null,"","",0,""]
[null,null,null,null,null,null,null,null,null,null,"",null,null,"",null,null,null,null,null,0,null,{"$f":"IF(C3452=\"\",\"\",VLOOKUP(C3452,Debiteuren!$A$2:$J$9998,10,0))&\"\"","v":""},{"$f":"IF(C3452=\"\",\"\",VLOOKUP(C3452,Debiteuren!$A$2:$O$9998,15,0)&\"\"&VLOOKUP(C3452,Debiteuren!$A$2:$N$9998,14,0))","v":""},null,"","",0,""]
[null,null,null,null,null,null,null,null,null,null,"",null,null,"",null,null,null,null,null,0,null,{"$f":"IF(C3455=\"\",\"\",VLOOKUP(C3455,Debiteuren!$A$2:$J$9998,10,0))&\"\"","v":""},{"$f":"IF(C3455=\"\",\"\",VLOOKUP(C3455,Debiteuren!$A$2:$O$9998,15,0)&\"\"&VLOOKUP(C3455,Debiteuren!$A$2:$N$9998,14,0))","v":""},null,"","",0,""]
[null,null,null,null,null,null,null,null,null,null,"",null,null,"",null,null,null,null,null,0,null,{"$f":"IF(C3463=\"\",\"\",VLOOKUP(C3463,Debiteuren!$A$2:$J$9998,10,0))&\"\"","v":""},{"$f":"IF(C3463=\"\",\"\",VLOOKUP(C3463,Debiteuren!$A$2:$O$9998,15,0)&\"\"&VLOOKUP(C3463,Debiteuren!$A$2:$N$9998,14,0))","v":""},null,"","",0,""]
[null,null,null,null,null,null,null,null,null,null,"",null,null,"",null,null,null,null,null,0,null,{"$f":"IF(C3473=\"\",\"\",VLOOKUP(C3473,Debiteuren!$A$2:$J$9998,10,0))&\"\"","v":""},{"$f":"IF(C3473=\"\",\"\",VLOOKUP(C3473,Debiteuren!$A$2:$O$9998,15,0)&\"\"&VLOOKUP(C3473,Debiteuren!$A$2:$N$9998,14,0))","v":""},null,"","",0,""]
[null,null,null,null,null,null,null,null,null,null,"",null,null,"",null,null,null,null,null,0,null,{"$f":"IF(C3485=\"\",\"\",VLOOKUP(C3485,Debiteuren!$A$2:$J$9998,10,0))&\"\"","v":""},{"$f":"IF(C3485=\"\",\"\",VLOOKUP(C3485,Debiteuren!$A$2:$O$9998,15,0)&\"\"&VLOOKUP(C3485,Debiteuren!$A$2:$N$9998,14,0))","v":""},null,"","",0,""]
[null,null,null,null,null,null,null,null,null,null,"",null,null,"",null,null,null,null,null,0,null,{"$f":"IF(C3492=\"\",\"\",VLOOKUP(C3492,Debiteuren!$A$2:$J$9998,10,0))&\"\"","v":""},{"$f":"IF(C3492=\"\",\"\",VLOOKUP(C3492,Debiteuren!$A$2:$O$9998,15,0)&\"\"&VLOOKUP(C3492,Debiteuren!$A$2:$N$9998,14,0))","v":""},null,"","",0,""]
[null,null,null,null,null,null,null,null,null,null,"",null,null,"",null,null,null,null,null,0,null,{"$f":"IF(C3504=\"\",\"\",VLOOKUP(C3504,Debiteuren!$A$2:$J$9998,10,0))&\"\"","v":""},{"$f":"IF(C3504=\"\",\"\",VLOOKUP(C3504,Debiteuren!$A$2:$O$9998,15,0)&\"\"&VLOOKUP(C3504,Debiteuren!$A$2:$N$9998,14,0))","v":""},null,"","",0,""]
[null,null,null,null,null,null,null,null,null,null,"",null,null,"",null,null,null,null,null,0,null,{"$f":"IF(C3512=\"\",\"\",VLOOKUP(C3512,Debiteuren!$A$2:$J$9998,10,0))&\"\"","v":""},{"$f":"IF(C3512=\"\",\"\",VLOOKUP(C3512,Debiteuren!$A$2:$O$9998,15,0)&\"\"&VLOOKUP(C3512,Debiteuren!$A$2:$N$9998,14,0))","v":""},null,"","",0,""]
[null,null,null,null,null,null,null,null,null,null,"",null,null,"",null,null,null,null,null,0,null,{"$f":"IF(C3522=\"\",\"\",VLOOKUP(C3522,Debiteuren!$A$2:$J$9998,10,0))&\"\"","v":""},{"$f":"IF(C3522=\"\",\"\",VLOOKUP(C3522,Debiteuren!$A$2:$O$9998,15,0)&\"\"&VLOOKUP(C3522,Debiteuren!$A$2:$N$9998,14,0))","v":""},null,"","",0,""]
[null,null,null,null,null,null,null,null,null,null,"",null,null,"",null,null,null,null,null,0,null,{"$f":"IF(C3525=\"\",\"\",VLOOKUP(C3525,Debiteuren!$A$2:$J$9998,10,0))&\"\"","v":""},{"$f":"IF(C3525=\"\",\"\",VLOOKUP(C3525,Debiteuren!$A$2:$O$9998,15,0)&\"\"&VLOOKUP(C3525,Debiteuren!$A$2:$N$9998,14,0))","v":""},null,"","",0,""]
[null,null,null,null,null,null,null,null,null,null,"",null,null,"",null,null,null,null,null,0,null,{"$f":"IF(C3532=\"\",\"\",VLOOKUP(C3532,Debiteuren!$A$2:$J$9998,10,0))&\"\"","v":""},{"$f":"IF(C3532=\"\",\"\",VLOOKUP(C3532,Debiteuren!$A$2:$O$9998,15,0)&\"\"&VLOOKUP(C3532,Debiteuren!$A$2:$N$9998,14,0))","v":""},null,"","",0,""]
[null,null,null,null,null,null,null,null,null,null,"",null,null,"",null,null,null,null,null,0,null,{"$f":"IF(C3544=\"\",\"\",VLOOKUP(C3544,Debiteuren!$A$2:$J$9998,10,0))&\"\"","v":""},{"$f":"IF(C3544=\"\",\"\",VLOOKUP(C3544,Debiteuren!$A$2:$O$9998,15,0)&\"\"&VLOOKUP(C3544,Debiteuren!$A$2:$N$9998,14,0))","v":""},null,"","",0,""]
[null,null,null,null,null,null,null,null,null,null,"",null,null,"",null,null,null,null,null,0,null,{"$f":"IF(C3553=\"\",\"\",VLOOKUP(C3553,Debiteuren!$A$2:$J$9998,10,0))&\"\"","v":""},{"$f":"IF(C3553=\"\",\"\",VLOOKUP(C3553,Debiteuren!$A$2:$O$9998,15,0)&\"\"&VLOOKUP(C3553,Debiteuren!$A$2:$N$9998,14,0))","v":""},null,"","",0,""]
[null,null,null,null,null,null,null,null,null,null,"",null,null,"",null,null,null,null,null,0,null,{"$f":"IF(C3562=\"\",\"\",VLOOKUP(C3562,Debiteuren!$A$2:$J$9998,10,0))&\"\"","v":""},{"$f":"IF(C3562=\"\",\"\",VLOOKUP(C3562,Debiteuren!$A$2:$O$9998,15,0)&\"\"&VLOOKUP(C3562,Debiteuren!$A$2:$N$9998,14,0))","v":""},null,"","",0,""]
[null,null,null,null,null,null,null,null,null,null,"",null,null,"",null,null,null,null,null,0,null,{"$f":"IF(C3574=\"\",\"\",VLOOKUP(C3574,Debiteuren!$A$2:$J$9998,10,0))&\"\"","v":""},{"$f":"IF(C3574=\"\",\"\",VLOOKUP(C3574,Debiteuren!$A$2:$O$9998,15,0)&\"\"&VLOOKUP(C3574,Debiteuren!$A$2:$N$9998,14,0))","v":""},null,"","",0,""]
[null,null,null,null,null,null,null,null,null,null,{"$f":"IF(D3577=\"\",\"\",\"\"&\"Kwartaal \"&MONTH(MONTH(D3577)&0)&TEXT(D3577,\" - mmm JJJJ\"))","v":""},null,null,{"$f":"IF(E3577=\"\",\"\",(E3577)-(F3577))","v":""},null,null,null,null,null,0,null,{"$f":"IF(C3577=\"\",\"\",VLOOKUP(C3577,Debiteuren!$A$2:$J$9998,10,0))&\"\"","v":""},{"$f":"IF(C3577=\"\",\"\",VLOOKUP(C3577,Debiteuren!$A$2:$O$9998,15,0)&\"\"&VLOOKUP(C3577,Debiteuren!$A$2:$N$9998,14,0))","v":""},null,"","",0,""]
[null,null,null,null,null,null,null,null,null,null,"",null,null,"",null,null,null,null,null,0,null,{"$f":"IF(C3593=\"\",\"\",VLOOKUP(C3593,Debiteuren!$A$2:$J$9998,10,0))&\"\"","v":""},{"$f":"IF(C3593=\"\",\"\",VLOOKUP(C3593,Debiteuren!$A$2:$O$9998,15,0)&\"\"&VLOOKUP(C3593,Debiteuren!$A$2:$N$9998,14,0))","v":""},null,"","",0,""]
[null,null,null,null,null,null,null,null,null,null,"",null,null,"",null,null,null,null,null,0,null,{"$f":"IF(C3594=\"\",\"\",VLOOKUP(C3594,Debiteuren!$A$2:$J$9998,10,0))&\"\"","v":""},{"$f":"IF(C3594=\"\",\"\",VLOOKUP(C3594,Debiteuren!$A$2:$O$9998,15,0)&\"\"&VLOOKUP(C3594,Debiteuren!$A$2:$N$9998,14,0))","v":""},null,"","",0,""]
[null,null,null,null,null,null,null,null,null,null,"",null,null,"",null,null,null,null,null,0,null,{"$f":"IF(C3602=\"\",\"\",VLOOKUP(C3602,Debiteuren!$A$2:$J$9998,10,0))&\"\"","v":""},{"$f":"IF(C3602=\"\",\"\",VLOOKUP(C3602,Debiteuren!$A$2:$O$9998,15,0)&\"\"&VLOOKUP(C3602,Debiteuren!$A$2:$N$9998,14,0))","v":""},null,"","",0,""]
[null,null,null,null,null,null,null,null,null,null,"",null,null,"",null,null,null,null,null,0,null,{"$f":"IF(C3614=\"\",\"\",VLOOKUP(C3614,Debiteuren!$A$2:$J$9998,10,0))&\"\"","v":""},{"$f":"IF(C3614=\"\",\"\",VLOOKUP(C3614,Debiteuren!$A$2:$O$9998,15,0)&\"\"&VLOOKUP(C3614,Debiteuren!$A$2:$N$9998,14,0))","v":""},null,"","",0,""]
[null,null,null,null,null,null,null,null,null,null,"",null,null,"",null,null,null,null,null,0,null,{"$f":"IF(C3626=\"\",\"\",VLOOKUP(C3626,Debiteuren!$A$2:$J$9998,10,0))&\"\"","v":""},{"$f":"IF(C3626=\"\",\"\",VLOOKUP(C3626,Debiteuren!$A$2:$O$9998,15,0)&\"\"&VLOOKUP(C3626,Debiteuren!$A$2:$N$9998,14,0))","v":""},null,"","",0,""]
[null,null,null,null,null,null,null,null,null,null,"",null,null,"",null,null,null,null,null,0,null,{"$f":"IF(C3633=\"\",\"\",VLOOKUP(C3633,Debiteuren!$A$2:$J$9998,10,0))&\"\"","v":""},{"$f":"IF(C3633=\"\",\"\",VLOOKUP(C3633,Debiteuren!$A$2:$O$9998,15,0)&\"\"&VLOOKUP(C3633,Debiteuren!$A$2:$N$9998,14,0))","v":""},null,"","",0,""]
[null,null,null,null,null,null,null,null,null,null,"",null,null,"",null,null,null,null,null,0,null,{"$f":"IF(C3643=\"\",\"\",VLOOKUP(C3643,Debiteuren!$A$2:$J$9998,10,0))&\"\"","v":""},{"$f":"IF(C3643=\"\",\"\",VLOOKUP(C3643,Debiteuren!$A$2:$O$9998,15,0)&\"\"&VLOOKUP(C3643,Debiteuren!$A$2:$N$9998,14,0))","v":""},null,"","",0,""]
[null,null,null,null,null,null,null,null,null,null,"",null,null,"",null,null,null,null,null,0,null,{"$f":"IF(C3647=\"\",\"\",VLOOKUP(C3647,Debiteuren!$A$2:$J$9998,10,0))&\"\"","v":""},{"$f":"IF(C3647=\"\",\"\",VLOOKUP(C3647,Debiteuren!$A$2:$O$9998,15,0)&\"\"&VLOOKUP(C3647,Debiteuren!$A$2:$N$9998,14,0))","v":""},null,"","",0,""]
[null,null,null,null,null,null,null,null,null,null,"",null,null,"",null,null,null,null,null,0,null,{"$f":"IF(C3663=\"\",\"\",VLOOKUP(C3663,Debiteuren!$A$2:$J$9998,10,0))&\"\"","v":""},{"$f":"IF(C3663=\"\",\"\",VLOOKUP(C3663,Debiteuren!$A$2:$O$9998,15,0)&\"\"&VLOOKUP(C3663,Debiteuren!$A$2:$N$9998,14,0))","v":""},null,"","",0,""]
[null,null,null,null,null,null,null,null,null,null,"",null,null,"",null,null,null,null,null,0,null,{"$f":"IF(C3666=\"\",\"\",VLOOKUP(C3666,Debiteuren!$A$2:$J$9998,10,0))&\"\"","v":""},{"$f":"IF(C3666=\"\",\"\",VLOOKUP(C3666,Debiteuren!$A$2:$O$9998,15,0)&\"\"&VLOOKUP(C3666,Debiteuren!$A$2:$N$9998,14,0))","v":""},null,"","",0,""]
[null,null,null,null,null,null,null,null,null,null,"",null,null,"",null,null,null,null,null,0,null,{"$f":"IF(C3674=\"\",\"\",VLOOKUP(C3674,Debiteuren!$A$2:$J$9998,10,0))&\"\"","v":""},{"$f":"IF(C3674=\"\",\"\",VLOOKUP(C3674,Debiteuren!$A$2:$O$9998,15,0)&\"\"&VLOOKUP(C3674,Debiteuren!$A$2:$N$9998,14,0))","v":""},null,"","",0,""]
[null,null,null,null,null,null,null,null,null,null,"",null,null,"",null,null,null,null,null,0,null,{"$f":"IF(C3684=\"\",\"\",VLOOKUP(C3684,Debiteuren!$A$2:$J$9998,10,0))&\"\"","v":""},{"$f":"IF(C3684=\"\",\"\",VLOOKUP(C3684,Debiteuren!$A$2:$O$9998,15,0)&\"\"&VLOOKUP(C3684,Debiteuren!$A$2:$N$9998,14,0))","v":""},null,"","",0,""]
[null,null,null,null,null,null,null,null,null,null,"",null,null,"",null,null,null,null,null,0,null,{"$f":"IF(C3696=\"\",\"\",VLOOKUP(C3696,Debiteuren!$A$2:$J$9998,10,0))&\"\"","v":""},{"$f":"IF(C3696=\"\",\"\",VLOOKUP(C3696,Debiteuren!$A$2:$O$9998,15,0)&\"\"&VLOOKUP(C3696,Debiteuren!$A$2:$N$9998,14,0))","v":""},null,"","",0,""]
[null,null,null,null,null,null,null,null,null,null,"",null,null,"",null,null,null,null,null,0,null,{"$f":"IF(C3703=\"\",\"\",VLOOKUP(C3703,Debiteuren!$A$2:$J$9998,10,0))&\"\"","v":""},{"$f":"IF(C3703=\"\",\"\",VLOOKUP(C3703,Debiteuren!$A$2:$O$9998,15,0)&\"\"&VLOOKUP(C3703,Debiteuren!$A$2:$N$9998,14,0))","v":""},null,"","",0,""]
[null,null,null,null,null,null,null,null,null,null,"",null,null,"",null,null,null,null,null,0,null,{"$f":"IF(C3715=\"\",\"\",VLOOKUP(C3715,Debiteuren!$A$2:$J$9998,10,0))&\"\"","v":""},{"$f":"IF(C3715=\"\",\"\",VLOOKUP(C3715,Debiteuren!$A$2:$O$9998,15,0)&\"\"&VLOOKUP(C3715,Debiteuren!$A$2:$N$9998,14,0))","v":""},null,"","",0,""]
[null,null,null,null,null,null,null,null,null,null,"",null,null,"",null,null,null,null,null,0,null,{"$f":"IF(C3723=\"\",\"\",VLOOKUP(C3723,Debiteuren!$A$2:$J$9998,10,0))&\"\"","v":""},{"$f":"IF(C3723=\"\",\"\",VLOOKUP(C3723,Debiteuren!$A$2:$O$9998,15,0)&\"\"&VLOOKUP(C3723,Debiteuren!$A$2:$N$9998,14,0))","v":""},null,"","",0,""]
[null,null,null,null,null,null,null,null,null,null,"",null,null,"",null,null,null,null,null,0,null,{"$f":"IF(C3733=\"\",\"\",VLOOKUP(C3733,Debiteuren!$A$2:$J$9998,10,0))&\"\"","v":""},{"$f":"IF(C3733=\"\",\"\",VLOOKUP(C3733,Debiteuren!$A$2:$O$9998,15,0)&\"\"&VLOOKUP(C3733,Debiteuren!$A$2:$N$9998,14,0))","v":""},null,"","",0,""]
[null,null,null,null,null,null,null,null,null,null,"",null,null,"",null,null,null,null,null,0,null,{"$f":"IF(C3736=\"\",\"\",VLOOKUP(C3736,Debiteuren!$A$2:$J$9998,10,0))&\"\"","v":""},{"$f":"IF(C3736=\"\",\"\",VLOOKUP(C3736,Debiteuren!$A$2:$O$9998,15,0)&\"\"&VLOOKUP(C3736,Debiteuren!$A$2:$N$9998,14,0))","v":""},null,"","",0,""]
[null,null,null,null,null,null,null,null,null,null,"",null,null,"",null,null,null,null,null,0,null,{"$f":"IF(C3743=\"\",\"\",VLOOKUP(C3743,Debiteuren!$A$2:$J$9998,10,0))&\"\"","v":""},{"$f":"IF(C3743=\"\",\"\",VLOOKUP(C3743,Debiteuren!$A$2:$O$9998,15,0)&\"\"&VLOOKUP(C3743,Debiteuren!$A$2:$N$9998,14,0))","v":""},null,"","",0,""]
[null,null,null,null,null,null,null,null,null,null,"",null,null,"",null,null,null,null,null,0,null,{"$f":"IF(C3755=\"\",\"\",VLOOKUP(C3755,Debiteuren!$A$2:$J$9998,10,0))&\"\"","v":""},{"$f":"IF(C3755=\"\",\"\",VLOOKUP(C3755,Debiteuren!$A$2:$O$9998,15,0)&\"\"&VLOOKUP(C3755,Debiteuren!$A$2:$N$9998,14,0))","v":""},null,"","",0,""]
[null,null,null,null,null,null,null,null,null,null,"",null,null,"",null,null,null,null,null,0,null,{"$f":"IF(C3764=\"\",\"\",VLOOKUP(C3764,Debiteuren!$A$2:$J$9998,10,0))&\"\"","v":""},{"$f":"IF(C3764=\"\",\"\",VLOOKUP(C3764,Debiteuren!$A$2:$O$9998,15,0)&\"\"&VLOOKUP(C3764,Debiteuren!$A$2:$N$9998,14,0))","v":""},null,"","",0,""]
[null,null,null,null,null,null,null,null,null,null,"",null,null,"",null,null,null,null,null,0,null,{"$f":"IF(C3773=\"\",\"\",VLOOKUP(C3773,Debiteuren!$A$2:$J$9998,10,0))&\"\"","v":""},{"$f":"IF(C3773=\"\",\"\",VLOOKUP(C3773,Debiteuren!$A$2:$O$9998,15,0)&\"\"&VLOOKUP(C3773,Debiteuren!$A$2:$N$9998,14,0))","v":""},null,"","",0,""]
[null,null,null,null,null,null,null,null,null,null,"",null,null,"",null,null,null,null,null,0,null,{"$f":"IF(C3785=\"\",\"\",VLOOKUP(C3785,Debiteuren!$A$2:$J$9998,10,0))&\"\"","v":""},{"$f":"IF(C3785=\"\",\"\",VLOOKUP(C3785,Debiteuren!$A$2:$O$9998,15,0)&\"\"&VLOOKUP(C3785,Debiteuren!$A$2:$N$9998,14,0))","v":""},null,"","",0,""]
[null,null,null,null,null,null,null,null,null,null,"",null,null,"",null,null,null,null,null,0,null,{"$f":"IF(C3792=\"\",\"\",VLOOKUP(C3792,Debiteuren!$A$2:$J$9998,10,0))&\"\"","v":""},{"$f":"IF(C3792=\"\",\"\",VLOOKUP(C3792,Debiteuren!$A$2:$O$9998,15,0)&\"\"&VLOOKUP(C3792,Debiteuren!$A$2:$N$9998,14,0))","v":""},null,"","",0,""]
[null,null,null,null,null,null,null,null,null,null,"",null,null,"",null,null,null,null,null,0,null,{"$f":"IF(C3804=\"\",\"\",VLOOKUP(C3804,Debiteuren!$A$2:$J$9998,10,0))&\"\"","v":""},{"$f":"IF(C3804=\"\",\"\",VLOOKUP(C3804,Debiteuren!$A$2:$O$9998,15,0)&\"\"&VLOOKUP(C3804,Debiteuren!$A$2:$N$9998,14,0))","v":""},null,"","",0,""]
[null,null,null,null,null,null,null,null,null,null,"",null,null,"",null,null,null,null,null,0,null,{"$f":"IF(C3805=\"\",\"\",VLOOKUP(C3805,Debiteuren!$A$2:$J$9998,10,0))&\"\"","v":""},{"$f":"IF(C3805=\"\",\"\",VLOOKUP(C3805,Debiteuren!$A$2:$O$9998,15,0)&\"\"&VLOOKUP(C3805,Debiteuren!$A$2:$N$9998,14,0))","v":""},null,"","",0,""]
[null,null,null,null,null,null,null,null,null,null,"",null,null,"",null,null,null,null,null,0,null,{"$f":"IF(C3813=\"\",\"\",VLOOKUP(C3813,Debiteuren!$A$2:$J$9998,10,0))&\"\"","v":""},{"$f":"IF(C3813=\"\",\"\",VLOOKUP(C3813,Debiteuren!$A$2:$O$9998,15,0)&\"\"&VLOOKUP(C3813,Debiteuren!$A$2:$N$9998,14,0))","v":""},null,"","",0,""]
[null,null,null,null,null,null,null,null,null,null,"",null,null,"",null,null,null,null,null,0,null,{"$f":"IF(C3825=\"\",\"\",VLOOKUP(C3825,Debiteuren!$A$2:$J$9998,10,0))&\"\"","v":""},{"$f":"IF(C3825=\"\",\"\",VLOOKUP(C3825,Debiteuren!$A$2:$O$9998,15,0)&\"\"&VLOOKUP(C3825,Debiteuren!$A$2:$N$9998,14,0))","v":""},null,"","",0,""]
[null,null,null,null,null,null,null,null,null,null,"",null,null,"",null,null,null,null,null,0,null,{"$f":"IF(C3837=\"\",\"\",VLOOKUP(C3837,Debiteuren!$A$2:$J$9998,10,0))&\"\"","v":""},{"$f":"IF(C3837=\"\",\"\",VLOOKUP(C3837,Debiteuren!$A$2:$O$9998,15,0)&\"\"&VLOOKUP(C3837,Debiteuren!$A$2:$N$9998,14,0))","v":""},null,"","",0,""]
[null,null,null,null,null,null,null,null,null,null,"",null,null,"",null,null,null,null,null,0,null,{"$f":"IF(C3844=\"\",\"\",VLOOKUP(C3844,Debiteuren!$A$2:$J$9998,10,0))&\"\"","v":""},{"$f":"IF(C3844=\"\",\"\",VLOOKUP(C3844,Debiteuren!$A$2:$O$9998,15,0)&\"\"&VLOOKUP(C3844,Debiteuren!$A$2:$N$9998,14,0))","v":""},null,"","",0,""]
[null,null,null,null,null,null,null,null,null,null,"",null,null,"",null,null,null,null,null,0,null,{"$f":"IF(C3855=\"\",\"\",VLOOKUP(C3855,Debiteuren!$A$2:$J$9998,10,0))&\"\"","v":""},{"$f":"IF(C3855=\"\",\"\",VLOOKUP(C3855,Debiteuren!$A$2:$O$9998,15,0)&\"\"&VLOOKUP(C3855,Debiteuren!$A$2:$N$9998,14,0))","v":""},null,"","",0,""]
[null,null,null,null,null,null,null,null,null,null,"",null,null,"",null,null,null,null,null,0,null,{"$f":"IF(C3862=\"\",\"\",VLOOKUP(C3862,Debiteuren!$A$2:$J$9998,10,0))&\"\"","v":""},{"$f":"IF(C3862=\"\",\"\",VLOOKUP(C3862,Debiteuren!$A$2:$O$9998,15,0)&\"\"&VLOOKUP(C3862,Debiteuren!$A$2:$N$9998,14,0))","v":""},null,"","",0,""]
[null,null,null,null,null,null,null,null,null,null,"",null,null,"",null,null,null,null,null,0,null,{"$f":"IF(C3874=\"\",\"\",VLOOKUP(C3874,Debiteuren!$A$2:$J$9998,10,0))&\"\"","v":""},{"$f":"IF(C3874=\"\",\"\",VLOOKUP(C3874,Debiteuren!$A$2:$O$9998,15,0)&\"\"&VLOOKUP(C3874,Debiteuren!$A$2:$N$9998,14,0))","v":""},null,"","",0,""]
[null,null,null,null,null,null,null,null,null,null,"",null,null,"",null,null,null,null,null,0,null,{"$f":"IF(C3877=\"\",\"\",VLOOKUP(C3877,Debiteuren!$A$2:$J$9998,10,0))&\"\"","v":""},{"$f":"IF(C3877=\"\",\"\",VLOOKUP(C3877,Debiteuren!$A$2:$O$9998,15,0)&\"\"&VLOOKUP(C3877,Debiteuren!$A$2:$N$9998,14,0))","v":""},null,"","",0,""]
[null,null,null,null,null,null,null,null,null,null,"",null,null,"",null,null,null,null,null,0,null,{"$f":"IF(C3885=\"\",\"\",VLOOKUP(C3885,Debiteuren!$A$2:$J$9998,10,0))&\"\"","v":""},{"$f":"IF(C3885=\"\",\"\",VLOOKUP(C3885,Debiteuren!$A$2:$O$9998,15,0)&\"\"&VLOOKUP(C3885,Debiteuren!$A$2:$N$9998,14,0))","v":""},null,"","",0,""]
[null,null,null,null,null,null,null,null,null,null,"",null,null,"",null,null,null,null,null,0,null,{"$f":"IF(C3895=\"\",\"\",VLOOKUP(C3895,Debiteuren!$A$2:$J$9998,10,0))&\"\"","v":""},{"$f":"IF(C3895=\"\",\"\",VLOOKUP(C3895,Debiteuren!$A$2:$O$9998,15,0)&\"\"&VLOOKUP(C3895,Debiteuren!$A$2:$N$9998,14,0))","v":""},null,"","",0,""]
[null,null,null,null,null,null,null,null,null,null,"",null,null,"",null,null,null,null,null,0,null,{"$f":"IF(C3902=\"\",\"\",VLOOKUP(C3902,Debiteuren!$A$2:$J$9998,10,0))&\"\"","v":""},{"$f":"IF(C3902=\"\",\"\",VLOOKUP(C3902,Debiteuren!$A$2:$O$9998,15,0)&\"\"&VLOOKUP(C3902,Debiteuren!$A$2:$N$9998,14,0))","v":""},null,"","",0,""]
[null,null,null,null,null,null,null,null,null,null,"",null,null,"",null,null,null,null,null,0,null,{"$f":"IF(C3914=\"\",\"\",VLOOKUP(C3914,Debiteuren!$A$2:$J$9998,10,0))&\"\"","v":""},{"$f":"IF(C3914=\"\",\"\",VLOOKUP(C3914,Debiteuren!$A$2:$O$9998,15,0)&\"\"&VLOOKUP(C3914,Debiteuren!$A$2:$N$9998,14,0))","v":""},null,"","",0,""]
[null,null,null,null,null,null,null,null,null,null,"",null,null,"",null,null,null,null,null,0,null,{"$f":"IF(C3926=\"\",\"\",VLOOKUP(C3926,Debiteuren!$A$2:$J$9998,10,0))&\"\"","v":""},{"$f":"IF(C3926=\"\",\"\",VLOOKUP(C3926,Debiteuren!$A$2:$O$9998,15,0)&\"\"&VLOOKUP(C3926,Debiteuren!$A$2:$N$9998,14,0))","v":""},null,"","",0,""]
[null,null,null,null,null,null,null,null,null,null,"",null,null,"",null,null,null,null,null,0,null,{"$f":"IF(C3934=\"\",\"\",VLOOKUP(C3934,Debiteuren!$A$2:$J$9998,10,0))&\"\"","v":""},{"$f":"IF(C3934=\"\",\"\",VLOOKUP(C3934,Debiteuren!$A$2:$O$9998,15,0)&\"\"&VLOOKUP(C3934,Debiteuren!$A$2:$N$9998,14,0))","v":""},null,"","",0,""]
[null,null,null,null,null,null,null,null,null,null,"",null,null,"",null,null,null,null,null,0,null,{"$f":"IF(C3944=\"\",\"\",VLOOKUP(C3944,Debiteuren!$A$2:$J$9998,10,0))&\"\"","v":""},{"$f":"IF(C3944=\"\",\"\",VLOOKUP(C3944,Debiteuren!$A$2:$O$9998,15,0)&\"\"&VLOOKUP(C3944,Debiteuren!$A$2:$N$9998,14,0))","v":""},null,"","",0,""]
[null,null,null,null,null,null,null,null,null,null,"",null,null,"",null,null,null,null,null,0,null,{"$f":"IF(C3947=\"\",\"\",VLOOKUP(C3947,Debiteuren!$A$2:$J$9998,10,0))&\"\"","v":""},{"$f":"IF(C3947=\"\",\"\",VLOOKUP(C3947,Debiteuren!$A$2:$O$9998,15,0)&\"\"&VLOOKUP(C3947,Debiteuren!$A$2:$N$9998,14,0))","v":""},null,"","",0,""]
[null,null,null,null,null,null,null,null,null,null,"",null,null,"",null,null,null,null,null,0,null,{"$f":"IF(C3954=\"\",\"\",VLOOKUP(C3954,Debiteuren!$A$2:$J$9998,10,0))&\"\"","v":""},{"$f":"IF(C3954=\"\",\"\",VLOOKUP(C3954,Debiteuren!$A$2:$O$9998,15,0)&\"\"&VLOOKUP(C3954,Debiteuren!$A$2:$N$9998,14,0))","v":""},null,"","",0,""]
[null,null,null,null,null,null,null,null,null,null,"",null,null,"",null,null,null,null,null,0,null,{"$f":"IF(C3966=\"\",\"\",VLOOKUP(C3966,Debiteuren!$A$2:$J$9998,10,0))&\"\"","v":""},{"$f":"IF(C3966=\"\",\"\",VLOOKUP(C3966,Debiteuren!$A$2:$O$9998,15,0)&\"\"&VLOOKUP(C3966,Debiteuren!$A$2:$N$9998,14,0))","v":""},null,"","",0,""]
[null,null,null,null,null,null,null,null,null,null,"",null,null,"",null,null,null,null,null,0,null,{"$f":"IF(C3975=\"\",\"\",VLOOKUP(C3975,Debiteuren!$A$2:$J$9998,10,0))&\"\"","v":""},{"$f":"IF(C3975=\"\",\"\",VLOOKUP(C3975,Debiteuren!$A$2:$O$9998,15,0)&\"\"&VLOOKUP(C3975,Debiteuren!$A$2:$N$9998,14,0))","v":""},null,"","",0,""]
[null,null,null,null,null,null,null,null,null,null,"",null,null,"",null,null,null,null,null,0,null,{"$f":"IF(C3984=\"\",\"\",VLOOKUP(C3984,Debiteuren!$A$2:$J$9998,10,0))&\"\"","v":""},{"$f":"IF(C3984=\"\",\"\",VLOOKUP(C3984,Debiteuren!$A$2:$O$9998,15,0)&\"\"&VLOOKUP(C3984,Debiteuren!$A$2:$N$9998,14,0))","v":""},null,"","",0,""]
[null,null,null,null,null,null,null,null,null,null,"",null,null,"",null,null,null,null,null,0,null,{"$f":"IF(C3996=\"\",\"\",VLOOKUP(C3996,Debiteuren!$A$2:$J$9998,10,0))&\"\"","v":""},{"$f":"IF(C3996=\"\",\"\",VLOOKUP(C3996,Debiteuren!$A$2:$O$9998,15,0)&\"\"&VLOOKUP(C3996,Debiteuren!$A$2:$N$9998,14,0))","v":""},null,"","",0,""]
[null,null,null,null,null,null,null,null,null,null,"",null,null,"",null,null,null,null,null,0,null,{"$f":"IF(C4003=\"\",\"\",VLOOKUP(C4003,Debiteuren!$A$2:$J$9998,10,0))&\"\"","v":""},{"$f":"IF(C4003=\"\",\"\",VLOOKUP(C4003,Debiteuren!$A$2:$O$9998,15,0)&\"\"&VLOOKUP(C4003,Debiteuren!$A$2:$N$9998,14,0))","v":""},null,"","",0,""]
[null,null,null,null,null,null,null,null,null,null,"",null,null,"",null,null,null,null,null,0,null,{"$f":"IF(C4014=\"\",\"\",VLOOKUP(C4014,Debiteuren!$A$2:$J$9998,10,0))&\"\"","v":""},{"$f":"IF(C4014=\"\",\"\",VLOOKUP(C4014,Debiteuren!$A$2:$O$9998,15,0)&\"\"&VLOOKUP(C4014,Debiteuren!$A$2:$N$9998,14,0))","v":""},null,{"$f":"IF(D4014=\"\",\"\",DATEDIF(D4014,TODAY(),\"d\"))","v":""},{"$f":"IF(G4014=\"\",\"\",DATEDIF(D4014,G4014,\"d\"))","v":""},{"$f":"DATEDIF(D4014,H4014,\"d\")","v":0},{"$f":"IF(Y4014=\"\",\"\",Y4014-AA4014)","v":""}]
[null,null,null,null,null,null,null,null,null,null,"",null,null,"",null,null,null,null,null,0,null,{"$f":"IF(C4021=\"\",\"\",VLOOKUP(C4021,Debiteuren!$A$2:$J$9998,10,0))&\"\"","v":""},{"$f":"IF(C4021=\"\",\"\",VLOOKUP(C4021,Debiteuren!$A$2:$O$9998,15,0)&\"\"&VLOOKUP(C4021,Debiteuren!$A$2:$N$9998,14,0))","v":""},null,"","",0,""]
[null,null,null,null,null,null,null,null,null,null,"",null,null,"",null,null,null,null,null,0,null,{"$f":"IF(C4024=\"\",\"\",VLOOKUP(C4024,Debiteuren!$A$2:$J$9998,10,0))&\"\"","v":""},{"$f":"IF(C4024=\"\",\"\",VLOOKUP(C4024,Debiteuren!$A$2:$O$9998,15,0)&\"\"&VLOOKUP(C4024,Debiteuren!$A$2:$N$9998,14,0))","v":""},null,"","",0,""]
[null,null,null,null,null,null,null,null,null,null,"",null,null,"",null,null,null,null,null,0,null,{"$f":"IF(C4036=\"\",\"\",VLOOKUP(C4036,Debiteuren!$A$2:$J$9998,10,0))&\"\"","v":""},{"$f":"IF(C4036=\"\",\"\",VLOOKUP(C4036,Debiteuren!$A$2:$O$9998,15,0)&\"\"&VLOOKUP(C4036,Debiteuren!$A$2:$N$9998,14,0))","v":""},null,"","",0,""]
[null,null,null,null,null,null,null,null,null,null,"",null,null,"",null,null,null,null,null,0,null,{"$f":"IF(C4043=\"\",\"\",VLOOKUP(C4043,Debiteuren!$A$2:$J$9998,10,0))&\"\"","v":""},{"$f":"IF(C4043=\"\",\"\",VLOOKUP(C4043,Debiteuren!$A$2:$O$9998,15,0)&\"\"&VLOOKUP(C4043,Debiteuren!$A$2:$N$9998,14,0))","v":""},null,"","",0,""]
[null,null,null,null,null,null,null,null,null,null,"",null,null,"",null,null,null,null,null,0,null,{"$f":"IF(C4055=\"\",\"\",VLOOKUP(C4055,Debiteuren!$A$2:$J$9998,10,0))&\"\"","v":""},{"$f":"IF(C4055=\"\",\"\",VLOOKUP(C4055,Debiteuren!$A$2:$O$9998,15,0)&\"\"&VLOOKUP(C4055,Debiteuren!$A$2:$N$9998,14,0))","v":""},null,"","",0,""]
[null,null,null,null,null,null,null,null,null,null,"",null,null,"",null,null,null,null,null,0,null,{"$f":"IF(C4066=\"\",\"\",VLOOKUP(C4066,Debiteuren!$A$2:$J$9998,10,0))&\"\"","v":""},{"$f":"IF(C4066=\"\",\"\",VLOOKUP(C4066,Debiteuren!$A$2:$O$9998,15,0)&\"\"&VLOOKUP(C4066,Debiteuren!$A$2:$N$9998,14,0))","v":""},null,"","",0,""]
[null,null,null,null,null,null,null,null,null,null,"",null,null,"",null,null,null,null,null,0,null,{"$f":"IF(C4073=\"\",\"\",VLOOKUP(C4073,Debiteuren!$A$2:$J$9998,10,0))&\"\"","v":""},{"$f":"IF(C4073=\"\",\"\",VLOOKUP(C4073,Debiteuren!$A$2:$O$9998,15,0)&\"\"&VLOOKUP(C4073,Debiteuren!$A$2:$N$9998,14,0))","v":""},null,"","",0,""]
[null,null,null,null,null,null,null,null,null,null,"",null,null,"",null,null,null,null,null,0,null,{"$f":"IF(C4085=\"\",\"\",VLOOKUP(C4085,Debiteuren!$A$2:$J$9998,10,0))&\"\"","v":""},{"$f":"IF(C4085=\"\",\"\",VLOOKUP(C4085,Debiteuren!$A$2:$O$9998,15,0)&\"\"&VLOOKUP(C4085,Debiteuren!$A$2:$N$9998,14,0))","v":""},null,"","",0,""]
[null,null,null,null,null,null,null,null,null,null,"",null,null,"",null,null,null,null,null,0,null,{"$f":"IF(C4092=\"\",\"\",VLOOKUP(C4092,Debiteuren!$A$2:$J$9998,10,0))&\"\"","v":""},{"$f":"IF(C4092=\"\",\"\",VLOOKUP(C4092,Debiteuren!$A$2:$O$9998,15,0)&\"\"&VLOOKUP(C4092,Debiteuren!$A$2:$N$9998,14,0))","v":""},null,"","",0,""]
[null,null,null,null,null,null,null,null,null,null,"",null,null,"",null,null,null,null,null,0,null,{"$f":"IF(C4096=\"\",\"\",VLOOKUP(C4096,Debiteuren!$A$2:$J$9998,10,0))&\"\"","v":""},{"$f":"IF(C4096=\"\",\"\",VLOOKUP(C4096,Debiteuren!$A$2:$O$9998,15,0)&\"\"&VLOOKUP(C4096,Debiteuren!$A$2:$N$9998,14,0))","v":""},null,"","",0,""]
[null,null,null,null,null,null,null,null,null,null,"",null,null,"",null,null,null,null,null,0,null,{"$f":"IF(C4106=\"\",\"\",VLOOKUP(C4106,Debiteuren!$A$2:$J$9998,10,0))&\"\"","v":""},{"$f":"IF(C4106=\"\",\"\",VLOOKUP(C4106,Debiteuren!$A$2:$O$9998,15,0)&\"\"&VLOOKUP(C4106,Debiteuren!$A$2:$N$9998,14,0))","v":""},null,"","",0,""]
[null,null,null,null,null,null,null,null,null,null,"",null,null,"",null,null,null,null,null,0,null,{"$f":"IF(C4113=\"\",\"\",VLOOKUP(C4113,Debiteuren!$A$2:$J$9998,10,0))&\"\"","v":""},{"$f":"IF(C4113=\"\",\"\",VLOOKUP(C4113,Debiteuren!$A$2:$O$9998,15,0)&\"\"&VLOOKUP(C4113,Debiteuren!$A$2:$N$9998,14,0))","v":""},null,"","",0,""]
[null,null,null,null,null,null,null,null,null,null,"",null,null,"",null,null,null,null,null,0,null,{"$f":"IF(C4125=\"\",\"\",VLOOKUP(C4125,Debiteuren!$A$2:$J$9998,10,0))&\"\"","v":""},{"$f":"IF(C4125=\"\",\"\",VLOOKUP(C4125,Debiteuren!$A$2:$O$9998,15,0)&\"\"&VLOOKUP(C4125,Debiteuren!$A$2:$N$9998,14,0))","v":""},null,"","",0,""]
[null,null,null,null,null,null,null,null,null,null,"",null,null,"",null,null,null,null,null,0,null,{"$f":"IF(C4137=\"\",\"\",VLOOKUP(C4137,Debiteuren!$A$2:$J$9998,10,0))&\"\"","v":""},{"$f":"IF(C4137=\"\",\"\",VLOOKUP(C4137,Debiteuren!$A$2:$O$9998,15,0)&\"\"&VLOOKUP(C4137,Debiteuren!$A$2:$N$9998,14,0))","v":""},null,"","",0,""]
[null,null,null,null,null,null,null,null,null,null,"",null,null,"",null,null,null,null,null,0,null,{"$f":"IF(C4145=\"\",\"\",VLOOKUP(C4145,Debiteuren!$A$2:$J$9998,10,0))&\"\"","v":""},{"$f":"IF(C4145=\"\",\"\",VLOOKUP(C4145,Debiteuren!$A$2:$O$9998,15,0)&\"\"&VLOOKUP(C4145,Debiteuren!$A$2:$N$9998,14,0))","v":""},null,"","",0,""]
[null,null,null,null,null,null,null,null,null,null,"",null,null,"",null,null,null,null,null,0,null,{"$f":"IF(C4155=\"\",\"\",VLOOKUP(C4155,Debiteuren!$A$2:$J$9998,10,0))&\"\"","v":""},{"$f":"IF(C4155=\"\",\"\",VLOOKUP(C4155,Debiteuren!$A$2:$O$9998,15,0)&\"\"&VLOOKUP(C4155,Debiteuren!$A$2:$N$9998,14,0))","v":""},null,"","",0,""]
[null,null,null,null,null,null,null,null,null,null,"",null,null,"",null,null,null,null,null,0,null,{"$f":"IF(C4162=\"\",\"\",VLOOKUP(C4162,Debiteuren!$A$2:$J$9998,10,0))&\"\"","v":""},{"$f":"IF(C4162=\"\",\"\",VLOOKUP(C4162,Debiteuren!$A$2:$O$9998,15,0)&\"\"&VLOOKUP(C4162,Debiteuren!$A$2:$N$9998,14,0))","v":""},null,"","",0,""]
[null,null,null,null,null,null,null,null,null,null,"",null,null,"",null,null,null,null,null,0,null,{"$f":"IF(C4165=\"\",\"\",VLOOKUP(C4165,Debiteuren!$A$2:$J$9998,10,0))&\"\"","v":""},{"$f":"IF(C4165=\"\",\"\",VLOOKUP(C4165,Debiteuren!$A$2:$O$9998,15,0)&\"\"&VLOOKUP(C4165,Debiteuren!$A$2:$N$9998,14,0))","v":""},null,"","",0,""]
[null,null,null,null,null,null,null,null,null,null,"",null,null,"",null,null,null,null,null,0,null,{"$f":"IF(C4176=\"\",\"\",VLOOKUP(C4176,Debiteuren!$A$2:$J$9998,10,0))&\"\"","v":""},{"$f":"IF(C4176=\"\",\"\",VLOOKUP(C4176,Debiteuren!$A$2:$O$9998,15,0)&\"\"&VLOOKUP(C4176,Debiteuren!$A$2:$N$9998,14,0))","v":""},null,"","",0,""]
[null,null,null,null,null,null,null,null,null,null,"",null,null,"",null,null,null,null,null,0,null,{"$f":"IF(C4183=\"\",\"\",VLOOKUP(C4183,Debiteuren!$A$2:$J$9998,10,0))&\"\"","v":""},{"$f":"IF(C4183=\"\",\"\",VLOOKUP(C4183,Debiteuren!$A$2:$O$9998,15,0)&\"\"&VLOOKUP(C4183,Debiteuren!$A$2:$N$9998,14,0))","v":""},null,"","",0,""]
[null,null,null,null,null,null,null,null,null,null,"",null,null,"",null,null,null,null,null,0,null,{"$f":"IF(C4195=\"\",\"\",VLOOKUP(C4195,Debiteuren!$A$2:$J$9998,10,0))&\"\"","v":""},{"$f":"IF(C4195=\"\",\"\",VLOOKUP(C4195,Debiteuren!$A$2:$O$9998,15,0)&\"\"&VLOOKUP(C4195,Debiteuren!$A$2:$N$9998,14,0))","v":""},null,"","",0,""]
[null,null,null,null,null,null,null,null,null,null,"",null,null,"",null,null,null,null,null,0,null,{"$f":"IF(C4202=\"\",\"\",VLOOKUP(C4202,Debiteuren!$A$2:$J$9998,10,0))&\"\"","v":""},{"$f":"IF(C4202=\"\",\"\",VLOOKUP(C4202,Debiteuren!$A$2:$O$9998,15,0)&\"\"&VLOOKUP(C4202,Debiteuren!$A$2:$N$9998,14,0))","v":""},null,"","",0,""]
[null,null,null,null,null,null,null,null,null,null,"",null,null,"",null,null,null,null,null,0,null,{"$f":"IF(C4214=\"\",\"\",VLOOKUP(C4214,Debiteuren!$A$2:$J$9998,10,0))&\"\"","v":""},{"$f":"IF(C4214=\"\",\"\",VLOOKUP(C4214,Debiteuren!$A$2:$O$9998,15,0)&\"\"&VLOOKUP(C4214,Debiteuren!$A$2:$N$9998,14,0))","v":""},null,"","",0,""]
[null,null,null,null,null,null,null,null,null,null,"",null,null,"",null,null,null,null,null,0,null,{"$f":"IF(C4225=\"\",\"\",VLOOKUP(C4225,Debiteuren!$A$2:$J$9998,10,0))&\"\"","v":""},{"$f":"IF(C4225=\"\",\"\",VLOOKUP(C4225,Debiteuren!$A$2:$O$9998,15,0)&\"\"&VLOOKUP(C4225,Debiteuren!$A$2:$N$9998,14,0))","v":""},null,"","",0,""]
[null,null,null,null,null,null,null,null,null,null,"",null,null,"",null,null,null,null,null,0,null,{"$f":"IF(C4232=\"\",\"\",VLOOKUP(C4232,Debiteuren!$A$2:$J$9998,10,0))&\"\"","v":""},{"$f":"IF(C4232=\"\",\"\",VLOOKUP(C4232,Debiteuren!$A$2:$O$9998,15,0)&\"\"&VLOOKUP(C4232,Debiteuren!$A$2:$N$9998,14,0))","v":""},null,"","",0,""]
[null,null,null,null,null,null,null,null,null,null,"",null,null,"",null,null,null,null,null,0,null,{"$f":"IF(C4235=\"\",\"\",VLOOKUP(C4235,Debiteuren!$A$2:$J$9998,10,0))&\"\"","v":""},{"$f":"IF(C4235=\"\",\"\",VLOOKUP(C4235,Debiteuren!$A$2:$O$9998,15,0)&\"\"&VLOOKUP(C4235,Debiteuren!$A$2:$N$9998,14,0))","v":""},null,"","",0,""]
[null,null,null,null,null,null,null,null,null,null,"",null,null,"",null,null,null,null,null,0,null,{"$f":"IF(C4247=\"\",\"\",VLOOKUP(C4247,Debiteuren!$A$2:$J$9998,10,0))&\"\"","v":""},{"$f":"IF(C4247=\"\",\"\",VLOOKUP(C4247,Debiteuren!$A$2:$O$9998,15,0)&\"\"&VLOOKUP(C4247,Debiteuren!$A$2:$N$9998,14,0))","v":""},null,"","",0,""]
[null,null,null,null,null,null,null,null,null,null,"",null,null,"",null,null,null,null,null,0,null,{"$f":"IF(C4254=\"\",\"\",VLOOKUP(C4254,Debiteuren!$A$2:$J$9998,10,0))&\"\"","v":""},{"$f":"IF(C4254=\"\",\"\",VLOOKUP(C4254,Debiteuren!$A$2:$O$9998,15,0)&\"\"&VLOOKUP(C4254,Debiteuren!$A$2:$N$9998,14,0))","v":""},null,"","",0,""]
[null,null,null,null,null,null,null,null,null,null,"",null,null,"",null,null,null,null,null,0,null,{"$f":"IF(C4266=\"\",\"\",VLOOKUP(C4266,Debiteuren!$A$2:$J$9998,10,0))&\"\"","v":""},{"$f":"IF(C4266=\"\",\"\",VLOOKUP(C4266,Debiteuren!$A$2:$O$9998,15,0)&\"\"&VLOOKUP(C4266,Debiteuren!$A$2:$N$9998,14,0))","v":""},null,"","",0,""]
[null,null,null,null,null,null,null,null,null,null,"",null,null,"",null,null,null,null,null,0,null,{"$f":"IF(C4272=\"\",\"\",VLOOKUP(C4272,Debiteuren!$A$2:$J$9998,10,0))&\"\"","v":""},{"$f":"IF(C4272=\"\",\"\",VLOOKUP(C4272,Debiteuren!$A$2:$O$9998,15,0)&\"\"&VLOOKUP(C4272,Debiteuren!$A$2:$N$9998,14,0))","v":""},null,"","",0,""]
[null,null,null,null,null,null,null,null,null,null,"",null,null,"",null,null,null,null,null,0,null,{"$f":"IF(C4284=\"\",\"\",VLOOKUP(C4284,Debiteuren!$A$2:$J$9998,10,0))&\"\"","v":""},{"$f":"IF(C4284=\"\",\"\",VLOOKUP(C4284,Debiteuren!$A$2:$O$9998,15,0)&\"\"&VLOOKUP(C4284,Debiteuren!$A$2:$N$9998,14,0))","v":""},null,"","",0,""]
[null,null,null,null,null,null,null,null,null,null,"",null,null,"",null,null,null,null,null,0,null,{"$f":"IF(C4296=\"\",\"\",VLOOKUP(C4296,Debiteuren!$A$2:$J$9998,10,0))&\"\"","v":""},{"$f":"IF(C4296=\"\",\"\",VLOOKUP(C4296,Debiteuren!$A$2:$O$9998,15,0)&\"\"&VLOOKUP(C4296,Debiteuren!$A$2:$N$9998,14,0))","v":""},null,"","",0,""]
[null,null,null,null,null,null,null,null,null,null,"",null,null,"",null,null,null,null,null,0,null,{"$f":"IF(C4303=\"\",\"\",VLOOKUP(C4303,Debiteuren!$A$2:$J$9998,10,0))&\"\"","v":""},{"$f":"IF(C4303=\"\",\"\",VLOOKUP(C4303,Debiteuren!$A$2:$O$9998,15,0)&\"\"&VLOOKUP(C4303,Debiteuren!$A$2:$N$9998,14,0))","v":""},null,"","",0,""]
[null,null,null,null,null,null,null,null,null,null,"",null,null,"",null,null,null,null,null,0,null,{"$f":"IF(C4307=\"\",\"\",VLOOKUP(C4307,Debiteuren!$A$2:$J$9998,10,0))&\"\"","v":""},{"$f":"IF(C4307=\"\",\"\",VLOOKUP(C4307,Debiteuren!$A$2:$O$9998,15,0)&\"\"&VLOOKUP(C4307,Debiteuren!$A$2:$N$9998,14,0))","v":""},null,"","",0,""]
[null,null,null,null,null,null,null,null,null,null,"",null,null,"",null,null,null,null,null,0,null,{"$f":"IF(C4321=\"\",\"\",VLOOKUP(C4321,Debiteuren!$A$2:$J$9998,10,0))&\"\"","v":""},{"$f":"IF(C4321=\"\",\"\",VLOOKUP(C4321,Debiteuren!$A$2:$O$9998,15,0)&\"\"&VLOOKUP(C4321,Debiteuren!$A$2:$N$9998,14,0))","v":""},null,"","",0,""]
[null,null,null,null,null,null,null,null,null,null,"",null,null,"",null,null,null,null,null,0,null,{"$f":"IF(C4324=\"\",\"\",VLOOKUP(C4324,Debiteuren!$A$2:$J$9998,10,0))&\"\"","v":""},{"$f":"IF(C4324=\"\",\"\",VLOOKUP(C4324,Debiteuren!$A$2:$O$9998,15,0)&\"\"&VLOOKUP(C4324,Debiteuren!$A$2:$N$9998,14,0))","v":""},null,"","",0,""]
[null,null,null,null,null,null,null,null,null,null,"",null,null,"",null,null,null,null,null,0,null,{"$f":"IF(C4336=\"\",\"\",VLOOKUP(C4336,Debiteuren!$A$2:$J$9998,10,0))&\"\"","v":""},{"$f":"IF(C4336=\"\",\"\",VLOOKUP(C4336,Debiteuren!$A$2:$O$9998,15,0)&\"\"&VLOOKUP(C4336,Debiteuren!$A$2:$N$9998,14,0))","v":""},null,"","",0,""]
[null,null,null,null,null,null,null,null,null,null,"",null,null,"",null,null,null,null,null,0,null,{"$f":"IF(C4346=\"\",\"\",VLOOKUP(C4346,Debiteuren!$A$2:$J$9998,10,0))&\"\"","v":""},{"$f":"IF(C4346=\"\",\"\",VLOOKUP(C4346,Debiteuren!$A$2:$O$9998,15,0)&\"\"&VLOOKUP(C4346,Debiteuren!$A$2:$N$9998,14,0))","v":""},null,"","",0,""]
[null,null,null,null,null,null,null,null,null,null,"",null,null,"",null,null,null,null,null,0,null,{"$f":"IF(C4354=\"\",\"\",VLOOKUP(C4354,Debiteuren!$A$2:$J$9998,10,0))&\"\"","v":""},{"$f":"IF(C4354=\"\",\"\",VLOOKUP(C4354,Debiteuren!$A$2:$O$9998,15,0)&\"\"&VLOOKUP(C4354,Debiteuren!$A$2:$N$9998,14,0))","v":""},null,"","",0,""]
[null,null,null,null,null,null,null,null,null,null,"",null,null,"",null,null,null,null,null,0,null,{"$f":"IF(C4366=\"\",\"\",VLOOKUP(C4366,Debiteuren!$A$2:$J$9998,10,0))&\"\"","v":""},{"$f":"IF(C4366=\"\",\"\",VLOOKUP(C4366,Debiteuren!$A$2:$O$9998,15,0)&\"\"&VLOOKUP(C4366,Debiteuren!$A$2:$N$9998,14,0))","v":""},null,"","",0,""]
[null,null,null,null,null,null,null,null,null,null,"",null,null,"",null,null,null,null,null,0,null,{"$f":"IF(C4373=\"\",\"\",VLOOKUP(C4373,Debiteuren!$A$2:$J$9998,10,0))&\"\"","v":""},{"$f":"IF(C4373=\"\",\"\",VLOOKUP(C4373,Debiteuren!$A$2:$O$9998,15,0)&\"\"&VLOOKUP(C4373,Debiteuren!$A$2:$N$9998,14,0))","v":""},null,"","",0,""]
[null,null,null,null,null,null,null,null,null,null,"",null,null,"",null,null,null,null,null,0,null,{"$f":"IF(C4376=\"\",\"\",VLOOKUP(C4376,Debiteuren!$A$2:$J$9998,10,0))&\"\"","v":""},{"$f":"IF(C4376=\"\",\"\",VLOOKUP(C4376,Debiteuren!$A$2:$O$9998,15,0)&\"\"&VLOOKUP(C4376,Debiteuren!$A$2:$N$9998,14,0))","v":""},null,"","",0,""]
[null,null,null,null,null,null,null,null,null,null,"",null,null,"",null,null,null,null,null,0,null,{"$f":"IF(C4387=\"\",\"\",VLOOKUP(C4387,Debiteuren!$A$2:$J$9998,10,0))&\"\"","v":""},{"$f":"IF(C4387=\"\",\"\",VLOOKUP(C4387,Debiteuren!$A$2:$O$9998,15,0)&\"\"&VLOOKUP(C4387,Debiteuren!$A$2:$N$9998,14,0))","v":""},null,"","",0,""]
[null,null,null,null,null,null,null,null,null,null,"",null,null,"",null,null,null,null,null,0,null,{"$f":"IF(C4394=\"\",\"\",VLOOKUP(C4394,Debiteuren!$A$2:$J$9998,10,0))&\"\"","v":""},{"$f":"IF(C4394=\"\",\"\",VLOOKUP(C4394,Debiteuren!$A$2:$O$9998,15,0)&\"\"&VLOOKUP(C4394,Debiteuren!$A$2:$N$9998,14,0))","v":""},null,"","",0,""]
[null,null,null,null,null,null,null,null,null,null,"",null,null,"",null,null,null,null,null,0,null,{"$f":"IF(C4406=\"\",\"\",VLOOKUP(C4406,Debiteuren!$A$2:$J$9998,10,0))&\"\"","v":""},{"$f":"IF(C4406=\"\",\"\",VLOOKUP(C4406,Debiteuren!$A$2:$O$9998,15,0)&\"\"&VLOOKUP(C4406,Debiteuren!$A$2:$N$9998,14,0))","v":""},null,"","",0,""]
[null,null,null,null,null,null,null,null,null,null,"",null,null,"",null,null,null,null,null,0,null,{"$f":"IF(C4413=\"\",\"\",VLOOKUP(C4413,Debiteuren!$A$2:$J$9998,10,0))&\"\"","v":""},{"$f":"IF(C4413=\"\",\"\",VLOOKUP(C4413,Debiteuren!$A$2:$O$9998,15,0)&\"\"&VLOOKUP(C4413,Debiteuren!$A$2:$N$9998,14,0))","v":""},null,"","",0,""]
[null,null,null,null,null,null,null,null,null,null,"",null,null,"",null,null,null,null,null,0,null,{"$f":"IF(C4425=\"\",\"\",VLOOKUP(C4425,Debiteuren!$A$2:$J$9998,10,0))&\"\"","v":""},{"$f":"IF(C4425=\"\",\"\",VLOOKUP(C4425,Debiteuren!$A$2:$O$9998,15,0)&\"\"&VLOOKUP(C4425,Debiteuren!$A$2:$N$9998,14,0))","v":""},null,"","",0,""]
[null,null,null,null,null,null,null,null,null,null,"",null,null,"",null,null,null,null,null,0,null,{"$f":"IF(C4436=\"\",\"\",VLOOKUP(C4436,Debiteuren!$A$2:$J$9998,10,0))&\"\"","v":""},{"$f":"IF(C4436=\"\",\"\",VLOOKUP(C4436,Debiteuren!$A$2:$O$9998,15,0)&\"\"&VLOOKUP(C4436,Debiteuren!$A$2:$N$9998,14,0))","v":""},null,"","",0,""]
[null,null,null,null,null,null,null,null,null,null,"",null,null,"",null,null,null,null,null,0,null,{"$f":"IF(C4443=\"\",\"\",VLOOKUP(C4443,Debiteuren!$A$2:$J$9998,10,0))&\"\"","v":""},{"$f":"IF(C4443=\"\",\"\",VLOOKUP(C4443,Debiteuren!$A$2:$O$9998,15,0)&\"\"&VLOOKUP(C4443,Debiteuren!$A$2:$N$9998,14,0))","v":""},null,"","",0,""]
[null,null,null,null,null,null,null,null,null,null,"",null,null,"",null,null,null,null,null,0,null,{"$f":"IF(C4446=\"\",\"\",VLOOKUP(C4446,Debiteuren!$A$2:$J$9998,10,0))&\"\"","v":""},{"$f":"IF(C4446=\"\",\"\",VLOOKUP(C4446,Debiteuren!$A$2:$O$9998,15,0)&\"\"&VLOOKUP(C4446,Debiteuren!$A$2:$N$9998,14,0))","v":""},null,"","",0,""]
[null,null,null,null,null,null,null,null,null,null,"",null,null,"",null,null,null,null,null,0,null,{"$f":"IF(C4462=\"\",\"\",VLOOKUP(C4462,Debiteuren!$A$2:$J$9998,10,0))&\"\"","v":""},{"$f":"IF(C4462=\"\",\"\",VLOOKUP(C4462,Debiteuren!$A$2:$O$9998,15,0)&\"\"&VLOOKUP(C4462,Debiteuren!$A$2:$N$9998,14,0))","v":""},null,{"$f":"IF(D4462=\"\",\"\",DATEDIF(D4462,TODAY(),\"d\"))","v":""},{"$f":"IF(G4462=\"\",\"\",DATEDIF(D4462,G4462,\"d\"))","v":""},{"$f":"DATEDIF(D4462,H4462,\"d\")","v":0},{"$f":"IF(Y4462=\"\",\"\",Y4462-AA4462)","v":""}]
[null,null,null,null,null,null,null,null,null,null,"",null,null,"",null,null,null,null,null,0,null,{"$f":"IF(C4465=\"\",\"\",VLOOKUP(C4465,Debiteuren!$A$2:$J$9998,10,0))&\"\"","v":""},{"$f":"IF(C4465=\"\",\"\",VLOOKUP(C4465,Debiteuren!$A$2:$O$9998,15,0)&\"\"&VLOOKUP(C4465,Debiteuren!$A$2:$N$9998,14,0))","v":""},null,"","",0,""]
[null,null,null,null,null,null,null,null,null,null,"",null,null,"",null,null,null,null,null,0,null,{"$f":"IF(C4477=\"\",\"\",VLOOKUP(C4477,Debiteuren!$A$2:$J$9998,10,0))&\"\"","v":""},{"$f":"IF(C4477=\"\",\"\",VLOOKUP(C4477,Debiteuren!$A$2:$O$9998,15,0)&\"\"&VLOOKUP(C4477,Debiteuren!$A$2:$N$9998,14,0))","v":""},null,"","",0,""]
[null,null,null,null,null,null,null,null,null,null,"",null,null,"",null,null,null,null,null,0,null,{"$f":"IF(C4483=\"\",\"\",VLOOKUP(C4483,Debiteuren!$A$2:$J$9998,10,0))&\"\"","v":""},{"$f":"IF(C4483=\"\",\"\",VLOOKUP(C4483,Debiteuren!$A$2:$O$9998,15,0)&\"\"&VLOOKUP(C4483,Debiteuren!$A$2:$N$9998,14,0))","v":""},null,"","",0,""]
[null,null,null,null,null,null,null,null,null,null,"",null,null,"",null,null,null,null,null,0,null,{"$f":"IF(C4495=\"\",\"\",VLOOKUP(C4495,Debiteuren!$A$2:$J$9998,10,0))&\"\"","v":""},{"$f":"IF(C4495=\"\",\"\",VLOOKUP(C4495,Debiteuren!$A$2:$O$9998,15,0)&\"\"&VLOOKUP(C4495,Debiteuren!$A$2:$N$9998,14,0))","v":""},null,"","",0,""]
[null,null,null,null,null,null,null,null,null,null,"",null,null,"",null,null,null,null,null,0,null,{"$f":"IF(C4502=\"\",\"\",VLOOKUP(C4502,Debiteuren!$A$2:$J$9998,10,0))&\"\"","v":""},{"$f":"IF(C4502=\"\",\"\",VLOOKUP(C4502,Debiteuren!$A$2:$O$9998,15,0)&\"\"&VLOOKUP(C4502,Debiteuren!$A$2:$N$9998,14,0))","v":""},null,"","",0,""]
[null,null,null,null,null,null,null,null,null,null,"",null,null,"",null,null,null,null,null,0,null,{"$f":"IF(C4514=\"\",\"\",VLOOKUP(C4514,Debiteuren!$A$2:$J$9998,10,0))&\"\"","v":""},{"$f":"IF(C4514=\"\",\"\",VLOOKUP(C4514,Debiteuren!$A$2:$O$9998,15,0)&\"\"&VLOOKUP(C4514,Debiteuren!$A$2:$N$9998,14,0))","v":""},null,"","",0,""]
[null,null,null,null,null,null,null,null,null,null,"",null,null,"",null,null,null,null,null,0,null,{"$f":"IF(C4518=\"\",\"\",VLOOKUP(C4518,Debiteuren!$A$2:$J$9998,10,0))&\"\"","v":""},{"$f":"IF(C4518=\"\",\"\",VLOOKUP(C4518,Debiteuren!$A$2:$O$9998,15,0)&\"\"&VLOOKUP(C4518,Debiteuren!$A$2:$N$9998,14,0))","v":""},null,"","",0,""]
[null,null,null,null,null,null,null,null,null,null,"",null,null,"",null,null,null,null,null,0,null,{"$f":"IF(C4532=\"\",\"\",VLOOKUP(C4532,Debiteuren!$A$2:$J$9998,10,0))&\"\"","v":""},{"$f":"IF(C4532=\"\",\"\",VLOOKUP(C4532,Debiteuren!$A$2:$O$9998,15,0)&\"\"&VLOOKUP(C4532,Debiteuren!$A$2:$N$9998,14,0))","v":""},null,"","",0,""]
[null,null,null,null,null,null,null,null,null,null,"",null,null,"",null,null,null,null,null,0,null,{"$f":"IF(C4535=\"\",\"\",VLOOKUP(C4535,Debiteuren!$A$2:$J$9998,10,0))&\"\"","v":""},{"$f":"IF(C4535=\"\",\"\",VLOOKUP(C4535,Debiteuren!$A$2:$O$9998,15,0)&\"\"&VLOOKUP(C4535,Debiteuren!$A$2:$N$9998,14,0))","v":""},null,"","",0,""]
[null,null,null,null,null,null,null,null,null,null,"",null,null,"",null,null,null,null,null,0,null,{"$f":"IF(C4547=\"\",\"\",VLOOKUP(C4547,Debiteuren!$A$2:$J$9998,10,0))&\"\"","v":""},{"$f":"IF(C4547=\"\",\"\",VLOOKUP(C4547,Debiteuren!$A$2:$O$9998,15,0)&\"\"&VLOOKUP(C4547,Debiteuren!$A$2:$N$9998,14,0))","v":""},null,"","",0,""]
[null,null,null,null,null,null,null,null,null,null,"",null,null,"",null,null,null,null,null,0,null,{"$f":"IF(C4557=\"\",\"\",VLOOKUP(C4557,Debiteuren!$A$2:$J$9998,10,0))&\"\"","v":""},{"$f":"IF(C4557=\"\",\"\",VLOOKUP(C4557,Debiteuren!$A$2:$O$9998,15,0)&\"\"&VLOOKUP(C4557,Debiteuren!$A$2:$N$9998,14,0))","v":""},null,"","",0,""]
[null,null,null,null,null,null,null,null,null,null,"",null,null,"",null,null,null,null,null,0,null,{"$f":"IF(C4565=\"\",\"\",VLOOKUP(C4565,Debiteuren!$A$2:$J$9998,10,0))&\"\"","v":""},{"$f":"IF(C4565=\"\",\"\",VLOOKUP(C4565,Debiteuren!$A$2:$O$9998,15,0)&\"\"&VLOOKUP(C4565,Debiteuren!$A$2:$N$9998,14,0))","v":""},null,"","",0,""]
[null,null,null,null,null,null,null,null,null,null,"",null,null,"",null,null,null,null,null,0,null,{"$f":"IF(C4572=\"\",\"\",VLOOKUP(C4572,Debiteuren!$A$2:$J$9998,10,0))&\"\"","v":""},{"$f":"IF(C4572=\"\",\"\",VLOOKUP(C4572,Debiteuren!$A$2:$O$9998,15,0)&\"\"&VLOOKUP(C4572,Debiteuren!$A$2:$N$9998,14,0))","v":""},null,"","",0,""]
[null,null,null,null,null,null,null,null,null,null,"",null,null,"",null,null,null,null,null,0,null,{"$f":"IF(C4584=\"\",\"\",VLOOKUP(C4584,Debiteuren!$A$2:$J$9998,10,0))&\"\"","v":""},{"$f":"IF(C4584=\"\",\"\",VLOOKUP(C4584,Debiteuren!$A$2:$O$9998,15,0)&\"\"&VLOOKUP(C4584,Debiteuren!$A$2:$N$9998,14,0))","v":""},null,"","",0,""]
[null,null,null,null,null,null,null,null,null,null,"",null,null,"",null,null,null,null,null,0,null,{"$f":"IF(C4587=\"\",\"\",VLOOKUP(C4587,Debiteuren!$A$2:$J$9998,10,0))&\"\"","v":""},{"$f":"IF(C4587=\"\",\"\",VLOOKUP(C4587,Debiteuren!$A$2:$O$9998,15,0)&\"\"&VLOOKUP(C4587,Debiteuren!$A$2:$N$9998,14,0))","v":""},null,"","",0,""]
[null,null,null,null,null,null,null,null,null,null,"",null,null,"",null,null,null,null,null,0,null,{"$f":"IF(C4598=\"\",\"\",VLOOKUP(C4598,Debiteuren!$A$2:$J$9998,10,0))&\"\"","v":""},{"$f":"IF(C4598=\"\",\"\",VLOOKUP(C4598,Debiteuren!$A$2:$O$9998,15,0)&\"\"&VLOOKUP(C4598,Debiteuren!$A$2:$N$9998,14,0))","v":""},null,"","",0,""]
[null,null,null,null,null,null,null,null,null,null,"",null,null,"",null,null,null,null,null,0,null,{"$f":"IF(C4605=\"\",\"\",VLOOKUP(C4605,Debiteuren!$A$2:$J$9998,10,0))&\"\"","v":""},{"$f":"IF(C4605=\"\",\"\",VLOOKUP(C4605,Debiteuren!$A$2:$O$9998,15,0)&\"\"&VLOOKUP(C4605,Debiteuren!$A$2:$N$9998,14,0))","v":""},null,"","",0,""]
[null,null,null,null,null,null,null,null,null,null,"",null,null,"",null,null,null,null,null,0,null,{"$f":"IF(C4617=\"\",\"\",VLOOKUP(C4617,Debiteuren!$A$2:$J$9998,10,0))&\"\"","v":""},{"$f":"IF(C4617=\"\",\"\",VLOOKUP(C4617,Debiteuren!$A$2:$O$9998,15,0)&\"\"&VLOOKUP(C4617,Debiteuren!$A$2:$N$9998,14,0))","v":""},null,"","",0,""]
[null,null,null,null,null,null,null,null,null,null,"",null,null,"",null,null,null,null,null,0,null,{"$f":"IF(C4624=\"\",\"\",VLOOKUP(C4624,Debiteuren!$A$2:$J$9998,10,0))&\"\"","v":""},{"$f":"IF(C4624=\"\",\"\",VLOOKUP(C4624,Debiteuren!$A$2:$O$9998,15,0)&\"\"&VLOOKUP(C4624,Debiteuren!$A$2:$N$9998,14,0))","v":""},null,"","",0,""]
[null,null,null,null,null,null,null,null,null,null,"",null,null,"",null,null,null,null,null,0,null,{"$f":"IF(C4636=\"\",\"\",VLOOKUP(C4636,Debiteuren!$A$2:$J$9998,10,0))&\"\"","v":""},{"$f":"IF(C4636=\"\",\"\",VLOOKUP(C4636,Debiteuren!$A$2:$O$9998,15,0)&\"\"&VLOOKUP(C4636,Debiteuren!$A$2:$N$9998,14,0))","v":""},null,"","",0,""]
[null,null,null,null,null,null,null,null,null,null,"",null,null,"",null,null,null,null,null,0,null,{"$f":"IF(C4647=\"\",\"\",VLOOKUP(C4647,Debiteuren!$A$2:$J$9998,10,0))&\"\"","v":""},{"$f":"IF(C4647=\"\",\"\",VLOOKUP(C4647,Debiteuren!$A$2:$O$9998,15,0)&\"\"&VLOOKUP(C4647,Debiteuren!$A$2:$N$9998,14,0))","v":""},null,"","",0,""]
[null,null,null,null,null,null,null,null,null,null,"",null,null,"",null,null,null,null,null,0,null,{"$f":"IF(C4654=\"\",\"\",VLOOKUP(C4654,Debiteuren!$A$2:$J$9998,10,0))&\"\"","v":""},{"$f":"IF(C4654=\"\",\"\",VLOOKUP(C4654,Debiteuren!$A$2:$O$9998,15,0)&\"\"&VLOOKUP(C4654,Debiteuren!$A$2:$N$9998,14,0))","v":""},null,{"$f":"IF(D4654=\"\",\"\",DATEDIF(D4654,TODAY(),\"d\"))","v":""},{"$f":"IF(G4654=\"\",\"\",DATEDIF(D4654,G4654,\"d\"))","v":""},{"$f":"DATEDIF(D4654,H4654,\"d\")","v":0},{"$f":"IF(Y4654=\"\",\"\",Y4654-AA4654)","v":""}]
[null,null,null,null,null,null,null,null,null,null,"",null,null,"",null,null,null,null,null,0,null,{"$f":"IF(C4657=\"\",\"\",VLOOKUP(C4657,Debiteuren!$A$2:$J$9998,10,0))&\"\"","v":""},{"$f":"IF(C4657=\"\",\"\",VLOOKUP(C4657,Debiteuren!$A$2:$O$9998,15,0)&\"\"&VLOOKUP(C4657,Debiteuren!$A$2:$N$9998,14,0))","v":""},null,"","",0,""]
[null,null,null,null,null,null,null,null,null,null,"",null,null,"",null,null,null,null,null,0,null,{"$f":"IF(C4673=\"\",\"\",VLOOKUP(C4673,Debiteuren!$A$2:$J$9998,10,0))&\"\"","v":""},{"$f":"IF(C4673=\"\",\"\",VLOOKUP(C4673,Debiteuren!$A$2:$O$9998,15,0)&\"\"&VLOOKUP(C4673,Debiteuren!$A$2:$N$9998,14,0))","v":""},null,"","",0,""]
[null,null,null,null,null,null,null,null,null,null,"",null,null,"",null,null,null,null,null,0,null,{"$f":"IF(C4676=\"\",\"\",VLOOKUP(C4676,Debiteuren!$A$2:$J$9998,10,0))&\"\"","v":""},{"$f":"IF(C4676=\"\",\"\",VLOOKUP(C4676,Debiteuren!$A$2:$O$9998,15,0)&\"\"&VLOOKUP(C4676,Debiteuren!$A$2:$N$9998,14,0))","v":""},null,"","",0,""]
[null,null,null,null,null,null,null,null,null,null,"",null,null,"",null,null,null,null,null,0,null,{"$f":"IF(C4688=\"\",\"\",VLOOKUP(C4688,Debiteuren!$A$2:$J$9998,10,0))&\"\"","v":""},{"$f":"IF(C4688=\"\",\"\",VLOOKUP(C4688,Debiteuren!$A$2:$O$9998,15,0)&\"\"&VLOOKUP(C4688,Debiteuren!$A$2:$N$9998,14,0))","v":""},null,"","",0,""]
[null,null,null,null,null,null,null,null,null,null,"",null,null,"",null,null,null,null,null,0,null,{"$f":"IF(C4694=\"\",\"\",VLOOKUP(C4694,Debiteuren!$A$2:$J$9998,10,0))&\"\"","v":""},{"$f":"IF(C4694=\"\",\"\",VLOOKUP(C4694,Debiteuren!$A$2:$O$9998,15,0)&\"\"&VLOOKUP(C4694,Debiteuren!$A$2:$N$9998,14,0))","v":""},null,"","",0,""]
[null,null,null,null,null,null,null,null,null,null,"",null,null,"",null,null,null,null,null,0,null,{"$f":"IF(C4706=\"\",\"\",VLOOKUP(C4706,Debiteuren!$A$2:$J$9998,10,0))&\"\"","v":""},{"$f":"IF(C4706=\"\",\"\",VLOOKUP(C4706,Debiteuren!$A$2:$O$9998,15,0)&\"\"&VLOOKUP(C4706,Debiteuren!$A$2:$N$9998,14,0))","v":""},null,"","",0,""]
[null,null,null,null,null,null,null,null,null,null,"",null,null,"",null,null,null,null,null,0,null,{"$f":"IF(C4713=\"\",\"\",VLOOKUP(C4713,Debiteuren!$A$2:$J$9998,10,0))&\"\"","v":""},{"$f":"IF(C4713=\"\",\"\",VLOOKUP(C4713,Debiteuren!$A$2:$O$9998,15,0)&\"\"&VLOOKUP(C4713,Debiteuren!$A$2:$N$9998,14,0))","v":""},null,"","",0,""]
[null,null,null,null,null,null,null,null,null,null,"",null,null,"",null,null,null,null,null,{"$f":"IF(B4719=1,E4719,0)","v":0},null,{"$f":"IF(C4719=\"\",\"\",VLOOKUP(C4719,Debiteuren!$A$2:$J$9998,10,0))&\"\"","v":""},{"$f":"IF(C4719=\"\",\"\",VLOOKUP(C4719,Debiteuren!$A$2:$O$9998,15,0)&\"\"&VLOOKUP(C4719,Debiteuren!$A$2:$N$9998,14,0))","v":""},null,"","",0,""]
[null,null,null,null,null,null,null,null,null,null,"",null,null,"",null,null,null,null,null,0,null,{"$f":"IF(C4727=\"\",\"\",VLOOKUP(C4727,Debiteuren!$A$2:$J$9998,10,0))&\"\"","v":""},{"$f":"IF(C4727=\"\",\"\",VLOOKUP(C4727,Debiteuren!$A$2:$O$9998,15,0)&\"\"&VLOOKUP(C4727,Debiteuren!$A$2:$N$9998,14,0))","v":""},null,"","",0,""]
[null,null,null,null,null,null,null,null,null,null,"",null,null,"",null,null,null,null,null,0,null,{"$f":"IF(C4743=\"\",\"\",VLOOKUP(C4743,Debiteuren!$A$2:$J$9998,10,0))&\"\"","v":""},{"$f":"IF(C4743=\"\",\"\",VLOOKUP(C4743,Debiteuren!$A$2:$O$9998,15,0)&\"\"&VLOOKUP(C4743,Debiteuren!$A$2:$N$9998,14,0))","v":""},null,"","",0,""]
[null,null,null,null,null,null,null,null,null,null,"",null,null,"",null,null,null,null,null,0,null,{"$f":"IF(C4746=\"\",\"\",VLOOKUP(C4746,Debiteuren!$A$2:$J$9998,10,0))&\"\"","v":""},{"$f":"IF(C4746=\"\",\"\",VLOOKUP(C4746,Debiteuren!$A$2:$O$9998,15,0)&\"\"&VLOOKUP(C4746,Debiteuren!$A$2:$N$9998,14,0))","v":""},null,"","",0,""]
[null,null,null,null,null,null,null,null,null,null,"",null,null,"",null,null,null,null,null,0,null,{"$f":"IF(C4762=\"\",\"\",VLOOKUP(C4762,Debiteuren!$A$2:$J$9998,10,0))&\"\"","v":""},{"$f":"IF(C4762=\"\",\"\",VLOOKUP(C4762,Debiteuren!$A$2:$O$9998,15,0)&\"\"&VLOOKUP(C4762,Debiteuren!$A$2:$N$9998,14,0))","v":""},null,"","",0,""]
[null,null,null,null,null,null,null,null,null,null,"",null,null,"",null,null,null,null,null,0,null,{"$f":"IF(C4768=\"\",\"\",VLOOKUP(C4768,Debiteuren!$A$2:$J$9998,10,0))&\"\"","v":""},{"$f":"IF(C4768=\"\",\"\",VLOOKUP(C4768,Debiteuren!$A$2:$O$9998,15,0)&\"\"&VLOOKUP(C4768,Debiteuren!$A$2:$N$9998,14,0))","v":""},null,"","",0,""]
[null,null,null,null,null,null,null,null,null,null,"",null,null,"",null,null,null,null,null,0,null,{"$f":"IF(C4776=\"\",\"\",VLOOKUP(C4776,Debiteuren!$A$2:$J$9998,10,0))&\"\"","v":""},{"$f":"IF(C4776=\"\",\"\",VLOOKUP(C4776,Debiteuren!$A$2:$O$9998,15,0)&\"\"&VLOOKUP(C4776,Debiteuren!$A$2:$N$9998,14,0))","v":""},null,"","",0,""]
[null,null,null,null,null,null,null,null,null,null,"",null,null,"",null,null,null,null,null,{"$f":"IF(B4783=1,E4783,0)","v":0},null,{"$f":"IF(C4783=\"\",\"\",VLOOKUP(C4783,Debiteuren!$A$2:$J$9998,10,0))&\"\"","v":""},{"$f":"IF(C4783=\"\",\"\",VLOOKUP(C4783,Debiteuren!$A$2:$O$9998,15,0)&\"\"&VLOOKUP(C4783,Debiteuren!$A$2:$N$9998,14,0))","v":""},null,"","",0,""]
[null,null,null,null,null,null,null,null,null,null,"",null,null,"",null,null,null,null,null,0,null,{"$f":"IF(C4795=\"\",\"\",VLOOKUP(C4795,Debiteuren!$A$2:$J$9998,10,0))&\"\"","v":""},{"$f":"IF(C4795=\"\",\"\",VLOOKUP(C4795,Debiteuren!$A$2:$O$9998,15,0)&\"\"&VLOOKUP(C4795,Debiteuren!$A$2:$N$9998,14,0))","v":""},null,"","",0,""]
[null,null,null,null,null,null,null,null,null,null,"",null,null,"",null,null,null,null,null,0,null,{"$f":"IF(C4802=\"\",\"\",VLOOKUP(C4802,Debiteuren!$A$2:$J$9998,10,0))&\"\"","v":""},{"$f":"IF(C4802=\"\",\"\",VLOOKUP(C4802,Debiteuren!$A$2:$O$9998,15,0)&\"\"&VLOOKUP(C4802,Debiteuren!$A$2:$N$9998,14,0))","v":""},null,"","",0,""]
[null,null,null,null,null,null,null,null,null,null,"",null,null,"",null,null,null,null,null,0,null,{"$f":"IF(C4809=\"\",\"\",VLOOKUP(C4809,Debiteuren!$A$2:$J$9998,10,0))&\"\"","v":""},{"$f":"IF(C4809=\"\",\"\",VLOOKUP(C4809,Debiteuren!$A$2:$O$9998,15,0)&\"\"&VLOOKUP(C4809,Debiteuren!$A$2:$N$9998,14,0))","v":""},null,"","",0,""]
[null,null,null,null,null,null,null,null,null,null,"",null,null,"",null,null,null,null,null,0,null,{"$f":"IF(C4816=\"\",\"\",VLOOKUP(C4816,Debiteuren!$A$2:$J$9998,10,0))&\"\"","v":""},{"$f":"IF(C4816=\"\",\"\",VLOOKUP(C4816,Debiteuren!$A$2:$O$9998,15,0)&\"\"&VLOOKUP(C4816,Debiteuren!$A$2:$N$9998,14,0))","v":""},null,"","",0,""]
[null,null,null,null,null,null,null,null,null,null,"",null,null,"",null,null,null,null,null,0,null,{"$f":"IF(C4832=\"\",\"\",VLOOKUP(C4832,Debiteuren!$A$2:$J$9998,10,0))&\"\"","v":""},{"$f":"IF(C4832=\"\",\"\",VLOOKUP(C4832,Debiteuren!$A$2:$O$9998,15,0)&\"\"&VLOOKUP(C4832,Debiteuren!$A$2:$N$9998,14,0))","v":""},null,"","",0,""]
[null,null,null,null,null,null,null,null,null,null,"",null,null,"",null,null,null,null,null,0,null,{"$f":"IF(C4835=\"\",\"\",VLOOKUP(C4835,Debiteuren!$A$2:$J$9998,10,0))&\"\"","v":""},{"$f":"IF(C4835=\"\",\"\",VLOOKUP(C4835,Debiteuren!$A$2:$O$9998,15,0)&\"\"&VLOOKUP(C4835,Debiteuren!$A$2:$N$9998,14,0))","v":""},null,"","",0,""]
[null,null,null,null,null,null,null,null,null,null,"",null,null,"",null,null,null,null,null,{"$f":"IF(B4847=1,E4847,0)","v":0},null,{"$f":"IF(C4847=\"\",\"\",VLOOKUP(C4847,Debiteuren!$A$2:$J$9998,10,0))&\"\"","v":""},{"$f":"IF(C4847=\"\",\"\",VLOOKUP(C4847,Debiteuren!$A$2:$O$9998,15,0)&\"\"&VLOOKUP(C4847,Debiteuren!$A$2:$N$9998,14,0))","v":""},null,"","",0,""]
[null,null,null,null,null,null,null,null,null,null,"",null,null,"",null,null,null,null,null,0,null,{"$f":"IF(C4858=\"\",\"\",VLOOKUP(C4858,Debiteuren!$A$2:$J$9998,10,0))&\"\"","v":""},{"$f":"IF(C4858=\"\",\"\",VLOOKUP(C4858,Debiteuren!$A$2:$O$9998,15,0)&\"\"&VLOOKUP(C4858,Debiteuren!$A$2:$N$9998,14,0))","v":""},null,"","",0,""]
[null,null,null,null,null,null,null,null,null,null,"",null,null,"",null,null,null,null,null,0,null,{"$f":"IF(C4865=\"\",\"\",VLOOKUP(C4865,Debiteuren!$A$2:$J$9998,10,0))&\"\"","v":""},{"$f":"IF(C4865=\"\",\"\",VLOOKUP(C4865,Debiteuren!$A$2:$O$9998,15,0)&\"\"&VLOOKUP(C4865,Debiteuren!$A$2:$N$9998,14,0))","v":""},null,"","",0,""]
[null,null,null,null,null,null,null,null,null,null,"",null,null,"",null,null,null,null,null,0,null,{"$f":"IF(C4872=\"\",\"\",VLOOKUP(C4872,Debiteuren!$A$2:$J$9998,10,0))&\"\"","v":""},{"$f":"IF(C4872=\"\",\"\",VLOOKUP(C4872,Debiteuren!$A$2:$O$9998,15,0)&\"\"&VLOOKUP(C4872,Debiteuren!$A$2:$N$9998,14,0))","v":""},null,"","",0,""]
[null,null,null,null,null,null,null,null,null,null,"",null,null,"",null,null,null,null,null,0,null,{"$f":"IF(C4884=\"\",\"\",VLOOKUP(C4884,Debiteuren!$A$2:$J$9998,10,0))&\"\"","v":""},{"$f":"IF(C4884=\"\",\"\",VLOOKUP(C4884,Debiteuren!$A$2:$O$9998,15,0)&\"\"&VLOOKUP(C4884,Debiteuren!$A$2:$N$9998,14,0))","v":""},null,"","",0,""]
[null,null,null,null,null,null,null,null,null,null,"",null,null,"",null,null,null,null,null,0,null,{"$f":"IF(C4889=\"\",\"\",VLOOKUP(C4889,Debiteuren!$A$2:$J$9998,10,0))&\"\"","v":""},{"$f":"IF(C4889=\"\",\"\",VLOOKUP(C4889,Debiteuren!$A$2:$O$9998,15,0)&\"\"&VLOOKUP(C4889,Debiteuren!$A$2:$N$9998,14,0))","v":""},null,"","",0,""]
[null,null,null,null,null,null,null,null,null,null,"",null,null,"",null,null,null,null,null,0,null,{"$f":"IF(C4902=\"\",\"\",VLOOKUP(C4902,Debiteuren!$A$2:$J$9998,10,0))&\"\"","v":""},{"$f":"IF(C4902=\"\",\"\",VLOOKUP(C4902,Debiteuren!$A$2:$O$9998,15,0)&\"\"&VLOOKUP(C4902,Debiteuren!$A$2:$N$9998,14,0))","v":""},null,"","",0,""]
[null,null,null,null,null,null,null,null,null,null,"",null,null,"",null,null,null,null,null,0,null,{"$f":"IF(C4905=\"\",\"\",VLOOKUP(C4905,Debiteuren!$A$2:$J$9998,10,0))&\"\"","v":""},{"$f":"IF(C4905=\"\",\"\",VLOOKUP(C4905,Debiteuren!$A$2:$O$9998,15,0)&\"\"&VLOOKUP(C4905,Debiteuren!$A$2:$N$9998,14,0))","v":""},null,"","",0,""]
[null,null,null,null,null,null,null,null,null,null,"",null,null,"",null,null,null,null,null,0,null,{"$f":"IF(C4917=\"\",\"\",VLOOKUP(C4917,Debiteuren!$A$2:$J$9998,10,0))&\"\"","v":""},{"$f":"IF(C4917=\"\",\"\",VLOOKUP(C4917,Debiteuren!$A$2:$O$9998,15,0)&\"\"&VLOOKUP(C4917,Debiteuren!$A$2:$N$9998,14,0))","v":""},null,"","",0,""]
[null,null,null,null,null,null,null,null,null,null,"",null,null,"",null,null,null,null,null,0,null,{"$f":"IF(C4924=\"\",\"\",VLOOKUP(C4924,Debiteuren!$A$2:$J$9998,10,0))&\"\"","v":""},{"$f":"IF(C4924=\"\",\"\",VLOOKUP(C4924,Debiteuren!$A$2:$O$9998,15,0)&\"\"&VLOOKUP(C4924,Debiteuren!$A$2:$N$9998,14,0))","v":""},null,"","",0,""]
[null,null,null,null,null,null,null,null,null,null,"",null,null,"",null,null,null,null,null,0,null,{"$f":"IF(C4930=\"\",\"\",VLOOKUP(C4930,Debiteuren!$A$2:$J$9998,10,0))&\"\"","v":""},{"$f":"IF(C4930=\"\",\"\",VLOOKUP(C4930,Debiteuren!$A$2:$O$9998,15,0)&\"\"&VLOOKUP(C4930,Debiteuren!$A$2:$N$9998,14,0))","v":""},null,"","",0,""]
[null,null,null,null,null,null,null,null,null,null,"",null,null,"",null,null,null,null,null,0,null,{"$f":"IF(C4942=\"\",\"\",VLOOKUP(C4942,Debiteuren!$A$2:$J$9998,10,0))&\"\"","v":""},{"$f":"IF(C4942=\"\",\"\",VLOOKUP(C4942,Debiteuren!$A$2:$O$9998,15,0)&\"\"&VLOOKUP(C4942,Debiteuren!$A$2:$N$9998,14,0))","v":""},null,"","",0,""]
[null,null,null,null,null,null,null,null,null,null,"",null,null,"",null,null,null,null,null,0,null,{"$f":"IF(C4954=\"\",\"\",VLOOKUP(C4954,Debiteuren!$A$2:$J$9998,10,0))&\"\"","v":""},{"$f":"IF(C4954=\"\",\"\",VLOOKUP(C4954,Debiteuren!$A$2:$O$9998,15,0)&\"\"&VLOOKUP(C4954,Debiteuren!$A$2:$N$9998,14,0))","v":""},null,"","",0,""]
[null,null,null,null,null,null,null,null,null,null,"",null,null,"",null,null,null,null,null,0,null,{"$f":"IF(C4957=\"\",\"\",VLOOKUP(C4957,Debiteuren!$A$2:$J$9998,10,0))&\"\"","v":""},{"$f":"IF(C4957=\"\",\"\",VLOOKUP(C4957,Debiteuren!$A$2:$O$9998,15,0)&\"\"&VLOOKUP(C4957,Debiteuren!$A$2:$N$9998,14,0))","v":""},null,"","",0,""]
[null,null,null,null,null,null,null,null,null,null,"",null,null,"",null,null,null,null,null,0,null,{"$f":"IF(C4973=\"\",\"\",VLOOKUP(C4973,Debiteuren!$A$2:$J$9998,10,0))&\"\"","v":""},{"$f":"IF(C4973=\"\",\"\",VLOOKUP(C4973,Debiteuren!$A$2:$O$9998,15,0)&\"\"&VLOOKUP(C4973,Debiteuren!$A$2:$N$9998,14,0))","v":""},null,"","",0,""]
[null,null,null,null,null,null,null,null,null,null,"",null,null,"",null,null,null,null,null,0,null,{"$f":"IF(C4979=\"\",\"\",VLOOKUP(C4979,Debiteuren!$A$2:$J$9998,10,0))&\"\"","v":""},{"$f":"IF(C4979=\"\",\"\",VLOOKUP(C4979,Debiteuren!$A$2:$O$9998,15,0)&\"\"&VLOOKUP(C4979,Debiteuren!$A$2:$N$9998,14,0))","v":""},null,"","",0,""]
[null,null,null,null,null,null,null,null,null,null,"",null,null,"",null,null,null,null,null,0,null,{"$f":"IF(C4982=\"\",\"\",VLOOKUP(C4982,Debiteuren!$A$2:$J$9998,10,0))&\"\"","v":""},{"$f":"IF(C4982=\"\",\"\",VLOOKUP(C4982,Debiteuren!$A$2:$O$9998,15,0)&\"\"&VLOOKUP(C4982,Debiteuren!$A$2:$N$9998,14,0))","v":""},null,"","",0,""]
[null,null,null,null,null,null,null,null,null,null,"",null,null,"",null,null,null,null,null,0,null,{"$f":"IF(C4994=\"\",\"\",VLOOKUP(C4994,Debiteuren!$A$2:$J$9998,10,0))&\"\"","v":""},{"$f":"IF(C4994=\"\",\"\",VLOOKUP(C4994,Debiteuren!$A$2:$O$9998,15,0)&\"\"&VLOOKUP(C4994,Debiteuren!$A$2:$N$9998,14,0))","v":""},null,"","",0,""]
[null,null,null,null,null,null,null,null,null,null,"",null,null,"",null,null,null,null,null,0,null,{"$f":"IF(C5006=\"\",\"\",VLOOKUP(C5006,Debiteuren!$A$2:$J$9998,10,0))&\"\"","v":""},{"$f":"IF(C5006=\"\",\"\",VLOOKUP(C5006,Debiteuren!$A$2:$O$9998,15,0)&\"\"&VLOOKUP(C5006,Debiteuren!$A$2:$N$9998,14,0))","v":""},null,"","",0,""]
[null,null,null,null,null,null,null,null,null,null,"",null,null,"",null,null,null,null,null,0,null,{"$f":"IF(C5013=\"\",\"\",VLOOKUP(C5013,Debiteuren!$A$2:$J$9998,10,0))&\"\"","v":""},{"$f":"IF(C5013=\"\",\"\",VLOOKUP(C5013,Debiteuren!$A$2:$O$9998,15,0)&\"\"&VLOOKUP(C5013,Debiteuren!$A$2:$N$9998,14,0))","v":""},null,"","",0,""]
[null,null,null,null,null,null,null,null,null,null,"",null,null,"",null,null,null,null,null,0,null,{"$f":"IF(C5020=\"\",\"\",VLOOKUP(C5020,Debiteuren!$A$2:$J$9998,10,0))&\"\"","v":""},{"$f":"IF(C5020=\"\",\"\",VLOOKUP(C5020,Debiteuren!$A$2:$O$9998,15,0)&\"\"&VLOOKUP(C5020,Debiteuren!$A$2:$N$9998,14,0))","v":""},null,"","",0,""]
[null,null,null,null,null,null,null,null,null,null,"",null,null,"",null,null,null,null,null,0,null,{"$f":"IF(C5027=\"\",\"\",VLOOKUP(C5027,Debiteuren!$A$2:$J$9998,10,0))&\"\"","v":""},{"$f":"IF(C5027=\"\",\"\",VLOOKUP(C5027,Debiteuren!$A$2:$O$9998,15,0)&\"\"&VLOOKUP(C5027,Debiteuren!$A$2:$N$9998,14,0))","v":""},null,"","",0,""]
[null,null,null,null,null,null,null,null,null,null,"",null,null,"",null,null,null,null,null,0,null,{"$f":"IF(C5043=\"\",\"\",VLOOKUP(C5043,Debiteuren!$A$2:$J$9998,10,0))&\"\"","v":""},{"$f":"IF(C5043=\"\",\"\",VLOOKUP(C5043,Debiteuren!$A$2:$O$9998,15,0)&\"\"&VLOOKUP(C5043,Debiteuren!$A$2:$N$9998,14,0))","v":""},null,"","",0,""]
[null,null,null,null,null,null,null,null,null,null,"",null,null,"",null,null,null,null,null,0,null,{"$f":"IF(C5046=\"\",\"\",VLOOKUP(C5046,Debiteuren!$A$2:$J$9998,10,0))&\"\"","v":""},{"$f":"IF(C5046=\"\",\"\",VLOOKUP(C5046,Debiteuren!$A$2:$O$9998,15,0)&\"\"&VLOOKUP(C5046,Debiteuren!$A$2:$N$9998,14,0))","v":""},null,"","",0,""]
[null,null,null,null,null,null,null,null,null,null,"",null,null,"",null,null,null,null,null,0,null,{"$f":"IF(C5059=\"\",\"\",VLOOKUP(C5059,Debiteuren!$A$2:$J$9998,10,0))&\"\"","v":""},{"$f":"IF(C5059=\"\",\"\",VLOOKUP(C5059,Debiteuren!$A$2:$O$9998,15,0)&\"\"&VLOOKUP(C5059,Debiteuren!$A$2:$N$9998,14,0))","v":""},null,"","",0,""]
[null,null,null,null,null,null,null,null,null,null,"",null,null,"",null,null,null,null,null,0,null,{"$f":"IF(C5064=\"\",\"\",VLOOKUP(C5064,Debiteuren!$A$2:$J$9998,10,0))&\"\"","v":""},{"$f":"IF(C5064=\"\",\"\",VLOOKUP(C5064,Debiteuren!$A$2:$O$9998,15,0)&\"\"&VLOOKUP(C5064,Debiteuren!$A$2:$N$9998,14,0))","v":""},null,"","",0,""]
[null,null,null,null,null,null,null,null,null,null,"",null,null,"",null,null,null,null,null,0,null,{"$f":"IF(C5076=\"\",\"\",VLOOKUP(C5076,Debiteuren!$A$2:$J$9998,10,0))&\"\"","v":""},{"$f":"IF(C5076=\"\",\"\",VLOOKUP(C5076,Debiteuren!$A$2:$O$9998,15,0)&\"\"&VLOOKUP(C5076,Debiteuren!$A$2:$N$9998,14,0))","v":""},null,"","",0,""]
[null,null,null,null,null,null,null,null,null,null,"",null,null,"",null,null,null,null,null,0,null,{"$f":"IF(C5083=\"\",\"\",VLOOKUP(C5083,Debiteuren!$A$2:$J$9998,10,0))&\"\"","v":""},{"$f":"IF(C5083=\"\",\"\",VLOOKUP(C5083,Debiteuren!$A$2:$O$9998,15,0)&\"\"&VLOOKUP(C5083,Debiteuren!$A$2:$N$9998,14,0))","v":""},null,"","",0,""]
[null,null,null,null,null,null,null,null,null,null,"",null,null,"",null,null,null,null,null,0,null,{"$f":"IF(C5095=\"\",\"\",VLOOKUP(C5095,Debiteuren!$A$2:$J$9998,10,0))&\"\"","v":""},{"$f":"IF(C5095=\"\",\"\",VLOOKUP(C5095,Debiteuren!$A$2:$O$9998,15,0)&\"\"&VLOOKUP(C5095,Debiteuren!$A$2:$N$9998,14,0))","v":""},null,"","",0,""]
[null,null,null,null,null,null,null,null,null,null,"",null,null,"",null,null,null,null,null,0,null,{"$f":"IF(C5100=\"\",\"\",VLOOKUP(C5100,Debiteuren!$A$2:$J$9998,10,0))&\"\"","v":""},{"$f":"IF(C5100=\"\",\"\",VLOOKUP(C5100,Debiteuren!$A$2:$O$9998,15,0)&\"\"&VLOOKUP(C5100,Debiteuren!$A$2:$N$9998,14,0))","v":""},null,"","",0,""]
[null,null,null,null,null,null,null,null,null,null,{"$f":"IF(D5113=\"\",\"\",\"\"&\"Kwartaal \"&MONTH(MONTH(D5113)&0)&TEXT(D5113,\" - mmm JJJJ\"))","v":""},null,null,{"$f":"IF(E5113=\"\",\"\",(E5113)-(F5113))","v":""},null,null,null,null,null,0,null,{"$f":"IF(C5113=\"\",\"\",VLOOKUP(C5113,Debiteuren!$A$2:$J$9998,10,0))&\"\"","v":""},{"$f":"IF(C5113=\"\",\"\",VLOOKUP(C5113,Debiteuren!$A$2:$O$9998,15,0)&\"\"&VLOOKUP(C5113,Debiteuren!$A$2:$N$9998,14,0))","v":""},null,"","",0,""]
[null,null,null,null,null,null,null,null,null,null,"",null,null,"",null,null,null,null,null,0,null,{"$f":"IF(C5116=\"\",\"\",VLOOKUP(C5116,Debiteuren!$A$2:$J$9998,10,0))&\"\"","v":""},{"$f":"IF(C5116=\"\",\"\",VLOOKUP(C5116,Debiteuren!$A$2:$O$9998,15,0)&\"\"&VLOOKUP(C5116,Debiteuren!$A$2:$N$9998,14,0))","v":""},null,"","",0,""]
[null,null,null,null,null,null,null,null,null,null,"",null,null,"",null,null,null,null,null,0,null,{"$f":"IF(C5123=\"\",\"\",VLOOKUP(C5123,Debiteuren!$A$2:$J$9998,10,0))&\"\"","v":""},{"$f":"IF(C5123=\"\",\"\",VLOOKUP(C5123,Debiteuren!$A$2:$O$9998,15,0)&\"\"&VLOOKUP(C5123,Debiteuren!$A$2:$N$9998,14,0))","v":""},null,"","",0,""]
[null,null,null,null,null,null,null,null,null,null,"",null,null,"",null,null,null,null,null,0,null,{"$f":"IF(C5135=\"\",\"\",VLOOKUP(C5135,Debiteuren!$A$2:$J$9998,10,0))&\"\"","v":""},{"$f":"IF(C5135=\"\",\"\",VLOOKUP(C5135,Debiteuren!$A$2:$O$9998,15,0)&\"\"&VLOOKUP(C5135,Debiteuren!$A$2:$N$9998,14,0))","v":""},null,"","",0,""]
[null,null,null,null,null,null,null,null,null,null,"",null,null,"",null,null,null,null,null,0,null,{"$f":"IF(C5141=\"\",\"\",VLOOKUP(C5141,Debiteuren!$A$2:$J$9998,10,0))&\"\"","v":""},{"$f":"IF(C5141=\"\",\"\",VLOOKUP(C5141,Debiteuren!$A$2:$O$9998,15,0)&\"\"&VLOOKUP(C5141,Debiteuren!$A$2:$N$9998,14,0))","v":""},null,"","",0,""]
[null,null,null,null,null,null,null,null,null,null,"",null,null,"",null,null,null,null,null,0,null,{"$f":"IF(C5153=\"\",\"\",VLOOKUP(C5153,Debiteuren!$A$2:$J$9998,10,0))&\"\"","v":""},{"$f":"IF(C5153=\"\",\"\",VLOOKUP(C5153,Debiteuren!$A$2:$O$9998,15,0)&\"\"&VLOOKUP(C5153,Debiteuren!$A$2:$N$9998,14,0))","v":""},null,"","",0,""]
[null,null,null,null,null,null,null,null,null,null,"",null,null,"",null,null,null,null,null,0,null,{"$f":"IF(C5165=\"\",\"\",VLOOKUP(C5165,Debiteuren!$A$2:$J$9998,10,0))&\"\"","v":""},{"$f":"IF(C5165=\"\",\"\",VLOOKUP(C5165,Debiteuren!$A$2:$O$9998,15,0)&\"\"&VLOOKUP(C5165,Debiteuren!$A$2:$N$9998,14,0))","v":""},null,"","",0,""]
[null,null,null,null,null,null,null,null,null,null,"",null,null,"",null,null,null,null,null,0,null,{"$f":"IF(C5172=\"\",\"\",VLOOKUP(C5172,Debiteuren!$A$2:$J$9998,10,0))&\"\"","v":""},{"$f":"IF(C5172=\"\",\"\",VLOOKUP(C5172,Debiteuren!$A$2:$O$9998,15,0)&\"\"&VLOOKUP(C5172,Debiteuren!$A$2:$N$9998,14,0))","v":""},null,"","",0,""]
[null,null,null,null,null,null,null,null,null,null,"",null,null,"",null,null,null,null,null,0,null,{"$f":"IF(C5184=\"\",\"\",VLOOKUP(C5184,Debiteuren!$A$2:$J$9998,10,0))&\"\"","v":""},{"$f":"IF(C5184=\"\",\"\",VLOOKUP(C5184,Debiteuren!$A$2:$O$9998,15,0)&\"\"&VLOOKUP(C5184,Debiteuren!$A$2:$N$9998,14,0))","v":""},null,"","",0,""]
[null,null,null,null,null,null,null,null,null,null,"",null,null,"",null,null,null,null,null,0,null,{"$f":"IF(C5190=\"\",\"\",VLOOKUP(C5190,Debiteuren!$A$2:$J$9998,10,0))&\"\"","v":""},{"$f":"IF(C5190=\"\",\"\",VLOOKUP(C5190,Debiteuren!$A$2:$O$9998,15,0)&\"\"&VLOOKUP(C5190,Debiteuren!$A$2:$N$9998,14,0))","v":""},null,"","",0,""]
[null,null,null,null,null,null,null,null,null,null,"",null,null,"",null,null,null,null,null,0,null,{"$f":"IF(C5193=\"\",\"\",VLOOKUP(C5193,Debiteuren!$A$2:$J$9998,10,0))&\"\"","v":""},{"$f":"IF(C5193=\"\",\"\",VLOOKUP(C5193,Debiteuren!$A$2:$O$9998,15,0)&\"\"&VLOOKUP(C5193,Debiteuren!$A$2:$N$9998,14,0))","v":""},null,"","",0,""]
[null,null,null,null,null,null,null,null,null,null,"",null,null,"",null,null,null,null,null,0,null,{"$f":"IF(C5205=\"\",\"\",VLOOKUP(C5205,Debiteuren!$A$2:$J$9998,10,0))&\"\"","v":""},{"$f":"IF(C5205=\"\",\"\",VLOOKUP(C5205,Debiteuren!$A$2:$O$9998,15,0)&\"\"&VLOOKUP(C5205,Debiteuren!$A$2:$N$9998,14,0))","v":""},null,"","",0,""]
[null,null,null,null,null,null,null,null,null,null,"",null,null,"",null,null,null,null,null,0,null,{"$f":"IF(C5217=\"\",\"\",VLOOKUP(C5217,Debiteuren!$A$2:$J$9998,10,0))&\"\"","v":""},{"$f":"IF(C5217=\"\",\"\",VLOOKUP(C5217,Debiteuren!$A$2:$O$9998,15,0)&\"\"&VLOOKUP(C5217,Debiteuren!$A$2:$N$9998,14,0))","v":""},null,"","",0,""]
[null,null,null,null,null,null,null,null,null,null,"",null,null,"",null,null,null,null,null,0,null,{"$f":"IF(C5221=\"\",\"\",VLOOKUP(C5221,Debiteuren!$A$2:$J$9998,10,0))&\"\"","v":""},{"$f":"IF(C5221=\"\",\"\",VLOOKUP(C5221,Debiteuren!$A$2:$O$9998,15,0)&\"\"&VLOOKUP(C5221,Debiteuren!$A$2:$N$9998,14,0))","v":""},null,"","",0,""]
[null,null,null,null,null,null,null,null,null,null,"",null,null,"",null,null,null,null,null,0,null,{"$f":"IF(C5235=\"\",\"\",VLOOKUP(C5235,Debiteuren!$A$2:$J$9998,10,0))&\"\"","v":""},{"$f":"IF(C5235=\"\",\"\",VLOOKUP(C5235,Debiteuren!$A$2:$O$9998,15,0)&\"\"&VLOOKUP(C5235,Debiteuren!$A$2:$N$9998,14,0))","v":""},null,"","",0,""]
[null,null,null,null,null,null,null,null,null,null,"",null,null,"",null,null,null,null,null,0,null,{"$f":"IF(C5242=\"\",\"\",VLOOKUP(C5242,Debiteuren!$A$2:$J$9998,10,0))&\"\"","v":""},{"$f":"IF(C5242=\"\",\"\",VLOOKUP(C5242,Debiteuren!$A$2:$O$9998,15,0)&\"\"&VLOOKUP(C5242,Debiteuren!$A$2:$N$9998,14,0))","v":""},null,"","",0,""]
[null,null,null,null,null,null,null,null,null,null,"",null,null,"",null,null,null,null,null,0,null,{"$f":"IF(C5254=\"\",\"\",VLOOKUP(C5254,Debiteuren!$A$2:$J$9998,10,0))&\"\"","v":""},{"$f":"IF(C5254=\"\",\"\",VLOOKUP(C5254,Debiteuren!$A$2:$O$9998,15,0)&\"\"&VLOOKUP(C5254,Debiteuren!$A$2:$N$9998,14,0))","v":""},null,"","",0,""]
[null,null,null,null,null,null,null,null,null,null,"",null,null,"",null,null,null,null,null,0,null,{"$f":"IF(C5257=\"\",\"\",VLOOKUP(C5257,Debiteuren!$A$2:$J$9998,10,0))&\"\"","v":""},{"$f":"IF(C5257=\"\",\"\",VLOOKUP(C5257,Debiteuren!$A$2:$O$9998,15,0)&\"\"&VLOOKUP(C5257,Debiteuren!$A$2:$N$9998,14,0))","v":""},null,"","",0,""]
[null,null,null,null,null,null,null,null,null,null,"",null,null,"",null,null,null,null,null,0,null,{"$f":"IF(C5270=\"\",\"\",VLOOKUP(C5270,Debiteuren!$A$2:$J$9998,10,0))&\"\"","v":""},{"$f":"IF(C5270=\"\",\"\",VLOOKUP(C5270,Debiteuren!$A$2:$O$9998,15,0)&\"\"&VLOOKUP(C5270,Debiteuren!$A$2:$N$9998,14,0))","v":""},null,"","",0,""]
[null,null,null,null,null,null,null,null,null,null,"",null,null,"",null,null,null,null,null,0,null,{"$f":"IF(C5275=\"\",\"\",VLOOKUP(C5275,Debiteuren!$A$2:$J$9998,10,0))&\"\"","v":""},{"$f":"IF(C5275=\"\",\"\",VLOOKUP(C5275,Debiteuren!$A$2:$O$9998,15,0)&\"\"&VLOOKUP(C5275,Debiteuren!$A$2:$N$9998,14,0))","v":""},null,"","",0,""]
[null,null,null,null,null,null,null,null,null,null,"",null,null,"",null,null,null,null,null,0,null,{"$f":"IF(C5282=\"\",\"\",VLOOKUP(C5282,Debiteuren!$A$2:$J$9998,10,0))&\"\"","v":""},{"$f":"IF(C5282=\"\",\"\",VLOOKUP(C5282,Debiteuren!$A$2:$O$9998,15,0)&\"\"&VLOOKUP(C5282,Debiteuren!$A$2:$N$9998,14,0))","v":""},null,"","",0,""]
[null,null,null,null,null,null,null,null,null,null,"",null,null,"",null,null,null,null,null,0,null,{"$f":"IF(C5294=\"\",\"\",VLOOKUP(C5294,Debiteuren!$A$2:$J$9998,10,0))&\"\"","v":""},{"$f":"IF(C5294=\"\",\"\",VLOOKUP(C5294,Debiteuren!$A$2:$O$9998,15,0)&\"\"&VLOOKUP(C5294,Debiteuren!$A$2:$N$9998,14,0))","v":""},null,{"$f":"IF(D5294=\"\",\"\",DATEDIF(D5294,TODAY(),\"d\"))","v":""},{"$f":"IF(G5294=\"\",\"\",DATEDIF(D5294,G5294,\"d\"))","v":""},{"$f":"DATEDIF(D5294,H5294,\"d\")","v":0},{"$f":"IF(Y5294=\"\",\"\",Y5294-AA5294)","v":""}]
[null,null,null,null,null,null,null,null,null,null,"",null,null,"",null,null,null,null,null,0,null,{"$f":"IF(C5306=\"\",\"\",VLOOKUP(C5306,Debiteuren!$A$2:$J$9998,10,0))&\"\"","v":""},{"$f":"IF(C5306=\"\",\"\",VLOOKUP(C5306,Debiteuren!$A$2:$O$9998,15,0)&\"\"&VLOOKUP(C5306,Debiteuren!$A$2:$N$9998,14,0))","v":""},null,"","",0,""]
[null,null,null,null,null,null,null,null,null,null,"",null,null,"",null,null,null,null,null,0,null,{"$f":"IF(C5311=\"\",\"\",VLOOKUP(C5311,Debiteuren!$A$2:$J$9998,10,0))&\"\"","v":""},{"$f":"IF(C5311=\"\",\"\",VLOOKUP(C5311,Debiteuren!$A$2:$O$9998,15,0)&\"\"&VLOOKUP(C5311,Debiteuren!$A$2:$N$9998,14,0))","v":""},null,"","",0,""]
[null,null,null,null,null,null,null,null,null,null,"",null,null,"",null,null,null,null,null,0,null,{"$f":"IF(C5324=\"\",\"\",VLOOKUP(C5324,Debiteuren!$A$2:$J$9998,10,0))&\"\"","v":""},{"$f":"IF(C5324=\"\",\"\",VLOOKUP(C5324,Debiteuren!$A$2:$O$9998,15,0)&\"\"&VLOOKUP(C5324,Debiteuren!$A$2:$N$9998,14,0))","v":""},null,"","",0,""]
[null,null,null,null,null,null,null,null,null,null,"",null,null,"",null,null,null,null,null,0,null,{"$f":"IF(C5327=\"\",\"\",VLOOKUP(C5327,Debiteuren!$A$2:$J$9998,10,0))&\"\"","v":""},{"$f":"IF(C5327=\"\",\"\",VLOOKUP(C5327,Debiteuren!$A$2:$O$9998,15,0)&\"\"&VLOOKUP(C5327,Debiteuren!$A$2:$N$9998,14,0))","v":""},null,"","",0,""]
[null,null,null,null,null,null,null,null,null,null,"",null,null,"",null,null,null,null,null,0,null,{"$f":"IF(C5334=\"\",\"\",VLOOKUP(C5334,Debiteuren!$A$2:$J$9998,10,0))&\"\"","v":""},{"$f":"IF(C5334=\"\",\"\",VLOOKUP(C5334,Debiteuren!$A$2:$O$9998,15,0)&\"\"&VLOOKUP(C5334,Debiteuren!$A$2:$N$9998,14,0))","v":""},null,"","",0,""]
[null,null,null,null,null,null,null,null,null,null,"",null,null,"",null,null,null,null,null,0,null,{"$f":"IF(C5346=\"\",\"\",VLOOKUP(C5346,Debiteuren!$A$2:$J$9998,10,0))&\"\"","v":""},{"$f":"IF(C5346=\"\",\"\",VLOOKUP(C5346,Debiteuren!$A$2:$O$9998,15,0)&\"\"&VLOOKUP(C5346,Debiteuren!$A$2:$N$9998,14,0))","v":""},null,"","",0,""]
[null,null,null,null,null,null,null,null,null,null,"",null,null,"",null,null,null,null,null,0,null,{"$f":"IF(C5352=\"\",\"\",VLOOKUP(C5352,Debiteuren!$A$2:$J$9998,10,0))&\"\"","v":""},{"$f":"IF(C5352=\"\",\"\",VLOOKUP(C5352,Debiteuren!$A$2:$O$9998,15,0)&\"\"&VLOOKUP(C5352,Debiteuren!$A$2:$N$9998,14,0))","v":""},null,"","",0,""]
[null,null,null,null,null,null,null,null,null,null,"",null,null,"",null,null,null,null,null,0,null,{"$f":"IF(C5364=\"\",\"\",VLOOKUP(C5364,Debiteuren!$A$2:$J$9998,10,0))&\"\"","v":""},{"$f":"IF(C5364=\"\",\"\",VLOOKUP(C5364,Debiteuren!$A$2:$O$9998,15,0)&\"\"&VLOOKUP(C5364,Debiteuren!$A$2:$N$9998,14,0))","v":""},null,"","",0,""]
[null,null,null,null,null,null,null,null,null,null,"",null,null,"",null,null,null,null,null,0,null,{"$f":"IF(C5376=\"\",\"\",VLOOKUP(C5376,Debiteuren!$A$2:$J$9998,10,0))&\"\"","v":""},{"$f":"IF(C5376=\"\",\"\",VLOOKUP(C5376,Debiteuren!$A$2:$O$9998,15,0)&\"\"&VLOOKUP(C5376,Debiteuren!$A$2:$N$9998,14,0))","v":""},null,"","",0,""]
[null,null,null,null,null,null,null,null,null,null,"",null,null,"",null,null,null,null,null,0,null,{"$f":"IF(C5383=\"\",\"\",VLOOKUP(C5383,Debiteuren!$A$2:$J$9998,10,0))&\"\"","v":""},{"$f":"IF(C5383=\"\",\"\",VLOOKUP(C5383,Debiteuren!$A$2:$O$9998,15,0)&\"\"&VLOOKUP(C5383,Debiteuren!$A$2:$N$9998,14,0))","v":""},null,"","",0,""]
[null,null,null,null,null,null,null,null,null,null,"",null,null,"",null,null,null,null,null,0,null,{"$f":"IF(C5395=\"\",\"\",VLOOKUP(C5395,Debiteuren!$A$2:$J$9998,10,0))&\"\"","v":""},{"$f":"IF(C5395=\"\",\"\",VLOOKUP(C5395,Debiteuren!$A$2:$O$9998,15,0)&\"\"&VLOOKUP(C5395,Debiteuren!$A$2:$N$9998,14,0))","v":""},null,"","",0,""]
[null,null,null,null,null,null,null,null,null,null,"",null,null,"",null,null,null,null,null,0,null,{"$f":"IF(C5401=\"\",\"\",VLOOKUP(C5401,Debiteuren!$A$2:$J$9998,10,0))&\"\"","v":""},{"$f":"IF(C5401=\"\",\"\",VLOOKUP(C5401,Debiteuren!$A$2:$O$9998,15,0)&\"\"&VLOOKUP(C5401,Debiteuren!$A$2:$N$9998,14,0))","v":""},null,"","",0,""]
[null,null,null,null,null,null,null,null,null,null,"",null,null,"",null,null,null,null,null,0,null,{"$f":"IF(C5404=\"\",\"\",VLOOKUP(C5404,Debiteuren!$A$2:$J$9998,10,0))&\"\"","v":""},{"$f":"IF(C5404=\"\",\"\",VLOOKUP(C5404,Debiteuren!$A$2:$O$9998,15,0)&\"\"&VLOOKUP(C5404,Debiteuren!$A$2:$N$9998,14,0))","v":""},null,"","",0,""]
[null,null,null,null,null,null,null,null,null,null,"",null,null,"",null,null,null,null,null,0,null,{"$f":"IF(C5416=\"\",\"\",VLOOKUP(C5416,Debiteuren!$A$2:$J$9998,10,0))&\"\"","v":""},{"$f":"IF(C5416=\"\",\"\",VLOOKUP(C5416,Debiteuren!$A$2:$O$9998,15,0)&\"\"&VLOOKUP(C5416,Debiteuren!$A$2:$N$9998,14,0))","v":""},null,"","",0,""]
[null,null,null,null,null,null,null,null,null,null,"",null,null,"",null,null,null,null,null,{"$f":"IF(B5423=1,E5423,0)","v":0},null,{"$f":"IF(C5423=\"\",\"\",VLOOKUP(C5423,Debiteuren!$A$2:$J$9998,10,0))&\"\"","v":""},{"$f":"IF(C5423=\"\",\"\",VLOOKUP(C5423,Debiteuren!$A$2:$O$9998,15,0)&\"\"&VLOOKUP(C5423,Debiteuren!$A$2:$N$9998,14,0))","v":""},null,"","",0,""]
[null,null,null,null,null,null,null,null,null,null,"",null,null,"",null,null,null,null,null,0,null,{"$f":"IF(C5432=\"\",\"\",VLOOKUP(C5432,Debiteuren!$A$2:$J$9998,10,0))&\"\"","v":""},{"$f":"IF(C5432=\"\",\"\",VLOOKUP(C5432,Debiteuren!$A$2:$O$9998,15,0)&\"\"&VLOOKUP(C5432,Debiteuren!$A$2:$N$9998,14,0))","v":""},null,"","",0,""]
[null,null,null,null,null,null,null,null,null,null,"",null,null,"",null,null,null,null,null,0,null,{"$f":"IF(C5446=\"\",\"\",VLOOKUP(C5446,Debiteuren!$A$2:$J$9998,10,0))&\"\"","v":""},{"$f":"IF(C5446=\"\",\"\",VLOOKUP(C5446,Debiteuren!$A$2:$O$9998,15,0)&\"\"&VLOOKUP(C5446,Debiteuren!$A$2:$N$9998,14,0))","v":""},null,"","",0,""]
[null,null,null,null,null,null,null,null,null,null,"",null,null,"",null,null,null,null,null,0,null,{"$f":"IF(C5453=\"\",\"\",VLOOKUP(C5453,Debiteuren!$A$2:$J$9998,10,0))&\"\"","v":""},{"$f":"IF(C5453=\"\",\"\",VLOOKUP(C5453,Debiteuren!$A$2:$O$9998,15,0)&\"\"&VLOOKUP(C5453,Debiteuren!$A$2:$N$9998,14,0))","v":""},null,"","",0,""]
[null,null,null,null,null,null,null,null,null,null,"",null,null,"",null,null,null,null,null,0,null,{"$f":"IF(C5465=\"\",\"\",VLOOKUP(C5465,Debiteuren!$A$2:$J$9998,10,0))&\"\"","v":""},{"$f":"IF(C5465=\"\",\"\",VLOOKUP(C5465,Debiteuren!$A$2:$O$9998,15,0)&\"\"&VLOOKUP(C5465,Debiteuren!$A$2:$N$9998,14,0))","v":""},null,"","",0,""]
[null,null,null,null,null,null,null,null,null,null,"",null,null,"",null,null,null,null,null,0,null,{"$f":"IF(C5472=\"\",\"\",VLOOKUP(C5472,Debiteuren!$A$2:$J$9998,10,0))&\"\"","v":""},{"$f":"IF(C5472=\"\",\"\",VLOOKUP(C5472,Debiteuren!$A$2:$O$9998,15,0)&\"\"&VLOOKUP(C5472,Debiteuren!$A$2:$N$9998,14,0))","v":""},null,"","",0,""]
[null,null,null,null,null,null,null,null,null,null,"",null,null,"",null,null,null,null,null,0,null,{"$f":"IF(C5481=\"\",\"\",VLOOKUP(C5481,Debiteuren!$A$2:$J$9998,10,0))&\"\"","v":""},{"$f":"IF(C5481=\"\",\"\",VLOOKUP(C5481,Debiteuren!$A$2:$O$9998,15,0)&\"\"&VLOOKUP(C5481,Debiteuren!$A$2:$N$9998,14,0))","v":""},null,"","",0,""]
[null,null,null,null,null,null,null,null,null,null,"",null,null,"",null,null,null,null,null,0,null,{"$f":"IF(C5486=\"\",\"\",VLOOKUP(C5486,Debiteuren!$A$2:$J$9998,10,0))&\"\"","v":""},{"$f":"IF(C5486=\"\",\"\",VLOOKUP(C5486,Debiteuren!$A$2:$O$9998,15,0)&\"\"&VLOOKUP(C5486,Debiteuren!$A$2:$N$9998,14,0))","v":""},null,{"$f":"IF(D5486=\"\",\"\",DATEDIF(D5486,TODAY(),\"d\"))","v":""},{"$f":"IF(G5486=\"\",\"\",DATEDIF(D5486,G5486,\"d\"))","v":""},{"$f":"DATEDIF(D5486,H5486,\"d\")","v":0},{"$f":"IF(Y5486=\"\",\"\",Y5486-AA5486)","v":""}]
[null,null,null,null,null,null,null,null,null,null,"",null,null,"",null,null,null,null,null,0,null,{"$f":"IF(C5493=\"\",\"\",VLOOKUP(C5493,Debiteuren!$A$2:$J$9998,10,0))&\"\"","v":""},{"$f":"IF(C5493=\"\",\"\",VLOOKUP(C5493,Debiteuren!$A$2:$O$9998,15,0)&\"\"&VLOOKUP(C5493,Debiteuren!$A$2:$N$9998,14,0))","v":""},null,"","",0,""]
[null,null,null,null,null,null,null,null,null,null,"",null,null,"",null,null,null,null,null,0,null,{"$f":"IF(C5505=\"\",\"\",VLOOKUP(C5505,Debiteuren!$A$2:$J$9998,10,0))&\"\"","v":""},{"$f":"IF(C5505=\"\",\"\",VLOOKUP(C5505,Debiteuren!$A$2:$O$9998,15,0)&\"\"&VLOOKUP(C5505,Debiteuren!$A$2:$N$9998,14,0))","v":""},null,"","",0,""]
[null,null,null,null,null,null,null,null,null,null,"",null,null,"",null,null,null,null,null,0,null,{"$f":"IF(C5517=\"\",\"\",VLOOKUP(C5517,Debiteuren!$A$2:$J$9998,10,0))&\"\"","v":""},{"$f":"IF(C5517=\"\",\"\",VLOOKUP(C5517,Debiteuren!$A$2:$O$9998,15,0)&\"\"&VLOOKUP(C5517,Debiteuren!$A$2:$N$9998,14,0))","v":""},null,"","",0,""]
[null,null,null,null,null,null,null,null,null,null,"",null,null,"",null,null,null,null,null,0,null,{"$f":"IF(C5522=\"\",\"\",VLOOKUP(C5522,Debiteuren!$A$2:$J$9998,10,0))&\"\"","v":""},{"$f":"IF(C5522=\"\",\"\",VLOOKUP(C5522,Debiteuren!$A$2:$O$9998,15,0)&\"\"&VLOOKUP(C5522,Debiteuren!$A$2:$N$9998,14,0))","v":""},null,"","",0,""]
[null,null,null,null,null,null,null,null,null,null,"",null,null,"",null,null,null,null,null,0,null,{"$f":"IF(C5535=\"\",\"\",VLOOKUP(C5535,Debiteuren!$A$2:$J$9998,10,0))&\"\"","v":""},{"$f":"IF(C5535=\"\",\"\",VLOOKUP(C5535,Debiteuren!$A$2:$O$9998,15,0)&\"\"&VLOOKUP(C5535,Debiteuren!$A$2:$N$9998,14,0))","v":""},null,"","",0,""]
[null,null,null,null,null,null,null,null,null,null,"",null,null,"",null,null,null,null,null,0,null,{"$f":"IF(C5542=\"\",\"\",VLOOKUP(C5542,Debiteuren!$A$2:$J$9998,10,0))&\"\"","v":""},{"$f":"IF(C5542=\"\",\"\",VLOOKUP(C5542,Debiteuren!$A$2:$O$9998,15,0)&\"\"&VLOOKUP(C5542,Debiteuren!$A$2:$N$9998,14,0))","v":""},null,"","",0,""]
[null,null,null,null,null,null,null,null,null,null,"",null,null,"",null,null,null,null,null,0,null,{"$f":"IF(C5545=\"\",\"\",VLOOKUP(C5545,Debiteuren!$A$2:$J$9998,10,0))&\"\"","v":""},{"$f":"IF(C5545=\"\",\"\",VLOOKUP(C5545,Debiteuren!$A$2:$O$9998,15,0)&\"\"&VLOOKUP(C5545,Debiteuren!$A$2:$N$9998,14,0))","v":""},null,"","",0,""]
[null,null,null,null,null,null,null,null,null,null,"",null,null,"",null,null,null,null,null,0,null,{"$f":"IF(C5557=\"\",\"\",VLOOKUP(C5557,Debiteuren!$A$2:$J$9998,10,0))&\"\"","v":""},{"$f":"IF(C5557=\"\",\"\",VLOOKUP(C5557,Debiteuren!$A$2:$O$9998,15,0)&\"\"&VLOOKUP(C5557,Debiteuren!$A$2:$N$9998,14,0))","v":""},null,"","",0,""]
[null,null,null,null,null,null,null,null,null,null,"",null,null,"",null,null,null,null,null,0,null,{"$f":"IF(C5563=\"\",\"\",VLOOKUP(C5563,Debiteuren!$A$2:$J$9998,10,0))&\"\"","v":""},{"$f":"IF(C5563=\"\",\"\",VLOOKUP(C5563,Debiteuren!$A$2:$O$9998,15,0)&\"\"&VLOOKUP(C5563,Debiteuren!$A$2:$N$9998,14,0))","v":""},null,"","",0,""]
[null,null,null,null,null,null,null,null,null,null,"",null,null,"",null,null,null,null,null,0,null,{"$f":"IF(C5575=\"\",\"\",VLOOKUP(C5575,Debiteuren!$A$2:$J$9998,10,0))&\"\"","v":""},{"$f":"IF(C5575=\"\",\"\",VLOOKUP(C5575,Debiteuren!$A$2:$O$9998,15,0)&\"\"&VLOOKUP(C5575,Debiteuren!$A$2:$N$9998,14,0))","v":""},null,"","",0,""]
[null,null,null,null,null,null,null,null,null,null,"",null,null,"",null,null,null,null,null,0,null,{"$f":"IF(C5582=\"\",\"\",VLOOKUP(C5582,Debiteuren!$A$2:$J$9998,10,0))&\"\"","v":""},{"$f":"IF(C5582=\"\",\"\",VLOOKUP(C5582,Debiteuren!$A$2:$O$9998,15,0)&\"\"&VLOOKUP(C5582,Debiteuren!$A$2:$N$9998,14,0))","v":""},null,"","",0,""]
[null,null,null,null,null,null,null,null,null,null,"",null,null,"",null,null,null,null,null,0,null,{"$f":"IF(C5594=\"\",\"\",VLOOKUP(C5594,Debiteuren!$A$2:$J$9998,10,0))&\"\"","v":""},{"$f":"IF(C5594=\"\",\"\",VLOOKUP(C5594,Debiteuren!$A$2:$O$9998,15,0)&\"\"&VLOOKUP(C5594,Debiteuren!$A$2:$N$9998,14,0))","v":""},null,"","",0,""]
[null,null,null,null,null,null,null,null,null,null,"",null,null,"",null,null,null,null,null,0,null,{"$f":"IF(C5602=\"\",\"\",VLOOKUP(C5602,Debiteuren!$A$2:$J$9998,10,0))&\"\"","v":""},{"$f":"IF(C5602=\"\",\"\",VLOOKUP(C5602,Debiteuren!$A$2:$O$9998,15,0)&\"\"&VLOOKUP(C5602,Debiteuren!$A$2:$N$9998,14,0))","v":""},null,"","",0,""]
[null,null,null,null,null,null,null,null,null,null,"",null,null,"",null,null,null,null,null,0,null,{"$f":"IF(C5612=\"\",\"\",VLOOKUP(C5612,Debiteuren!$A$2:$J$9998,10,0))&\"\"","v":""},{"$f":"IF(C5612=\"\",\"\",VLOOKUP(C5612,Debiteuren!$A$2:$O$9998,15,0)&\"\"&VLOOKUP(C5612,Debiteuren!$A$2:$N$9998,14,0))","v":""},null,"","",0,""]
[null,null,null,null,null,null,null,null,null,null,"",null,null,"",null,null,null,null,null,{"$f":"IF(B5615=1,E5615,0)","v":0},null,{"$f":"IF(C5615=\"\",\"\",VLOOKUP(C5615,Debiteuren!$A$2:$J$9998,10,0))&\"\"","v":""},{"$f":"IF(C5615=\"\",\"\",VLOOKUP(C5615,Debiteuren!$A$2:$O$9998,15,0)&\"\"&VLOOKUP(C5615,Debiteuren!$A$2:$N$9998,14,0))","v":""},null,"","",0,""]
[null,null,null,null,null,null,null,null,null,null,"",null,null,"",null,null,null,null,null,0,null,{"$f":"IF(C5627=\"\",\"\",VLOOKUP(C5627,Debiteuren!$A$2:$J$9998,10,0))&\"\"","v":""},{"$f":"IF(C5627=\"\",\"\",VLOOKUP(C5627,Debiteuren!$A$2:$O$9998,15,0)&\"\"&VLOOKUP(C5627,Debiteuren!$A$2:$N$9998,14,0))","v":""},null,"","",0,""]
[null,null,null,null,null,null,null,null,null,null,"",null,null,"",null,null,null,null,null,0,null,{"$f":"IF(C5634=\"\",\"\",VLOOKUP(C5634,Debiteuren!$A$2:$J$9998,10,0))&\"\"","v":""},{"$f":"IF(C5634=\"\",\"\",VLOOKUP(C5634,Debiteuren!$A$2:$O$9998,15,0)&\"\"&VLOOKUP(C5634,Debiteuren!$A$2:$N$9998,14,0))","v":""},null,"","",0,""]
[null,null,null,null,null,null,null,null,null,null,"",null,null,"",null,null,null,null,null,0,null,{"$f":"IF(C5643=\"\",\"\",VLOOKUP(C5643,Debiteuren!$A$2:$J$9998,10,0))&\"\"","v":""},{"$f":"IF(C5643=\"\",\"\",VLOOKUP(C5643,Debiteuren!$A$2:$O$9998,15,0)&\"\"&VLOOKUP(C5643,Debiteuren!$A$2:$N$9998,14,0))","v":""},null,"","",0,""]
[null,null,null,null,null,null,null,null,null,null,"",null,null,"",null,null,null,null,null,0,null,{"$f":"IF(C5652=\"\",\"\",VLOOKUP(C5652,Debiteuren!$A$2:$J$9998,10,0))&\"\"","v":""},{"$f":"IF(C5652=\"\",\"\",VLOOKUP(C5652,Debiteuren!$A$2:$O$9998,15,0)&\"\"&VLOOKUP(C5652,Debiteuren!$A$2:$N$9998,14,0))","v":""},null,"","",0,""]
[null,null,null,null,null,null,null,null,null,null,"",null,null,"",null,null,null,null,null,0,null,{"$f":"IF(C5664=\"\",\"\",VLOOKUP(C5664,Debiteuren!$A$2:$J$9998,10,0))&\"\"","v":""},{"$f":"IF(C5664=\"\",\"\",VLOOKUP(C5664,Debiteuren!$A$2:$O$9998,15,0)&\"\"&VLOOKUP(C5664,Debiteuren!$A$2:$N$9998,14,0))","v":""},null,"","",0,""]
[null,null,null,null,null,null,null,null,null,null,"",null,null,"",null,null,null,null,null,0,null,{"$f":"IF(C5676=\"\",\"\",VLOOKUP(C5676,Debiteuren!$A$2:$J$9998,10,0))&\"\"","v":""},{"$f":"IF(C5676=\"\",\"\",VLOOKUP(C5676,Debiteuren!$A$2:$O$9998,15,0)&\"\"&VLOOKUP(C5676,Debiteuren!$A$2:$N$9998,14,0))","v":""},null,"","",0,""]
[null,null,null,null,null,null,null,null,null,null,"",null,null,"",null,null,null,null,null,0,null,{"$f":"IF(C5683=\"\",\"\",VLOOKUP(C5683,Debiteuren!$A$2:$J$9998,10,0))&\"\"","v":""},{"$f":"IF(C5683=\"\",\"\",VLOOKUP(C5683,Debiteuren!$A$2:$O$9998,15,0)&\"\"&VLOOKUP(C5683,Debiteuren!$A$2:$N$9998,14,0))","v":""},null,"","",0,""]
[null,null,null,null,null,null,null,null,null,null,"",null,null,"",null,null,null,null,null,0,null,{"$f":"IF(C5692=\"\",\"\",VLOOKUP(C5692,Debiteuren!$A$2:$J$9998,10,0))&\"\"","v":""},{"$f":"IF(C5692=\"\",\"\",VLOOKUP(C5692,Debiteuren!$A$2:$O$9998,15,0)&\"\"&VLOOKUP(C5692,Debiteuren!$A$2:$N$9998,14,0))","v":""},null,"","",0,""]
[null,null,null,null,null,null,null,null,null,null,"",null,null,"",null,null,null,null,null,0,null,{"$f":"IF(C5697=\"\",\"\",VLOOKUP(C5697,Debiteuren!$A$2:$J$9998,10,0))&\"\"","v":""},{"$f":"IF(C5697=\"\",\"\",VLOOKUP(C5697,Debiteuren!$A$2:$O$9998,15,0)&\"\"&VLOOKUP(C5697,Debiteuren!$A$2:$N$9998,14,0))","v":""},null,"","",0,""]
[null,null,null,null,null,null,null,null,null,null,"",null,null,"",null,null,null,null,null,0,null,{"$f":"IF(C5704=\"\",\"\",VLOOKUP(C5704,Debiteuren!$A$2:$J$9998,10,0))&\"\"","v":""},{"$f":"IF(C5704=\"\",\"\",VLOOKUP(C5704,Debiteuren!$A$2:$O$9998,15,0)&\"\"&VLOOKUP(C5704,Debiteuren!$A$2:$N$9998,14,0))","v":""},null,"","",0,""]
[null,null,null,null,null,null,null,null,null,null,"",null,null,"",null,null,null,null,null,0,null,{"$f":"IF(C5716=\"\",\"\",VLOOKUP(C5716,Debiteuren!$A$2:$J$9998,10,0))&\"\"","v":""},{"$f":"IF(C5716=\"\",\"\",VLOOKUP(C5716,Debiteuren!$A$2:$O$9998,15,0)&\"\"&VLOOKUP(C5716,Debiteuren!$A$2:$N$9998,14,0))","v":""},null,"","",0,""]
[null,null,null,null,null,null,null,null,null,null,"",null,null,"",null,null,null,null,null,0,null,{"$f":"IF(C5723=\"\",\"\",VLOOKUP(C5723,Debiteuren!$A$2:$J$9998,10,0))&\"\"","v":""},{"$f":"IF(C5723=\"\",\"\",VLOOKUP(C5723,Debiteuren!$A$2:$O$9998,15,0)&\"\"&VLOOKUP(C5723,Debiteuren!$A$2:$N$9998,14,0))","v":""},null,"","",0,""]
[null,null,null,null,null,null,null,null,null,null,"",null,null,"",null,null,null,null,null,0,null,{"$f":"IF(C5733=\"\",\"\",VLOOKUP(C5733,Debiteuren!$A$2:$J$9998,10,0))&\"\"","v":""},{"$f":"IF(C5733=\"\",\"\",VLOOKUP(C5733,Debiteuren!$A$2:$O$9998,15,0)&\"\"&VLOOKUP(C5733,Debiteuren!$A$2:$N$9998,14,0))","v":""},null,"","",0,""]
[null,null,null,null,null,null,null,null,null,null,"",null,null,"",null,null,null,null,null,0,null,{"$f":"IF(C5746=\"\",\"\",VLOOKUP(C5746,Debiteuren!$A$2:$J$9998,10,0))&\"\"","v":""},{"$f":"IF(C5746=\"\",\"\",VLOOKUP(C5746,Debiteuren!$A$2:$O$9998,15,0)&\"\"&VLOOKUP(C5746,Debiteuren!$A$2:$N$9998,14,0))","v":""},null,"","",0,""]
[null,null,null,null,null,null,null,null,null,null,{"$f":"IF(D5753=\"\",\"\",\"\"&\"Kwartaal \"&MONTH(MONTH(D5753)&0)&TEXT(D5753,\" - mmm JJJJ\"))","v":""},null,null,{"$f":"IF(E5753=\"\",\"\",(E5753)-(F5753))","v":""},null,null,null,null,null,0,null,{"$f":"IF(C5753=\"\",\"\",VLOOKUP(C5753,Debiteuren!$A$2:$J$9998,10,0))&\"\"","v":""},{"$f":"IF(C5753=\"\",\"\",VLOOKUP(C5753,Debiteuren!$A$2:$O$9998,15,0)&\"\"&VLOOKUP(C5753,Debiteuren!$A$2:$N$9998,14,0))","v":""},null,"","",0,""]
[null,null,null,null,null,null,null,null,null,null,"",null,null,"",null,null,null,null,null,0,null,{"$f":"IF(C5756=\"\",\"\",VLOOKUP(C5756,Debiteuren!$A$2:$J$9998,10,0))&\"\"","v":""},{"$f":"IF(C5756=\"\",\"\",VLOOKUP(C5756,Debiteuren!$A$2:$O$9998,15,0)&\"\"&VLOOKUP(C5756,Debiteuren!$A$2:$N$9998,14,0))","v":""},null,"","",0,""]
[null,null,null,null,null,null,null,null,null,null,"",null,null,"",null,null,null,null,null,0,null,{"$f":"IF(C5772=\"\",\"\",VLOOKUP(C5772,Debiteuren!$A$2:$J$9998,10,0))&\"\"","v":""},{"$f":"IF(C5772=\"\",\"\",VLOOKUP(C5772,Debiteuren!$A$2:$O$9998,15,0)&\"\"&VLOOKUP(C5772,Debiteuren!$A$2:$N$9998,14,0))","v":""},null,"","",0,""]
[null,null,null,null,null,null,null,null,null,null,"",null,null,"",null,null,null,null,null,0,null,{"$f":"IF(C5774=\"\",\"\",VLOOKUP(C5774,Debiteuren!$A$2:$J$9998,10,0))&\"\"","v":""},{"$f":"IF(C5774=\"\",\"\",VLOOKUP(C5774,Debiteuren!$A$2:$O$9998,15,0)&\"\"&VLOOKUP(C5774,Debiteuren!$A$2:$N$9998,14,0))","v":""},null,"","",0,""]
[null,null,null,null,null,null,null,null,null,null,"",null,null,"",null,null,null,null,null,0,null,{"$f":"IF(C5786=\"\",\"\",VLOOKUP(C5786,Debiteuren!$A$2:$J$9998,10,0))&\"\"","v":""},{"$f":"IF(C5786=\"\",\"\",VLOOKUP(C5786,Debiteuren!$A$2:$O$9998,15,0)&\"\"&VLOOKUP(C5786,Debiteuren!$A$2:$N$9998,14,0))","v":""},null,"","",0,""]
[null,null,null,null,null,null,null,null,null,null,"",null,null,"",null,null,null,null,null,0,null,{"$f":"IF(C5793=\"\",\"\",VLOOKUP(C5793,Debiteuren!$A$2:$J$9998,10,0))&\"\"","v":""},{"$f":"IF(C5793=\"\",\"\",VLOOKUP(C5793,Debiteuren!$A$2:$O$9998,15,0)&\"\"&VLOOKUP(C5793,Debiteuren!$A$2:$N$9998,14,0))","v":""},null,"","",0,""]
[null,null,null,null,null,null,null,null,null,null,"",null,null,"",null,null,null,null,null,0,null,{"$f":"IF(C5805=\"\",\"\",VLOOKUP(C5805,Debiteuren!$A$2:$J$9998,10,0))&\"\"","v":""},{"$f":"IF(C5805=\"\",\"\",VLOOKUP(C5805,Debiteuren!$A$2:$O$9998,15,0)&\"\"&VLOOKUP(C5805,Debiteuren!$A$2:$N$9998,14,0))","v":""},null,"","",0,""]
[null,null,null,null,null,null,null,null,null,null,"",null,null,"",null,null,null,null,null,0,null,{"$f":"IF(C5813=\"\",\"\",VLOOKUP(C5813,Debiteuren!$A$2:$J$9998,10,0))&\"\"","v":""},{"$f":"IF(C5813=\"\",\"\",VLOOKUP(C5813,Debiteuren!$A$2:$O$9998,15,0)&\"\"&VLOOKUP(C5813,Debiteuren!$A$2:$N$9998,14,0))","v":""},null,"","",0,""]
[null,null,null,null,null,null,null,null,null,null,"",null,null,"",null,null,null,null,null,0,null,{"$f":"IF(C5823=\"\",\"\",VLOOKUP(C5823,Debiteuren!$A$2:$J$9998,10,0))&\"\"","v":""},{"$f":"IF(C5823=\"\",\"\",VLOOKUP(C5823,Debiteuren!$A$2:$O$9998,15,0)&\"\"&VLOOKUP(C5823,Debiteuren!$A$2:$N$9998,14,0))","v":""},null,"","",0,""]
[null,null,null,null,null,null,null,null,null,null,"",null,null,"",null,null,null,null,null,0,null,{"$f":"IF(C5826=\"\",\"\",VLOOKUP(C5826,Debiteuren!$A$2:$J$9998,10,0))&\"\"","v":""},{"$f":"IF(C5826=\"\",\"\",VLOOKUP(C5826,Debiteuren!$A$2:$O$9998,15,0)&\"\"&VLOOKUP(C5826,Debiteuren!$A$2:$N$9998,14,0))","v":""},null,"","",0,""]
[null,null,null,null,null,null,null,null,null,null,"",null,null,"",null,null,null,null,null,0,null,{"$f":"IF(C5842=\"\",\"\",VLOOKUP(C5842,Debiteuren!$A$2:$J$9998,10,0))&\"\"","v":""},{"$f":"IF(C5842=\"\",\"\",VLOOKUP(C5842,Debiteuren!$A$2:$O$9998,15,0)&\"\"&VLOOKUP(C5842,Debiteuren!$A$2:$N$9998,14,0))","v":""},null,"","",0,""]
[null,null,null,null,null,null,null,null,null,null,"",null,null,"",null,null,null,null,null,0,null,{"$f":"IF(C5845=\"\",\"\",VLOOKUP(C5845,Debiteuren!$A$2:$J$9998,10,0))&\"\"","v":""},{"$f":"IF(C5845=\"\",\"\",VLOOKUP(C5845,Debiteuren!$A$2:$O$9998,15,0)&\"\"&VLOOKUP(C5845,Debiteuren!$A$2:$N$9998,14,0))","v":""},null,"","",0,""]
[null,null,null,null,null,null,null,null,null,null,"",null,null,"",null,null,null,null,null,0,null,{"$f":"IF(C5854=\"\",\"\",VLOOKUP(C5854,Debiteuren!$A$2:$J$9998,10,0))&\"\"","v":""},{"$f":"IF(C5854=\"\",\"\",VLOOKUP(C5854,Debiteuren!$A$2:$O$9998,15,0)&\"\"&VLOOKUP(C5854,Debiteuren!$A$2:$N$9998,14,0))","v":""},null,"","",0,""]
[null,null,null,null,null,null,null,null,null,null,"",null,null,"",null,null,null,null,null,0,null,{"$f":"IF(C5863=\"\",\"\",VLOOKUP(C5863,Debiteuren!$A$2:$J$9998,10,0))&\"\"","v":""},{"$f":"IF(C5863=\"\",\"\",VLOOKUP(C5863,Debiteuren!$A$2:$O$9998,15,0)&\"\"&VLOOKUP(C5863,Debiteuren!$A$2:$N$9998,14,0))","v":""},null,"","",0,""]
[null,null,null,null,null,null,null,null,null,null,"",null,null,"",null,null,null,null,null,0,null,{"$f":"IF(C5875=\"\",\"\",VLOOKUP(C5875,Debiteuren!$A$2:$J$9998,10,0))&\"\"","v":""},{"$f":"IF(C5875=\"\",\"\",VLOOKUP(C5875,Debiteuren!$A$2:$O$9998,15,0)&\"\"&VLOOKUP(C5875,Debiteuren!$A$2:$N$9998,14,0))","v":""},null,"","",0,""]
[null,null,null,null,null,null,null,null,null,null,"",null,null,"",null,null,null,null,null,0,null,{"$f":"IF(C5887=\"\",\"\",VLOOKUP(C5887,Debiteuren!$A$2:$J$9998,10,0))&\"\"","v":""},{"$f":"IF(C5887=\"\",\"\",VLOOKUP(C5887,Debiteuren!$A$2:$O$9998,15,0)&\"\"&VLOOKUP(C5887,Debiteuren!$A$2:$N$9998,14,0))","v":""},null,"","",0,""]
[null,null,null,null,null,null,null,null,null,null,"",null,null,"",null,null,null,null,null,0,null,{"$f":"IF(C5894=\"\",\"\",VLOOKUP(C5894,Debiteuren!$A$2:$J$9998,10,0))&\"\"","v":""},{"$f":"IF(C5894=\"\",\"\",VLOOKUP(C5894,Debiteuren!$A$2:$O$9998,15,0)&\"\"&VLOOKUP(C5894,Debiteuren!$A$2:$N$9998,14,0))","v":""},null,"","",0,""]
[null,null,null,null,null,null,null,null,null,null,"",null,null,"",null,null,null,null,null,0,null,{"$f":"IF(C5903=\"\",\"\",VLOOKUP(C5903,Debiteuren!$A$2:$J$9998,10,0))&\"\"","v":""},{"$f":"IF(C5903=\"\",\"\",VLOOKUP(C5903,Debiteuren!$A$2:$O$9998,15,0)&\"\"&VLOOKUP(C5903,Debiteuren!$A$2:$N$9998,14,0))","v":""},null,"","",0,""]
[null,null,null,null,null,null,null,null,null,null,"",null,null,"",null,null,null,null,null,0,null,{"$f":"IF(C5912=\"\",\"\",VLOOKUP(C5912,Debiteuren!$A$2:$J$9998,10,0))&\"\"","v":""},{"$f":"IF(C5912=\"\",\"\",VLOOKUP(C5912,Debiteuren!$A$2:$O$9998,15,0)&\"\"&VLOOKUP(C5912,Debiteuren!$A$2:$N$9998,14,0))","v":""},null,"","",0,""]
[null,null,null,null,null,null,null,null,null,null,"",null,null,"",null,null,null,null,null,0,null,{"$f":"IF(C5915=\"\",\"\",VLOOKUP(C5915,Debiteuren!$A$2:$J$9998,10,0))&\"\"","v":""},{"$f":"IF(C5915=\"\",\"\",VLOOKUP(C5915,Debiteuren!$A$2:$O$9998,15,0)&\"\"&VLOOKUP(C5915,Debiteuren!$A$2:$N$9998,14,0))","v":""},null,"","",0,""]
[null,null,null,null,null,null,null,null,null,null,"",null,null,"",null,null,null,null,null,0,null,{"$f":"IF(C5927=\"\",\"\",VLOOKUP(C5927,Debiteuren!$A$2:$J$9998,10,0))&\"\"","v":""},{"$f":"IF(C5927=\"\",\"\",VLOOKUP(C5927,Debiteuren!$A$2:$O$9998,15,0)&\"\"&VLOOKUP(C5927,Debiteuren!$A$2:$N$9998,14,0))","v":""},null,"","",0,""]
[null,null,null,null,null,null,null,null,null,null,"",null,null,"",null,null,null,null,null,0,null,{"$f":"IF(C5934=\"\",\"\",VLOOKUP(C5934,Debiteuren!$A$2:$J$9998,10,0))&\"\"","v":""},{"$f":"IF(C5934=\"\",\"\",VLOOKUP(C5934,Debiteuren!$A$2:$O$9998,15,0)&\"\"&VLOOKUP(C5934,Debiteuren!$A$2:$N$9998,14,0))","v":""},null,{"$f":"IF(D5934=\"\",\"\",DATEDIF(D5934,TODAY(),\"d\"))","v":""},{"$f":"IF(G5934=\"\",\"\",DATEDIF(D5934,G5934,\"d\"))","v":""},{"$f":"DATEDIF(D5934,H5934,\"d\")","v":0},{"$f":"IF(Y5934=\"\",\"\",Y5934-AA5934)","v":""}]
[null,null,null,null,null,null,null,null,null,null,{"$f":"IF(D5945=\"\",\"\",\"\"&\"Kwartaal \"&MONTH(MONTH(D5945)&0)&TEXT(D5945,\" - mmm JJJJ\"))","v":""},null,null,{"$f":"IF(E5945=\"\",\"\",(E5945)-(F5945))","v":""},null,null,null,null,null,0,null,{"$f":"IF(C5945=\"\",\"\",VLOOKUP(C5945,Debiteuren!$A$2:$J$9998,10,0))&\"\"","v":""},{"$f":"IF(C5945=\"\",\"\",VLOOKUP(C5945,Debiteuren!$A$2:$O$9998,15,0)&\"\"&VLOOKUP(C5945,Debiteuren!$A$2:$N$9998,14,0))","v":""},null,"","",0,""]
[null,null,null,null,null,null,null,null,null,null,"",null,null,"",null,null,null,null,null,0,null,{"$f":"IF(C5952=\"\",\"\",VLOOKUP(C5952,Debiteuren!$A$2:$J$9998,10,0))&\"\"","v":""},{"$f":"IF(C5952=\"\",\"\",VLOOKUP(C5952,Debiteuren!$A$2:$O$9998,15,0)&\"\"&VLOOKUP(C5952,Debiteuren!$A$2:$N$9998,14,0))","v":""},null,"","",0,""]
[null,null,null,null,null,null,null,null,null,null,"",null,null,"",null,null,null,null,null,0,null,{"$f":"IF(C5964=\"\",\"\",VLOOKUP(C5964,Debiteuren!$A$2:$J$9998,10,0))&\"\"","v":""},{"$f":"IF(C5964=\"\",\"\",VLOOKUP(C5964,Debiteuren!$A$2:$O$9998,15,0)&\"\"&VLOOKUP(C5964,Debiteuren!$A$2:$N$9998,14,0))","v":""},null,"","",0,""]
[null,null,null,null,null,null,null,null,null,null,"",null,null,"",null,null,null,null,null,0,null,{"$f":"IF(C5967=\"\",\"\",VLOOKUP(C5967,Debiteuren!$A$2:$J$9998,10,0))&\"\"","v":""},{"$f":"IF(C5967=\"\",\"\",VLOOKUP(C5967,Debiteuren!$A$2:$O$9998,15,0)&\"\"&VLOOKUP(C5967,Debiteuren!$A$2:$N$9998,14,0))","v":""},null,"","",0,""]
[null,null,null,null,null,null,null,null,null,null,"",null,null,"",null,null,null,null,null,0,null,{"$f":"IF(C5983=\"\",\"\",VLOOKUP(C5983,Debiteuren!$A$2:$J$9998,10,0))&\"\"","v":""},{"$f":"IF(C5983=\"\",\"\",VLOOKUP(C5983,Debiteuren!$A$2:$O$9998,15,0)&\"\"&VLOOKUP(C5983,Debiteuren!$A$2:$N$9998,14,0))","v":""},null,"","",0,""]
[null,null,null,null,null,null,null,null,null,null,"",null,null,"",null,null,null,null,null,0,null,{"$f":"IF(C5985=\"\",\"\",VLOOKUP(C5985,Debiteuren!$A$2:$J$9998,10,0))&\"\"","v":""},{"$f":"IF(C5985=\"\",\"\",VLOOKUP(C5985,Debiteuren!$A$2:$O$9998,15,0)&\"\"&VLOOKUP(C5985,Debiteuren!$A$2:$N$9998,14,0))","v":""},null,"","",0,""]
[null,null,null,null,null,null,null,null,null,null,"",null,null,"",null,null,null,null,null,0,null,{"$f":"IF(C5997=\"\",\"\",VLOOKUP(C5997,Debiteuren!$A$2:$J$9998,10,0))&\"\"","v":""},{"$f":"IF(C5997=\"\",\"\",VLOOKUP(C5997,Debiteuren!$A$2:$O$9998,15,0)&\"\"&VLOOKUP(C5997,Debiteuren!$A$2:$N$9998,14,0))","v":""},null,"","",0,""]
[null,null,null,null,null,null,null,null,null,null,"",null,null,"",null,null,null,null,null,0,null,{"$f":"IF(C6004=\"\",\"\",VLOOKUP(C6004,Debiteuren!$A$2:$J$9998,10,0))&\"\"","v":""},{"$f":"IF(C6004=\"\",\"\",VLOOKUP(C6004,Debiteuren!$A$2:$O$9998,15,0)&\"\"&VLOOKUP(C6004,Debiteuren!$A$2:$N$9998,14,0))","v":""},null,"","",0,""]
[null,null,null,null,null,null,null,null,null,null,"",null,null,"",null,null,null,null,null,0,null,{"$f":"IF(C6016=\"\",\"\",VLOOKUP(C6016,Debiteuren!$A$2:$J$9998,10,0))&\"\"","v":""},{"$f":"IF(C6016=\"\",\"\",VLOOKUP(C6016,Debiteuren!$A$2:$O$9998,15,0)&\"\"&VLOOKUP(C6016,Debiteuren!$A$2:$N$9998,14,0))","v":""},null,"","",0,""]
[null,null,null,null,null,null,null,null,null,null,"",null,null,"",null,null,null,null,null,0,null,{"$f":"IF(C6024=\"\",\"\",VLOOKUP(C6024,Debiteuren!$A$2:$J$9998,10,0))&\"\"","v":""},{"$f":"IF(C6024=\"\",\"\",VLOOKUP(C6024,Debiteuren!$A$2:$O$9998,15,0)&\"\"&VLOOKUP(C6024,Debiteuren!$A$2:$N$9998,14,0))","v":""},null,"","",0,""]
[null,null,null,null,null,null,null,null,null,null,"",null,null,"",null,null,null,null,null,0,null,{"$f":"IF(C6034=\"\",\"\",VLOOKUP(C6034,Debiteuren!$A$2:$J$9998,10,0))&\"\"","v":""},{"$f":"IF(C6034=\"\",\"\",VLOOKUP(C6034,Debiteuren!$A$2:$O$9998,15,0)&\"\"&VLOOKUP(C6034,Debiteuren!$A$2:$N$9998,14,0))","v":""},null,"","",0,""]
[null,null,null,null,null,null,null,null,null,null,"",null,null,"",null,null,null,null,null,0,null,{"$f":"IF(C6037=\"\",\"\",VLOOKUP(C6037,Debiteuren!$A$2:$J$9998,10,0))&\"\"","v":""},{"$f":"IF(C6037=\"\",\"\",VLOOKUP(C6037,Debiteuren!$A$2:$O$9998,15,0)&\"\"&VLOOKUP(C6037,Debiteuren!$A$2:$N$9998,14,0))","v":""},null,"","",0,""]
[null,null,null,null,null,null,null,null,null,null,"",null,null,"",null,null,null,null,null,0,null,{"$f":"IF(C6053=\"\",\"\",VLOOKUP(C6053,Debiteuren!$A$2:$J$9998,10,0))&\"\"","v":""},{"$f":"IF(C6053=\"\",\"\",VLOOKUP(C6053,Debiteuren!$A$2:$O$9998,15,0)&\"\"&VLOOKUP(C6053,Debiteuren!$A$2:$N$9998,14,0))","v":""},null,"","",0,""]
[null,null,null,null,null,null,null,null,null,null,"",null,null,"",null,null,null,null,null,0,null,{"$f":"IF(C6056=\"\",\"\",VLOOKUP(C6056,Debiteuren!$A$2:$J$9998,10,0))&\"\"","v":""},{"$f":"IF(C6056=\"\",\"\",VLOOKUP(C6056,Debiteuren!$A$2:$O$9998,15,0)&\"\"&VLOOKUP(C6056,Debiteuren!$A$2:$N$9998,14,0))","v":""},null,"","",0,""]
[null,null,null,null,null,null,null,null,null,null,"",null,null,"",null,null,null,null,null,0,null,{"$f":"IF(C6065=\"\",\"\",VLOOKUP(C6065,Debiteuren!$A$2:$J$9998,10,0))&\"\"","v":""},{"$f":"IF(C6065=\"\",\"\",VLOOKUP(C6065,Debiteuren!$A$2:$O$9998,15,0)&\"\"&VLOOKUP(C6065,Debiteuren!$A$2:$N$9998,14,0))","v":""},null,"","",0,""]
[null,null,null,null,null,null,null,null,null,null,"",null,null,"",null,null,null,null,null,0,null,{"$f":"IF(C6074=\"\",\"\",VLOOKUP(C6074,Debiteuren!$A$2:$J$9998,10,0))&\"\"","v":""},{"$f":"IF(C6074=\"\",\"\",VLOOKUP(C6074,Debiteuren!$A$2:$O$9998,15,0)&\"\"&VLOOKUP(C6074,Debiteuren!$A$2:$N$9998,14,0))","v":""},null,"","",0,""]
[null,null,null,null,null,null,null,null,null,null,"",null,null,"",null,null,null,null,null,0,null,{"$f":"IF(C6086=\"\",\"\",VLOOKUP(C6086,Debiteuren!$A$2:$J$9998,10,0))&\"\"","v":""},{"$f":"IF(C6086=\"\",\"\",VLOOKUP(C6086,Debiteuren!$A$2:$O$9998,15,0)&\"\"&VLOOKUP(C6086,Debiteuren!$A$2:$N$9998,14,0))","v":""},null,"","",0,""]
[null,null,null,null,null,null,null,null,null,null,"",null,null,"",null,null,null,null,null,0,null,{"$f":"IF(C6093=\"\",\"\",VLOOKUP(C6093,Debiteuren!$A$2:$J$9998,10,0))&\"\"","v":""},{"$f":"IF(C6093=\"\",\"\",VLOOKUP(C6093,Debiteuren!$A$2:$O$9998,15,0)&\"\"&VLOOKUP(C6093,Debiteuren!$A$2:$N$9998,14,0))","v":""},null,"","",0,""]
[null,null,null,null,null,null,null,null,null,null,"",null,null,"",null,null,null,null,null,0,null,{"$f":"IF(C6104=\"\",\"\",VLOOKUP(C6104,Debiteuren!$A$2:$J$9998,10,0))&\"\"","v":""},{"$f":"IF(C6104=\"\",\"\",VLOOKUP(C6104,Debiteuren!$A$2:$O$9998,15,0)&\"\"&VLOOKUP(C6104,Debiteuren!$A$2:$N$9998,14,0))","v":""},null,"","",0,""]
[null,null,null,null,null,null,null,null,null,null,"",null,null,"",null,null,null,null,null,0,null,{"$f":"IF(C6107=\"\",\"\",VLOOKUP(C6107,Debiteuren!$A$2:$J$9998,10,0))&\"\"","v":""},{"$f":"IF(C6107=\"\",\"\",VLOOKUP(C6107,Debiteuren!$A$2:$O$9998,15,0)&\"\"&VLOOKUP(C6107,Debiteuren!$A$2:$N$9998,14,0))","v":""},null,"","",0,""]
[null,null,null,null,null,null,null,null,null,null,"",null,null,"",null,null,null,null,null,0,null,{"$f":"IF(C6123=\"\",\"\",VLOOKUP(C6123,Debiteuren!$A$2:$J$9998,10,0))&\"\"","v":""},{"$f":"IF(C6123=\"\",\"\",VLOOKUP(C6123,Debiteuren!$A$2:$O$9998,15,0)&\"\"&VLOOKUP(C6123,Debiteuren!$A$2:$N$9998,14,0))","v":""},null,"","",0,""]
[null,null,null,null,null,null,null,null,null,null,"",null,null,"",null,null,null,null,null,0,null,{"$f":"IF(C6126=\"\",\"\",VLOOKUP(C6126,Debiteuren!$A$2:$J$9998,10,0))&\"\"","v":""},{"$f":"IF(C6126=\"\",\"\",VLOOKUP(C6126,Debiteuren!$A$2:$O$9998,15,0)&\"\"&VLOOKUP(C6126,Debiteuren!$A$2:$N$9998,14,0))","v":""},null,{"$f":"IF(D6126=\"\",\"\",DATEDIF(D6126,TODAY(),\"d\"))","v":""},{"$f":"IF(G6126=\"\",\"\",DATEDIF(D6126,G6126,\"d\"))","v":""},{"$f":"DATEDIF(D6126,H6126,\"d\")","v":0},{"$f":"IF(Y6126=\"\",\"\",Y6126-AA6126)","v":""}]
[null,null,null,null,null,null,null,null,null,null,"",null,null,"",null,null,null,null,null,0,null,{"$f":"IF(C6142=\"\",\"\",VLOOKUP(C6142,Debiteuren!$A$2:$J$9998,10,0))&\"\"","v":""},{"$f":"IF(C6142=\"\",\"\",VLOOKUP(C6142,Debiteuren!$A$2:$O$9998,15,0)&\"\"&VLOOKUP(C6142,Debiteuren!$A$2:$N$9998,14,0))","v":""},null,"","",0,""]
[null,null,null,null,null,null,null,null,null,null,"",null,null,"",null,null,null,null,null,0,null,{"$f":"IF(C6145=\"\",\"\",VLOOKUP(C6145,Debiteuren!$A$2:$J$9998,10,0))&\"\"","v":""},{"$f":"IF(C6145=\"\",\"\",VLOOKUP(C6145,Debiteuren!$A$2:$O$9998,15,0)&\"\"&VLOOKUP(C6145,Debiteuren!$A$2:$N$9998,14,0))","v":""},null,"","",0,""]
[null,null,null,null,null,null,null,null,null,null,"",null,null,"",null,null,null,null,null,0,null,{"$f":"IF(C6156=\"\",\"\",VLOOKUP(C6156,Debiteuren!$A$2:$J$9998,10,0))&\"\"","v":""},{"$f":"IF(C6156=\"\",\"\",VLOOKUP(C6156,Debiteuren!$A$2:$O$9998,15,0)&\"\"&VLOOKUP(C6156,Debiteuren!$A$2:$N$9998,14,0))","v":""},null,"","",0,""]
[null,null,null,null,null,null,null,null,null,null,"",null,null,"",null,null,null,null,null,0,null,{"$f":"IF(C6163=\"\",\"\",VLOOKUP(C6163,Debiteuren!$A$2:$J$9998,10,0))&\"\"","v":""},{"$f":"IF(C6163=\"\",\"\",VLOOKUP(C6163,Debiteuren!$A$2:$O$9998,15,0)&\"\"&VLOOKUP(C6163,Debiteuren!$A$2:$N$9998,14,0))","v":""},null,"","",0,""]
[null,null,null,null,null,null,null,null,null,null,"",null,null,"",null,null,null,null,null,0,null,{"$f":"IF(C6175=\"\",\"\",VLOOKUP(C6175,Debiteuren!$A$2:$J$9998,10,0))&\"\"","v":""},{"$f":"IF(C6175=\"\",\"\",VLOOKUP(C6175,Debiteuren!$A$2:$O$9998,15,0)&\"\"&VLOOKUP(C6175,Debiteuren!$A$2:$N$9998,14,0))","v":""},null,"","",0,""]
[null,null,null,null,null,null,null,null,null,null,"",null,null,"",null,null,null,null,null,0,null,{"$f":"IF(C6178=\"\",\"\",VLOOKUP(C6178,Debiteuren!$A$2:$J$9998,10,0))&\"\"","v":""},{"$f":"IF(C6178=\"\",\"\",VLOOKUP(C6178,Debiteuren!$A$2:$O$9998,15,0)&\"\"&VLOOKUP(C6178,Debiteuren!$A$2:$N$9998,14,0))","v":""},null,"","",0,""]
[null,null,null,null,null,null,null,null,null,null,"",null,null,"",null,null,null,null,null,0,null,{"$f":"IF(C6194=\"\",\"\",VLOOKUP(C6194,Debiteuren!$A$2:$J$9998,10,0))&\"\"","v":""},{"$f":"IF(C6194=\"\",\"\",VLOOKUP(C6194,Debiteuren!$A$2:$O$9998,15,0)&\"\"&VLOOKUP(C6194,Debiteuren!$A$2:$N$9998,14,0))","v":""},null,"","",0,""]
[null,null,null,null,null,null,null,null,null,null,"",null,null,"",null,null,null,null,null,0,null,{"$f":"IF(C6196=\"\",\"\",VLOOKUP(C6196,Debiteuren!$A$2:$J$9998,10,0))&\"\"","v":""},{"$f":"IF(C6196=\"\",\"\",VLOOKUP(C6196,Debiteuren!$A$2:$O$9998,15,0)&\"\"&VLOOKUP(C6196,Debiteuren!$A$2:$N$9998,14,0))","v":""},null,"","",0,""]
[null,null,null,null,null,null,null,null,null,null,"",null,null,"",null,null,null,null,null,0,null,{"$f":"IF(C6212=\"\",\"\",VLOOKUP(C6212,Debiteuren!$A$2:$J$9998,10,0))&\"\"","v":""},{"$f":"IF(C6212=\"\",\"\",VLOOKUP(C6212,Debiteuren!$A$2:$O$9998,15,0)&\"\"&VLOOKUP(C6212,Debiteuren!$A$2:$N$9998,14,0))","v":""},null,"","",0,""]
[null,null,null,null,null,null,null,null,null,null,"",null,null,"",null,null,null,null,null,0,null,{"$f":"IF(C6215=\"\",\"\",VLOOKUP(C6215,Debiteuren!$A$2:$J$9998,10,0))&\"\"","v":""},{"$f":"IF(C6215=\"\",\"\",VLOOKUP(C6215,Debiteuren!$A$2:$O$9998,15,0)&\"\"&VLOOKUP(C6215,Debiteuren!$A$2:$N$9998,14,0))","v":""},null,"","",0,""]
[null,null,null,null,null,null,null,null,null,null,"",null,null,"",null,null,null,null,null,0,null,{"$f":"IF(C6227=\"\",\"\",VLOOKUP(C6227,Debiteuren!$A$2:$J$9998,10,0))&\"\"","v":""},{"$f":"IF(C6227=\"\",\"\",VLOOKUP(C6227,Debiteuren!$A$2:$O$9998,15,0)&\"\"&VLOOKUP(C6227,Debiteuren!$A$2:$N$9998,14,0))","v":""},null,"","",0,""]
[null,null,null,null,null,null,null,null,null,null,"",null,null,"",null,null,null,null,null,0,null,{"$f":"IF(C6235=\"\",\"\",VLOOKUP(C6235,Debiteuren!$A$2:$J$9998,10,0))&\"\"","v":""},{"$f":"IF(C6235=\"\",\"\",VLOOKUP(C6235,Debiteuren!$A$2:$O$9998,15,0)&\"\"&VLOOKUP(C6235,Debiteuren!$A$2:$N$9998,14,0))","v":""},null,"","",0,""]
[null,null,null,null,null,null,null,null,null,null,"",null,null,"",null,null,null,null,null,0,null,{"$f":"IF(C6245=\"\",\"\",VLOOKUP(C6245,Debiteuren!$A$2:$J$9998,10,0))&\"\"","v":""},{"$f":"IF(C6245=\"\",\"\",VLOOKUP(C6245,Debiteuren!$A$2:$O$9998,15,0)&\"\"&VLOOKUP(C6245,Debiteuren!$A$2:$N$9998,14,0))","v":""},null,"","",0,""]
[null,null,null,null,null,null,null,null,null,null,"",null,null,"",null,null,null,null,null,0,null,{"$f":"IF(C6252=\"\",\"\",VLOOKUP(C6252,Debiteuren!$A$2:$J$9998,10,0))&\"\"","v":""},{"$f":"IF(C6252=\"\",\"\",VLOOKUP(C6252,Debiteuren!$A$2:$O$9998,15,0)&\"\"&VLOOKUP(C6252,Debiteuren!$A$2:$N$9998,14,0))","v":""},null,"","",0,""]
[null,null,null,null,null,null,null,null,null,null,"",null,null,"",null,null,null,null,null,0,null,{"$f":"IF(C6264=\"\",\"\",VLOOKUP(C6264,Debiteuren!$A$2:$J$9998,10,0))&\"\"","v":""},{"$f":"IF(C6264=\"\",\"\",VLOOKUP(C6264,Debiteuren!$A$2:$O$9998,15,0)&\"\"&VLOOKUP(C6264,Debiteuren!$A$2:$N$9998,14,0))","v":""},null,"","",0,""]
[null,null,null,null,null,null,null,null,null,null,"",null,null,"",null,null,null,null,null,0,null,{"$f":"IF(C6267=\"\",\"\",VLOOKUP(C6267,Debiteuren!$A$2:$J$9998,10,0))&\"\"","v":""},{"$f":"IF(C6267=\"\",\"\",VLOOKUP(C6267,Debiteuren!$A$2:$O$9998,15,0)&\"\"&VLOOKUP(C6267,Debiteuren!$A$2:$N$9998,14,0))","v":""},null,"","",0,""]
[null,null,null,null,null,null,null,null,null,null,"",null,null,"",null,null,null,null,null,0,null,{"$f":"IF(C6276=\"\",\"\",VLOOKUP(C6276,Debiteuren!$A$2:$J$9998,10,0))&\"\"","v":""},{"$f":"IF(C6276=\"\",\"\",VLOOKUP(C6276,Debiteuren!$A$2:$O$9998,15,0)&\"\"&VLOOKUP(C6276,Debiteuren!$A$2:$N$9998,14,0))","v":""},null,"","",0,""]
[null,null,null,null,null,null,null,null,null,null,"",null,null,"",null,null,null,null,null,0,null,{"$f":"IF(C6285=\"\",\"\",VLOOKUP(C6285,Debiteuren!$A$2:$J$9998,10,0))&\"\"","v":""},{"$f":"IF(C6285=\"\",\"\",VLOOKUP(C6285,Debiteuren!$A$2:$O$9998,15,0)&\"\"&VLOOKUP(C6285,Debiteuren!$A$2:$N$9998,14,0))","v":""},null,"","",0,""]
[null,null,null,null,null,null,null,null,null,null,"",null,null,"",null,null,null,null,null,0,null,{"$f":"IF(C6297=\"\",\"\",VLOOKUP(C6297,Debiteuren!$A$2:$J$9998,10,0))&\"\"","v":""},{"$f":"IF(C6297=\"\",\"\",VLOOKUP(C6297,Debiteuren!$A$2:$O$9998,15,0)&\"\"&VLOOKUP(C6297,Debiteuren!$A$2:$N$9998,14,0))","v":""},null,"","",0,""]
[null,null,null,null,null,null,null,null,null,null,"",null,null,"",null,null,null,null,null,0,null,{"$f":"IF(C6304=\"\",\"\",VLOOKUP(C6304,Debiteuren!$A$2:$J$9998,10,0))&\"\"","v":""},{"$f":"IF(C6304=\"\",\"\",VLOOKUP(C6304,Debiteuren!$A$2:$O$9998,15,0)&\"\"&VLOOKUP(C6304,Debiteuren!$A$2:$N$9998,14,0))","v":""},null,"","",0,""]
[null,null,null,null,null,null,null,null,null,null,"",null,null,"",null,null,null,null,null,0,null,{"$f":"IF(C6315=\"\",\"\",VLOOKUP(C6315,Debiteuren!$A$2:$J$9998,10,0))&\"\"","v":""},{"$f":"IF(C6315=\"\",\"\",VLOOKUP(C6315,Debiteuren!$A$2:$O$9998,15,0)&\"\"&VLOOKUP(C6315,Debiteuren!$A$2:$N$9998,14,0))","v":""},null,"","",0,""]
[null,null,null,null,null,null,null,null,null,null,"",null,null,"",null,null,null,null,null,0,null,{"$f":"IF(C6322=\"\",\"\",VLOOKUP(C6322,Debiteuren!$A$2:$J$9998,10,0))&\"\"","v":""},{"$f":"IF(C6322=\"\",\"\",VLOOKUP(C6322,Debiteuren!$A$2:$O$9998,15,0)&\"\"&VLOOKUP(C6322,Debiteuren!$A$2:$N$9998,14,0))","v":""},null,"","",0,""]
[null,null,null,null,null,null,null,null,null,null,"",null,null,"",null,null,null,null,null,0,null,{"$f":"IF(C6334=\"\",\"\",VLOOKUP(C6334,Debiteuren!$A$2:$J$9998,10,0))&\"\"","v":""},{"$f":"IF(C6334=\"\",\"\",VLOOKUP(C6334,Debiteuren!$A$2:$O$9998,15,0)&\"\"&VLOOKUP(C6334,Debiteuren!$A$2:$N$9998,14,0))","v":""},null,"","",0,""]
[null,null,null,null,null,null,null,null,null,null,"",null,null,"",null,null,null,null,null,0,null,{"$f":"IF(C6337=\"\",\"\",VLOOKUP(C6337,Debiteuren!$A$2:$J$9998,10,0))&\"\"","v":""},{"$f":"IF(C6337=\"\",\"\",VLOOKUP(C6337,Debiteuren!$A$2:$O$9998,15,0)&\"\"&VLOOKUP(C6337,Debiteuren!$A$2:$N$9998,14,0))","v":""},null,"","",0,""]
[null,null,null,null,null,null,null,null,null,null,"",null,null,"",null,null,null,null,null,0,null,{"$f":"IF(C6353=\"\",\"\",VLOOKUP(C6353,Debiteuren!$A$2:$J$9998,10,0))&\"\"","v":""},{"$f":"IF(C6353=\"\",\"\",VLOOKUP(C6353,Debiteuren!$A$2:$O$9998,15,0)&\"\"&VLOOKUP(C6353,Debiteuren!$A$2:$N$9998,14,0))","v":""},null,"","",0,""]
[null,null,null,null,null,null,null,null,null,null,"",null,null,"",null,null,null,null,null,0,null,{"$f":"IF(C6356=\"\",\"\",VLOOKUP(C6356,Debiteuren!$A$2:$J$9998,10,0))&\"\"","v":""},{"$f":"IF(C6356=\"\",\"\",VLOOKUP(C6356,Debiteuren!$A$2:$O$9998,15,0)&\"\"&VLOOKUP(C6356,Debiteuren!$A$2:$N$9998,14,0))","v":""},null,"","",0,""]
[null,null,null,null,null,null,null,null,null,null,"",null,null,"",null,null,null,null,null,0,null,{"$f":"IF(C6367=\"\",\"\",VLOOKUP(C6367,Debiteuren!$A$2:$J$9998,10,0))&\"\"","v":""},{"$f":"IF(C6367=\"\",\"\",VLOOKUP(C6367,Debiteuren!$A$2:$O$9998,15,0)&\"\"&VLOOKUP(C6367,Debiteuren!$A$2:$N$9998,14,0))","v":""},null,"","",0,""]
[null,null,null,null,null,null,null,null,null,null,"",null,null,"",null,null,null,null,null,0,null,{"$f":"IF(C6374=\"\",\"\",VLOOKUP(C6374,Debiteuren!$A$2:$J$9998,10,0))&\"\"","v":""},{"$f":"IF(C6374=\"\",\"\",VLOOKUP(C6374,Debiteuren!$A$2:$O$9998,15,0)&\"\"&VLOOKUP(C6374,Debiteuren!$A$2:$N$9998,14,0))","v":""},null,"","",0,""]
[null,null,null,null,null,null,null,null,null,null,"",null,null,"",null,null,null,null,null,0,null,{"$f":"IF(C6386=\"\",\"\",VLOOKUP(C6386,Debiteuren!$A$2:$J$9998,10,0))&\"\"","v":""},{"$f":"IF(C6386=\"\",\"\",VLOOKUP(C6386,Debiteuren!$A$2:$O$9998,15,0)&\"\"&VLOOKUP(C6386,Debiteuren!$A$2:$N$9998,14,0))","v":""},null,"","",0,""]
[null,null,null,null,null,null,null,null,null,null,{"$f":"IF(D6393=\"\",\"\",\"\"&\"Kwartaal \"&MONTH(MONTH(D6393)&0)&TEXT(D6393,\" - mmm JJJJ\"))","v":""},null,null,{"$f":"IF(E6393=\"\",\"\",(E6393)-(F6393))","v":""},null,null,null,null,null,0,null,{"$f":"IF(C6393=\"\",\"\",VLOOKUP(C6393,Debiteuren!$A$2:$J$9998,10,0))&\"\"","v":""},{"$f":"IF(C6393=\"\",\"\",VLOOKUP(C6393,Debiteuren!$A$2:$O$9998,15,0)&\"\"&VLOOKUP(C6393,Debiteuren!$A$2:$N$9998,14,0))","v":""},null,"","",0,""]
[null,null,null,null,null,null,null,null,null,null,"",null,null,"",null,null,null,null,null,0,null,{"$f":"IF(C6405=\"\",\"\",VLOOKUP(C6405,Debiteuren!$A$2:$J$9998,10,0))&\"\"","v":""},{"$f":"IF(C6405=\"\",\"\",VLOOKUP(C6405,Debiteuren!$A$2:$O$9998,15,0)&\"\"&VLOOKUP(C6405,Debiteuren!$A$2:$N$9998,14,0))","v":""},null,"","",0,""]
[null,null,null,null,null,null,null,null,null,null,"",null,null,"",null,null,null,null,null,0,null,{"$f":"IF(C6407=\"\",\"\",VLOOKUP(C6407,Debiteuren!$A$2:$J$9998,10,0))&\"\"","v":""},{"$f":"IF(C6407=\"\",\"\",VLOOKUP(C6407,Debiteuren!$A$2:$O$9998,15,0)&\"\"&VLOOKUP(C6407,Debiteuren!$A$2:$N$9998,14,0))","v":""},null,"","",0,""]
[null,null,null,null,null,null,null,null,null,null,"",null,null,"",null,null,null,null,null,0,null,{"$f":"IF(C6423=\"\",\"\",VLOOKUP(C6423,Debiteuren!$A$2:$J$9998,10,0))&\"\"","v":""},{"$f":"IF(C6423=\"\",\"\",VLOOKUP(C6423,Debiteuren!$A$2:$O$9998,15,0)&\"\"&VLOOKUP(C6423,Debiteuren!$A$2:$N$9998,14,0))","v":""},null,"","",0,""]
[null,null,null,null,null,null,null,null,null,null,"",null,null,"",null,null,null,null,null,0,null,{"$f":"IF(C6426=\"\",\"\",VLOOKUP(C6426,Debiteuren!$A$2:$J$9998,10,0))&\"\"","v":""},{"$f":"IF(C6426=\"\",\"\",VLOOKUP(C6426,Debiteuren!$A$2:$O$9998,15,0)&\"\"&VLOOKUP(C6426,Debiteuren!$A$2:$N$9998,14,0))","v":""},null,"","",0,""]
[null,null,null,null,null,null,null,null,null,null,"",null,null,"",null,null,null,null,null,0,null,{"$f":"IF(C6433=\"\",\"\",VLOOKUP(C6433,Debiteuren!$A$2:$J$9998,10,0))&\"\"","v":""},{"$f":"IF(C6433=\"\",\"\",VLOOKUP(C6433,Debiteuren!$A$2:$O$9998,15,0)&\"\"&VLOOKUP(C6433,Debiteuren!$A$2:$N$9998,14,0))","v":""},null,"","",0,""]
[null,null,null,null,null,null,null,null,null,null,"",null,null,"",null,null,null,null,null,0,null,{"$f":"IF(C6446=\"\",\"\",VLOOKUP(C6446,Debiteuren!$A$2:$J$9998,10,0))&\"\"","v":""},{"$f":"IF(C6446=\"\",\"\",VLOOKUP(C6446,Debiteuren!$A$2:$O$9998,15,0)&\"\"&VLOOKUP(C6446,Debiteuren!$A$2:$N$9998,14,0))","v":""},null,{"$f":"IF(D6446=\"\",\"\",DATEDIF(D6446,TODAY(),\"d\"))","v":""},{"$f":"IF(G6446=\"\",\"\",DATEDIF(D6446,G6446,\"d\"))","v":""},{"$f":"DATEDIF(D6446,H6446,\"d\")","v":0},{"$f":"IF(Y6446=\"\",\"\",Y6446-AA6446)","v":""}]
[null,null,null,null,null,null,null,null,null,null,"",null,null,"",null,null,null,null,null,0,null,{"$f":"IF(C6456=\"\",\"\",VLOOKUP(C6456,Debiteuren!$A$2:$J$9998,10,0))&\"\"","v":""},{"$f":"IF(C6456=\"\",\"\",VLOOKUP(C6456,Debiteuren!$A$2:$O$9998,15,0)&\"\"&VLOOKUP(C6456,Debiteuren!$A$2:$N$9998,14,0))","v":""},null,"","",0,""]
[null,null,null,null,null,null,null,null,null,null,"",null,null,"",null,null,null,null,null,0,null,{"$f":"IF(C6463=\"\",\"\",VLOOKUP(C6463,Debiteuren!$A$2:$J$9998,10,0))&\"\"","v":""},{"$f":"IF(C6463=\"\",\"\",VLOOKUP(C6463,Debiteuren!$A$2:$O$9998,15,0)&\"\"&VLOOKUP(C6463,Debiteuren!$A$2:$N$9998,14,0))","v":""},null,"","",0,""]
[null,null,null,null,null,null,null,null,null,null,"",null,null,"",null,null,null,null,null,0,null,{"$f":"IF(C6475=\"\",\"\",VLOOKUP(C6475,Debiteuren!$A$2:$J$9998,10,0))&\"\"","v":""},{"$f":"IF(C6475=\"\",\"\",VLOOKUP(C6475,Debiteuren!$A$2:$O$9998,15,0)&\"\"&VLOOKUP(C6475,Debiteuren!$A$2:$N$9998,14,0))","v":""},null,"","",0,""]
[null,null,null,null,null,null,null,null,null,null,"",null,null,"",null,null,null,null,null,0,null,{"$f":"IF(C6477=\"\",\"\",VLOOKUP(C6477,Debiteuren!$A$2:$J$9998,10,0))&\"\"","v":""},{"$f":"IF(C6477=\"\",\"\",VLOOKUP(C6477,Debiteuren!$A$2:$O$9998,15,0)&\"\"&VLOOKUP(C6477,Debiteuren!$A$2:$N$9998,14,0))","v":""},null,"","",0,""]
[null,null,null,null,null,null,null,null,null,null,"",null,null,"",null,null,null,null,null,0,null,{"$f":"IF(C6493=\"\",\"\",VLOOKUP(C6493,Debiteuren!$A$2:$J$9998,10,0))&\"\"","v":""},{"$f":"IF(C6493=\"\",\"\",VLOOKUP(C6493,Debiteuren!$A$2:$O$9998,15,0)&\"\"&VLOOKUP(C6493,Debiteuren!$A$2:$N$9998,14,0))","v":""},null,"","",0,""]
[null,null,null,null,null,null,null,null,null,null,"",null,null,"",null,null,null,null,null,0,null,{"$f":"IF(C6496=\"\",\"\",VLOOKUP(C6496,Debiteuren!$A$2:$J$9998,10,0))&\"\"","v":""},{"$f":"IF(C6496=\"\",\"\",VLOOKUP(C6496,Debiteuren!$A$2:$O$9998,15,0)&\"\"&VLOOKUP(C6496,Debiteuren!$A$2:$N$9998,14,0))","v":""},null,"","",0,""]
[null,null,null,null,null,null,null,null,null,null,"",null,null,"",null,null,null,null,null,0,null,{"$f":"IF(C6503=\"\",\"\",VLOOKUP(C6503,Debiteuren!$A$2:$J$9998,10,0))&\"\"","v":""},{"$f":"IF(C6503=\"\",\"\",VLOOKUP(C6503,Debiteuren!$A$2:$O$9998,15,0)&\"\"&VLOOKUP(C6503,Debiteuren!$A$2:$N$9998,14,0))","v":""},null,"","",0,""]
[null,null,null,null,null,null,null,null,null,null,"",null,null,"",null,null,null,null,null,0,null,{"$f":"IF(C6515=\"\",\"\",VLOOKUP(C6515,Debiteuren!$A$2:$J$9998,10,0))&\"\"","v":""},{"$f":"IF(C6515=\"\",\"\",VLOOKUP(C6515,Debiteuren!$A$2:$O$9998,15,0)&\"\"&VLOOKUP(C6515,Debiteuren!$A$2:$N$9998,14,0))","v":""},null,"","",0,""]
[null,null,null,null,null,null,null,null,null,null,"",null,null,"",null,null,null,null,null,0,null,{"$f":"IF(C6526=\"\",\"\",VLOOKUP(C6526,Debiteuren!$A$2:$J$9998,10,0))&\"\"","v":""},{"$f":"IF(C6526=\"\",\"\",VLOOKUP(C6526,Debiteuren!$A$2:$O$9998,15,0)&\"\"&VLOOKUP(C6526,Debiteuren!$A$2:$N$9998,14,0))","v":""},null,"","",0,""]
[null,null,null,null,null,null,null,null,null,null,"",null,null,"",null,null,null,null,null,0,null,{"$f":"IF(C6533=\"\",\"\",VLOOKUP(C6533,Debiteuren!$A$2:$J$9998,10,0))&\"\"","v":""},{"$f":"IF(C6533=\"\",\"\",VLOOKUP(C6533,Debiteuren!$A$2:$O$9998,15,0)&\"\"&VLOOKUP(C6533,Debiteuren!$A$2:$N$9998,14,0))","v":""},null,"","",0,""]
[null,null,null,null,null,null,null,null,null,null,"",null,null,"",null,null,null,null,null,0,null,{"$f":"IF(C6545=\"\",\"\",VLOOKUP(C6545,Debiteuren!$A$2:$J$9998,10,0))&\"\"","v":""},{"$f":"IF(C6545=\"\",\"\",VLOOKUP(C6545,Debiteuren!$A$2:$O$9998,15,0)&\"\"&VLOOKUP(C6545,Debiteuren!$A$2:$N$9998,14,0))","v":""},null,"","",0,""]
[null,null,null,null,null,null,null,null,null,null,"",null,null,"",null,null,null,null,null,0,null,{"$f":"IF(C6552=\"\",\"\",VLOOKUP(C6552,Debiteuren!$A$2:$J$9998,10,0))&\"\"","v":""},{"$f":"IF(C6552=\"\",\"\",VLOOKUP(C6552,Debiteuren!$A$2:$O$9998,15,0)&\"\"&VLOOKUP(C6552,Debiteuren!$A$2:$N$9998,14,0))","v":""},null,"","",0,""]
[null,null,null,null,null,null,null,null,null,null,"",null,null,"",null,null,null,null,null,0,null,{"$f":"IF(C6564=\"\",\"\",VLOOKUP(C6564,Debiteuren!$A$2:$J$9998,10,0))&\"\"","v":""},{"$f":"IF(C6564=\"\",\"\",VLOOKUP(C6564,Debiteuren!$A$2:$O$9998,15,0)&\"\"&VLOOKUP(C6564,Debiteuren!$A$2:$N$9998,14,0))","v":""},null,"","",0,""]
[null,null,null,null,null,null,null,null,null,null,"",null,null,"",null,null,null,null,null,0,null,{"$f":"IF(C6567=\"\",\"\",VLOOKUP(C6567,Debiteuren!$A$2:$J$9998,10,0))&\"\"","v":""},{"$f":"IF(C6567=\"\",\"\",VLOOKUP(C6567,Debiteuren!$A$2:$O$9998,15,0)&\"\"&VLOOKUP(C6567,Debiteuren!$A$2:$N$9998,14,0))","v":""},null,"","",0,""]
[null,null,null,null,null,null,null,null,null,null,"",null,null,"",null,null,null,null,null,0,null,{"$f":"IF(C6573=\"\",\"\",VLOOKUP(C6573,Debiteuren!$A$2:$J$9998,10,0))&\"\"","v":""},{"$f":"IF(C6573=\"\",\"\",VLOOKUP(C6573,Debiteuren!$A$2:$O$9998,15,0)&\"\"&VLOOKUP(C6573,Debiteuren!$A$2:$N$9998,14,0))","v":""},null,"","",0,""]
[null,null,null,null,null,null,null,null,null,null,{"$f":"IF(D6585=\"\",\"\",\"\"&\"Kwartaal \"&MONTH(MONTH(D6585)&0)&TEXT(D6585,\" - mmm JJJJ\"))","v":""},null,null,{"$f":"IF(E6585=\"\",\"\",(E6585)-(F6585))","v":""},null,null,null,null,null,0,null,{"$f":"IF(C6585=\"\",\"\",VLOOKUP(C6585,Debiteuren!$A$2:$J$9998,10,0))&\"\"","v":""},{"$f":"IF(C6585=\"\",\"\",VLOOKUP(C6585,Debiteuren!$A$2:$O$9998,15,0)&\"\"&VLOOKUP(C6585,Debiteuren!$A$2:$N$9998,14,0))","v":""},null,"","",0,""]
[null,null,null,null,null,null,null,null,null,null,"",null,null,"",null,null,null,null,null,0,null,{"$f":"IF(C6597=\"\",\"\",VLOOKUP(C6597,Debiteuren!$A$2:$J$9998,10,0))&\"\"","v":""},{"$f":"IF(C6597=\"\",\"\",VLOOKUP(C6597,Debiteuren!$A$2:$O$9998,15,0)&\"\"&VLOOKUP(C6597,Debiteuren!$A$2:$N$9998,14,0))","v":""},null,"","",0,""]
[null,null,null,null,null,null,null,null,null,null,"",null,null,"",null,null,null,null,null,0,null,{"$f":"IF(C6604=\"\",\"\",VLOOKUP(C6604,Debiteuren!$A$2:$J$9998,10,0))&\"\"","v":""},{"$f":"IF(C6604=\"\",\"\",VLOOKUP(C6604,Debiteuren!$A$2:$O$9998,15,0)&\"\"&VLOOKUP(C6604,Debiteuren!$A$2:$N$9998,14,0))","v":""},null,"","",0,""]
[null,null,null,null,null,null,null,null,null,null,"",null,null,"",null,null,null,null,null,0,null,{"$f":"IF(C6616=\"\",\"\",VLOOKUP(C6616,Debiteuren!$A$2:$J$9998,10,0))&\"\"","v":""},{"$f":"IF(C6616=\"\",\"\",VLOOKUP(C6616,Debiteuren!$A$2:$O$9998,15,0)&\"\"&VLOOKUP(C6616,Debiteuren!$A$2:$N$9998,14,0))","v":""},null,"","",0,""]
[null,null,null,null,null,null,null,null,null,null,"",null,null,"",null,null,null,null,null,0,null,{"$f":"IF(C6622=\"\",\"\",VLOOKUP(C6622,Debiteuren!$A$2:$J$9998,10,0))&\"\"","v":""},{"$f":"IF(C6622=\"\",\"\",VLOOKUP(C6622,Debiteuren!$A$2:$O$9998,15,0)&\"\"&VLOOKUP(C6622,Debiteuren!$A$2:$N$9998,14,0))","v":""},null,"","",0,""]
[null,null,null,null,null,null,null,null,null,null,"",null,null,"",null,null,null,null,null,0,null,{"$f":"IF(C6634=\"\",\"\",VLOOKUP(C6634,Debiteuren!$A$2:$J$9998,10,0))&\"\"","v":""},{"$f":"IF(C6634=\"\",\"\",VLOOKUP(C6634,Debiteuren!$A$2:$O$9998,15,0)&\"\"&VLOOKUP(C6634,Debiteuren!$A$2:$N$9998,14,0))","v":""},null,"","",0,""]
[null,null,null,null,null,null,null,null,null,null,"",null,null,"",null,null,null,null,null,0,null,{"$f":"IF(C6637=\"\",\"\",VLOOKUP(C6637,Debiteuren!$A$2:$J$9998,10,0))&\"\"","v":""},{"$f":"IF(C6637=\"\",\"\",VLOOKUP(C6637,Debiteuren!$A$2:$O$9998,15,0)&\"\"&VLOOKUP(C6637,Debiteuren!$A$2:$N$9998,14,0))","v":""},null,"","",0,""]
[null,null,null,null,null,null,null,null,null,null,"",null,null,"",null,null,null,null,null,0,null,{"$f":"IF(C6647=\"\",\"\",VLOOKUP(C6647,Debiteuren!$A$2:$J$9998,10,0))&\"\"","v":""},{"$f":"IF(C6647=\"\",\"\",VLOOKUP(C6647,Debiteuren!$A$2:$O$9998,15,0)&\"\"&VLOOKUP(C6647,Debiteuren!$A$2:$N$9998,14,0))","v":""},null,"","",0,""]
[null,null,null,null,null,null,null,null,null,null,"",null,null,"",null,null,null,null,null,0,null,{"$f":"IF(C6655=\"\",\"\",VLOOKUP(C6655,Debiteuren!$A$2:$J$9998,10,0))&\"\"","v":""},{"$f":"IF(C6655=\"\",\"\",VLOOKUP(C6655,Debiteuren!$A$2:$O$9998,15,0)&\"\"&VLOOKUP(C6655,Debiteuren!$A$2:$N$9998,14,0))","v":""},null,"","",0,""]
[null,null,null,null,null,null,null,null,null,null,"",null,null,"",null,null,null,null,null,0,null,{"$f":"IF(C6667=\"\",\"\",VLOOKUP(C6667,Debiteuren!$A$2:$J$9998,10,0))&\"\"","v":""},{"$f":"IF(C6667=\"\",\"\",VLOOKUP(C6667,Debiteuren!$A$2:$O$9998,15,0)&\"\"&VLOOKUP(C6667,Debiteuren!$A$2:$N$9998,14,0))","v":""},null,"","",0,""]
[null,null,null,null,null,null,null,null,null,null,"",null,null,"",null,null,null,null,null,0,null,{"$f":"IF(C6674=\"\",\"\",VLOOKUP(C6674,Debiteuren!$A$2:$J$9998,10,0))&\"\"","v":""},{"$f":"IF(C6674=\"\",\"\",VLOOKUP(C6674,Debiteuren!$A$2:$O$9998,15,0)&\"\"&VLOOKUP(C6674,Debiteuren!$A$2:$N$9998,14,0))","v":""},null,"","",0,""]
[null,null,null,null,null,null,null,null,null,null,"",null,null,"",null,null,null,null,null,0,null,{"$f":"IF(C6686=\"\",\"\",VLOOKUP(C6686,Debiteuren!$A$2:$J$9998,10,0))&\"\"","v":""},{"$f":"IF(C6686=\"\",\"\",VLOOKUP(C6686,Debiteuren!$A$2:$O$9998,15,0)&\"\"&VLOOKUP(C6686,Debiteuren!$A$2:$N$9998,14,0))","v":""},null,"","",0,""]
[null,null,null,null,null,null,null,null,null,null,"",null,null,"",null,null,null,null,null,0,null,{"$f":"IF(C6688=\"\",\"\",VLOOKUP(C6688,Debiteuren!$A$2:$J$9998,10,0))&\"\"","v":""},{"$f":"IF(C6688=\"\",\"\",VLOOKUP(C6688,Debiteuren!$A$2:$O$9998,15,0)&\"\"&VLOOKUP(C6688,Debiteuren!$A$2:$N$9998,14,0))","v":""},null,"","",0,""]
[null,null,null,null,null,null,null,null,null,null,"",null,null,"",null,null,null,null,null,0,null,{"$f":"IF(C6704=\"\",\"\",VLOOKUP(C6704,Debiteuren!$A$2:$J$9998,10,0))&\"\"","v":""},{"$f":"IF(C6704=\"\",\"\",VLOOKUP(C6704,Debiteuren!$A$2:$O$9998,15,0)&\"\"&VLOOKUP(C6704,Debiteuren!$A$2:$N$9998,14,0))","v":""},null,"","",0,""]
[null,null,null,null,null,null,null,null,null,null,"",null,null,"",null,null,null,null,null,0,null,{"$f":"IF(C6707=\"\",\"\",VLOOKUP(C6707,Debiteuren!$A$2:$J$9998,10,0))&\"\"","v":""},{"$f":"IF(C6707=\"\",\"\",VLOOKUP(C6707,Debiteuren!$A$2:$O$9998,15,0)&\"\"&VLOOKUP(C6707,Debiteuren!$A$2:$N$9998,14,0))","v":""},null,"","",0,""]
[null,null,null,null,null,null,null,null,null,null,"",null,null,"",null,null,null,null,null,0,null,{"$f":"IF(C6714=\"\",\"\",VLOOKUP(C6714,Debiteuren!$A$2:$J$9998,10,0))&\"\"","v":""},{"$f":"IF(C6714=\"\",\"\",VLOOKUP(C6714,Debiteuren!$A$2:$O$9998,15,0)&\"\"&VLOOKUP(C6714,Debiteuren!$A$2:$N$9998,14,0))","v":""},null,"","",0,""]
[null,null,null,null,null,null,null,null,null,null,"",null,null,"",null,null,null,null,null,0,null,{"$f":"IF(C6726=\"\",\"\",VLOOKUP(C6726,Debiteuren!$A$2:$J$9998,10,0))&\"\"","v":""},{"$f":"IF(C6726=\"\",\"\",VLOOKUP(C6726,Debiteuren!$A$2:$O$9998,15,0)&\"\"&VLOOKUP(C6726,Debiteuren!$A$2:$N$9998,14,0))","v":""},null,"","",0,""]
[null,null,null,null,null,null,null,null,null,null,"",null,null,"",null,null,null,null,null,0,null,{"$f":"IF(C6737=\"\",\"\",VLOOKUP(C6737,Debiteuren!$A$2:$J$9998,10,0))&\"\"","v":""},{"$f":"IF(C6737=\"\",\"\",VLOOKUP(C6737,Debiteuren!$A$2:$O$9998,15,0)&\"\"&VLOOKUP(C6737,Debiteuren!$A$2:$N$9998,14,0))","v":""},null,"","",0,""]
[null,null,null,null,null,null,null,null,null,null,"",null,null,"",null,null,null,null,null,0,null,{"$f":"IF(C6744=\"\",\"\",VLOOKUP(C6744,Debiteuren!$A$2:$J$9998,10,0))&\"\"","v":""},{"$f":"IF(C6744=\"\",\"\",VLOOKUP(C6744,Debiteuren!$A$2:$O$9998,15,0)&\"\"&VLOOKUP(C6744,Debiteuren!$A$2:$N$9998,14,0))","v":""},null,"","",0,""]
[null,null,null,null,null,null,null,null,null,null,"",null,null,"",null,null,null,null,null,0,null,{"$f":"IF(C6756=\"\",\"\",VLOOKUP(C6756,Debiteuren!$A$2:$J$9998,10,0))&\"\"","v":""},{"$f":"IF(C6756=\"\",\"\",VLOOKUP(C6756,Debiteuren!$A$2:$O$9998,15,0)&\"\"&VLOOKUP(C6756,Debiteuren!$A$2:$N$9998,14,0))","v":""},null,"","",0,""]
[null,null,null,null,null,null,null,null,null,null,"",null,null,"",null,null,null,null,null,0,null,{"$f":"IF(C6763=\"\",\"\",VLOOKUP(C6763,Debiteuren!$A$2:$J$9998,10,0))&\"\"","v":""},{"$f":"IF(C6763=\"\",\"\",VLOOKUP(C6763,Debiteuren!$A$2:$O$9998,15,0)&\"\"&VLOOKUP(C6763,Debiteuren!$A$2:$N$9998,14,0))","v":""},null,"","",0,""]
[null,null,null,null,null,null,null,null,null,null,"",null,null,"",null,null,null,null,null,0,null,{"$f":"IF(C6775=\"\",\"\",VLOOKUP(C6775,Debiteuren!$A$2:$J$9998,10,0))&\"\"","v":""},{"$f":"IF(C6775=\"\",\"\",VLOOKUP(C6775,Debiteuren!$A$2:$O$9998,15,0)&\"\"&VLOOKUP(C6775,Debiteuren!$A$2:$N$9998,14,0))","v":""},null,"","",0,""]
[null,null,null,null,null,null,null,null,null,null,"",null,null,"",null,null,null,null,null,0,null,{"$f":"IF(C6778=\"\",\"\",VLOOKUP(C6778,Debiteuren!$A$2:$J$9998,10,0))&\"\"","v":""},{"$f":"IF(C6778=\"\",\"\",VLOOKUP(C6778,Debiteuren!$A$2:$O$9998,15,0)&\"\"&VLOOKUP(C6778,Debiteuren!$A$2:$N$9998,14,0))","v":""},null,"","",0,""]
[null,null,null,null,null,null,null,null,null,null,"",null,null,"",null,null,null,null,null,0,null,{"$f":"IF(C6784=\"\",\"\",VLOOKUP(C6784,Debiteuren!$A$2:$J$9998,10,0))&\"\"","v":""},{"$f":"IF(C6784=\"\",\"\",VLOOKUP(C6784,Debiteuren!$A$2:$O$9998,15,0)&\"\"&VLOOKUP(C6784,Debiteuren!$A$2:$N$9998,14,0))","v":""},null,"","",0,""]
[null,null,null,null,null,null,null,null,null,null,"",null,null,"",null,null,null,null,null,0,null,{"$f":"IF(C6796=\"\",\"\",VLOOKUP(C6796,Debiteuren!$A$2:$J$9998,10,0))&\"\"","v":""},{"$f":"IF(C6796=\"\",\"\",VLOOKUP(C6796,Debiteuren!$A$2:$O$9998,15,0)&\"\"&VLOOKUP(C6796,Debiteuren!$A$2:$N$9998,14,0))","v":""},null,"","",0,""]
[null,null,null,null,null,null,null,null,null,null,"",null,null,"",null,null,null,null,null,0,null,{"$f":"IF(C6803=\"\",\"\",VLOOKUP(C6803,Debiteuren!$A$2:$J$9998,10,0))&\"\"","v":""},{"$f":"IF(C6803=\"\",\"\",VLOOKUP(C6803,Debiteuren!$A$2:$O$9998,15,0)&\"\"&VLOOKUP(C6803,Debiteuren!$A$2:$N$9998,14,0))","v":""},null,"","",0,""]
[null,null,null,null,null,null,null,null,null,null,"",null,null,"",null,null,null,null,null,0,null,{"$f":"IF(C6817=\"\",\"\",VLOOKUP(C6817,Debiteuren!$A$2:$J$9998,10,0))&\"\"","v":""},{"$f":"IF(C6817=\"\",\"\",VLOOKUP(C6817,Debiteuren!$A$2:$O$9998,15,0)&\"\"&VLOOKUP(C6817,Debiteuren!$A$2:$N$9998,14,0))","v":""},null,"","",0,""]
[null,null,null,null,null,null,null,null,null,null,"",null,null,"",null,null,null,null,null,0,null,{"$f":"IF(C6826=\"\",\"\",VLOOKUP(C6826,Debiteuren!$A$2:$J$9998,10,0))&\"\"","v":""},{"$f":"IF(C6826=\"\",\"\",VLOOKUP(C6826,Debiteuren!$A$2:$O$9998,15,0)&\"\"&VLOOKUP(C6826,Debiteuren!$A$2:$N$9998,14,0))","v":""},null,"","",0,""]
[null,null,null,null,null,null,null,null,null,null,"",null,null,"",null,null,null,null,null,0,null,{"$f":"IF(C6833=\"\",\"\",VLOOKUP(C6833,Debiteuren!$A$2:$J$9998,10,0))&\"\"","v":""},{"$f":"IF(C6833=\"\",\"\",VLOOKUP(C6833,Debiteuren!$A$2:$O$9998,15,0)&\"\"&VLOOKUP(C6833,Debiteuren!$A$2:$N$9998,14,0))","v":""},null,"","",0,""]
[null,null,null,null,null,null,null,null,null,null,"",null,null,"",null,null,null,null,null,0,null,{"$f":"IF(C6845=\"\",\"\",VLOOKUP(C6845,Debiteuren!$A$2:$J$9998,10,0))&\"\"","v":""},{"$f":"IF(C6845=\"\",\"\",VLOOKUP(C6845,Debiteuren!$A$2:$O$9998,15,0)&\"\"&VLOOKUP(C6845,Debiteuren!$A$2:$N$9998,14,0))","v":""},null,"","",0,""]
[null,null,null,null,null,null,null,null,null,null,"",null,null,"",null,null,null,null,null,0,null,{"$f":"IF(C6852=\"\",\"\",VLOOKUP(C6852,Debiteuren!$A$2:$J$9998,10,0))&\"\"","v":""},{"$f":"IF(C6852=\"\",\"\",VLOOKUP(C6852,Debiteuren!$A$2:$O$9998,15,0)&\"\"&VLOOKUP(C6852,Debiteuren!$A$2:$N$9998,14,0))","v":""},null,"","",0,""]
[null,null,null,null,null,null,null,null,null,null,"",null,null,"",null,null,null,null,null,0,null,{"$f":"IF(C6858=\"\",\"\",VLOOKUP(C6858,Debiteuren!$A$2:$J$9998,10,0))&\"\"","v":""},{"$f":"IF(C6858=\"\",\"\",VLOOKUP(C6858,Debiteuren!$A$2:$O$9998,15,0)&\"\"&VLOOKUP(C6858,Debiteuren!$A$2:$N$9998,14,0))","v":""},null,"","",0,""]
[null,null,null,null,null,null,null,null,null,null,"",null,null,"",null,null,null,null,null,0,null,{"$f":"IF(C6866=\"\",\"\",VLOOKUP(C6866,Debiteuren!$A$2:$J$9998,10,0))&\"\"","v":""},{"$f":"IF(C6866=\"\",\"\",VLOOKUP(C6866,Debiteuren!$A$2:$O$9998,15,0)&\"\"&VLOOKUP(C6866,Debiteuren!$A$2:$N$9998,14,0))","v":""},null,"","",0,""]
[null,null,null,null,null,null,null,null,null,null,"",null,null,"",null,null,null,null,null,0,null,{"$f":"IF(C6873=\"\",\"\",VLOOKUP(C6873,Debiteuren!$A$2:$J$9998,10,0))&\"\"","v":""},{"$f":"IF(C6873=\"\",\"\",VLOOKUP(C6873,Debiteuren!$A$2:$O$9998,15,0)&\"\"&VLOOKUP(C6873,Debiteuren!$A$2:$N$9998,14,0))","v":""},null,"","",0,""]
[null,null,null,null,null,null,null,null,null,null,"",null,null,"",null,null,null,null,null,0,null,{"$f":"IF(C6885=\"\",\"\",VLOOKUP(C6885,Debiteuren!$A$2:$J$9998,10,0))&\"\"","v":""},{"$f":"IF(C6885=\"\",\"\",VLOOKUP(C6885,Debiteuren!$A$2:$O$9998,15,0)&\"\"&VLOOKUP(C6885,Debiteuren!$A$2:$N$9998,14,0))","v":""},null,"","",0,""]
[null,null,null,null,null,null,null,null,null,null,"",null,null,"",null,null,null,null,null,0,null,{"$f":"IF(C6897=\"\",\"\",VLOOKUP(C6897,Debiteuren!$A$2:$J$9998,10,0))&\"\"","v":""},{"$f":"IF(C6897=\"\",\"\",VLOOKUP(C6897,Debiteuren!$A$2:$O$9998,15,0)&\"\"&VLOOKUP(C6897,Debiteuren!$A$2:$N$9998,14,0))","v":""},null,"","",0,""]
[null,null,null,null,null,null,null,null,null,null,"",null,null,"",null,null,null,null,null,0,null,{"$f":"IF(C6899=\"\",\"\",VLOOKUP(C6899,Debiteuren!$A$2:$J$9998,10,0))&\"\"","v":""},{"$f":"IF(C6899=\"\",\"\",VLOOKUP(C6899,Debiteuren!$A$2:$O$9998,15,0)&\"\"&VLOOKUP(C6899,Debiteuren!$A$2:$N$9998,14,0))","v":""},null,"","",0,""]
[null,null,null,null,null,null,null,null,null,null,"",null,null,"",null,null,null,null,null,0,null,{"$f":"IF(C6915=\"\",\"\",VLOOKUP(C6915,Debiteuren!$A$2:$J$9998,10,0))&\"\"","v":""},{"$f":"IF(C6915=\"\",\"\",VLOOKUP(C6915,Debiteuren!$A$2:$O$9998,15,0)&\"\"&VLOOKUP(C6915,Debiteuren!$A$2:$N$9998,14,0))","v":""},null,"","",0,""]
[null,null,null,null,null,null,null,null,null,null,"",null,null,"",null,null,null,null,null,0,null,{"$f":"IF(C6922=\"\",\"\",VLOOKUP(C6922,Debiteuren!$A$2:$J$9998,10,0))&\"\"","v":""},{"$f":"IF(C6922=\"\",\"\",VLOOKUP(C6922,Debiteuren!$A$2:$O$9998,15,0)&\"\"&VLOOKUP(C6922,Debiteuren!$A$2:$N$9998,14,0))","v":""},null,"","",0,""]
[null,null,null,null,null,null,null,null,null,null,"",null,null,"",null,null,null,null,null,0,null,{"$f":"IF(C6925=\"\",\"\",VLOOKUP(C6925,Debiteuren!$A$2:$J$9998,10,0))&\"\"","v":""},{"$f":"IF(C6925=\"\",\"\",VLOOKUP(C6925,Debiteuren!$A$2:$O$9998,15,0)&\"\"&VLOOKUP(C6925,Debiteuren!$A$2:$N$9998,14,0))","v":""},null,"","",0,""]
[null,null,null,null,null,null,null,null,null,null,"",null,null,"",null,null,null,null,null,0,null,{"$f":"IF(C6937=\"\",\"\",VLOOKUP(C6937,Debiteuren!$A$2:$J$9998,10,0))&\"\"","v":""},{"$f":"IF(C6937=\"\",\"\",VLOOKUP(C6937,Debiteuren!$A$2:$O$9998,15,0)&\"\"&VLOOKUP(C6937,Debiteuren!$A$2:$N$9998,14,0))","v":""},null,"","",0,""]
[null,null,null,null,null,null,null,null,null,null,"",null,null,"",null,null,null,null,null,0,null,{"$f":"IF(C6948=\"\",\"\",VLOOKUP(C6948,Debiteuren!$A$2:$J$9998,10,0))&\"\"","v":""},{"$f":"IF(C6948=\"\",\"\",VLOOKUP(C6948,Debiteuren!$A$2:$O$9998,15,0)&\"\"&VLOOKUP(C6948,Debiteuren!$A$2:$N$9998,14,0))","v":""},null,"","",0,""]
[null,null,null,null,null,null,null,null,null,null,"",null,null,"",null,null,null,null,null,0,null,{"$f":"IF(C6955=\"\",\"\",VLOOKUP(C6955,Debiteuren!$A$2:$J$9998,10,0))&\"\"","v":""},{"$f":"IF(C6955=\"\",\"\",VLOOKUP(C6955,Debiteuren!$A$2:$O$9998,15,0)&\"\"&VLOOKUP(C6955,Debiteuren!$A$2:$N$9998,14,0))","v":""},null,"","",0,""]
[null,null,null,null,null,null,null,null,null,null,"",null,null,"",null,null,null,null,null,0,null,{"$f":"IF(C6967=\"\",\"\",VLOOKUP(C6967,Debiteuren!$A$2:$J$9998,10,0))&\"\"","v":""},{"$f":"IF(C6967=\"\",\"\",VLOOKUP(C6967,Debiteuren!$A$2:$O$9998,15,0)&\"\"&VLOOKUP(C6967,Debiteuren!$A$2:$N$9998,14,0))","v":""},null,"","",0,""]
[null,null,null,null,null,null,null,null,null,null,"",null,null,"",null,null,null,null,null,0,null,{"$f":"IF(C6974=\"\",\"\",VLOOKUP(C6974,Debiteuren!$A$2:$J$9998,10,0))&\"\"","v":""},{"$f":"IF(C6974=\"\",\"\",VLOOKUP(C6974,Debiteuren!$A$2:$O$9998,15,0)&\"\"&VLOOKUP(C6974,Debiteuren!$A$2:$N$9998,14,0))","v":""},null,"","",0,""]
[null,null,null,null,null,null,null,null,null,null,"",null,null,"",null,null,null,null,null,0,null,{"$f":"IF(C6979=\"\",\"\",VLOOKUP(C6979,Debiteuren!$A$2:$J$9998,10,0))&\"\"","v":""},{"$f":"IF(C6979=\"\",\"\",VLOOKUP(C6979,Debiteuren!$A$2:$O$9998,15,0)&\"\"&VLOOKUP(C6979,Debiteuren!$A$2:$N$9998,14,0))","v":""},null,"","",0,""]
[null,null,null,null,null,null,null,null,null,null,"",null,null,"",null,null,null,null,null,0,null,{"$f":"IF(C6992=\"\",\"\",VLOOKUP(C6992,Debiteuren!$A$2:$J$9998,10,0))&\"\"","v":""},{"$f":"IF(C6992=\"\",\"\",VLOOKUP(C6992,Debiteuren!$A$2:$O$9998,15,0)&\"\"&VLOOKUP(C6992,Debiteuren!$A$2:$N$9998,14,0))","v":""},null,"","",0,""]
[null,null,null,null,null,null,null,null,null,null,"",null,null,"",null,null,null,null,null,0,null,{"$f":"IF(C6995=\"\",\"\",VLOOKUP(C6995,Debiteuren!$A$2:$J$9998,10,0))&\"\"","v":""},{"$f":"IF(C6995=\"\",\"\",VLOOKUP(C6995,Debiteuren!$A$2:$O$9998,15,0)&\"\"&VLOOKUP(C6995,Debiteuren!$A$2:$N$9998,14,0))","v":""},null,"","",0,""]
[null,null,null,null,null,null,null,null,null,null,"",null,null,"",null,null,null,null,null,0,null,{"$f":"IF(C7007=\"\",\"\",VLOOKUP(C7007,Debiteuren!$A$2:$J$9998,10,0))&\"\"","v":""},{"$f":"IF(C7007=\"\",\"\",VLOOKUP(C7007,Debiteuren!$A$2:$O$9998,15,0)&\"\"&VLOOKUP(C7007,Debiteuren!$A$2:$N$9998,14,0))","v":""},null,"","",0,""]
[null,null,null,null,null,null,null,null,null,null,"",null,null,"",null,null,null,null,null,0,null,{"$f":"IF(C7014=\"\",\"\",VLOOKUP(C7014,Debiteuren!$A$2:$J$9998,10,0))&\"\"","v":""},{"$f":"IF(C7014=\"\",\"\",VLOOKUP(C7014,Debiteuren!$A$2:$O$9998,15,0)&\"\"&VLOOKUP(C7014,Debiteuren!$A$2:$N$9998,14,0))","v":""},null,"","",0,""]
[null,null,null,null,null,null,null,null,null,null,"",null,null,"",null,null,null,null,null,0,null,{"$f":"IF(C7028=\"\",\"\",VLOOKUP(C7028,Debiteuren!$A$2:$J$9998,10,0))&\"\"","v":""},{"$f":"IF(C7028=\"\",\"\",VLOOKUP(C7028,Debiteuren!$A$2:$O$9998,15,0)&\"\"&VLOOKUP(C7028,Debiteuren!$A$2:$N$9998,14,0))","v":""},null,"","",0,""]
[null,null,null,null,null,null,null,null,null,null,"",null,null,"",null,null,null,null,null,0,null,{"$f":"IF(C7032=\"\",\"\",VLOOKUP(C7032,Debiteuren!$A$2:$J$9998,10,0))&\"\"","v":""},{"$f":"IF(C7032=\"\",\"\",VLOOKUP(C7032,Debiteuren!$A$2:$O$9998,15,0)&\"\"&VLOOKUP(C7032,Debiteuren!$A$2:$N$9998,14,0))","v":""},null,"","",0,""]
[null,null,null,null,null,null,null,null,null,null,"",null,null,"",null,null,null,null,null,0,null,{"$f":"IF(C7044=\"\",\"\",VLOOKUP(C7044,Debiteuren!$A$2:$J$9998,10,0))&\"\"","v":""},{"$f":"IF(C7044=\"\",\"\",VLOOKUP(C7044,Debiteuren!$A$2:$O$9998,15,0)&\"\"&VLOOKUP(C7044,Debiteuren!$A$2:$N$9998,14,0))","v":""},null,"","",0,""]
[null,null,null,null,null,null,null,null,null,null,"",null,null,"",null,null,null,null,null,0,null,{"$f":"IF(C7056=\"\",\"\",VLOOKUP(C7056,Debiteuren!$A$2:$J$9998,10,0))&\"\"","v":""},{"$f":"IF(C7056=\"\",\"\",VLOOKUP(C7056,Debiteuren!$A$2:$O$9998,15,0)&\"\"&VLOOKUP(C7056,Debiteuren!$A$2:$N$9998,14,0))","v":""},null,"","",0,""]
[null,null,null,null,null,null,null,null,null,null,"",null,null,"",null,null,null,null,null,0,null,{"$f":"IF(C7063=\"\",\"\",VLOOKUP(C7063,Debiteuren!$A$2:$J$9998,10,0))&\"\"","v":""},{"$f":"IF(C7063=\"\",\"\",VLOOKUP(C7063,Debiteuren!$A$2:$O$9998,15,0)&\"\"&VLOOKUP(C7063,Debiteuren!$A$2:$N$9998,14,0))","v":""},null,"","",0,""]
[null,null,null,null,null,null,null,null,null,null,"",null,null,"",null,null,null,null,null,0,null,{"$f":"IF(C7069=\"\",\"\",VLOOKUP(C7069,Debiteuren!$A$2:$J$9998,10,0))&\"\"","v":""},{"$f":"IF(C7069=\"\",\"\",VLOOKUP(C7069,Debiteuren!$A$2:$O$9998,15,0)&\"\"&VLOOKUP(C7069,Debiteuren!$A$2:$N$9998,14,0))","v":""},null,"","",0,""]
[null,null,null,null,null,null,null,null,null,null,"",null,null,"",null,null,null,null,null,0,null,{"$f":"IF(C7077=\"\",\"\",VLOOKUP(C7077,Debiteuren!$A$2:$J$9998,10,0))&\"\"","v":""},{"$f":"IF(C7077=\"\",\"\",VLOOKUP(C7077,Debiteuren!$A$2:$O$9998,15,0)&\"\"&VLOOKUP(C7077,Debiteuren!$A$2:$N$9998,14,0))","v":""},null,"","",0,""]
[null,null,null,null,null,null,null,null,null,null,"",null,null,"",null,null,null,null,null,0,null,{"$f":"IF(C7084=\"\",\"\",VLOOKUP(C7084,Debiteuren!$A$2:$J$9998,10,0))&\"\"","v":""},{"$f":"IF(C7084=\"\",\"\",VLOOKUP(C7084,Debiteuren!$A$2:$O$9998,15,0)&\"\"&VLOOKUP(C7084,Debiteuren!$A$2:$N$9998,14,0))","v":""},null,"","",0,""]
[null,null,null,null,null,null,null,null,null,null,"",null,null,"",null,null,null,null,null,0,null,{"$f":"IF(C7096=\"\",\"\",VLOOKUP(C7096,Debiteuren!$A$2:$J$9998,10,0))&\"\"","v":""},{"$f":"IF(C7096=\"\",\"\",VLOOKUP(C7096,Debiteuren!$A$2:$O$9998,15,0)&\"\"&VLOOKUP(C7096,Debiteuren!$A$2:$N$9998,14,0))","v":""},null,"","",0,""]
[null,null,null,null,null,null,null,null,null,null,"",null,null,"",null,null,null,null,null,0,null,{"$f":"IF(C7103=\"\",\"\",VLOOKUP(C7103,Debiteuren!$A$2:$J$9998,10,0))&\"\"","v":""},{"$f":"IF(C7103=\"\",\"\",VLOOKUP(C7103,Debiteuren!$A$2:$O$9998,15,0)&\"\"&VLOOKUP(C7103,Debiteuren!$A$2:$N$9998,14,0))","v":""},null,"","",0,""]
[null,null,null,null,null,null,null,null,null,null,"",null,null,"",null,null,null,null,null,0,null,{"$f":"IF(C7110=\"\",\"\",VLOOKUP(C7110,Debiteuren!$A$2:$J$9998,10,0))&\"\"","v":""},{"$f":"IF(C7110=\"\",\"\",VLOOKUP(C7110,Debiteuren!$A$2:$O$9998,15,0)&\"\"&VLOOKUP(C7110,Debiteuren!$A$2:$N$9998,14,0))","v":""},null,"","",0,""]
[null,null,null,null,null,null,null,null,null,null,"",null,null,"",null,null,null,null,null,0,null,{"$f":"IF(C7126=\"\",\"\",VLOOKUP(C7126,Debiteuren!$A$2:$J$9998,10,0))&\"\"","v":""},{"$f":"IF(C7126=\"\",\"\",VLOOKUP(C7126,Debiteuren!$A$2:$O$9998,15,0)&\"\"&VLOOKUP(C7126,Debiteuren!$A$2:$N$9998,14,0))","v":""},null,"","",0,""]
[null,null,null,null,null,null,null,null,null,null,"",null,null,"",null,null,null,null,null,0,null,{"$f":"IF(C7133=\"\",\"\",VLOOKUP(C7133,Debiteuren!$A$2:$J$9998,10,0))&\"\"","v":""},{"$f":"IF(C7133=\"\",\"\",VLOOKUP(C7133,Debiteuren!$A$2:$O$9998,15,0)&\"\"&VLOOKUP(C7133,Debiteuren!$A$2:$N$9998,14,0))","v":""},null,"","",0,""]
[null,null,null,null,null,null,null,null,null,null,"",null,null,"",null,null,null,null,null,0,null,{"$f":"IF(C7136=\"\",\"\",VLOOKUP(C7136,Debiteuren!$A$2:$J$9998,10,0))&\"\"","v":""},{"$f":"IF(C7136=\"\",\"\",VLOOKUP(C7136,Debiteuren!$A$2:$O$9998,15,0)&\"\"&VLOOKUP(C7136,Debiteuren!$A$2:$N$9998,14,0))","v":""},null,"","",0,""]
[null,null,null,null,null,null,null,null,null,null,"",null,null,"",null,null,null,null,null,0,null,{"$f":"IF(C7148=\"\",\"\",VLOOKUP(C7148,Debiteuren!$A$2:$J$9998,10,0))&\"\"","v":""},{"$f":"IF(C7148=\"\",\"\",VLOOKUP(C7148,Debiteuren!$A$2:$O$9998,15,0)&\"\"&VLOOKUP(C7148,Debiteuren!$A$2:$N$9998,14,0))","v":""},null,"","",0,""]
[null,null,null,null,null,null,null,null,null,null,"",null,null,"",null,null,null,null,null,0,null,{"$f":"IF(C7159=\"\",\"\",VLOOKUP(C7159,Debiteuren!$A$2:$J$9998,10,0))&\"\"","v":""},{"$f":"IF(C7159=\"\",\"\",VLOOKUP(C7159,Debiteuren!$A$2:$O$9998,15,0)&\"\"&VLOOKUP(C7159,Debiteuren!$A$2:$N$9998,14,0))","v":""},null,"","",0,""]
[null,null,null,null,null,null,null,null,null,null,"",null,null,"",null,null,null,null,null,0,null,{"$f":"IF(C7166=\"\",\"\",VLOOKUP(C7166,Debiteuren!$A$2:$J$9998,10,0))&\"\"","v":""},{"$f":"IF(C7166=\"\",\"\",VLOOKUP(C7166,Debiteuren!$A$2:$O$9998,15,0)&\"\"&VLOOKUP(C7166,Debiteuren!$A$2:$N$9998,14,0))","v":""},null,"","",0,""]
[null,null,null,null,null,null,null,null,null,null,"",null,null,"",null,null,null,null,null,0,null,{"$f":"IF(C7173=\"\",\"\",VLOOKUP(C7173,Debiteuren!$A$2:$J$9998,10,0))&\"\"","v":""},{"$f":"IF(C7173=\"\",\"\",VLOOKUP(C7173,Debiteuren!$A$2:$O$9998,15,0)&\"\"&VLOOKUP(C7173,Debiteuren!$A$2:$N$9998,14,0))","v":""},null,"","",0,""]
[null,null,null,null,null,null,null,null,null,null,"",null,null,"",null,null,null,null,null,0,null,{"$f":"IF(C7185=\"\",\"\",VLOOKUP(C7185,Debiteuren!$A$2:$J$9998,10,0))&\"\"","v":""},{"$f":"IF(C7185=\"\",\"\",VLOOKUP(C7185,Debiteuren!$A$2:$O$9998,15,0)&\"\"&VLOOKUP(C7185,Debiteuren!$A$2:$N$9998,14,0))","v":""},null,"","",0,""]
[null,null,null,null,null,null,null,null,null,null,"",null,null,"",null,null,null,null,null,0,null,{"$f":"IF(C7190=\"\",\"\",VLOOKUP(C7190,Debiteuren!$A$2:$J$9998,10,0))&\"\"","v":""},{"$f":"IF(C7190=\"\",\"\",VLOOKUP(C7190,Debiteuren!$A$2:$O$9998,15,0)&\"\"&VLOOKUP(C7190,Debiteuren!$A$2:$N$9998,14,0))","v":""},null,"","",0,""]
[null,null,null,null,null,null,null,null,null,null,"",null,null,"",null,null,null,null,null,0,null,{"$f":"IF(C7203=\"\",\"\",VLOOKUP(C7203,Debiteuren!$A$2:$J$9998,10,0))&\"\"","v":""},{"$f":"IF(C7203=\"\",\"\",VLOOKUP(C7203,Debiteuren!$A$2:$O$9998,15,0)&\"\"&VLOOKUP(C7203,Debiteuren!$A$2:$N$9998,14,0))","v":""},null,"","",0,""]
[null,null,null,null,null,null,null,null,null,null,"",null,null,"",null,null,null,null,null,0,null,{"$f":"IF(C7206=\"\",\"\",VLOOKUP(C7206,Debiteuren!$A$2:$J$9998,10,0))&\"\"","v":""},{"$f":"IF(C7206=\"\",\"\",VLOOKUP(C7206,Debiteuren!$A$2:$O$9998,15,0)&\"\"&VLOOKUP(C7206,Debiteuren!$A$2:$N$9998,14,0))","v":""},null,"","",0,""]
[null,null,null,null,null,null,null,null,null,null,"",null,null,"",null,null,null,null,null,0,null,{"$f":"IF(C7222=\"\",\"\",VLOOKUP(C7222,Debiteuren!$A$2:$J$9998,10,0))&\"\"","v":""},{"$f":"IF(C7222=\"\",\"\",VLOOKUP(C7222,Debiteuren!$A$2:$O$9998,15,0)&\"\"&VLOOKUP(C7222,Debiteuren!$A$2:$N$9998,14,0))","v":""},null,"","",0,""]
[null,null,null,null,null,null,null,null,null,null,{"$f":"IF(D7225=\"\",\"\",\"\"&\"Kwartaal \"&MONTH(MONTH(D7225)&0)&TEXT(D7225,\" - mmm JJJJ\"))","v":""},null,null,{"$f":"IF(E7225=\"\",\"\",(E7225)-(F7225))","v":""},null,null,null,null,null,0,null,{"$f":"IF(C7225=\"\",\"\",VLOOKUP(C7225,Debiteuren!$A$2:$J$9998,10,0))&\"\"","v":""},{"$f":"IF(C7225=\"\",\"\",VLOOKUP(C7225,Debiteuren!$A$2:$O$9998,15,0)&\"\"&VLOOKUP(C7225,Debiteuren!$A$2:$N$9998,14,0))","v":""},null,"","",0,""]
[null,null,null,null,null,null,null,null,null,null,"",null,null,"",null,null,null,null,null,0,null,{"$f":"IF(C7239=\"\",\"\",VLOOKUP(C7239,Debiteuren!$A$2:$J$9998,10,0))&\"\"","v":""},{"$f":"IF(C7239=\"\",\"\",VLOOKUP(C7239,Debiteuren!$A$2:$O$9998,15,0)&\"\"&VLOOKUP(C7239,Debiteuren!$A$2:$N$9998,14,0))","v":""},null,"","",0,""]
[null,null,null,null,null,null,null,null,null,null,"",null,null,"",null,null,null,null,null,0,null,{"$f":"IF(C7243=\"\",\"\",VLOOKUP(C7243,Debiteuren!$A$2:$J$9998,10,0))&\"\"","v":""},{"$f":"IF(C7243=\"\",\"\",VLOOKUP(C7243,Debiteuren!$A$2:$O$9998,15,0)&\"\"&VLOOKUP(C7243,Debiteuren!$A$2:$N$9998,14,0))","v":""},null,"","",0,""]
[null,null,null,null,null,null,null,null,null,null,"",null,null,"",null,null,null,null,null,0,null,{"$f":"IF(C7255=\"\",\"\",VLOOKUP(C7255,Debiteuren!$A$2:$J$9998,10,0))&\"\"","v":""},{"$f":"IF(C7255=\"\",\"\",VLOOKUP(C7255,Debiteuren!$A$2:$O$9998,15,0)&\"\"&VLOOKUP(C7255,Debiteuren!$A$2:$N$9998,14,0))","v":""},null,"","",0,""]
[null,null,null,null,null,null,null,null,null,null,"",null,null,"",null,null,null,null,null,0,null,{"$f":"IF(C7267=\"\",\"\",VLOOKUP(C7267,Debiteuren!$A$2:$J$9998,10,0))&\"\"","v":""},{"$f":"IF(C7267=\"\",\"\",VLOOKUP(C7267,Debiteuren!$A$2:$O$9998,15,0)&\"\"&VLOOKUP(C7267,Debiteuren!$A$2:$N$9998,14,0))","v":""},null,"","",0,""]
[null,null,null,null,null,null,null,null,null,null,"",null,null,"",null,null,null,null,null,0,null,{"$f":"IF(C7274=\"\",\"\",VLOOKUP(C7274,Debiteuren!$A$2:$J$9998,10,0))&\"\"","v":""},{"$f":"IF(C7274=\"\",\"\",VLOOKUP(C7274,Debiteuren!$A$2:$O$9998,15,0)&\"\"&VLOOKUP(C7274,Debiteuren!$A$2:$N$9998,14,0))","v":""},null,"","",0,""]
[null,null,null,null,null,null,null,null,null,null,"",null,null,"",null,null,null,null,null,0,null,{"$f":"IF(C7280=\"\",\"\",VLOOKUP(C7280,Debiteuren!$A$2:$J$9998,10,0))&\"\"","v":""},{"$f":"IF(C7280=\"\",\"\",VLOOKUP(C7280,Debiteuren!$A$2:$O$9998,15,0)&\"\"&VLOOKUP(C7280,Debiteuren!$A$2:$N$9998,14,0))","v":""},null,"","",0,""]
[null,null,null,null,null,null,null,null,null,null,"",null,null,"",null,null,null,null,null,0,null,{"$f":"IF(C7292=\"\",\"\",VLOOKUP(C7292,Debiteuren!$A$2:$J$9998,10,0))&\"\"","v":""},{"$f":"IF(C7292=\"\",\"\",VLOOKUP(C7292,Debiteuren!$A$2:$O$9998,15,0)&\"\"&VLOOKUP(C7292,Debiteuren!$A$2:$N$9998,14,0))","v":""},null,"","",0,""]
[null,null,null,null,null,null,null,null,null,null,"",null,null,"",null,null,null,null,null,0,null,{"$f":"IF(C7295=\"\",\"\",VLOOKUP(C7295,Debiteuren!$A$2:$J$9998,10,0))&\"\"","v":""},{"$f":"IF(C7295=\"\",\"\",VLOOKUP(C7295,Debiteuren!$A$2:$O$9998,15,0)&\"\"&VLOOKUP(C7295,Debiteuren!$A$2:$N$9998,14,0))","v":""},null,"","",0,""]
[null,null,null,null,null,null,null,null,null,null,"",null,null,"",null,null,null,null,null,0,null,{"$f":"IF(C7307=\"\",\"\",VLOOKUP(C7307,Debiteuren!$A$2:$J$9998,10,0))&\"\"","v":""},{"$f":"IF(C7307=\"\",\"\",VLOOKUP(C7307,Debiteuren!$A$2:$O$9998,15,0)&\"\"&VLOOKUP(C7307,Debiteuren!$A$2:$N$9998,14,0))","v":""},null,"","",0,""]
[null,null,null,null,null,null,null,null,null,null,"",null,null,"",null,null,null,null,null,0,null,{"$f":"IF(C7314=\"\",\"\",VLOOKUP(C7314,Debiteuren!$A$2:$J$9998,10,0))&\"\"","v":""},{"$f":"IF(C7314=\"\",\"\",VLOOKUP(C7314,Debiteuren!$A$2:$O$9998,15,0)&\"\"&VLOOKUP(C7314,Debiteuren!$A$2:$N$9998,14,0))","v":""},null,"","",0,""]
[null,null,null,null,null,null,null,null,null,null,"",null,null,"",null,null,null,null,null,0,null,{"$f":"IF(C7321=\"\",\"\",VLOOKUP(C7321,Debiteuren!$A$2:$J$9998,10,0))&\"\"","v":""},{"$f":"IF(C7321=\"\",\"\",VLOOKUP(C7321,Debiteuren!$A$2:$O$9998,15,0)&\"\"&VLOOKUP(C7321,Debiteuren!$A$2:$N$9998,14,0))","v":""},null,"","",0,""]
[null,null,null,null,null,null,null,null,null,null,"",null,null,"",null,null,null,null,null,0,null,{"$f":"IF(C7332=\"\",\"\",VLOOKUP(C7332,Debiteuren!$A$2:$J$9998,10,0))&\"\"","v":""},{"$f":"IF(C7332=\"\",\"\",VLOOKUP(C7332,Debiteuren!$A$2:$O$9998,15,0)&\"\"&VLOOKUP(C7332,Debiteuren!$A$2:$N$9998,14,0))","v":""},null,"","",0,""]
[null,null,null,null,null,null,null,null,null,null,"",null,null,"",null,null,null,null,null,0,null,{"$f":"IF(C7344=\"\",\"\",VLOOKUP(C7344,Debiteuren!$A$2:$J$9998,10,0))&\"\"","v":""},{"$f":"IF(C7344=\"\",\"\",VLOOKUP(C7344,Debiteuren!$A$2:$O$9998,15,0)&\"\"&VLOOKUP(C7344,Debiteuren!$A$2:$N$9998,14,0))","v":""},null,"","",0,""]
[null,null,null,null,null,null,null,null,null,null,"",null,null,"",null,null,null,null,null,0,null,{"$f":"IF(C7347=\"\",\"\",VLOOKUP(C7347,Debiteuren!$A$2:$J$9998,10,0))&\"\"","v":""},{"$f":"IF(C7347=\"\",\"\",VLOOKUP(C7347,Debiteuren!$A$2:$O$9998,15,0)&\"\"&VLOOKUP(C7347,Debiteuren!$A$2:$N$9998,14,0))","v":""},null,"","",0,""]
[null,null,null,null,null,null,null,null,null,null,"",null,null,"",null,null,null,null,null,0,null,{"$f":"IF(C7360=\"\",\"\",VLOOKUP(C7360,Debiteuren!$A$2:$J$9998,10,0))&\"\"","v":""},{"$f":"IF(C7360=\"\",\"\",VLOOKUP(C7360,Debiteuren!$A$2:$O$9998,15,0)&\"\"&VLOOKUP(C7360,Debiteuren!$A$2:$N$9998,14,0))","v":""},null,"","",0,""]
[null,null,null,null,null,null,null,null,null,null,"",null,null,"",null,null,null,null,null,0,null,{"$f":"IF(C7365=\"\",\"\",VLOOKUP(C7365,Debiteuren!$A$2:$J$9998,10,0))&\"\"","v":""},{"$f":"IF(C7365=\"\",\"\",VLOOKUP(C7365,Debiteuren!$A$2:$O$9998,15,0)&\"\"&VLOOKUP(C7365,Debiteuren!$A$2:$N$9998,14,0))","v":""},null,"","",0,""]
[null,null,null,null,null,null,null,null,null,null,"",null,null,"",null,null,null,null,null,0,null,{"$f":"IF(C7377=\"\",\"\",VLOOKUP(C7377,Debiteuren!$A$2:$J$9998,10,0))&\"\"","v":""},{"$f":"IF(C7377=\"\",\"\",VLOOKUP(C7377,Debiteuren!$A$2:$O$9998,15,0)&\"\"&VLOOKUP(C7377,Debiteuren!$A$2:$N$9998,14,0))","v":""},null,"","",0,""]
[null,null,null,null,null,null,null,null,null,null,"",null,null,"",null,null,null,null,null,0,null,{"$f":"IF(C7384=\"\",\"\",VLOOKUP(C7384,Debiteuren!$A$2:$J$9998,10,0))&\"\"","v":""},{"$f":"IF(C7384=\"\",\"\",VLOOKUP(C7384,Debiteuren!$A$2:$O$9998,15,0)&\"\"&VLOOKUP(C7384,Debiteuren!$A$2:$N$9998,14,0))","v":""},null,"","",0,""]
[null,null,null,null,null,null,null,null,null,null,"",null,null,"",null,null,null,null,null,0,null,{"$f":"IF(C7396=\"\",\"\",VLOOKUP(C7396,Debiteuren!$A$2:$J$9998,10,0))&\"\"","v":""},{"$f":"IF(C7396=\"\",\"\",VLOOKUP(C7396,Debiteuren!$A$2:$O$9998,15,0)&\"\"&VLOOKUP(C7396,Debiteuren!$A$2:$N$9998,14,0))","v":""},null,"","",0,""]
[null,null,null,null,null,null,null,null,null,null,"",null,null,"",null,null,null,null,null,0,null,{"$f":"IF(C7401=\"\",\"\",VLOOKUP(C7401,Debiteuren!$A$2:$J$9998,10,0))&\"\"","v":""},{"$f":"IF(C7401=\"\",\"\",VLOOKUP(C7401,Debiteuren!$A$2:$O$9998,15,0)&\"\"&VLOOKUP(C7401,Debiteuren!$A$2:$N$9998,14,0))","v":""},null,"","",0,""]
[null,null,null,null,null,null,null,null,null,null,"",null,null,"",null,null,null,null,null,0,null,{"$f":"IF(C7414=\"\",\"\",VLOOKUP(C7414,Debiteuren!$A$2:$J$9998,10,0))&\"\"","v":""},{"$f":"IF(C7414=\"\",\"\",VLOOKUP(C7414,Debiteuren!$A$2:$O$9998,15,0)&\"\"&VLOOKUP(C7414,Debiteuren!$A$2:$N$9998,14,0))","v":""},null,"","",0,""]
[null,null,null,null,null,null,null,null,null,null,{"$f":"IF(D7417=\"\",\"\",\"\"&\"Kwartaal \"&MONTH(MONTH(D7417)&0)&TEXT(D7417,\" - mmm JJJJ\"))","v":""},null,null,{"$f":"IF(E7417=\"\",\"\",(E7417)-(F7417))","v":""},null,null,null,null,null,0,null,{"$f":"IF(C7417=\"\",\"\",VLOOKUP(C7417,Debiteuren!$A$2:$J$9998,10,0))&\"\"","v":""},{"$f":"IF(C7417=\"\",\"\",VLOOKUP(C7417,Debiteuren!$A$2:$O$9998,15,0)&\"\"&VLOOKUP(C7417,Debiteuren!$A$2:$N$9998,14,0))","v":""},null,"","",0,""]
[null,null,null,null,null,null,null,null,null,null,"",null,null,"",null,null,null,null,null,0,null,{"$f":"IF(C7433=\"\",\"\",VLOOKUP(C7433,Debiteuren!$A$2:$J$9998,10,0))&\"\"","v":""},{"$f":"IF(C7433=\"\",\"\",VLOOKUP(C7433,Debiteuren!$A$2:$O$9998,15,0)&\"\"&VLOOKUP(C7433,Debiteuren!$A$2:$N$9998,14,0))","v":""},null,"","",0,""]
[null,null,null,null,null,null,null,null,null,null,"",null,null,"",null,null,null,null,null,0,null,{"$f":"IF(C7436=\"\",\"\",VLOOKUP(C7436,Debiteuren!$A$2:$J$9998,10,0))&\"\"","v":""},{"$f":"IF(C7436=\"\",\"\",VLOOKUP(C7436,Debiteuren!$A$2:$O$9998,15,0)&\"\"&VLOOKUP(C7436,Debiteuren!$A$2:$N$9998,14,0))","v":""},null,"","",0,""]
[null,null,null,null,null,null,null,null,null,null,"",null,null,"",null,null,null,null,null,0,null,{"$f":"IF(C7450=\"\",\"\",VLOOKUP(C7450,Debiteuren!$A$2:$J$9998,10,0))&\"\"","v":""},{"$f":"IF(C7450=\"\",\"\",VLOOKUP(C7450,Debiteuren!$A$2:$O$9998,15,0)&\"\"&VLOOKUP(C7450,Debiteuren!$A$2:$N$9998,14,0))","v":""},null,"","",0,""]
[null,null,null,null,null,null,null,null,null,null,"",null,null,"",null,null,null,null,null,0,null,{"$f":"IF(C7454=\"\",\"\",VLOOKUP(C7454,Debiteuren!$A$2:$J$9998,10,0))&\"\"","v":""},{"$f":"IF(C7454=\"\",\"\",VLOOKUP(C7454,Debiteuren!$A$2:$O$9998,15,0)&\"\"&VLOOKUP(C7454,Debiteuren!$A$2:$N$9998,14,0))","v":""},null,"","",0,""]
[null,null,null,null,null,null,null,null,null,null,"",null,null,"",null,null,null,null,null,0,null,{"$f":"IF(C7466=\"\",\"\",VLOOKUP(C7466,Debiteuren!$A$2:$J$9998,10,0))&\"\"","v":""},{"$f":"IF(C7466=\"\",\"\",VLOOKUP(C7466,Debiteuren!$A$2:$O$9998,15,0)&\"\"&VLOOKUP(C7466,Debiteuren!$A$2:$N$9998,14,0))","v":""},null,"","",0,""]
[null,null,null,null,null,null,null,null,null,null,"",null,null,"",null,null,null,null,null,0,null,{"$f":"IF(C7473=\"\",\"\",VLOOKUP(C7473,Debiteuren!$A$2:$J$9998,10,0))&\"\"","v":""},{"$f":"IF(C7473=\"\",\"\",VLOOKUP(C7473,Debiteuren!$A$2:$O$9998,15,0)&\"\"&VLOOKUP(C7473,Debiteuren!$A$2:$N$9998,14,0))","v":""},null,"","",0,""]
[null,null,null,null,null,null,null,null,null,null,"",null,null,"",null,null,null,null,null,0,null,{"$f":"IF(C7485=\"\",\"\",VLOOKUP(C7485,Debiteuren!$A$2:$J$9998,10,0))&\"\"","v":""},{"$f":"IF(C7485=\"\",\"\",VLOOKUP(C7485,Debiteuren!$A$2:$O$9998,15,0)&\"\"&VLOOKUP(C7485,Debiteuren!$A$2:$N$9998,14,0))","v":""},null,"","",0,""]
[null,null,null,null,null,null,null,null,null,null,"",null,null,"",null,null,null,null,null,0,null,{"$f":"IF(C7491=\"\",\"\",VLOOKUP(C7491,Debiteuren!$A$2:$J$9998,10,0))&\"\"","v":""},{"$f":"IF(C7491=\"\",\"\",VLOOKUP(C7491,Debiteuren!$A$2:$O$9998,15,0)&\"\"&VLOOKUP(C7491,Debiteuren!$A$2:$N$9998,14,0))","v":""},null,"","",0,""]
[null,null,null,null,null,null,null,null,null,null,"",null,null,"",null,null,null,null,null,0,null,{"$f":"IF(C7503=\"\",\"\",VLOOKUP(C7503,Debiteuren!$A$2:$J$9998,10,0))&\"\"","v":""},{"$f":"IF(C7503=\"\",\"\",VLOOKUP(C7503,Debiteuren!$A$2:$O$9998,15,0)&\"\"&VLOOKUP(C7503,Debiteuren!$A$2:$N$9998,14,0))","v":""},null,"","",0,""]
[null,null,null,null,null,null,null,null,null,null,"",null,null,"",null,null,null,null,null,0,null,{"$f":"IF(C7506=\"\",\"\",VLOOKUP(C7506,Debiteuren!$A$2:$J$9998,10,0))&\"\"","v":""},{"$f":"IF(C7506=\"\",\"\",VLOOKUP(C7506,Debiteuren!$A$2:$O$9998,15,0)&\"\"&VLOOKUP(C7506,Debiteuren!$A$2:$N$9998,14,0))","v":""},null,"","",0,""]
[null,null,null,null,null,null,null,null,null,null,"",null,null,"",null,null,null,null,null,0,null,{"$f":"IF(C7522=\"\",\"\",VLOOKUP(C7522,Debiteuren!$A$2:$J$9998,10,0))&\"\"","v":""},{"$f":"IF(C7522=\"\",\"\",VLOOKUP(C7522,Debiteuren!$A$2:$O$9998,15,0)&\"\"&VLOOKUP(C7522,Debiteuren!$A$2:$N$9998,14,0))","v":""},null,"","",0,""]
[null,null,null,null,null,null,null,null,null,null,"",null,null,"",null,null,null,null,null,0,null,{"$f":"IF(C7530=\"\",\"\",VLOOKUP(C7530,Debiteuren!$A$2:$J$9998,10,0))&\"\"","v":""},{"$f":"IF(C7530=\"\",\"\",VLOOKUP(C7530,Debiteuren!$A$2:$O$9998,15,0)&\"\"&VLOOKUP(C7530,Debiteuren!$A$2:$N$9998,14,0))","v":""},null,"","",0,""]
[null,null,null,null,null,null,null,null,null,null,"",null,null,"",null,null,null,null,null,0,null,{"$f":"IF(C7536=\"\",\"\",VLOOKUP(C7536,Debiteuren!$A$2:$J$9998,10,0))&\"\"","v":""},{"$f":"IF(C7536=\"\",\"\",VLOOKUP(C7536,Debiteuren!$A$2:$O$9998,15,0)&\"\"&VLOOKUP(C7536,Debiteuren!$A$2:$N$9998,14,0))","v":""},null,"","",0,""]
[null,null,null,null,null,null,null,null,null,null,"",null,null,"",null,null,null,null,null,0,null,{"$f":"IF(C7543=\"\",\"\",VLOOKUP(C7543,Debiteuren!$A$2:$J$9998,10,0))&\"\"","v":""},{"$f":"IF(C7543=\"\",\"\",VLOOKUP(C7543,Debiteuren!$A$2:$O$9998,15,0)&\"\"&VLOOKUP(C7543,Debiteuren!$A$2:$N$9998,14,0))","v":""},null,"","",0,""]
[null,null,null,null,null,null,null,null,null,null,"",null,null,"",null,null,null,null,null,0,null,{"$f":"IF(C7555=\"\",\"\",VLOOKUP(C7555,Debiteuren!$A$2:$J$9998,10,0))&\"\"","v":""},{"$f":"IF(C7555=\"\",\"\",VLOOKUP(C7555,Debiteuren!$A$2:$O$9998,15,0)&\"\"&VLOOKUP(C7555,Debiteuren!$A$2:$N$9998,14,0))","v":""},null,"","",0,""]
[null,null,null,null,null,null,null,null,null,null,"",null,null,"",null,null,null,null,null,0,null,{"$f":"IF(C7558=\"\",\"\",VLOOKUP(C7558,Debiteuren!$A$2:$J$9998,10,0))&\"\"","v":""},{"$f":"IF(C7558=\"\",\"\",VLOOKUP(C7558,Debiteuren!$A$2:$O$9998,15,0)&\"\"&VLOOKUP(C7558,Debiteuren!$A$2:$N$9998,14,0))","v":""},null,"","",0,""]
[null,null,null,null,null,null,null,null,null,null,"",null,null,"",null,null,null,null,null,0,null,{"$f":"IF(C7571=\"\",\"\",VLOOKUP(C7571,Debiteuren!$A$2:$J$9998,10,0))&\"\"","v":""},{"$f":"IF(C7571=\"\",\"\",VLOOKUP(C7571,Debiteuren!$A$2:$O$9998,15,0)&\"\"&VLOOKUP(C7571,Debiteuren!$A$2:$N$9998,14,0))","v":""},null,"","",0,""]
[null,null,null,null,null,null,null,null,null,null,"",null,null,"",null,null,null,null,null,0,null,{"$f":"IF(C7576=\"\",\"\",VLOOKUP(C7576,Debiteuren!$A$2:$J$9998,10,0))&\"\"","v":""},{"$f":"IF(C7576=\"\",\"\",VLOOKUP(C7576,Debiteuren!$A$2:$O$9998,15,0)&\"\"&VLOOKUP(C7576,Debiteuren!$A$2:$N$9998,14,0))","v":""},null,"","",0,""]
[null,null,null,null,null,null,null,null,null,null,"",null,null,"",null,null,null,null,null,0,null,{"$f":"IF(C7592=\"\",\"\",VLOOKUP(C7592,Debiteuren!$A$2:$J$9998,10,0))&\"\"","v":""},{"$f":"IF(C7592=\"\",\"\",VLOOKUP(C7592,Debiteuren!$A$2:$O$9998,15,0)&\"\"&VLOOKUP(C7592,Debiteuren!$A$2:$N$9998,14,0))","v":""},null,"","",0,""]
[null,null,null,null,null,null,null,null,null,null,"",null,null,"",null,null,null,null,null,0,null,{"$f":"IF(C7595=\"\",\"\",VLOOKUP(C7595,Debiteuren!$A$2:$J$9998,10,0))&\"\"","v":""},{"$f":"IF(C7595=\"\",\"\",VLOOKUP(C7595,Debiteuren!$A$2:$O$9998,15,0)&\"\"&VLOOKUP(C7595,Debiteuren!$A$2:$N$9998,14,0))","v":""},null,"","",0,""]
[null,null,null,null,null,null,null,null,null,null,"",null,null,"",null,null,null,null,null,0,null,{"$f":"IF(C7607=\"\",\"\",VLOOKUP(C7607,Debiteuren!$A$2:$J$9998,10,0))&\"\"","v":""},{"$f":"IF(C7607=\"\",\"\",VLOOKUP(C7607,Debiteuren!$A$2:$O$9998,15,0)&\"\"&VLOOKUP(C7607,Debiteuren!$A$2:$N$9998,14,0))","v":""},null,"","",0,""]
[null,null,null,null,null,null,null,null,null,null,"",null,null,"",null,null,null,null,null,0,null,{"$f":"IF(C7612=\"\",\"\",VLOOKUP(C7612,Debiteuren!$A$2:$J$9998,10,0))&\"\"","v":""},{"$f":"IF(C7612=\"\",\"\",VLOOKUP(C7612,Debiteuren!$A$2:$O$9998,15,0)&\"\"&VLOOKUP(C7612,Debiteuren!$A$2:$N$9998,14,0))","v":""},null,"","",0,""]
[null,null,null,null,null,null,null,null,null,null,"",null,null,"",null,null,null,null,null,0,null,{"$f":"IF(C7625=\"\",\"\",VLOOKUP(C7625,Debiteuren!$A$2:$J$9998,10,0))&\"\"","v":""},{"$f":"IF(C7625=\"\",\"\",VLOOKUP(C7625,Debiteuren!$A$2:$O$9998,15,0)&\"\"&VLOOKUP(C7625,Debiteuren!$A$2:$N$9998,14,0))","v":""},null,"","",0,""]
[null,null,null,null,null,null,null,null,null,null,"",null,null,"",null,null,null,null,null,0,null,{"$f":"IF(C7632=\"\",\"\",VLOOKUP(C7632,Debiteuren!$A$2:$J$9998,10,0))&\"\"","v":""},{"$f":"IF(C7632=\"\",\"\",VLOOKUP(C7632,Debiteuren!$A$2:$O$9998,15,0)&\"\"&VLOOKUP(C7632,Debiteuren!$A$2:$N$9998,14,0))","v":""},null,"","",0,""]
[null,null,null,null,null,null,null,null,null,null,"",null,null,"",null,null,null,null,null,0,null,{"$f":"IF(C7644=\"\",\"\",VLOOKUP(C7644,Debiteuren!$A$2:$J$9998,10,0))&\"\"","v":""},{"$f":"IF(C7644=\"\",\"\",VLOOKUP(C7644,Debiteuren!$A$2:$O$9998,15,0)&\"\"&VLOOKUP(C7644,Debiteuren!$A$2:$N$9998,14,0))","v":""},null,"","",0,""]
[null,null,null,null,null,null,null,null,null,null,"",null,null,"",null,null,null,null,null,0,null,{"$f":"IF(C7647=\"\",\"\",VLOOKUP(C7647,Debiteuren!$A$2:$J$9998,10,0))&\"\"","v":""},{"$f":"IF(C7647=\"\",\"\",VLOOKUP(C7647,Debiteuren!$A$2:$O$9998,15,0)&\"\"&VLOOKUP(C7647,Debiteuren!$A$2:$N$9998,14,0))","v":""},null,"","",0,""]
[null,null,null,null,null,null,null,null,null,null,"",null,null,"",null,null,null,null,null,0,null,{"$f":"IF(C7661=\"\",\"\",VLOOKUP(C7661,Debiteuren!$A$2:$J$9998,10,0))&\"\"","v":""},{"$f":"IF(C7661=\"\",\"\",VLOOKUP(C7661,Debiteuren!$A$2:$O$9998,15,0)&\"\"&VLOOKUP(C7661,Debiteuren!$A$2:$N$9998,14,0))","v":""},null,"","",0,""]
[null,null,null,null,null,null,null,null,null,null,"",null,null,"",null,null,null,null,null,0,null,{"$f":"IF(C7665=\"\",\"\",VLOOKUP(C7665,Debiteuren!$A$2:$J$9998,10,0))&\"\"","v":""},{"$f":"IF(C7665=\"\",\"\",VLOOKUP(C7665,Debiteuren!$A$2:$O$9998,15,0)&\"\"&VLOOKUP(C7665,Debiteuren!$A$2:$N$9998,14,0))","v":""},null,"","",0,""]
[null,null,null,null,null,null,null,null,null,null,"",null,null,"",null,null,null,null,null,0,null,{"$f":"IF(C7677=\"\",\"\",VLOOKUP(C7677,Debiteuren!$A$2:$J$9998,10,0))&\"\"","v":""},{"$f":"IF(C7677=\"\",\"\",VLOOKUP(C7677,Debiteuren!$A$2:$O$9998,15,0)&\"\"&VLOOKUP(C7677,Debiteuren!$A$2:$N$9998,14,0))","v":""},null,"","",0,""]
[null,null,null,null,null,null,null,null,null,null,"",null,null,"",null,null,null,null,null,0,null,{"$f":"IF(C7684=\"\",\"\",VLOOKUP(C7684,Debiteuren!$A$2:$J$9998,10,0))&\"\"","v":""},{"$f":"IF(C7684=\"\",\"\",VLOOKUP(C7684,Debiteuren!$A$2:$O$9998,15,0)&\"\"&VLOOKUP(C7684,Debiteuren!$A$2:$N$9998,14,0))","v":""},null,"","",0,""]
[null,null,null,null,null,null,null,null,null,null,"",null,null,"",null,null,null,null,null,0,null,{"$f":"IF(C7692=\"\",\"\",VLOOKUP(C7692,Debiteuren!$A$2:$J$9998,10,0))&\"\"","v":""},{"$f":"IF(C7692=\"\",\"\",VLOOKUP(C7692,Debiteuren!$A$2:$O$9998,15,0)&\"\"&VLOOKUP(C7692,Debiteuren!$A$2:$N$9998,14,0))","v":""},null,"","",0,""]
[null,null,null,null,null,null,null,null,null,null,"",null,null,"",null,null,null,null,null,0,null,{"$f":"IF(C7702=\"\",\"\",VLOOKUP(C7702,Debiteuren!$A$2:$J$9998,10,0))&\"\"","v":""},{"$f":"IF(C7702=\"\",\"\",VLOOKUP(C7702,Debiteuren!$A$2:$O$9998,15,0)&\"\"&VLOOKUP(C7702,Debiteuren!$A$2:$N$9998,14,0))","v":""},null,"","",0,""]
[null,null,null,null,null,null,null,null,null,null,"",null,null,"",null,null,null,null,null,0,null,{"$f":"IF(C7714=\"\",\"\",VLOOKUP(C7714,Debiteuren!$A$2:$J$9998,10,0))&\"\"","v":""},{"$f":"IF(C7714=\"\",\"\",VLOOKUP(C7714,Debiteuren!$A$2:$O$9998,15,0)&\"\"&VLOOKUP(C7714,Debiteuren!$A$2:$N$9998,14,0))","v":""},null,"","",0,""]
[null,null,null,null,null,null,null,null,null,null,"",null,null,"",null,null,null,null,null,0,null,{"$f":"IF(C7717=\"\",\"\",VLOOKUP(C7717,Debiteuren!$A$2:$J$9998,10,0))&\"\"","v":""},{"$f":"IF(C7717=\"\",\"\",VLOOKUP(C7717,Debiteuren!$A$2:$O$9998,15,0)&\"\"&VLOOKUP(C7717,Debiteuren!$A$2:$N$9998,14,0))","v":""},null,"","",0,""]
[null,null,null,null,null,null,null,null,null,null,"",null,null,"",null,null,null,null,null,0,null,{"$f":"IF(C7733=\"\",\"\",VLOOKUP(C7733,Debiteuren!$A$2:$J$9998,10,0))&\"\"","v":""},{"$f":"IF(C7733=\"\",\"\",VLOOKUP(C7733,Debiteuren!$A$2:$O$9998,15,0)&\"\"&VLOOKUP(C7733,Debiteuren!$A$2:$N$9998,14,0))","v":""},null,"","",0,""]
[null,null,null,null,null,null,null,null,null,null,"",null,null,"",null,null,null,null,null,0,null,{"$f":"IF(C7741=\"\",\"\",VLOOKUP(C7741,Debiteuren!$A$2:$J$9998,10,0))&\"\"","v":""},{"$f":"IF(C7741=\"\",\"\",VLOOKUP(C7741,Debiteuren!$A$2:$O$9998,15,0)&\"\"&VLOOKUP(C7741,Debiteuren!$A$2:$N$9998,14,0))","v":""},null,"","",0,""]
[null,null,null,null,null,null,null,null,null,null,"",null,null,"",null,null,null,null,null,0,null,{"$f":"IF(C7747=\"\",\"\",VLOOKUP(C7747,Debiteuren!$A$2:$J$9998,10,0))&\"\"","v":""},{"$f":"IF(C7747=\"\",\"\",VLOOKUP(C7747,Debiteuren!$A$2:$O$9998,15,0)&\"\"&VLOOKUP(C7747,Debiteuren!$A$2:$N$9998,14,0))","v":""},null,"","",0,""]
[null,null,null,null,null,null,null,null,null,null,"",null,null,"",null,null,null,null,null,0,null,{"$f":"IF(C7754=\"\",\"\",VLOOKUP(C7754,Debiteuren!$A$2:$J$9998,10,0))&\"\"","v":""},{"$f":"IF(C7754=\"\",\"\",VLOOKUP(C7754,Debiteuren!$A$2:$O$9998,15,0)&\"\"&VLOOKUP(C7754,Debiteuren!$A$2:$N$9998,14,0))","v":""},null,"","",0,""]
[null,null,null,null,null,null,null,null,null,null,"",null,null,"",null,null,null,null,null,0,null,{"$f":"IF(C7766=\"\",\"\",VLOOKUP(C7766,Debiteuren!$A$2:$J$9998,10,0))&\"\"","v":""},{"$f":"IF(C7766=\"\",\"\",VLOOKUP(C7766,Debiteuren!$A$2:$O$9998,15,0)&\"\"&VLOOKUP(C7766,Debiteuren!$A$2:$N$9998,14,0))","v":""},null,"","",0,""]
[null,null,null,null,null,null,null,null,null,null,"",null,null,"",null,null,null,null,null,0,null,{"$f":"IF(C7773=\"\",\"\",VLOOKUP(C7773,Debiteuren!$A$2:$J$9998,10,0))&\"\"","v":""},{"$f":"IF(C7773=\"\",\"\",VLOOKUP(C7773,Debiteuren!$A$2:$O$9998,15,0)&\"\"&VLOOKUP(C7773,Debiteuren!$A$2:$N$9998,14,0))","v":""},null,"","",0,""]
[null,null,null,null,null,null,null,null,null,null,"",null,null,"",null,null,null,null,null,0,null,{"$f":"IF(C7782=\"\",\"\",VLOOKUP(C7782,Debiteuren!$A$2:$J$9998,10,0))&\"\"","v":""},{"$f":"IF(C7782=\"\",\"\",VLOOKUP(C7782,Debiteuren!$A$2:$O$9998,15,0)&\"\"&VLOOKUP(C7782,Debiteuren!$A$2:$N$9998,14,0))","v":""},null,"","",0,""]
[null,null,null,null,null,null,null,null,null,null,"",null,null,"",null,null,null,null,null,0,null,{"$f":"IF(C7787=\"\",\"\",VLOOKUP(C7787,Debiteuren!$A$2:$J$9998,10,0))&\"\"","v":""},{"$f":"IF(C7787=\"\",\"\",VLOOKUP(C7787,Debiteuren!$A$2:$O$9998,15,0)&\"\"&VLOOKUP(C7787,Debiteuren!$A$2:$N$9998,14,0))","v":""},null,"","",0,""]
[null,null,null,null,null,null,null,null,null,null,"",null,null,"",null,null,null,null,null,0,null,{"$f":"IF(C7803=\"\",\"\",VLOOKUP(C7803,Debiteuren!$A$2:$J$9998,10,0))&\"\"","v":""},{"$f":"IF(C7803=\"\",\"\",VLOOKUP(C7803,Debiteuren!$A$2:$O$9998,15,0)&\"\"&VLOOKUP(C7803,Debiteuren!$A$2:$N$9998,14,0))","v":""},null,"","",0,""]
[null,null,null,null,null,null,null,null,null,null,"",null,null,"",null,null,null,null,null,0,null,{"$f":"IF(C7806=\"\",\"\",VLOOKUP(C7806,Debiteuren!$A$2:$J$9998,10,0))&\"\"","v":""},{"$f":"IF(C7806=\"\",\"\",VLOOKUP(C7806,Debiteuren!$A$2:$O$9998,15,0)&\"\"&VLOOKUP(C7806,Debiteuren!$A$2:$N$9998,14,0))","v":""},null,"","",0,""]
[null,null,null,null,null,null,null,null,null,null,"",null,null,"",null,null,null,null,null,0,null,{"$f":"IF(C7813=\"\",\"\",VLOOKUP(C7813,Debiteuren!$A$2:$J$9998,10,0))&\"\"","v":""},{"$f":"IF(C7813=\"\",\"\",VLOOKUP(C7813,Debiteuren!$A$2:$O$9998,15,0)&\"\"&VLOOKUP(C7813,Debiteuren!$A$2:$N$9998,14,0))","v":""},null,"","",0,""]
[null,null,null,null,null,null,null,null,null,null,"",null,null,"",null,null,null,null,null,0,null,{"$f":"IF(C7823=\"\",\"\",VLOOKUP(C7823,Debiteuren!$A$2:$J$9998,10,0))&\"\"","v":""},{"$f":"IF(C7823=\"\",\"\",VLOOKUP(C7823,Debiteuren!$A$2:$O$9998,15,0)&\"\"&VLOOKUP(C7823,Debiteuren!$A$2:$N$9998,14,0))","v":""},null,"","",0,""]
[null,null,null,null,null,null,null,null,null,null,"",null,null,"",null,null,null,null,null,0,null,{"$f":"IF(C7836=\"\",\"\",VLOOKUP(C7836,Debiteuren!$A$2:$J$9998,10,0))&\"\"","v":""},{"$f":"IF(C7836=\"\",\"\",VLOOKUP(C7836,Debiteuren!$A$2:$O$9998,15,0)&\"\"&VLOOKUP(C7836,Debiteuren!$A$2:$N$9998,14,0))","v":""},null,"","",0,""]
[null,null,null,null,null,null,null,null,null,null,"",null,null,"",null,null,null,null,null,0,null,{"$f":"IF(C7843=\"\",\"\",VLOOKUP(C7843,Debiteuren!$A$2:$J$9998,10,0))&\"\"","v":""},{"$f":"IF(C7843=\"\",\"\",VLOOKUP(C7843,Debiteuren!$A$2:$O$9998,15,0)&\"\"&VLOOKUP(C7843,Debiteuren!$A$2:$N$9998,14,0))","v":""},null,"","",0,""]
[null,null,null,null,null,null,null,null,null,null,"",null,null,"",null,null,null,null,null,{"$f":"IF(B7855=1,E7855,0)","v":0},null,{"$f":"IF(C7855=\"\",\"\",VLOOKUP(C7855,Debiteuren!$A$2:$J$9998,10,0))&\"\"","v":""},{"$f":"IF(C7855=\"\",\"\",VLOOKUP(C7855,Debiteuren!$A$2:$O$9998,15,0)&\"\"&VLOOKUP(C7855,Debiteuren!$A$2:$N$9998,14,0))","v":""},null,"","",0,""]
[null,null,null,null,null,null,null,null,null,null,"",null,null,"",null,null,null,null,null,0,null,{"$f":"IF(C7862=\"\",\"\",VLOOKUP(C7862,Debiteuren!$A$2:$J$9998,10,0))&\"\"","v":""},{"$f":"IF(C7862=\"\",\"\",VLOOKUP(C7862,Debiteuren!$A$2:$O$9998,15,0)&\"\"&VLOOKUP(C7862,Debiteuren!$A$2:$N$9998,14,0))","v":""},null,"","",0,""]
[null,null,null,null,null,null,null,null,null,null,"",null,null,"",null,null,null,null,null,0,null,{"$f":"IF(C7873=\"\",\"\",VLOOKUP(C7873,Debiteuren!$A$2:$J$9998,10,0))&\"\"","v":""},{"$f":"IF(C7873=\"\",\"\",VLOOKUP(C7873,Debiteuren!$A$2:$O$9998,15,0)&\"\"&VLOOKUP(C7873,Debiteuren!$A$2:$N$9998,14,0))","v":""},null,"","",0,""]
[null,null,null,null,null,null,null,null,null,null,"",null,null,"",null,null,null,null,null,0,null,{"$f":"IF(C7876=\"\",\"\",VLOOKUP(C7876,Debiteuren!$A$2:$J$9998,10,0))&\"\"","v":""},{"$f":"IF(C7876=\"\",\"\",VLOOKUP(C7876,Debiteuren!$A$2:$O$9998,15,0)&\"\"&VLOOKUP(C7876,Debiteuren!$A$2:$N$9998,14,0))","v":""},null,"","",0,""]
[null,null,null,null,null,null,null,null,null,null,"",null,null,"",null,null,null,null,null,0,null,{"$f":"IF(C7883=\"\",\"\",VLOOKUP(C7883,Debiteuren!$A$2:$J$9998,10,0))&\"\"","v":""},{"$f":"IF(C7883=\"\",\"\",VLOOKUP(C7883,Debiteuren!$A$2:$O$9998,15,0)&\"\"&VLOOKUP(C7883,Debiteuren!$A$2:$N$9998,14,0))","v":""},null,"","",0,""]
[null,null,null,null,null,null,null,null,null,null,"",null,null,"",null,null,null,null,null,0,null,{"$f":"IF(C7895=\"\",\"\",VLOOKUP(C7895,Debiteuren!$A$2:$J$9998,10,0))&\"\"","v":""},{"$f":"IF(C7895=\"\",\"\",VLOOKUP(C7895,Debiteuren!$A$2:$O$9998,15,0)&\"\"&VLOOKUP(C7895,Debiteuren!$A$2:$N$9998,14,0))","v":""},null,"","",0,""]
[null,null,null,null,null,null,null,null,null,null,"",null,null,"",null,null,null,null,null,0,null,{"$f":"IF(C7903=\"\",\"\",VLOOKUP(C7903,Debiteuren!$A$2:$J$9998,10,0))&\"\"","v":""},{"$f":"IF(C7903=\"\",\"\",VLOOKUP(C7903,Debiteuren!$A$2:$O$9998,15,0)&\"\"&VLOOKUP(C7903,Debiteuren!$A$2:$N$9998,14,0))","v":""},null,"","",0,""]
[null,null,null,null,null,null,null,null,null,null,"",null,null,"",null,null,null,null,null,0,null,{"$f":"IF(C7913=\"\",\"\",VLOOKUP(C7913,Debiteuren!$A$2:$J$9998,10,0))&\"\"","v":""},{"$f":"IF(C7913=\"\",\"\",VLOOKUP(C7913,Debiteuren!$A$2:$O$9998,15,0)&\"\"&VLOOKUP(C7913,Debiteuren!$A$2:$N$9998,14,0))","v":""},null,"","",0,""]
[null,null,null,null,null,null,null,null,null,null,"",null,null,"",null,null,null,null,null,0,null,{"$f":"IF(C7925=\"\",\"\",VLOOKUP(C7925,Debiteuren!$A$2:$J$9998,10,0))&\"\"","v":""},{"$f":"IF(C7925=\"\",\"\",VLOOKUP(C7925,Debiteuren!$A$2:$O$9998,15,0)&\"\"&VLOOKUP(C7925,Debiteuren!$A$2:$N$9998,14,0))","v":""},null,"","",0,""]
[null,null,null,null,null,null,null,null,null,null,"",null,null,"",null,null,null,null,null,0,null,{"$f":"IF(C7928=\"\",\"\",VLOOKUP(C7928,Debiteuren!$A$2:$J$9998,10,0))&\"\"","v":""},{"$f":"IF(C7928=\"\",\"\",VLOOKUP(C7928,Debiteuren!$A$2:$O$9998,15,0)&\"\"&VLOOKUP(C7928,Debiteuren!$A$2:$N$9998,14,0))","v":""},null,"","",0,""]
[null,null,null,null,null,null,null,null,null,null,"",null,null,"",null,null,null,null,null,0,null,{"$f":"IF(C7944=\"\",\"\",VLOOKUP(C7944,Debiteuren!$A$2:$J$9998,10,0))&\"\"","v":""},{"$f":"IF(C7944=\"\",\"\",VLOOKUP(C7944,Debiteuren!$A$2:$O$9998,15,0)&\"\"&VLOOKUP(C7944,Debiteuren!$A$2:$N$9998,14,0))","v":""},null,"","",0,""]
[null,null,null,null,null,null,null,null,null,null,"",null,null,"",null,null,null,null,null,0,null,{"$f":"IF(C7952=\"\",\"\",VLOOKUP(C7952,Debiteuren!$A$2:$J$9998,10,0))&\"\"","v":""},{"$f":"IF(C7952=\"\",\"\",VLOOKUP(C7952,Debiteuren!$A$2:$O$9998,15,0)&\"\"&VLOOKUP(C7952,Debiteuren!$A$2:$N$9998,14,0))","v":""},null,"","",0,""]
[null,null,null,null,null,null,null,null,null,null,"",null,null,"",null,null,null,null,null,0,null,{"$f":"IF(C7953=\"\",\"\",VLOOKUP(C7953,Debiteuren!$A$2:$J$9998,10,0))&\"\"","v":""},{"$f":"IF(C7953=\"\",\"\",VLOOKUP(C7953,Debiteuren!$A$2:$O$9998,15,0)&\"\"&VLOOKUP(C7953,Debiteuren!$A$2:$N$9998,14,0))","v":""},null,"","",0,""]
[null,null,null,null,null,null,null,null,null,null,"",null,null,"",null,null,null,null,null,0,null,{"$f":"IF(C7965=\"\",\"\",VLOOKUP(C7965,Debiteuren!$A$2:$J$9998,10,0))&\"\"","v":""},{"$f":"IF(C7965=\"\",\"\",VLOOKUP(C7965,Debiteuren!$A$2:$O$9998,15,0)&\"\"&VLOOKUP(C7965,Debiteuren!$A$2:$N$9998,14,0))","v":""},null,"","",0,""]
[null,null,null,null,null,null,null,null,null,null,"",null,null,"",null,null,null,null,null,0,null,{"$f":"IF(C7977=\"\",\"\",VLOOKUP(C7977,Debiteuren!$A$2:$J$9998,10,0))&\"\"","v":""},{"$f":"IF(C7977=\"\",\"\",VLOOKUP(C7977,Debiteuren!$A$2:$O$9998,15,0)&\"\"&VLOOKUP(C7977,Debiteuren!$A$2:$N$9998,14,0))","v":""},null,"","",0,""]
[null,null,null,null,null,null,null,null,null,null,"",null,null,"",null,null,null,null,null,0,null,{"$f":"IF(C7984=\"\",\"\",VLOOKUP(C7984,Debiteuren!$A$2:$J$9998,10,0))&\"\"","v":""},{"$f":"IF(C7984=\"\",\"\",VLOOKUP(C7984,Debiteuren!$A$2:$O$9998,15,0)&\"\"&VLOOKUP(C7984,Debiteuren!$A$2:$N$9998,14,0))","v":""},null,"","",0,""]
[null,null,null,null,null,null,null,null,null,null,{"$f":"IF(D7993=\"\",\"\",\"\"&\"Kwartaal \"&MONTH(MONTH(D7993)&0)&TEXT(D7993,\" - mmm JJJJ\"))","v":""},null,null,{"$f":"IF(E7993=\"\",\"\",(E7993)-(F7993))","v":""},null,null,null,null,null,0,null,{"$f":"IF(C7993=\"\",\"\",VLOOKUP(C7993,Debiteuren!$A$2:$J$9998,10,0))&\"\"","v":""},{"$f":"IF(C7993=\"\",\"\",VLOOKUP(C7993,Debiteuren!$A$2:$O$9998,15,0)&\"\"&VLOOKUP(C7993,Debiteuren!$A$2:$N$9998,14,0))","v":""},null,"","",0,""]
[null,null,null,null,null,null,null,null,null,null,"",null,null,"",null,null,null,null,null,0,null,{"$f":"IF(C8002=\"\",\"\",VLOOKUP(C8002,Debiteuren!$A$2:$J$9998,10,0))&\"\"","v":""},{"$f":"IF(C8002=\"\",\"\",VLOOKUP(C8002,Debiteuren!$A$2:$O$9998,15,0)&\"\"&VLOOKUP(C8002,Debiteuren!$A$2:$N$9998,14,0))","v":""},null,"","",0,""]
[null,null,null,null,null,null,null,null,null,null,"",null,null,"",null,null,null,null,null,0,null,{"$f":"IF(C8014=\"\",\"\",VLOOKUP(C8014,Debiteuren!$A$2:$J$9998,10,0))&\"\"","v":""},{"$f":"IF(C8014=\"\",\"\",VLOOKUP(C8014,Debiteuren!$A$2:$O$9998,15,0)&\"\"&VLOOKUP(C8014,Debiteuren!$A$2:$N$9998,14,0))","v":""},null,"","",0,""]
[null,null,null,null,null,null,null,null,null,null,"",null,null,"",null,null,null,null,null,0,null,{"$f":"IF(C8017=\"\",\"\",VLOOKUP(C8017,Debiteuren!$A$2:$J$9998,10,0))&\"\"","v":""},{"$f":"IF(C8017=\"\",\"\",VLOOKUP(C8017,Debiteuren!$A$2:$O$9998,15,0)&\"\"&VLOOKUP(C8017,Debiteuren!$A$2:$N$9998,14,0))","v":""},null,"","",0,""]
[null,null,null,null,null,null,null,null,null,null,"",null,null,"",null,null,null,null,null,0,null,{"$f":"IF(C8024=\"\",\"\",VLOOKUP(C8024,Debiteuren!$A$2:$J$9998,10,0))&\"\"","v":""},{"$f":"IF(C8024=\"\",\"\",VLOOKUP(C8024,Debiteuren!$A$2:$O$9998,15,0)&\"\"&VLOOKUP(C8024,Debiteuren!$A$2:$N$9998,14,0))","v":""},null,"","",0,""]
[null,null,null,null,null,null,null,null,null,null,"",null,null,"",null,null,null,null,null,0,null,{"$f":"IF(C8034=\"\",\"\",VLOOKUP(C8034,Debiteuren!$A$2:$J$9998,10,0))&\"\"","v":""},{"$f":"IF(C8034=\"\",\"\",VLOOKUP(C8034,Debiteuren!$A$2:$O$9998,15,0)&\"\"&VLOOKUP(C8034,Debiteuren!$A$2:$N$9998,14,0))","v":""},null,"","",0,""]
[null,null,null,null,null,null,null,null,null,null,"",null,null,"",null,null,null,null,null,{"$f":"IF(B8047=1,E8047,0)","v":0},null,{"$f":"IF(C8047=\"\",\"\",VLOOKUP(C8047,Debiteuren!$A$2:$J$9998,10,0))&\"\"","v":""},{"$f":"IF(C8047=\"\",\"\",VLOOKUP(C8047,Debiteuren!$A$2:$O$9998,15,0)&\"\"&VLOOKUP(C8047,Debiteuren!$A$2:$N$9998,14,0))","v":""},null,"","",0,""]
[null,null,null,null,null,null,null,null,null,null,"",null,null,"",null,null,null,null,null,0,null,{"$f":"IF(C8054=\"\",\"\",VLOOKUP(C8054,Debiteuren!$A$2:$J$9998,10,0))&\"\"","v":""},{"$f":"IF(C8054=\"\",\"\",VLOOKUP(C8054,Debiteuren!$A$2:$O$9998,15,0)&\"\"&VLOOKUP(C8054,Debiteuren!$A$2:$N$9998,14,0))","v":""},null,"","",0,""]
[null,null,null,null,null,null,null,null,null,null,"",null,null,"",null,null,null,null,null,0,null,{"$f":"IF(C8066=\"\",\"\",VLOOKUP(C8066,Debiteuren!$A$2:$J$9998,10,0))&\"\"","v":""},{"$f":"IF(C8066=\"\",\"\",VLOOKUP(C8066,Debiteuren!$A$2:$O$9998,15,0)&\"\"&VLOOKUP(C8066,Debiteuren!$A$2:$N$9998,14,0))","v":""},null,"","",0,""]
[null,null,null,null,null,null,null,null,null,null,"",null,null,"",null,null,null,null,null,0,null,{"$f":"IF(C8073=\"\",\"\",VLOOKUP(C8073,Debiteuren!$A$2:$J$9998,10,0))&\"\"","v":""},{"$f":"IF(C8073=\"\",\"\",VLOOKUP(C8073,Debiteuren!$A$2:$O$9998,15,0)&\"\"&VLOOKUP(C8073,Debiteuren!$A$2:$N$9998,14,0))","v":""},null,"","",0,""]
[null,null,null,null,null,null,null,null,null,null,"",null,null,"",null,null,null,null,null,0,null,{"$f":"IF(C8084=\"\",\"\",VLOOKUP(C8084,Debiteuren!$A$2:$J$9998,10,0))&\"\"","v":""},{"$f":"IF(C8084=\"\",\"\",VLOOKUP(C8084,Debiteuren!$A$2:$O$9998,15,0)&\"\"&VLOOKUP(C8084,Debiteuren!$A$2:$N$9998,14,0))","v":""},null,"","",0,""]
[null,null,null,null,null,null,null,null,null,null,"",null,null,"",null,null,null,null,null,0,null,{"$f":"IF(C8087=\"\",\"\",VLOOKUP(C8087,Debiteuren!$A$2:$J$9998,10,0))&\"\"","v":""},{"$f":"IF(C8087=\"\",\"\",VLOOKUP(C8087,Debiteuren!$A$2:$O$9998,15,0)&\"\"&VLOOKUP(C8087,Debiteuren!$A$2:$N$9998,14,0))","v":""},null,"","",0,""]
[null,null,null,null,null,null,null,null,null,null,"",null,null,"",null,null,null,null,null,0,null,{"$f":"IF(C8094=\"\",\"\",VLOOKUP(C8094,Debiteuren!$A$2:$J$9998,10,0))&\"\"","v":""},{"$f":"IF(C8094=\"\",\"\",VLOOKUP(C8094,Debiteuren!$A$2:$O$9998,15,0)&\"\"&VLOOKUP(C8094,Debiteuren!$A$2:$N$9998,14,0))","v":""},null,"","",0,""]
[null,null,null,null,null,null,null,null,null,null,"",null,null,"",null,null,null,null,null,0,null,{"$f":"IF(C8106=\"\",\"\",VLOOKUP(C8106,Debiteuren!$A$2:$J$9998,10,0))&\"\"","v":""},{"$f":"IF(C8106=\"\",\"\",VLOOKUP(C8106,Debiteuren!$A$2:$O$9998,15,0)&\"\"&VLOOKUP(C8106,Debiteuren!$A$2:$N$9998,14,0))","v":""},null,"","",0,""]
[null,null,null,null,null,null,null,null,null,null,"",null,null,"",null,null,null,null,null,0,null,{"$f":"IF(C8114=\"\",\"\",VLOOKUP(C8114,Debiteuren!$A$2:$J$9998,10,0))&\"\"","v":""},{"$f":"IF(C8114=\"\",\"\",VLOOKUP(C8114,Debiteuren!$A$2:$O$9998,15,0)&\"\"&VLOOKUP(C8114,Debiteuren!$A$2:$N$9998,14,0))","v":""},null,"","",0,""]
[null,null,null,null,null,null,null,null,null,null,"",null,null,"",null,null,null,null,null,0,null,{"$f":"IF(C8124=\"\",\"\",VLOOKUP(C8124,Debiteuren!$A$2:$J$9998,10,0))&\"\"","v":""},{"$f":"IF(C8124=\"\",\"\",VLOOKUP(C8124,Debiteuren!$A$2:$O$9998,15,0)&\"\"&VLOOKUP(C8124,Debiteuren!$A$2:$N$9998,14,0))","v":""},null,"","",0,""]
[null,null,null,null,null,null,null,null,null,null,"",null,null,"",null,null,null,null,null,0,null,{"$f":"IF(C8136=\"\",\"\",VLOOKUP(C8136,Debiteuren!$A$2:$J$9998,10,0))&\"\"","v":""},{"$f":"IF(C8136=\"\",\"\",VLOOKUP(C8136,Debiteuren!$A$2:$O$9998,15,0)&\"\"&VLOOKUP(C8136,Debiteuren!$A$2:$N$9998,14,0))","v":""},null,"","",0,""]
[null,null,null,null,null,null,null,null,null,null,"",null,null,"",null,null,null,null,null,0,null,{"$f":"IF(C8143=\"\",\"\",VLOOKUP(C8143,Debiteuren!$A$2:$J$9998,10,0))&\"\"","v":""},{"$f":"IF(C8143=\"\",\"\",VLOOKUP(C8143,Debiteuren!$A$2:$O$9998,15,0)&\"\"&VLOOKUP(C8143,Debiteuren!$A$2:$N$9998,14,0))","v":""},null,"","",0,""]
[null,null,null,null,null,null,null,null,null,null,"",null,null,"",null,null,null,null,null,0,null,{"$f":"IF(C8155=\"\",\"\",VLOOKUP(C8155,Debiteuren!$A$2:$J$9998,10,0))&\"\"","v":""},{"$f":"IF(C8155=\"\",\"\",VLOOKUP(C8155,Debiteuren!$A$2:$O$9998,15,0)&\"\"&VLOOKUP(C8155,Debiteuren!$A$2:$N$9998,14,0))","v":""},null,"","",0,""]
[null,null,null,null,null,null,null,null,null,null,"",null,null,"",null,null,null,null,null,0,null,{"$f":"IF(C8163=\"\",\"\",VLOOKUP(C8163,Debiteuren!$A$2:$J$9998,10,0))&\"\"","v":""},{"$f":"IF(C8163=\"\",\"\",VLOOKUP(C8163,Debiteuren!$A$2:$O$9998,15,0)&\"\"&VLOOKUP(C8163,Debiteuren!$A$2:$N$9998,14,0))","v":""},null,"","",0,""]
[null,null,null,null,null,null,null,null,null,null,"",null,null,"",null,null,null,null,null,0,null,{"$f":"IF(C8164=\"\",\"\",VLOOKUP(C8164,Debiteuren!$A$2:$J$9998,10,0))&\"\"","v":""},{"$f":"IF(C8164=\"\",\"\",VLOOKUP(C8164,Debiteuren!$A$2:$O$9998,15,0)&\"\"&VLOOKUP(C8164,Debiteuren!$A$2:$N$9998,14,0))","v":""},null,"","",0,""]
[null,null,null,null,null,null,null,null,null,null,"",null,null,"",null,null,null,null,null,0,null,{"$f":"IF(C8176=\"\",\"\",VLOOKUP(C8176,Debiteuren!$A$2:$J$9998,10,0))&\"\"","v":""},{"$f":"IF(C8176=\"\",\"\",VLOOKUP(C8176,Debiteuren!$A$2:$O$9998,15,0)&\"\"&VLOOKUP(C8176,Debiteuren!$A$2:$N$9998,14,0))","v":""},null,"","",0,""]
[null,null,null,null,null,null,null,null,null,null,"",null,null,"",null,null,null,null,null,0,null,{"$f":"IF(C8183=\"\",\"\",VLOOKUP(C8183,Debiteuren!$A$2:$J$9998,10,0))&\"\"","v":""},{"$f":"IF(C8183=\"\",\"\",VLOOKUP(C8183,Debiteuren!$A$2:$O$9998,15,0)&\"\"&VLOOKUP(C8183,Debiteuren!$A$2:$N$9998,14,0))","v":""},null,"","",0,""]
[null,null,null,null,null,null,null,null,null,null,"",null,null,"",null,null,null,null,null,0,null,{"$f":"IF(C8195=\"\",\"\",VLOOKUP(C8195,Debiteuren!$A$2:$J$9998,10,0))&\"\"","v":""},{"$f":"IF(C8195=\"\",\"\",VLOOKUP(C8195,Debiteuren!$A$2:$O$9998,15,0)&\"\"&VLOOKUP(C8195,Debiteuren!$A$2:$N$9998,14,0))","v":""},null,"","",0,""]
[null,null,null,null,null,null,null,null,null,null,"",null,null,"",null,null,null,null,null,0,null,{"$f":"IF(C8204=\"\",\"\",VLOOKUP(C8204,Debiteuren!$A$2:$J$9998,10,0))&\"\"","v":""},{"$f":"IF(C8204=\"\",\"\",VLOOKUP(C8204,Debiteuren!$A$2:$O$9998,15,0)&\"\"&VLOOKUP(C8204,Debiteuren!$A$2:$N$9998,14,0))","v":""},null,"","",0,""]
[null,null,null,null,null,null,null,null,null,null,"",null,null,"",null,null,null,null,null,0,null,{"$f":"IF(C8213=\"\",\"\",VLOOKUP(C8213,Debiteuren!$A$2:$J$9998,10,0))&\"\"","v":""},{"$f":"IF(C8213=\"\",\"\",VLOOKUP(C8213,Debiteuren!$A$2:$O$9998,15,0)&\"\"&VLOOKUP(C8213,Debiteuren!$A$2:$N$9998,14,0))","v":""},null,"","",0,""]
[null,null,null,null,null,null,null,null,null,null,"",null,null,"",null,null,null,null,null,0,null,{"$f":"IF(C8225=\"\",\"\",VLOOKUP(C8225,Debiteuren!$A$2:$J$9998,10,0))&\"\"","v":""},{"$f":"IF(C8225=\"\",\"\",VLOOKUP(C8225,Debiteuren!$A$2:$O$9998,15,0)&\"\"&VLOOKUP(C8225,Debiteuren!$A$2:$N$9998,14,0))","v":""},null,"","",0,""]
[null,null,null,null,null,null,null,null,null,null,"",null,null,"",null,null,null,null,null,0,null,{"$f":"IF(C8228=\"\",\"\",VLOOKUP(C8228,Debiteuren!$A$2:$J$9998,10,0))&\"\"","v":""},{"$f":"IF(C8228=\"\",\"\",VLOOKUP(C8228,Debiteuren!$A$2:$O$9998,15,0)&\"\"&VLOOKUP(C8228,Debiteuren!$A$2:$N$9998,14,0))","v":""},null,"","",0,""]
[null,null,null,null,null,null,null,null,null,null,"",null,null,"",null,null,null,null,null,0,null,{"$f":"IF(C8235=\"\",\"\",VLOOKUP(C8235,Debiteuren!$A$2:$J$9998,10,0))&\"\"","v":""},{"$f":"IF(C8235=\"\",\"\",VLOOKUP(C8235,Debiteuren!$A$2:$O$9998,15,0)&\"\"&VLOOKUP(C8235,Debiteuren!$A$2:$N$9998,14,0))","v":""},null,"","",0,""]
[null,null,null,null,null,null,null,null,null,null,"",null,null,"",null,null,null,null,null,0,null,{"$f":"IF(C8246=\"\",\"\",VLOOKUP(C8246,Debiteuren!$A$2:$J$9998,10,0))&\"\"","v":""},{"$f":"IF(C8246=\"\",\"\",VLOOKUP(C8246,Debiteuren!$A$2:$O$9998,15,0)&\"\"&VLOOKUP(C8246,Debiteuren!$A$2:$N$9998,14,0))","v":""},null,"","",0,""]
[null,null,null,null,null,null,null,null,null,null,"",null,null,"",null,null,null,null,null,0,null,{"$f":"IF(C8253=\"\",\"\",VLOOKUP(C8253,Debiteuren!$A$2:$J$9998,10,0))&\"\"","v":""},{"$f":"IF(C8253=\"\",\"\",VLOOKUP(C8253,Debiteuren!$A$2:$O$9998,15,0)&\"\"&VLOOKUP(C8253,Debiteuren!$A$2:$N$9998,14,0))","v":""},null,"","",0,""]
[null,null,null,null,null,null,null,null,null,null,"",null,null,"",null,null,null,null,null,0,null,{"$f":"IF(C8265=\"\",\"\",VLOOKUP(C8265,Debiteuren!$A$2:$J$9998,10,0))&\"\"","v":""},{"$f":"IF(C8265=\"\",\"\",VLOOKUP(C8265,Debiteuren!$A$2:$O$9998,15,0)&\"\"&VLOOKUP(C8265,Debiteuren!$A$2:$N$9998,14,0))","v":""},null,"","",0,""]
[null,null,null,null,null,null,null,null,null,null,"",null,null,"",null,null,null,null,null,0,null,{"$f":"IF(C8277=\"\",\"\",VLOOKUP(C8277,Debiteuren!$A$2:$J$9998,10,0))&\"\"","v":""},{"$f":"IF(C8277=\"\",\"\",VLOOKUP(C8277,Debiteuren!$A$2:$O$9998,15,0)&\"\"&VLOOKUP(C8277,Debiteuren!$A$2:$N$9998,14,0))","v":""},null,"","",0,""]
[null,null,null,null,null,null,null,null,null,null,"",null,null,"",null,null,null,null,null,0,null,{"$f":"IF(C8284=\"\",\"\",VLOOKUP(C8284,Debiteuren!$A$2:$J$9998,10,0))&\"\"","v":""},{"$f":"IF(C8284=\"\",\"\",VLOOKUP(C8284,Debiteuren!$A$2:$O$9998,15,0)&\"\"&VLOOKUP(C8284,Debiteuren!$A$2:$N$9998,14,0))","v":""},null,"","",0,""]
[null,null,null,null,null,null,null,null,null,null,"",null,null,"",null,null,null,null,null,0,null,{"$f":"IF(C8295=\"\",\"\",VLOOKUP(C8295,Debiteuren!$A$2:$J$9998,10,0))&\"\"","v":""},{"$f":"IF(C8295=\"\",\"\",VLOOKUP(C8295,Debiteuren!$A$2:$O$9998,15,0)&\"\"&VLOOKUP(C8295,Debiteuren!$A$2:$N$9998,14,0))","v":""},null,"","",0,""]
[null,null,null,null,null,null,null,null,null,null,"",null,null,"",null,null,null,null,null,0,null,{"$f":"IF(C8302=\"\",\"\",VLOOKUP(C8302,Debiteuren!$A$2:$J$9998,10,0))&\"\"","v":""},{"$f":"IF(C8302=\"\",\"\",VLOOKUP(C8302,Debiteuren!$A$2:$O$9998,15,0)&\"\"&VLOOKUP(C8302,Debiteuren!$A$2:$N$9998,14,0))","v":""},null,{"$f":"IF(D8302=\"\",\"\",DATEDIF(D8302,TODAY(),\"d\"))","v":""},{"$f":"IF(G8302=\"\",\"\",DATEDIF(D8302,G8302,\"d\"))","v":""},{"$f":"DATEDIF(D8302,H8302,\"d\")","v":0},{"$f":"IF(Y8302=\"\",\"\",Y8302-AA8302)","v":""}]
[null,null,null,null,null,null,null,null,null,null,"",null,null,"",null,null,null,null,null,0,null,{"$f":"IF(C8305=\"\",\"\",VLOOKUP(C8305,Debiteuren!$A$2:$J$9998,10,0))&\"\"","v":""},{"$f":"IF(C8305=\"\",\"\",VLOOKUP(C8305,Debiteuren!$A$2:$O$9998,15,0)&\"\"&VLOOKUP(C8305,Debiteuren!$A$2:$N$9998,14,0))","v":""},null,"","",0,""]
[null,null,null,null,null,null,null,null,null,null,"",null,null,"",null,null,null,null,null,0,null,{"$f":"IF(C8317=\"\",\"\",VLOOKUP(C8317,Debiteuren!$A$2:$J$9998,10,0))&\"\"","v":""},{"$f":"IF(C8317=\"\",\"\",VLOOKUP(C8317,Debiteuren!$A$2:$O$9998,15,0)&\"\"&VLOOKUP(C8317,Debiteuren!$A$2:$N$9998,14,0))","v":""},null,"","",0,""]
[null,null,null,null,null,null,null,null,null,null,"",null,null,"",null,null,null,null,null,0,null,{"$f":"IF(C8325=\"\",\"\",VLOOKUP(C8325,Debiteuren!$A$2:$J$9998,10,0))&\"\"","v":""},{"$f":"IF(C8325=\"\",\"\",VLOOKUP(C8325,Debiteuren!$A$2:$O$9998,15,0)&\"\"&VLOOKUP(C8325,Debiteuren!$A$2:$N$9998,14,0))","v":""},null,"","",0,""]
[null,null,null,null,null,null,null,null,null,null,"",null,null,"",null,null,null,null,null,0,null,{"$f":"IF(C8335=\"\",\"\",VLOOKUP(C8335,Debiteuren!$A$2:$J$9998,10,0))&\"\"","v":""},{"$f":"IF(C8335=\"\",\"\",VLOOKUP(C8335,Debiteuren!$A$2:$O$9998,15,0)&\"\"&VLOOKUP(C8335,Debiteuren!$A$2:$N$9998,14,0))","v":""},null,"","",0,""]
[null,null,null,null,null,null,null,null,null,null,"",null,null,"",null,null,null,null,null,0,null,{"$f":"IF(C8347=\"\",\"\",VLOOKUP(C8347,Debiteuren!$A$2:$J$9998,10,0))&\"\"","v":""},{"$f":"IF(C8347=\"\",\"\",VLOOKUP(C8347,Debiteuren!$A$2:$O$9998,15,0)&\"\"&VLOOKUP(C8347,Debiteuren!$A$2:$N$9998,14,0))","v":""},null,"","",0,""]
[null,null,null,null,null,null,null,null,null,null,"",null,null,"",null,null,null,null,null,0,null,{"$f":"IF(C8354=\"\",\"\",VLOOKUP(C8354,Debiteuren!$A$2:$J$9998,10,0))&\"\"","v":""},{"$f":"IF(C8354=\"\",\"\",VLOOKUP(C8354,Debiteuren!$A$2:$O$9998,15,0)&\"\"&VLOOKUP(C8354,Debiteuren!$A$2:$N$9998,14,0))","v":""},null,"","",0,""]
[null,null,null,null,null,null,null,null,null,null,"",null,null,"",null,null,null,null,null,0,null,{"$f":"IF(C8366=\"\",\"\",VLOOKUP(C8366,Debiteuren!$A$2:$J$9998,10,0))&\"\"","v":""},{"$f":"IF(C8366=\"\",\"\",VLOOKUP(C8366,Debiteuren!$A$2:$O$9998,15,0)&\"\"&VLOOKUP(C8366,Debiteuren!$A$2:$N$9998,14,0))","v":""},null,{"$f":"IF(D8366=\"\",\"\",DATEDIF(D8366,TODAY(),\"d\"))","v":""},{"$f":"IF(G8366=\"\",\"\",DATEDIF(D8366,G8366,\"d\"))","v":""},{"$f":"DATEDIF(D8366,H8366,\"d\")","v":0},{"$f":"IF(Y8366=\"\",\"\",Y8366-AA8366)","v":""}]
[null,null,null,null,null,null,null,null,null,null,"",null,null,"",null,null,null,null,null,0,null,{"$f":"IF(C8374=\"\",\"\",VLOOKUP(C8374,Debiteuren!$A$2:$J$9998,10,0))&\"\"","v":""},{"$f":"IF(C8374=\"\",\"\",VLOOKUP(C8374,Debiteuren!$A$2:$O$9998,15,0)&\"\"&VLOOKUP(C8374,Debiteuren!$A$2:$N$9998,14,0))","v":""},null,"","",0,""]
[null,null,null,null,null,null,null,null,null,null,"",null,null,"",null,null,null,null,null,0,null,{"$f":"IF(C8375=\"\",\"\",VLOOKUP(C8375,Debiteuren!$A$2:$J$9998,10,0))&\"\"","v":""},{"$f":"IF(C8375=\"\",\"\",VLOOKUP(C8375,Debiteuren!$A$2:$O$9998,15,0)&\"\"&VLOOKUP(C8375,Debiteuren!$A$2:$N$9998,14,0))","v":""},null,"","",0,""]
[null,null,null,null,null,null,null,null,null,null,"",null,null,"",null,null,null,null,null,0,null,{"$f":"IF(C8387=\"\",\"\",VLOOKUP(C8387,Debiteuren!$A$2:$J$9998,10,0))&\"\"","v":""},{"$f":"IF(C8387=\"\",\"\",VLOOKUP(C8387,Debiteuren!$A$2:$O$9998,15,0)&\"\"&VLOOKUP(C8387,Debiteuren!$A$2:$N$9998,14,0))","v":""},null,"","",0,""]
[null,null,null,null,null,null,null,null,null,null,"",null,null,"",null,null,null,null,null,0,null,{"$f":"IF(C8394=\"\",\"\",VLOOKUP(C8394,Debiteuren!$A$2:$J$9998,10,0))&\"\"","v":""},{"$f":"IF(C8394=\"\",\"\",VLOOKUP(C8394,Debiteuren!$A$2:$O$9998,15,0)&\"\"&VLOOKUP(C8394,Debiteuren!$A$2:$N$9998,14,0))","v":""},null,"","",0,""]
[null,null,null,null,null,null,null,null,null,null,"",null,null,"",null,null,null,null,null,0,null,{"$f":"IF(C8405=\"\",\"\",VLOOKUP(C8405,Debiteuren!$A$2:$J$9998,10,0))&\"\"","v":""},{"$f":"IF(C8405=\"\",\"\",VLOOKUP(C8405,Debiteuren!$A$2:$O$9998,15,0)&\"\"&VLOOKUP(C8405,Debiteuren!$A$2:$N$9998,14,0))","v":""},null,"","",0,""]
[null,null,null,null,null,null,null,null,null,null,"",null,null,"",null,null,null,null,null,0,null,{"$f":"IF(C8417=\"\",\"\",VLOOKUP(C8417,Debiteuren!$A$2:$J$9998,10,0))&\"\"","v":""},{"$f":"IF(C8417=\"\",\"\",VLOOKUP(C8417,Debiteuren!$A$2:$O$9998,15,0)&\"\"&VLOOKUP(C8417,Debiteuren!$A$2:$N$9998,14,0))","v":""},null,"","",0,""]
[null,null,null,null,null,null,null,null,null,null,"",null,null,"",null,null,null,null,null,0,null,{"$f":"IF(C8424=\"\",\"\",VLOOKUP(C8424,Debiteuren!$A$2:$J$9998,10,0))&\"\"","v":""},{"$f":"IF(C8424=\"\",\"\",VLOOKUP(C8424,Debiteuren!$A$2:$O$9998,15,0)&\"\"&VLOOKUP(C8424,Debiteuren!$A$2:$N$9998,14,0))","v":""},null,"","",0,""]
[null,null,null,null,null,null,null,null,null,null,"",null,null,"",null,null,null,null,null,0,null,{"$f":"IF(C8436=\"\",\"\",VLOOKUP(C8436,Debiteuren!$A$2:$J$9998,10,0))&\"\"","v":""},{"$f":"IF(C8436=\"\",\"\",VLOOKUP(C8436,Debiteuren!$A$2:$O$9998,15,0)&\"\"&VLOOKUP(C8436,Debiteuren!$A$2:$N$9998,14,0))","v":""},null,"","",0,""]
[null,null,null,null,null,null,null,null,null,null,"",null,null,"",null,null,null,null,null,0,null,{"$f":"IF(C8443=\"\",\"\",VLOOKUP(C8443,Debiteuren!$A$2:$J$9998,10,0))&\"\"","v":""},{"$f":"IF(C8443=\"\",\"\",VLOOKUP(C8443,Debiteuren!$A$2:$O$9998,15,0)&\"\"&VLOOKUP(C8443,Debiteuren!$A$2:$N$9998,14,0))","v":""},null,"","",0,""]
[null,null,null,null,null,null,null,null,null,null,"",null,null,"",null,null,null,null,null,0,null,{"$f":"IF(C8446=\"\",\"\",VLOOKUP(C8446,Debiteuren!$A$2:$J$9998,10,0))&\"\"","v":""},{"$f":"IF(C8446=\"\",\"\",VLOOKUP(C8446,Debiteuren!$A$2:$O$9998,15,0)&\"\"&VLOOKUP(C8446,Debiteuren!$A$2:$N$9998,14,0))","v":""},null,"","",0,""]
[null,null,null,null,null,null,null,null,null,null,"",null,null,"",null,null,null,null,null,0,null,{"$f":"IF(C8457=\"\",\"\",VLOOKUP(C8457,Debiteuren!$A$2:$J$9998,10,0))&\"\"","v":""},{"$f":"IF(C8457=\"\",\"\",VLOOKUP(C8457,Debiteuren!$A$2:$O$9998,15,0)&\"\"&VLOOKUP(C8457,Debiteuren!$A$2:$N$9998,14,0))","v":""},null,"","",0,""]
[null,null,null,null,null,null,null,null,null,null,"",null,null,"",null,null,null,null,null,0,null,{"$f":"IF(C8464=\"\",\"\",VLOOKUP(C8464,Debiteuren!$A$2:$J$9998,10,0))&\"\"","v":""},{"$f":"IF(C8464=\"\",\"\",VLOOKUP(C8464,Debiteuren!$A$2:$O$9998,15,0)&\"\"&VLOOKUP(C8464,Debiteuren!$A$2:$N$9998,14,0))","v":""},null,"","",0,""]
[null,null,null,null,null,null,null,null,null,null,"",null,null,"",null,null,null,null,null,0,null,{"$f":"IF(C8476=\"\",\"\",VLOOKUP(C8476,Debiteuren!$A$2:$J$9998,10,0))&\"\"","v":""},{"$f":"IF(C8476=\"\",\"\",VLOOKUP(C8476,Debiteuren!$A$2:$O$9998,15,0)&\"\"&VLOOKUP(C8476,Debiteuren!$A$2:$N$9998,14,0))","v":""},null,"","",0,""]
[null,null,null,null,null,null,null,null,null,null,"",null,null,"",null,null,null,null,null,0,null,{"$f":"IF(C8483=\"\",\"\",VLOOKUP(C8483,Debiteuren!$A$2:$J$9998,10,0))&\"\"","v":""},{"$f":"IF(C8483=\"\",\"\",VLOOKUP(C8483,Debiteuren!$A$2:$O$9998,15,0)&\"\"&VLOOKUP(C8483,Debiteuren!$A$2:$N$9998,14,0))","v":""},null,"","",0,""]
[null,null,null,null,null,null,null,null,null,null,"",null,null,"",null,null,null,null,null,{"$f":"IF(B8495=1,E8495,0)","v":0},null,{"$f":"IF(C8495=\"\",\"\",VLOOKUP(C8495,Debiteuren!$A$2:$J$9998,10,0))&\"\"","v":""},{"$f":"IF(C8495=\"\",\"\",VLOOKUP(C8495,Debiteuren!$A$2:$O$9998,15,0)&\"\"&VLOOKUP(C8495,Debiteuren!$A$2:$N$9998,14,0))","v":""},null,"","",0,""]
[null,null,null,null,null,null,null,null,null,null,"",null,null,"",null,null,null,null,null,0,null,{"$f":"IF(C8506=\"\",\"\",VLOOKUP(C8506,Debiteuren!$A$2:$J$9998,10,0))&\"\"","v":""},{"$f":"IF(C8506=\"\",\"\",VLOOKUP(C8506,Debiteuren!$A$2:$O$9998,15,0)&\"\"&VLOOKUP(C8506,Debiteuren!$A$2:$N$9998,14,0))","v":""},null,"","",0,""]
[null,null,null,null,null,null,null,null,null,null,"",null,null,"",null,null,null,null,null,0,null,{"$f":"IF(C8513=\"\",\"\",VLOOKUP(C8513,Debiteuren!$A$2:$J$9998,10,0))&\"\"","v":""},{"$f":"IF(C8513=\"\",\"\",VLOOKUP(C8513,Debiteuren!$A$2:$O$9998,15,0)&\"\"&VLOOKUP(C8513,Debiteuren!$A$2:$N$9998,14,0))","v":""},null,"","",0,""]
[null,null,null,null,null,null,null,null,null,null,"",null,null,"",null,null,null,null,null,0,null,{"$f":"IF(C8516=\"\",\"\",VLOOKUP(C8516,Debiteuren!$A$2:$J$9998,10,0))&\"\"","v":""},{"$f":"IF(C8516=\"\",\"\",VLOOKUP(C8516,Debiteuren!$A$2:$O$9998,15,0)&\"\"&VLOOKUP(C8516,Debiteuren!$A$2:$N$9998,14,0))","v":""},null,"","",0,""]
[null,null,null,null,null,null,null,null,null,null,"",null,null,"",null,null,null,null,null,0,null,{"$f":"IF(C8528=\"\",\"\",VLOOKUP(C8528,Debiteuren!$A$2:$J$9998,10,0))&\"\"","v":""},{"$f":"IF(C8528=\"\",\"\",VLOOKUP(C8528,Debiteuren!$A$2:$O$9998,15,0)&\"\"&VLOOKUP(C8528,Debiteuren!$A$2:$N$9998,14,0))","v":""},null,"","",0,""]
[null,null,null,null,null,null,null,null,null,null,"",null,null,"",null,null,null,null,null,0,null,{"$f":"IF(C8536=\"\",\"\",VLOOKUP(C8536,Debiteuren!$A$2:$J$9998,10,0))&\"\"","v":""},{"$f":"IF(C8536=\"\",\"\",VLOOKUP(C8536,Debiteuren!$A$2:$O$9998,15,0)&\"\"&VLOOKUP(C8536,Debiteuren!$A$2:$N$9998,14,0))","v":""},null,"","",0,""]
[null,null,null,null,null,null,null,null,null,null,"",null,null,"",null,null,null,null,null,0,null,{"$f":"IF(C8546=\"\",\"\",VLOOKUP(C8546,Debiteuren!$A$2:$J$9998,10,0))&\"\"","v":""},{"$f":"IF(C8546=\"\",\"\",VLOOKUP(C8546,Debiteuren!$A$2:$O$9998,15,0)&\"\"&VLOOKUP(C8546,Debiteuren!$A$2:$N$9998,14,0))","v":""},null,"","",0,""]
[null,null,null,null,null,null,null,null,null,null,"",null,null,"",null,null,null,null,null,0,null,{"$f":"IF(C8553=\"\",\"\",VLOOKUP(C8553,Debiteuren!$A$2:$J$9998,10,0))&\"\"","v":""},{"$f":"IF(C8553=\"\",\"\",VLOOKUP(C8553,Debiteuren!$A$2:$O$9998,15,0)&\"\"&VLOOKUP(C8553,Debiteuren!$A$2:$N$9998,14,0))","v":""},null,"","",0,""]
[null,null,null,null,null,null,null,null,null,null,"",null,null,"",null,null,null,null,null,0,null,{"$f":"IF(C8565=\"\",\"\",VLOOKUP(C8565,Debiteuren!$A$2:$J$9998,10,0))&\"\"","v":""},{"$f":"IF(C8565=\"\",\"\",VLOOKUP(C8565,Debiteuren!$A$2:$O$9998,15,0)&\"\"&VLOOKUP(C8565,Debiteuren!$A$2:$N$9998,14,0))","v":""},null,"","",0,""]
[null,null,null,null,null,null,null,null,null,null,"",null,null,"",null,null,null,null,null,0,null,{"$f":"IF(C8575=\"\",\"\",VLOOKUP(C8575,Debiteuren!$A$2:$J$9998,10,0))&\"\"","v":""},{"$f":"IF(C8575=\"\",\"\",VLOOKUP(C8575,Debiteuren!$A$2:$O$9998,15,0)&\"\"&VLOOKUP(C8575,Debiteuren!$A$2:$N$9998,14,0))","v":""},null,"","",0,""]
[null,null,null,null,null,null,null,null,null,null,"",null,null,"",null,null,null,null,null,0,null,{"$f":"IF(C8583=\"\",\"\",VLOOKUP(C8583,Debiteuren!$A$2:$J$9998,10,0))&\"\"","v":""},{"$f":"IF(C8583=\"\",\"\",VLOOKUP(C8583,Debiteuren!$A$2:$O$9998,15,0)&\"\"&VLOOKUP(C8583,Debiteuren!$A$2:$N$9998,14,0))","v":""},null,"","",0,""]
[null,null,null,null,null,null,null,null,null,null,"",null,null,"",null,null,null,null,null,0,null,{"$f":"IF(C8586=\"\",\"\",VLOOKUP(C8586,Debiteuren!$A$2:$J$9998,10,0))&\"\"","v":""},{"$f":"IF(C8586=\"\",\"\",VLOOKUP(C8586,Debiteuren!$A$2:$O$9998,15,0)&\"\"&VLOOKUP(C8586,Debiteuren!$A$2:$N$9998,14,0))","v":""},null,"","",0,""]
[null,null,null,null,null,null,null,null,null,null,"",null,null,"",null,null,null,null,null,0,null,{"$f":"IF(C8602=\"\",\"\",VLOOKUP(C8602,Debiteuren!$A$2:$J$9998,10,0))&\"\"","v":""},{"$f":"IF(C8602=\"\",\"\",VLOOKUP(C8602,Debiteuren!$A$2:$O$9998,15,0)&\"\"&VLOOKUP(C8602,Debiteuren!$A$2:$N$9998,14,0))","v":""},null,"","",0,""]
[null,null,null,null,null,null,null,null,null,null,"",null,null,"",null,null,null,null,null,0,null,{"$f":"IF(C8605=\"\",\"\",VLOOKUP(C8605,Debiteuren!$A$2:$J$9998,10,0))&\"\"","v":""},{"$f":"IF(C8605=\"\",\"\",VLOOKUP(C8605,Debiteuren!$A$2:$O$9998,15,0)&\"\"&VLOOKUP(C8605,Debiteuren!$A$2:$N$9998,14,0))","v":""},null,"","",0,""]
[null,null,null,null,null,null,null,null,null,null,"",null,null,"",null,null,null,null,null,0,null,{"$f":"IF(C8616=\"\",\"\",VLOOKUP(C8616,Debiteuren!$A$2:$J$9998,10,0))&\"\"","v":""},{"$f":"IF(C8616=\"\",\"\",VLOOKUP(C8616,Debiteuren!$A$2:$O$9998,15,0)&\"\"&VLOOKUP(C8616,Debiteuren!$A$2:$N$9998,14,0))","v":""},null,"","",0,""]
[null,null,null,null,null,null,null,null,null,null,"",null,null,"",null,null,null,null,null,{"$f":"IF(B8623=1,E8623,0)","v":0},null,{"$f":"IF(C8623=\"\",\"\",VLOOKUP(C8623,Debiteuren!$A$2:$J$9998,10,0))&\"\"","v":""},{"$f":"IF(C8623=\"\",\"\",VLOOKUP(C8623,Debiteuren!$A$2:$O$9998,15,0)&\"\"&VLOOKUP(C8623,Debiteuren!$A$2:$N$9998,14,0))","v":""},null,"","",0,""]
[null,null,null,null,null,null,null,null,null,null,"",null,null,"",null,null,null,null,null,0,null,{"$f":"IF(C8635=\"\",\"\",VLOOKUP(C8635,Debiteuren!$A$2:$J$9998,10,0))&\"\"","v":""},{"$f":"IF(C8635=\"\",\"\",VLOOKUP(C8635,Debiteuren!$A$2:$O$9998,15,0)&\"\"&VLOOKUP(C8635,Debiteuren!$A$2:$N$9998,14,0))","v":""},null,"","",0,""]
[null,null,null,null,null,null,null,null,null,null,"",null,null,"",null,null,null,null,null,0,null,{"$f":"IF(C8647=\"\",\"\",VLOOKUP(C8647,Debiteuren!$A$2:$J$9998,10,0))&\"\"","v":""},{"$f":"IF(C8647=\"\",\"\",VLOOKUP(C8647,Debiteuren!$A$2:$O$9998,15,0)&\"\"&VLOOKUP(C8647,Debiteuren!$A$2:$N$9998,14,0))","v":""},null,"","",0,""]
[null,null,null,null,null,null,null,null,null,null,"",null,null,"",null,null,null,null,null,0,null,{"$f":"IF(C8654=\"\",\"\",VLOOKUP(C8654,Debiteuren!$A$2:$J$9998,10,0))&\"\"","v":""},{"$f":"IF(C8654=\"\",\"\",VLOOKUP(C8654,Debiteuren!$A$2:$O$9998,15,0)&\"\"&VLOOKUP(C8654,Debiteuren!$A$2:$N$9998,14,0))","v":""},null,"","",0,""]
[null,null,null,null,null,null,null,null,null,null,"",null,null,"",null,null,null,null,null,0,null,{"$f":"IF(C8657=\"\",\"\",VLOOKUP(C8657,Debiteuren!$A$2:$J$9998,10,0))&\"\"","v":""},{"$f":"IF(C8657=\"\",\"\",VLOOKUP(C8657,Debiteuren!$A$2:$O$9998,15,0)&\"\"&VLOOKUP(C8657,Debiteuren!$A$2:$N$9998,14,0))","v":""},null,"","",0,""]
[null,null,null,null,null,null,null,null,null,null,"",null,null,"",null,null,null,null,null,0,null,{"$f":"IF(C8672=\"\",\"\",VLOOKUP(C8672,Debiteuren!$A$2:$J$9998,10,0))&\"\"","v":""},{"$f":"IF(C8672=\"\",\"\",VLOOKUP(C8672,Debiteuren!$A$2:$O$9998,15,0)&\"\"&VLOOKUP(C8672,Debiteuren!$A$2:$N$9998,14,0))","v":""},null,"","",0,""]
[null,null,null,null,null,null,null,null,null,null,"",null,null,"",null,null,null,null,null,0,null,{"$f":"IF(C8675=\"\",\"\",VLOOKUP(C8675,Debiteuren!$A$2:$J$9998,10,0))&\"\"","v":""},{"$f":"IF(C8675=\"\",\"\",VLOOKUP(C8675,Debiteuren!$A$2:$O$9998,15,0)&\"\"&VLOOKUP(C8675,Debiteuren!$A$2:$N$9998,14,0))","v":""},null,"","",0,""]
[null,null,null,null,null,null,null,null,null,null,"",null,null,"",null,null,null,null,null,{"$f":"IF(B8687=1,E8687,0)","v":0},null,{"$f":"IF(C8687=\"\",\"\",VLOOKUP(C8687,Debiteuren!$A$2:$J$9998,10,0))&\"\"","v":""},{"$f":"IF(C8687=\"\",\"\",VLOOKUP(C8687,Debiteuren!$A$2:$O$9998,15,0)&\"\"&VLOOKUP(C8687,Debiteuren!$A$2:$N$9998,14,0))","v":""},null,"","",0,""]
[null,null,null,null,null,null,null,null,null,null,"",null,null,"",null,null,null,null,null,0,null,{"$f":"IF(C8694=\"\",\"\",VLOOKUP(C8694,Debiteuren!$A$2:$J$9998,10,0))&\"\"","v":""},{"$f":"IF(C8694=\"\",\"\",VLOOKUP(C8694,Debiteuren!$A$2:$O$9998,15,0)&\"\"&VLOOKUP(C8694,Debiteuren!$A$2:$N$9998,14,0))","v":""},null,"","",0,""]
[null,null,null,null,null,null,null,null,null,null,"",null,null,"",null,null,null,null,null,0,null,{"$f":"IF(C8706=\"\",\"\",VLOOKUP(C8706,Debiteuren!$A$2:$J$9998,10,0))&\"\"","v":""},{"$f":"IF(C8706=\"\",\"\",VLOOKUP(C8706,Debiteuren!$A$2:$O$9998,15,0)&\"\"&VLOOKUP(C8706,Debiteuren!$A$2:$N$9998,14,0))","v":""},null,"","",0,""]
[null,null,null,null,null,null,null,null,null,null,"",null,null,"",null,null,null,null,null,0,null,{"$f":"IF(C8717=\"\",\"\",VLOOKUP(C8717,Debiteuren!$A$2:$J$9998,10,0))&\"\"","v":""},{"$f":"IF(C8717=\"\",\"\",VLOOKUP(C8717,Debiteuren!$A$2:$O$9998,15,0)&\"\"&VLOOKUP(C8717,Debiteuren!$A$2:$N$9998,14,0))","v":""},null,"","",0,""]
[null,null,null,null,null,null,null,null,null,null,"",null,null,"",null,null,null,null,null,0,null,{"$f":"IF(C8724=\"\",\"\",VLOOKUP(C8724,Debiteuren!$A$2:$J$9998,10,0))&\"\"","v":""},{"$f":"IF(C8724=\"\",\"\",VLOOKUP(C8724,Debiteuren!$A$2:$O$9998,15,0)&\"\"&VLOOKUP(C8724,Debiteuren!$A$2:$N$9998,14,0))","v":""},null,"","",0,""]
[null,null,null,null,null,null,null,null,null,null,"",null,null,"",null,null,null,null,null,0,null,{"$f":"IF(C8727=\"\",\"\",VLOOKUP(C8727,Debiteuren!$A$2:$J$9998,10,0))&\"\"","v":""},{"$f":"IF(C8727=\"\",\"\",VLOOKUP(C8727,Debiteuren!$A$2:$O$9998,15,0)&\"\"&VLOOKUP(C8727,Debiteuren!$A$2:$N$9998,14,0))","v":""},null,"","",0,""]
[null,null,null,null,null,null,null,null,null,null,"",null,null,"",null,null,null,null,null,0,null,{"$f":"IF(C8737=\"\",\"\",VLOOKUP(C8737,Debiteuren!$A$2:$J$9998,10,0))&\"\"","v":""},{"$f":"IF(C8737=\"\",\"\",VLOOKUP(C8737,Debiteuren!$A$2:$O$9998,15,0)&\"\"&VLOOKUP(C8737,Debiteuren!$A$2:$N$9998,14,0))","v":""},null,"","",0,""]
[null,null,null,null,null,null,null,null,null,null,"",null,null,"",null,null,null,null,null,0,null,{"$f":"IF(C8745=\"\",\"\",VLOOKUP(C8745,Debiteuren!$A$2:$J$9998,10,0))&\"\"","v":""},{"$f":"IF(C8745=\"\",\"\",VLOOKUP(C8745,Debiteuren!$A$2:$O$9998,15,0)&\"\"&VLOOKUP(C8745,Debiteuren!$A$2:$N$9998,14,0))","v":""},null,"","",0,""]
[null,null,null,null,null,null,null,null,null,null,"",null,null,"",null,null,null,null,null,0,null,{"$f":"IF(C8757=\"\",\"\",VLOOKUP(C8757,Debiteuren!$A$2:$J$9998,10,0))&\"\"","v":""},{"$f":"IF(C8757=\"\",\"\",VLOOKUP(C8757,Debiteuren!$A$2:$O$9998,15,0)&\"\"&VLOOKUP(C8757,Debiteuren!$A$2:$N$9998,14,0))","v":""},null,"","",0,""]
[null,null,null,null,null,null,null,null,null,null,"",null,null,"",null,null,null,null,null,0,null,{"$f":"IF(C8764=\"\",\"\",VLOOKUP(C8764,Debiteuren!$A$2:$J$9998,10,0))&\"\"","v":""},{"$f":"IF(C8764=\"\",\"\",VLOOKUP(C8764,Debiteuren!$A$2:$O$9998,15,0)&\"\"&VLOOKUP(C8764,Debiteuren!$A$2:$N$9998,14,0))","v":""},null,"","",0,""]
[null,null,null,null,null,null,null,null,null,null,"",null,null,"",null,null,null,null,null,0,null,{"$f":"IF(C8776=\"\",\"\",VLOOKUP(C8776,Debiteuren!$A$2:$J$9998,10,0))&\"\"","v":""},{"$f":"IF(C8776=\"\",\"\",VLOOKUP(C8776,Debiteuren!$A$2:$O$9998,15,0)&\"\"&VLOOKUP(C8776,Debiteuren!$A$2:$N$9998,14,0))","v":""},null,"","",0,""]
[null,null,null,null,null,null,null,null,null,null,"",null,null,"",null,null,null,null,null,0,null,{"$f":"IF(C8786=\"\",\"\",VLOOKUP(C8786,Debiteuren!$A$2:$J$9998,10,0))&\"\"","v":""},{"$f":"IF(C8786=\"\",\"\",VLOOKUP(C8786,Debiteuren!$A$2:$O$9998,15,0)&\"\"&VLOOKUP(C8786,Debiteuren!$A$2:$N$9998,14,0))","v":""},null,"","",0,""]
[null,null,null,null,null,null,null,null,null,null,"",null,null,"",null,null,null,null,null,0,null,{"$f":"IF(C8794=\"\",\"\",VLOOKUP(C8794,Debiteuren!$A$2:$J$9998,10,0))&\"\"","v":""},{"$f":"IF(C8794=\"\",\"\",VLOOKUP(C8794,Debiteuren!$A$2:$O$9998,15,0)&\"\"&VLOOKUP(C8794,Debiteuren!$A$2:$N$9998,14,0))","v":""},null,"","",0,""]
[null,null,null,null,null,null,null,null,null,null,"",null,null,"",null,null,null,null,null,0,null,{"$f":"IF(C8797=\"\",\"\",VLOOKUP(C8797,Debiteuren!$A$2:$J$9998,10,0))&\"\"","v":""},{"$f":"IF(C8797=\"\",\"\",VLOOKUP(C8797,Debiteuren!$A$2:$O$9998,15,0)&\"\"&VLOOKUP(C8797,Debiteuren!$A$2:$N$9998,14,0))","v":""},null,"","",0,""]
[null,null,null,null,null,null,null,null,null,null,"",null,null,"",null,null,null,null,null,0,null,{"$f":"IF(C8813=\"\",\"\",VLOOKUP(C8813,Debiteuren!$A$2:$J$9998,10,0))&\"\"","v":""},{"$f":"IF(C8813=\"\",\"\",VLOOKUP(C8813,Debiteuren!$A$2:$O$9998,15,0)&\"\"&VLOOKUP(C8813,Debiteuren!$A$2:$N$9998,14,0))","v":""},null,"","",0,""]
[null,null,null,null,null,null,null,null,null,null,"",null,null,"",null,null,null,null,null,0,null,{"$f":"IF(C8816=\"\",\"\",VLOOKUP(C8816,Debiteuren!$A$2:$J$9998,10,0))&\"\"","v":""},{"$f":"IF(C8816=\"\",\"\",VLOOKUP(C8816,Debiteuren!$A$2:$O$9998,15,0)&\"\"&VLOOKUP(C8816,Debiteuren!$A$2:$N$9998,14,0))","v":""},null,"","",0,""]
[null,null,null,null,null,null,null,null,null,null,"",null,null,"",null,null,null,null,null,0,null,{"$f":"IF(C8827=\"\",\"\",VLOOKUP(C8827,Debiteuren!$A$2:$J$9998,10,0))&\"\"","v":""},{"$f":"IF(C8827=\"\",\"\",VLOOKUP(C8827,Debiteuren!$A$2:$O$9998,15,0)&\"\"&VLOOKUP(C8827,Debiteuren!$A$2:$N$9998,14,0))","v":""},null,"","",0,""]
[null,null,null,null,null,null,null,null,null,null,"",null,null,"",null,null,null,null,null,0,null,{"$f":"IF(C8834=\"\",\"\",VLOOKUP(C8834,Debiteuren!$A$2:$J$9998,10,0))&\"\"","v":""},{"$f":"IF(C8834=\"\",\"\",VLOOKUP(C8834,Debiteuren!$A$2:$O$9998,15,0)&\"\"&VLOOKUP(C8834,Debiteuren!$A$2:$N$9998,14,0))","v":""},null,"","",0,""]
[null,null,null,null,null,null,null,null,null,null,"",null,null,"",null,null,null,null,null,0,null,{"$f":"IF(C8846=\"\",\"\",VLOOKUP(C8846,Debiteuren!$A$2:$J$9998,10,0))&\"\"","v":""},{"$f":"IF(C8846=\"\",\"\",VLOOKUP(C8846,Debiteuren!$A$2:$O$9998,15,0)&\"\"&VLOOKUP(C8846,Debiteuren!$A$2:$N$9998,14,0))","v":""},null,"","",0,""]
[null,null,null,null,null,null,null,null,null,null,"",null,null,"",null,null,null,null,null,0,null,{"$f":"IF(C8853=\"\",\"\",VLOOKUP(C8853,Debiteuren!$A$2:$J$9998,10,0))&\"\"","v":""},{"$f":"IF(C8853=\"\",\"\",VLOOKUP(C8853,Debiteuren!$A$2:$O$9998,15,0)&\"\"&VLOOKUP(C8853,Debiteuren!$A$2:$N$9998,14,0))","v":""},null,"","",0,""]
[null,null,null,null,null,null,null,null,null,null,"",null,null,"",null,null,null,null,null,0,null,{"$f":"IF(C8865=\"\",\"\",VLOOKUP(C8865,Debiteuren!$A$2:$J$9998,10,0))&\"\"","v":""},{"$f":"IF(C8865=\"\",\"\",VLOOKUP(C8865,Debiteuren!$A$2:$O$9998,15,0)&\"\"&VLOOKUP(C8865,Debiteuren!$A$2:$N$9998,14,0))","v":""},null,"","",0,""]
[null,null,null,null,null,null,null,null,null,null,"",null,null,"",null,null,null,null,null,0,null,{"$f":"IF(C8868=\"\",\"\",VLOOKUP(C8868,Debiteuren!$A$2:$J$9998,10,0))&\"\"","v":""},{"$f":"IF(C8868=\"\",\"\",VLOOKUP(C8868,Debiteuren!$A$2:$O$9998,15,0)&\"\"&VLOOKUP(C8868,Debiteuren!$A$2:$N$9998,14,0))","v":""},null,"","",0,""]
[null,null,null,null,null,null,null,null,null,null,"",null,null,"",null,null,null,null,null,0,null,{"$f":"IF(C8883=\"\",\"\",VLOOKUP(C8883,Debiteuren!$A$2:$J$9998,10,0))&\"\"","v":""},{"$f":"IF(C8883=\"\",\"\",VLOOKUP(C8883,Debiteuren!$A$2:$O$9998,15,0)&\"\"&VLOOKUP(C8883,Debiteuren!$A$2:$N$9998,14,0))","v":""},null,"","",0,""]
[null,null,null,null,null,null,null,null,null,null,"",null,null,"",null,null,null,null,null,0,null,{"$f":"IF(C8886=\"\",\"\",VLOOKUP(C8886,Debiteuren!$A$2:$J$9998,10,0))&\"\"","v":""},{"$f":"IF(C8886=\"\",\"\",VLOOKUP(C8886,Debiteuren!$A$2:$O$9998,15,0)&\"\"&VLOOKUP(C8886,Debiteuren!$A$2:$N$9998,14,0))","v":""},null,"","",0,""]
[null,null,null,null,null,null,null,null,null,null,"",null,null,"",null,null,null,null,null,0,null,{"$f":"IF(C8902=\"\",\"\",VLOOKUP(C8902,Debiteuren!$A$2:$J$9998,10,0))&\"\"","v":""},{"$f":"IF(C8902=\"\",\"\",VLOOKUP(C8902,Debiteuren!$A$2:$O$9998,15,0)&\"\"&VLOOKUP(C8902,Debiteuren!$A$2:$N$9998,14,0))","v":""},null,"","",0,""]
[null,null,null,null,null,null,null,null,null,null,"",null,null,"",null,null,null,null,null,0,null,{"$f":"IF(C8905=\"\",\"\",VLOOKUP(C8905,Debiteuren!$A$2:$J$9998,10,0))&\"\"","v":""},{"$f":"IF(C8905=\"\",\"\",VLOOKUP(C8905,Debiteuren!$A$2:$O$9998,15,0)&\"\"&VLOOKUP(C8905,Debiteuren!$A$2:$N$9998,14,0))","v":""},null,"","",0,""]
[null,null,null,null,null,null,null,null,null,null,"",null,null,"",null,null,null,null,null,0,null,{"$f":"IF(C8917=\"\",\"\",VLOOKUP(C8917,Debiteuren!$A$2:$J$9998,10,0))&\"\"","v":""},{"$f":"IF(C8917=\"\",\"\",VLOOKUP(C8917,Debiteuren!$A$2:$O$9998,15,0)&\"\"&VLOOKUP(C8917,Debiteuren!$A$2:$N$9998,14,0))","v":""},null,"","",0,""]
[null,null,null,null,null,null,null,null,null,null,"",null,null,"",null,null,null,null,null,0,null,{"$f":"IF(C8923=\"\",\"\",VLOOKUP(C8923,Debiteuren!$A$2:$J$9998,10,0))&\"\"","v":""},{"$f":"IF(C8923=\"\",\"\",VLOOKUP(C8923,Debiteuren!$A$2:$O$9998,15,0)&\"\"&VLOOKUP(C8923,Debiteuren!$A$2:$N$9998,14,0))","v":""},null,"","",0,""]
[null,null,null,null,null,null,null,null,null,null,"",null,null,"",null,null,null,null,null,0,null,{"$f":"IF(C8935=\"\",\"\",VLOOKUP(C8935,Debiteuren!$A$2:$J$9998,10,0))&\"\"","v":""},{"$f":"IF(C8935=\"\",\"\",VLOOKUP(C8935,Debiteuren!$A$2:$O$9998,15,0)&\"\"&VLOOKUP(C8935,Debiteuren!$A$2:$N$9998,14,0))","v":""},null,"","",0,""]
[null,null,null,null,null,null,null,null,null,null,"",null,null,"",null,null,null,null,null,0,null,{"$f":"IF(C8938=\"\",\"\",VLOOKUP(C8938,Debiteuren!$A$2:$J$9998,10,0))&\"\"","v":""},{"$f":"IF(C8938=\"\",\"\",VLOOKUP(C8938,Debiteuren!$A$2:$O$9998,15,0)&\"\"&VLOOKUP(C8938,Debiteuren!$A$2:$N$9998,14,0))","v":""},null,"","",0,""]
[null,null,null,null,null,null,null,null,null,null,"",null,null,"",null,null,null,null,null,0,null,{"$f":"IF(C8948=\"\",\"\",VLOOKUP(C8948,Debiteuren!$A$2:$J$9998,10,0))&\"\"","v":""},{"$f":"IF(C8948=\"\",\"\",VLOOKUP(C8948,Debiteuren!$A$2:$O$9998,15,0)&\"\"&VLOOKUP(C8948,Debiteuren!$A$2:$N$9998,14,0))","v":""},null,"","",0,""]
[null,null,null,null,null,null,null,null,null,null,"",null,null,"",null,null,null,null,null,0,null,{"$f":"IF(C8956=\"\",\"\",VLOOKUP(C8956,Debiteuren!$A$2:$J$9998,10,0))&\"\"","v":""},{"$f":"IF(C8956=\"\",\"\",VLOOKUP(C8956,Debiteuren!$A$2:$O$9998,15,0)&\"\"&VLOOKUP(C8956,Debiteuren!$A$2:$N$9998,14,0))","v":""},null,"","",0,""]
[null,null,null,null,null,null,null,null,null,null,"",null,null,"",null,null,null,null,null,0,null,{"$f":"IF(C8972=\"\",\"\",VLOOKUP(C8972,Debiteuren!$A$2:$J$9998,10,0))&\"\"","v":""},{"$f":"IF(C8972=\"\",\"\",VLOOKUP(C8972,Debiteuren!$A$2:$O$9998,15,0)&\"\"&VLOOKUP(C8972,Debiteuren!$A$2:$N$9998,14,0))","v":""},null,"","",0,""]
[null,null,null,null,null,null,null,null,null,null,"",null,null,"",null,null,null,null,null,0,null,{"$f":"IF(C8975=\"\",\"\",VLOOKUP(C8975,Debiteuren!$A$2:$J$9998,10,0))&\"\"","v":""},{"$f":"IF(C8975=\"\",\"\",VLOOKUP(C8975,Debiteuren!$A$2:$O$9998,15,0)&\"\"&VLOOKUP(C8975,Debiteuren!$A$2:$N$9998,14,0))","v":""},null,"","",0,""]
[null,null,null,null,null,null,null,null,null,null,"",null,null,"",null,null,null,null,null,0,null,{"$f":"IF(C8987=\"\",\"\",VLOOKUP(C8987,Debiteuren!$A$2:$J$9998,10,0))&\"\"","v":""},{"$f":"IF(C8987=\"\",\"\",VLOOKUP(C8987,Debiteuren!$A$2:$O$9998,15,0)&\"\"&VLOOKUP(C8987,Debiteuren!$A$2:$N$9998,14,0))","v":""},null,"","",0,""]
[null,null,null,null,null,null,null,null,null,null,"",null,null,"",null,null,null,null,null,0,null,{"$f":"IF(C8997=\"\",\"\",VLOOKUP(C8997,Debiteuren!$A$2:$J$9998,10,0))&\"\"","v":""},{"$f":"IF(C8997=\"\",\"\",VLOOKUP(C8997,Debiteuren!$A$2:$O$9998,15,0)&\"\"&VLOOKUP(C8997,Debiteuren!$A$2:$N$9998,14,0))","v":""},null,"","",0,""]
[null,null,null,null,null,null,null,null,null,null,"",null,null,"",null,null,null,null,null,0,null,{"$f":"IF(C9005=\"\",\"\",VLOOKUP(C9005,Debiteuren!$A$2:$J$9998,10,0))&\"\"","v":""},{"$f":"IF(C9005=\"\",\"\",VLOOKUP(C9005,Debiteuren!$A$2:$O$9998,15,0)&\"\"&VLOOKUP(C9005,Debiteuren!$A$2:$N$9998,14,0))","v":""},null,"","",0,""]
[null,null,null,null,null,null,null,null,null,null,"",null,null,"",null,null,null,null,null,0,null,{"$f":"IF(C9008=\"\",\"\",VLOOKUP(C9008,Debiteuren!$A$2:$J$9998,10,0))&\"\"","v":""},{"$f":"IF(C9008=\"\",\"\",VLOOKUP(C9008,Debiteuren!$A$2:$O$9998,15,0)&\"\"&VLOOKUP(C9008,Debiteuren!$A$2:$N$9998,14,0))","v":""},null,"","",0,""]
[null,null,null,null,null,null,null,null,null,null,"",null,null,"",null,null,null,null,null,0,null,{"$f":"IF(C9024=\"\",\"\",VLOOKUP(C9024,Debiteuren!$A$2:$J$9998,10,0))&\"\"","v":""},{"$f":"IF(C9024=\"\",\"\",VLOOKUP(C9024,Debiteuren!$A$2:$O$9998,15,0)&\"\"&VLOOKUP(C9024,Debiteuren!$A$2:$N$9998,14,0))","v":""},null,"","",0,""]
[null,null,null,null,null,null,null,null,null,null,"",null,null,"",null,null,null,null,null,0,null,{"$f":"IF(C9027=\"\",\"\",VLOOKUP(C9027,Debiteuren!$A$2:$J$9998,10,0))&\"\"","v":""},{"$f":"IF(C9027=\"\",\"\",VLOOKUP(C9027,Debiteuren!$A$2:$O$9998,15,0)&\"\"&VLOOKUP(C9027,Debiteuren!$A$2:$N$9998,14,0))","v":""},null,"","",0,""]
[null,null,null,null,null,null,null,null,null,null,"",null,null,"",null,null,null,null,null,0,null,{"$f":"IF(C9038=\"\",\"\",VLOOKUP(C9038,Debiteuren!$A$2:$J$9998,10,0))&\"\"","v":""},{"$f":"IF(C9038=\"\",\"\",VLOOKUP(C9038,Debiteuren!$A$2:$O$9998,15,0)&\"\"&VLOOKUP(C9038,Debiteuren!$A$2:$N$9998,14,0))","v":""},null,"","",0,""]
[null,null,null,null,null,null,null,null,null,null,"",null,null,"",null,null,null,null,null,0,null,{"$f":"IF(C9045=\"\",\"\",VLOOKUP(C9045,Debiteuren!$A$2:$J$9998,10,0))&\"\"","v":""},{"$f":"IF(C9045=\"\",\"\",VLOOKUP(C9045,Debiteuren!$A$2:$O$9998,15,0)&\"\"&VLOOKUP(C9045,Debiteuren!$A$2:$N$9998,14,0))","v":""},null,"","",0,""]
[null,null,null,null,null,null,null,null,null,null,"",null,null,"",null,null,null,null,null,0,null,{"$f":"IF(C9057=\"\",\"\",VLOOKUP(C9057,Debiteuren!$A$2:$J$9998,10,0))&\"\"","v":""},{"$f":"IF(C9057=\"\",\"\",VLOOKUP(C9057,Debiteuren!$A$2:$O$9998,15,0)&\"\"&VLOOKUP(C9057,Debiteuren!$A$2:$N$9998,14,0))","v":""},null,"","",0,""]
[null,null,null,null,null,null,null,null,null,null,"",null,null,"",null,null,null,null,null,0,null,{"$f":"IF(C9064=\"\",\"\",VLOOKUP(C9064,Debiteuren!$A$2:$J$9998,10,0))&\"\"","v":""},{"$f":"IF(C9064=\"\",\"\",VLOOKUP(C9064,Debiteuren!$A$2:$O$9998,15,0)&\"\"&VLOOKUP(C9064,Debiteuren!$A$2:$N$9998,14,0))","v":""},null,"","",0,""]
[null,null,null,null,null,null,null,null,null,null,"",null,null,"",null,null,null,null,null,0,null,{"$f":"IF(C9076=\"\",\"\",VLOOKUP(C9076,Debiteuren!$A$2:$J$9998,10,0))&\"\"","v":""},{"$f":"IF(C9076=\"\",\"\",VLOOKUP(C9076,Debiteuren!$A$2:$O$9998,15,0)&\"\"&VLOOKUP(C9076,Debiteuren!$A$2:$N$9998,14,0))","v":""},null,"","",0,""]
[null,null,null,null,null,null,null,null,null,null,"",null,null,"",null,null,null,null,null,0,null,{"$f":"IF(C9079=\"\",\"\",VLOOKUP(C9079,Debiteuren!$A$2:$J$9998,10,0))&\"\"","v":""},{"$f":"IF(C9079=\"\",\"\",VLOOKUP(C9079,Debiteuren!$A$2:$O$9998,15,0)&\"\"&VLOOKUP(C9079,Debiteuren!$A$2:$N$9998,14,0))","v":""},null,"","",0,""]
[null,null,null,null,null,null,null,null,null,null,"",null,null,"",null,null,null,null,null,0,null,{"$f":"IF(C9094=\"\",\"\",VLOOKUP(C9094,Debiteuren!$A$2:$J$9998,10,0))&\"\"","v":""},{"$f":"IF(C9094=\"\",\"\",VLOOKUP(C9094,Debiteuren!$A$2:$O$9998,15,0)&\"\"&VLOOKUP(C9094,Debiteuren!$A$2:$N$9998,14,0))","v":""},null,"","",0,""]
[null,null,null,null,null,null,null,null,null,null,"",null,null,"",null,null,null,null,null,0,null,{"$f":"IF(C9097=\"\",\"\",VLOOKUP(C9097,Debiteuren!$A$2:$J$9998,10,0))&\"\"","v":""},{"$f":"IF(C9097=\"\",\"\",VLOOKUP(C9097,Debiteuren!$A$2:$O$9998,15,0)&\"\"&VLOOKUP(C9097,Debiteuren!$A$2:$N$9998,14,0))","v":""},null,"","",0,""]
[null,null,null,null,null,null,null,null,null,null,"",null,null,"",null,null,null,null,null,0,null,{"$f":"IF(C9113=\"\",\"\",VLOOKUP(C9113,Debiteuren!$A$2:$J$9998,10,0))&\"\"","v":""},{"$f":"IF(C9113=\"\",\"\",VLOOKUP(C9113,Debiteuren!$A$2:$O$9998,15,0)&\"\"&VLOOKUP(C9113,Debiteuren!$A$2:$N$9998,14,0))","v":""},null,"","",0,""]
[null,null,null,null,null,null,null,null,null,null,"",null,null,"",null,null,null,null,null,0,null,{"$f":"IF(C9118=\"\",\"\",VLOOKUP(C9118,Debiteuren!$A$2:$J$9998,10,0))&\"\"","v":""},{"$f":"IF(C9118=\"\",\"\",VLOOKUP(C9118,Debiteuren!$A$2:$O$9998,15,0)&\"\"&VLOOKUP(C9118,Debiteuren!$A$2:$N$9998,14,0))","v":""},null,"","",0,""]
[null,null,null,null,null,null,null,null,null,null,"",null,null,"",null,null,null,null,null,0,null,{"$f":"IF(C9127=\"\",\"\",VLOOKUP(C9127,Debiteuren!$A$2:$J$9998,10,0))&\"\"","v":""},{"$f":"IF(C9127=\"\",\"\",VLOOKUP(C9127,Debiteuren!$A$2:$O$9998,15,0)&\"\"&VLOOKUP(C9127,Debiteuren!$A$2:$N$9998,14,0))","v":""},null,"","",0,""]
[null,null,null,null,null,null,null,null,null,null,"",null,null,"",null,null,null,null,null,0,null,{"$f":"IF(C9134=\"\",\"\",VLOOKUP(C9134,Debiteuren!$A$2:$J$9998,10,0))&\"\"","v":""},{"$f":"IF(C9134=\"\",\"\",VLOOKUP(C9134,Debiteuren!$A$2:$O$9998,15,0)&\"\"&VLOOKUP(C9134,Debiteuren!$A$2:$N$9998,14,0))","v":""},null,{"$f":"IF(D9134=\"\",\"\",DATEDIF(D9134,TODAY(),\"d\"))","v":""},{"$f":"IF(G9134=\"\",\"\",DATEDIF(D9134,G9134,\"d\"))","v":""},{"$f":"DATEDIF(D9134,H9134,\"d\")","v":0},{"$f":"IF(Y9134=\"\",\"\",Y9134-AA9134)","v":""}]
[null,null,null,null,null,null,null,null,null,null,"",null,null,"",null,null,null,null,null,0,null,{"$f":"IF(C9146=\"\",\"\",VLOOKUP(C9146,Debiteuren!$A$2:$J$9998,10,0))&\"\"","v":""},{"$f":"IF(C9146=\"\",\"\",VLOOKUP(C9146,Debiteuren!$A$2:$O$9998,15,0)&\"\"&VLOOKUP(C9146,Debiteuren!$A$2:$N$9998,14,0))","v":""},null,"","",0,""]
[null,null,null,null,null,null,null,null,null,null,"",null,null,"",null,null,null,null,null,0,null,{"$f":"IF(C9153=\"\",\"\",VLOOKUP(C9153,Debiteuren!$A$2:$J$9998,10,0))&\"\"","v":""},{"$f":"IF(C9153=\"\",\"\",VLOOKUP(C9153,Debiteuren!$A$2:$O$9998,15,0)&\"\"&VLOOKUP(C9153,Debiteuren!$A$2:$N$9998,14,0))","v":""},null,"","",0,""]
[null,null,null,null,null,null,null,null,null,null,"",null,null,"",null,null,null,null,null,0,null,{"$f":"IF(C9159=\"\",\"\",VLOOKUP(C9159,Debiteuren!$A$2:$J$9998,10,0))&\"\"","v":""},{"$f":"IF(C9159=\"\",\"\",VLOOKUP(C9159,Debiteuren!$A$2:$O$9998,15,0)&\"\"&VLOOKUP(C9159,Debiteuren!$A$2:$N$9998,14,0))","v":""},null,"","",0,""]
[null,null,null,null,null,null,null,null,null,null,"",null,null,"",null,null,null,null,null,0,null,{"$f":"IF(C9167=\"\",\"\",VLOOKUP(C9167,Debiteuren!$A$2:$J$9998,10,0))&\"\"","v":""},{"$f":"IF(C9167=\"\",\"\",VLOOKUP(C9167,Debiteuren!$A$2:$O$9998,15,0)&\"\"&VLOOKUP(C9167,Debiteuren!$A$2:$N$9998,14,0))","v":""},null,"","",0,""]
[null,null,null,null,null,null,null,null,null,null,"",null,null,"",null,null,null,null,null,0,null,{"$f":"IF(C9183=\"\",\"\",VLOOKUP(C9183,Debiteuren!$A$2:$J$9998,10,0))&\"\"","v":""},{"$f":"IF(C9183=\"\",\"\",VLOOKUP(C9183,Debiteuren!$A$2:$O$9998,15,0)&\"\"&VLOOKUP(C9183,Debiteuren!$A$2:$N$9998,14,0))","v":""},null,"","",0,""]
[null,null,null,null,null,null,null,null,null,null,"",null,null,"",null,null,null,null,null,0,null,{"$f":"IF(C9186=\"\",\"\",VLOOKUP(C9186,Debiteuren!$A$2:$J$9998,10,0))&\"\"","v":""},{"$f":"IF(C9186=\"\",\"\",VLOOKUP(C9186,Debiteuren!$A$2:$O$9998,15,0)&\"\"&VLOOKUP(C9186,Debiteuren!$A$2:$N$9998,14,0))","v":""},null,"","",0,""]
[null,null,null,null,null,null,null,null,null,null,"",null,null,"",null,null,null,null,null,0,null,{"$f":"IF(C9198=\"\",\"\",VLOOKUP(C9198,Debiteuren!$A$2:$J$9998,10,0))&\"\"","v":""},{"$f":"IF(C9198=\"\",\"\",VLOOKUP(C9198,Debiteuren!$A$2:$O$9998,15,0)&\"\"&VLOOKUP(C9198,Debiteuren!$A$2:$N$9998,14,0))","v":""},null,{"$f":"IF(D9198=\"\",\"\",DATEDIF(D9198,TODAY(),\"d\"))","v":""},{"$f":"IF(G9198=\"\",\"\",DATEDIF(D9198,G9198,\"d\"))","v":""},{"$f":"DATEDIF(D9198,H9198,\"d\")","v":0},{"$f":"IF(Y9198=\"\",\"\",Y9198-AA9198)","v":""}]
[null,null,null,null,null,null,null,null,null,null,"",null,null,"",null,null,null,null,null,0,null,{"$f":"IF(C9208=\"\",\"\",VLOOKUP(C9208,Debiteuren!$A$2:$J$9998,10,0))&\"\"","v":""},{"$f":"IF(C9208=\"\",\"\",VLOOKUP(C9208,Debiteuren!$A$2:$O$9998,15,0)&\"\"&VLOOKUP(C9208,Debiteuren!$A$2:$N$9998,14,0))","v":""},null,"","",0,""]
[null,null,null,null,null,null,null,null,null,null,"",null,null,"",null,null,null,null,null,0,null,{"$f":"IF(C9216=\"\",\"\",VLOOKUP(C9216,Debiteuren!$A$2:$J$9998,10,0))&\"\"","v":""},{"$f":"IF(C9216=\"\",\"\",VLOOKUP(C9216,Debiteuren!$A$2:$O$9998,15,0)&\"\"&VLOOKUP(C9216,Debiteuren!$A$2:$N$9998,14,0))","v":""},null,"","",0,""]
[null,null,null,null,null,null,null,null,null,null,"",null,null,"",null,null,null,null,null,0,null,{"$f":"IF(C9223=\"\",\"\",VLOOKUP(C9223,Debiteuren!$A$2:$J$9998,10,0))&\"\"","v":""},{"$f":"IF(C9223=\"\",\"\",VLOOKUP(C9223,Debiteuren!$A$2:$O$9998,15,0)&\"\"&VLOOKUP(C9223,Debiteuren!$A$2:$N$9998,14,0))","v":""},null,"","",0,""]
[null,null,null,null,null,null,null,null,null,null,"",null,null,"",null,null,null,null,null,0,null,{"$f":"IF(C9235=\"\",\"\",VLOOKUP(C9235,Debiteuren!$A$2:$J$9998,10,0))&\"\"","v":""},{"$f":"IF(C9235=\"\",\"\",VLOOKUP(C9235,Debiteuren!$A$2:$O$9998,15,0)&\"\"&VLOOKUP(C9235,Debiteuren!$A$2:$N$9998,14,0))","v":""},null,"","",0,""]
[null,null,null,null,null,null,null,null,null,null,"",null,null,"",null,null,null,null,null,0,null,{"$f":"IF(C9238=\"\",\"\",VLOOKUP(C9238,Debiteuren!$A$2:$J$9998,10,0))&\"\"","v":""},{"$f":"IF(C9238=\"\",\"\",VLOOKUP(C9238,Debiteuren!$A$2:$O$9998,15,0)&\"\"&VLOOKUP(C9238,Debiteuren!$A$2:$N$9998,14,0))","v":""},null,"","",0,""]
[null,null,null,null,null,null,null,null,null,null,"",null,null,"",null,null,null,null,null,0,null,{"$f":"IF(C9249=\"\",\"\",VLOOKUP(C9249,Debiteuren!$A$2:$J$9998,10,0))&\"\"","v":""},{"$f":"IF(C9249=\"\",\"\",VLOOKUP(C9249,Debiteuren!$A$2:$O$9998,15,0)&\"\"&VLOOKUP(C9249,Debiteuren!$A$2:$N$9998,14,0))","v":""},null,"","",0,""]
[null,null,null,null,null,null,null,null,null,null,"",null,null,"",null,null,null,null,null,0,null,{"$f":"IF(C9256=\"\",\"\",VLOOKUP(C9256,Debiteuren!$A$2:$J$9998,10,0))&\"\"","v":""},{"$f":"IF(C9256=\"\",\"\",VLOOKUP(C9256,Debiteuren!$A$2:$O$9998,15,0)&\"\"&VLOOKUP(C9256,Debiteuren!$A$2:$N$9998,14,0))","v":""},null,"","",0,""]
[null,null,null,null,null,null,null,null,null,null,"",null,null,"",null,null,null,null,null,{"$f":"IF(B9263=1,E9263,0)","v":0},null,{"$f":"IF(C9263=\"\",\"\",VLOOKUP(C9263,Debiteuren!$A$2:$J$9998,10,0))&\"\"","v":""},{"$f":"IF(C9263=\"\",\"\",VLOOKUP(C9263,Debiteuren!$A$2:$O$9998,15,0)&\"\"&VLOOKUP(C9263,Debiteuren!$A$2:$N$9998,14,0))","v":""},null,"","",0,""]
[null,null,null,null,null,null,null,null,null,null,"",null,null,"",null,null,null,null,null,0,null,{"$f":"IF(C9275=\"\",\"\",VLOOKUP(C9275,Debiteuren!$A$2:$J$9998,10,0))&\"\"","v":""},{"$f":"IF(C9275=\"\",\"\",VLOOKUP(C9275,Debiteuren!$A$2:$O$9998,15,0)&\"\"&VLOOKUP(C9275,Debiteuren!$A$2:$N$9998,14,0))","v":""},null,"","",0,""]
[null,null,null,null,null,null,null,null,null,null,"",null,null,"",null,null,null,null,null,0,null,{"$f":"IF(C9288=\"\",\"\",VLOOKUP(C9288,Debiteuren!$A$2:$J$9998,10,0))&\"\"","v":""},{"$f":"IF(C9288=\"\",\"\",VLOOKUP(C9288,Debiteuren!$A$2:$O$9998,15,0)&\"\"&VLOOKUP(C9288,Debiteuren!$A$2:$N$9998,14,0))","v":""},null,"","",0,""]
[null,null,null,null,null,null,null,null,null,null,"",null,null,"",null,null,null,null,null,0,null,{"$f":"IF(C9293=\"\",\"\",VLOOKUP(C9293,Debiteuren!$A$2:$J$9998,10,0))&\"\"","v":""},{"$f":"IF(C9293=\"\",\"\",VLOOKUP(C9293,Debiteuren!$A$2:$O$9998,15,0)&\"\"&VLOOKUP(C9293,Debiteuren!$A$2:$N$9998,14,0))","v":""},null,"","",0,""]
[null,null,null,null,null,null,null,null,null,null,"",null,null,"",null,null,null,null,null,0,null,{"$f":"IF(C9305=\"\",\"\",VLOOKUP(C9305,Debiteuren!$A$2:$J$9998,10,0))&\"\"","v":""},{"$f":"IF(C9305=\"\",\"\",VLOOKUP(C9305,Debiteuren!$A$2:$O$9998,15,0)&\"\"&VLOOKUP(C9305,Debiteuren!$A$2:$N$9998,14,0))","v":""},null,"","",0,""]
[null,null,null,null,null,null,null,null,null,null,"",null,null,"",null,null,null,null,null,0,null,{"$f":"IF(C9308=\"\",\"\",VLOOKUP(C9308,Debiteuren!$A$2:$J$9998,10,0))&\"\"","v":""},{"$f":"IF(C9308=\"\",\"\",VLOOKUP(C9308,Debiteuren!$A$2:$O$9998,15,0)&\"\"&VLOOKUP(C9308,Debiteuren!$A$2:$N$9998,14,0))","v":""},null,"","",0,""]
[null,null,null,null,null,null,null,null,null,null,"",null,null,"",null,null,null,null,null,0,null,{"$f":"IF(C9324=\"\",\"\",VLOOKUP(C9324,Debiteuren!$A$2:$J$9998,10,0))&\"\"","v":""},{"$f":"IF(C9324=\"\",\"\",VLOOKUP(C9324,Debiteuren!$A$2:$O$9998,15,0)&\"\"&VLOOKUP(C9324,Debiteuren!$A$2:$N$9998,14,0))","v":""},null,"","",0,""]
[null,null,null,null,null,null,null,null,null,null,"",null,null,"",null,null,null,null,null,0,null,{"$f":"IF(C9329=\"\",\"\",VLOOKUP(C9329,Debiteuren!$A$2:$J$9998,10,0))&\"\"","v":""},{"$f":"IF(C9329=\"\",\"\",VLOOKUP(C9329,Debiteuren!$A$2:$O$9998,15,0)&\"\"&VLOOKUP(C9329,Debiteuren!$A$2:$N$9998,14,0))","v":""},null,"","",0,""]
[null,null,null,null,null,null,null,null,null,null,"",null,null,"",null,null,null,null,null,0,null,{"$f":"IF(C9333=\"\",\"\",VLOOKUP(C9333,Debiteuren!$A$2:$J$9998,10,0))&\"\"","v":""},{"$f":"IF(C9333=\"\",\"\",VLOOKUP(C9333,Debiteuren!$A$2:$O$9998,15,0)&\"\"&VLOOKUP(C9333,Debiteuren!$A$2:$N$9998,14,0))","v":""},null,"","",0,""]
[null,null,null,null,null,null,null,null,null,null,"",null,null,"",null,null,null,null,null,0,null,{"$f":"IF(C9345=\"\",\"\",VLOOKUP(C9345,Debiteuren!$A$2:$J$9998,10,0))&\"\"","v":""},{"$f":"IF(C9345=\"\",\"\",VLOOKUP(C9345,Debiteuren!$A$2:$O$9998,15,0)&\"\"&VLOOKUP(C9345,Debiteuren!$A$2:$N$9998,14,0))","v":""},null,"","",0,""]
[null,null,null,null,null,null,null,null,null,null,"",null,null,"",null,null,null,null,null,0,null,{"$f":"IF(C9357=\"\",\"\",VLOOKUP(C9357,Debiteuren!$A$2:$J$9998,10,0))&\"\"","v":""},{"$f":"IF(C9357=\"\",\"\",VLOOKUP(C9357,Debiteuren!$A$2:$O$9998,15,0)&\"\"&VLOOKUP(C9357,Debiteuren!$A$2:$N$9998,14,0))","v":""},null,"","",0,""]
[null,null,null,null,null,null,null,null,null,null,"",null,null,"",null,null,null,null,null,0,null,{"$f":"IF(C9364=\"\",\"\",VLOOKUP(C9364,Debiteuren!$A$2:$J$9998,10,0))&\"\"","v":""},{"$f":"IF(C9364=\"\",\"\",VLOOKUP(C9364,Debiteuren!$A$2:$O$9998,15,0)&\"\"&VLOOKUP(C9364,Debiteuren!$A$2:$N$9998,14,0))","v":""},null,"","",0,""]
[null,null,null,null,null,null,null,null,null,null,"",null,null,"",null,null,null,null,null,0,null,{"$f":"IF(C9370=\"\",\"\",VLOOKUP(C9370,Debiteuren!$A$2:$J$9998,10,0))&\"\"","v":""},{"$f":"IF(C9370=\"\",\"\",VLOOKUP(C9370,Debiteuren!$A$2:$O$9998,15,0)&\"\"&VLOOKUP(C9370,Debiteuren!$A$2:$N$9998,14,0))","v":""},null,"","",0,""]
[null,null,null,null,null,null,null,null,null,null,"",null,null,"",null,null,null,null,null,0,null,{"$f":"IF(C9382=\"\",\"\",VLOOKUP(C9382,Debiteuren!$A$2:$J$9998,10,0))&\"\"","v":""},{"$f":"IF(C9382=\"\",\"\",VLOOKUP(C9382,Debiteuren!$A$2:$O$9998,15,0)&\"\"&VLOOKUP(C9382,Debiteuren!$A$2:$N$9998,14,0))","v":""},null,"","",0,""]
[null,null,null,null,null,null,null,null,null,null,"",null,null,"",null,null,null,null,null,0,null,{"$f":"IF(C9394=\"\",\"\",VLOOKUP(C9394,Debiteuren!$A$2:$J$9998,10,0))&\"\"","v":""},{"$f":"IF(C9394=\"\",\"\",VLOOKUP(C9394,Debiteuren!$A$2:$O$9998,15,0)&\"\"&VLOOKUP(C9394,Debiteuren!$A$2:$N$9998,14,0))","v":""},null,"","",0,""]
[null,null,null,null,null,null,null,null,null,null,"",null,null,"",null,null,null,null,null,0,null,{"$f":"IF(C9397=\"\",\"\",VLOOKUP(C9397,Debiteuren!$A$2:$J$9998,10,0))&\"\"","v":""},{"$f":"IF(C9397=\"\",\"\",VLOOKUP(C9397,Debiteuren!$A$2:$O$9998,15,0)&\"\"&VLOOKUP(C9397,Debiteuren!$A$2:$N$9998,14,0))","v":""},null,"","",0,""]
[null,null,null,null,null,null,null,null,null,null,"",null,null,"",null,null,null,null,null,0,null,{"$f":"IF(C9404=\"\",\"\",VLOOKUP(C9404,Debiteuren!$A$2:$J$9998,10,0))&\"\"","v":""},{"$f":"IF(C9404=\"\",\"\",VLOOKUP(C9404,Debiteuren!$A$2:$O$9998,15,0)&\"\"&VLOOKUP(C9404,Debiteuren!$A$2:$N$9998,14,0))","v":""},null,"","",0,""]
[null,null,null,null,null,null,null,null,null,null,"",null,null,"",null,null,null,null,null,0,null,{"$f":"IF(C9419=\"\",\"\",VLOOKUP(C9419,Debiteuren!$A$2:$J$9998,10,0))&\"\"","v":""},{"$f":"IF(C9419=\"\",\"\",VLOOKUP(C9419,Debiteuren!$A$2:$O$9998,15,0)&\"\"&VLOOKUP(C9419,Debiteuren!$A$2:$N$9998,14,0))","v":""},null,"","",0,""]
[null,null,null,null,null,null,null,null,null,null,"",null,null,"",null,null,null,null,null,0,null,{"$f":"IF(C9427=\"\",\"\",VLOOKUP(C9427,Debiteuren!$A$2:$J$9998,10,0))&\"\"","v":""},{"$f":"IF(C9427=\"\",\"\",VLOOKUP(C9427,Debiteuren!$A$2:$O$9998,15,0)&\"\"&VLOOKUP(C9427,Debiteuren!$A$2:$N$9998,14,0))","v":""},null,"","",0,""]
[null,null,null,null,null,null,null,null,null,null,"",null,null,"",null,null,null,null,null,0,null,{"$f":"IF(C9434=\"\",\"\",VLOOKUP(C9434,Debiteuren!$A$2:$J$9998,10,0))&\"\"","v":""},{"$f":"IF(C9434=\"\",\"\",VLOOKUP(C9434,Debiteuren!$A$2:$O$9998,15,0)&\"\"&VLOOKUP(C9434,Debiteuren!$A$2:$N$9998,14,0))","v":""},null,"","",0,""]
[null,null,null,null,null,null,null,null,null,null,"",null,null,"",null,null,null,null,null,0,null,{"$f":"IF(C9446=\"\",\"\",VLOOKUP(C9446,Debiteuren!$A$2:$J$9998,10,0))&\"\"","v":""},{"$f":"IF(C9446=\"\",\"\",VLOOKUP(C9446,Debiteuren!$A$2:$O$9998,15,0)&\"\"&VLOOKUP(C9446,Debiteuren!$A$2:$N$9998,14,0))","v":""},null,"","",0,""]
[null,null,null,null,null,null,null,null,null,null,"",null,null,"",null,null,null,null,null,0,null,{"$f":"IF(C9450=\"\",\"\",VLOOKUP(C9450,Debiteuren!$A$2:$J$9998,10,0))&\"\"","v":""},{"$f":"IF(C9450=\"\",\"\",VLOOKUP(C9450,Debiteuren!$A$2:$O$9998,15,0)&\"\"&VLOOKUP(C9450,Debiteuren!$A$2:$N$9998,14,0))","v":""},null,"","",0,""]
[null,null,null,null,null,null,null,null,null,null,"",null,null,"",null,null,null,null,null,0,null,{"$f":"IF(C9464=\"\",\"\",VLOOKUP(C9464,Debiteuren!$A$2:$J$9998,10,0))&\"\"","v":""},{"$f":"IF(C9464=\"\",\"\",VLOOKUP(C9464,Debiteuren!$A$2:$O$9998,15,0)&\"\"&VLOOKUP(C9464,Debiteuren!$A$2:$N$9998,14,0))","v":""},null,"","",0,""]
[null,null,null,null,null,null,null,null,null,null,"",null,null,"",null,null,null,null,null,0,null,{"$f":"IF(C9467=\"\",\"\",VLOOKUP(C9467,Debiteuren!$A$2:$J$9998,10,0))&\"\"","v":""},{"$f":"IF(C9467=\"\",\"\",VLOOKUP(C9467,Debiteuren!$A$2:$O$9998,15,0)&\"\"&VLOOKUP(C9467,Debiteuren!$A$2:$N$9998,14,0))","v":""},null,"","",0,""]
[null,null,null,null,null,null,null,null,null,null,"",null,null,"",null,null,null,null,null,0,null,{"$f":"IF(C9474=\"\",\"\",VLOOKUP(C9474,Debiteuren!$A$2:$J$9998,10,0))&\"\"","v":""},{"$f":"IF(C9474=\"\",\"\",VLOOKUP(C9474,Debiteuren!$A$2:$O$9998,15,0)&\"\"&VLOOKUP(C9474,Debiteuren!$A$2:$N$9998,14,0))","v":""},null,"","",0,""]
[null,null,null,null,null,null,null,null,null,null,"",null,null,"",null,null,null,null,null,0,null,{"$f":"IF(C9486=\"\",\"\",VLOOKUP(C9486,Debiteuren!$A$2:$J$9998,10,0))&\"\"","v":""},{"$f":"IF(C9486=\"\",\"\",VLOOKUP(C9486,Debiteuren!$A$2:$O$9998,15,0)&\"\"&VLOOKUP(C9486,Debiteuren!$A$2:$N$9998,14,0))","v":""},null,"","",0,""]
[null,null,null,null,null,null,null,null,null,null,"",null,null,"",null,null,null,null,null,0,null,{"$f":"IF(C9499=\"\",\"\",VLOOKUP(C9499,Debiteuren!$A$2:$J$9998,10,0))&\"\"","v":""},{"$f":"IF(C9499=\"\",\"\",VLOOKUP(C9499,Debiteuren!$A$2:$O$9998,15,0)&\"\"&VLOOKUP(C9499,Debiteuren!$A$2:$N$9998,14,0))","v":""},null,"","",0,""]
[null,null,null,null,null,null,null,null,null,null,"",null,null,"",null,null,null,null,null,0,null,{"$f":"IF(C9504=\"\",\"\",VLOOKUP(C9504,Debiteuren!$A$2:$J$9998,10,0))&\"\"","v":""},{"$f":"IF(C9504=\"\",\"\",VLOOKUP(C9504,Debiteuren!$A$2:$O$9998,15,0)&\"\"&VLOOKUP(C9504,Debiteuren!$A$2:$N$9998,14,0))","v":""},null,"","",0,""]
[null,null,null,null,null,null,null,null,null,null,"",null,null,"",null,null,null,null,null,0,null,{"$f":"IF(C9516=\"\",\"\",VLOOKUP(C9516,Debiteuren!$A$2:$J$9998,10,0))&\"\"","v":""},{"$f":"IF(C9516=\"\",\"\",VLOOKUP(C9516,Debiteuren!$A$2:$O$9998,15,0)&\"\"&VLOOKUP(C9516,Debiteuren!$A$2:$N$9998,14,0))","v":""},null,"","",0,""]
[null,null,null,null,null,null,null,null,null,null,"",null,null,"",null,null,null,null,null,0,null,{"$f":"IF(C9523=\"\",\"\",VLOOKUP(C9523,Debiteuren!$A$2:$J$9998,10,0))&\"\"","v":""},{"$f":"IF(C9523=\"\",\"\",VLOOKUP(C9523,Debiteuren!$A$2:$O$9998,15,0)&\"\"&VLOOKUP(C9523,Debiteuren!$A$2:$N$9998,14,0))","v":""},null,"","",0,""]
[null,null,null,null,null,null,null,null,null,null,"",null,null,"",null,null,null,null,null,0,null,{"$f":"IF(C9535=\"\",\"\",VLOOKUP(C9535,Debiteuren!$A$2:$J$9998,10,0))&\"\"","v":""},{"$f":"IF(C9535=\"\",\"\",VLOOKUP(C9535,Debiteuren!$A$2:$O$9998,15,0)&\"\"&VLOOKUP(C9535,Debiteuren!$A$2:$N$9998,14,0))","v":""},null,"","",0,""]
[null,null,null,null,null,null,null,null,null,null,"",null,null,"",null,null,null,null,null,0,null,{"$f":"IF(C9540=\"\",\"\",VLOOKUP(C9540,Debiteuren!$A$2:$J$9998,10,0))&\"\"","v":""},{"$f":"IF(C9540=\"\",\"\",VLOOKUP(C9540,Debiteuren!$A$2:$O$9998,15,0)&\"\"&VLOOKUP(C9540,Debiteuren!$A$2:$N$9998,14,0))","v":""},null,"","",0,""]
[null,null,null,null,null,null,null,null,null,null,"",null,null,"",null,null,null,null,null,0,null,{"$f":"IF(C9544=\"\",\"\",VLOOKUP(C9544,Debiteuren!$A$2:$J$9998,10,0))&\"\"","v":""},{"$f":"IF(C9544=\"\",\"\",VLOOKUP(C9544,Debiteuren!$A$2:$O$9998,15,0)&\"\"&VLOOKUP(C9544,Debiteuren!$A$2:$N$9998,14,0))","v":""},null,"","",0,""]
[null,null,null,null,null,null,null,null,null,null,"",null,null,"",null,null,null,null,null,0,null,{"$f":"IF(C9556=\"\",\"\",VLOOKUP(C9556,Debiteuren!$A$2:$J$9998,10,0))&\"\"","v":""},{"$f":"IF(C9556=\"\",\"\",VLOOKUP(C9556,Debiteuren!$A$2:$O$9998,15,0)&\"\"&VLOOKUP(C9556,Debiteuren!$A$2:$N$9998,14,0))","v":""},null,"","",0,""]
[null,null,null,null,null,null,null,null,null,null,"",null,null,"",null,null,null,null,null,0,null,{"$f":"IF(C9563=\"\",\"\",VLOOKUP(C9563,Debiteuren!$A$2:$J$9998,10,0))&\"\"","v":""},{"$f":"IF(C9563=\"\",\"\",VLOOKUP(C9563,Debiteuren!$A$2:$O$9998,15,0)&\"\"&VLOOKUP(C9563,Debiteuren!$A$2:$N$9998,14,0))","v":""},null,"","",0,""]
[null,null,null,null,null,null,null,null,null,null,"",null,null,"",null,null,null,null,null,0,null,{"$f":"IF(C9575=\"\",\"\",VLOOKUP(C9575,Debiteuren!$A$2:$J$9998,10,0))&\"\"","v":""},{"$f":"IF(C9575=\"\",\"\",VLOOKUP(C9575,Debiteuren!$A$2:$O$9998,15,0)&\"\"&VLOOKUP(C9575,Debiteuren!$A$2:$N$9998,14,0))","v":""},null,"","",0,""]
[null,null,null,null,null,null,null,null,null,null,"",null,null,"",null,null,null,null,null,0,null,{"$f":"IF(C9581=\"\",\"\",VLOOKUP(C9581,Debiteuren!$A$2:$J$9998,10,0))&\"\"","v":""},{"$f":"IF(C9581=\"\",\"\",VLOOKUP(C9581,Debiteuren!$A$2:$O$9998,15,0)&\"\"&VLOOKUP(C9581,Debiteuren!$A$2:$N$9998,14,0))","v":""},null,"","",0,""]
[null,null,null,null,null,null,null,null,null,null,{"$f":"IF(D9593=\"\",\"\",\"\"&\"Kwartaal \"&MONTH(MONTH(D9593)&0)&TEXT(D9593,\" - mmm JJJJ\"))","v":""},null,null,{"$f":"IF(E9593=\"\",\"\",(E9593)-(F9593))","v":""},null,null,null,null,null,0,null,{"$f":"IF(C9593=\"\",\"\",VLOOKUP(C9593,Debiteuren!$A$2:$J$9998,10,0))&\"\"","v":""},{"$f":"IF(C9593=\"\",\"\",VLOOKUP(C9593,Debiteuren!$A$2:$O$9998,15,0)&\"\"&VLOOKUP(C9593,Debiteuren!$A$2:$N$9998,14,0))","v":""},null,"","",0,""]
[null,null,null,null,null,null,null,null,null,null,"",null,null,"",null,null,null,null,null,0,null,{"$f":"IF(C9605=\"\",\"\",VLOOKUP(C9605,Debiteuren!$A$2:$J$9998,10,0))&\"\"","v":""},{"$f":"IF(C9605=\"\",\"\",VLOOKUP(C9605,Debiteuren!$A$2:$O$9998,15,0)&\"\"&VLOOKUP(C9605,Debiteuren!$A$2:$N$9998,14,0))","v":""},null,"","",0,""]
[null,null,null,null,null,null,null,null,null,null,"",null,null,"",null,null,null,null,null,0,null,{"$f":"IF(C9608=\"\",\"\",VLOOKUP(C9608,Debiteuren!$A$2:$J$9998,10,0))&\"\"","v":""},{"$f":"IF(C9608=\"\",\"\",VLOOKUP(C9608,Debiteuren!$A$2:$O$9998,15,0)&\"\"&VLOOKUP(C9608,Debiteuren!$A$2:$N$9998,14,0))","v":""},null,"","",0,""]
[null,null,null,null,null,null,null,null,null,null,"",null,null,"",null,null,null,null,null,0,null,{"$f":"IF(C9620=\"\",\"\",VLOOKUP(C9620,Debiteuren!$A$2:$J$9998,10,0))&\"\"","v":""},{"$f":"IF(C9620=\"\",\"\",VLOOKUP(C9620,Debiteuren!$A$2:$O$9998,15,0)&\"\"&VLOOKUP(C9620,Debiteuren!$A$2:$N$9998,14,0))","v":""},null,"","",0,""]
[null,null,null,null,null,null,null,null,null,null,"",null,null,"",null,null,null,null,null,0,null,{"$f":"IF(C9626=\"\",\"\",VLOOKUP(C9626,Debiteuren!$A$2:$J$9998,10,0))&\"\"","v":""},{"$f":"IF(C9626=\"\",\"\",VLOOKUP(C9626,Debiteuren!$A$2:$O$9998,15,0)&\"\"&VLOOKUP(C9626,Debiteuren!$A$2:$N$9998,14,0))","v":""},null,"","",0,""]
[null,null,null,null,null,null,null,null,null,null,"",null,null,"",null,null,null,null,null,0,null,{"$f":"IF(C9633=\"\",\"\",VLOOKUP(C9633,Debiteuren!$A$2:$J$9998,10,0))&\"\"","v":""},{"$f":"IF(C9633=\"\",\"\",VLOOKUP(C9633,Debiteuren!$A$2:$O$9998,15,0)&\"\"&VLOOKUP(C9633,Debiteuren!$A$2:$N$9998,14,0))","v":""},null,"","",0,""]
[null,null,null,null,null,null,null,null,null,null,"",null,null,"",null,null,null,null,null,0,null,{"$f":"IF(C9645=\"\",\"\",VLOOKUP(C9645,Debiteuren!$A$2:$J$9998,10,0))&\"\"","v":""},{"$f":"IF(C9645=\"\",\"\",VLOOKUP(C9645,Debiteuren!$A$2:$O$9998,15,0)&\"\"&VLOOKUP(C9645,Debiteuren!$A$2:$N$9998,14,0))","v":""},null,"","",0,""]
[null,null,null,null,null,null,null,null,null,null,{"$f":"IF(D9657=\"\",\"\",\"\"&\"Kwartaal \"&MONTH(MONTH(D9657)&0)&TEXT(D9657,\" - mmm JJJJ\"))","v":""},null,null,{"$f":"IF(E9657=\"\",\"\",(E9657)-(F9657))","v":""},null,null,null,null,null,0,null,{"$f":"IF(C9657=\"\",\"\",VLOOKUP(C9657,Debiteuren!$A$2:$J$9998,10,0))&\"\"","v":""},{"$f":"IF(C9657=\"\",\"\",VLOOKUP(C9657,Debiteuren!$A$2:$O$9998,15,0)&\"\"&VLOOKUP(C9657,Debiteuren!$A$2:$N$9998,14,0))","v":""},null,"","",0,""]
[null,null,null,null,null,null,null,null,null,null,"",null,null,"",null,null,null,null,null,0,null,{"$f":"IF(C9661=\"\",\"\",VLOOKUP(C9661,Debiteuren!$A$2:$J$9998,10,0))&\"\"","v":""},{"$f":"IF(C9661=\"\",\"\",VLOOKUP(C9661,Debiteuren!$A$2:$O$9998,15,0)&\"\"&VLOOKUP(C9661,Debiteuren!$A$2:$N$9998,14,0))","v":""},null,"","",0,""]
[null,null,null,null,null,null,null,null,null,null,"",null,null,"",null,null,null,null,null,0,null,{"$f":"IF(C9675=\"\",\"\",VLOOKUP(C9675,Debiteuren!$A$2:$J$9998,10,0))&\"\"","v":""},{"$f":"IF(C9675=\"\",\"\",VLOOKUP(C9675,Debiteuren!$A$2:$O$9998,15,0)&\"\"&VLOOKUP(C9675,Debiteuren!$A$2:$N$9998,14,0))","v":""},null,"","",0,""]
[null,null,null,null,null,null,null,null,null,null,"",null,null,"",null,null,null,null,null,0,null,{"$f":"IF(C9682=\"\",\"\",VLOOKUP(C9682,Debiteuren!$A$2:$J$9998,10,0))&\"\"","v":""},{"$f":"IF(C9682=\"\",\"\",VLOOKUP(C9682,Debiteuren!$A$2:$O$9998,15,0)&\"\"&VLOOKUP(C9682,Debiteuren!$A$2:$N$9998,14,0))","v":""},null,"","",0,""]
[null,null,null,null,null,null,null,null,null,null,"",null,null,"",null,null,null,null,null,0,null,{"$f":"IF(C9685=\"\",\"\",VLOOKUP(C9685,Debiteuren!$A$2:$J$9998,10,0))&\"\"","v":""},{"$f":"IF(C9685=\"\",\"\",VLOOKUP(C9685,Debiteuren!$A$2:$O$9998,15,0)&\"\"&VLOOKUP(C9685,Debiteuren!$A$2:$N$9998,14,0))","v":""},null,"","",0,""]
[null,null,null,null,null,null,null,null,null,null,"",null,null,"",null,null,null,null,null,0,null,{"$f":"IF(C9697=\"\",\"\",VLOOKUP(C9697,Debiteuren!$A$2:$J$9998,10,0))&\"\"","v":""},{"$f":"IF(C9697=\"\",\"\",VLOOKUP(C9697,Debiteuren!$A$2:$O$9998,15,0)&\"\"&VLOOKUP(C9697,Debiteuren!$A$2:$N$9998,14,0))","v":""},null,"","",0,""]
[null,null,null,null,null,null,null,null,null,null,"",null,null,"",null,null,null,null,null,0,null,{"$f":"IF(C9710=\"\",\"\",VLOOKUP(C9710,Debiteuren!$A$2:$J$9998,10,0))&\"\"","v":""},{"$f":"IF(C9710=\"\",\"\",VLOOKUP(C9710,Debiteuren!$A$2:$O$9998,15,0)&\"\"&VLOOKUP(C9710,Debiteuren!$A$2:$N$9998,14,0))","v":""},null,{"$f":"IF(D9710=\"\",\"\",DATEDIF(D9710,TODAY(),\"d\"))","v":""},{"$f":"IF(G9710=\"\",\"\",DATEDIF(D9710,G9710,\"d\"))","v":""},{"$f":"DATEDIF(D9710,H9710,\"d\")","v":0},{"$f":"IF(Y9710=\"\",\"\",Y9710-AA9710)","v":""}]
[null,null,null,null,null,null,null,null,null,null,"",null,null,"",null,null,null,null,null,0,null,{"$f":"IF(C9715=\"\",\"\",VLOOKUP(C9715,Debiteuren!$A$2:$J$9998,10,0))&\"\"","v":""},{"$f":"IF(C9715=\"\",\"\",VLOOKUP(C9715,Debiteuren!$A$2:$O$9998,15,0)&\"\"&VLOOKUP(C9715,Debiteuren!$A$2:$N$9998,14,0))","v":""},null,"","",0,""]
[null,null,null,null,null,null,null,null,null,null,"",null,null,"",null,null,null,null,null,0,null,{"$f":"IF(C9727=\"\",\"\",VLOOKUP(C9727,Debiteuren!$A$2:$J$9998,10,0))&\"\"","v":""},{"$f":"IF(C9727=\"\",\"\",VLOOKUP(C9727,Debiteuren!$A$2:$O$9998,15,0)&\"\"&VLOOKUP(C9727,Debiteuren!$A$2:$N$9998,14,0))","v":""},null,"","",0,""]
[null,null,null,null,null,null,null,null,null,null,"",null,null,"",null,null,null,null,null,0,null,{"$f":"IF(C9734=\"\",\"\",VLOOKUP(C9734,Debiteuren!$A$2:$J$9998,10,0))&\"\"","v":""},{"$f":"IF(C9734=\"\",\"\",VLOOKUP(C9734,Debiteuren!$A$2:$O$9998,15,0)&\"\"&VLOOKUP(C9734,Debiteuren!$A$2:$N$9998,14,0))","v":""},null,"","",0,""]
[null,null,null,null,null,null,null,null,null,null,"",null,null,"",null,null,null,null,null,0,null,{"$f":"IF(C9746=\"\",\"\",VLOOKUP(C9746,Debiteuren!$A$2:$J$9998,10,0))&\"\"","v":""},{"$f":"IF(C9746=\"\",\"\",VLOOKUP(C9746,Debiteuren!$A$2:$O$9998,15,0)&\"\"&VLOOKUP(C9746,Debiteuren!$A$2:$N$9998,14,0))","v":""},null,"","",0,""]
[null,null,null,null,null,null,null,null,null,null,"",null,null,"",null,null,null,null,null,0,null,{"$f":"IF(C9751=\"\",\"\",VLOOKUP(C9751,Debiteuren!$A$2:$J$9998,10,0))&\"\"","v":""},{"$f":"IF(C9751=\"\",\"\",VLOOKUP(C9751,Debiteuren!$A$2:$O$9998,15,0)&\"\"&VLOOKUP(C9751,Debiteuren!$A$2:$N$9998,14,0))","v":""},null,"","",0,""]
[null,null,null,null,null,null,null,null,null,null,"",null,null,"",null,null,null,null,null,0,null,{"$f":"IF(C9755=\"\",\"\",VLOOKUP(C9755,Debiteuren!$A$2:$J$9998,10,0))&\"\"","v":""},{"$f":"IF(C9755=\"\",\"\",VLOOKUP(C9755,Debiteuren!$A$2:$O$9998,15,0)&\"\"&VLOOKUP(C9755,Debiteuren!$A$2:$N$9998,14,0))","v":""},null,"","",0,""]
[null,null,null,null,null,null,null,null,null,null,"",null,null,"",null,null,null,null,null,0,null,{"$f":"IF(C9767=\"\",\"\",VLOOKUP(C9767,Debiteuren!$A$2:$J$9998,10,0))&\"\"","v":""},{"$f":"IF(C9767=\"\",\"\",VLOOKUP(C9767,Debiteuren!$A$2:$O$9998,15,0)&\"\"&VLOOKUP(C9767,Debiteuren!$A$2:$N$9998,14,0))","v":""},null,"","",0,""]
[null,null,null,null,null,null,null,null,null,null,"",null,null,"",null,null,null,null,null,0,null,{"$f":"IF(C9774=\"\",\"\",VLOOKUP(C9774,Debiteuren!$A$2:$J$9998,10,0))&\"\"","v":""},{"$f":"IF(C9774=\"\",\"\",VLOOKUP(C9774,Debiteuren!$A$2:$O$9998,15,0)&\"\"&VLOOKUP(C9774,Debiteuren!$A$2:$N$9998,14,0))","v":""},null,{"$f":"IF(D9774=\"\",\"\",DATEDIF(D9774,TODAY(),\"d\"))","v":""},{"$f":"IF(G9774=\"\",\"\",DATEDIF(D9774,G9774,\"d\"))","v":""},{"$f":"DATEDIF(D9774,H9774,\"d\")","v":0},{"$f":"IF(Y9774=\"\",\"\",Y9774-AA9774)","v":""}]
[null,null,null,null,null,null,null,null,null,null,"",null,null,"",null,null,null,null,null,0,null,{"$f":"IF(C9786=\"\",\"\",VLOOKUP(C9786,Debiteuren!$A$2:$J$9998,10,0))&\"\"","v":""},{"$f":"IF(C9786=\"\",\"\",VLOOKUP(C9786,Debiteuren!$A$2:$O$9998,15,0)&\"\"&VLOOKUP(C9786,Debiteuren!$A$2:$N$9998,14,0))","v":""},null,"","",0,""]
[null,null,null,null,null,null,null,null,null,null,"",null,null,"",null,null,null,null,null,0,null,{"$f":"IF(C9791=\"\",\"\",VLOOKUP(C9791,Debiteuren!$A$2:$J$9998,10,0))&\"\"","v":""},{"$f":"IF(C9791=\"\",\"\",VLOOKUP(C9791,Debiteuren!$A$2:$O$9998,15,0)&\"\"&VLOOKUP(C9791,Debiteuren!$A$2:$N$9998,14,0))","v":""},null,"","",0,""]
[null,null,null,null,null,null,null,null,null,null,"",null,null,"",null,null,null,null,null,0,null,{"$f":"IF(C9792=\"\",\"\",VLOOKUP(C9792,Debiteuren!$A$2:$J$9998,10,0))&\"\"","v":""},{"$f":"IF(C9792=\"\",\"\",VLOOKUP(C9792,Debiteuren!$A$2:$O$9998,15,0)&\"\"&VLOOKUP(C9792,Debiteuren!$A$2:$N$9998,14,0))","v":""},null,"","",0,""]
[null,null,null,null,null,null,null,null,null,null,"",null,null,"",null,null,null,null,null,0,null,{"$f":"IF(C9793=\"\",\"\",VLOOKUP(C9793,Debiteuren!$A$2:$J$9998,10,0))&\"\"","v":""},{"$f":"IF(C9793=\"\",\"\",VLOOKUP(C9793,Debiteuren!$A$2:$O$9998,15,0)&\"\"&VLOOKUP(C9793,Debiteuren!$A$2:$N$9998,14,0))","v":""},null,"","",0,""]
[null,null,null,null,null,null,null,null,null,null,"",null,null,"",null,null,null,null,null,0,null,{"$f":"IF(C9794=\"\",\"\",VLOOKUP(C9794,Debiteuren!$A$2:$J$9998,10,0))&\"\"","v":""},{"$f":"IF(C9794=\"\",\"\",VLOOKUP(C9794,Debiteuren!$A$2:$O$9998,15,0)&\"\"&VLOOKUP(C9794,Debiteuren!$A$2:$N$9998,14,0))","v":""},null,"","",0,""]
[null,null,null,null,null,null,null,null,null,null,"",null,null,"",null,null,null,null,null,0,null,{"$f":"IF(C9795=\"\",\"\",VLOOKUP(C9795,Debiteuren!$A$2:$J$9998,10,0))&\"\"","v":""},{"$f":"IF(C9795=\"\",\"\",VLOOKUP(C9795,Debiteuren!$A$2:$O$9998,15,0)&\"\"&VLOOKUP(C9795,Debiteuren!$A$2:$N$9998,14,0))","v":""},null,"","",0,""]
[null,null,null,null,null,null,null,null,null,null,"",null,null,"",null,null,null,null,null,0,null,{"$f":"IF(C9796=\"\",\"\",VLOOKUP(C9796,Debiteuren!$A$2:$J$9998,10,0))&\"\"","v":""},{"$f":"IF(C9796=\"\",\"\",VLOOKUP(C9796,Debiteuren!$A$2:$O$9998,15,0)&\"\"&VLOOKUP(C9796,Debiteuren!$A$2:$N$9998,14,0))","v":""},null,"","",0,""]
[null,null,null,null,null,null,null,null,null,null,"",null,null,"",null,null,null,null,null,0,null,{"$f":"IF(C9797=\"\",\"\",VLOOKUP(C9797,Debiteuren!$A$2:$J$9998,10,0))&\"\"","v":""},{"$f":"IF(C9797=\"\",\"\",VLOOKUP(C9797,Debiteuren!$A$2:$O$9998,15,0)&\"\"&VLOOKUP(C9797,Debiteuren!$A$2:$N$9998,14,0))","v":""},null,"","",0,""]
[null,null,null,null,null,null,null,null,null,null,"",null,null,"",null,null,null,null,null,0,null,{"$f":"IF(C9798=\"\",\"\",VLOOKUP(C9798,Debiteuren!$A$2:$J$9998,10,0))&\"\"","v":""},{"$f":"IF(C9798=\"\",\"\",VLOOKUP(C9798,Debiteuren!$A$2:$O$9998,15,0)&\"\"&VLOOKUP(C9798,Debiteuren!$A$2:$N$9998,14,0))","v":""},null,"","",0,""]
[null,null,null,null,null,null,null,null,null,null,"",null,null,"",null,null,null,null,null,0,null,{"$f":"IF(C9799=\"\",\"\",VLOOKUP(C9799,Debiteuren!$A$2:$J$9998,10,0))&\"\"","v":""},{"$f":"IF(C9799=\"\",\"\",VLOOKUP(C9799,Debiteuren!$A$2:$O$9998,15,0)&\"\"&VLOOKUP(C9799,Debiteuren!$A$2:$N$9998,14,0))","v":""},null,"","",0,""]
[null,null,null,null,null,null,null,null,null,null,"",null,null,"",null,null,null,null,null,0,null,{"$f":"IF(C9800=\"\",\"\",VLOOKUP(C9800,Debiteuren!$A$2:$J$9998,10,0))&\"\"","v":""},{"$f":"IF(C9800=\"\",\"\",VLOOKUP(C9800,Debiteuren!$A$2:$O$9998,15,0)&\"\"&VLOOKUP(C9800,Debiteuren!$A$2:$N$9998,14,0))","v":""},null,"","",0,""]
[null,null,null,null,null,null,null,null,null,null,"",null,null,"",null,null,null,null,null,0,null,{"$f":"IF(C9801=\"\",\"\",VLOOKUP(C9801,Debiteuren!$A$2:$J$9998,10,0))&\"\"","v":""},{"$f":"IF(C9801=\"\",\"\",VLOOKUP(C9801,Debiteuren!$A$2:$O$9998,15,0)&\"\"&VLOOKUP(C9801,Debiteuren!$A$2:$N$9998,14,0))","v":""},null,"","",0,""]
[null,null,null,null,null,null,null,null,null,null,"",null,null,"",null,null,null,null,null,0,null,{"$f":"IF(C9802=\"\",\"\",VLOOKUP(C9802,Debiteuren!$A$2:$J$9998,10,0))&\"\"","v":""},{"$f":"IF(C9802=\"\",\"\",VLOOKUP(C9802,Debiteuren!$A$2:$O$9998,15,0)&\"\"&VLOOKUP(C9802,Debiteuren!$A$2:$N$9998,14,0))","v":""},null,"","",0,""]
[null,null,null,null,null,null,null,null,null,null,"",null,null,"",null,null,null,null,null,0,null,{"$f":"IF(C9803=\"\",\"\",VLOOKUP(C9803,Debiteuren!$A$2:$J$9998,10,0))&\"\"","v":""},{"$f":"IF(C9803=\"\",\"\",VLOOKUP(C9803,Debiteuren!$A$2:$O$9998,15,0)&\"\"&VLOOKUP(C9803,Debiteuren!$A$2:$N$9998,14,0))","v":""},null,"","",0,""]
[null,null,null,null,null,null,null,null,null,null,"",null,null,"",null,null,null,null,null,0,null,{"$f":"IF(C9804=\"\",\"\",VLOOKUP(C9804,Debiteuren!$A$2:$J$9998,10,0))&\"\"","v":""},{"$f":"IF(C9804=\"\",\"\",VLOOKUP(C9804,Debiteuren!$A$2:$O$9998,15,0)&\"\"&VLOOKUP(C9804,Debiteuren!$A$2:$N$9998,14,0))","v":""},null,"","",0,""]
[null,null,null,null,null,null,null,null,null,null,"",null,null,"",null,null,null,null,null,0,null,{"$f":"IF(C9805=\"\",\"\",VLOOKUP(C9805,Debiteuren!$A$2:$J$9998,10,0))&\"\"","v":""},{"$f":"IF(C9805=\"\",\"\",VLOOKUP(C9805,Debiteuren!$A$2:$O$9998,15,0)&\"\"&VLOOKUP(C9805,Debiteuren!$A$2:$N$9998,14,0))","v":""},null,"","",0,""]
[null,null,null,null,null,null,null,null,null,null,"",null,null,"",null,null,null,null,null,0,null,{"$f":"IF(C9806=\"\",\"\",VLOOKUP(C9806,Debiteuren!$A$2:$J$9998,10,0))&\"\"","v":""},{"$f":"IF(C9806=\"\",\"\",VLOOKUP(C9806,Debiteuren!$A$2:$O$9998,15,0)&\"\"&VLOOKUP(C9806,Debiteuren!$A$2:$N$9998,14,0))","v":""},null,"","",0,""]
[null,null,null,null,null,null,null,null,null,null,"",null,null,"",null,null,null,null,null,0,null,{"$f":"IF(C9807=\"\",\"\",VLOOKUP(C9807,Debiteuren!$A$2:$J$9998,10,0))&\"\"","v":""},{"$f":"IF(C9807=\"\",\"\",VLOOKUP(C9807,Debiteuren!$A$2:$O$9998,15,0)&\"\"&VLOOKUP(C9807,Debiteuren!$A$2:$N$9998,14,0))","v":""},null,"","",0,""]
[null,null,null,null,null,null,null,null,null,null,"",null,null,"",null,null,null,null,null,0,null,{"$f":"IF(C9808=\"\",\"\",VLOOKUP(C9808,Debiteuren!$A$2:$J$9998,10,0))&\"\"","v":""},{"$f":"IF(C9808=\"\",\"\",VLOOKUP(C9808,Debiteuren!$A$2:$O$9998,15,0)&\"\"&VLOOKUP(C9808,Debiteuren!$A$2:$N$9998,14,0))","v":""},null,"","",0,""]
[null,null,null,null,null,null,null,null,null,null,"",null,null,"",null,null,null,null,null,0,null,{"$f":"IF(C9809=\"\",\"\",VLOOKUP(C9809,Debiteuren!$A$2:$J$9998,10,0))&\"\"","v":""},{"$f":"IF(C9809=\"\",\"\",VLOOKUP(C9809,Debiteuren!$A$2:$O$9998,15,0)&\"\"&VLOOKUP(C9809,Debiteuren!$A$2:$N$9998,14,0))","v":""},null,"","",0,""]
[null,null,null,null,null,null,null,null,null,null,"",null,null,"",null,null,null,null,null,0,null,{"$f":"IF(C9810=\"\",\"\",VLOOKUP(C9810,Debiteuren!$A$2:$J$9998,10,0))&\"\"","v":""},{"$f":"IF(C9810=\"\",\"\",VLOOKUP(C9810,Debiteuren!$A$2:$O$9998,15,0)&\"\"&VLOOKUP(C9810,Debiteuren!$A$2:$N$9998,14,0))","v":""},null,"","",0,""]
[null,null,null,null,null,null,null,null,null,null,"",null,null,"",null,null,null,null,null,0,null,{"$f":"IF(C9811=\"\",\"\",VLOOKUP(C9811,Debiteuren!$A$2:$J$9998,10,0))&\"\"","v":""},{"$f":"IF(C9811=\"\",\"\",VLOOKUP(C9811,Debiteuren!$A$2:$O$9998,15,0)&\"\"&VLOOKUP(C9811,Debiteuren!$A$2:$N$9998,14,0))","v":""},null,"","",0,""]
[null,null,null,null,null,null,null,null,null,null,"",null,null,"",null,null,null,null,null,0,null,{"$f":"IF(C9812=\"\",\"\",VLOOKUP(C9812,Debiteuren!$A$2:$J$9998,10,0))&\"\"","v":""},{"$f":"IF(C9812=\"\",\"\",VLOOKUP(C9812,Debiteuren!$A$2:$O$9998,15,0)&\"\"&VLOOKUP(C9812,Debiteuren!$A$2:$N$9998,14,0))","v":""},null,"","",0,""]
[null,null,null,null,null,null,null,null,null,null,"",null,null,"",null,null,null,null,null,0,null,{"$f":"IF(C9813=\"\",\"\",VLOOKUP(C9813,Debiteuren!$A$2:$J$9998,10,0))&\"\"","v":""},{"$f":"IF(C9813=\"\",\"\",VLOOKUP(C9813,Debiteuren!$A$2:$O$9998,15,0)&\"\"&VLOOKUP(C9813,Debiteuren!$A$2:$N$9998,14,0))","v":""},null,"","",0,""]
[null,null,null,null,null,null,null,null,null,null,"",null,null,"",null,null,null,null,null,0,null,{"$f":"IF(C9814=\"\",\"\",VLOOKUP(C9814,Debiteuren!$A$2:$J$9998,10,0))&\"\"","v":""},{"$f":"IF(C9814=\"\",\"\",VLOOKUP(C9814,Debiteuren!$A$2:$O$9998,15,0)&\"\"&VLOOKUP(C9814,Debiteuren!$A$2:$N$9998,14,0))","v":""},null,"","",0,""]
[null,null,null,null,null,null,null,null,null,null,"",null,null,"",null,null,null,null,null,0,null,{"$f":"IF(C9815=\"\",\"\",VLOOKUP(C9815,Debiteuren!$A$2:$J$9998,10,0))&\"\"","v":""},{"$f":"IF(C9815=\"\",\"\",VLOOKUP(C9815,Debiteuren!$A$2:$O$9998,15,0)&\"\"&VLOOKUP(C9815,Debiteuren!$A$2:$N$9998,14,0))","v":""},null,"","",0,""]
[null,null,null,null,null,null,null,null,null,null,"",null,null,"",null,null,null,null,null,0,null,{"$f":"IF(C9816=\"\",\"\",VLOOKUP(C9816,Debiteuren!$A$2:$J$9998,10,0))&\"\"","v":""},{"$f":"IF(C9816=\"\",\"\",VLOOKUP(C9816,Debiteuren!$A$2:$O$9998,15,0)&\"\"&VLOOKUP(C9816,Debiteuren!$A$2:$N$9998,14,0))","v":""},null,"","",0,""]
[null,null,null,null,null,null,null,null,null,null,"",null,null,"",null,null,null,null,null,0,null,{"$f":"IF(C9817=\"\",\"\",VLOOKUP(C9817,Debiteuren!$A$2:$J$9998,10,0))&\"\"","v":""},{"$f":"IF(C9817=\"\",\"\",VLOOKUP(C9817,Debiteuren!$A$2:$O$9998,15,0)&\"\"&VLOOKUP(C9817,Debiteuren!$A$2:$N$9998,14,0))","v":""},null,"","",0,""]
[null,null,null,null,null,null,null,null,null,null,"",null,null,"",null,null,null,null,null,0,null,{"$f":"IF(C9818=\"\",\"\",VLOOKUP(C9818,Debiteuren!$A$2:$J$9998,10,0))&\"\"","v":""},{"$f":"IF(C9818=\"\",\"\",VLOOKUP(C9818,Debiteuren!$A$2:$O$9998,15,0)&\"\"&VLOOKUP(C9818,Debiteuren!$A$2:$N$9998,14,0))","v":""},null,"","",0,""]
[null,null,null,null,null,null,null,null,null,null,"",null,null,"",null,null,null,null,null,0,null,{"$f":"IF(C9819=\"\",\"\",VLOOKUP(C9819,Debiteuren!$A$2:$J$9998,10,0))&\"\"","v":""},{"$f":"IF(C9819=\"\",\"\",VLOOKUP(C9819,Debiteuren!$A$2:$O$9998,15,0)&\"\"&VLOOKUP(C9819,Debiteuren!$A$2:$N$9998,14,0))","v":""},null,"","",0,""]
[null,null,null,null,null,null,null,null,null,null,"",null,null,"",null,null,null,null,null,0,null,{"$f":"IF(C9820=\"\",\"\",VLOOKUP(C9820,Debiteuren!$A$2:$J$9998,10,0))&\"\"","v":""},{"$f":"IF(C9820=\"\",\"\",VLOOKUP(C9820,Debiteuren!$A$2:$O$9998,15,0)&\"\"&VLOOKUP(C9820,Debiteuren!$A$2:$N$9998,14,0))","v":""},null,"","",0,""]
[null,null,null,null,null,null,null,null,null,null,"",null,null,"",null,null,null,null,null,0,null,{"$f":"IF(C9821=\"\",\"\",VLOOKUP(C9821,Debiteuren!$A$2:$J$9998,10,0))&\"\"","v":""},{"$f":"IF(C9821=\"\",\"\",VLOOKUP(C9821,Debiteuren!$A$2:$O$9998,15,0)&\"\"&VLOOKUP(C9821,Debiteuren!$A$2:$N$9998,14,0))","v":""},null,"","",0,""]
[null,null,null,null,null,null,null,null,null,null,"",null,null,"",null,null,null,null,null,0,null,{"$f":"IF(C9822=\"\",\"\",VLOOKUP(C9822,Debiteuren!$A$2:$J$9998,10,0))&\"\"","v":""},{"$f":"IF(C9822=\"\",\"\",VLOOKUP(C9822,Debiteuren!$A$2:$O$9998,15,0)&\"\"&VLOOKUP(C9822,Debiteuren!$A$2:$N$9998,14,0))","v":""},null,"","",0,""]
[null,null,null,null,null,null,null,null,null,null,"",null,null,"",null,null,null,null,null,0,null,{"$f":"IF(C9823=\"\",\"\",VLOOKUP(C9823,Debiteuren!$A$2:$J$9998,10,0))&\"\"","v":""},{"$f":"IF(C9823=\"\",\"\",VLOOKUP(C9823,Debiteuren!$A$2:$O$9998,15,0)&\"\"&VLOOKUP(C9823,Debiteuren!$A$2:$N$9998,14,0))","v":""},null,"","",0,""]
[null,null,null,null,null,null,null,null,null,null,"",null,null,"",null,null,null,null,null,0,null,{"$f":"IF(C9824=\"\",\"\",VLOOKUP(C9824,Debiteuren!$A$2:$J$9998,10,0))&\"\"","v":""},{"$f":"IF(C9824=\"\",\"\",VLOOKUP(C9824,Debiteuren!$A$2:$O$9998,15,0)&\"\"&VLOOKUP(C9824,Debiteuren!$A$2:$N$9998,14,0))","v":""},null,"","",0,""]
[null,null,null,null,null,null,null,null,null,null,"",null,null,"",null,null,null,null,null,0,null,{"$f":"IF(C9825=\"\",\"\",VLOOKUP(C9825,Debiteuren!$A$2:$J$9998,10,0))&\"\"","v":""},{"$f":"IF(C9825=\"\",\"\",VLOOKUP(C9825,Debiteuren!$A$2:$O$9998,15,0)&\"\"&VLOOKUP(C9825,Debiteuren!$A$2:$N$9998,14,0))","v":""},null,"","",0,""]
[null,null,null,null,null,null,null,null,null,null,"",null,null,"",null,null,null,null,null,0,null,{"$f":"IF(C9826=\"\",\"\",VLOOKUP(C9826,Debiteuren!$A$2:$J$9998,10,0))&\"\"","v":""},{"$f":"IF(C9826=\"\",\"\",VLOOKUP(C9826,Debiteuren!$A$2:$O$9998,15,0)&\"\"&VLOOKUP(C9826,Debiteuren!$A$2:$N$9998,14,0))","v":""},null,"","",0,""]
[null,null,null,null,null,null,null,null,null,null,"",null,null,"",null,null,null,null,null,0,null,{"$f":"IF(C9827=\"\",\"\",VLOOKUP(C9827,Debiteuren!$A$2:$J$9998,10,0))&\"\"","v":""},{"$f":"IF(C9827=\"\",\"\",VLOOKUP(C9827,Debiteuren!$A$2:$O$9998,15,0)&\"\"&VLOOKUP(C9827,Debiteuren!$A$2:$N$9998,14,0))","v":""},null,"","",0,""]
[null,null,null,null,null,null,null,null,null,null,"",null,null,"",null,null,null,null,null,0,null,{"$f":"IF(C9828=\"\",\"\",VLOOKUP(C9828,Debiteuren!$A$2:$J$9998,10,0))&\"\"","v":""},{"$f":"IF(C9828=\"\",\"\",VLOOKUP(C9828,Debiteuren!$A$2:$O$9998,15,0)&\"\"&VLOOKUP(C9828,Debiteuren!$A$2:$N$9998,14,0))","v":""},null,"","",0,""]
[null,null,null,null,null,null,null,null,null,null,"",null,null,"",null,null,null,null,null,0,null,{"$f":"IF(C9829=\"\",\"\",VLOOKUP(C9829,Debiteuren!$A$2:$J$9998,10,0))&\"\"","v":""},{"$f":"IF(C9829=\"\",\"\",VLOOKUP(C9829,Debiteuren!$A$2:$O$9998,15,0)&\"\"&VLOOKUP(C9829,Debiteuren!$A$2:$N$9998,14,0))","v":""},null,"","",0,""]
[null,null,null,null,null,null,null,null,null,null,"",null,null,"",null,null,null,null,null,0,null,{"$f":"IF(C9830=\"\",\"\",VLOOKUP(C9830,Debiteuren!$A$2:$J$9998,10,0))&\"\"","v":""},{"$f":"IF(C9830=\"\",\"\",VLOOKUP(C9830,Debiteuren!$A$2:$O$9998,15,0)&\"\"&VLOOKUP(C9830,Debiteuren!$A$2:$N$9998,14,0))","v":""},null,"","",0,""]
[null,null,null,null,null,null,null,null,null,null,"",null,null,"",null,null,null,null,null,0,null,{"$f":"IF(C9831=\"\",\"\",VLOOKUP(C9831,Debiteuren!$A$2:$J$9998,10,0))&\"\"","v":""},{"$f":"IF(C9831=\"\",\"\",VLOOKUP(C9831,Debiteuren!$A$2:$O$9998,15,0)&\"\"&VLOOKUP(C9831,Debiteuren!$A$2:$N$9998,14,0))","v":""},null,"","",0,""]
[null,null,null,null,null,null,null,null,null,null,"",null,null,"",null,null,null,null,null,0,null,{"$f":"IF(C9832=\"\",\"\",VLOOKUP(C9832,Debiteuren!$A$2:$J$9998,10,0))&\"\"","v":""},{"$f":"IF(C9832=\"\",\"\",VLOOKUP(C9832,Debiteuren!$A$2:$O$9998,15,0)&\"\"&VLOOKUP(C9832,Debiteuren!$A$2:$N$9998,14,0))","v":""},null,"","",0,""]
[null,null,null,null,null,null,null,null,null,null,"",null,null,"",null,null,null,null,null,0,null,{"$f":"IF(C9833=\"\",\"\",VLOOKUP(C9833,Debiteuren!$A$2:$J$9998,10,0))&\"\"","v":""},{"$f":"IF(C9833=\"\",\"\",VLOOKUP(C9833,Debiteuren!$A$2:$O$9998,15,0)&\"\"&VLOOKUP(C9833,Debiteuren!$A$2:$N$9998,14,0))","v":""},null,"","",0,""]
[null,null,null,null,null,null,null,null,null,null,"",null,null,"",null,null,null,null,null,0,null,{"$f":"IF(C9834=\"\",\"\",VLOOKUP(C9834,Debiteuren!$A$2:$J$9998,10,0))&\"\"","v":""},{"$f":"IF(C9834=\"\",\"\",VLOOKUP(C9834,Debiteuren!$A$2:$O$9998,15,0)&\"\"&VLOOKUP(C9834,Debiteuren!$A$2:$N$9998,14,0))","v":""},null,"","",0,""]
[null,null,null,null,null,null,null,null,null,null,"",null,null,"",null,null,null,null,null,0,null,{"$f":"IF(C9835=\"\",\"\",VLOOKUP(C9835,Debiteuren!$A$2:$J$9998,10,0))&\"\"","v":""},{"$f":"IF(C9835=\"\",\"\",VLOOKUP(C9835,Debiteuren!$A$2:$O$9998,15,0)&\"\"&VLOOKUP(C9835,Debiteuren!$A$2:$N$9998,14,0))","v":""},null,"","",0,""]
[null,null,null,null,null,null,null,null,null,null,"",null,null,"",null,null,null,null,null,0,null,{"$f":"IF(C9836=\"\",\"\",VLOOKUP(C9836,Debiteuren!$A$2:$J$9998,10,0))&\"\"","v":""},{"$f":"IF(C9836=\"\",\"\",VLOOKUP(C9836,Debiteuren!$A$2:$O$9998,15,0)&\"\"&VLOOKUP(C9836,Debiteuren!$A$2:$N$9998,14,0))","v":""},null,"","",0,""]
[null,null,null,null,null,null,null,null,null,null,"",null,null,"",null,null,null,null,null,0,null,{"$f":"IF(C9837=\"\",\"\",VLOOKUP(C9837,Debiteuren!$A$2:$J$9998,10,0))&\"\"","v":""},{"$f":"IF(C9837=\"\",\"\",VLOOKUP(C9837,Debiteuren!$A$2:$O$9998,15,0)&\"\"&VLOOKUP(C9837,Debiteuren!$A$2:$N$9998,14,0))","v":""},null,"","",0,""]
[null,null,null,null,null,null,null,null,null,null,"",null,null,"",null,null,null,null,null,0,null,{"$f":"IF(C9838=\"\",\"\",VLOOKUP(C9838,Debiteuren!$A$2:$J$9998,10,0))&\"\"","v":""},{"$f":"IF(C9838=\"\",\"\",VLOOKUP(C9838,Debiteuren!$A$2:$O$9998,15,0)&\"\"&VLOOKUP(C9838,Debiteuren!$A$2:$N$9998,14,0))","v":""},null,{"$f":"IF(D9838=\"\",\"\",DATEDIF(D9838,TODAY(),\"d\"))","v":""},{"$f":"IF(G9838=\"\",\"\",DATEDIF(D9838,G9838,\"d\"))","v":""},{"$f":"DATEDIF(D9838,H9838,\"d\")","v":0},{"$f":"IF(Y9838=\"\",\"\",Y9838-AA9838)","v":""}]
[null,null,null,null,null,null,null,null,null,null,"",null,null,"",null,null,null,null,null,{"$f":"IF(B9839=1,E9839,0)","v":0},null,{"$f":"IF(C9839=\"\",\"\",VLOOKUP(C9839,Debiteuren!$A$2:$J$9998,10,0))&\"\"","v":""},{"$f":"IF(C9839=\"\",\"\",VLOOKUP(C9839,Debiteuren!$A$2:$O$9998,15,0)&\"\"&VLOOKUP(C9839,Debiteuren!$A$2:$N$9998,14,0))","v":""},null,"","",0,""]
[null,null,null,null,null,null,null,null,null,null,"",null,null,"",null,null,null,null,null,0,null,{"$f":"IF(C9840=\"\",\"\",VLOOKUP(C9840,Debiteuren!$A$2:$J$9998,10,0))&\"\"","v":""},{"$f":"IF(C9840=\"\",\"\",VLOOKUP(C9840,Debiteuren!$A$2:$O$9998,15,0)&\"\"&VLOOKUP(C9840,Debiteuren!$A$2:$N$9998,14,0))","v":""},null,"","",0,""]
[null,null,null,null,null,null,null,null,null,null,"",null,null,"",null,null,null,null,null,0,null,{"$f":"IF(C9841=\"\",\"\",VLOOKUP(C9841,Debiteuren!$A$2:$J$9998,10,0))&\"\"","v":""},{"$f":"IF(C9841=\"\",\"\",VLOOKUP(C9841,Debiteuren!$A$2:$O$9998,15,0)&\"\"&VLOOKUP(C9841,Debiteuren!$A$2:$N$9998,14,0))","v":""},null,"","",0,""]
[null,null,null,null,null,null,null,null,null,null,"",null,null,"",null,null,null,null,null,0,null,{"$f":"IF(C9842=\"\",\"\",VLOOKUP(C9842,Debiteuren!$A$2:$J$9998,10,0))&\"\"","v":""},{"$f":"IF(C9842=\"\",\"\",VLOOKUP(C9842,Debiteuren!$A$2:$O$9998,15,0)&\"\"&VLOOKUP(C9842,Debiteuren!$A$2:$N$9998,14,0))","v":""},null,"","",0,""]
[null,null,null,null,null,null,null,null,null,null,"",null,null,"",null,null,null,null,null,0,null,{"$f":"IF(C9843=\"\",\"\",VLOOKUP(C9843,Debiteuren!$A$2:$J$9998,10,0))&\"\"","v":""},{"$f":"IF(C9843=\"\",\"\",VLOOKUP(C9843,Debiteuren!$A$2:$O$9998,15,0)&\"\"&VLOOKUP(C9843,Debiteuren!$A$2:$N$9998,14,0))","v":""},null,"","",0,""]
[null,null,null,null,null,null,null,null,null,null,"",null,null,"",null,null,null,null,null,0,null,{"$f":"IF(C9844=\"\",\"\",VLOOKUP(C9844,Debiteuren!$A$2:$J$9998,10,0))&\"\"","v":""},{"$f":"IF(C9844=\"\",\"\",VLOOKUP(C9844,Debiteuren!$A$2:$O$9998,15,0)&\"\"&VLOOKUP(C9844,Debiteuren!$A$2:$N$9998,14,0))","v":""},null,"","",0,""]
[null,null,null,null,null,null,null,null,null,null,"",null,null,"",null,null,null,null,null,0,null,{"$f":"IF(C9845=\"\",\"\",VLOOKUP(C9845,Debiteuren!$A$2:$J$9998,10,0))&\"\"","v":""},{"$f":"IF(C9845=\"\",\"\",VLOOKUP(C9845,Debiteuren!$A$2:$O$9998,15,0)&\"\"&VLOOKUP(C9845,Debiteuren!$A$2:$N$9998,14,0))","v":""},null,"","",0,""]
[null,null,null,null,null,null,null,null,null,null,"",null,null,"",null,null,null,null,null,0,null,{"$f":"IF(C9846=\"\",\"\",VLOOKUP(C9846,Debiteuren!$A$2:$J$9998,10,0))&\"\"","v":""},{"$f":"IF(C9846=\"\",\"\",VLOOKUP(C9846,Debiteuren!$A$2:$O$9998,15,0)&\"\"&VLOOKUP(C9846,Debiteuren!$A$2:$N$9998,14,0))","v":""},null,"","",0,""]
[null,null,null,null,null,null,null,null,null,null,"",null,null,"",null,null,null,null,null,0,null,{"$f":"IF(C9847=\"\",\"\",VLOOKUP(C9847,Debiteuren!$A$2:$J$9998,10,0))&\"\"","v":""},{"$f":"IF(C9847=\"\",\"\",VLOOKUP(C9847,Debiteuren!$A$2:$O$9998,15,0)&\"\"&VLOOKUP(C9847,Debiteuren!$A$2:$N$9998,14,0))","v":""},null,"","",0,""]
[null,null,null,null,null,null,null,null,null,null,"",null,null,"",null,null,null,null,null,0,null,{"$f":"IF(C9848=\"\",\"\",VLOOKUP(C9848,Debiteuren!$A$2:$J$9998,10,0))&\"\"","v":""},{"$f":"IF(C9848=\"\",\"\",VLOOKUP(C9848,Debiteuren!$A$2:$O$9998,15,0)&\"\"&VLOOKUP(C9848,Debiteuren!$A$2:$N$9998,14,0))","v":""},null,"","",0,""]
[null,null,null,null,null,null,null,null,null,null,{"$f":"IF(D9849=\"\",\"\",\"\"&\"Kwartaal \"&MONTH(MONTH(D9849)&0)&TEXT(D9849,\" - mmm JJJJ\"))","v":""},null,null,{"$f":"IF(E9849=\"\",\"\",(E9849)-(F9849))","v":""},null,null,null,null,null,0,null,{"$f":"IF(C9849=\"\",\"\",VLOOKUP(C9849,Debiteuren!$A$2:$J$9998,10,0))&\"\"","v":""},{"$f":"IF(C9849=\"\",\"\",VLOOKUP(C9849,Debiteuren!$A$2:$O$9998,15,0)&\"\"&VLOOKUP(C9849,Debiteuren!$A$2:$N$9998,14,0))","v":""},null,"","",0,""]
[null,null,null,null,null,null,null,null,null,null,"",null,null,"",null,null,null,null,null,0,null,{"$f":"IF(C9850=\"\",\"\",VLOOKUP(C9850,Debiteuren!$A$2:$J$9998,10,0))&\"\"","v":""},{"$f":"IF(C9850=\"\",\"\",VLOOKUP(C9850,Debiteuren!$A$2:$O$9998,15,0)&\"\"&VLOOKUP(C9850,Debiteuren!$A$2:$N$9998,14,0))","v":""},null,"","",0,""]
[null,null,null,null,null,null,null,null,null,null,"",null,null,"",null,null,null,null,null,0,null,{"$f":"IF(C9851=\"\",\"\",VLOOKUP(C9851,Debiteuren!$A$2:$J$9998,10,0))&\"\"","v":""},{"$f":"IF(C9851=\"\",\"\",VLOOKUP(C9851,Debiteuren!$A$2:$O$9998,15,0)&\"\"&VLOOKUP(C9851,Debiteuren!$A$2:$N$9998,14,0))","v":""},null,"","",0,""]
[null,null,null,null,null,null,null,null,null,null,"",null,null,"",null,null,null,null,null,0,null,{"$f":"IF(C9852=\"\",\"\",VLOOKUP(C9852,Debiteuren!$A$2:$J$9998,10,0))&\"\"","v":""},{"$f":"IF(C9852=\"\",\"\",VLOOKUP(C9852,Debiteuren!$A$2:$O$9998,15,0)&\"\"&VLOOKUP(C9852,Debiteuren!$A$2:$N$9998,14,0))","v":""},null,"","",0,""]
[null,null,null,null,null,null,null,null,null,null,"",null,null,"",null,null,null,null,null,0,null,{"$f":"IF(C9853=\"\",\"\",VLOOKUP(C9853,Debiteuren!$A$2:$J$9998,10,0))&\"\"","v":""},{"$f":"IF(C9853=\"\",\"\",VLOOKUP(C9853,Debiteuren!$A$2:$O$9998,15,0)&\"\"&VLOOKUP(C9853,Debiteuren!$A$2:$N$9998,14,0))","v":""},null,"","",0,""]
[null,null,null,null,null,null,null,null,null,null,"",null,null,"",null,null,null,null,null,0,null,{"$f":"IF(C9854=\"\",\"\",VLOOKUP(C9854,Debiteuren!$A$2:$J$9998,10,0))&\"\"","v":""},{"$f":"IF(C9854=\"\",\"\",VLOOKUP(C9854,Debiteuren!$A$2:$O$9998,15,0)&\"\"&VLOOKUP(C9854,Debiteuren!$A$2:$N$9998,14,0))","v":""},null,"","",0,""]
[null,null,null,null,null,null,null,null,null,null,"",null,null,"",null,null,null,null,null,0,null,{"$f":"IF(C9855=\"\",\"\",VLOOKUP(C9855,Debiteuren!$A$2:$J$9998,10,0))&\"\"","v":""},{"$f":"IF(C9855=\"\",\"\",VLOOKUP(C9855,Debiteuren!$A$2:$O$9998,15,0)&\"\"&VLOOKUP(C9855,Debiteuren!$A$2:$N$9998,14,0))","v":""},null,"","",0,""]
[null,null,null,null,null,null,null,null,null,null,"",null,null,"",null,null,null,null,null,0,null,{"$f":"IF(C9856=\"\",\"\",VLOOKUP(C9856,Debiteuren!$A$2:$J$9998,10,0))&\"\"","v":""},{"$f":"IF(C9856=\"\",\"\",VLOOKUP(C9856,Debiteuren!$A$2:$O$9998,15,0)&\"\"&VLOOKUP(C9856,Debiteuren!$A$2:$N$9998,14,0))","v":""},null,"","",0,""]
[null,null,null,null,null,null,null,null,null,null,"",null,null,"",null,null,null,null,null,0,null,{"$f":"IF(C9857=\"\",\"\",VLOOKUP(C9857,Debiteuren!$A$2:$J$9998,10,0))&\"\"","v":""},{"$f":"IF(C9857=\"\",\"\",VLOOKUP(C9857,Debiteuren!$A$2:$O$9998,15,0)&\"\"&VLOOKUP(C9857,Debiteuren!$A$2:$N$9998,14,0))","v":""},null,"","",0,""]
[null,null,null,null,null,null,null,null,null,null,"",null,null,"",null,null,null,null,null,0,null,{"$f":"IF(C9858=\"\",\"\",VLOOKUP(C9858,Debiteuren!$A$2:$J$9998,10,0))&\"\"","v":""},{"$f":"IF(C9858=\"\",\"\",VLOOKUP(C9858,Debiteuren!$A$2:$O$9998,15,0)&\"\"&VLOOKUP(C9858,Debiteuren!$A$2:$N$9998,14,0))","v":""},null,"","",0,""]
[null,null,null,null,null,null,null,null,null,null,"",null,null,"",null,null,null,null,null,0,null,{"$f":"IF(C9859=\"\",\"\",VLOOKUP(C9859,Debiteuren!$A$2:$J$9998,10,0))&\"\"","v":""},{"$f":"IF(C9859=\"\",\"\",VLOOKUP(C9859,Debiteuren!$A$2:$O$9998,15,0)&\"\"&VLOOKUP(C9859,Debiteuren!$A$2:$N$9998,14,0))","v":""},null,"","",0,""]
[null,null,null,null,null,null,null,null,null,null,"",null,null,"",null,null,null,null,null,0,null,{"$f":"IF(C9860=\"\",\"\",VLOOKUP(C9860,Debiteuren!$A$2:$J$9998,10,0))&\"\"","v":""},{"$f":"IF(C9860=\"\",\"\",VLOOKUP(C9860,Debiteuren!$A$2:$O$9998,15,0)&\"\"&VLOOKUP(C9860,Debiteuren!$A$2:$N$9998,14,0))","v":""},null,"","",0,""]
[null,null,null,null,null,null,null,null,null,null,"",null,null,"",null,null,null,null,null,0,null,{"$f":"IF(C9861=\"\",\"\",VLOOKUP(C9861,Debiteuren!$A$2:$J$9998,10,0))&\"\"","v":""},{"$f":"IF(C9861=\"\",\"\",VLOOKUP(C9861,Debiteuren!$A$2:$O$9998,15,0)&\"\"&VLOOKUP(C9861,Debiteuren!$A$2:$N$9998,14,0))","v":""},null,"","",0,""]
[null,null,null,null,null,null,null,null,null,null,"",null,null,"",null,null,null,null,null,0,null,{"$f":"IF(C9862=\"\",\"\",VLOOKUP(C9862,Debiteuren!$A$2:$J$9998,10,0))&\"\"","v":""},{"$f":"IF(C9862=\"\",\"\",VLOOKUP(C9862,Debiteuren!$A$2:$O$9998,15,0)&\"\"&VLOOKUP(C9862,Debiteuren!$A$2:$N$9998,14,0))","v":""},null,"","",0,""]
[null,null,null,null,null,null,null,null,null,null,"",null,null,"",null,null,null,null,null,0,null,{"$f":"IF(C9863=\"\",\"\",VLOOKUP(C9863,Debiteuren!$A$2:$J$9998,10,0))&\"\"","v":""},{"$f":"IF(C9863=\"\",\"\",VLOOKUP(C9863,Debiteuren!$A$2:$O$9998,15,0)&\"\"&VLOOKUP(C9863,Debiteuren!$A$2:$N$9998,14,0))","v":""},null,"","",0,""]
[null,null,null,null,null,null,null,null,null,null,"",null,null,"",null,null,null,null,null,0,null,{"$f":"IF(C9864=\"\",\"\",VLOOKUP(C9864,Debiteuren!$A$2:$J$9998,10,0))&\"\"","v":""},{"$f":"IF(C9864=\"\",\"\",VLOOKUP(C9864,Debiteuren!$A$2:$O$9998,15,0)&\"\"&VLOOKUP(C9864,Debiteuren!$A$2:$N$9998,14,0))","v":""},null,"","",0,""]
[null,null,null,null,null,null,null,null,null,null,"",null,null,"",null,null,null,null,null,0,null,{"$f":"IF(C9865=\"\",\"\",VLOOKUP(C9865,Debiteuren!$A$2:$J$9998,10,0))&\"\"","v":""},{"$f":"IF(C9865=\"\",\"\",VLOOKUP(C9865,Debiteuren!$A$2:$O$9998,15,0)&\"\"&VLOOKUP(C9865,Debiteuren!$A$2:$N$9998,14,0))","v":""},null,"","",0,""]
[null,null,null,null,null,null,null,null,null,null,"",null,null,"",null,null,null,null,null,0,null,{"$f":"IF(C9866=\"\",\"\",VLOOKUP(C9866,Debiteuren!$A$2:$J$9998,10,0))&\"\"","v":""},{"$f":"IF(C9866=\"\",\"\",VLOOKUP(C9866,Debiteuren!$A$2:$O$9998,15,0)&\"\"&VLOOKUP(C9866,Debiteuren!$A$2:$N$9998,14,0))","v":""},null,"","",0,""]
[null,null,null,null,null,null,null,null,null,null,"",null,null,"",null,null,null,null,null,0,null,{"$f":"IF(C9867=\"\",\"\",VLOOKUP(C9867,Debiteuren!$A$2:$J$9998,10,0))&\"\"","v":""},{"$f":"IF(C9867=\"\",\"\",VLOOKUP(C9867,Debiteuren!$A$2:$O$9998,15,0)&\"\"&VLOOKUP(C9867,Debiteuren!$A$2:$N$9998,14,0))","v":""},null,"","",0,""]
[null,null,null,null,null,null,null,null,null,null,"",null,null,"",null,null,null,null,null,0,null,{"$f":"IF(C9868=\"\",\"\",VLOOKUP(C9868,Debiteuren!$A$2:$J$9998,10,0))&\"\"","v":""},{"$f":"IF(C9868=\"\",\"\",VLOOKUP(C9868,Debiteuren!$A$2:$O$9998,15,0)&\"\"&VLOOKUP(C9868,Debiteuren!$A$2:$N$9998,14,0))","v":""},null,"","",0,""]
[null,null,null,null,null,null,null,null,null,null,"",null,null,"",null,null,null,null,null,0,null,{"$f":"IF(C9869=\"\",\"\",VLOOKUP(C9869,Debiteuren!$A$2:$J$9998,10,0))&\"\"","v":""},{"$f":"IF(C9869=\"\",\"\",VLOOKUP(C9869,Debiteuren!$A$2:$O$9998,15,0)&\"\"&VLOOKUP(C9869,Debiteuren!$A$2:$N$9998,14,0))","v":""},null,"","",0,""]
[null,null,null,null,null,null,null,null,null,null,"",null,null,"",null,null,null,null,null,0,null,{"$f":"IF(C9870=\"\",\"\",VLOOKUP(C9870,Debiteuren!$A$2:$J$9998,10,0))&\"\"","v":""},{"$f":"IF(C9870=\"\",\"\",VLOOKUP(C9870,Debiteuren!$A$2:$O$9998,15,0)&\"\"&VLOOKUP(C9870,Debiteuren!$A$2:$N$9998,14,0))","v":""},null,"","",0,""]
[null,null,null,null,null,null,null,null,null,null,"",null,null,"",null,null,null,null,null,0,null,{"$f":"IF(C9871=\"\",\"\",VLOOKUP(C9871,Debiteuren!$A$2:$J$9998,10,0))&\"\"","v":""},{"$f":"IF(C9871=\"\",\"\",VLOOKUP(C9871,Debiteuren!$A$2:$O$9998,15,0)&\"\"&VLOOKUP(C9871,Debiteuren!$A$2:$N$9998,14,0))","v":""},null,"","",0,""]
[null,null,null,null,null,null,null,null,null,null,"",null,null,"",null,null,null,null,null,0,null,{"$f":"IF(C9872=\"\",\"\",VLOOKUP(C9872,Debiteuren!$A$2:$J$9998,10,0))&\"\"","v":""},{"$f":"IF(C9872=\"\",\"\",VLOOKUP(C9872,Debiteuren!$A$2:$O$9998,15,0)&\"\"&VLOOKUP(C9872,Debiteuren!$A$2:$N$9998,14,0))","v":""},null,"","",0,""]
[null,null,null,null,null,null,null,null,null,null,"",null,null,"",null,null,null,null,null,0,null,{"$f":"IF(C9873=\"\",\"\",VLOOKUP(C9873,Debiteuren!$A$2:$J$9998,10,0))&\"\"","v":""},{"$f":"IF(C9873=\"\",\"\",VLOOKUP(C9873,Debiteuren!$A$2:$O$9998,15,0)&\"\"&VLOOKUP(C9873,Debiteuren!$A$2:$N$9998,14,0))","v":""},null,"","",0,""]
[null,null,null,null,null,null,null,null,null,null,"",null,null,"",null,null,null,null,null,0,null,{"$f":"IF(C9874=\"\",\"\",VLOOKUP(C9874,Debiteuren!$A$2:$J$9998,10,0))&\"\"","v":""},{"$f":"IF(C9874=\"\",\"\",VLOOKUP(C9874,Debiteuren!$A$2:$O$9998,15,0)&\"\"&VLOOKUP(C9874,Debiteuren!$A$2:$N$9998,14,0))","v":""},null,"","",0,""]
[null,null,null,null,null,null,null,null,null,null,"",null,null,"",null,null,null,null,null,0,null,{"$f":"IF(C9875=\"\",\"\",VLOOKUP(C9875,Debiteuren!$A$2:$J$9998,10,0))&\"\"","v":""},{"$f":"IF(C9875=\"\",\"\",VLOOKUP(C9875,Debiteuren!$A$2:$O$9998,15,0)&\"\"&VLOOKUP(C9875,Debiteuren!$A$2:$N$9998,14,0))","v":""},null,"","",0,""]
[null,null,null,null,null,null,null,null,null,null,"",null,null,"",null,null,null,null,null,0,null,{"$f":"IF(C9876=\"\",\"\",VLOOKUP(C9876,Debiteuren!$A$2:$J$9998,10,0))&\"\"","v":""},{"$f":"IF(C9876=\"\",\"\",VLOOKUP(C9876,Debiteuren!$A$2:$O$9998,15,0)&\"\"&VLOOKUP(C9876,Debiteuren!$A$2:$N$9998,14,0))","v":""},null,"","",0,""]
[null,null,null,null,null,null,null,null,null,null,"",null,null,"",null,null,null,null,null,0,null,{"$f":"IF(C9877=\"\",\"\",VLOOKUP(C9877,Debiteuren!$A$2:$J$9998,10,0))&\"\"","v":""},{"$f":"IF(C9877=\"\",\"\",VLOOKUP(C9877,Debiteuren!$A$2:$O$9998,15,0)&\"\"&VLOOKUP(C9877,Debiteuren!$A$2:$N$9998,14,0))","v":""},null,"","",0,""]
[null,null,null,null,null,null,null,null,null,null,"",null,null,"",null,null,null,null,null,0,null,{"$f":"IF(C9878=\"\",\"\",VLOOKUP(C9878,Debiteuren!$A$2:$J$9998,10,0))&\"\"","v":""},{"$f":"IF(C9878=\"\",\"\",VLOOKUP(C9878,Debiteuren!$A$2:$O$9998,15,0)&\"\"&VLOOKUP(C9878,Debiteuren!$A$2:$N$9998,14,0))","v":""},null,"","",0,""]
[null,null,null,null,null,null,null,null,null,null,"",null,null,"",null,null,null,null,null,0,null,{"$f":"IF(C9879=\"\",\"\",VLOOKUP(C9879,Debiteuren!$A$2:$J$9998,10,0))&\"\"","v":""},{"$f":"IF(C9879=\"\",\"\",VLOOKUP(C9879,Debiteuren!$A$2:$O$9998,15,0)&\"\"&VLOOKUP(C9879,Debiteuren!$A$2:$N$9998,14,0))","v":""},null,"","",0,""]
[null,null,null,null,null,null,null,null,null,null,"",null,null,"",null,null,null,null,null,0,null,{"$f":"IF(C9880=\"\",\"\",VLOOKUP(C9880,Debiteuren!$A$2:$J$9998,10,0))&\"\"","v":""},{"$f":"IF(C9880=\"\",\"\",VLOOKUP(C9880,Debiteuren!$A$2:$O$9998,15,0)&\"\"&VLOOKUP(C9880,Debiteuren!$A$2:$N$9998,14,0))","v":""},null,"","",0,""]
[null,null,null,null,null,null,null,null,null,null,"",null,null,"",null,null,null,null,null,0,null,{"$f":"IF(C9881=\"\",\"\",VLOOKUP(C9881,Debiteuren!$A$2:$J$9998,10,0))&\"\"","v":""},{"$f":"IF(C9881=\"\",\"\",VLOOKUP(C9881,Debiteuren!$A$2:$O$9998,15,0)&\"\"&VLOOKUP(C9881,Debiteuren!$A$2:$N$9998,14,0))","v":""},null,"","",0,""]
[null,null,null,null,null,null,null,null,null,null,"",null,null,"",null,null,null,null,null,0,null,{"$f":"IF(C9882=\"\",\"\",VLOOKUP(C9882,Debiteuren!$A$2:$J$9998,10,0))&\"\"","v":""},{"$f":"IF(C9882=\"\",\"\",VLOOKUP(C9882,Debiteuren!$A$2:$O$9998,15,0)&\"\"&VLOOKUP(C9882,Debiteuren!$A$2:$N$9998,14,0))","v":""},null,"","",0,""]
[null,null,null,null,null,null,null,null,null,null,"",null,null,"",null,null,null,null,null,0,null,{"$f":"IF(C9883=\"\",\"\",VLOOKUP(C9883,Debiteuren!$A$2:$J$9998,10,0))&\"\"","v":""},{"$f":"IF(C9883=\"\",\"\",VLOOKUP(C9883,Debiteuren!$A$2:$O$9998,15,0)&\"\"&VLOOKUP(C9883,Debiteuren!$A$2:$N$9998,14,0))","v":""},null,"","",0,""]
[null,null,null,null,null,null,null,null,null,null,"",null,null,"",null,null,null,null,null,0,null,{"$f":"IF(C9884=\"\",\"\",VLOOKUP(C9884,Debiteuren!$A$2:$J$9998,10,0))&\"\"","v":""},{"$f":"IF(C9884=\"\",\"\",VLOOKUP(C9884,Debiteuren!$A$2:$O$9998,15,0)&\"\"&VLOOKUP(C9884,Debiteuren!$A$2:$N$9998,14,0))","v":""},null,"","",0,""]
[null,null,null,null,null,null,null,null,null,null,"",null,null,"",null,null,null,null,null,0,null,{"$f":"IF(C9885=\"\",\"\",VLOOKUP(C9885,Debiteuren!$A$2:$J$9998,10,0))&\"\"","v":""},{"$f":"IF(C9885=\"\",\"\",VLOOKUP(C9885,Debiteuren!$A$2:$O$9998,15,0)&\"\"&VLOOKUP(C9885,Debiteuren!$A$2:$N$9998,14,0))","v":""},null,"","",0,""]
[null,null,null,null,null,null,null,null,null,null,"",null,null,"",null,null,null,null,null,0,null,{"$f":"IF(C9886=\"\",\"\",VLOOKUP(C9886,Debiteuren!$A$2:$J$9998,10,0))&\"\"","v":""},{"$f":"IF(C9886=\"\",\"\",VLOOKUP(C9886,Debiteuren!$A$2:$O$9998,15,0)&\"\"&VLOOKUP(C9886,Debiteuren!$A$2:$N$9998,14,0))","v":""},null,"","",0,""]
[null,null,null,null,null,null,null,null,null,null,"",null,null,"",null,null,null,null,null,0,null,{"$f":"IF(C9887=\"\",\"\",VLOOKUP(C9887,Debiteuren!$A$2:$J$9998,10,0))&\"\"","v":""},{"$f":"IF(C9887=\"\",\"\",VLOOKUP(C9887,Debiteuren!$A$2:$O$9998,15,0)&\"\"&VLOOKUP(C9887,Debiteuren!$A$2:$N$9998,14,0))","v":""},null,"","",0,""]
[null,null,null,null,null,null,null,null,null,null,"",null,null,"",null,null,null,null,null,0,null,{"$f":"IF(C9888=\"\",\"\",VLOOKUP(C9888,Debiteuren!$A$2:$J$9998,10,0))&\"\"","v":""},{"$f":"IF(C9888=\"\",\"\",VLOOKUP(C9888,Debiteuren!$A$2:$O$9998,15,0)&\"\"&VLOOKUP(C9888,Debiteuren!$A$2:$N$9998,14,0))","v":""},null,"","",0,""]
[null,null,null,null,null,null,null,null,null,null,"",null,null,"",null,null,null,null,null,0,null,{"$f":"IF(C9889=\"\",\"\",VLOOKUP(C9889,Debiteuren!$A$2:$J$9998,10,0))&\"\"","v":""},{"$f":"IF(C9889=\"\",\"\",VLOOKUP(C9889,Debiteuren!$A$2:$O$9998,15,0)&\"\"&VLOOKUP(C9889,Debiteuren!$A$2:$N$9998,14,0))","v":""},null,"","",0,""]
[null,null,null,null,null,null,null,null,null,null,"",null,null,"",null,null,null,null,null,0,null,{"$f":"IF(C9890=\"\",\"\",VLOOKUP(C9890,Debiteuren!$A$2:$J$9998,10,0))&\"\"","v":""},{"$f":"IF(C9890=\"\",\"\",VLOOKUP(C9890,Debiteuren!$A$2:$O$9998,15,0)&\"\"&VLOOKUP(C9890,Debiteuren!$A$2:$N$9998,14,0))","v":""},null,"","",0,""]
[null,null,null,null,null,null,null,null,null,null,"",null,null,"",null,null,null,null,null,0,null,{"$f":"IF(C9891=\"\",\"\",VLOOKUP(C9891,Debiteuren!$A$2:$J$9998,10,0))&\"\"","v":""},{"$f":"IF(C9891=\"\",\"\",VLOOKUP(C9891,Debiteuren!$A$2:$O$9998,15,0)&\"\"&VLOOKUP(C9891,Debiteuren!$A$2:$N$9998,14,0))","v":""},null,"","",0,""]
[null,null,null,null,null,null,null,null,null,null,"",null,null,"",null,null,null,null,null,0,null,{"$f":"IF(C9892=\"\",\"\",VLOOKUP(C9892,Debiteuren!$A$2:$J$9998,10,0))&\"\"","v":""},{"$f":"IF(C9892=\"\",\"\",VLOOKUP(C9892,Debiteuren!$A$2:$O$9998,15,0)&\"\"&VLOOKUP(C9892,Debiteuren!$A$2:$N$9998,14,0))","v":""},null,"","",0,""]
[null,null,null,null,null,null,null,null,null,null,"",null,null,"",null,null,null,null,null,0,null,{"$f":"IF(C9893=\"\",\"\",VLOOKUP(C9893,Debiteuren!$A$2:$J$9998,10,0))&\"\"","v":""},{"$f":"IF(C9893=\"\",\"\",VLOOKUP(C9893,Debiteuren!$A$2:$O$9998,15,0)&\"\"&VLOOKUP(C9893,Debiteuren!$A$2:$N$9998,14,0))","v":""},null,"","",0,""]
[null,null,null,null,null,null,null,null,null,null,"",null,null,"",null,null,null,null,null,0,null,{"$f":"IF(C9894=\"\",\"\",VLOOKUP(C9894,Debiteuren!$A$2:$J$9998,10,0))&\"\"","v":""},{"$f":"IF(C9894=\"\",\"\",VLOOKUP(C9894,Debiteuren!$A$2:$O$9998,15,0)&\"\"&VLOOKUP(C9894,Debiteuren!$A$2:$N$9998,14,0))","v":""},null,"","",0,""]
[null,null,null,null,null,null,null,null,null,null,"",null,null,"",null,null,null,null,null,0,null,{"$f":"IF(C9895=\"\",\"\",VLOOKUP(C9895,Debiteuren!$A$2:$J$9998,10,0))&\"\"","v":""},{"$f":"IF(C9895=\"\",\"\",VLOOKUP(C9895,Debiteuren!$A$2:$O$9998,15,0)&\"\"&VLOOKUP(C9895,Debiteuren!$A$2:$N$9998,14,0))","v":""},null,"","",0,""]
[null,null,null,null,null,null,null,null,null,null,"",null,null,"",null,null,null,null,null,0,null,{"$f":"IF(C9896=\"\",\"\",VLOOKUP(C9896,Debiteuren!$A$2:$J$9998,10,0))&\"\"","v":""},{"$f":"IF(C9896=\"\",\"\",VLOOKUP(C9896,Debiteuren!$A$2:$O$9998,15,0)&\"\"&VLOOKUP(C9896,Debiteuren!$A$2:$N$9998,14,0))","v":""},null,"","",0,""]
[null,null,null,null,null,null,null,null,null,null,"",null,null,"",null,null,null,null,null,0,null,{"$f":"IF(C9897=\"\",\"\",VLOOKUP(C9897,Debiteuren!$A$2:$J$9998,10,0))&\"\"","v":""},{"$f":"IF(C9897=\"\",\"\",VLOOKUP(C9897,Debiteuren!$A$2:$O$9998,15,0)&\"\"&VLOOKUP(C9897,Debiteuren!$A$2:$N$9998,14,0))","v":""},null,"","",0,""]
[null,null,null,null,null,null,null,null,null,null,"",null,null,"",null,null,null,null,null,0,null,{"$f":"IF(C9898=\"\",\"\",VLOOKUP(C9898,Debiteuren!$A$2:$J$9998,10,0))&\"\"","v":""},{"$f":"IF(C9898=\"\",\"\",VLOOKUP(C9898,Debiteuren!$A$2:$O$9998,15,0)&\"\"&VLOOKUP(C9898,Debiteuren!$A$2:$N$9998,14,0))","v":""},null,"","",0,""]
[null,null,null,null,null,null,null,null,null,null,"",null,null,"",null,null,null,null,null,0,null,{"$f":"IF(C9899=\"\",\"\",VLOOKUP(C9899,Debiteuren!$A$2:$J$9998,10,0))&\"\"","v":""},{"$f":"IF(C9899=\"\",\"\",VLOOKUP(C9899,Debiteuren!$A$2:$O$9998,15,0)&\"\"&VLOOKUP(C9899,Debiteuren!$A$2:$N$9998,14,0))","v":""},null,"","",0,""]
[null,null,null,null,null,null,null,null,null,null,"",null,null,"",null,null,null,null,null,0,null,{"$f":"IF(C9900=\"\",\"\",VLOOKUP(C9900,Debiteuren!$A$2:$J$9998,10,0))&\"\"","v":""},{"$f":"IF(C9900=\"\",\"\",VLOOKUP(C9900,Debiteuren!$A$2:$O$9998,15,0)&\"\"&VLOOKUP(C9900,Debiteuren!$A$2:$N$9998,14,0))","v":""},null,"","",0,""]
[null,null,null,null,null,null,null,null,null,null,"",null,null,"",null,null,null,null,null,0,null,{"$f":"IF(C9901=\"\",\"\",VLOOKUP(C9901,Debiteuren!$A$2:$J$9998,10,0))&\"\"","v":""},{"$f":"IF(C9901=\"\",\"\",VLOOKUP(C9901,Debiteuren!$A$2:$O$9998,15,0)&\"\"&VLOOKUP(C9901,Debiteuren!$A$2:$N$9998,14,0))","v":""},null,"","",0,""]
[null,null,null,null,null,null,null,null,null,null,"",null,null,"",null,null,null,null,null,0,null,{"$f":"IF(C9902=\"\",\"\",VLOOKUP(C9902,Debiteuren!$A$2:$J$9998,10,0))&\"\"","v":""},{"$f":"IF(C9902=\"\",\"\",VLOOKUP(C9902,Debiteuren!$A$2:$O$9998,15,0)&\"\"&VLOOKUP(C9902,Debiteuren!$A$2:$N$9998,14,0))","v":""},null,{"$f":"IF(D9902=\"\",\"\",DATEDIF(D9902,TODAY(),\"d\"))","v":""},{"$f":"IF(G9902=\"\",\"\",DATEDIF(D9902,G9902,\"d\"))","v":""},{"$f":"DATEDIF(D9902,H9902,\"d\")","v":0},{"$f":"IF(Y9902=\"\",\"\",Y9902-AA9902)","v":""}]
[null,null,null,null,null,null,null,null,null,null,"",null,null,"",null,null,null,null,null,{"$f":"IF(B9903=1,E9903,0)","v":0},null,{"$f":"IF(C9903=\"\",\"\",VLOOKUP(C9903,Debiteuren!$A$2:$J$9998,10,0))&\"\"","v":""},{"$f":"IF(C9903=\"\",\"\",VLOOKUP(C9903,Debiteuren!$A$2:$O$9998,15,0)&\"\"&VLOOKUP(C9903,Debiteuren!$A$2:$N$9998,14,0))","v":""},null,"","",0,""]
[null,null,null,null,null,null,null,null,null,null,"",null,null,"",null,null,null,null,null,0,null,{"$f":"IF(C9904=\"\",\"\",VLOOKUP(C9904,Debiteuren!$A$2:$J$9998,10,0))&\"\"","v":""},{"$f":"IF(C9904=\"\",\"\",VLOOKUP(C9904,Debiteuren!$A$2:$O$9998,15,0)&\"\"&VLOOKUP(C9904,Debiteuren!$A$2:$N$9998,14,0))","v":""},null,"","",0,""]
[null,null,null,null,null,null,null,null,null,null,"",null,null,"",null,null,null,null,null,0,null,{"$f":"IF(C9905=\"\",\"\",VLOOKUP(C9905,Debiteuren!$A$2:$J$9998,10,0))&\"\"","v":""},{"$f":"IF(C9905=\"\",\"\",VLOOKUP(C9905,Debiteuren!$A$2:$O$9998,15,0)&\"\"&VLOOKUP(C9905,Debiteuren!$A$2:$N$9998,14,0))","v":""},null,"","",0,""]
[null,null,null,null,null,null,null,null,null,null,"",null,null,"",null,null,null,null,null,0,null,{"$f":"IF(C9906=\"\",\"\",VLOOKUP(C9906,Debiteuren!$A$2:$J$9998,10,0))&\"\"","v":""},{"$f":"IF(C9906=\"\",\"\",VLOOKUP(C9906,Debiteuren!$A$2:$O$9998,15,0)&\"\"&VLOOKUP(C9906,Debiteuren!$A$2:$N$9998,14,0))","v":""},null,"","",0,""]
[null,null,null,null,null,null,null,null,null,null,"",null,null,"",null,null,null,null,null,0,null,{"$f":"IF(C9907=\"\",\"\",VLOOKUP(C9907,Debiteuren!$A$2:$J$9998,10,0))&\"\"","v":""},{"$f":"IF(C9907=\"\",\"\",VLOOKUP(C9907,Debiteuren!$A$2:$O$9998,15,0)&\"\"&VLOOKUP(C9907,Debiteuren!$A$2:$N$9998,14,0))","v":""},null,"","",0,""]
[null,null,null,null,null,null,null,null,null,null,"",null,null,"",null,null,null,null,null,0,null,{"$f":"IF(C9908=\"\",\"\",VLOOKUP(C9908,Debiteuren!$A$2:$J$9998,10,0))&\"\"","v":""},{"$f":"IF(C9908=\"\",\"\",VLOOKUP(C9908,Debiteuren!$A$2:$O$9998,15,0)&\"\"&VLOOKUP(C9908,Debiteuren!$A$2:$N$9998,14,0))","v":""},null,"","",0,""]
[null,null,null,null,null,null,null,null,null,null,"",null,null,"",null,null,null,null,null,0,null,{"$f":"IF(C9909=\"\",\"\",VLOOKUP(C9909,Debiteuren!$A$2:$J$9998,10,0))&\"\"","v":""},{"$f":"IF(C9909=\"\",\"\",VLOOKUP(C9909,Debiteuren!$A$2:$O$9998,15,0)&\"\"&VLOOKUP(C9909,Debiteuren!$A$2:$N$9998,14,0))","v":""},null,"","",0,""]
[null,null,null,null,null,null,null,null,null,null,"",null,null,"",null,null,null,null,null,0,null,{"$f":"IF(C9910=\"\",\"\",VLOOKUP(C9910,Debiteuren!$A$2:$J$9998,10,0))&\"\"","v":""},{"$f":"IF(C9910=\"\",\"\",VLOOKUP(C9910,Debiteuren!$A$2:$O$9998,15,0)&\"\"&VLOOKUP(C9910,Debiteuren!$A$2:$N$9998,14,0))","v":""},null,"","",0,""]
[null,null,null,null,null,null,null,null,null,null,"",null,null,"",null,null,null,null,null,0,null,{"$f":"IF(C9911=\"\",\"\",VLOOKUP(C9911,Debiteuren!$A$2:$J$9998,10,0))&\"\"","v":""},{"$f":"IF(C9911=\"\",\"\",VLOOKUP(C9911,Debiteuren!$A$2:$O$9998,15,0)&\"\"&VLOOKUP(C9911,Debiteuren!$A$2:$N$9998,14,0))","v":""},null,"","",0,""]
[null,null,null,null,null,null,null,null,null,null,"",null,null,"",null,null,null,null,null,0,null,{"$f":"IF(C9912=\"\",\"\",VLOOKUP(C9912,Debiteuren!$A$2:$J$9998,10,0))&\"\"","v":""},{"$f":"IF(C9912=\"\",\"\",VLOOKUP(C9912,Debiteuren!$A$2:$O$9998,15,0)&\"\"&VLOOKUP(C9912,Debiteuren!$A$2:$N$9998,14,0))","v":""},null,"","",0,""]
[null,null,null,null,null,null,null,null,null,null,{"$f":"IF(D9913=\"\",\"\",\"\"&\"Kwartaal \"&MONTH(MONTH(D9913)&0)&TEXT(D9913,\" - mmm JJJJ\"))","v":""},null,null,{"$f":"IF(E9913=\"\",\"\",(E9913)-(F9913))","v":""},null,null,null,null,null,0,null,{"$f":"IF(C9913=\"\",\"\",VLOOKUP(C9913,Debiteuren!$A$2:$J$9998,10,0))&\"\"","v":""},{"$f":"IF(C9913=\"\",\"\",VLOOKUP(C9913,Debiteuren!$A$2:$O$9998,15,0)&\"\"&VLOOKUP(C9913,Debiteuren!$A$2:$N$9998,14,0))","v":""},null,"","",0,""]
[null,null,null,null,null,null,null,null,null,null,"",null,null,"",null,null,null,null,null,0,null,{"$f":"IF(C9914=\"\",\"\",VLOOKUP(C9914,Debiteuren!$A$2:$J$9998,10,0))&\"\"","v":""},{"$f":"IF(C9914=\"\",\"\",VLOOKUP(C9914,Debiteuren!$A$2:$O$9998,15,0)&\"\"&VLOOKUP(C9914,Debiteuren!$A$2:$N$9998,14,0))","v":""},null,"","",0,""]
[null,null,null,null,null,null,null,null,null,null,"",null,null,"",null,null,null,null,null,0,null,{"$f":"IF(C9915=\"\",\"\",VLOOKUP(C9915,Debiteuren!$A$2:$J$9998,10,0))&\"\"","v":""},{"$f":"IF(C9915=\"\",\"\",VLOOKUP(C9915,Debiteuren!$A$2:$O$9998,15,0)&\"\"&VLOOKUP(C9915,Debiteuren!$A$2:$N$9998,14,0))","v":""},null,"","",0,""]
[null,null,null,null,null,null,null,null,null,null,"",null,null,"",null,null,null,null,null,0,null,{"$f":"IF(C9916=\"\",\"\",VLOOKUP(C9916,Debiteuren!$A$2:$J$9998,10,0))&\"\"","v":""},{"$f":"IF(C9916=\"\",\"\",VLOOKUP(C9916,Debiteuren!$A$2:$O$9998,15,0)&\"\"&VLOOKUP(C9916,Debiteuren!$A$2:$N$9998,14,0))","v":""},null,"","",0,""]
[null,null,null,null,null,null,null,null,null,null,"",null,null,"",null,null,null,null,null,0,null,{"$f":"IF(C9917=\"\",\"\",VLOOKUP(C9917,Debiteuren!$A$2:$J$9998,10,0))&\"\"","v":""},{"$f":"IF(C9917=\"\",\"\",VLOOKUP(C9917,Debiteuren!$A$2:$O$9998,15,0)&\"\"&VLOOKUP(C9917,Debiteuren!$A$2:$N$9998,14,0))","v":""},null,"","",0,""]
[null,null,null,null,null,null,null,null,null,null,"",null,null,"",null,null,null,null,null,0,null,{"$f":"IF(C9918=\"\",\"\",VLOOKUP(C9918,Debiteuren!$A$2:$J$9998,10,0))&\"\"","v":""},{"$f":"IF(C9918=\"\",\"\",VLOOKUP(C9918,Debiteuren!$A$2:$O$9998,15,0)&\"\"&VLOOKUP(C9918,Debiteuren!$A$2:$N$9998,14,0))","v":""},null,"","",0,""]
[null,null,null,null,null,null,null,null,null,null,"",null,null,"",null,null,null,null,null,0,null,{"$f":"IF(C9919=\"\",\"\",VLOOKUP(C9919,Debiteuren!$A$2:$J$9998,10,0))&\"\"","v":""},{"$f":"IF(C9919=\"\",\"\",VLOOKUP(C9919,Debiteuren!$A$2:$O$9998,15,0)&\"\"&VLOOKUP(C9919,Debiteuren!$A$2:$N$9998,14,0))","v":""},null,"","",0,""]
[null,null,null,null,null,null,null,null,null,null,"",null,null,"",null,null,null,null,null,0,null,{"$f":"IF(C9920=\"\",\"\",VLOOKUP(C9920,Debiteuren!$A$2:$J$9998,10,0))&\"\"","v":""},{"$f":"IF(C9920=\"\",\"\",VLOOKUP(C9920,Debiteuren!$A$2:$O$9998,15,0)&\"\"&VLOOKUP(C9920,Debiteuren!$A$2:$N$9998,14,0))","v":""},null,"","",0,""]
[null,null,null,null,null,null,null,null,null,null,"",null,null,"",null,null,null,null,null,0,null,{"$f":"IF(C9921=\"\",\"\",VLOOKUP(C9921,Debiteuren!$A$2:$J$9998,10,0))&\"\"","v":""},{"$f":"IF(C9921=\"\",\"\",VLOOKUP(C9921,Debiteuren!$A$2:$O$9998,15,0)&\"\"&VLOOKUP(C9921,Debiteuren!$A$2:$N$9998,14,0))","v":""},null,"","",0,""]
[null,null,null,null,null,null,null,null,null,null,"",null,null,"",null,null,null,null,null,0,null,{"$f":"IF(C9922=\"\",\"\",VLOOKUP(C9922,Debiteuren!$A$2:$J$9998,10,0))&\"\"","v":""},{"$f":"IF(C9922=\"\",\"\",VLOOKUP(C9922,Debiteuren!$A$2:$O$9998,15,0)&\"\"&VLOOKUP(C9922,Debiteuren!$A$2:$N$9998,14,0))","v":""},null,"","",0,""]
[null,null,null,null,null,null,null,null,null,null,"",null,null,"",null,null,null,null,null,0,null,{"$f":"IF(C9923=\"\",\"\",VLOOKUP(C9923,Debiteuren!$A$2:$J$9998,10,0))&\"\"","v":""},{"$f":"IF(C9923=\"\",\"\",VLOOKUP(C9923,Debiteuren!$A$2:$O$9998,15,0)&\"\"&VLOOKUP(C9923,Debiteuren!$A$2:$N$9998,14,0))","v":""},null,"","",0,""]
[null,null,null,null,null,null,null,null,null,null,"",null,null,"",null,null,null,null,null,0,null,{"$f":"IF(C9924=\"\",\"\",VLOOKUP(C9924,Debiteuren!$A$2:$J$9998,10,0))&\"\"","v":""},{"$f":"IF(C9924=\"\",\"\",VLOOKUP(C9924,Debiteuren!$A$2:$O$9998,15,0)&\"\"&VLOOKUP(C9924,Debiteuren!$A$2:$N$9998,14,0))","v":""},null,"","",0,""]
[null,null,null,null,null,null,null,null,null,null,"",null,null,"",null,null,null,null,null,0,null,{"$f":"IF(C9925=\"\",\"\",VLOOKUP(C9925,Debiteuren!$A$2:$J$9998,10,0))&\"\"","v":""},{"$f":"IF(C9925=\"\",\"\",VLOOKUP(C9925,Debiteuren!$A$2:$O$9998,15,0)&\"\"&VLOOKUP(C9925,Debiteuren!$A$2:$N$9998,14,0))","v":""},null,"","",0,""]
[null,null,null,null,null,null,null,null,null,null,"",null,null,"",null,null,null,null,null,0,null,{"$f":"IF(C9926=\"\",\"\",VLOOKUP(C9926,Debiteuren!$A$2:$J$9998,10,0))&\"\"","v":""},{"$f":"IF(C9926=\"\",\"\",VLOOKUP(C9926,Debiteuren!$A$2:$O$9998,15,0)&\"\"&VLOOKUP(C9926,Debiteuren!$A$2:$N$9998,14,0))","v":""},null,"","",0,""]
[null,null,null,null,null,null,null,null,null,null,"",null,null,"",null,null,null,null,null,0,null,{"$f":"IF(C9927=\"\",\"\",VLOOKUP(C9927,Debiteuren!$A$2:$J$9998,10,0))&\"\"","v":""},{"$f":"IF(C9927=\"\",\"\",VLOOKUP(C9927,Debiteuren!$A$2:$O$9998,15,0)&\"\"&VLOOKUP(C9927,Debiteuren!$A$2:$N$9998,14,0))","v":""},null,"","",0,""]
[null,null,null,null,null,null,null,null,null,null,"",null,null,"",null,null,null,null,null,0,null,{"$f":"IF(C9928=\"\",\"\",VLOOKUP(C9928,Debiteuren!$A$2:$J$9998,10,0))&\"\"","v":""},{"$f":"IF(C9928=\"\",\"\",VLOOKUP(C9928,Debiteuren!$A$2:$O$9998,15,0)&\"\"&VLOOKUP(C9928,Debiteuren!$A$2:$N$9998,14,0))","v":""},null,"","",0,""]
[null,null,null,null,null,null,null,null,null,null,"",null,null,"",null,null,null,null,null,0,null,{"$f":"IF(C9929=\"\",\"\",VLOOKUP(C9929,Debiteuren!$A$2:$J$9998,10,0))&\"\"","v":""},{"$f":"IF(C9929=\"\",\"\",VLOOKUP(C9929,Debiteuren!$A$2:$O$9998,15,0)&\"\"&VLOOKUP(C9929,Debiteuren!$A$2:$N$9998,14,0))","v":""},null,"","",0,""]
[null,null,null,null,null,null,null,null,null,null,"",null,null,"",null,null,null,null,null,0,null,{"$f":"IF(C9930=\"\",\"\",VLOOKUP(C9930,Debiteuren!$A$2:$J$9998,10,0))&\"\"","v":""},{"$f":"IF(C9930=\"\",\"\",VLOOKUP(C9930,Debiteuren!$A$2:$O$9998,15,0)&\"\"&VLOOKUP(C9930,Debiteuren!$A$2:$N$9998,14,0))","v":""},null,"","",0,""]
[null,null,null,null,null,null,null,null,null,null,"",null,null,"",null,null,null,null,null,0,null,{"$f":"IF(C9931=\"\",\"\",VLOOKUP(C9931,Debiteuren!$A$2:$J$9998,10,0))&\"\"","v":""},{"$f":"IF(C9931=\"\",\"\",VLOOKUP(C9931,Debiteuren!$A$2:$O$9998,15,0)&\"\"&VLOOKUP(C9931,Debiteuren!$A$2:$N$9998,14,0))","v":""},null,"","",0,""]
[null,null,null,null,null,null,null,null,null,null,"",null,null,"",null,null,null,null,null,0,null,{"$f":"IF(C9932=\"\",\"\",VLOOKUP(C9932,Debiteuren!$A$2:$J$9998,10,0))&\"\"","v":""},{"$f":"IF(C9932=\"\",\"\",VLOOKUP(C9932,Debiteuren!$A$2:$O$9998,15,0)&\"\"&VLOOKUP(C9932,Debiteuren!$A$2:$N$9998,14,0))","v":""},null,"","",0,""]
[null,null,null,null,null,null,null,null,null,null,"",null,null,"",null,null,null,null,null,0,null,{"$f":"IF(C9933=\"\",\"\",VLOOKUP(C9933,Debiteuren!$A$2:$J$9998,10,0))&\"\"","v":""},{"$f":"IF(C9933=\"\",\"\",VLOOKUP(C9933,Debiteuren!$A$2:$O$9998,15,0)&\"\"&VLOOKUP(C9933,Debiteuren!$A$2:$N$9998,14,0))","v":""},null,"","",0,""]
[null,null,null,null,null,null,null,null,null,null,"",null,null,"",null,null,null,null,null,0,null,{"$f":"IF(C9934=\"\",\"\",VLOOKUP(C9934,Debiteuren!$A$2:$J$9998,10,0))&\"\"","v":""},{"$f":"IF(C9934=\"\",\"\",VLOOKUP(C9934,Debiteuren!$A$2:$O$9998,15,0)&\"\"&VLOOKUP(C9934,Debiteuren!$A$2:$N$9998,14,0))","v":""},null,"","",0,""]
[null,null,null,null,null,null,null,null,null,null,"",null,null,"",null,null,null,null,null,0,null,{"$f":"IF(C9935=\"\",\"\",VLOOKUP(C9935,Debiteuren!$A$2:$J$9998,10,0))&\"\"","v":""},{"$f":"IF(C9935=\"\",\"\",VLOOKUP(C9935,Debiteuren!$A$2:$O$9998,15,0)&\"\"&VLOOKUP(C9935,Debiteuren!$A$2:$N$9998,14,0))","v":""},null,"","",0,""]
[null,null,null,null,null,null,null,null,null,null,"",null,null,"",null,null,null,null,null,0,null,{"$f":"IF(C9936=\"\",\"\",VLOOKUP(C9936,Debiteuren!$A$2:$J$9998,10,0))&\"\"","v":""},{"$f":"IF(C9936=\"\",\"\",VLOOKUP(C9936,Debiteuren!$A$2:$O$9998,15,0)&\"\"&VLOOKUP(C9936,Debiteuren!$A$2:$N$9998,14,0))","v":""},null,"","",0,""]
[null,null,null,null,null,null,null,null,null,null,"",null,null,"",null,null,null,null,null,0,null,{"$f":"IF(C9937=\"\",\"\",VLOOKUP(C9937,Debiteuren!$A$2:$J$9998,10,0))&\"\"","v":""},{"$f":"IF(C9937=\"\",\"\",VLOOKUP(C9937,Debiteuren!$A$2:$O$9998,15,0)&\"\"&VLOOKUP(C9937,Debiteuren!$A$2:$N$9998,14,0))","v":""},null,"","",0,""]
[null,null,null,null,null,null,null,null,null,null,"",null,null,"",null,null,null,null,null,0,null,{"$f":"IF(C9938=\"\",\"\",VLOOKUP(C9938,Debiteuren!$A$2:$J$9998,10,0))&\"\"","v":""},{"$f":"IF(C9938=\"\",\"\",VLOOKUP(C9938,Debiteuren!$A$2:$O$9998,15,0)&\"\"&VLOOKUP(C9938,Debiteuren!$A$2:$N$9998,14,0))","v":""},null,"","",0,""]
[null,null,null,null,null,null,null,null,null,null,"",null,null,"",null,null,null,null,null,0,null,{"$f":"IF(C9939=\"\",\"\",VLOOKUP(C9939,Debiteuren!$A$2:$J$9998,10,0))&\"\"","v":""},{"$f":"IF(C9939=\"\",\"\",VLOOKUP(C9939,Debiteuren!$A$2:$O$9998,15,0)&\"\"&VLOOKUP(C9939,Debiteuren!$A$2:$N$9998,14,0))","v":""},null,"","",0,""]
[null,null,null,null,null,null,null,null,null,null,"",null,null,"",null,null,null,null,null,0,null,{"$f":"IF(C9940=\"\",\"\",VLOOKUP(C9940,Debiteuren!$A$2:$J$9998,10,0))&\"\"","v":""},{"$f":"IF(C9940=\"\",\"\",VLOOKUP(C9940,Debiteuren!$A$2:$O$9998,15,0)&\"\"&VLOOKUP(C9940,Debiteuren!$A$2:$N$9998,14,0))","v":""},null,"","",0,""]
[null,null,null,null,null,null,null,null,null,null,"",null,null,"",null,null,null,null,null,0,null,{"$f":"IF(C9941=\"\",\"\",VLOOKUP(C9941,Debiteuren!$A$2:$J$9998,10,0))&\"\"","v":""},{"$f":"IF(C9941=\"\",\"\",VLOOKUP(C9941,Debiteuren!$A$2:$O$9998,15,0)&\"\"&VLOOKUP(C9941,Debiteuren!$A$2:$N$9998,14,0))","v":""},null,"","",0,""]
[null,null,null,null,null,null,null,null,null,null,"",null,null,"",null,null,null,null,null,0,null,{"$f":"IF(C9942=\"\",\"\",VLOOKUP(C9942,Debiteuren!$A$2:$J$9998,10,0))&\"\"","v":""},{"$f":"IF(C9942=\"\",\"\",VLOOKUP(C9942,Debiteuren!$A$2:$O$9998,15,0)&\"\"&VLOOKUP(C9942,Debiteuren!$A$2:$N$9998,14,0))","v":""},null,"","",0,""]
[null,null,null,null,null,null,null,null,null,null,"",null,null,"",null,null,null,null,null,0,null,{"$f":"IF(C9943=\"\",\"\",VLOOKUP(C9943,Debiteuren!$A$2:$J$9998,10,0))&\"\"","v":""},{"$f":"IF(C9943=\"\",\"\",VLOOKUP(C9943,Debiteuren!$A$2:$O$9998,15,0)&\"\"&VLOOKUP(C9943,Debiteuren!$A$2:$N$9998,14,0))","v":""},null,"","",0,""]
[null,null,null,null,null,null,null,null,null,null,"",null,null,"",null,null,null,null,null,0,null,{"$f":"IF(C9944=\"\",\"\",VLOOKUP(C9944,Debiteuren!$A$2:$J$9998,10,0))&\"\"","v":""},{"$f":"IF(C9944=\"\",\"\",VLOOKUP(C9944,Debiteuren!$A$2:$O$9998,15,0)&\"\"&VLOOKUP(C9944,Debiteuren!$A$2:$N$9998,14,0))","v":""},null,"","",0,""]
[null,null,null,null,null,null,null,null,null,null,"",null,null,"",null,null,null,null,null,0,null,{"$f":"IF(C9945=\"\",\"\",VLOOKUP(C9945,Debiteuren!$A$2:$J$9998,10,0))&\"\"","v":""},{"$f":"IF(C9945=\"\",\"\",VLOOKUP(C9945,Debiteuren!$A$2:$O$9998,15,0)&\"\"&VLOOKUP(C9945,Debiteuren!$A$2:$N$9998,14,0))","v":""},null,"","",0,""]
[null,null,null,null,null,null,null,null,null,null,"",null,null,"",null,null,null,null,null,0,null,{"$f":"IF(C9946=\"\",\"\",VLOOKUP(C9946,Debiteuren!$A$2:$J$9998,10,0))&\"\"","v":""},{"$f":"IF(C9946=\"\",\"\",VLOOKUP(C9946,Debiteuren!$A$2:$O$9998,15,0)&\"\"&VLOOKUP(C9946,Debiteuren!$A$2:$N$9998,14,0))","v":""},null,"","",0,""]
[null,null,null,null,null,null,null,null,null,null,"",null,null,"",null,null,null,null,null,0,null,{"$f":"IF(C9947=\"\",\"\",VLOOKUP(C9947,Debiteuren!$A$2:$J$9998,10,0))&\"\"","v":""},{"$f":"IF(C9947=\"\",\"\",VLOOKUP(C9947,Debiteuren!$A$2:$O$9998,15,0)&\"\"&VLOOKUP(C9947,Debiteuren!$A$2:$N$9998,14,0))","v":""},null,"","",0,""]
[null,null,null,null,null,null,null,null,null,null,"",null,null,"",null,null,null,null,null,0,null,{"$f":"IF(C9948=\"\",\"\",VLOOKUP(C9948,Debiteuren!$A$2:$J$9998,10,0))&\"\"","v":""},{"$f":"IF(C9948=\"\",\"\",VLOOKUP(C9948,Debiteuren!$A$2:$O$9998,15,0)&\"\"&VLOOKUP(C9948,Debiteuren!$A$2:$N$9998,14,0))","v":""},null,"","",0,""]
[null,null,null,null,null,null,null,null,null,null,"",null,null,"",null,null,null,null,null,0,null,{"$f":"IF(C9949=\"\",\"\",VLOOKUP(C9949,Debiteuren!$A$2:$J$9998,10,0))&\"\"","v":""},{"$f":"IF(C9949=\"\",\"\",VLOOKUP(C9949,Debiteuren!$A$2:$O$9998,15,0)&\"\"&VLOOKUP(C9949,Debiteuren!$A$2:$N$9998,14,0))","v":""},null,"","",0,""]
[null,null,null,null,null,null,null,null,null,null,"",null,null,"",null,null,null,null,null,0,null,{"$f":"IF(C9950=\"\",\"\",VLOOKUP(C9950,Debiteuren!$A$2:$J$9998,10,0))&\"\"","v":""},{"$f":"IF(C9950=\"\",\"\",VLOOKUP(C9950,Debiteuren!$A$2:$O$9998,15,0)&\"\"&VLOOKUP(C9950,Debiteuren!$A$2:$N$9998,14,0))","v":""},null,"","",0,""]
[null,null,null,null,null,null,null,null,null,null,"",null,null,"",null,null,null,null,null,0,null,{"$f":"IF(C9951=\"\",\"\",VLOOKUP(C9951,Debiteuren!$A$2:$J$9998,10,0))&\"\"","v":""},{"$f":"IF(C9951=\"\",\"\",VLOOKUP(C9951,Debiteuren!$A$2:$O$9998,15,0)&\"\"&VLOOKUP(C9951,Debiteuren!$A$2:$N$9998,14,0))","v":""},null,"","",0,""]
[null,null,null,null,null,null,null,null,null,null,"",null,null,"",null,null,null,null,null,0,null,{"$f":"IF(C9952=\"\",\"\",VLOOKUP(C9952,Debiteuren!$A$2:$J$9998,10,0))&\"\"","v":""},{"$f":"IF(C9952=\"\",\"\",VLOOKUP(C9952,Debiteuren!$A$2:$O$9998,15,0)&\"\"&VLOOKUP(C9952,Debiteuren!$A$2:$N$9998,14,0))","v":""},null,"","",0,""]
[null,null,null,null,null,null,null,null,null,null,"",null,null,"",null,null,null,null,null,0,null,{"$f":"IF(C9953=\"\",\"\",VLOOKUP(C9953,Debiteuren!$A$2:$J$9998,10,0))&\"\"","v":""},{"$f":"IF(C9953=\"\",\"\",VLOOKUP(C9953,Debiteuren!$A$2:$O$9998,15,0)&\"\"&VLOOKUP(C9953,Debiteuren!$A$2:$N$9998,14,0))","v":""},null,"","",0,""]
[null,null,null,null,null,null,null,null,null,null,"",null,null,"",null,null,null,null,null,0,null,{"$f":"IF(C9954=\"\",\"\",VLOOKUP(C9954,Debiteuren!$A$2:$J$9998,10,0))&\"\"","v":""},{"$f":"IF(C9954=\"\",\"\",VLOOKUP(C9954,Debiteuren!$A$2:$O$9998,15,0)&\"\"&VLOOKUP(C9954,Debiteuren!$A$2:$N$9998,14,0))","v":""},null,"","",0,""]
[null,null,null,null,null,null,null,null,null,null,"",null,null,"",null,null,null,null,null,0,null,{"$f":"IF(C9955=\"\",\"\",VLOOKUP(C9955,Debiteuren!$A$2:$J$9998,10,0))&\"\"","v":""},{"$f":"IF(C9955=\"\",\"\",VLOOKUP(C9955,Debiteuren!$A$2:$O$9998,15,0)&\"\"&VLOOKUP(C9955,Debiteuren!$A$2:$N$9998,14,0))","v":""},null,"","",0,""]
[null,null,null,null,null,null,null,null,null,null,"",null,null,"",null,null,null,null,null,0,null,{"$f":"IF(C9956=\"\",\"\",VLOOKUP(C9956,Debiteuren!$A$2:$J$9998,10,0))&\"\"","v":""},{"$f":"IF(C9956=\"\",\"\",VLOOKUP(C9956,Debiteuren!$A$2:$O$9998,15,0)&\"\"&VLOOKUP(C9956,Debiteuren!$A$2:$N$9998,14,0))","v":""},null,"","",0,""]
[null,null,null,null,null,null,null,null,null,null,"",null,null,"",null,null,null,null,null,0,null,{"$f":"IF(C9957=\"\",\"\",VLOOKUP(C9957,Debiteuren!$A$2:$J$9998,10,0))&\"\"","v":""},{"$f":"IF(C9957=\"\",\"\",VLOOKUP(C9957,Debiteuren!$A$2:$O$9998,15,0)&\"\"&VLOOKUP(C9957,Debiteuren!$A$2:$N$9998,14,0))","v":""},null,"","",0,""]
[null,null,null,null,null,null,null,null,null,null,"",null,null,"",null,null,null,null,null,0,null,{"$f":"IF(C9958=\"\",\"\",VLOOKUP(C9958,Debiteuren!$A$2:$J$9998,10,0))&\"\"","v":""},{"$f":"IF(C9958=\"\",\"\",VLOOKUP(C9958,Debiteuren!$A$2:$O$9998,15,0)&\"\"&VLOOKUP(C9958,Debiteuren!$A$2:$N$9998,14,0))","v":""},null,"","",0,""]
[null,null,null,null,null,null,null,null,null,null,"",null,null,"",null,null,null,null,null,0,null,{"$f":"IF(C9959=\"\",\"\",VLOOKUP(C9959,Debiteuren!$A$2:$J$9998,10,0))&\"\"","v":""},{"$f":"IF(C9959=\"\",\"\",VLOOKUP(C9959,Debiteuren!$A$2:$O$9998,15,0)&\"\"&VLOOKUP(C9959,Debiteuren!$A$2:$N$9998,14,0))","v":""},null,"","",0,""]
[null,null,null,null,null,null,null,null,null,null,"",null,null,"",null,null,null,null,null,0,null,{"$f":"IF(C9960=\"\",\"\",VLOOKUP(C9960,Debiteuren!$A$2:$J$9998,10,0))&\"\"","v":""},{"$f":"IF(C9960=\"\",\"\",VLOOKUP(C9960,Debiteuren!$A$2:$O$9998,15,0)&\"\"&VLOOKUP(C9960,Debiteuren!$A$2:$N$9998,14,0))","v":""},null,"","",0,""]
[null,null,null,null,null,null,null,null,null,null,"",null,null,"",null,null,null,null,null,0,null,{"$f":"IF(C9961=\"\",\"\",VLOOKUP(C9961,Debiteuren!$A$2:$J$9998,10,0))&\"\"","v":""},{"$f":"IF(C9961=\"\",\"\",VLOOKUP(C9961,Debiteuren!$A$2:$O$9998,15,0)&\"\"&VLOOKUP(C9961,Debiteuren!$A$2:$N$9998,14,0))","v":""},null,"","",0,""]
[null,null,null,null,null,null,null,null,null,null,"",null,null,"",null,null,null,null,null,0,null,{"$f":"IF(C9962=\"\",\"\",VLOOKUP(C9962,Debiteuren!$A$2:$J$9998,10,0))&\"\"","v":""},{"$f":"IF(C9962=\"\",\"\",VLOOKUP(C9962,Debiteuren!$A$2:$O$9998,15,0)&\"\"&VLOOKUP(C9962,Debiteuren!$A$2:$N$9998,14,0))","v":""},null,"","",0,""]
[null,null,null,null,null,null,null,null,null,null,"",null,null,"",null,null,null,null,null,0,null,{"$f":"IF(C9963=\"\",\"\",VLOOKUP(C9963,Debiteuren!$A$2:$J$9998,10,0))&\"\"","v":""},{"$f":"IF(C9963=\"\",\"\",VLOOKUP(C9963,Debiteuren!$A$2:$O$9998,15,0)&\"\"&VLOOKUP(C9963,Debiteuren!$A$2:$N$9998,14,0))","v":""},null,"","",0,""]
[null,null,null,null,null,null,null,null,null,null,"",null,null,"",null,null,null,null,null,0,null,{"$f":"IF(C9964=\"\",\"\",VLOOKUP(C9964,Debiteuren!$A$2:$J$9998,10,0))&\"\"","v":""},{"$f":"IF(C9964=\"\",\"\",VLOOKUP(C9964,Debiteuren!$A$2:$O$9998,15,0)&\"\"&VLOOKUP(C9964,Debiteuren!$A$2:$N$9998,14,0))","v":""},null,"","",0,""]
[null,null,null,null,null,null,null,null,null,null,"",null,null,"",null,null,null,null,null,0,null,{"$f":"IF(C9965=\"\",\"\",VLOOKUP(C9965,Debiteuren!$A$2:$J$9998,10,0))&\"\"","v":""},{"$f":"IF(C9965=\"\",\"\",VLOOKUP(C9965,Debiteuren!$A$2:$O$9998,15,0)&\"\"&VLOOKUP(C9965,Debiteuren!$A$2:$N$9998,14,0))","v":""},null,"","",0,""]
[null,null,null,null,null,null,null,null,null,null,"",null,null,"",null,null,null,null,null,0,null,{"$f":"IF(C9966=\"\",\"\",VLOOKUP(C9966,Debiteuren!$A$2:$J$9998,10,0))&\"\"","v":""},{"$f":"IF(C9966=\"\",\"\",VLOOKUP(C9966,Debiteuren!$A$2:$O$9998,15,0)&\"\"&VLOOKUP(C9966,Debiteuren!$A$2:$N$9998,14,0))","v":""},null,{"$f":"IF(D9966=\"\",\"\",DATEDIF(D9966,TODAY(),\"d\"))","v":""},{"$f":"IF(G9966=\"\",\"\",DATEDIF(D9966,G9966,\"d\"))","v":""},{"$f":"DATEDIF(D9966,H9966,\"d\")","v":0},{"$f":"IF(Y9966=\"\",\"\",Y9966-AA9966)","v":""}]
[null,null,null,null,null,null,null,null,null,null,"",null,null,"",null,null,null,null,null,{"$f":"IF(B9967=1,E9967,0)","v":0},null,{"$f":"IF(C9967=\"\",\"\",VLOOKUP(C9967,Debiteuren!$A$2:$J$9998,10,0))&\"\"","v":""},{"$f":"IF(C9967=\"\",\"\",VLOOKUP(C9967,Debiteuren!$A$2:$O$9998,15,0)&\"\"&VLOOKUP(C9967,Debiteuren!$A$2:$N$9998,14,0))","v":""},null,"","",0,""]
[null,null,null,null,null,null,null,null,null,null,"",null,null,"",null,null,null,null,null,0,null,{"$f":"IF(C9968=\"\",\"\",VLOOKUP(C9968,Debiteuren!$A$2:$J$9998,10,0))&\"\"","v":""},{"$f":"IF(C9968=\"\",\"\",VLOOKUP(C9968,Debiteuren!$A$2:$O$9998,15,0)&\"\"&VLOOKUP(C9968,Debiteuren!$A$2:$N$9998,14,0))","v":""},null,"","",0,""]
[null,null,null,null,null,null,null,null,null,null,"",null,null,"",null,null,null,null,null,0,null,{"$f":"IF(C9969=\"\",\"\",VLOOKUP(C9969,Debiteuren!$A$2:$J$9998,10,0))&\"\"","v":""},{"$f":"IF(C9969=\"\",\"\",VLOOKUP(C9969,Debiteuren!$A$2:$O$9998,15,0)&\"\"&VLOOKUP(C9969,Debiteuren!$A$2:$N$9998,14,0))","v":""},null,"","",0,""]
[null,null,null,null,null,null,null,null,null,null,"",null,null,"",null,null,null,null,null,0,null,{"$f":"IF(C9970=\"\",\"\",VLOOKUP(C9970,Debiteuren!$A$2:$J$9998,10,0))&\"\"","v":""},{"$f":"IF(C9970=\"\",\"\",VLOOKUP(C9970,Debiteuren!$A$2:$O$9998,15,0)&\"\"&VLOOKUP(C9970,Debiteuren!$A$2:$N$9998,14,0))","v":""},null,"","",0,""]
[null,null,null,null,null,null,null,null,null,null,"",null,null,"",null,null,null,null,null,0,null,{"$f":"IF(C9971=\"\",\"\",VLOOKUP(C9971,Debiteuren!$A$2:$J$9998,10,0))&\"\"","v":""},{"$f":"IF(C9971=\"\",\"\",VLOOKUP(C9971,Debiteuren!$A$2:$O$9998,15,0)&\"\"&VLOOKUP(C9971,Debiteuren!$A$2:$N$9998,14,0))","v":""},null,"","",0,""]
[null,null,null,null,null,null,null,null,null,null,"",null,null,"",null,null,null,null,null,0,null,{"$f":"IF(C9972=\"\",\"\",VLOOKUP(C9972,Debiteuren!$A$2:$J$9998,10,0))&\"\"","v":""},{"$f":"IF(C9972=\"\",\"\",VLOOKUP(C9972,Debiteuren!$A$2:$O$9998,15,0)&\"\"&VLOOKUP(C9972,Debiteuren!$A$2:$N$9998,14,0))","v":""},null,"","",0,""]
[null,null,null,null,null,null,null,null,null,null,"",null,null,"",null,null,null,null,null,0,null,{"$f":"IF(C9973=\"\",\"\",VLOOKUP(C9973,Debiteuren!$A$2:$J$9998,10,0))&\"\"","v":""},{"$f":"IF(C9973=\"\",\"\",VLOOKUP(C9973,Debiteuren!$A$2:$O$9998,15,0)&\"\"&VLOOKUP(C9973,Debiteuren!$A$2:$N$9998,14,0))","v":""},null,"","",0,""]
[null,null,null,null,null,null,null,null,null,null,"",null,null,"",null,null,null,null,null,0,null,{"$f":"IF(C9974=\"\",\"\",VLOOKUP(C9974,Debiteuren!$A$2:$J$9998,10,0))&\"\"","v":""},{"$f":"IF(C9974=\"\",\"\",VLOOKUP(C9974,Debiteuren!$A$2:$O$9998,15,0)&\"\"&VLOOKUP(C9974,Debiteuren!$A$2:$N$9998,14,0))","v":""},null,"","",0,""]
[null,null,null,null,null,null,null,null,null,null,"",null,null,"",null,null,null,null,null,0,null,{"$f":"IF(C9975=\"\",\"\",VLOOKUP(C9975,Debiteuren!$A$2:$J$9998,10,0))&\"\"","v":""},{"$f":"IF(C9975=\"\",\"\",VLOOKUP(C9975,Debiteuren!$A$2:$O$9998,15,0)&\"\"&VLOOKUP(C9975,Debiteuren!$A$2:$N$9998,14,0))","v":""},null,"","",0,""]
[null,null,null,null,null,null,null,null,null,null,"",null,null,"",null,null,null,null,null,0,null,{"$f":"IF(C9976=\"\",\"\",VLOOKUP(C9976,Debiteuren!$A$2:$J$9998,10,0))&\"\"","v":""},{"$f":"IF(C9976=\"\",\"\",VLOOKUP(C9976,Debiteuren!$A$2:$O$9998,15,0)&\"\"&VLOOKUP(C9976,Debiteuren!$A$2:$N$9998,14,0))","v":""},null,"","",0,""]
[null,null,null,null,null,null,null,null,null,null,{"$f":"IF(D9977=\"\",\"\",\"\"&\"Kwartaal \"&MONTH(MONTH(D9977)&0)&TEXT(D9977,\" - mmm JJJJ\"))","v":""},null,null,{"$f":"IF(E9977=\"\",\"\",(E9977)-(F9977))","v":""},null,null,null,null,null,0,null,{"$f":"IF(C9977=\"\",\"\",VLOOKUP(C9977,Debiteuren!$A$2:$J$9998,10,0))&\"\"","v":""},{"$f":"IF(C9977=\"\",\"\",VLOOKUP(C9977,Debiteuren!$A$2:$O$9998,15,0)&\"\"&VLOOKUP(C9977,Debiteuren!$A$2:$N$9998,14,0))","v":""},null,"","",0,""]
[null,null,null,null,null,null,null,null,null,null,"",null,null,"",null,null,null,null,null,0,null,{"$f":"IF(C9978=\"\",\"\",VLOOKUP(C9978,Debiteuren!$A$2:$J$9998,10,0))&\"\"","v":""},{"$f":"IF(C9978=\"\",\"\",VLOOKUP(C9978,Debiteuren!$A$2:$O$9998,15,0)&\"\"&VLOOKUP(C9978,Debiteuren!$A$2:$N$9998,14,0))","v":""},null,"","",0,""]
[null,null,null,null,null,null,null,null,null,null,"",null,null,"",null,null,null,null,null,0,null,{"$f":"IF(C9979=\"\",\"\",VLOOKUP(C9979,Debiteuren!$A$2:$J$9998,10,0))&\"\"","v":""},{"$f":"IF(C9979=\"\",\"\",VLOOKUP(C9979,Debiteuren!$A$2:$O$9998,15,0)&\"\"&VLOOKUP(C9979,Debiteuren!$A$2:$N$9998,14,0))","v":""},null,"","",0,""]
[null,null,null,null,null,null,null,null,null,null,"",null,null,"",null,null,null,null,null,0,null,{"$f":"IF(C9980=\"\",\"\",VLOOKUP(C9980,Debiteuren!$A$2:$J$9998,10,0))&\"\"","v":""},{"$f":"IF(C9980=\"\",\"\",VLOOKUP(C9980,Debiteuren!$A$2:$O$9998,15,0)&\"\"&VLOOKUP(C9980,Debiteuren!$A$2:$N$9998,14,0))","v":""},null,"","",0,""]
[null,null,null,null,null,null,null,null,null,null,"",null,null,"",null,null,null,null,null,0,null,{"$f":"IF(C9981=\"\",\"\",VLOOKUP(C9981,Debiteuren!$A$2:$J$9998,10,0))&\"\"","v":""},{"$f":"IF(C9981=\"\",\"\",VLOOKUP(C9981,Debiteuren!$A$2:$O$9998,15,0)&\"\"&VLOOKUP(C9981,Debiteuren!$A$2:$N$9998,14,0))","v":""},null,"","",0,""]
[null,null,null,null,null,null,null,null,null,null,"",null,null,"",null,null,null,null,null,0,null,{"$f":"IF(C9982=\"\",\"\",VLOOKUP(C9982,Debiteuren!$A$2:$J$9998,10,0))&\"\"","v":""},{"$f":"IF(C9982=\"\",\"\",VLOOKUP(C9982,Debiteuren!$A$2:$O$9998,15,0)&\"\"&VLOOKUP(C9982,Debiteuren!$A$2:$N$9998,14,0))","v":""},null,"","",0,""]
[null,null,null,null,null,null,null,null,null,null,"",null,null,"",null,null,null,null,null,0,null,{"$f":"IF(C9983=\"\",\"\",VLOOKUP(C9983,Debiteuren!$A$2:$J$9998,10,0))&\"\"","v":""},{"$f":"IF(C9983=\"\",\"\",VLOOKUP(C9983,Debiteuren!$A$2:$O$9998,15,0)&\"\"&VLOOKUP(C9983,Debiteuren!$A$2:$N$9998,14,0))","v":""},null,"","",0,""]
[null,null,null,null,null,null,null,null,null,null,"",null,null,"",null,null,null,null,null,0,null,{"$f":"IF(C9984=\"\",\"\",VLOOKUP(C9984,Debiteuren!$A$2:$J$9998,10,0))&\"\"","v":""},{"$f":"IF(C9984=\"\",\"\",VLOOKUP(C9984,Debiteuren!$A$2:$O$9998,15,0)&\"\"&VLOOKUP(C9984,Debiteuren!$A$2:$N$9998,14,0))","v":""},null,"","",0,""]
[null,null,null,null,null,null,null,null,null,null,"",null,null,"",null,null,null,null,null,0,null,{"$f":"IF(C9985=\"\",\"\",VLOOKUP(C9985,Debiteuren!$A$2:$J$9998,10,0))&\"\"","v":""},{"$f":"IF(C9985=\"\",\"\",VLOOKUP(C9985,Debiteuren!$A$2:$O$9998,15,0)&\"\"&VLOOKUP(C9985,Debiteuren!$A$2:$N$9998,14,0))","v":""},null,"","",0,""]
[null,null,null,null,null,null,null,null,null,null,"",null,null,"",null,null,null,null,null,0,null,{"$f":"IF(C9986=\"\",\"\",VLOOKUP(C9986,Debiteuren!$A$2:$J$9998,10,0))&\"\"","v":""},{"$f":"IF(C9986=\"\",\"\",VLOOKUP(C9986,Debiteuren!$A$2:$O$9998,15,0)&\"\"&VLOOKUP(C9986,Debiteuren!$A$2:$N$9998,14,0))","v":""},null,"","",0,""]
[null,null,null,null,null,null,null,null,null,null,"",null,null,"",null,null,null,null,null,0,null,{"$f":"IF(C9987=\"\",\"\",VLOOKUP(C9987,Debiteuren!$A$2:$J$9998,10,0))&\"\"","v":""},{"$f":"IF(C9987=\"\",\"\",VLOOKUP(C9987,Debiteuren!$A$2:$O$9998,15,0)&\"\"&VLOOKUP(C9987,Debiteuren!$A$2:$N$9998,14,0))","v":""},null,"","",0,""]
[null,null,null,null,null,null,null,null,null,null,"",null,null,"",null,null,null,null,null,0,null,{"$f":"IF(C9988=\"\",\"\",VLOOKUP(C9988,Debiteuren!$A$2:$J$9998,10,0))&\"\"","v":""},{"$f":"IF(C9988=\"\",\"\",VLOOKUP(C9988,Debiteuren!$A$2:$O$9998,15,0)&\"\"&VLOOKUP(C9988,Debiteuren!$A$2:$N$9998,14,0))","v":""},null,"","",0,""]
[null,null,null,null,null,null,null,null,null,null,"",null,null,"",null,null,null,null,null,0,null,{"$f":"IF(C9989=\"\",\"\",VLOOKUP(C9989,Debiteuren!$A$2:$J$9998,10,0))&\"\"","v":""},{"$f":"IF(C9989=\"\",\"\",VLOOKUP(C9989,Debiteuren!$A$2:$O$9998,15,0)&\"\"&VLOOKUP(C9989,Debiteuren!$A$2:$N$9998,14,0))","v":""},null,"","",0,""]
[null,null,null,null,null,null,null,null,null,null,"",null,null,"",null,null,null,null,null,0,null,{"$f":"IF(C9990=\"\",\"\",VLOOKUP(C9990,Debiteuren!$A$2:$J$9998,10,0))&\"\"","v":""},{"$f":"IF(C9990=\"\",\"\",VLOOKUP(C9990,Debiteuren!$A$2:$O$9998,15,0)&\"\"&VLOOKUP(C9990,Debiteuren!$A$2:$N$9998,14,0))","v":""},null,"","",0,""]
[null,null,null,null,null,null,null,null,null,null,"",null,null,"",null,null,null,null,null,0,null,{"$f":"IF(C9991=\"\",\"\",VLOOKUP(C9991,Debiteuren!$A$2:$J$9998,10,0))&\"\"","v":""},{"$f":"IF(C9991=\"\",\"\",VLOOKUP(C9991,Debiteuren!$A$2:$O$9998,15,0)&\"\"&VLOOKUP(C9991,Debiteuren!$A$2:$N$9998,14,0))","v":""},null,"","",0,""]
[null,null,null,null,null,null,null,null,null,null,"",null,null,"",null,null,null,null,null,0,null,{"$f":"IF(C9992=\"\",\"\",VLOOKUP(C9992,Debiteuren!$A$2:$J$9998,10,0))&\"\"","v":""},{"$f":"IF(C9992=\"\",\"\",VLOOKUP(C9992,Debiteuren!$A$2:$O$9998,15,0)&\"\"&VLOOKUP(C9992,Debiteuren!$A$2:$N$9998,14,0))","v":""},null,"","",0,""]
[null,null,null,null,null,null,null,null,null,null,"",null,null,"",null,null,null,null,null,0,null,{"$f":"IF(C9993=\"\",\"\",VLOOKUP(C9993,Debiteuren!$A$2:$J$9998,10,0))&\"\"","v":""},{"$f":"IF(C9993=\"\",\"\",VLOOKUP(C9993,Debiteuren!$A$2:$O$9998,15,0)&\"\"&VLOOKUP(C9993,Debiteuren!$A$2:$N$9998,14,0))","v":""},null,"","",0,""]
[null,null,null,null,null,null,null,null,null,null,"",null,null,"",null,null,null,null,null,0,null,{"$f":"IF(C9994=\"\",\"\",VLOOKUP(C9994,Debiteuren!$A$2:$J$9998,10,0))&\"\"","v":""},{"$f":"IF(C9994=\"\",\"\",VLOOKUP(C9994,Debiteuren!$A$2:$O$9998,15,0)&\"\"&VLOOKUP(C9994,Debiteuren!$A$2:$N$9998,14,0))","v":""},null,"","",0,""]
[null,null,null,null,null,null,null,null,null,null,"",null,null,"",null,null,null,null,null,0,null,{"$f":"IF(C9995=\"\",\"\",VLOOKUP(C9995,Debiteuren!$A$2:$J$9998,10,0))&\"\"","v":""},{"$f":"IF(C9995=\"\",\"\",VLOOKUP(C9995,Debiteuren!$A$2:$O$9998,15,0)&\"\"&VLOOKUP(C9995,Debiteuren!$A$2:$N$9998,14,0))","v":""},null,"","",0,""]
[null,null,null,null,null,null,null,null,null,null,"",null,null,"",null,null,null,null,null,0,null,{"$f":"IF(C9996=\"\",\"\",VLOOKUP(C9996,Debiteuren!$A$2:$J$9998,10,0))&\"\"","v":""},{"$f":"IF(C9996=\"\",\"\",VLOOKUP(C9996,Debiteuren!$A$2:$O$9998,15,0)&\"\"&VLOOKUP(C9996,Debiteuren!$A$2:$N$9998,14,0))","v":""},null,"","",0,""]
[null,null,null,null,null,null,null,null,null,null,"",null,null,"",null,null,null,null,null,0,null,{"$f":"IF(C9997=\"\",\"\",VLOOKUP(C9997,Debiteuren!$A$2:$J$9998,10,0))&\"\"","v":""},{"$f":"IF(C9997=\"\",\"\",VLOOKUP(C9997,Debiteuren!$A$2:$O$9998,15,0)&\"\"&VLOOKUP(C9997,Debiteuren!$A$2:$N$9998,14,0))","v":""},null,"","",0,""]
[null,null,null,null,null,null,null,null,null,null,"",null,null,"",null,null,null,null,null,0,null,{"$f":"IF(C9998=\"\",\"\",VLOOKUP(C9998,Debiteuren!$A$2:$J$9998,10,0))&\"\"","v":""},{"$f":"IF(C9998=\"\",\"\",VLOOKUP(C9998,Debiteuren!$A$2:$O$9998,15,0)&\"\"&VLOOKUP(C9998,Debiteuren!$A$2:$N$9998,14,0))","v":""},null,"","",0,""]
[null,null,null,null,null,null,null,null,null,null,"",null,null,"",null,null,null,null,null,0,null,{"$f":"IF(C9999=\"\",\"\",VLOOKUP(C9999,Debiteuren!$A$2:$J$9998,10,0))&\"\"","v":""},{"$f":"IF(C9999=\"\",\"\",VLOOKUP(C9999,Debiteuren!$A$2:$O$9998,15,0)&\"\"&VLOOKUP(C9999,Debiteuren!$A$2:$N$9998,14,0))","v":""},null,"","",0,""]
[null,null,null,null,null,null,null,null,null,null,"",null,null,"",null,null,null,null,null,0,null,{"$f":"IF(C10000=\"\",\"\",VLOOKUP(C10000,Debiteuren!$A$2:$J$9998,10,0))&\"\"","v":""},{"$f":"IF(C10000=\"\",\"\",VLOOKUP(C10000,Debiteuren!$A$2:$O$9998,15,0)&\"\"&VLOOKUP(C10000,Debiteuren!$A$2:$N$9998,14,0))","v":""},null,"","",0,""]
[null,null,null,null,null,null,null,null,null,null,"",null,null,"",null,null,null,null,null,0,null,{"$f":"IF(C10001=\"\",\"\",VLOOKUP(C10001,Debiteuren!$A$2:$J$9998,10,0))&\"\"","v":""},{"$f":"IF(C10001=\"\",\"\",VLOOKUP(C10001,Debiteuren!$A$2:$O$9998,15,0)&\"\"&VLOOKUP(C10001,Debiteuren!$A$2:$N$9998,14,0))","v":""},null,"","",0,""]
[null,null,null,null,null,null,null,null,null,null,"",null,null,"",null,null,null,null,null,0,null,{"$f":"IF(C10002=\"\",\"\",VLOOKUP(C10002,Debiteuren!$A$2:$J$9998,10,0))&\"\"","v":""},{"$f":"IF(C10002=\"\",\"\",VLOOKUP(C10002,Debiteuren!$A$2:$O$9998,15,0)&\"\"&VLOOKUP(C10002,Debiteuren!$A$2:$N$9998,14,0))","v":""},null,"","",0,""]
[null,null,null,null,null,null,null,null,null,null,"",null,null,"",null,null,null,null,null,0,null,{"$f":"IF(C10003=\"\",\"\",VLOOKUP(C10003,Debiteuren!$A$2:$J$9998,10,0))&\"\"","v":""},{"$f":"IF(C10003=\"\",\"\",VLOOKUP(C10003,Debiteuren!$A$2:$O$9998,15,0)&\"\"&VLOOKUP(C10003,Debiteuren!$A$2:$N$9998,14,0))","v":""},null,"","",0,""]
[null,null,null,null,null,null,null,null,null,null,"",null,null,"",null,null,null,null,null,0,null,{"$f":"IF(C10004=\"\",\"\",VLOOKUP(C10004,Debiteuren!$A$2:$J$9998,10,0))&\"\"","v":""},{"$f":"IF(C10004=\"\",\"\",VLOOKUP(C10004,Debiteuren!$A$2:$O$9998,15,0)&\"\"&VLOOKUP(C10004,Debiteuren!$A$2:$N$9998,14,0))","v":""},null,"","",0,""]
[null,null,null,null,null,null,null,null,null,null,"",null,null,"",null,null,null,null,null,0,null,{"$f":"IF(C10005=\"\",\"\",VLOOKUP(C10005,Debiteuren!$A$2:$J$9998,10,0))&\"\"","v":""},{"$f":"IF(C10005=\"\",\"\",VLOOKUP(C10005,Debiteuren!$A$2:$O$9998,15,0)&\"\"&VLOOKUP(C10005,Debiteuren!$A$2:$N$9998,14,0))","v":""},null,"","",0,""]
[null,null,null,null,null,null,null,null,null,null,"",null,null,"",null,null,null,null,null,0,null,{"$f":"IF(C10006=\"\",\"\",VLOOKUP(C10006,Debiteuren!$A$2:$J$9998,10,0))&\"\"","v":""},{"$f":"IF(C10006=\"\",\"\",VLOOKUP(C10006,Debiteuren!$A$2:$O$9998,15,0)&\"\"&VLOOKUP(C10006,Debiteuren!$A$2:$N$9998,14,0))","v":""},null,"","",0,""]
[null,null,null,null,null,null,null,null,null,null,"",null,null,"",null,null,null,null,null,0,null,{"$f":"IF(C10007=\"\",\"\",VLOOKUP(C10007,Debiteuren!$A$2:$J$9998,10,0))&\"\"","v":""},{"$f":"IF(C10007=\"\",\"\",VLOOKUP(C10007,Debiteuren!$A$2:$O$9998,15,0)&\"\"&VLOOKUP(C10007,Debiteuren!$A$2:$N$9998,14,0))","v":""},null,"","",0,""]
[null,null,null,null,null,null,null,null,null,null,"",null,null,"",null,null,null,null,null,0,null,{"$f":"IF(C10008=\"\",\"\",VLOOKUP(C10008,Debiteuren!$A$2:$J$9998,10,0))&\"\"","v":""},{"$f":"IF(C10008=\"\",\"\",VLOOKUP(C10008,Debiteuren!$A$2:$O$9998,15,0)&\"\"&VLOOKUP(C10008,Debiteuren!$A$2:$N$9998,14,0))","v":""},null,"","",0,""]
[null,null,null,null,null,null,null,null,null,null,"",null,null,"",null,null,null,null,null,0,null,{"$f":"IF(C10009=\"\",\"\",VLOOKUP(C10009,Debiteuren!$A$2:$J$9998,10,0))&\"\"","v":""},{"$f":"IF(C10009=\"\",\"\",VLOOKUP(C10009,Debiteuren!$A$2:$O$9998,15,0)&\"\"&VLOOKUP(C10009,Debiteuren!$A$2:$N$9998,14,0))","v":""},null,"","",0,""]
[null,null,null,null,null,null,null,null,null,null,"",null,null,"",null,null,null,null,null,0,null,{"$f":"IF(C10010=\"\",\"\",VLOOKUP(C10010,Debiteuren!$A$2:$J$9998,10,0))&\"\"","v":""},{"$f":"IF(C10010=\"\",\"\",VLOOKUP(C10010,Debiteuren!$A$2:$O$9998,15,0)&\"\"&VLOOKUP(C10010,Debiteuren!$A$2:$N$9998,14,0))","v":""},null,"","",0,""]
[null,null,null,null,null,null,null,null,null,null,"",null,null,"",null,null,null,null,null,0,null,{"$f":"IF(C10011=\"\",\"\",VLOOKUP(C10011,Debiteuren!$A$2:$J$9998,10,0))&\"\"","v":""},{"$f":"IF(C10011=\"\",\"\",VLOOKUP(C10011,Debiteuren!$A$2:$O$9998,15,0)&\"\"&VLOOKUP(C10011,Debiteuren!$A$2:$N$9998,14,0))","v":""},null,"","",0,""]
[null,null,null,null,null,null,null,null,null,null,"",null,null,"",null,null,null,null,null,0,null,{"$f":"IF(C10012=\"\",\"\",VLOOKUP(C10012,Debiteuren!$A$2:$J$9998,10,0))&\"\"","v":""},{"$f":"IF(C10012=\"\",\"\",VLOOKUP(C10012,Debiteuren!$A$2:$O$9998,15,0)&\"\"&VLOOKUP(C10012,Debiteuren!$A$2:$N$9998,14,0))","v":""},null,"","",0,""]
[null,null,null,null,null,null,null,null,null,null,"",null,null,"",null,null,null,null,null,0,null,{"$f":"IF(C10013=\"\",\"\",VLOOKUP(C10013,Debiteuren!$A$2:$J$9998,10,0))&\"\"","v":""},{"$f":"IF(C10013=\"\",\"\",VLOOKUP(C10013,Debiteuren!$A$2:$O$9998,15,0)&\"\"&VLOOKUP(C10013,Debiteuren!$A$2:$N$9998,14,0))","v":""},null,"","",0,""]
[null,null,null,null,null,null,null,null,null,null,"",null,null,"",null,null,null,null,null,0,null,{"$f":"IF(C10014=\"\",\"\",VLOOKUP(C10014,Debiteuren!$A$2:$J$9998,10,0))&\"\"","v":""},{"$f":"IF(C10014=\"\",\"\",VLOOKUP(C10014,Debiteuren!$A$2:$O$9998,15,0)&\"\"&VLOOKUP(C10014,Debiteuren!$A$2:$N$9998,14,0))","v":""},null,"","",0,""]
[null,null,null,null,null,null,null,null,null,null,"",null,null,"",null,null,null,null,null,0,null,{"$f":"IF(C10015=\"\",\"\",VLOOKUP(C10015,Debiteuren!$A$2:$J$9998,10,0))&\"\"","v":""},{"$f":"IF(C10015=\"\",\"\",VLOOKUP(C10015,Debiteuren!$A$2:$O$9998,15,0)&\"\"&VLOOKUP(C10015,Debiteuren!$A$2:$N$9998,14,0))","v":""},null,"","",0,""]
[null,null,null,null,null,null,null,null,null,null,"",null,null,"",null,null,null,null,null,0,null,{"$f":"IF(C10016=\"\",\"\",VLOOKUP(C10016,Debiteuren!$A$2:$J$9998,10,0))&\"\"","v":""},{"$f":"IF(C10016=\"\",\"\",VLOOKUP(C10016,Debiteuren!$A$2:$O$9998,15,0)&\"\"&VLOOKUP(C10016,Debiteuren!$A$2:$N$9998,14,0))","v":""},null,"","",0,""]
[null,null,null,null,null,null,null,null,null,null,"",null,null,"",null,null,null,null,null,0,null,{"$f":"IF(C10017=\"\",\"\",VLOOKUP(C10017,Debiteuren!$A$2:$J$9998,10,0))&\"\"","v":""},{"$f":"IF(C10017=\"\",\"\",VLOOKUP(C10017,Debiteuren!$A$2:$O$9998,15,0)&\"\"&VLOOKUP(C10017,Debiteuren!$A$2:$N$9998,14,0))","v":""},null,"","",0,""]
[null,null,null,null,null,null,null,null,null,null,"",null,null,"",null,null,null,null,null,0,null,{"$f":"IF(C10018=\"\",\"\",VLOOKUP(C10018,Debiteuren!$A$2:$J$9998,10,0))&\"\"","v":""},{"$f":"IF(C10018=\"\",\"\",VLOOKUP(C10018,Debiteuren!$A$2:$O$9998,15,0)&\"\"&VLOOKUP(C10018,Debiteuren!$A$2:$N$9998,14,0))","v":""},null,"","",0,""]
[null,null,null,null,null,null,null,null,null,null,"",null,null,"",null,null,null,null,null,0,null,{"$f":"IF(C10019=\"\",\"\",VLOOKUP(C10019,Debiteuren!$A$2:$J$9998,10,0))&\"\"","v":""},{"$f":"IF(C10019=\"\",\"\",VLOOKUP(C10019,Debiteuren!$A$2:$O$9998,15,0)&\"\"&VLOOKUP(C10019,Debiteuren!$A$2:$N$9998,14,0))","v":""},null,"","",0,""]
[null,null,null,null,null,null,null,null,null,null,"",null,null,"",null,null,null,null,null,0,null,{"$f":"IF(C10020=\"\",\"\",VLOOKUP(C10020,Debiteuren!$A$2:$J$9998,10,0))&\"\"","v":""},{"$f":"IF(C10020=\"\",\"\",VLOOKUP(C10020,Debiteuren!$A$2:$O$9998,15,0)&\"\"&VLOOKUP(C10020,Debiteuren!$A$2:$N$9998,14,0))","v":""},null,"","",0,""]
[null,null,null,null,null,null,null,null,null,null,"",null,null,"",null,null,null,null,null,0,null,{"$f":"IF(C10021=\"\",\"\",VLOOKUP(C10021,Debiteuren!$A$2:$J$9998,10,0))&\"\"","v":""},{"$f":"IF(C10021=\"\",\"\",VLOOKUP(C10021,Debiteuren!$A$2:$O$9998,15,0)&\"\"&VLOOKUP(C10021,Debiteuren!$A$2:$N$9998,14,0))","v":""},null,"","",0,""]
[null,null,null,null,null,null,null,null,null,null,"",null,null,"",null,null,null,null,null,0,null,{"$f":"IF(C10022=\"\",\"\",VLOOKUP(C10022,Debiteuren!$A$2:$J$9998,10,0))&\"\"","v":""},{"$f":"IF(C10022=\"\",\"\",VLOOKUP(C10022,Debiteuren!$A$2:$O$9998,15,0)&\"\"&VLOOKUP(C10022,Debiteuren!$A$2:$N$9998,14,0))","v":""},null,"","",0,""]
[null,null,null,null,null,null,null,null,null,null,"",null,null,"",null,null,null,null,null,0,null,{"$f":"IF(C10023=\"\",\"\",VLOOKUP(C10023,Debiteuren!$A$2:$J$9998,10,0))&\"\"","v":""},{"$f":"IF(C10023=\"\",\"\",VLOOKUP(C10023,Debiteuren!$A$2:$O$9998,15,0)&\"\"&VLOOKUP(C10023,Debiteuren!$A$2:$N$9998,14,0))","v":""},null,"","",0,""]
[null,null,null,null,null,null,null,null,null,null,"",null,null,"",null,null,null,null,null,0,null,{"$f":"IF(C10024=\"\",\"\",VLOOKUP(C10024,Debiteuren!$A$2:$J$9998,10,0))&\"\"","v":""},{"$f":"IF(C10024=\"\",\"\",VLOOKUP(C10024,Debiteuren!$A$2:$O$9998,15,0)&\"\"&VLOOKUP(C10024,Debiteuren!$A$2:$N$9998,14,0))","v":""},null,"","",0,""]
[null,null,null,null,null,null,null,null,null,null,"",null,null,"",null,null,null,null,null,0,null,{"$f":"IF(C10025=\"\",\"\",VLOOKUP(C10025,Debiteuren!$A$2:$J$9998,10,0))&\"\"","v":""},{"$f":"IF(C10025=\"\",\"\",VLOOKUP(C10025,Debiteuren!$A$2:$O$9998,15,0)&\"\"&VLOOKUP(C10025,Debiteuren!$A$2:$N$9998,14,0))","v":""},null,"","",0,""]
[null,null,null,null,null,null,null,null,null,null,"",null,null,"",null,null,null,null,null,0,null,{"$f":"IF(C10026=\"\",\"\",VLOOKUP(C10026,Debiteuren!$A$2:$J$9998,10,0))&\"\"","v":""},{"$f":"IF(C10026=\"\",\"\",VLOOKUP(C10026,Debiteuren!$A$2:$O$9998,15,0)&\"\"&VLOOKUP(C10026,Debiteuren!$A$2:$N$9998,14,0))","v":""},null,"","",0,""]
[null,null,null,null,null,null,null,null,null,null,"",null,null,"",null,null,null,null,null,0,null,{"$f":"IF(C10027=\"\",\"\",VLOOKUP(C10027,Debiteuren!$A$2:$J$9998,10,0))&\"\"","v":""},{"$f":"IF(C10027=\"\",\"\",VLOOKUP(C10027,Debiteuren!$A$2:$O$9998,15,0)&\"\"&VLOOKUP(C10027,Debiteuren!$A$2:$N$9998,14,0))","v":""},null,"","",0,""]
[null,null,null,null,null,null,null,null,null,null,"",null,null,"",null,null,null,null,null,0,null,{"$f":"IF(C10028=\"\",\"\",VLOOKUP(C10028,Debiteuren!$A$2:$J$9998,10,0))&\"\"","v":""},{"$f":"IF(C10028=\"\",\"\",VLOOKUP(C10028,Debiteuren!$A$2:$O$9998,15,0)&\"\"&VLOOKUP(C10028,Debiteuren!$A$2:$N$9998,14,0))","v":""},null,"","",0,""]
[null,null,null,null,null,null,null,null,null,null,"",null,null,"",null,null,null,null,null,0,null,{"$f":"IF(C10029=\"\",\"\",VLOOKUP(C10029,Debiteuren!$A$2:$J$9998,10,0))&\"\"","v":""},{"$f":"IF(C10029=\"\",\"\",VLOOKUP(C10029,Debiteuren!$A$2:$O$9998,15,0)&\"\"&VLOOKUP(C10029,Debiteuren!$A$2:$N$9998,14,0))","v":""},null,"","",0,""]
[null,null,null,null,null,null,null,null,null,null,"",null,null,"",null,null,null,null,null,0,null,{"$f":"IF(C10030=\"\",\"\",VLOOKUP(C10030,Debiteuren!$A$2:$J$9998,10,0))&\"\"","v":""},{"$f":"IF(C10030=\"\",\"\",VLOOKUP(C10030,Debiteuren!$A$2:$O$9998,15,0)&\"\"&VLOOKUP(C10030,Debiteuren!$A$2:$N$9998,14,0))","v":""},null,{"$f":"IF(D10030=\"\",\"\",DATEDIF(D10030,TODAY(),\"d\"))","v":""},{"$f":"IF(G10030=\"\",\"\",DATEDIF(D10030,G10030,\"d\"))","v":""},{"$f":"DATEDIF(D10030,H10030,\"d\")","v":0},{"$f":"IF(Y10030=\"\",\"\",Y10030-AA10030)","v":""}]
[null,null,null,null,null,null,null,null,null,null,"",null,null,"",null,null,null,null,null,{"$f":"IF(B10031=1,E10031,0)","v":0},null,{"$f":"IF(C10031=\"\",\"\",VLOOKUP(C10031,Debiteuren!$A$2:$J$9998,10,0))&\"\"","v":""},{"$f":"IF(C10031=\"\",\"\",VLOOKUP(C10031,Debiteuren!$A$2:$O$9998,15,0)&\"\"&VLOOKUP(C10031,Debiteuren!$A$2:$N$9998,14,0))","v":""},null,"","",0,""]
[null,null,null,null,null,null,null,null,null,null,"",null,null,"",null,null,null,null,null,0,null,{"$f":"IF(C10032=\"\",\"\",VLOOKUP(C10032,Debiteuren!$A$2:$J$9998,10,0))&\"\"","v":""},{"$f":"IF(C10032=\"\",\"\",VLOOKUP(C10032,Debiteuren!$A$2:$O$9998,15,0)&\"\"&VLOOKUP(C10032,Debiteuren!$A$2:$N$9998,14,0))","v":""},null,"","",0,""]
[null,null,null,null,null,null,null,null,null,null,"",null,null,"",null,null,null,null,null,0,null,{"$f":"IF(C10033=\"\",\"\",VLOOKUP(C10033,Debiteuren!$A$2:$J$9998,10,0))&\"\"","v":""},{"$f":"IF(C10033=\"\",\"\",VLOOKUP(C10033,Debiteuren!$A$2:$O$9998,15,0)&\"\"&VLOOKUP(C10033,Debiteuren!$A$2:$N$9998,14,0))","v":""},null,"","",0,""]
[null,null,null,null,null,null,null,null,null,null,"",null,null,"",null,null,null,null,null,0,null,{"$f":"IF(C10034=\"\",\"\",VLOOKUP(C10034,Debiteuren!$A$2:$J$9998,10,0))&\"\"","v":""},{"$f":"IF(C10034=\"\",\"\",VLOOKUP(C10034,Debiteuren!$A$2:$O$9998,15,0)&\"\"&VLOOKUP(C10034,Debiteuren!$A$2:$N$9998,14,0))","v":""},null,"","",0,""]
[null,null,null,null,null,null,null,null,null,null,"",null,null,"",null,null,null,null,null,0,null,{"$f":"IF(C10035=\"\",\"\",VLOOKUP(C10035,Debiteuren!$A$2:$J$9998,10,0))&\"\"","v":""},{"$f":"IF(C10035=\"\",\"\",VLOOKUP(C10035,Debiteuren!$A$2:$O$9998,15,0)&\"\"&VLOOKUP(C10035,Debiteuren!$A$2:$N$9998,14,0))","v":""},null,"","",0,""]
[null,null,null,null,null,null,null,null,null,null,"",null,null,"",null,null,null,null,null,0,null,{"$f":"IF(C10036=\"\",\"\",VLOOKUP(C10036,Debiteuren!$A$2:$J$9998,10,0))&\"\"","v":""},{"$f":"IF(C10036=\"\",\"\",VLOOKUP(C10036,Debiteuren!$A$2:$O$9998,15,0)&\"\"&VLOOKUP(C10036,Debiteuren!$A$2:$N$9998,14,0))","v":""},null,"","",0,""]
[null,null,null,null,null,null,null,null,null,null,"",null,null,"",null,null,null,null,null,0,null,{"$f":"IF(C10037=\"\",\"\",VLOOKUP(C10037,Debiteuren!$A$2:$J$9998,10,0))&\"\"","v":""},{"$f":"IF(C10037=\"\",\"\",VLOOKUP(C10037,Debiteuren!$A$2:$O$9998,15,0)&\"\"&VLOOKUP(C10037,Debiteuren!$A$2:$N$9998,14,0))","v":""},null,"","",0,""]
[null,null,null,null,null,null,null,null,null,null,"",null,null,"",null,null,null,null,null,0,null,{"$f":"IF(C10038=\"\",\"\",VLOOKUP(C10038,Debiteuren!$A$2:$J$9998,10,0))&\"\"","v":""},{"$f":"IF(C10038=\"\",\"\",VLOOKUP(C10038,Debiteuren!$A$2:$O$9998,15,0)&\"\"&VLOOKUP(C10038,Debiteuren!$A$2:$N$9998,14,0))","v":""},null,"","",0,""]
[null,null,null,null,null,null,null,null,null,null,null,null,null,null,null,null,null,null,null,null,null,{"$f":"IF(C10039=\"\",\"\",VLOOKUP(C10039,Debiteuren!$A$2:$J$9998,10,0))&\"\"","v":""},{"$f":"IF(C10039=\"\",\"\",VLOOKUP(C10039,Debiteuren!$A$2:$O$9998,15,0)&\"\"&VLOOKUP(C10039,Debiteuren!$A$2:$N$9998,14,0))","v":""}]
[null,null,null,null,null,null,null,null,null,null,"",null,null,"",null,null,null,null,null,0,null,{"$f":"IF(C10040=\"\",\"\",VLOOKUP(C10040,Debiteuren!$A$2:$J$9998,10,0))&\"\"","v":""},{"$f":"IF(C10040=\"\",\"\",VLOOKUP(C10040,Debiteuren!$A$2:$O$9998,15,0)&\"\"&VLOOKUP(C10040,Debiteuren!$A$2:$N$9998,14,0))","v":""},null,"","",0,""]

{"sheet":"Factuur opmaken","index":2,"n_rows":41,"n_cols":6,"rows_kept":41,"cut":false,"hidden":true,"merged":[[9,3,9,4],[0,1,0,5],[3,2,3,5],[1,2,1,5],[4,2,4,5],[2,2,2,5]]}
[]
[null,2,{"$f":"IF($D$9=\"\",\"\",VLOOKUP($D$9,Debiteuren!$A$2:$B$10004,2,0))&\"\"","v":""}]
[null,null,{"$f":"IF($D$9=\"\",\"\",VLOOKUP($D$9,Debiteuren!$A$2:$C$10004,3,0))","v":""}]
[null,null,{"$f":"IF($D$9=\"\",\"\",VLOOKUP($D$9,Debiteuren!$A$2:$D$10004,4,0)&\"  \"&VLOOKUP($D$9,Debiteuren!$A$2:$E$10004,5,0))","v":""}]
[null,null,{"$f":"IF($D$9=\"\",\"\",VLOOKUP($D$9,Debiteuren!$A$2:$F$10004,6,0)&\"   \"&VLOOKUP($D$9,Debiteuren!$A$2:$G$10004,7,0))","v":""}]
[null,null,{"$f":"IF(D9=\"\",\"\",VLOOKUP(D9,Debiteuren!A2:O9998,15,0)&\"\"&VLOOKUP(D9,Debiteuren!A2:N9998,14,0))","v":""}]
["Factuur"]
[{"$f":"\"Vervaldatum : \"& TEXT(D10+F11,\"d mmmm jjjj\")","v":"Vervaldatum : 27 februari 2020"}]
[null,null,"Debiteurnummer : "]
[null,null,"Factuurdatum : ","2020-01-28"]
[{"$f":"IF($D$9=\"\",\"\",\"Debiteur Btw nummer : \"&VLOOKUP($D$9,Debiteuren!$A$2:$H$10004,8,0))","v":""},null,"Factuurnummer : ",2020002,{"$f":"D10+F11","v":"2020-02-27"},30]
[{"$f":"IF($D$9=\"\",\"\",VLOOKUP($D$9,Debiteuren!$A$2:$H$10004,8,0))","v":""}]
["Omschrijving :","Aantal :","Prijs :","Btw :","Totaal :",1]
[null,null,null,null,{"$f":"SUM(B14)*(C14)","v":0},"R14"]
[null,null,null,null,{"$f":"SUM(B15)*(C15)","v":0},"R15"]
[null,null,null,null,0,"R16"]
[null,null,null,null,0,"R17"]
[null,null,null,null,{"$f":"SUM(B18)*(C18)","v":0},"R18"]
[null,null,null,null,0,"R19"]
[null,null,null,null,0,"R20"]
[null,null,null,null,0,"R21"]
[null,null,null,null,0,"R22"]
[null,null,null,null,0,"R23"]
[null,null,null,null,0,"R24"]
[null,null,null,null,0,"R25"]
[null,null,null,null,0,"R26"]
[null,null,null,null,0,"R27"]
[null,null,null,null,null,"R28"]
[null,null,null,null,null,"R29"]
[null,null,null,null,0,"R30"]
[null,null,null,"Btw 21% Subtotaal :",{"$f":"SUMIF(D14:D30,\"=21%\",E14:E30)","v":0}]
[null,null,null,"Btw 9% Subtotaal :",{"$f":"SUMIF(D14:D30,\"=9%\",E14:E30)","v":0}]
[null,null,null,"Btw verlegd :",{"$f":"SUMIF(D14:D30,\"=0%\",E14:E30)","v":0}]
[null,{"$f":"SUM(E31*21)/100","v":0},null,"Btw bedrag :",{"$f":"SUM(B34:B35)","v":0}]
[null,{"$f":"SUM(E32*9)/100","v":0},null,"Factuurbedrag :",{"$f":"SUM(E31+E32+E33+E34)","v":0}]
[]
[]
[]
[{"$f":"\"ik verzoek uw vriendelijk het factuurbedrag van \"&TEXT($E$35,\"€ #.0,00\")&\" vóór \"&TEXT(D10+F11,\"d mmmm jjjj\")&\" te betalen.\"","v":"ik verzoek uw vriendelijk het factuurbedrag van € 0,00 vóór 27 februari 2020 te betalen."}]
[{"$f":"\"Op rekeningnummer \"&Data!$A$9&\" T.n.v. \"&Data!$A$3","v":"Op rekeningnummer NL03ABNA0000000003 T.n.v. "}]
[{"$f":"\"Onder vermelding van factuurnummer \"&D11","v":"Onder vermelding van factuurnummer 2020002"}]

{"sheet":"Data","index":3,"n_rows":26,"n_cols":9,"rows_kept":26,"cut":false,"hidden":true,"merged":[]}
[]
[]
[null,20,null,{"$f":"TEXT(E3,\"ddmmjjjj\")& TEXT(COUNTIF(E$3:E3,E3),\"_0000\")","v":"28012020 001"},{"$f":"TODAY()","v":"2020-01-28"},{"$f":"TEXT(G3-WEEKDAY(G3,3),\"dd mmm JJJJ\")&\" t/m \"&TEXT(G3-WEEKDAY(G3,3)+6,\"dd mmm JJJJ\")","v":"27 jan 2020 t/m 02 feb 2020"},{"$f":"TODAY()","v":"2020-01-28"},{"$f":"WEEKDAY(G3,2)","v":2},"Outlook Mail"]
[null,null,null,{"$f":"TEXT(E4,\"ddmmjjjj\")& TEXT(COUNTIF(E$3:E4,E4),\"_0000\")","v":"28012020 002"},{"$f":"TODAY()","v":"2020-01-28"},null,{"$f":"YEAR(G3)","v":2020}]
[null,null,null,{"$f":"TEXT(E5,\"ddmmjjjj\")& TEXT(COUNTIF(E$3:E5,E5),\"_0000\")","v":"28012020 003"},"2020-01-28",null,{"$f":"WEEKNUM(G3,21)","v":5}]
[null,null,"De heer",{"$f":"TEXT(E6,\"ddmmjjjj\")& TEXT(COUNTIF(E$3:E6,E6),\"_0000\")","v":"28012020 004"},"2020-01-28",null,{"$f":"\"Kwartaal 1 \"&TEXT(G3,\"JJJJ\")","v":"Kwartaal 1 2020"}]
[null,null,{"$f":"IF(C6=\"De heer\",\"heer \",IF(C6=\"Mevrouw\",\"mevrouw \",\"\"))","v":"heer "},{"$f":"TEXT(E7,\"ddmmjjjj\")& TEXT(COUNTIF(E$3:E7,E7),\"_0000\")","v":"28012020 005"},"2020-01-28",null,{"$f":"\"Kwartaal 2 \"&TEXT(G3,\"JJJJ\")","v":"Kwartaal 2 2020"}]
[null,null,{"$f":"CONCATENATE(C7,\"\",C4)","v":"heer "},{"$f":"TEXT(E8,\"ddmmjjjj\")& TEXT(COUNTIF(E$3:E8,E8),\"_0000\")","v":"28012020 006"},"2020-01-28",null,{"$f":"\"Kwartaal 3 \"&TEXT(G3,\"JJJJ\")","v":"Kwartaal 3 2020"}]
["NL03ABNA0000000003",null,null,{"$f":"TEXT(E9,\"ddmmjjjj\")& TEXT(COUNTIF(E$3:E9,E9),\"_0000\")","v":"28012020 007"},"2020-01-28",null,{"$f":"\"Kwartaal 4 \"&TEXT(G3,\"JJJJ\")","v":"Kwartaal 4 2020"}]
["NL000000000B01",null,null,{"$f":"TEXT(E10,\"ddmmjjjj\")& TEXT(COUNTIF(E$3:E10,E10),\"_0000\")","v":"28012020 008"},"2020-01-28"]
[12345678,null,null,{"$f":"TEXT(E11,\"ddmmjjjj\")& TEXT(COUNTIF(E$3:E11,E11),\"_0000\")","v":"28012020 009"},"2020-01-28"]
[{"$f":"\"Mobielnummer : \"&A7","v":"Mobielnummer : "},null,null,{"$f":"TEXT(E12,\"ddmmjjjj\")& TEXT(COUNTIF(E$3:E12,E12),\"_0000\")","v":"28012020 010"},"2020-01-28"]
[{"$f":"\"IBAN : \"&A9","v":"IBAN : NL03ABNA0000000003"}]
[{"$f":"\"Btw nummer : \"&A10","v":"Btw nummer : NL000000000B01"}]
[{"$f":"IF(A11=\"\",\"\",IF(A11>0,\"KvK nummer : \"&A11))","v":"KvK nummer : 12345678"}]
[{"$f":"\"Rekeningnr. : \"&A9","v":"Rekeningnr. : NL03ABNA0000000003"}]
[{"$f":"\"Email : \"&A8","v":"Email : "}]
[{"$f":"\"Factuur van \"&A3","v":"Factuur van "}]
[]
[{"$f":"IF('Factuur opmaken'!D9=\"\",\"\",VLOOKUP('Factuur opmaken'!D9,Debiteuren!A2:O9998,15,0)&\"\"&VLOOKUP('Factuur opmaken'!D9,Debiteuren!A2:N9998,14,0))","v":""}]
[{"$f":"'Factuur opmaken'!A39","v":"ik verzoek uw vriendelijk het factuurbedrag van € 0,00 vóór 27 februari 2020 te betalen."}]
[{"$f":"'Factuur opmaken'!A41","v":"Onder vermelding van factuurnummer 2020002"}]
[{"$f":"IF('Factuur opmaken'!D9=\"\",\"\",VLOOKUP('Factuur opmaken'!D9,Debiteuren!A2:J9998,10,0))","v":""}]
["C:\\Users\\Willem\\OneDrive\\Documenten"]
[{"$f":"\"BIC : \"&A26","v":"BIC : ABNANL02"}]
["ABNANL02"]

{"sheet":"Debiteuren","index":4,"n_rows":998,"n_cols":18,"rows_kept":998,"cut":false,"hidden":true,"merged":[]}
["Debiteurnr.","Bedrijfsnaam","Naam klant",null,null,null,null,null,null,null,null,null,null,"Naam"]
[100012,"Willems Bv",{"$f":"IF(B2=\"\",\"\"&L2&\" \"&M2&\" \"&N2,IF(B2>0,\"t.a.v. \"&L2&\" \"&M2&\" \"&N2))","v":"t.a.v. De heer W Willems"},"Willemsplein",{"$f":"CONCATENATE(P2&\" \"&Q2)","v":"12 "},"1000 WW","WILLEMSDORP","N.v.t",null,null,"Voorbeeld Debiteur","De heer","W","Willems",{"$f":"IF(L2=\"De heer\",\"heer \",IF(L2=\"Mevrouw\",\"mevrouw \",\"\"))","v":"heer "},12,null,{"$f":"CONCATENATE(M2&\" \"&N2)","v":"W Willems"}]
[null,null,{"$f":"IF(B3=\"\",\"\"&L3&\" \"&M3&\" \"&N3,IF(B3>0,\"t.a.v. \"&L3&\" \"&M3&\" \"&N3))","v":"  "},null,{"$f":"CONCATENATE(P3&\" \"&Q3)","v":" "},null,null,null,null,null,null,null,null,null,{"$f":"IF(L3=\"De heer\",\"heer \",IF(L3=\"Mevrouw\",\"mevrouw \",\"\"))","v":""},null,null,{"$f":"CONCATENATE(M3&\" \"&N3)","v":" "}]
[null,null,"  ",null," ",null,null,null,null,null,null,null,null,null,"",null,null," "]
[null,null,"  ",null," ",null,null,null,null,null,null,null,null,null,"",null,null," "]
[null,null,"  ",null," ",null,null,null,null,null,null,null,null,null,"",null,null," "]
[null,null,"  ",null," ",null,null,null,null,null,null,null,null,null,"",null,null," "]
[null,null,"  ",null," ",null,null,null,null,null,null,null,null,null,"",null,null," "]
[null,null,"  ",null," ",null,null,null,null,null,null,null,null,null,"",null,null," "]
[null,null,"  ",null," ",null,null,null,null,null,null,null,null,null,"",null,null," "]
[null,null,"  ",null," ",null,null,null,null,null,null,null,null,null,"",null,null," "]
[null,null,"  ",null," ",null,null,null,null,null,null,null,null,null,"",null,null," "]
[null,null,"  ",null," ",null,null,null,null,null,null,null,null,null,"",null,null," "]
[null,null,"  ",null," ",null,null,null,null,null,null,null,null,null,"",null,null," "]
[null,null,"  ",null," ",null,null,null,null,null,null,null,null,null,"",null,null," "]
[null,null,"  ",null," ",null,null,null,null,null,null,null,null,null,"",null,null," "]
[null,null,"  ",null," ",null,null,null,null,null,null,null,null,null,"",null,null," "]
[null,null,"  ",null," ",null,null,null,null,null,null,null,null,null,"",null,null," "]
[null,null,"  ",null," ",null,null,null,null,null,null,null,null,null,"",null,null," "]
[null,null,"  ",null," ",null,null,null,null,null,null,null,null,null,"",null,null," "]
[null,null,"  ",null," ",null,null,null,null,null,null,null,null,null,"",null,null," "]
[null,null,"  ",null," ",null,null,null,null,null,null,null,null,null,"",null,null," "]
[null,null,"  ",null," ",null,null,null,null,null,null,null,null,null,"",null,null," "]
[null,null,"  ",null," ",null,null,null,null,null,null,null,null,null,"",null,null," "]
[null,null,"  ",null," ",null,null,null,null,null,null,null,null,null,"",null,null," "]
[null,null,"  ",null," ",null,null,null,null,null,null,null,null,null,"",null,null," "]
[null,null,"  ",null," ",null,null,null,null,null,null,null,null,null,"",null,null," "]
[null,null,"  ",null," ",null,null,null,null,null,null,null,null,null,"",null,null," "]
[null,null,"  ",null," ",null,null,null,null,null,null,null,null,null,"",null,null," "]
[null,null,"  ",null," ",null,null,null,null,null,null,null,null,null,"",null,null," "]
[null,null,"  ",null," ",null,null,null,null,null,null,null,null,null,"",null,null," "]
[null,null,"  ",null," ",null,null,null,null,null,null,null,null,null,"",null,null," "]
[null,null,"  ",null," ",null,null,null,null,null,null,null,null,null,"",null,null," "]
[null,null,"  ",null," ",null,null,null,null,null,null,null,null,null,"",null,null," "]
[null,null,"  ",null," ",null,null,null,null,null,null,null,null,null,"",null,null," "]
[null,null,"  ",null," ",null,null,null,null,null,null,null,null,null,"",null,null," "]
[null,null,"  ",null," ",null,null,null,null,null,null,null,null,null,"",null,null," "]
[null,null,"  ",null," ",null,null,null,null,null,null,null,null,null,"",null,null," "]
[null,null,"  ",null," ",null,null,null,null,null,null,null,null,null,"",null,null," "]
[null,null,"  ",null," ",null,null,null,null,null,null,null,null,null,"",null,null," "]
[null,null,"  ",null," ",null,null,null,null,null,null,null,null,null,"",null,null," "]
[null,null,"  ",null," ",null,null,null,null,null,null,null,null,null,"",null,null," "]
[null,null,"  ",null," ",null,null,null,null,null,null,null,null,null,"",null,null," "]
[null,null,"  ",null," ",null,null,null,null,null,null,null,null,null,"",null,null," "]
[null,null,"  ",null," ",null,null,null,null,null,null,null,null,null,"",null,null," "]
[null,null,"  ",null," ",null,null,null,null,null,null,null,null,null,"",null,null," "]
[null,null,"  ",null," ",null,null,null,null,null,null,null,null,null,"",null,null," "]
[null,null,"  ",null," ",null,null,null,null,null,null,null,null,null,"",null,null," "]
[null,null,"  ",null," ",null,null,null,null,null,null,null,null,null,"",null,null," "]
[null,null,"  ",null," ",null,null,null,null,null,null,null,null,null,"",null,null," "]
[null,null,"  ",null," ",null,null,null,null,null,null,null,null,null,"",null,null," "]
[null,null,"  ",null," ",null,null,null,null,null,null,null,null,null,"",null,null," "]
[null,null,"  ",null," ",null,null,null,null,null,null,null,null,null,"",null,null," "]
[null,null,"  ",null," ",null,null,null,null,null,null,null,null,null,"",null,null," "]
[null,null,"  ",null," ",null,null,null,null,null,null,null,null,null,"",null,null," "]
[null,null,"  ",null," ",null,null,null,null,null,null,null,null,null,"",null,null," "]
[null,null,"  ",null," ",null,null,null,null,null,null,null,null,null,"",null,null," "]
[null,null,"  ",null," ",null,null,null,null,null,null,null,null,null,"",null,null," "]
[null,null,"  ",null," ",null,null,null,null,null,null,null,null,null,"",null,null," "]
[null,null,"  ",null," ",null,null,null,null,null,null,null,null,null,"",null,null," "]
[null,null,"  ",null," ",null,null,null,null,null,null,null,null,null,"",null,null," "]
[null,null,"  ",null," ",null,null,null,null,null,null,null,null,null,"",null,null," "]
[null,null,"  ",null," ",null,null,null,null,null,null,null,null,null,"",null,null," "]
[null,null,{"$f":"IF(B64=\"\",\"\"&L64&\" \"&M64&\" \"&N64,IF(B64>0,\"t.a.v. \"&L64&\" \"&M64&\" \"&N64))","v":"  "},null," ",null,null,null,null,null,null,null,null,null,"",null,null," "]
[null,null,"  ",null,{"$f":"CONCATENATE(P65&\" \"&Q65)","v":" "},null,null,null,null,null,null,null,null,null,{"$f":"IF(L65=\"De heer\",\"heer \",IF(L65=\"Mevrouw\",\"mevrouw \",\"\"))","v":""},null,null,{"$f":"CONCATENATE(M65&\" \"&N65)","v":" "}]
[null,null,"  ",null," ",null,null,null,null,null,null,null,null,null,"",null,null," "]
[null,null,"  ",null," ",null,null,null,null,null,null,null,null,null,"",null,null," "]
[null,null,"  ",null," ",null,null,null,null,null,null,null,null,null,"",null,null," "]
[null,null,"  ",null," ",null,null,null,null,null,null,null,null,null,"",null,null," "]
[null,null,"  ",null," ",null,null,null,null,null,null,null,null,null,"",null,null," "]
[null,null,"  ",null," ",null,null,null,null,null,null,null,null,null,"",null,null," "]
[null,null,"  ",null," ",null,null,null,null,null,null,null,null,null,"",null,null," "]
[null,null,"  ",null," ",null,null,null,null,null,null,null,null,null,"",null,null," "]
[null,null,"  ",null," ",null,null,null,null,null,null,null,null,null,"",null,null," "]
[null,null,"  ",null," ",null,null,null,null,null,null,null,null,null,"",null,null," "]
[null,null,"  ",null," ",null,null,null,null,null,null,null,null,null,"",null,null," "]
[null,null,"  ",null," ",null,null,null,null,null,null,null,null,null,"",null,null," "]
[null,null,"  ",null," ",null,null,null,null,null,null,null,null,null,"",null,null," "]
[null,null,"  ",null," ",null,null,null,null,null,null,null,null,null,"",null,null," "]
[null,null,"  ",null," ",null,null,null,null,null,null,null,null,null,"",null,null," "]
[null,null,"  ",null," ",null,null,null,null,null,null,null,null,null,"",null,null," "]
[null,null,"  ",null," ",null,null,null,null,null,null,null,null,null,"",null,null," "]
[null,null,"  ",null," ",null,null,null,null,null,null,null,null,null,"",null,null," "]
[null,null,"  ",null," ",null,null,null,null,null,null,null,null,null,"",null,null," "]
[null,null,"  ",null," ",null,null,null,null,null,null,null,null,null,"",null,null," "]
[null,null,"  ",null," ",null,null,null,null,null,null,null,null,null,"",null,null," "]
[null,null,"  ",null," ",null,null,null,null,null,null,null,null,null,"",null,null," "]
[null,null,"  ",null," ",null,null,null,null,null,null,null,null,null,"",null,null," "]
[null,null,"  ",null," ",null,null,null,null,null,null,null,null,null,"",null,null," "]
[null,null,"  ",null," ",null,null,null,null,null,null,null,null,null,"",null,null," "]
[null,null,"  ",null," ",null,null,null,null,null,null,null,null,null,"",null,null," "]
[null,null,"  ",null," ",null,null,null,null,null,null,null,null,null,"",null,null," "]
[null,null,"  ",null," ",null,null,null,null,null,null,null,null,null,"",null,null," "]
[null,null,"  ",null," ",null,null,null,null,null,null,null,null,null,"",null,null," "]
[null,null,"  ",null," ",null,null,null,null,null,null,null,null,null,"",null,null," "]
[null,null,"  ",null," ",null,null,null,null,null,null,null,null,null,"",null,null," "]
[null,null,"  ",null," ",null,null,null,null,null,null,null,null,null,"",null,null," "]
[null,null,"  ",null," ",null,null,null,null,null,null,null,null,null,"",null,null," "]
[null,null,"  ",null," ",null,null,null,null,null,null,null,null,null,"",null,null," "]
[null,null,"  ",null," ",null,null,null,null,null,null,null,null,null,"",null,null," "]
[null,null,"  ",null," ",null,null,null,null,null,null,null,null,null,"",null,null," "]
[null,null,"  ",null," ",null,null,null,null,null,null,null,null,null,"",null,null," "]
[null,null,"  ",null," ",null,null,null,null,null,null,null,null,null,"",null,null," "]
[null,null,"  ",null," ",null,null,null,null,null,null,null,null,null,"",null,null," "]
[null,null,"  ",null," ",null,null,null,null,null,null,null,null,null,"",null,null," "]
[null,null,"  ",null," ",null,null,null,null,null,null,null,null,null,"",null,null," "]
[null,null,"  ",null," ",null,null,null,null,null,null,null,null,null,"",null,null," "]
[null,null,"  ",null," ",null,null,null,null,null,null,null,null,null,"",null,null," "]
[null,null,"  ",null," ",null,null,null,null,null,null,null,null,null,"",null,null," "]
[null,null,"  ",null," ",null,null,null,null,null,null,null,null,null,"",null,null," "]
[null,null,"  ",null," ",null,null,null,null,null,null,null,null,null,"",null,null," "]
[null,null,"  ",null," ",null,null,null,null,null,null,null,null,null,"",null,null," "]
[null,null,"  ",null," ",null,null,null,null,null,null,null,null,null,"",null,null," "]
[null,null,"  ",null," ",null,null,null,null,null,null,null,null,null,"",null,null," "]
[null,null,"  ",null," ",null,null,null,null,null,null,null,null,null,"",null,null," "]
[null,null,"  ",null," ",null,null,null,null,null,null,null,null,null,"",null,null," "]
[null,null,"  ",null," ",null,null,null,null,null,null,null,null,null,"",null,null," "]
[null,null,"  ",null," ",null,null,null,null,null,null,null,null,null,"",null,null," "]
[null,null,"  ",null," ",null,null,null,null,null,null,null,null,null,"",null,null," "]
[null,null,"  ",null," ",null,null,null,null,null,null,null,null,null,"",null,null," "]
[null,null,"  ",null," ",null,null,null,null,null,null,null,null,null,"",null,null," "]
[null,null,"  ",null," ",null,null,null,null,null,null,null,null,null,"",null,null," "]
[null,null,"  ",null," ",null,null,null,null,null,null,null,null,null,"",null,null," "]
[null,null,"  ",null," ",null,null,null,null,null,null,null,null,null,"",null,null," "]
[null,null,"  ",null," ",null,null,null,null,null,null,null,null,null,"",null,null," "]
[null,null,"  ",null," ",null,null,null,null,null,null,null,null,null,"",null,null," "]
[null,null,"  ",null," ",null,null,null,null,null,null,null,null,null,"",null,null," "]
[null,null,{"$f":"IF(B128=\"\",\"\"&L128&\" \"&M128&\" \"&N128,IF(B128>0,\"t.a.v. \"&L128&\" \"&M128&\" \"&N128))","v":"  "},null," ",null,null,null,null,null,null,null,null,null,"",null,null," "]
[null,null,"  ",null,{"$f":"CONCATENATE(P129&\" \"&Q129)","v":" "},null,null,null,null,null,null,null,null,null,{"$f":"IF(L129=\"De heer\",\"heer \",IF(L129=\"Mevrouw\",\"mevrouw \",\"\"))","v":""},null,null,{"$f":"CONCATENATE(M129&\" \"&N129)","v":" "}]
[null,null,"  ",null," ",null,null,null,null,null,null,null,null,null,"",null,null," "]
[null,null,"  ",null," ",null,null,null,null,null,null,null,null,null,"",null,null," "]
[null,null,"  ",null," ",null,null,null,null,null,null,null,null,null,"",null,null," "]
[null,null,"  ",null," ",null,null,null,null,null,null,null,null,null,"",null,null," "]
[null,null,"  ",null," ",null,null,null,null,null,null,null,null,null,"",null,null," "]
[null,null,"  ",null," ",null,null,null,null,null,null,null,null,null,"",null,null," "]
[null,null,"  ",null," ",null,null,null,null,null,null,null,null,null,"",null,null," "]
[null,null,"  ",null," ",null,null,null,null,null,null,null,null,null,"",null,null," "]
[null,null,"  ",null," ",null,null,null,null,null,null,null,null,null,"",null,null," "]
[null,null,"  ",null," ",null,null,null,null,null,null,null,null,null,"",null,null," "]
[null,null,"  ",null," ",null,null,null,null,null,null,null,null,null,"",null,null," "]
[null,null,"  ",null," ",null,null,null,null,null,null,null,null,null,"",null,null," "]
[null,null,"  ",null," ",null,null,null,null,null,null,null,null,null,"",null,null," "]
[null,null,"  ",null," ",null,null,null,null,null,null,null,null,null,"",null,null," "]
[null,null,"  ",null," ",null,null,null,null,null,null,null,null,null,"",null,null," "]
[null,null,"  ",null," ",null,null,null,null,null,null,null,null,null,"",null,null," "]
[null,null,"  ",null," ",null,null,null,null,null,null,null,null,null,"",null,null," "]
[null,null,"  ",null," ",null,null,null,null,null,null,null,null,null,"",null,null," "]
[null,null,"  ",null," ",null,null,null,null,null,null,null,null,null,"",null,null," "]
[null,null,"  ",null," ",null,null,null,null,null,null,null,null,null,"",null,null," "]
[null,null,"  ",null," ",null,null,null,null,null,null,null,null,null,"",null,null," "]
[null,null,"  ",null," ",null,null,null,null,null,null,null,null,null,"",null,null," "]
[null,null,"  ",null," ",null,null,null,null,null,null,null,null,null,"",null,null," "]
[null,null,"  ",null," ",null,null,null,null,null,null,null,null,null,"",null,null," "]
[null,null,"  ",null," ",null,null,null,null,null,null,null,null,null,"",null,null," "]
[null,null,"  ",null," ",null,null,null,null,null,null,null,null,null,"",null,null," "]
[null,null,"  ",null," ",null,null,null,null,null,null,null,null,null,"",null,null," "]
[null,null,"  ",null," ",null,null,null,null,null,null,null,null,null,"",null,null," "]
[null,null,"  ",null," ",null,null,null,null,null,null,null,null,null,"",null,null," "]
[null,null,"  ",null," ",null,null,null,null,null,null,null,null,null,"",null,null," "]
[null,null,"  ",null," ",null,null,null,null,null,null,null,null,null,"",null,null," "]
[null,null,"  ",null," ",null,null,null,null,null,null,null,null,null,"",null,null," "]
[null,null,"  ",null," ",null,null,null,null,null,null,null,null,null,"",null,null," "]
[null,null,"  ",null," ",null,null,null,null,null,null,null,null,null,"",null,null," "]
[null,null,"  ",null," ",null,null,null,null,null,null,null,null,null,"",null,null," "]
[null,null,"  ",null," ",null,null,null,null,null,null,null,null,null,"",null,null," "]
[null,null,"  ",null," ",null,null,null,null,null,null,null,null,null,"",null,null," "]
[null,null,"  ",null," ",null,null,null,null,null,null,null,null,null,"",null,null," "]
[null,null,"  ",null," ",null,null,null,null,null,null,null,null,null,"",null,null," "]
[null,null,"  ",null," ",null,null,null,null,null,null,null,null,null,"",null,null," "]
[null,null,"  ",null," ",null,null,null,null,null,null,null,null,null,"",null,null," "]
[null,null,"  ",null," ",null,null,null,null,null,null,null,null,null,"",null,null," "]
[null,null,"  ",null," ",null,null,null,null,null,null,null,null,null,"",null,null," "]
[null,null,"  ",null," ",null,null,null,null,null,null,null,null,null,"",null,null," "]
[null,null,"  ",null," ",null,null,null,null,null,null,null,null,null,"",null,null," "]
[null,null,"  ",null," ",null,null,null,null,null,null,null,null,null,"",null,null," "]
[null,null,"  ",null," ",null,null,null,null,null,null,null,null,null,"",null,null," "]
[null,null,"  ",null," ",null,null,null,null,null,null,null,null,null,"",null,null," "]
[null,null,"  ",null," ",null,null,null,null,null,null,null,null,null,"",null,null," "]
[null,null,"  ",null," ",null,null,null,null,null,null,null,null,null,"",null,null," "]
[null,null,"  ",null," ",null,null,null,null,null,null,null,null,null,"",null,null," "]
[null,null,"  ",null," ",null,null,null,null,null,null,null,null,null,"",null,null," "]
[null,null,"  ",null," ",null,null,null,null,null,null,null,null,null,"",null,null," "]
[null,null,"  ",null," ",null,null,null,null,null,null,null,null,null,"",null,null," "]
[null,null,"  ",null," ",null,null,null,null,null,null,null,null,null,"",null,null," "]
[null,null,"  ",null," ",null,null,null,null,null,null,null,null,null,"",null,null," "]
[null,null,"  ",null," ",null,null,null,null,null,null,null,null,null,"",null,null," "]
[null,null,"  ",null," ",null,null,null,null,null,null,null,null,null,"",null,null," "]
[null,null,"  ",null," ",null,null,null,null,null,null,null,null,null,"",null,null," "]
[null,null,"  ",null," ",null,null,null,null,null,null,null,null,null,"",null,null," "]
[null,null,"  ",null," ",null,null,null,null,null,null,null,null,null,"",null,null," "]
[null,null,"  ",null," ",null,null,null,null,null,null,null,null,null,"",null,null," "]
[null,null,{"$f":"IF(B192=\"\",\"\"&L192&\" \"&M192&\" \"&N192,IF(B192>0,\"t.a.v. \"&L192&\" \"&M192&\" \"&N192))","v":"  "},null," ",null,null,null,null,null,null,null,null,null,"",null,null," "]
[null,null,"  ",null,{"$f":"CONCATENATE(P193&\" \"&Q193)","v":" "},null,null,null,null,null,null,null,null,null,{"$f":"IF(L193=\"De heer\",\"heer \",IF(L193=\"Mevrouw\",\"mevrouw \",\"\"))","v":""},null,null,{"$f":"CONCATENATE(M193&\" \"&N193)","v":" "}]
[null,null,"  ",null," ",null,null,null,null,null,null,null,null,null,"",null,null," "]
[null,null,"  ",null," ",null,null,null,null,null,null,null,null,null,"",null,null," "]
[null,null,"  ",null," ",null,null,null,null,null,null,null,null,null,"",null,null," "]
[null,null,"  ",null," ",null,null,null,null,null,null,null,null,null,"",null,null," "]
[null,null,"  ",null," ",null,null,null,null,null,null,null,null,null,"",null,null," "]
[null,null,"  ",null," ",null,null,null,null,null,null,null,null,null,"",null,null," "]
[null,null,"  ",null," ",null,null,null,null,null,null,null,null,null,"",null,null," "]
[null,null,"  ",null," ",null,null,null,null,null,null,null,null,null,"",null,null," "]
[null,null,"  ",null," ",null,null,null,null,null,null,null,null,null,"",null,null," "]
[null,null,"  ",null," ",null,null,null,null,null,null,null,null,null,"",null,null," "]
[null,null,"  ",null," ",null,null,null,null,null,null,null,null,null,"",null,null," "]
[null,null,"  ",null," ",null,null,null,null,null,null,null,null,null,"",null,null," "]
[null,null,"  ",null," ",null,null,null,null,null,null,null,null,null,"",null,null," "]
[null,null,"  ",null," ",null,null,null,null,null,null,null,null,null,"",null,null," "]
[null,null,"  ",null," ",null,null,null,null,null,null,null,null,null,"",null,null," "]
[null,null,"  ",null," ",null,null,null,null,null,null,null,null,null,"",null,null," "]
[null,null,"  ",null," ",null,null,null,null,null,null,null,null,null,"",null,null," "]
[null,null,"  ",null," ",null,null,null,null,null,null,null,null,null,"",null,null," "]
[null,null,"  ",null," ",null,null,null,null,null,null,null,null,null,"",null,null," "]
[null,null,"  ",null," ",null,null,null,null,null,null,null,null,null,"",null,null," "]
[null,null,"  ",null," ",null,null,null,null,null,null,null,null,null,"",null,null," "]
[null,null,"  ",null," ",null,null,null,null,null,null,null,null,null,"",null,null," "]
[null,null,"  ",null," ",null,null,null,null,null,null,null,null,null,"",null,null," "]
[null,null,"  ",null," ",null,null,null,null,null,null,null,null,null,"",null,null," "]
[null,null,"  ",null," ",null,null,null,null,null,null,null,null,null,"",null,null," "]
[null,null,"  ",null," ",null,null,null,null,null,null,null,null,null,"",null,null," "]
[null,null,"  ",null," ",null,null,null,null,null,null,null,null,null,"",null,null," "]
[null,null,"  ",null," ",null,null,null,null,null,null,null,null,null,"",null,null," "]
[null,null,"  ",null," ",null,null,null,null,null,null,null,null,null,"",null,null," "]
[null,null,"  ",null," ",null,null,null,null,null,null,null,null,null,"",null,null," "]
[null,null,"  ",null," ",null,null,null,null,null,null,null,null,null,"",null,null," "]
[null,null,"  ",null," ",null,null,null,null,null,null,null,null,null,"",null,null," "]
[null,null,"  ",null," ",null,null,null,null,null,null,null,null,null,"",null,null," "]
[null,null,"  ",null," ",null,null,null,null,null,null,null,null,null,"",null,null," "]
[null,null,"  ",null," ",null,null,null,null,null,null,null,null,null,"",null,null," "]
[null,null,"  ",null," ",null,null,null,null,null,null,null,null,null,"",null,null," "]
[null,null,"  ",null," ",null,null,null,null,null,null,null,null,null,"",null,null," "]
[null,null,"  ",null," ",null,null,null,null,null,null,null,null,null,"",null,null," "]
[null,null,"  ",null," ",null,null,null,null,null,null,null,null,null,"",null,null," "]
[null,null,"  ",null," ",null,null,null,null,null,null,null,null,null,"",null,null," "]
[null,null,"  ",null," ",null,null,null,null,null,null,null,null,null,"",null,null," "]
[null,null,"  ",null," ",null,null,null,null,null,null,null,null,null,"",null,null," "]
[null,null,"  ",null," ",null,null,null,null,null,null,null,null,null,"",null,null," "]
[null,null,"  ",null," ",null,null,null,null,null,null,null,null,null,"",null,null," "]
[null,null,"  ",null," ",null,null,null,null,null,null,null,null,null,"",null,null," "]
[null,null,"  ",null," ",null,null,null,null,null,null,null,null,null,"",null,null," "]
[null,null,"  ",null," ",null,null,null,null,null,null,null,null,null,"",null,null," "]
[null,null,"  ",null," ",null,null,null,null,null,null,null,null,null,"",null,null," "]
[null,null,"  ",null," ",null,null,null,null,null,null,null,null,null,"",null,null," "]
[null,null,"  ",null," ",null,null,null,null,null,null,null,null,null,"",null,null," "]
[null,null,"  ",null," ",null,null,null,null,null,null,null,null,null,"",null,null," "]
[null,null,"  ",null," ",null,null,null,null,null,null,null,null,null,"",null,null," "]
[null,null,"  ",null," ",null,null,null,null,null,null,null,null,null,"",null,null," "]
[null,null,"  ",null," ",null,null,null,null,null,null,null,null,null,"",null,null," "]
[null,null,"  ",null," ",null,null,null,null,null,null,null,null,null,"",null,null," "]
[null,null,"  ",null," ",null,null,null,null,null,null,null,null,null,"",null,null," "]
[null,null,"  ",null," ",null,null,null,null,null,null,null,null,null,"",null,null," "]
[null,null,"  ",null," ",null,null,null,null,null,null,null,null,null,"",null,null," "]
[null,null,"  ",null," ",null,null,null,null,null,null,null,null,null,"",null,null," "]
[null,null,"  ",null," ",null,null,null,null,null,null,null,null,null,"",null,null," "]
[null,null,"  ",null," ",null,null,null,null,null,null,null,null,null,"",null,null," "]
[null,null,"  ",null," ",null,null,null,null,null,null,null,null,null,"",null,null," "]
[null,null,{"$f":"IF(B256=\"\",\"\"&L256&\" \"&M256&\" \"&N256,IF(B256>0,\"t.a.v. \"&L256&\" \"&M256&\" \"&N256))","v":"  "},null," ",null,null,null,null,null,null,null,null,null,"",null,null," "]
[null,null,"  ",null,{"$f":"CONCATENATE(P257&\" \"&Q257)","v":" "},null,null,null,null,null,null,null,null,null,{"$f":"IF(L257=\"De heer\",\"heer \",IF(L257=\"Mevrouw\",\"mevrouw \",\"\"))","v":""},null,null,{"$f":"CONCATENATE(M257&\" \"&N257)","v":" "}]
[null,null,"  ",null," ",null,null,null,null,null,null,null,null,null,"",null,null," "]
[null,null,"  ",null," ",null,null,null,null,null,null,null,null,null,"",null,null," "]
[null,null,"  ",null," ",null,null,null,null,null,null,null,null,null,"",null,null," "]
[null,null,"  ",null," ",null,null,null,null,null,null,null,null,null,"",null,null," "]
[null,null,"  ",null," ",null,null,null,null,null,null,null,null,null,"",null,null," "]
[null,null,"  ",null," ",null,null,null,null,null,null,null,null,null,"",null,null," "]
[null,null,"  ",null," ",null,null,null,null,null,null,null,null,null,"",null,null," "]
[null,null,"  ",null," ",null,null,null,null,null,null,null,null,null,"",null,null," "]
[null,null,"  ",null," ",null,null,null,null,null,null,null,null,null,"",null,null," "]
[null,null,"  ",null," ",null,null,null,null,null,null,null,null,null,"",null,null," "]
[null,null,"  ",null," ",null,null,null,null,null,null,null,null,null,"",null,null," "]
[null,null,"  ",null," ",null,null,null,null,null,null,null,null,null,"",null,null," "]
[null,null,"  ",null," ",null,null,null,null,null,null,null,null,null,"",null,null," "]
[null,null,"  ",null," ",null,null,null,null,null,null,null,null,null,"",null,null," "]
[null,null,"  ",null," ",null,null,null,null,null,null,null,null,null,"",null,null," "]
[null,null,"  ",null," ",null,null,null,null,null,null,null,null,null,"",null,null," "]
[null,null,"  ",null," ",null,null,null,null,null,null,null,null,null,"",null,null," "]
[null,null,"  ",null," ",null,null,null,null,null,null,null,null,null,"",null,null," "]
[null,null,"  ",null," ",null,null,null,null,null,null,null,null,null,"",null,null," "]
[null,null,"  ",null," ",null,null,null,null,null,null,null,null,null,"",null,null," "]
[null,null,"  ",null," ",null,null,null,null,null,null,null,null,null,"",null,null," "]
[null,null,"  ",null," ",null,null,null,null,null,null,null,null,null,"",null,null," "]
[null,null,"  ",null," ",null,null,null,null,null,null,null,null,null,"",null,null," "]
[null,null,"  ",null," ",null,null,null,null,null,null,null,null,null,"",null,null," "]
[null,null,"  ",null," ",null,null,null,null,null,null,null,null,null,"",null,null," "]
[null,null,"  ",null," ",null,null,null,null,null,null,null,null,null,"",null,null," "]
[null,null,"  ",null," ",null,null,null,null,null,null,null,null,null,"",null,null," "]
[null,null,"  ",null," ",null,null,null,null,null,null,null,null,null,"",null,null," "]
[null,null,"  ",null," ",null,null,null,null,null,null,null,null,null,"",null,null," "]
[null,null,"  ",null," ",null,null,null,null,null,null,null,null,null,"",null,null," "]
[null,null,"  ",null," ",null,null,null,null,null,null,null,null,null,"",null,null," "]
[null,null,"  ",null," ",null,null,null,null,null,null,null,null,null,"",null,null," "]
[null,null,"  ",null," ",null,null,null,null,null,null,null,null,null,"",null,null," "]
[null,null,"  ",null," ",null,null,null,null,null,null,null,null,null,"",null,null," "]
[null,null,"  ",null," ",null,null,null,null,null,null,null,null,null,"",null,null," "]
[null,null,"  ",null," ",null,null,null,null,null,null,null,null,null,"",null,null," "]
[null,null,"  ",null," ",null,null,null,null,null,null,null,null,null,"",null,null," "]
[null,null,"  ",null," ",null,null,null,null,null,null,null,null,null,"",null,null," "]
[null,null,"  ",null," ",null,null,null,null,null,null,null,null,null,"",null,null," "]
[null,null,"  ",null," ",null,null,null,null,null,null,null,null,null,"",null,null," "]
[null,null,"  ",null," ",null,null,null,null,null,null,null,null,null,"",null,null," "]
[null,null,"  ",null," ",null,null,null,null,null,null,null,null,null,"",null,null," "]
[null,null,"  ",null," ",null,null,null,null,null,null,null,null,null,"",null,null," "]
[null,null,"  ",null," ",null,null,null,null,null,null,null,null,null,"",null,null," "]
[null,null,"  ",null," ",null,null,null,null,null,null,null,null,null,"",null,null," "]
[null,null,"  ",null," ",null,null,null,null,null,null,null,null,null,"",null,null," "]
[null,null,"  ",null," ",null,null,null,null,null,null,null,null,null,"",null,null," "]
[null,null,"  ",null," ",null,null,null,null,null,null,null,null,null,"",null,null," "]
[null,null,"  ",null," ",null,null,null,null,null,null,null,null,null,"",null,null," "]
[null,null,"  ",null," ",null,null,null,null,null,null,null,null,null,"",null,null," "]
[null,null,"  ",null," ",null,null,null,null,null,null,null,null,null,"",null,null," "]
[null,null,"  ",null," ",null,null,null,null,null,null,null,null,null,"",null,null," "]
[null,null,"  ",null," ",null,null,null,null,null,null,null,null,null,"",null,null," "]
[null,null,"  ",null," ",null,null,null,null,null,null,null,null,null,"",null,null," "]
[null,null,"  ",null," ",null,null,null,null,null,null,null,null,null,"",null,null," "]
[null,null,"  ",null," ",null,null,null,null,null,null,null,null,null,"",null,null," "]
[null,null,"  ",null," ",null,null,null,null,null,null,null,null,null,"",null,null," "]
[null,null,"  ",null," ",null,null,null,null,null,null,null,null,null,"",null,null," "]
[null,null,"  ",null," ",null,null,null,null,null,null,null,null,null,"",null,null," "]
[null,null,"  ",null," ",null,null,null,null,null,null,null,null,null,"",null,null," "]
[null,null,"  ",null," ",null,null,null,null,null,null,null,null,null,"",null,null," "]
[null,null,"  ",null," ",null,null,null,null,null,null,null,null,null,"",null,null," "]
[null,null,{"$f":"IF(B320=\"\",\"\"&L320&\" \"&M320&\" \"&N320,IF(B320>0,\"t.a.v. \"&L320&\" \"&M320&\" \"&N320))","v":"  "},null," ",null,null,null,null,null,null,null,null,null,"",null,null," "]
[null,null,"  ",null,{"$f":"CONCATENATE(P321&\" \"&Q321)","v":" "},null,null,null,null,null,null,null,null,null,{"$f":"IF(L321=\"De heer\",\"heer \",IF(L321=\"Mevrouw\",\"mevrouw \",\"\"))","v":""},null,null,{"$f":"CONCATENATE(M321&\" \"&N321)","v":" "}]
[null,null,"  ",null," ",null,null,null,null,null,null,null,null,null,"",null,null," "]
[null,null,"  ",null," ",null,null,null,null,null,null,null,null,null,"",null,null," "]
[null,null,"  ",null," ",null,null,null,null,null,null,null,null,null,"",null,null," "]
[null,null,"  ",null," ",null,null,null,null,null,null,null,null,null,"",null,null," "]
[null,null,"  ",null," ",null,null,null,null,null,null,null,null,null,"",null,null," "]
[null,null,"  ",null," ",null,null,null,null,null,null,null,null,null,"",null,null," "]
[null,null,"  ",null," ",null,null,null,null,null,null,null,null,null,"",null,null," "]
[null,null,"  ",null," ",null,null,null,null,null,null,null,null,null,"",null,null," "]
[null,null,"  ",null," ",null,null,null,null,null,null,null,null,null,"",null,null," "]
[null,null,"  ",null," ",null,null,null,null,null,null,null,null,null,"",null,null," "]
[null,null,"  ",null," ",null,null,null,null,null,null,null,null,null,"",null,null," "]
[null,null,"  ",null," ",null,null,null,null,null,null,null,null,null,"",null,null," "]
[null,null,"  ",null," ",null,null,null,null,null,null,null,null,null,"",null,null," "]
[null,null,"  ",null," ",null,null,null,null,null,null,null,null,null,"",null,null," "]
[null,null,"  ",null," ",null,null,null,null,null,null,null,null,null,"",null,null," "]
[null,null,"  ",null," ",null,null,null,null,null,null,null,null,null,"",null,null," "]
[null,null,"  ",null," ",null,null,null,null,null,null,null,null,null,"",null,null," "]
[null,null,"  ",null," ",null,null,null,null,null,null,null,null,null,"",null,null," "]
[null,null,"  ",null," ",null,null,null,null,null,null,null,null,null,"",null,null," "]
[null,null,"  ",null," ",null,null,null,null,null,null,null,null,null,"",null,null," "]
[null,null,"  ",null," ",null,null,null,null,null,null,null,null,null,"",null,null," "]
[null,null,"  ",null," ",null,null,null,null,null,null,null,null,null,"",null,null," "]
[null,null,"  ",null," ",null,null,null,null,null,null,null,null,null,"",null,null," "]
[null,null,"  ",null," ",null,null,null,null,null,null,null,null,null,"",null,null," "]
[null,null,"  ",null," ",null,null,null,null,null,null,null,null,null,"",null,null," "]
[null,null,"  ",null," ",null,null,null,null,null,null,null,null,null,"",null,null," "]
[null,null,"  ",null," ",null,null,null,null,null,null,null,null,null,"",null,null," "]
[null,null,"  ",null," ",null,null,null,null,null,null,null,null,null,"",null,null," "]
[null,null,"  ",null," ",null,null,null,null,null,null,null,null,null,"",null,null," "]
[null,null,"  ",null," ",null,null,null,null,null,null,null,null,null,"",null,null," "]
[null,null,"  ",null," ",null,null,null,null,null,null,null,null,null,"",null,null," "]
[null,null,"  ",null," ",null,null,null,null,null,null,null,null,null,"",null,null," "]
[null,null,"  ",null," ",null,null,null,null,null,null,null,null,null,"",null,null," "]
[null,null,"  ",null," ",null,null,null,null,null,null,null,null,null,"",null,null," "]
[null,null,"  ",null," ",null,null,null,null,null,null,null,null,null,"",null,null," "]
[null,null,"  ",null," ",null,null,null,null,null,null,null,null,null,"",null,null," "]
[null,null,"  ",null," ",null,null,null,null,null,null,null,null,null,"",null,null," "]
[null,null,"  ",null," ",null,null,null,null,null,null,null,null,null,"",null,null," "]
[null,null,"  ",null," ",null,null,null,null,null,null,null,null,null,"",null,null," "]
[null,null,"  ",null," ",null,null,null,null,null,null,null,null,null,"",null,null," "]
[null,null,"  ",null," ",null,null,null,null,null,null,null,null,null,"",null,null," "]
[null,null,"  ",null," ",null,null,null,null,null,null,null,null,null,"",null,null," "]
[null,null,"  ",null," ",null,null,null,null,null,null,null,null,null,"",null,null," "]
[null,null,"  ",null," ",null,null,null,null,null,null,null,null,null,"",null,null," "]
[null,null,"  ",null," ",null,null,null,null,null,null,null,null,null,"",null,null," "]
[null,null,"  ",null," ",null,null,null,null,null,null,null,null,null,"",null,null," "]
[null,null,"  ",null," ",null,null,null,null,null,null,null,null,null,"",null,null," "]
[null,null,"  ",null," ",null,null,null,null,null,null,null,null,null,"",null,null," "]
[null,null,"  ",null," ",null,null,null,null,null,null,null,null,null,"",null,null," "]
[null,null,"  ",null," ",null,null,null,null,null,null,null,null,null,"",null,null," "]
[null,null,"  ",null," ",null,null,null,null,null,null,null,null,null,"",null,null," "]
[null,null,"  ",null," ",null,null,null,null,null,null,null,null,null,"",null,null," "]
[null,null,"  ",null," ",null,null,null,null,null,null,null,null,null,"",null,null," "]
[null,null,"  ",null," ",null,null,null,null,null,null,null,null,null,"",null,null," "]
[null,null,"  ",null," ",null,null,null,null,null,null,null,null,null,"",null,null," "]
[null,null,"  ",null," ",null,null,null,null,null,null,null,null,null,"",null,null," "]
[null,null,"  ",null," ",null,null,null,null,null,null,null,null,null,"",null,null," "]
[null,null,"  ",null," ",null,null,null,null,null,null,null,null,null,"",null,null," "]
[null,null,"  ",null," ",null,null,null,null,null,null,null,null,null,"",null,null," "]
[null,null,"  ",null," ",null,null,null,null,null,null,null,null,null,"",null,null," "]
[null,null,"  ",null," ",null,null,null,null,null,null,null,null,null,"",null,null," "]
[null,null,"  ",null," ",null,null,null,null,null,null,null,null,null,"",null,null," "]
[null,null,{"$f":"IF(B384=\"\",\"\"&L384&\" \"&M384&\" \"&N384,IF(B384>0,\"t.a.v. \"&L384&\" \"&M384&\" \"&N384))","v":"  "},null," ",null,null,null,null,null,null,null,null,null,"",null,null," "]
[null,null,"  ",null,{"$f":"CONCATENATE(P385&\" \"&Q385)","v":" "},null,null,null,null,null,null,null,null,null,{"$f":"IF(L385=\"De heer\",\"heer \",IF(L385=\"Mevrouw\",\"mevrouw \",\"\"))","v":""},null,null,{"$f":"CONCATENATE(M385&\" \"&N385)","v":" "}]
[null,null,"  ",null," ",null,null,null,null,null,null,null,null,null,"",null,null," "]
[null,null,"  ",null," ",null,null,null,null,null,null,null,null,null,"",null,null," "]
[null,null,"  ",null," ",null,null,null,null,null,null,null,null,null,"",null,null," "]
[null,null,"  ",null," ",null,null,null,null,null,null,null,null,null,"",null,null," "]
[null,null,"  ",null," ",null,null,null,null,null,null,null,null,null,"",null,null," "]
[null,null,"  ",null," ",null,null,null,null,null,null,null,null,null,"",null,null," "]
[null,null,"  ",null," ",null,null,null,null,null,null,null,null,null,"",null,null," "]
[null,null,"  ",null," ",null,null,null,null,null,null,null,null,null,"",null,null," "]
[null,null,"  ",null," ",null,null,null,null,null,null,null,null,null,"",null,null," "]
[null,null,"  ",null," ",null,null,null,null,null,null,null,null,null,"",null,null," "]
[null,null,"  ",null," ",null,null,null,null,null,null,null,null,null,"",null,null," "]
[null,null,"  ",null," ",null,null,null,null,null,null,null,null,null,"",null,null," "]
[null,null,"  ",null," ",null,null,null,null,null,null,null,null,null,"",null,null," "]
[null,null,"  ",null," ",null,null,null,null,null,null,null,null,null,"",null,null," "]
[null,null,"  ",null," ",null,null,null,null,null,null,null,null,null,"",null,null," "]
[null,null,"  ",null," ",null,null,null,null,null,null,null,null,null,"",null,null," "]
[null,null,"  ",null," ",null,null,null,null,null,null,null,null,null,"",null,null," "]
[null,null,"  ",null," ",null,null,null,null,null,null,null,null,null,"",null,null," "]
[null,null,"  ",null," ",null,null,null,null,null,null,null,null,null,"",null,null," "]
[null,null,"  ",null," ",null,null,null,null,null,null,null,null,null,"",null,null," "]
[null,null,"  ",null," ",null,null,null,null,null,null,null,null,null,"",null,null," "]
[null,null,"  ",null," ",null,null,null,null,null,null,null,null,null,"",null,null," "]
[null,null,"  ",null," ",null,null,null,null,null,null,null,null,null,"",null,null," "]
[null,null,"  ",null," ",null,null,null,null,null,null,null,null,null,"",null,null," "]
[null,null,"  ",null," ",null,null,null,null,null,null,null,null,null,"",null,null," "]
[null,null,"  ",null," ",null,null,null,null,null,null,null,null,null,"",null,null," "]
[null,null,"  ",null," ",null,null,null,null,null,null,null,null,null,"",null,null," "]
[null,null,"  ",null," ",null,null,null,null,null,null,null,null,null,"",null,null," "]
[null,null,"  ",null," ",null,null,null,null,null,null,null,null,null,"",null,null," "]
[null,null,"  ",null," ",null,null,null,null,null,null,null,null,null,"",null,null," "]
[null,null,"  ",null," ",null,null,null,null,null,null,null,null,null,"",null,null," "]
[null,null,"  ",null," ",null,null,null,null,null,null,null,null,null,"",null,null," "]
[null,null,"  ",null," ",null,null,null,null,null,null,null,null,null,"",null,null," "]
[null,null,"  ",null," ",null,null,null,null,null,null,null,null,null,"",null,null," "]
[null,null,"  ",null," ",null,null,null,null,null,null,null,null,null,"",null,null," "]
[null,null,"  ",null," ",null,null,null,null,null,null,null,null,null,"",null,null," "]
[null,null,"  ",null," ",null,null,null,null,null,null,null,null,null,"",null,null," "]
[null,null,"  ",null," ",null,null,null,null,null,null,null,null,null,"",null,null," "]
[null,null,"  ",null," ",null,null,null,null,null,null,null,null,null,"",null,null," "]
[null,null,"  ",null," ",null,null,null,null,null,null,null,null,null,"",null,null," "]
[null,null,"  ",null," ",null,null,null,null,null,null,null,null,null,"",null,null," "]
[null,null,"  ",null," ",null,null,null,null,null,null,null,null,null,"",null,null," "]
[null,null,"  ",null," ",null,null,null,null,null,null,null,null,null,"",null,null," "]
[null,null,"  ",null," ",null,null,null,null,null,null,null,null,null,"",null,null," "]
[null,null,"  ",null," ",null,null,null,null,null,null,null,null,null,"",null,null," "]
[null,null,"  ",null," ",null,null,null,null,null,null,null,null,null,"",null,null," "]
[null,null,"  ",null," ",null,null,null,null,null,null,null,null,null,"",null,null," "]
[null,null,"  ",null," ",null,null,null,null,null,null,null,null,null,"",null,null," "]
[null,null,"  ",null," ",null,null,null,null,null,null,null,null,null,"",null,null," "]
[null,null,"  ",null," ",null,null,null,null,null,null,null,null,null,"",null,null," "]
[null,null,"  ",null," ",null,null,null,null,null,null,null,null,null,"",null,null," "]
[null,null,"  ",null," ",null,null,null,null,null,null,null,null,null,"",null,null," "]
[null,null,"  ",null," ",null,null,null,null,null,null,null,null,null,"",null,null," "]
[null,null,"  ",null," ",null,null,null,null,null,null,null,null,null,"",null,null," "]
[null,null,"  ",null," ",null,null,null,null,null,null,null,null,null,"",null,null," "]
[null,null,"  ",null," ",null,null,null,null,null,null,null,null,null,"",null,null," "]
[null,null,"  ",null," ",null,null,null,null,null,null,null,null,null,"",null,null," "]
[null,null,"  ",null," ",null,null,null,null,null,null,null,null,null,"",null,null," "]
[null,null,"  ",null," ",null,null,null,null,null,null,null,null,null,"",null,null," "]
[null,null,"  ",null," ",null,null,null,null,null,null,null,null,null,"",null,null," "]
[null,null,"  ",null," ",null,null,null,null,null,null,null,null,null,"",null,null," "]
[null,null,"  ",null," ",null,null,null,null,null,null,null,null,null,"",null,null," "]
[null,null,{"$f":"IF(B448=\"\",\"\"&L448&\" \"&M448&\" \"&N448,IF(B448>0,\"t.a.v. \"&L448&\" \"&M448&\" \"&N448))","v":"  "},null," ",null,null,null,null,null,null,null,null,null,"",null,null," "]
[null,null,"  ",null,{"$f":"CONCATENATE(P449&\" \"&Q449)","v":" "},null,null,null,null,null,null,null,null,null,{"$f":"IF(L449=\"De heer\",\"heer \",IF(L449=\"Mevrouw\",\"mevrouw \",\"\"))","v":""},null,null,{"$f":"CONCATENATE(M449&\" \"&N449)","v":" "}]
[null,null,"  ",null," ",null,null,null,null,null,null,null,null,null,"",null,null," "]
[null,null,"  ",null," ",null,null,null,null,null,null,null,null,null,"",null,null," "]
[null,null,"  ",null," ",null,null,null,null,null,null,null,null,null,"",null,null," "]
[null,null,"  ",null," ",null,null,null,null,null,null,null,null,null,"",null,null," "]
[null,null,"  ",null," ",null,null,null,null,null,null,null,null,null,"",null,null," "]
[null,null,"  ",null," ",null,null,null,null,null,null,null,null,null,"",null,null," "]
[null,null,"  ",null," ",null,null,null,null,null,null,null,null,null,"",null,null," "]
[null,null,"  ",null," ",null,null,null,null,null,null,null,null,null,"",null,null," "]
[null,null,"  ",null," ",null,null,null,null,null,null,null,null,null,"",null,null," "]
[null,null,"  ",null," ",null,null,null,null,null,null,null,null,null,"",null,null," "]
[null,null,"  ",null," ",null,null,null,null,null,null,null,null,null,"",null,null," "]
[null,null,"  ",null," ",null,null,null,null,null,null,null,null,null,"",null,null," "]
[null,null,"  ",null," ",null,null,null,null,null,null,null,null,null,"",null,null," "]
[null,null,"  ",null," ",null,null,null,null,null,null,null,null,null,"",null,null," "]
[null,null,"  ",null," ",null,null,null,null,null,null,null,null,null,"",null,null," "]
[null,null,"  ",null," ",null,null,null,null,null,null,null,null,null,"",null,null," "]
[null,null,"  ",null," ",null,null,null,null,null,null,null,null,null,"",null,null," "]
[null,null,"  ",null," ",null,null,null,null,null,null,null,null,null,"",null,null," "]
[null,null,"  ",null," ",null,null,null,null,null,null,null,null,null,"",null,null," "]
[null,null,"  ",null," ",null,null,null,null,null,null,null,null,null,"",null,null," "]
[null,null,"  ",null," ",null,null,null,null,null,null,null,null,null,"",null,null," "]
[null,null,"  ",null," ",null,null,null,null,null,null,null,null,null,"",null,null," "]
[null,null,"  ",null," ",null,null,null,null,null,null,null,null,null,"",null,null," "]
[null,null,"  ",null," ",null,null,null,null,null,null,null,null,null,"",null,null," "]
[null,null,"  ",null," ",null,null,null,null,null,null,null,null,null,"",null,null," "]
[null,null,"  ",null," ",null,null,null,null,null,null,null,null,null,"",null,null," "]
[null,null,"  ",null," ",null,null,null,null,null,null,null,null,null,"",null,null," "]
[null,null,"  ",null," ",null,null,null,null,null,null,null,null,null,"",null,null," "]
[null,null,"  ",null," ",null,null,null,null,null,null,null,null,null,"",null,null," "]
[null,null,"  ",null," ",null,null,null,null,null,null,null,null,null,"",null,null," "]
[null,null,"  ",null," ",null,null,null,null,null,null,null,null,null,"",null,null," "]
[null,null,"  ",null," ",null,null,null,null,null,null,null,null,null,"",null,null," "]
[null,null,"  ",null," ",null,null,null,null,null,null,null,null,null,"",null,null," "]
[null,null,"  ",null," ",null,null,null,null,null,null,null,null,null,"",null,null," "]
[null,null,"  ",null," ",null,null,null,null,null,null,null,null,null,"",null,null," "]
[null,null,"  ",null," ",null,null,null,null,null,null,null,null,null,"",null,null," "]
[null,null,"  ",null," ",null,null,null,null,null,null,null,null,null,"",null,null," "]
[null,null,"  ",null," ",null,null,null,null,null,null,null,null,null,"",null,null," "]
[null,null,"  ",null," ",null,null,null,null,null,null,null,null,null,"",null,null," "]
[null,null,"  ",null," ",null,null,null,null,null,null,null,null,null,"",null,null," "]
[null,null,"  ",null," ",null,null,null,null,null,null,null,null,null,"",null,null," "]
[null,null,"  ",null," ",null,null,null,null,null,null,null,null,null,"",null,null," "]
[null,null,"  ",null," ",null,null,null,null,null,null,null,null,null,"",null,null," "]
[null,null,"  ",null," ",null,null,null,null,null,null,null,null,null,"",null,null," "]
[null,null,"  ",null," ",null,null,null,null,null,null,null,null,null,"",null,null," "]
[null,null,"  ",null," ",null,null,null,null,null,null,null,null,null,"",null,null," "]
[null,null,"  ",null," ",null,null,null,null,null,null,null,null,null,"",null,null," "]
[null,null,"  ",null," ",null,null,null,null,null,null,null,null,null,"",null,null," "]
[null,null,"  ",null," ",null,null,null,null,null,null,null,null,null,"",null,null," "]
[null,null,"  ",null," ",null,null,null,null,null,null,null,null,null,"",null,null," "]
[null,null,"  ",null," ",null,null,null,null,null,null,null,null,null,"",null,null," "]
[null,null,"  ",null," ",null,null,null,null,null,null,null,null,null,"",null,null," "]
[null,null,"  ",null," ",null,null,null,null,null,null,null,null,null,"",null,null," "]
[null,null,"  ",null," ",null,null,null,null,null,null,null,null,null,"",null,null," "]
[null,null,"  ",null," ",null,null,null,null,null,null,null,null,null,"",null,null," "]
[null,null,"  ",null," ",null,null,null,null,null,null,null,null,null,"",null,null," "]
[null,null,"  ",null," ",null,null,null,null,null,null,null,null,null,"",null,null," "]
[null,null,"  ",null," ",null,null,null,null,null,null,null,null,null,"",null,null," "]
[null,null,"  ",null," ",null,null,null,null,null,null,null,null,null,"",null,null," "]
[null,null,"  ",null," ",null,null,null,null,null,null,null,null,null,"",null,null," "]
[null,null,"  ",null," ",null,null,null,null,null,null,null,null,null,"",null,null," "]
[null,null,"  ",null," ",null,null,null,null,null,null,null,null,null,"",null,null," "]
[null,null,{"$f":"IF(B512=\"\",\"\"&L512&\" \"&M512&\" \"&N512,IF(B512>0,\"t.a.v. \"&L512&\" \"&M512&\" \"&N512))","v":"  "},null," ",null,null,null,null,null,null,null,null,null,"",null,null," "]
[null,null,"  ",null,{"$f":"CONCATENATE(P513&\" \"&Q513)","v":" "},null,null,null,null,null,null,null,null,null,{"$f":"IF(L513=\"De heer\",\"heer \",IF(L513=\"Mevrouw\",\"mevrouw \",\"\"))","v":""},null,null,{"$f":"CONCATENATE(M513&\" \"&N513)","v":" "}]
[null,null,"  ",null," ",null,null,null,null,null,null,null,null,null,"",null,null," "]
[null,null,"  ",null," ",null,null,null,null,null,null,null,null,null,"",null,null," "]
[null,null,"  ",null," ",null,null,null,null,null,null,null,null,null,"",null,null," "]
[null,null,"  ",null," ",null,null,null,null,null,null,null,null,null,"",null,null," "]
[null,null,"  ",null," ",null,null,null,null,null,null,null,null,null,"",null,null," "]
[null,null,"  ",null," ",null,null,null,null,null,null,null,null,null,"",null,null," "]
[null,null,"  ",null," ",null,null,null,null,null,null,null,null,null,"",null,null," "]
[null,null,"  ",null," ",null,null,null,null,null,null,null,null,null,"",null,null," "]
[null,null,"  ",null," ",null,null,null,null,null,null,null,null,null,"",null,null," "]
[null,null,"  ",null," ",null,null,null,null,null,null,null,null,null,"",null,null," "]
[null,null,"  ",null," ",null,null,null,null,null,null,null,null,null,"",null,null," "]
[null,null,"  ",null," ",null,null,null,null,null,null,null,null,null,"",null,null," "]
[null,null,"  ",null," ",null,null,null,null,null,null,null,null,null,"",null,null," "]
[null,null,"  ",null," ",null,null,null,null,null,null,null,null,null,"",null,null," "]
[null,null,"  ",null," ",null,null,null,null,null,null,null,null,null,"",null,null," "]
[null,null,"  ",null," ",null,null,null,null,null,null,null,null,null,"",null,null," "]
[null,null,"  ",null," ",null,null,null,null,null,null,null,null,null,"",null,null," "]
[null,null,"  ",null," ",null,null,null,null,null,null,null,null,null,"",null,null," "]
[null,null,"  ",null," ",null,null,null,null,null,null,null,null,null,"",null,null," "]
[null,null,"  ",null," ",null,null,null,null,null,null,null,null,null,"",null,null," "]
[null,null,"  ",null," ",null,null,null,null,null,null,null,null,null,"",null,null," "]
[null,null,"  ",null," ",null,null,null,null,null,null,null,null,null,"",null,null," "]
[null,null,"  ",null," ",null,null,null,null,null,null,null,null,null,"",null,null," "]
[null,null,"  ",null," ",null,null,null,null,null,null,null,null,null,"",null,null," "]
[null,null,"  ",null," ",null,null,null,null,null,null,null,null,null,"",null,null," "]
[null,null,"  ",null," ",null,null,null,null,null,null,null,null,null,"",null,null," "]
[null,null,"  ",null," ",null,null,null,null,null,null,null,null,null,"",null,null," "]
[null,null,"  ",null," ",null,null,null,null,null,null,null,null,null,"",null,null," "]
[null,null,"  ",null," ",null,null,null,null,null,null,null,null,null,"",null,null," "]
[null,null,"  ",null," ",null,null,null,null,null,null,null,null,null,"",null,null," "]
[null,null,"  ",null," ",null,null,null,null,null,null,null,null,null,"",null,null," "]
[null,null,"  ",null," ",null,null,null,null,null,null,null,null,null,"",null,null," "]
[null,null,"  ",null," ",null,null,null,null,null,null,null,null,null,"",null,null," "]
[null,null,"  ",null," ",null,null,null,null,null,null,null,null,null,"",null,null," "]
[null,null,"  ",null," ",null,null,null,null,null,null,null,null,null,"",null,null," "]
[null,null,"  ",null," ",null,null,null,null,null,null,null,null,null,"",null,null," "]
[null,null,"  ",null," ",null,null,null,null,null,null,null,null,null,"",null,null," "]
[null,null,"  ",null," ",null,null,null,null,null,null,null,null,null,"",null,null," "]
[null,null,"  ",null," ",null,null,null,null,null,null,null,null,null,"",null,null," "]
[null,null,"  ",null," ",null,null,null,null,null,null,null,null,null,"",null,null," "]
[null,null,"  ",null," ",null,null,null,null,null,null,null,null,null,"",null,null," "]
[null,null,"  ",null," ",null,null,null,null,null,null,null,null,null,"",null,null," "]
[null,null,"  ",null," ",null,null,null,null,null,null,null,null,null,"",null,null," "]
[null,null,"  ",null," ",null,null,null,null,null,null,null,null,null,"",null,null," "]
[null,null,"  ",null," ",null,null,null,null,null,null,null,null,null,"",null,null," "]
[null,null,"  ",null," ",null,null,null,null,null,null,null,null,null,"",null,null," "]
[null,null,"  ",null," ",null,null,null,null,null,null,null,null,null,"",null,null," "]
[null,null,"  ",null," ",null,null,null,null,null,null,null,null,null,"",null,null," "]
[null,null,"  ",null," ",null,null,null,null,null,null,null,null,null,"",null,null," "]
[null,null,"  ",null," ",null,null,null,null,null,null,null,null,null,"",null,null," "]
[null,null,"  ",null," ",null,null,null,null,null,null,null,null,null,"",null,null," "]
[null,null,"  ",null," ",null,null,null,null,null,null,null,null,null,"",null,null," "]
[null,null,"  ",null," ",null,null,null,null,null,null,null,null,null,"",null,null," "]
[null,null,"  ",null," ",null,null,null,null,null,null,null,null,null,"",null,null," "]
[null,null,"  ",null," ",null,null,null,null,null,null,null,null,null,"",null,null," "]
[null,null,"  ",null," ",null,null,null,null,null,null,null,null,null,"",null,null," "]
[null,null,"  ",null," ",null,null,null,null,null,null,null,null,null,"",null,null," "]
[null,null,"  ",null," ",null,null,null,null,null,null,null,null,null,"",null,null," "]
[null,null,"  ",null," ",null,null,null,null,null,null,null,null,null,"",null,null," "]
[null,null,"  ",null," ",null,null,null,null,null,null,null,null,null,"",null,null," "]
[null,null,"  ",null," ",null,null,null,null,null,null,null,null,null,"",null,null," "]
[null,null,"  ",null," ",null,null,null,null,null,null,null,null,null,"",null,null," "]
[null,null,{"$f":"IF(B576=\"\",\"\"&L576&\" \"&M576&\" \"&N576,IF(B576>0,\"t.a.v. \"&L576&\" \"&M576&\" \"&N576))","v":"  "},null," ",null,null,null,null,null,null,null,null,null,"",null,null," "]
[null,null,"  ",null,{"$f":"CONCATENATE(P577&\" \"&Q577)","v":" "},null,null,null,null,null,null,null,null,null,{"$f":"IF(L577=\"De heer\",\"heer \",IF(L577=\"Mevrouw\",\"mevrouw \",\"\"))","v":""},null,null,{"$f":"CONCATENATE(M577&\" \"&N577)","v":" "}]
[null,null,"  ",null," ",null,null,null,null,null,null,null,null,null,"",null,null," "]
[null,null,"  ",null," ",null,null,null,null,null,null,null,null,null,"",null,null," "]
[null,null,"  ",null," ",null,null,null,null,null,null,null,null,null,"",null,null," "]
[null,null,"  ",null," ",null,null,null,null,null,null,null,null,null,"",null,null," "]
[null,null,"  ",null," ",null,null,null,null,null,null,null,null,null,"",null,null," "]
[null,null,"  ",null," ",null,null,null,null,null,null,null,null,null,"",null,null," "]
[null,null,"  ",null," ",null,null,null,null,null,null,null,null,null,"",null,null," "]
[null,null,"  ",null," ",null,null,null,null,null,null,null,null,null,"",null,null," "]
[null,null,"  ",null," ",null,null,null,null,null,null,null,null,null,"",null,null," "]
[null,null,"  ",null," ",null,null,null,null,null,null,null,null,null,"",null,null," "]
[null,null,"  ",null," ",null,null,null,null,null,null,null,null,null,"",null,null," "]
[null,null,"  ",null," ",null,null,null,null,null,null,null,null,null,"",null,null," "]
[null,null,"  ",null," ",null,null,null,null,null,null,null,null,null,"",null,null," "]
[null,null,"  ",null," ",null,null,null,null,null,null,null,null,null,"",null,null," "]
[null,null,"  ",null," ",null,null,null,null,null,null,null,null,null,"",null,null," "]
[null,null,"  ",null," ",null,null,null,null,null,null,null,null,null,"",null,null," "]
[null,null,"  ",null," ",null,null,null,null,null,null,null,null,null,"",null,null," "]
[null,null,"  ",null," ",null,null,null,null,null,null,null,null,null,"",null,null," "]
[null,null,"  ",null," ",null,null,null,null,null,null,null,null,null,"",null,null," "]
[null,null,"  ",null," ",null,null,null,null,null,null,null,null,null,"",null,null," "]
[null,null,"  ",null," ",null,null,null,null,null,null,null,null,null,"",null,null," "]
[null,null,"  ",null," ",null,null,null,null,null,null,null,null,null,"",null,null," "]
[null,null,"  ",null," ",null,null,null,null,null,null,null,null,null,"",null,null," "]
[null,null,"  ",null," ",null,null,null,null,null,null,null,null,null,"",null,null," "]
[null,null,"  ",null," ",null,null,null,null,null,null,null,null,null,"",null,null," "]
[null,null,"  ",null," ",null,null,null,null,null,null,null,null,null,"",null,null," "]
[null,null,"  ",null," ",null,null,null,null,null,null,null,null,null,"",null,null," "]
[null,null,"  ",null," ",null,null,null,null,null,null,null,null,null,"",null,null," "]
[null,null,"  ",null," ",null,null,null,null,null,null,null,null,null,"",null,null," "]
[null,null,"  ",null," ",null,null,null,null,null,null,null,null,null,"",null,null," "]
[null,null,"  ",null," ",null,null,null,null,null,null,null,null,null,"",null,null," "]
[null,null,"  ",null," ",null,null,null,null,null,null,null,null,null,"",null,null," "]
[null,null,"  ",null," ",null,null,null,null,null,null,null,null,null,"",null,null," "]
[null,null,"  ",null," ",null,null,null,null,null,null,null,null,null,"",null,null," "]
[null,null,"  ",null," ",null,null,null,null,null,null,null,null,null,"",null,null," "]
[null,null,"  ",null," ",null,null,null,null,null,null,null,null,null,"",null,null," "]
[null,null,"  ",null," ",null,null,null,null,null,null,null,null,null,"",null,null," "]
[null,null,"  ",null," ",null,null,null,null,null,null,null,null,null,"",null,null," "]
[null,null,"  ",null," ",null,null,null,null,null,null,null,null,null,"",null,null," "]
[null,null,"  ",null," ",null,null,null,null,null,null,null,null,null,"",null,null," "]
[null,null,"  ",null," ",null,null,null,null,null,null,null,null,null,"",null,null," "]
[null,null,"  ",null," ",null,null,null,null,null,null,null,null,null,"",null,null," "]
[null,null,"  ",null," ",null,null,null,null,null,null,null,null,null,"",null,null," "]
[null,null,"  ",null," ",null,null,null,null,null,null,null,null,null,"",null,null," "]
[null,null,"  ",null," ",null,null,null,null,null,null,null,null,null,"",null,null," "]
[null,null,"  ",null," ",null,null,null,null,null,null,null,null,null,"",null,null," "]
[null,null,"  ",null," ",null,null,null,null,null,null,null,null,null,"",null,null," "]
[null,null,"  ",null," ",null,null,null,null,null,null,null,null,null,"",null,null," "]
[null,null,"  ",null," ",null,null,null,null,null,null,null,null,null,"",null,null," "]
[null,null,"  ",null," ",null,null,null,null,null,null,null,null,null,"",null,null," "]
[null,null,"  ",null," ",null,null,null,null,null,null,null,null,null,"",null,null," "]
[null,null,"  ",null," ",null,null,null,null,null,null,null,null,null,"",null,null," "]
[null,null,"  ",null," ",null,null,null,null,null,null,null,null,null,"",null,null," "]
[null,null,"  ",null," ",null,null,null,null,null,null,null,null,null,"",null,null," "]
[null,null,"  ",null," ",null,null,null,null,null,null,null,null,null,"",null,null," "]
[null,null,"  ",null," ",null,null,null,null,null,null,null,null,null,"",null,null," "]
[null,null,"  ",null," ",null,null,null,null,null,null,null,null,null,"",null,null," "]
[null,null,"  ",null," ",null,null,null,null,null,null,null,null,null,"",null,null," "]
[null,null,"  ",null," ",null,null,null,null,null,null,null,null,null,"",null,null," "]
[null,null,"  ",null," ",null,null,null,null,null,null,null,null,null,"",null,null," "]
[null,null,"  ",null," ",null,null,null,null,null,null,null,null,null,"",null,null," "]
[null,null,"  ",null," ",null,null,null,null,null,null,null,null,null,"",null,null," "]
[null,null,{"$f":"IF(B640=\"\",\"\"&L640&\" \"&M640&\" \"&N640,IF(B640>0,\"t.a.v. \"&L640&\" \"&M640&\" \"&N640))","v":"  "},null," ",null,null,null,null,null,null,null,null,null,"",null,null," "]
[null,null,"  ",null,{"$f":"CONCATENATE(P641&\" \"&Q641)","v":" "},null,null,null,null,null,null,null,null,null,{"$f":"IF(L641=\"De heer\",\"heer \",IF(L641=\"Mevrouw\",\"mevrouw \",\"\"))","v":""},null,null,{"$f":"CONCATENATE(M641&\" \"&N641)","v":" "}]
[null,null,"  ",null," ",null,null,null,null,null,null,null,null,null,"",null,null," "]
[null,null,"  ",null," ",null,null,null,null,null,null,null,null,null,"",null,null," "]
[null,null,"  ",null," ",null,null,null,null,null,null,null,null,null,"",null,null," "]
[null,null,"  ",null," ",null,null,null,null,null,null,null,null,null,"",null,null," "]
[null,null,"  ",null," ",null,null,null,null,null,null,null,null,null,"",null,null," "]
[null,null,"  ",null," ",null,null,null,null,null,null,null,null,null,"",null,null," "]
[null,null,"  ",null," ",null,null,null,null,null,null,null,null,null,"",null,null," "]
[null,null,"  ",null," ",null,null,null,null,null,null,null,null,null,"",null,null," "]
[null,null,"  ",null," ",null,null,null,null,null,null,null,null,null,"",null,null," "]
[null,null,"  ",null," ",null,null,null,null,null,null,null,null,null,"",null,null," "]
[null,null,"  ",null," ",null,null,null,null,null,null,null,null,null,"",null,null," "]
[null,null,"  ",null," ",null,null,null,null,null,null,null,null,null,"",null,null," "]
[null,null,"  ",null," ",null,null,null,null,null,null,null,null,null,"",null,null," "]
[null,null,"  ",null," ",null,null,null,null,null,null,null,null,null,"",null,null," "]
[null,null,"  ",null," ",null,null,null,null,null,null,null,null,null,"",null,null," "]
[null,null,"  ",null," ",null,null,null,null,null,null,null,null,null,"",null,null," "]
[null,null,"  ",null," ",null,null,null,null,null,null,null,null,null,"",null,null," "]
[null,null,"  ",null," ",null,null,null,null,null,null,null,null,null,"",null,null," "]
[null,null,"  ",null," ",null,null,null,null,null,null,null,null,null,"",null,null," "]
[null,null,"  ",null," ",null,null,null,null,null,null,null,null,null,"",null,null," "]
[null,null,"  ",null," ",null,null,null,null,null,null,null,null,null,"",null,null," "]
[null,null,"  ",null," ",null,null,null,null,null,null,null,null,null,"",null,null," "]
[null,null,"  ",null," ",null,null,null,null,null,null,null,null,null,"",null,null," "]
[null,null,"  ",null," ",null,null,null,null,null,null,null,null,null,"",null,null," "]
[null,null,"  ",null," ",null,null,null,null,null,null,null,null,null,"",null,null," "]
[null,null,"  ",null," ",null,null,null,null,null,null,null,null,null,"",null,null," "]
[null,null,"  ",null," ",null,null,null,null,null,null,null,null,null,"",null,null," "]
[null,null,"  ",null," ",null,null,null,null,null,null,null,null,null,"",null,null," "]
[null,null,"  ",null," ",null,null,null,null,null,null,null,null,null,"",null,null," "]
[null,null,"  ",null," ",null,null,null,null,null,null,null,null,null,"",null,null," "]
[null,null,"  ",null," ",null,null,null,null,null,null,null,null,null,"",null,null," "]
[null,null,"  ",null," ",null,null,null,null,null,null,null,null,null,"",null,null," "]
[null,null,"  ",null," ",null,null,null,null,null,null,null,null,null,"",null,null," "]
[null,null,"  ",null," ",null,null,null,null,null,null,null,null,null,"",null,null," "]
[null,null,"  ",null," ",null,null,null,null,null,null,null,null,null,"",null,null," "]
[null,null,"  ",null," ",null,null,null,null,null,null,null,null,null,"",null,null," "]
[null,null,"  ",null," ",null,null,null,null,null,null,null,null,null,"",null,null," "]
[null,null,"  ",null," ",null,null,null,null,null,null,null,null,null,"",null,null," "]
[null,null,"  ",null," ",null,null,null,null,null,null,null,null,null,"",null,null," "]
[null,null,"  ",null," ",null,null,null,null,null,null,null,null,null,"",null,null," "]
[null,null,"  ",null," ",null,null,null,null,null,null,null,null,null,"",null,null," "]
[null,null,"  ",null," ",null,null,null,null,null,null,null,null,null,"",null,null," "]
[null,null,"  ",null," ",null,null,null,null,null,null,null,null,null,"",null,null," "]
[null,null,"  ",null," ",null,null,null,null,null,null,null,null,null,"",null,null," "]
[null,null,"  ",null," ",null,null,null,null,null,null,null,null,null,"",null,null," "]
[null,null,"  ",null," ",null,null,null,null,null,null,null,null,null,"",null,null," "]
[null,null,"  ",null," ",null,null,null,null,null,null,null,null,null,"",null,null," "]
[null,null,"  ",null," ",null,null,null,null,null,null,null,null,null,"",null,null," "]
[null,null,"  ",null," ",null,null,null,null,null,null,null,null,null,"",null,null," "]
[null,null,"  ",null," ",null,null,null,null,null,null,null,null,null,"",null,null," "]
[null,null,"  ",null," ",null,null,null,null,null,null,null,null,null,"",null,null," "]
[null,null,"  ",null," ",null,null,null,null,null,null,null,null,null,"",null,null," "]
[null,null,"  ",null," ",null,null,null,null,null,null,null,null,null,"",null,null," "]
[null,null,"  ",null," ",null,null,null,null,null,null,null,null,null,"",null,null," "]
[null,null,"  ",null," ",null,null,null,null,null,null,null,null,null,"",null,null," "]
[null,null,"  ",null," ",null,null,null,null,null,null,null,null,null,"",null,null," "]
[null,null,"  ",null," ",null,null,null,null,null,null,null,null,null,"",null,null," "]
[null,null,"  ",null," ",null,null,null,null,null,null,null,null,null,"",null,null," "]
[null,null,"  ",null," ",null,null,null,null,null,null,null,null,null,"",null,null," "]
[null,null,"  ",null," ",null,null,null,null,null,null,null,null,null,"",null,null," "]
[null,null,"  ",null," ",null,null,null,null,null,null,null,null,null,"",null,null," "]
[null,null,"  ",null," ",null,null,null,null,null,null,null,null,null,"",null,null," "]
[null,null,{"$f":"IF(B704=\"\",\"\"&L704&\" \"&M704&\" \"&N704,IF(B704>0,\"t.a.v. \"&L704&\" \"&M704&\" \"&N704))","v":"  "},null," ",null,null,null,null,null,null,null,null,null,"",null,null," "]
[null,null,"  ",null,{"$f":"CONCATENATE(P705&\" \"&Q705)","v":" "},null,null,null,null,null,null,null,null,null,{"$f":"IF(L705=\"De heer\",\"heer \",IF(L705=\"Mevrouw\",\"mevrouw \",\"\"))","v":""},null,null,{"$f":"CONCATENATE(M705&\" \"&N705)","v":" "}]
[null,null,"  ",null," ",null,null,null,null,null,null,null,null,null,"",null,null," "]
[null,null,"  ",null," ",null,null,null,null,null,null,null,null,null,"",null,null," "]
[null,null,"  ",null," ",null,null,null,null,null,null,null,null,null,"",null,null," "]
[null,null,"  ",null," ",null,null,null,null,null,null,null,null,null,"",null,null," "]
[null,null,"  ",null," ",null,null,null,null,null,null,null,null,null,"",null,null," "]
[null,null,"  ",null," ",null,null,null,null,null,null,null,null,null,"",null,null," "]
[null,null,"  ",null," ",null,null,null,null,null,null,null,null,null,"",null,null," "]
[null,null,"  ",null," ",null,null,null,null,null,null,null,null,null,"",null,null," "]
[null,null,"  ",null," ",null,null,null,null,null,null,null,null,null,"",null,null," "]
[null,null,"  ",null," ",null,null,null,null,null,null,null,null,null,"",null,null," "]
[null,null,"  ",null," ",null,null,null,null,null,null,null,null,null,"",null,null," "]
[null,null,"  ",null," ",null,null,null,null,null,null,null,null,null,"",null,null," "]
[null,null,"  ",null," ",null,null,null,null,null,null,null,null,null,"",null,null," "]
[null,null,"  ",null," ",null,null,null,null,null,null,null,null,null,"",null,null," "]
[null,null,"  ",null," ",null,null,null,null,null,null,null,null,null,"",null,null," "]
[null,null,"  ",null," ",null,null,null,null,null,null,null,null,null,"",null,null," "]
[null,null,"  ",null," ",null,null,null,null,null,null,null,null,null,"",null,null," "]
[null,null,"  ",null," ",null,null,null,null,null,null,null,null,null,"",null,null," "]
[null,null,"  ",null," ",null,null,null,null,null,null,null,null,null,"",null,null," "]
[null,null,"  ",null," ",null,null,null,null,null,null,null,null,null,"",null,null," "]
[null,null,"  ",null," ",null,null,null,null,null,null,null,null,null,"",null,null," "]
[null,null,"  ",null," ",null,null,null,null,null,null,null,null,null,"",null,null," "]
[null,null,"  ",null," ",null,null,null,null,null,null,null,null,null,"",null,null," "]
[null,null,"  ",null," ",null,null,null,null,null,null,null,null,null,"",null,null," "]
[null,null,"  ",null," ",null,null,null,null,null,null,null,null,null,"",null,null," "]
[null,null,"  ",null," ",null,null,null,null,null,null,null,null,null,"",null,null," "]
[null,null,"  ",null," ",null,null,null,null,null,null,null,null,null,"",null,null," "]
[null,null,"  ",null," ",null,null,null,null,null,null,null,null,null,"",null,null," "]
[null,null,"  ",null," ",null,null,null,null,null,null,null,null,null,"",null,null," "]
[null,null,"  ",null," ",null,null,null,null,null,null,null,null,null,"",null,null," "]
[null,null,"  ",null," ",null,null,null,null,null,null,null,null,null,"",null,null," "]
[null,null,"  ",null," ",null,null,null,null,null,null,null,null,null,"",null,null," "]
[null,null,"  ",null," ",null,null,null,null,null,null,null,null,null,"",null,null," "]
[null,null,"  ",null," ",null,null,null,null,null,null,null,null,null,"",null,null," "]
[null,null,"  ",null," ",null,null,null,null,null,null,null,null,null,"",null,null," "]
[null,null,"  ",null," ",null,null,null,null,null,null,null,null,null,"",null,null," "]
[null,null,"  ",null," ",null,null,null,null,null,null,null,null,null,"",null,null," "]
[null,null,"  ",null," ",null,null,null,null,null,null,null,null,null,"",null,null," "]
[null,null,"  ",null," ",null,null,null,null,null,null,null,null,null,"",null,null," "]
[null,null,"  ",null," ",null,null,null,null,null,null,null,null,null,"",null,null," "]
[null,null,"  ",null," ",null,null,null,null,null,null,null,null,null,"",null,null," "]
[null,null,"  ",null," ",null,null,null,null,null,null,null,null,null,"",null,null," "]
[null,null,"  ",null," ",null,null,null,null,null,null,null,null,null,"",null,null," "]
[null,null,"  ",null," ",null,null,null,null,null,null,null,null,null,"",null,null," "]
[null,null,"  ",null," ",null,null,null,null,null,null,null,null,null,"",null,null," "]
[null,null,"  ",null," ",null,null,null,null,null,null,null,null,null,"",null,null," "]
[null,null,"  ",null," ",null,null,null,null,null,null,null,null,null,"",null,null," "]
[null,null,"  ",null," ",null,null,null,null,null,null,null,null,null,"",null,null," "]
[null,null,"  ",null," ",null,null,null,null,null,null,null,null,null,"",null,null," "]
[null,null,"  ",null," ",null,null,null,null,null,null,null,null,null,"",null,null," "]
[null,null,"  ",null," ",null,null,null,null,null,null,null,null,null,"",null,null," "]
[null,null,"  ",null," ",null,null,null,null,null,null,null,null,null,"",null,null," "]
[null,null,"  ",null," ",null,null,null,null,null,null,null,null,null,"",null,null," "]
[null,null,"  ",null," ",null,null,null,null,null,null,null,null,null,"",null,null," "]
[null,null,"  ",null," ",null,null,null,null,null,null,null,null,null,"",null,null," "]
[null,null,"  ",null," ",null,null,null,null,null,null,null,null,null,"",null,null," "]
[null,null,"  ",null," ",null,null,null,null,null,null,null,null,null,"",null,null," "]
[null,null,"  ",null," ",null,null,null,null,null,null,null,null,null,"",null,null," "]
[null,null,"  ",null," ",null,null,null,null,null,null,null,null,null,"",null,null," "]
[null,null,"  ",null," ",null,null,null,null,null,null,null,null,null,"",null,null," "]
[null,null,"  ",null," ",null,null,null,null,null,null,null,null,null,"",null,null," "]
[null,null,"  ",null," ",null,null,null,null,null,null,null,null,null,"",null,null," "]
[null,null,{"$f":"IF(B768=\"\",\"\"&L768&\" \"&M768&\" \"&N768,IF(B768>0,\"t.a.v. \"&L768&\" \"&M768&\" \"&N768))","v":"  "},null," ",null,null,null,null,null,null,null,null,null,"",null,null," "]
[null,null,"  ",null,{"$f":"CONCATENATE(P769&\" \"&Q769)","v":" "},null,null,null,null,null,null,null,null,null,{"$f":"IF(L769=\"De heer\",\"heer \",IF(L769=\"Mevrouw\",\"mevrouw \",\"\"))","v":""},null,null,{"$f":"CONCATENATE(M769&\" \"&N769)","v":" "}]
[null,null,"  ",null," ",null,null,null,null,null,null,null,null,null,"",null,null," "]
[null,null,"  ",null," ",null,null,null,null,null,null,null,null,null,"",null,null," "]
[null,null,"  ",null," ",null,null,null,null,null,null,null,null,null,"",null,null," "]
[null,null,"  ",null," ",null,null,null,null,null,null,null,null,null,"",null,null," "]
[null,null,"  ",null," ",null,null,null,null,null,null,null,null,null,"",null,null," "]
[null,null,"  ",null," ",null,null,null,null,null,null,null,null,null,"",null,null," "]
[null,null,"  ",null," ",null,null,null,null,null,null,null,null,null,"",null,null," "]
[null,null,"  ",null," ",null,null,null,null,null,null,null,null,null,"",null,null," "]
[null,null,"  ",null," ",null,null,null,null,null,null,null,null,null,"",null,null," "]
[null,null,"  ",null," ",null,null,null,null,null,null,null,null,null,"",null,null," "]
[null,null,"  ",null," ",null,null,null,null,null,null,null,null,null,"",null,null," "]
[null,null,"  ",null," ",null,null,null,null,null,null,null,null,null,"",null,null," "]
[null,null,"  ",null," ",null,null,null,null,null,null,null,null,null,"",null,null," "]
[null,null,"  ",null," ",null,null,null,null,null,null,null,null,null,"",null,null," "]
[null,null,"  ",null," ",null,null,null,null,null,null,null,null,null,"",null,null," "]
[null,null,"  ",null," ",null,null,null,null,null,null,null,null,null,"",null,null," "]
[null,null,"  ",null," ",null,null,null,null,null,null,null,null,null,"",null,null," "]
[null,null,"  ",null," ",null,null,null,null,null,null,null,null,null,"",null,null," "]
[null,null,"  ",null," ",null,null,null,null,null,null,null,null,null,"",null,null," "]
[null,null,"  ",null," ",null,null,null,null,null,null,null,null,null,"",null,null," "]
[null,null,"  ",null," ",null,null,null,null,null,null,null,null,null,"",null,null," "]
[null,null,"  ",null," ",null,null,null,null,null,null,null,null,null,"",null,null," "]
[null,null,"  ",null," ",null,null,null,null,null,null,null,null,null,"",null,null," "]
[null,null,"  ",null," ",null,null,null,null,null,null,null,null,null,"",null,null," "]
[null,null,"  ",null," ",null,null,null,null,null,null,null,null,null,"",null,null," "]
[null,null,"  ",null," ",null,null,null,null,null,null,null,null,null,"",null,null," "]
[null,null,"  ",null," ",null,null,null,null,null,null,null,null,null,"",null,null," "]
[null,null,"  ",null," ",null,null,null,null,null,null,null,null,null,"",null,null," "]
[null,null,"  ",null," ",null,null,null,null,null,null,null,null,null,"",null,null," "]
[null,null,"  ",null," ",null,null,null,null,null,null,null,null,null,"",null,null," "]
[null,null,"  ",null," ",null,null,null,null,null,null,null,null,null,"",null,null," "]
[null,null,"  ",null," ",null,null,null,null,null,null,null,null,null,"",null,null," "]
[null,null,"  ",null," ",null,null,null,null,null,null,null,null,null,"",null,null," "]
[null,null,"  ",null," ",null,null,null,null,null,null,null,null,null,"",null,null," "]
[null,null,"  ",null," ",null,null,null,null,null,null,null,null,null,"",null,null," "]
[null,null,"  ",null," ",null,null,null,null,null,null,null,null,null,"",null,null," "]
[null,null,"  ",null," ",null,null,null,null,null,null,null,null,null,"",null,null," "]
[null,null,"  ",null," ",null,null,null,null,null,null,null,null,null,"",null,null," "]
[null,null,"  ",null," ",null,null,null,null,null,null,null,null,null,"",null,null," "]
[null,null,"  ",null," ",null,null,null,null,null,null,null,null,null,"",null,null," "]
[null,null,"  ",null," ",null,null,null,null,null,null,null,null,null,"",null,null," "]
[null,null,"  ",null," ",null,null,null,null,null,null,null,null,null,"",null,null," "]
[null,null,"  ",null," ",null,null,null,null,null,null,null,null,null,"",null,null," "]
[null,null,"  ",null," ",null,null,null,null,null,null,null,null,null,"",null,null," "]
[null,null,"  ",null," ",null,null,null,null,null,null,null,null,null,"",null,null," "]
[null,null,"  ",null," ",null,null,null,null,null,null,null,null,null,"",null,null," "]
[null,null,"  ",null," ",null,null,null,null,null,null,null,null,null,"",null,null," "]
[null,null,"  ",null," ",null,null,null,null,null,null,null,null,null,"",null,null," "]
[null,null,"  ",null," ",null,null,null,null,null,null,null,null,null,"",null,null," "]
[null,null,"  ",null," ",null,null,null,null,null,null,null,null,null,"",null,null," "]
[null,null,"  ",null," ",null,null,null,null,null,null,null,null,null,"",null,null," "]
[null,null,"  ",null," ",null,null,null,null,null,null,null,null,null,"",null,null," "]
[null,null,"  ",null," ",null,null,null,null,null,null,null,null,null,"",null,null," "]
[null,null,"  ",null," ",null,null,null,null,null,null,null,null,null,"",null,null," "]
[null,null,"  ",null," ",null,null,null,null,null,null,null,null,null,"",null,null," "]
[null,null,"  ",null," ",null,null,null,null,null,null,null,null,null,"",null,null," "]
[null,null,"  ",null," ",null,null,null,null,null,null,null,null,null,"",null,null," "]
[null,null,"  ",null," ",null,null,null,null,null,null,null,null,null,"",null,null," "]
[null,null,"  ",null," ",null,null,null,null,null,null,null,null,null,"",null,null," "]
[null,null,"  ",null," ",null,null,null,null,null,null,null,null,null,"",null,null," "]
[null,null,"  ",null," ",null,null,null,null,null,null,null,null,null,"",null,null," "]
[null,null,"  ",null," ",null,null,null,null,null,null,null,null,null,"",null,null," "]
[null,null,{"$f":"IF(B832=\"\",\"\"&L832&\" \"&M832&\" \"&N832,IF(B832>0,\"t.a.v. \"&L832&\" \"&M832&\" \"&N832))","v":"  "},null," ",null,null,null,null,null,null,null,null,null,"",null,null," "]
[null,null,"  ",null,{"$f":"CONCATENATE(P833&\" \"&Q833)","v":" "},null,null,null,null,null,null,null,null,null,{"$f":"IF(L833=\"De heer\",\"heer \",IF(L833=\"Mevrouw\",\"mevrouw \",\"\"))","v":""},null,null,{"$f":"CONCATENATE(M833&\" \"&N833)","v":" "}]
[null,null,"  ",null," ",null,null,null,null,null,null,null,null,null,"",null,null," "]
[null,null,"  ",null," ",null,null,null,null,null,null,null,null,null,"",null,null," "]
[null,null,"  ",null," ",null,null,null,null,null,null,null,null,null,"",null,null," "]
[null,null,"  ",null," ",null,null,null,null,null,null,null,null,null,"",null,null," "]
[null,null,"  ",null," ",null,null,null,null,null,null,null,null,null,"",null,null," "]
[null,null,"  ",null," ",null,null,null,null,null,null,null,null,null,"",null,null," "]
[null,null,"  ",null," ",null,null,null,null,null,null,null,null,null,"",null,null," "]
[null,null,"  ",null," ",null,null,null,null,null,null,null,null,null,"",null,null," "]
[null,null,"  ",null," ",null,null,null,null,null,null,null,null,null,"",null,null," "]
[null,null,"  ",null," ",null,null,null,null,null,null,null,null,null,"",null,null," "]
[null,null,"  ",null," ",null,null,null,null,null,null,null,null,null,"",null,null," "]
[null,null,"  ",null," ",null,null,null,null,null,null,null,null,null,"",null,null," "]
[null,null,"  ",null," ",null,null,null,null,null,null,null,null,null,"",null,null," "]
[null,null,"  ",null," ",null,null,null,null,null,null,null,null,null,"",null,null," "]
[null,null,"  ",null," ",null,null,null,null,null,null,null,null,null,"",null,null," "]
[null,null,"  ",null," ",null,null,null,null,null,null,null,null,null,"",null,null," "]
[null,null,"  ",null," ",null,null,null,null,null,null,null,null,null,"",null,null," "]
[null,null,"  ",null," ",null,null,null,null,null,null,null,null,null,"",null,null," "]
[null,null,"  ",null," ",null,null,null,null,null,null,null,null,null,"",null,null," "]
[null,null,"  ",null," ",null,null,null,null,null,null,null,null,null,"",null,null," "]
[null,null,"  ",null," ",null,null,null,null,null,null,null,null,null,"",null,null," "]
[null,null,"  ",null," ",null,null,null,null,null,null,null,null,null,"",null,null," "]
[null,null,"  ",null," ",null,null,null,null,null,null,null,null,null,"",null,null," "]
[null,null,"  ",null," ",null,null,null,null,null,null,null,null,null,"",null,null," "]
[null,null,"  ",null," ",null,null,null,null,null,null,null,null,null,"",null,null," "]
[null,null,"  ",null," ",null,null,null,null,null,null,null,null,null,"",null,null," "]
[null,null,"  ",null," ",null,null,null,null,null,null,null,null,null,"",null,null," "]
[null,null,"  ",null," ",null,null,null,null,null,null,null,null,null,"",null,null," "]
[null,null,"  ",null," ",null,null,null,null,null,null,null,null,null,"",null,null," "]
[null,null,"  ",null," ",null,null,null,null,null,null,null,null,null,"",null,null," "]
[null,null,"  ",null," ",null,null,null,null,null,null,null,null,null,"",null,null," "]
[null,null,"  ",null," ",null,null,null,null,null,null,null,null,null,"",null,null," "]
[null,null,"  ",null," ",null,null,null,null,null,null,null,null,null,"",null,null," "]
[null,null,"  ",null," ",null,null,null,null,null,null,null,null,null,"",null,null," "]
[null,null,"  ",null," ",null,null,null,null,null,null,null,null,null,"",null,null," "]
[null,null,"  ",null," ",null,null,null,null,null,null,null,null,null,"",null,null," "]
[null,null,"  ",null," ",null,null,null,null,null,null,null,null,null,"",null,null," "]
[null,null,"  ",null," ",null,null,null,null,null,null,null,null,null,"",null,null," "]
[null,null,"  ",null," ",null,null,null,null,null,null,null,null,null,"",null,null," "]
[null,null,"  ",null," ",null,null,null,null,null,null,null,null,null,"",null,null," "]
[null,null,"  ",null," ",null,null,null,null,null,null,null,null,null,"",null,null," "]
[null,null,"  ",null," ",null,null,null,null,null,null,null,null,null,"",null,null," "]
[null,null,"  ",null," ",null,null,null,null,null,null,null,null,null,"",null,null," "]
[null,null,"  ",null," ",null,null,null,null,null,null,null,null,null,"",null,null," "]
[null,null,"  ",null," ",null,null,null,null,null,null,null,null,null,"",null,null," "]
[null,null,"  ",null," ",null,null,null,null,null,null,null,null,null,"",null,null," "]
[null,null,"  ",null," ",null,null,null,null,null,null,null,null,null,"",null,null," "]
[null,null,"  ",null," ",null,null,null,null,null,null,null,null,null,"",null,null," "]
[null,null,"  ",null," ",null,null,null,null,null,null,null,null,null,"",null,null," "]
[null,null,"  ",null," ",null,null,null,null,null,null,null,null,null,"",null,null," "]
[null,null,"  ",null," ",null,null,null,null,null,null,null,null,null,"",null,null," "]
[null,null,"  ",null," ",null,null,null,null,null,null,null,null,null,"",null,null," "]
[null,null,"  ",null," ",null,null,null,null,null,null,null,null,null,"",null,null," "]
[null,null,"  ",null," ",null,null,null,null,null,null,null,null,null,"",null,null," "]
[null,null,"  ",null," ",null,null,null,null,null,null,null,null,null,"",null,null," "]
[null,null,"  ",null," ",null,null,null,null,null,null,null,null,null,"",null,null," "]
[null,null,"  ",null," ",null,null,null,null,null,null,null,null,null,"",null,null," "]
[null,null,"  ",null," ",null,null,null,null,null,null,null,null,null,"",null,null," "]
[null,null,"  ",null," ",null,null,null,null,null,null,null,null,null,"",null,null," "]
[null,null,"  ",null," ",null,null,null,null,null,null,null,null,null,"",null,null," "]
[null,null,"  ",null," ",null,null,null,null,null,null,null,null,null,"",null,null," "]
[null,null,"  ",null," ",null,null,null,null,null,null,null,null,null,"",null,null," "]
[null,null,{"$f":"IF(B896=\"\",\"\"&L896&\" \"&M896&\" \"&N896,IF(B896>0,\"t.a.v. \"&L896&\" \"&M896&\" \"&N896))","v":"  "},null," ",null,null,null,null,null,null,null,null,null,"",null,null," "]
[null,null,"  ",null,{"$f":"CONCATENATE(P897&\" \"&Q897)","v":" "},null,null,null,null,null,null,null,null,null,{"$f":"IF(L897=\"De heer\",\"heer \",IF(L897=\"Mevrouw\",\"mevrouw \",\"\"))","v":""},null,null,{"$f":"CONCATENATE(M897&\" \"&N897)","v":" "}]
[null,null,"  ",null," ",null,null,null,null,null,null,null,null,null,"",null,null," "]
[null,null,"  ",null," ",null,null,null,null,null,null,null,null,null,"",null,null," "]
[null,null,"  ",null," ",null,null,null,null,null,null,null,null,null,"",null,null," "]
[null,null,"  ",null," ",null,null,null,null,null,null,null,null,null,"",null,null," "]
[null,null,"  ",null," ",null,null,null,null,null,null,null,null,null,"",null,null," "]
[null,null,"  ",null," ",null,null,null,null,null,null,null,null,null,"",null,null," "]
[null,null,"  ",null," ",null,null,null,null,null,null,null,null,null,"",null,null," "]
[null,null,"  ",null," ",null,null,null,null,null,null,null,null,null,"",null,null," "]
[null,null,"  ",null," ",null,null,null,null,null,null,null,null,null,"",null,null," "]
[null,null,"  ",null," ",null,null,null,null,null,null,null,null,null,"",null,null," "]
[null,null,"  ",null," ",null,null,null,null,null,null,null,null,null,"",null,null," "]
[null,null,"  ",null," ",null,null,null,null,null,null,null,null,null,"",null,null," "]
[null,null,"  ",null," ",null,null,null,null,null,null,null,null,null,"",null,null," "]
[null,null,"  ",null," ",null,null,null,null,null,null,null,null,null,"",null,null," "]
[null,null,"  ",null," ",null,null,null,null,null,null,null,null,null,"",null,null," "]
[null,null,"  ",null," ",null,null,null,null,null,null,null,null,null,"",null,null," "]
[null,null,"  ",null," ",null,null,null,null,null,null,null,null,null,"",null,null," "]
[null,null,"  ",null," ",null,null,null,null,null,null,null,null,null,"",null,null," "]
[null,null,"  ",null," ",null,null,null,null,null,null,null,null,null,"",null,null," "]
[null,null,"  ",null," ",null,null,null,null,null,null,null,null,null,"",null,null," "]
[null,null,"  ",null," ",null,null,null,null,null,null,null,null,null,"",null,null," "]
[null,null,"  ",null," ",null,null,null,null,null,null,null,null,null,"",null,null," "]
[null,null,"  ",null," ",null,null,null,null,null,null,null,null,null,"",null,null," "]
[null,null,"  ",null," ",null,null,null,null,null,null,null,null,null,"",null,null," "]
[null,null,"  ",null," ",null,null,null,null,null,null,null,null,null,"",null,null," "]
[null,null,"  ",null," ",null,null,null,null,null,null,null,null,null,"",null,null," "]
[null,null,"  ",null," ",null,null,null,null,null,null,null,null,null,"",null,null," "]
[null,null,"  ",null," ",null,null,null,null,null,null,null,null,null,"",null,null," "]
[null,null,"  ",null," ",null,null,null,null,null,null,null,null,null,"",null,null," "]
[null,null,"  ",null," ",null,null,null,null,null,null,null,null,null,"",null,null," "]
[null,null,"  ",null," ",null,null,null,null,null,null,null,null,null,"",null,null," "]
[null,null,"  ",null," ",null,null,null,null,null,null,null,null,null,"",null,null," "]
[null,null,"  ",null," ",null,null,null,null,null,null,null,null,null,"",null,null," "]
[null,null,"  ",null," ",null,null,null,null,null,null,null,null,null,"",null,null," "]
[null,null,"  ",null," ",null,null,null,null,null,null,null,null,null,"",null,null," "]
[null,null,"  ",null," ",null,null,null,null,null,null,null,null,null,"",null,null," "]
[null,null,"  ",null," ",null,null,null,null,null,null,null,null,null,"",null,null," "]
[null,null,"  ",null," ",null,null,null,null,null,null,null,null,null,"",null,null," "]
[null,null,"  ",null," ",null,null,null,null,null,null,null,null,null,"",null,null," "]
[null,null,"  ",null," ",null,null,null,null,null,null,null,null,null,"",null,null," "]
[null,null,"  ",null," ",null,null,null,null,null,null,null,null,null,"",null,null," "]
[null,null,"  ",null," ",null,null,null,null,null,null,null,null,null,"",null,null," "]
[null,null,"  ",null," ",null,null,null,null,null,null,null,null,null,"",null,null," "]
[null,null,"  ",null," ",null,null,null,null,null,null,null,null,null,"",null,null," "]
[null,null,"  ",null," ",null,null,null,null,null,null,null,null,null,"",null,null," "]
[null,null,"  ",null," ",null,null,null,null,null,null,null,null,null,"",null,null," "]
[null,null,"  ",null," ",null,null,null,null,null,null,null,null,null,"",null,null," "]
[null,null,"  ",null," ",null,null,null,null,null,null,null,null,null,"",null,null," "]
[null,null,"  ",null," ",null,null,null,null,null,null,null,null,null,"",null,null," "]
[null,null,"  ",null," ",null,null,null,null,null,null,null,null,null,"",null,null," "]
[null,null,"  ",null," ",null,null,null,null,null,null,null,null,null,"",null,null," "]
[null,null,"  ",null," ",null,null,null,null,null,null,null,null,null,"",null,null," "]
[null,null,"  ",null," ",null,null,null,null,null,null,null,null,null,"",null,null," "]
[null,null,"  ",null," ",null,null,null,null,null,null,null,null,null,"",null,null," "]
[null,null,"  ",null," ",null,null,null,null,null,null,null,null,null,"",null,null," "]
[null,null,"  ",null," ",null,null,null,null,null,null,null,null,null,"",null,null," "]
[null,null,"  ",null," ",null,null,null,null,null,null,null,null,null,"",null,null," "]
[null,null,"  ",null," ",null,null,null,null,null,null,null,null,null,"",null,null," "]
[null,null,"  ",null," ",null,null,null,null,null,null,null,null,null,"",null,null," "]
[null,null,"  ",null," ",null,null,null,null,null,null,null,null,null,"",null,null," "]
[null,null,"  ",null," ",null,null,null,null,null,null,null,null,null,"",null,null," "]
[null,null,"  ",null," ",null,null,null,null,null,null,null,null,null,"",null,null," "]
[null,null,{"$f":"IF(B960=\"\",\"\"&L960&\" \"&M960&\" \"&N960,IF(B960>0,\"t.a.v. \"&L960&\" \"&M960&\" \"&N960))","v":"  "},null," ",null,null,null,null,null,null,null,null,null,"",null,null," "]
[null,null,"  ",null,{"$f":"CONCATENATE(P961&\" \"&Q961)","v":" "},null,null,null,null,null,null,null,null,null,{"$f":"IF(L961=\"De heer\",\"heer \",IF(L961=\"Mevrouw\",\"mevrouw \",\"\"))","v":""},null,null,{"$f":"CONCATENATE(M961&\" \"&N961)","v":" "}]
[null,null,"  ",null," ",null,null,null,null,null,null,null,null,null,"",null,null," "]
[null,null,"  ",null," ",null,null,null,null,null,null,null,null,null,"",null,null," "]
[null,null,"  ",null," ",null,null,null,null,null,null,null,null,null,"",null,null," "]
[null,null,"  ",null," ",null,null,null,null,null,null,null,null,null,"",null,null," "]
[null,null,"  ",null," ",null,null,null,null,null,null,null,null,null,"",null,null," "]
[null,null,"  ",null," ",null,null,null,null,null,null,null,null,null,"",null,null," "]
[null,null,"  ",null," ",null,null,null,null,null,null,null,null,null,"",null,null," "]
[null,null,"  ",null," ",null,null,null,null,null,null,null,null,null,"",null,null," "]
[null,null,"  ",null," ",null,null,null,null,null,null,null,null,null,"",null,null," "]
[null,null,"  ",null," ",null,null,null,null,null,null,null,null,null,"",null,null," "]
[null,null,"  ",null," ",null,null,null,null,null,null,null,null,null,"",null,null," "]
[null,null,"  ",null," ",null,null,null,null,null,null,null,null,null,"",null,null," "]
[null,null,"  ",null," ",null,null,null,null,null,null,null,null,null,"",null,null," "]
[null,null,"  ",null," ",null,null,null,null,null,null,null,null,null,"",null,null," "]
[null,null,"  ",null," ",null,null,null,null,null,null,null,null,null,"",null,null," "]
[null,null,"  ",null," ",null,null,null,null,null,null,null,null,null,"",null,null," "]
[null,null,"  ",null," ",null,null,null,null,null,null,null,null,null,"",null,null," "]
[null,null,"  ",null," ",null,null,null,null,null,null,null,null,null,"",null,null," "]
[null,null,"  ",null," ",null,null,null,null,null,null,null,null,null,"",null,null," "]
[null,null,"  ",null," ",null,null,null,null,null,null,null,null,null,"",null,null," "]
[null,null,"  ",null," ",null,null,null,null,null,null,null,null,null,"",null,null," "]
[null,null,"  ",null," ",null,null,null,null,null,null,null,null,null,"",null,null," "]
[null,null,"  ",null," ",null,null,null,null,null,null,null,null,null,"",null,null," "]
[null,null,"  ",null," ",null,null,null,null,null,null,null,null,null,"",null,null," "]
[null,null,"  ",null," ",null,null,null,null,null,null,null,null,null,"",null,null," "]
[null,null,"  ",null," ",null,null,null,null,null,null,null,null,null,"",null,null," "]
[null,null,"  ",null," ",null,null,null,null,null,null,null,null,null,"",null,null," "]
[null,null,"  ",null," ",null,null,null,null,null,null,null,null,null,"",null,null," "]
[null,null,"  ",null," ",null,null,null,null,null,null,null,null,null,"",null,null," "]
[null,null,"  ",null," ",null,null,null,null,null,null,null,null,null,"",null,null," "]
[null,null,"  ",null," ",null,null,null,null,null,null,null,null,null,"",null,null," "]
[null,null,"  ",null," ",null,null,null,null,null,null,null,null,null,"",null,null," "]
[null,null,"  ",null," ",null,null,null,null,null,null,null,null,null,"",null,null," "]
[null,null,"  ",null," ",null,null,null,null,null,null,null,null,null,"",null,null," "]
[null,null,"  ",null," ",null,null,null,null,null,null,null,null,null,"",null,null," "]
[null,null,"  ",null," ",null,null,null,null,null,null,null,null,null,"",null,null," "]
[null,null,"  ",null," ",null,null,null,null,null,null,null,null,null,"",null,null," "]

{"sheet":"Artikelen","index":5,"n_rows":5,"n_cols":6,"rows_kept":5,"cut":false,"hidden":true,"merged":[]}
[]
["APPELS","Appels per kg",1,2.99,0.09,"FRUIT"]
["DRUIVEN","Druiven tros pitloos",1,2.2400000000000002,0.09,"FRUIT"]
["BLOEMKOOL","Bloemkool per stuk",1,0.89,0.09,"GROENTE"]
["SPRUITEN","Spruiten per 500gr",1,1.75,0.09,"GROENTE"]