{"text_format":"1","workbook":"xlsx","n_sheets":2,"sheets":["Blad1","School x"],"not_rendered":{"charts":0,"images":0,"macros":1,"external_links":0,"defined_names":3,"comments":0,"pivot_tables":0},"unopened":[],"bounds":{"document_bytes":16777216,"sheet_cells":100000,"rows_first":2000,"rows_last":500,"rows_between":2000,"halvings":0,"cell_chars":16384,"cell_head_chars":4096},"cells_cut":0,"cells_raw":0,"read":"whole","date_system":"1900"}

{"sheet":"Blad1","index":0,"n_rows":10,"n_cols":3,"rows_kept":10,"cut":false,"hidden":false,"merged":[]}
["Omschrijving","school","uitvoeringsdatum"]
["test 1","school x","19/11/2020"]
["test 2","school x"," "]
["test ","school x","20/11/2021"]
["test","school x"]
["test 3","school x"]
["test 4","school x"]
["test 5 ","school x"]
["test 6","school x","02/12/2020"]
["test 7","school x"]

{"sheet":"School x","index":1,"n_rows":17,"n_cols":3,"rows_kept":17,"cut":false,"hidden":false,"merged":[]}
["Tekst","school","datum"]
[{"$f":"Blad1!A2","v":"test 1"},{"$f":"Blad1!B2","v":"school x"},{"$f":"Blad1!C2","v":"19/11/2020"}]
[{"$f":"Blad1!A3","v":"test 2"},{"$f":"Blad1!B3","v":"school x"},{"$f":"Blad1!C3","v":" "}]
[{"$f":"Blad1!A4","v":"test "},{"$f":"Blad1!B4","v":"school x"},{"$f":"Blad1!C4","v":"20/11/2021"}]
[{"$f":"Blad1!A5","v":"test"},{"$f":"Blad1!B5","v":"school x"},{"$f":"Blad1!C5","v":0}]
[{"$f":"Blad1!A6","v":"test 3"},{"$f":"Blad1!B6","v":"school x"},{"$f":"Blad1!C6","v":0}]
[{"$f":"Blad1!A7","v":"test 4"},{"$f":"Blad1!B7","v":"school x"},{"$f":"Blad1!C7","v":0}]
[{"$f":"Blad1!A8","v":"test 5 "},{"$f":"Blad1!B8","v":"school x"},{"$f":"Blad1!C8","v":0}]
[{"$f":"Blad1!A9","v":"test 6"},{"$f":"Blad1!B9","v":"school x"},{"$f":"Blad1!C9","v":"02/12/2020"}]
[{"$f":"Blad1!A10","v":"test 7"},{"$f":"Blad1!B10","v":"school x"},{"$f":"Blad1!C10","v":0}]
[{"$f":"Blad1!A11","v":0},{"$f":"Blad1!B11","v":0},{"$f":"Blad1!C11","v":0}]
[{"$f":"Blad1!A12","v":0},{"$f":"Blad1!B12","v":0},{"$f":"Blad1!C12","v":0}]
[{"$f":"Blad1!A13","v":0},{"$f":"Blad1!B13","v":0},{"$f":"Blad1!C13","v":0}]
[{"$f":"Blad1!A14","v":0},{"$f":"Blad1!B14","v":0},{"$f":"Blad1!C14","v":0}]
[{"$f":"Blad1!A15","v":0},{"$f":"Blad1!B15","v":0},{"$f":"Blad1!C15","v":0}]
[{"$f":"Blad1!A16","v":0},{"$f":"Blad1!B16","v":0},{"$f":"Blad1!C16","v":0}]
[{"$f":"Blad1!A17","v":0},{"$f":"Blad1!B17","v":0},{"$f":"Blad1!C17","v":0}]