{"text_format":"1","workbook":"xlsx","n_sheets":3,"sheets":["Blad1","Blad2","Blad3"],"not_rendered":{"charts":0,"images":2,"macros":1,"external_links":0,"defined_names":1,"comments":0,"pivot_tables":0},"unopened":[],"bounds":{"document_bytes":16777216,"sheet_cells":100000,"rows_first":2000,"rows_last":500,"rows_between":2000,"halvings":0,"cell_chars":16384,"cell_head_chars":4096},"cells_cut":0,"cells_raw":0,"read":"whole","date_system":"1900"}

{"sheet":"Blad1","index":0,"n_rows":61,"n_cols":13,"rows_kept":61,"cut":false,"hidden":false,"merged":[]}
["naam","aanwezig",null,null,"Reeks 1",null,null,null,"reeks 2",null,null,null,"Reeks 3"]
[1,null,null,"Baan 1",null,null,null,"Baan 1",null,null,null,"Baan 1"]
[2]
[3,null,11,"Baan 2",null,null,null,"Baan 2",null,null,null,"Baan 2"]
[4]
[5,null,null,"Baan 3",null,null,null,"Baan 3",null,null,null,"Baan 3"]
[6]
[7,null,null,"Baan 4",null,null,null,"Baan 4",null,null,null,"Baan 4"]
[8]
[9,null,null,"Baan 5",null,null,null,"Baan 5",null,null,null,"Baan 5"]
[10]
[11,null,null,"Baan 6",null,null,null,"Baan 6",null,null,null,"Baan 6"]
[12]
[13,null,null,"Baan 7",null,null,null,"Baan 7",null,null,null,"Baan 7"]
[14]
[15,null,null,"Baan 8",null,null,null,"Baan 8",null,null,null,"Baan 8"]
[16]
[17,null,null,"Baan 9",null,null,null,"Baan 9",null,null,null,"Baan 9"]
[18]
[19,null,null,"Baan 10",null,null,null,"Baan 10",null,null,null,"Baan 10"]
[20]
[21]
[22]
[23]
[24]
[25]
[26]
[27]
[28]
[29]
[30]
[31]
[32]
[33]
[34]
[35]
[36]
[37]
[38]
[39]
[40]
[41]
[42]
[43]
[44]
[45]
[46]
[47]
[48]
[49]
[50]
[51]
[52]
[53]
[54]
[55]
[56]
[57]
[58]
[59]
[60]

{"sheet":"Blad2","index":1,"n_rows":61,"n_cols":12,"rows_kept":61,"cut":false,"hidden":false,"merged":[]}
["naam","aanwezig",null,null,null,null,3,25,0.89006287836587317,{"$f":"IF(H1<>\"\",RANK(I1,$I$1:$I$61),\"\")","v":2},null,40]
[1,{"$f":"IF(Blad1!B2<>\"\",Blad1!B2,\"\")","v":""},{"$f":"RAND()","v":0.40134443350164617},null,null,null,1,1,0.77123781409232006,{"$f":"IF(H2<>\"\",RANK(I2,$I$1:$I$61),\"\")","v":4}]
[2,{"$f":"IF(Blad1!B3<>\"\",Blad1!B3,\"\")","v":""},{"$f":"RAND()","v":0.8521903610366065},null,null,null,10,59,0.64928147828008009,{"$f":"IF(H3<>\"\",RANK(I3,$I$1:$I$61),\"\")","v":7}]
[3,{"$f":"IF(Blad1!B11<>\"\",Blad1!B11,\"\")","v":""},0.80438301137011647,null,null,null,4,34,0.42942084442953588,{"$f":"IF(H4<>\"\",RANK(I4,$I$1:$I$61),\"\")","v":21}]
[4,{"$f":"IF(Blad1!B15<>\"\",Blad1!B15,\"\")","v":""},0.68503048067937911,null,null,null,7,44,0.39201423477787312,{"$f":"IF(H5<>\"\",RANK(I5,$I$1:$I$61),\"\")","v":23}]
[5,{"$f":"IF(Blad1!B16<>\"\",Blad1!B16,\"\")","v":""},0.18758022976486544,null,null,null,13,63,0.38194858166648726,{"$f":"IF(H6<>\"\",RANK(I6,$I$1:$I$61),\"\")","v":24}]
[6,{"$f":"IF(Blad1!B21<>\"\",Blad1!B21,\"\")","v":""},0.55191972620142837,null,null,null,6,43,0.31110003223054883,{"$f":"IF(H7<>\"\",RANK(I7,$I$1:$I$61),\"\")","v":26}]
[7,{"$f":"IF(Blad1!B22<>\"\",Blad1!B22,\"\")","v":""},7.0135799453009851E-2,null,null,null,8,51,0.2172544375728912,{"$f":"IF(H8<>\"\",RANK(I8,$I$1:$I$61),\"\")","v":33}]
[8,{"$f":"IF(Blad1!B24<>\"\",Blad1!B24,\"\")","v":""},0.99744969503007119,null,null,null,2,2,0.1900188959063227,{"$f":"IF(H9<>\"\",RANK(I9,$I$1:$I$61),\"\")","v":34}]
[9,{"$f":"IF(Blad1!B25<>\"\",Blad1!B25,\"\")","v":""},0.26501558964783967,null,null,null,9,58,0.17279972459698878,{"$f":"IF(H10<>\"\",RANK(I10,$I$1:$I$61),\"\")","v":35}]
[10,{"$f":"IF(Blad1!B26<>\"\",Blad1!B26,\"\")","v":""},0.35450190644418944,null,null,null,12,62,0.13584229303498752,{"$f":"IF(H11<>\"\",RANK(I11,$I$1:$I$61),\"\")","v":37}]
[11,{"$f":"IF(Blad1!B27<>\"\",Blad1!B27,\"\")","v":""},0.79289030556083562,null,null,null,11,60,0.12010836479166065,{"$f":"IF(H12<>\"\",RANK(I12,$I$1:$I$61),\"\")","v":38}]
[12,{"$f":"IF(Blad1!B29<>\"\",Blad1!B29,\"\")","v":""},2.333321640384789E-2,null,null,null,5,35,2.4587761625715743E-2,{"$f":"IF(H13<>\"\",RANK(I13,$I$1:$I$61),\"\")","v":40}]
[13,{"$f":"IF(Blad1!B30<>\"\",Blad1!B30,\"\")","v":""},0.33703899413670868,null,null,null,34,{"$error":"#REF!"},0.58216792959484642,{"$f":"IF(H14<>\"\",RANK(I14,$I$1:$I$61),\"\")","v":{"$error":"#REF!"}}]
[14,{"$f":"IF(Blad1!B35<>\"\",Blad1!B35,\"\")","v":""},0.86745249127212476,null,null,null,35,{"$error":"#REF!"},0.71745392652557649,{"$f":"IF(H15<>\"\",RANK(I15,$I$1:$I$61),\"\")","v":{"$error":"#REF!"}}]
[15,{"$f":"IF(Blad1!B36<>\"\",Blad1!B36,\"\")","v":""},0.83293395505905921,null,null,null,36,{"$error":"#REF!"},0.26243993347303662,{"$f":"IF(H16<>\"\",RANK(I16,$I$1:$I$61),\"\")","v":{"$error":"#REF!"}}]
[16,{"$f":"IF(Blad1!B37<>\"\",Blad1!B37,\"\")","v":""},0.30751861502049271,null,null,null,37,{"$error":"#REF!"},0.6078031063673629,{"$f":"IF(H17<>\"\",RANK(I17,$I$1:$I$61),\"\")","v":{"$error":"#REF!"}}]
[17,{"$f":"IF(Blad1!B41<>\"\",Blad1!B41,\"\")","v":""},0.1651913804746199,null,null,null,38,{"$error":"#REF!"},0.50962862217226412,{"$f":"IF(H18<>\"\",RANK(I18,$I$1:$I$61),\"\")","v":{"$error":"#REF!"}}]
[18,{"$f":"IF(Blad1!B42<>\"\",Blad1!B42,\"\")","v":""},5.1959218286610542E-2,null,null,null,39,{"$error":"#REF!"},0.39531128654575209,{"$f":"IF(H19<>\"\",RANK(I19,$I$1:$I$61),\"\")","v":{"$error":"#REF!"}}]
[19,{"$f":"IF(Blad1!B43<>\"\",Blad1!B43,\"\")","v":""},0.60148003171690212,null,null,null,40,{"$error":"#REF!"},0.65096059338851076,{"$f":"IF(H20<>\"\",RANK(I20,$I$1:$I$61),\"\")","v":{"$error":"#REF!"}}]
[20,{"$f":"IF(Blad1!B44<>\"\",Blad1!B44,\"\")","v":""},0.25257934752396038,null,null,null,41,{"$error":"#REF!"},0.30561950859942844,{"$f":"IF(H21<>\"\",RANK(I21,$I$1:$I$61),\"\")","v":{"$error":"#REF!"}}]
[21,{"$f":"IF(Blad1!B45<>\"\",Blad1!B45,\"\")","v":""},0.66517590238831747,null,null,null,42,{"$error":"#REF!"},0.34707427984260686,{"$f":"IF(H22<>\"\",RANK(I22,$I$1:$I$61),\"\")","v":{"$error":"#REF!"}}]
[22,{"$f":"IF(Blad1!B50<>\"\",Blad1!B50,\"\")","v":""},0.41114924644367956,null,null,null,43,{"$error":"#REF!"},0.25322957574879901,{"$f":"IF(H23<>\"\",RANK(I23,$I$1:$I$61),\"\")","v":{"$error":"#REF!"}}]
[23,{"$f":"IF(Blad1!B51<>\"\",Blad1!B51,\"\")","v":""},0.98496696488299829,null,null,null,44,{"$error":"#REF!"},0.94437408346044671,{"$f":"IF(H24<>\"\",RANK(I24,$I$1:$I$61),\"\")","v":{"$error":"#REF!"}}]
[24,{"$f":"IF(Blad1!B52<>\"\",Blad1!B52,\"\")","v":""},0.79199205716732857,null,null,null,45,{"$error":"#REF!"},0.84646405184178775,{"$f":"IF(H25<>\"\",RANK(I25,$I$1:$I$61),\"\")","v":{"$error":"#REF!"}}]
[25,{"$f":"IF(Blad1!B53<>\"\",Blad1!B53,\"\")","v":""},0.2810272799509026,null,null,null,46,{"$error":"#REF!"},0.28407360051547426,{"$f":"IF(H26<>\"\",RANK(I26,$I$1:$I$61),\"\")","v":{"$error":"#REF!"}}]
[26,{"$f":"IF(Blad1!B54<>\"\",Blad1!B54,\"\")","v":""},0.66129432472091076,null,null,null,47,{"$error":"#REF!"},6.1310074134252268E-2,{"$f":"IF(H27<>\"\",RANK(I27,$I$1:$I$61),\"\")","v":{"$error":"#REF!"}}]
[27,{"$f":"IF(Blad1!B55<>\"\",Blad1!B55,\"\")","v":""},6.4651552392844591E-2,null,null,null,48,{"$error":"#REF!"},0.44766971270796807,{"$f":"IF(H28<>\"\",RANK(I28,$I$1:$I$61),\"\")","v":{"$error":"#REF!"}}]
[28,{"$f":"IF(Blad1!B56<>\"\",Blad1!B56,\"\")","v":""},8.8753995940227703E-2,null,null,null,49,{"$error":"#REF!"},0.64193343030438987,{"$f":"IF(H29<>\"\",RANK(I29,$I$1:$I$61),\"\")","v":{"$error":"#REF!"}}]
[29,{"$f":"IF(Blad1!B57<>\"\",Blad1!B57,\"\")","v":""},0.92549420341972355,null,null,null,50,{"$error":"#REF!"},0.51201673751849575,{"$f":"IF(H30<>\"\",RANK(I30,$I$1:$I$61),\"\")","v":{"$error":"#REF!"}}]
[30,{"$f":"IF(Blad1!B58<>\"\",Blad1!B58,\"\")","v":""},0.68326416206938478,null,null,null,51,{"$error":"#REF!"},0.48646773508586438,{"$f":"IF(H31<>\"\",RANK(I31,$I$1:$I$61),\"\")","v":{"$error":"#REF!"}}]
[31,{"$f":"IF(Blad1!B59<>\"\",Blad1!B59,\"\")","v":""},0.38518780364316829,null,null,null,52,{"$error":"#REF!"},0.16011617949332269,{"$f":"IF(H32<>\"\",RANK(I32,$I$1:$I$61),\"\")","v":{"$error":"#REF!"}}]
[32,{"$f":"IF(Blad1!B60<>\"\",Blad1!B60,\"\")","v":""},0.73562185426370019,null,null,null,53,{"$error":"#REF!"},0.49297227459580462,{"$f":"IF(H33<>\"\",RANK(I33,$I$1:$I$61),\"\")","v":{"$error":"#REF!"}}]
[33,{"$f":"IF(Blad1!B61<>\"\",Blad1!B61,\"\")","v":""},0.57180394366478904,null,null,null,54,{"$error":"#REF!"},0.63753031154977047,{"$f":"IF(H34<>\"\",RANK(I34,$I$1:$I$61),\"\")","v":{"$error":"#REF!"}}]
[34,{"$f":"IF(Blad1!#REF!<>\"\",Blad1!#REF!,\"\")","v":{"$error":"#REF!"}},0.18921717318516773,null,null,null,55,{"$error":"#REF!"},0.52896431275803524,{"$f":"IF(H35<>\"\",RANK(I35,$I$1:$I$61),\"\")","v":{"$error":"#REF!"}}]
[35,{"$f":"IF(Blad1!#REF!<>\"\",Blad1!#REF!,\"\")","v":{"$error":"#REF!"}},0.32144921035072649,null,null,null,56,{"$error":"#REF!"},0.2197446895895262,{"$f":"IF(H36<>\"\",RANK(I36,$I$1:$I$61),\"\")","v":{"$error":"#REF!"}}]
[36,{"$f":"IF(Blad1!#REF!<>\"\",Blad1!#REF!,\"\")","v":{"$error":"#REF!"}},0.89975686285788115,null,null,null,57,{"$error":"#REF!"},0.43759608495573565,{"$f":"IF(H37<>\"\",RANK(I37,$I$1:$I$61),\"\")","v":{"$error":"#REF!"}}]
[37,{"$f":"IF(Blad1!#REF!<>\"\",Blad1!#REF!,\"\")","v":{"$error":"#REF!"}},0.51659055626408612,null,null,null,58,{"$error":"#REF!"},0.52909800640730964,{"$f":"IF(H38<>\"\",RANK(I38,$I$1:$I$61),\"\")","v":{"$error":"#REF!"}}]
[38,{"$f":"IF(Blad1!#REF!<>\"\",Blad1!#REF!,\"\")","v":{"$error":"#REF!"}},0.17227590294881046,null,null,null,59,{"$error":"#REF!"},0.21993296655780215,{"$f":"IF(H39<>\"\",RANK(I39,$I$1:$I$61),\"\")","v":{"$error":"#REF!"}}]
[39,{"$f":"IF(Blad1!#REF!<>\"\",Blad1!#REF!,\"\")","v":{"$error":"#REF!"}},0.88709161305134565,null,null,null,60,{"$error":"#REF!"},0.48537841554432104,{"$f":"IF(H40<>\"\",RANK(I40,$I$1:$I$61),\"\")","v":{"$error":"#REF!"}}]
[40,{"$f":"IF(Blad1!#REF!<>\"\",Blad1!#REF!,\"\")","v":{"$error":"#REF!"}},0.49698207189675014,null,null,null,null,null,null,{"$f":"IF(H41<>\"\",RANK(I41,$I$1:$I$61),\"\")","v":""}]
[41,{"$f":"IF(Blad1!#REF!<>\"\",Blad1!#REF!,\"\")","v":{"$error":"#REF!"}},0.28860301051896275,null,null,null,null,null,null,{"$f":"IF(H42<>\"\",RANK(I42,$I$1:$I$61),\"\")","v":""}]
[42,{"$f":"IF(Blad1!#REF!<>\"\",Blad1!#REF!,\"\")","v":{"$error":"#REF!"}},0.59623795673917745,null,null,null,null,null,null,{"$f":"IF(H43<>\"\",RANK(I43,$I$1:$I$61),\"\")","v":""}]
[43,{"$f":"IF(Blad1!#REF!<>\"\",Blad1!#REF!,\"\")","v":{"$error":"#REF!"}},0.57153164990005367,null,null,null,null,null,null,{"$f":"IF(H44<>\"\",RANK(I44,$I$1:$I$61),\"\")","v":""}]
[44,{"$f":"IF(Blad1!#REF!<>\"\",Blad1!#REF!,\"\")","v":{"$error":"#REF!"}},0.82552085816590814,null,null,null,null,null,null,{"$f":"IF(H45<>\"\",RANK(I45,$I$1:$I$61),\"\")","v":""}]
[45,{"$f":"IF(Blad1!#REF!<>\"\",Blad1!#REF!,\"\")","v":{"$error":"#REF!"}},0.54739772309152701,null,null,null,null,null,null,{"$f":"IF(H46<>\"\",RANK(I46,$I$1:$I$61),\"\")","v":""}]
[46,{"$f":"IF(Blad1!#REF!<>\"\",Blad1!#REF!,\"\")","v":{"$error":"#REF!"}},0.41940759652315762,null,null,null,null,null,null,{"$f":"IF(H47<>\"\",RANK(I47,$I$1:$I$61),\"\")","v":""}]
[47,{"$f":"IF(Blad1!#REF!<>\"\",Blad1!#REF!,\"\")","v":{"$error":"#REF!"}},0.120297578838509,null,null,null,null,null,null,{"$f":"IF(H48<>\"\",RANK(I48,$I$1:$I$61),\"\")","v":""}]
[48,{"$f":"IF(Blad1!#REF!<>\"\",Blad1!#REF!,\"\")","v":{"$error":"#REF!"}},0.32971264603987693,null,null,null,null,null,null,{"$f":"IF(H49<>\"\",RANK(I49,$I$1:$I$61),\"\")","v":""}]
[49,{"$f":"IF(Blad1!#REF!<>\"\",Blad1!#REF!,\"\")","v":{"$error":"#REF!"}},0.11084272737217793,null,null,null,null,null,null,{"$f":"IF(H50<>\"\",RANK(I50,$I$1:$I$61),\"\")","v":""}]
[50,{"$f":"IF(Blad1!#REF!<>\"\",Blad1!#REF!,\"\")","v":{"$error":"#REF!"}},0.65855159470032454,null,null,null,null,null,null,{"$f":"IF(H51<>\"\",RANK(I51,$I$1:$I$61),\"\")","v":""}]
[51,{"$f":"IF(Blad1!#REF!<>\"\",Blad1!#REF!,\"\")","v":{"$error":"#REF!"}},0.59635699363738792,null,null,null,null,null,null,{"$f":"IF(H52<>\"\",RANK(I52,$I$1:$I$61),\"\")","v":""}]
[52,{"$f":"IF(Blad1!#REF!<>\"\",Blad1!#REF!,\"\")","v":{"$error":"#REF!"}},0.64151928061036456,null,null,null,null,null,null,{"$f":"IF(H53<>\"\",RANK(I53,$I$1:$I$61),\"\")","v":""}]
[53,{"$f":"IF(Blad1!#REF!<>\"\",Blad1!#REF!,\"\")","v":{"$error":"#REF!"}},0.62085518113224347,null,null,null,null,null,null,{"$f":"IF(H54<>\"\",RANK(I54,$I$1:$I$61),\"\")","v":""}]
[54,{"$f":"IF(Blad1!#REF!<>\"\",Blad1!#REF!,\"\")","v":{"$error":"#REF!"}},0.99217700710939305,null,null,null,null,null,null,{"$f":"IF(H55<>\"\",RANK(I55,$I$1:$I$61),\"\")","v":""}]
[55,{"$f":"IF(Blad1!#REF!<>\"\",Blad1!#REF!,\"\")","v":{"$error":"#REF!"}},0.60511090939840118,null,null,null,null,null,null,{"$f":"IF(H56<>\"\",RANK(I56,$I$1:$I$61),\"\")","v":""}]
[56,{"$f":"IF(Blad1!#REF!<>\"\",Blad1!#REF!,\"\")","v":{"$error":"#REF!"}},0.71552746729751959,null,null,null,null,null,null,{"$f":"IF(H57<>\"\",RANK(I57,$I$1:$I$61),\"\")","v":""}]
[57,{"$f":"IF(Blad1!#REF!<>\"\",Blad1!#REF!,\"\")","v":{"$error":"#REF!"}},0.65260207758240529,null,null,null,null,null,null,{"$f":"IF(H58<>\"\",RANK(I58,$I$1:$I$61),\"\")","v":""}]
[58,{"$f":"IF(Blad1!#REF!<>\"\",Blad1!#REF!,\"\")","v":{"$error":"#REF!"}},0.52969224683548999,null,null,null,null,null,null,{"$f":"IF(H59<>\"\",RANK(I59,$I$1:$I$61),\"\")","v":""}]
[59,{"$f":"IF(Blad1!#REF!<>\"\",Blad1!#REF!,\"\")","v":{"$error":"#REF!"}},0.53306865143584137,null,null,null,null,null,null,{"$f":"IF(H60<>\"\",RANK(I60,$I$1:$I$61),\"\")","v":""}]
[60,{"$f":"IF(Blad1!#REF!<>\"\",Blad1!#REF!,\"\")","v":{"$error":"#REF!"}},0.45844275216087738,null,null,null,null,null,null,{"$f":"IF(H61<>\"\",RANK(I61,$I$1:$I$61),\"\")","v":""}]

{"sheet":"Blad3","index":2,"n_rows":0,"n_cols":0,"rows_kept":0,"cut":false,"hidden":false,"merged":[]}