{"text_format":"1","workbook":"xlsx","n_sheets":3,"sheets":["Rit overzicht 2024 ","Adressen 2024","Rit 2024  Test in % overzicht"],"not_rendered":{"charts":1,"images":0,"macros":1,"external_links":1,"defined_names":4,"comments":3,"pivot_tables":0},"unopened":[],"bounds":{"document_bytes":16777216,"sheet_cells":100000,"rows_first":2000,"rows_last":500,"rows_between":2000,"halvings":0,"cell_chars":16384,"cell_head_chars":4096},"cells_cut":0,"cells_raw":0,"read":"whole","date_system":"1900"}

{"sheet":"Rit overzicht 2024 ","index":0,"n_rows":88,"n_cols":73,"rows_kept":88,"cut":false,"hidden":false,"merged":[[0,0,0,2]]}
[{"$f":"D1+E1","v":3261},null,null,{"$f":"BM1","v":1069},{"$f":"BN1","v":2192},null,null,null,{"$f":"SUM(I3:I89)","v":138},159,168,147,343,111,0,58,201,104,206,168,230,107,360,102,246,135,278,0,0,0,0,0,0,0,0,0,0,0,0,0,{"$f":"SUM(AO3:AO89)","v":0},0,0,0,0,0,0,0,0,0,0,0,0,0,0,0,0,0,{"$f":"SUM(BG3:BG87)","v":0},{"$f":"SUM(BH3:BH87)","v":0},{"$f":"BI88","v":219},{"$f":"BJ88","v":872},{"$f":"BK88","v":850},{"$f":"BL88","v":1320},{"$f":"BI1+BK1","v":1069},{"$f":"BJ1+BL1","v":2192},"Totaal",{"$f":"BM1+BN1","v":3261}]
["Route","Kolom1","Dag","Route                                                          ","   Beginadres                                                           Week","Rest","GFT","PMD","1","2","3","4","5","6","7","8","9","10","11","12","13","14","15","16","17","18","19","20","21","22","23","24","25","26","27","28","29","30","31","32","33","34","35","36","37","38","39","40","41","42","43","44","45","46","47","48","49","50","51","52","RGFT","GLGFT","RPMD","GPMD","Totaal Rood","Totaal Geel","Regio","Kolom2",null,"Rode kaarten","Gele kaarten","Totaal "]
["1.1",null,"Maandag","Kedichem  - Leerdam Varseveld - Leerdam Oost ",null,6,4,4,null,null,null,null,null,null,null,null,null,null,null,null,null,null,16,null,null,null,null,null,null,null,null,null,null,null,null,null,null,null,null,null,null,null,null,null,null,null,null,null,null,null,null,null,null,null,null,null,null,null,null,null,{"$f":"Tabel2547[[#This Row],[52]]+Tabel2547[[#This Row],[50]]+Tabel2547[[#This Row],[48]]+Tabel2547[[#This Row],[46]]+Tabel2547[[#This Row],[44]]+Tabel2547[[#This Row],[42]]+Tabel2547[[#This Row],[40]]+Tabel2547[[#This Row],[38]]+Tabel2547[[#This Row],[36]]+Tabel2547[[#This Row],[34]]+Tabel2547[[#This Row],[32]]+Tabel2547[[#This Row],[30]]+Tabel2547[[#This Row],[28]]+Tabel2547[[#This Row],[26]]+Tabel2547[[#This Row],[24]]+Tabel2547[[#This Row],[22]]+Tabel2547[[#This Row],[20]]+Tabel2547[[#This Row],[18]]+Tabel2547[[#This Row],[16]]+Tabel2547[[#This Row],[14]]+Tabel2547[[#This Row],[12]]+Tabel2547[[#This Row],[10]]+Tabel2547[[#This Row],[8]]+Tabel2547[[#This Row],[6]]+Tabel2547[[#This Row],[4]]+Tabel2547[[#This Row],[2]]","v":0},null,{"$f":"Tabel2547[[#This Row],[51]]+Tabel2547[[#This Row],[49]]+Tabel2547[[#This Row],[47]]+Tabel2547[[#This Row],[45]]+Tabel2547[[#This Row],[43]]+Tabel2547[[#This Row],[41]]+Tabel2547[[#This Row],[39]]+Tabel2547[[#This Row],[37]]+Tabel2547[[#This Row],[35]]+Tabel2547[[#This Row],[33]]+Tabel2547[[#This Row],[31]]+Tabel2547[[#This Row],[29]]+Tabel2547[[#This Row],[27]]+Tabel2547[[#This Row],[25]]+Tabel2547[[#This Row],[23]]+Tabel2547[[#This Row],[21]]+Tabel2547[[#This Row],[19]]+Tabel2547[[#This Row],[17]]+Tabel2547[[#This Row],[15]]+Tabel2547[[#This Row],[13]]+Tabel2547[[#This Row],[11]]+Tabel2547[[#This Row],[9]]+Tabel2547[[#This Row],[7]]+Tabel2547[[#This Row],[5]]+Tabel2547[[#This Row],[3]]+Tabel2547[[#This Row],[1]]","v":16},null,{"$f":"Tabel2547[[#This Row],[RGFT]]+Tabel2547[[#This Row],[RPMD]]","v":16},{"$f":"BJ4+BL4","v":42},"Leerdam","VHL","VHL",{"$f":"SUMIF($BO$2:$BO$84,$BQ3,$BM$2:$BM$86)","v":376},{"$f":"SUMIF($BO$2:$BO$86,$BQ3,$BN$2:$BN$86)","v":556},{"$f":"SUM(BR3:BS3)","v":932}]
["1.1",null,"Maandag","Kedichem  - Leerdam Varseveld - Leerdam Oost ","1=Zwaanseweg 26 - 2=Hernosand 1 - 3= Oranje Nassaulaan 4",6,4,4,null,null,null,null,null,null,null,null,null,null,22,null,null,null,20,0,null,null,null,null,null,null,null,null,null,null,null,null,null,null,null,null,null,null,null,null,null,null,null,null,null,null,null,null,null,null,null,null,null,null,null,null,null,{"$f":"Tabel2547[[#This Row],[52]]+Tabel2547[[#This Row],[50]]+Tabel2547[[#This Row],[48]]+Tabel2547[[#This Row],[46]]+Tabel2547[[#This Row],[44]]+Tabel2547[[#This Row],[42]]+Tabel2547[[#This Row],[40]]+Tabel2547[[#This Row],[38]]+Tabel2547[[#This Row],[36]]+Tabel2547[[#This Row],[34]]+Tabel2547[[#This Row],[32]]+Tabel2547[[#This Row],[30]]+Tabel2547[[#This Row],[28]]+Tabel2547[[#This Row],[26]]+Tabel2547[[#This Row],[24]]+Tabel2547[[#This Row],[22]]+Tabel2547[[#This Row],[20]]+Tabel2547[[#This Row],[18]]+Tabel2547[[#This Row],[16]]+Tabel2547[[#This Row],[14]]+Tabel2547[[#This Row],[12]]+Tabel2547[[#This Row],[10]]+Tabel2547[[#This Row],[8]]+Tabel2547[[#This Row],[6]]+Tabel2547[[#This Row],[4]]+Tabel2547[[#This Row],[2]]","v":0},null,{"$f":"Tabel2547[[#This Row],[51]]+Tabel2547[[#This Row],[49]]+Tabel2547[[#This Row],[47]]+Tabel2547[[#This Row],[45]]+Tabel2547[[#This Row],[43]]+Tabel2547[[#This Row],[41]]+Tabel2547[[#This Row],[39]]+Tabel2547[[#This Row],[37]]+Tabel2547[[#This Row],[35]]+Tabel2547[[#This Row],[33]]+Tabel2547[[#This Row],[31]]+Tabel2547[[#This Row],[29]]+Tabel2547[[#This Row],[27]]+Tabel2547[[#This Row],[25]]+Tabel2547[[#This Row],[23]]+Tabel2547[[#This Row],[21]]+Tabel2547[[#This Row],[19]]+Tabel2547[[#This Row],[17]]+Tabel2547[[#This Row],[15]]+Tabel2547[[#This Row],[13]]+Tabel2547[[#This Row],[11]]+Tabel2547[[#This Row],[9]]+Tabel2547[[#This Row],[7]]+Tabel2547[[#This Row],[5]]+Tabel2547[[#This Row],[3]]+Tabel2547[[#This Row],[1]]","v":42},{"$f":"Tabel2547[[#This Row],[RGFT]]+Tabel2547[[#This Row],[RPMD]]","v":0},0,"Leerdam","VHL","Molenlanden",275,607,882]
["2.1",null,"Maandag","Vianen Koningsbuurt",null,null,null,null,null,null,null,null,7,null,null,0,2,null,null,0,10,null,null,11,14,null,null,null,null,null,null,null,null,null,null,null,null,null,null,null,null,null,null,null,null,null,null,null,null,null,null,null,null,null,null,null,null,null,null,null,{"$f":"Tabel2547[[#This Row],[52]]+Tabel2547[[#This Row],[50]]+Tabel2547[[#This Row],[48]]+Tabel2547[[#This Row],[46]]+Tabel2547[[#This Row],[44]]+Tabel2547[[#This Row],[42]]+Tabel2547[[#This Row],[40]]+Tabel2547[[#This Row],[38]]+Tabel2547[[#This Row],[36]]+Tabel2547[[#This Row],[34]]+Tabel2547[[#This Row],[32]]+Tabel2547[[#This Row],[30]]+Tabel2547[[#This Row],[28]]+Tabel2547[[#This Row],[26]]+Tabel2547[[#This Row],[24]]+Tabel2547[[#This Row],[22]]+Tabel2547[[#This Row],[20]]+Tabel2547[[#This Row],[18]]+Tabel2547[[#This Row],[16]]+Tabel2547[[#This Row],[14]]+Tabel2547[[#This Row],[12]]+Tabel2547[[#This Row],[10]]+Tabel2547[[#This Row],[8]]+Tabel2547[[#This Row],[6]]+Tabel2547[[#This Row],[4]]+Tabel2547[[#This Row],[2]]","v":11},null,{"$f":"Tabel2547[[#This Row],[51]]+Tabel2547[[#This Row],[49]]+Tabel2547[[#This Row],[47]]+Tabel2547[[#This Row],[45]]+Tabel2547[[#This Row],[43]]+Tabel2547[[#This Row],[41]]+Tabel2547[[#This Row],[39]]+Tabel2547[[#This Row],[37]]+Tabel2547[[#This Row],[35]]+Tabel2547[[#This Row],[33]]+Tabel2547[[#This Row],[31]]+Tabel2547[[#This Row],[29]]+Tabel2547[[#This Row],[27]]+Tabel2547[[#This Row],[25]]+Tabel2547[[#This Row],[23]]+Tabel2547[[#This Row],[21]]+Tabel2547[[#This Row],[19]]+Tabel2547[[#This Row],[17]]+Tabel2547[[#This Row],[15]]+Tabel2547[[#This Row],[13]]+Tabel2547[[#This Row],[11]]+Tabel2547[[#This Row],[9]]+Tabel2547[[#This Row],[7]]+Tabel2547[[#This Row],[5]]+Tabel2547[[#This Row],[3]]+Tabel2547[[#This Row],[1]]","v":33},null,{"$f":"Tabel2547[[#This Row],[RGFT]]+Tabel2547[[#This Row],[RPMD]]","v":44},110,"VHL",null,"Gorinchem",248,488,736]
["2.1",null,"Maandag","Vianen Koningsbuurt","Mauritsstraat 67",null,null,null,null,null,null,null,34,null,null,11,3,null,null,13,17,null,null,15,17,null,null,null,null,null,null,null,null,null,null,null,null,null,null,null,null,null,null,null,null,null,null,null,null,null,null,null,null,null,null,null,null,null,null,null,null,{"$f":"Tabel2547[[#This Row],[52]]+Tabel2547[[#This Row],[50]]+Tabel2547[[#This Row],[48]]+Tabel2547[[#This Row],[46]]+Tabel2547[[#This Row],[44]]+Tabel2547[[#This Row],[42]]+Tabel2547[[#This Row],[40]]+Tabel2547[[#This Row],[38]]+Tabel2547[[#This Row],[36]]+Tabel2547[[#This Row],[34]]+Tabel2547[[#This Row],[32]]+Tabel2547[[#This Row],[30]]+Tabel2547[[#This Row],[28]]+Tabel2547[[#This Row],[26]]+Tabel2547[[#This Row],[24]]+Tabel2547[[#This Row],[22]]+Tabel2547[[#This Row],[20]]+Tabel2547[[#This Row],[18]]+Tabel2547[[#This Row],[16]]+Tabel2547[[#This Row],[14]]+Tabel2547[[#This Row],[12]]+Tabel2547[[#This Row],[10]]+Tabel2547[[#This Row],[8]]+Tabel2547[[#This Row],[6]]+Tabel2547[[#This Row],[4]]+Tabel2547[[#This Row],[2]]","v":39},null,{"$f":"Tabel2547[[#This Row],[51]]+Tabel2547[[#This Row],[49]]+Tabel2547[[#This Row],[47]]+Tabel2547[[#This Row],[45]]+Tabel2547[[#This Row],[43]]+Tabel2547[[#This Row],[41]]+Tabel2547[[#This Row],[39]]+Tabel2547[[#This Row],[37]]+Tabel2547[[#This Row],[35]]+Tabel2547[[#This Row],[33]]+Tabel2547[[#This Row],[31]]+Tabel2547[[#This Row],[29]]+Tabel2547[[#This Row],[27]]+Tabel2547[[#This Row],[25]]+Tabel2547[[#This Row],[23]]+Tabel2547[[#This Row],[21]]+Tabel2547[[#This Row],[19]]+Tabel2547[[#This Row],[17]]+Tabel2547[[#This Row],[15]]+Tabel2547[[#This Row],[13]]+Tabel2547[[#This Row],[11]]+Tabel2547[[#This Row],[9]]+Tabel2547[[#This Row],[7]]+Tabel2547[[#This Row],[5]]+Tabel2547[[#This Row],[3]]+Tabel2547[[#This Row],[1]]","v":71},{"$f":"Tabel2547[[#This Row],[RGFT]]+Tabel2547[[#This Row],[RPMD]]","v":0},0,"VHL",null,"Hardinxveld",85,339,424]
["2.2",null,"Maandag","Leerdam Ter Leede binnen",null,null,9,null,null,8,null,null,5,null,null,null,7,null,null,1,2,null,null,2,2,null,null,null,null,null,null,null,null,null,null,null,null,null,null,null,null,null,null,null,null,null,null,null,null,null,null,null,null,null,null,null,null,null,null,null,{"$f":"Tabel2547[[#This Row],[52]]+Tabel2547[[#This Row],[50]]+Tabel2547[[#This Row],[48]]+Tabel2547[[#This Row],[46]]+Tabel2547[[#This Row],[44]]+Tabel2547[[#This Row],[42]]+Tabel2547[[#This Row],[40]]+Tabel2547[[#This Row],[38]]+Tabel2547[[#This Row],[36]]+Tabel2547[[#This Row],[34]]+Tabel2547[[#This Row],[32]]+Tabel2547[[#This Row],[30]]+Tabel2547[[#This Row],[28]]+Tabel2547[[#This Row],[26]]+Tabel2547[[#This Row],[24]]+Tabel2547[[#This Row],[22]]+Tabel2547[[#This Row],[20]]+Tabel2547[[#This Row],[18]]+Tabel2547[[#This Row],[16]]+Tabel2547[[#This Row],[14]]+Tabel2547[[#This Row],[12]]+Tabel2547[[#This Row],[10]]+Tabel2547[[#This Row],[8]]+Tabel2547[[#This Row],[6]]+Tabel2547[[#This Row],[4]]+Tabel2547[[#This Row],[2]]","v":11},null,{"$f":"Tabel2547[[#This Row],[51]]+Tabel2547[[#This Row],[49]]+Tabel2547[[#This Row],[47]]+Tabel2547[[#This Row],[45]]+Tabel2547[[#This Row],[43]]+Tabel2547[[#This Row],[41]]+Tabel2547[[#This Row],[39]]+Tabel2547[[#This Row],[37]]+Tabel2547[[#This Row],[35]]+Tabel2547[[#This Row],[33]]+Tabel2547[[#This Row],[31]]+Tabel2547[[#This Row],[29]]+Tabel2547[[#This Row],[27]]+Tabel2547[[#This Row],[25]]+Tabel2547[[#This Row],[23]]+Tabel2547[[#This Row],[21]]+Tabel2547[[#This Row],[19]]+Tabel2547[[#This Row],[17]]+Tabel2547[[#This Row],[15]]+Tabel2547[[#This Row],[13]]+Tabel2547[[#This Row],[11]]+Tabel2547[[#This Row],[9]]+Tabel2547[[#This Row],[7]]+Tabel2547[[#This Row],[5]]+Tabel2547[[#This Row],[3]]+Tabel2547[[#This Row],[1]]","v":16},null,{"$f":"Tabel2547[[#This Row],[RGFT]]+Tabel2547[[#This Row],[RPMD]]","v":27},33,"Leerdam","VHL","Vianen",17,32,49]
["2.2",null,"Maandag","Leerdam Ter Leede binnen","Glasblazerstraat 25",null,9,null,null,4,null,null,8,null,null,null,11,null,null,4,4,null,null,2,0,null,null,null,null,null,null,null,null,null,null,null,null,null,null,null,null,null,null,null,null,null,null,null,null,null,null,null,null,null,null,null,null,null,null,null,null,{"$f":"Tabel2547[[#This Row],[52]]+Tabel2547[[#This Row],[50]]+Tabel2547[[#This Row],[48]]+Tabel2547[[#This Row],[46]]+Tabel2547[[#This Row],[44]]+Tabel2547[[#This Row],[42]]+Tabel2547[[#This Row],[40]]+Tabel2547[[#This Row],[38]]+Tabel2547[[#This Row],[36]]+Tabel2547[[#This Row],[34]]+Tabel2547[[#This Row],[32]]+Tabel2547[[#This Row],[30]]+Tabel2547[[#This Row],[28]]+Tabel2547[[#This Row],[26]]+Tabel2547[[#This Row],[24]]+Tabel2547[[#This Row],[22]]+Tabel2547[[#This Row],[20]]+Tabel2547[[#This Row],[18]]+Tabel2547[[#This Row],[16]]+Tabel2547[[#This Row],[14]]+Tabel2547[[#This Row],[12]]+Tabel2547[[#This Row],[10]]+Tabel2547[[#This Row],[8]]+Tabel2547[[#This Row],[6]]+Tabel2547[[#This Row],[4]]+Tabel2547[[#This Row],[2]]","v":10},null,{"$f":"Tabel2547[[#This Row],[51]]+Tabel2547[[#This Row],[49]]+Tabel2547[[#This Row],[47]]+Tabel2547[[#This Row],[45]]+Tabel2547[[#This Row],[43]]+Tabel2547[[#This Row],[41]]+Tabel2547[[#This Row],[39]]+Tabel2547[[#This Row],[37]]+Tabel2547[[#This Row],[35]]+Tabel2547[[#This Row],[33]]+Tabel2547[[#This Row],[31]]+Tabel2547[[#This Row],[29]]+Tabel2547[[#This Row],[27]]+Tabel2547[[#This Row],[25]]+Tabel2547[[#This Row],[23]]+Tabel2547[[#This Row],[21]]+Tabel2547[[#This Row],[19]]+Tabel2547[[#This Row],[17]]+Tabel2547[[#This Row],[15]]+Tabel2547[[#This Row],[13]]+Tabel2547[[#This Row],[11]]+Tabel2547[[#This Row],[9]]+Tabel2547[[#This Row],[7]]+Tabel2547[[#This Row],[5]]+Tabel2547[[#This Row],[3]]+Tabel2547[[#This Row],[1]]","v":23},{"$f":"Tabel2547[[#This Row],[RGFT]]+Tabel2547[[#This Row],[RPMD]]","v":0},0,"Leerdam","VHL","Leerdam",68,170,238]
["3.1",null,"Maandag","1=Lexmond, 2=Hei en Boeicop binnen",null,4,3,3,null,0,5,0,6,0,null,null,null,null,null,null,null,null,8,null,null,10,14,null,null,null,null,null,null,null,null,null,null,null,null,null,null,null,null,null,null,null,null,null,null,null,null,null,null,null,null,null,null,null,null,null,{"$f":"Tabel2547[[#This Row],[52]]+Tabel2547[[#This Row],[50]]+Tabel2547[[#This Row],[48]]+Tabel2547[[#This Row],[46]]+Tabel2547[[#This Row],[44]]+Tabel2547[[#This Row],[42]]+Tabel2547[[#This Row],[40]]+Tabel2547[[#This Row],[38]]+Tabel2547[[#This Row],[36]]+Tabel2547[[#This Row],[34]]+Tabel2547[[#This Row],[32]]+Tabel2547[[#This Row],[30]]+Tabel2547[[#This Row],[28]]+Tabel2547[[#This Row],[26]]+Tabel2547[[#This Row],[24]]+Tabel2547[[#This Row],[22]]+Tabel2547[[#This Row],[20]]+Tabel2547[[#This Row],[18]]+Tabel2547[[#This Row],[16]]+Tabel2547[[#This Row],[14]]+Tabel2547[[#This Row],[12]]+Tabel2547[[#This Row],[10]]+Tabel2547[[#This Row],[8]]+Tabel2547[[#This Row],[6]]+Tabel2547[[#This Row],[4]]+Tabel2547[[#This Row],[2]]","v":10},null,{"$f":"Tabel2547[[#This Row],[51]]+Tabel2547[[#This Row],[49]]+Tabel2547[[#This Row],[47]]+Tabel2547[[#This Row],[45]]+Tabel2547[[#This Row],[43]]+Tabel2547[[#This Row],[41]]+Tabel2547[[#This Row],[39]]+Tabel2547[[#This Row],[37]]+Tabel2547[[#This Row],[35]]+Tabel2547[[#This Row],[33]]+Tabel2547[[#This Row],[31]]+Tabel2547[[#This Row],[29]]+Tabel2547[[#This Row],[27]]+Tabel2547[[#This Row],[25]]+Tabel2547[[#This Row],[23]]+Tabel2547[[#This Row],[21]]+Tabel2547[[#This Row],[19]]+Tabel2547[[#This Row],[17]]+Tabel2547[[#This Row],[15]]+Tabel2547[[#This Row],[13]]+Tabel2547[[#This Row],[11]]+Tabel2547[[#This Row],[9]]+Tabel2547[[#This Row],[7]]+Tabel2547[[#This Row],[5]]+Tabel2547[[#This Row],[3]]+Tabel2547[[#This Row],[1]]","v":33},null,{"$f":"Tabel2547[[#This Row],[RGFT]]+Tabel2547[[#This Row],[RPMD]]","v":43},111,"VHL",null,null,{"$f":"SUM(BR3:BR8)","v":1069},{"$f":"SUM(BS3:BS8)","v":2192},{"$f":"SUM(BT3:BT8)","v":3261}]
["3.1",null,"Maandag","1=Lexmond, 2=Hei en Boeicop binnen","1= Zuidernes 50 2= Oude Regthuys 1",4,3,3,null,32,12,14,14,11,null,null,null,null,null,null,null,null,18,null,null,6,4,null,null,null,null,null,null,null,null,null,null,null,null,null,null,null,null,null,null,null,null,null,null,null,null,null,null,null,null,null,null,null,null,null,null,{"$f":"Tabel2547[[#This Row],[52]]+Tabel2547[[#This Row],[50]]+Tabel2547[[#This Row],[48]]+Tabel2547[[#This Row],[46]]+Tabel2547[[#This Row],[44]]+Tabel2547[[#This Row],[42]]+Tabel2547[[#This Row],[40]]+Tabel2547[[#This Row],[38]]+Tabel2547[[#This Row],[36]]+Tabel2547[[#This Row],[34]]+Tabel2547[[#This Row],[32]]+Tabel2547[[#This Row],[30]]+Tabel2547[[#This Row],[28]]+Tabel2547[[#This Row],[26]]+Tabel2547[[#This Row],[24]]+Tabel2547[[#This Row],[22]]+Tabel2547[[#This Row],[20]]+Tabel2547[[#This Row],[18]]+Tabel2547[[#This Row],[16]]+Tabel2547[[#This Row],[14]]+Tabel2547[[#This Row],[12]]+Tabel2547[[#This Row],[10]]+Tabel2547[[#This Row],[8]]+Tabel2547[[#This Row],[6]]+Tabel2547[[#This Row],[4]]+Tabel2547[[#This Row],[2]]","v":63},null,{"$f":"Tabel2547[[#This Row],[51]]+Tabel2547[[#This Row],[49]]+Tabel2547[[#This Row],[47]]+Tabel2547[[#This Row],[45]]+Tabel2547[[#This Row],[43]]+Tabel2547[[#This Row],[41]]+Tabel2547[[#This Row],[39]]+Tabel2547[[#This Row],[37]]+Tabel2547[[#This Row],[35]]+Tabel2547[[#This Row],[33]]+Tabel2547[[#This Row],[31]]+Tabel2547[[#This Row],[29]]+Tabel2547[[#This Row],[27]]+Tabel2547[[#This Row],[25]]+Tabel2547[[#This Row],[23]]+Tabel2547[[#This Row],[21]]+Tabel2547[[#This Row],[19]]+Tabel2547[[#This Row],[17]]+Tabel2547[[#This Row],[15]]+Tabel2547[[#This Row],[13]]+Tabel2547[[#This Row],[11]]+Tabel2547[[#This Row],[9]]+Tabel2547[[#This Row],[7]]+Tabel2547[[#This Row],[5]]+Tabel2547[[#This Row],[3]]+Tabel2547[[#This Row],[1]]","v":48},{"$f":"Tabel2547[[#This Row],[RGFT]]+Tabel2547[[#This Row],[RPMD]]","v":0},0,"VHL",null,null,null,null,{"$f":"SUM(BR9:BS9)","v":3261},"Controle"]
["3.2",null,"Maandag","Schoonrewoerd binnen",null,5,7,7,null,null,null,2,null,null,null,null,null,null,null,null,null,null,0,null,null,4,11,null,null,null,null,null,null,null,null,null,null,null,null,null,null,null,null,null,null,null,null,null,null,null,null,null,null,null,null,null,null,null,null,null,{"$f":"Tabel2547[[#This Row],[52]]+Tabel2547[[#This Row],[50]]+Tabel2547[[#This Row],[48]]+Tabel2547[[#This Row],[46]]+Tabel2547[[#This Row],[44]]+Tabel2547[[#This Row],[42]]+Tabel2547[[#This Row],[40]]+Tabel2547[[#This Row],[38]]+Tabel2547[[#This Row],[36]]+Tabel2547[[#This Row],[34]]+Tabel2547[[#This Row],[32]]+Tabel2547[[#This Row],[30]]+Tabel2547[[#This Row],[28]]+Tabel2547[[#This Row],[26]]+Tabel2547[[#This Row],[24]]+Tabel2547[[#This Row],[22]]+Tabel2547[[#This Row],[20]]+Tabel2547[[#This Row],[18]]+Tabel2547[[#This Row],[16]]+Tabel2547[[#This Row],[14]]+Tabel2547[[#This Row],[12]]+Tabel2547[[#This Row],[10]]+Tabel2547[[#This Row],[8]]+Tabel2547[[#This Row],[6]]+Tabel2547[[#This Row],[4]]+Tabel2547[[#This Row],[2]]","v":6},null,{"$f":"Tabel2547[[#This Row],[51]]+Tabel2547[[#This Row],[49]]+Tabel2547[[#This Row],[47]]+Tabel2547[[#This Row],[45]]+Tabel2547[[#This Row],[43]]+Tabel2547[[#This Row],[41]]+Tabel2547[[#This Row],[39]]+Tabel2547[[#This Row],[37]]+Tabel2547[[#This Row],[35]]+Tabel2547[[#This Row],[33]]+Tabel2547[[#This Row],[31]]+Tabel2547[[#This Row],[29]]+Tabel2547[[#This Row],[27]]+Tabel2547[[#This Row],[25]]+Tabel2547[[#This Row],[23]]+Tabel2547[[#This Row],[21]]+Tabel2547[[#This Row],[19]]+Tabel2547[[#This Row],[17]]+Tabel2547[[#This Row],[15]]+Tabel2547[[#This Row],[13]]+Tabel2547[[#This Row],[11]]+Tabel2547[[#This Row],[9]]+Tabel2547[[#This Row],[7]]+Tabel2547[[#This Row],[5]]+Tabel2547[[#This Row],[3]]+Tabel2547[[#This Row],[1]]","v":11},null,{"$f":"Tabel2547[[#This Row],[RGFT]]+Tabel2547[[#This Row],[RPMD]]","v":17},22,"VHL"]
["3.2",null,"Maandag","Schoonrewoerd binnen","Parkeer kerkweg 1 ( begin in De Bongerd)",5,7,7,null,null,null,7,null,null,null,null,null,null,null,null,null,null,10,null,null,3,2,null,null,null,null,null,null,null,null,null,null,null,null,null,null,null,null,null,null,null,null,null,null,null,null,null,null,null,null,null,null,null,null,null,null,{"$f":"Tabel2547[[#This Row],[52]]+Tabel2547[[#This Row],[50]]+Tabel2547[[#This Row],[48]]+Tabel2547[[#This Row],[46]]+Tabel2547[[#This Row],[44]]+Tabel2547[[#This Row],[42]]+Tabel2547[[#This Row],[40]]+Tabel2547[[#This Row],[38]]+Tabel2547[[#This Row],[36]]+Tabel2547[[#This Row],[34]]+Tabel2547[[#This Row],[32]]+Tabel2547[[#This Row],[30]]+Tabel2547[[#This Row],[28]]+Tabel2547[[#This Row],[26]]+Tabel2547[[#This Row],[24]]+Tabel2547[[#This Row],[22]]+Tabel2547[[#This Row],[20]]+Tabel2547[[#This Row],[18]]+Tabel2547[[#This Row],[16]]+Tabel2547[[#This Row],[14]]+Tabel2547[[#This Row],[12]]+Tabel2547[[#This Row],[10]]+Tabel2547[[#This Row],[8]]+Tabel2547[[#This Row],[6]]+Tabel2547[[#This Row],[4]]+Tabel2547[[#This Row],[2]]","v":10},null,{"$f":"Tabel2547[[#This Row],[51]]+Tabel2547[[#This Row],[49]]+Tabel2547[[#This Row],[47]]+Tabel2547[[#This Row],[45]]+Tabel2547[[#This Row],[43]]+Tabel2547[[#This Row],[41]]+Tabel2547[[#This Row],[39]]+Tabel2547[[#This Row],[37]]+Tabel2547[[#This Row],[35]]+Tabel2547[[#This Row],[33]]+Tabel2547[[#This Row],[31]]+Tabel2547[[#This Row],[29]]+Tabel2547[[#This Row],[27]]+Tabel2547[[#This Row],[25]]+Tabel2547[[#This Row],[23]]+Tabel2547[[#This Row],[21]]+Tabel2547[[#This Row],[19]]+Tabel2547[[#This Row],[17]]+Tabel2547[[#This Row],[15]]+Tabel2547[[#This Row],[13]]+Tabel2547[[#This Row],[11]]+Tabel2547[[#This Row],[9]]+Tabel2547[[#This Row],[7]]+Tabel2547[[#This Row],[5]]+Tabel2547[[#This Row],[3]]+Tabel2547[[#This Row],[1]]","v":12},{"$f":"Tabel2547[[#This Row],[RGFT]]+Tabel2547[[#This Row],[RPMD]]","v":0},0,"VHL"]
["3.3",null,"Maandag","Leerdam Noord",null,7,2,null,null,null,null,null,null,null,null,null,null,1,null,null,null,null,null,null,null,null,null,null,null,null,null,null,null,null,null,null,null,null,null,null,null,null,null,null,null,null,null,null,null,null,null,null,null,null,null,null,null,null,null,null,{"$f":"Tabel2547[[#This Row],[52]]+Tabel2547[[#This Row],[50]]+Tabel2547[[#This Row],[48]]+Tabel2547[[#This Row],[46]]+Tabel2547[[#This Row],[44]]+Tabel2547[[#This Row],[42]]+Tabel2547[[#This Row],[40]]+Tabel2547[[#This Row],[38]]+Tabel2547[[#This Row],[36]]+Tabel2547[[#This Row],[34]]+Tabel2547[[#This Row],[32]]+Tabel2547[[#This Row],[30]]+Tabel2547[[#This Row],[28]]+Tabel2547[[#This Row],[26]]+Tabel2547[[#This Row],[24]]+Tabel2547[[#This Row],[22]]+Tabel2547[[#This Row],[20]]+Tabel2547[[#This Row],[18]]+Tabel2547[[#This Row],[16]]+Tabel2547[[#This Row],[14]]+Tabel2547[[#This Row],[12]]+Tabel2547[[#This Row],[10]]+Tabel2547[[#This Row],[8]]+Tabel2547[[#This Row],[6]]+Tabel2547[[#This Row],[4]]+Tabel2547[[#This Row],[2]]","v":1},null,{"$f":"Tabel2547[[#This Row],[51]]+Tabel2547[[#This Row],[49]]+Tabel2547[[#This Row],[47]]+Tabel2547[[#This Row],[45]]+Tabel2547[[#This Row],[43]]+Tabel2547[[#This Row],[41]]+Tabel2547[[#This Row],[39]]+Tabel2547[[#This Row],[37]]+Tabel2547[[#This Row],[35]]+Tabel2547[[#This Row],[33]]+Tabel2547[[#This Row],[31]]+Tabel2547[[#This Row],[29]]+Tabel2547[[#This Row],[27]]+Tabel2547[[#This Row],[25]]+Tabel2547[[#This Row],[23]]+Tabel2547[[#This Row],[21]]+Tabel2547[[#This Row],[19]]+Tabel2547[[#This Row],[17]]+Tabel2547[[#This Row],[15]]+Tabel2547[[#This Row],[13]]+Tabel2547[[#This Row],[11]]+Tabel2547[[#This Row],[9]]+Tabel2547[[#This Row],[7]]+Tabel2547[[#This Row],[5]]+Tabel2547[[#This Row],[3]]+Tabel2547[[#This Row],[1]]","v":0},null,{"$f":"Tabel2547[[#This Row],[RGFT]]+Tabel2547[[#This Row],[RPMD]]","v":1},16,"Leerdam","VHL"]
["3.3",null,"Maandag ","Leerdam Noord","Zelf uitkiezen",7,2,null,null,null,null,null,null,null,null,null,null,16,null,null,null,null,null,null,null,null,null,null,null,null,null,null,null,null,null,null,null,null,null,null,null,null,null,null,null,null,null,null,null,null,null,null,null,null,null,null,null,null,null,null,null,{"$f":"Tabel2547[[#This Row],[52]]+Tabel2547[[#This Row],[50]]+Tabel2547[[#This Row],[48]]+Tabel2547[[#This Row],[46]]+Tabel2547[[#This Row],[44]]+Tabel2547[[#This Row],[42]]+Tabel2547[[#This Row],[40]]+Tabel2547[[#This Row],[38]]+Tabel2547[[#This Row],[36]]+Tabel2547[[#This Row],[34]]+Tabel2547[[#This Row],[32]]+Tabel2547[[#This Row],[30]]+Tabel2547[[#This Row],[28]]+Tabel2547[[#This Row],[26]]+Tabel2547[[#This Row],[24]]+Tabel2547[[#This Row],[22]]+Tabel2547[[#This Row],[20]]+Tabel2547[[#This Row],[18]]+Tabel2547[[#This Row],[16]]+Tabel2547[[#This Row],[14]]+Tabel2547[[#This Row],[12]]+Tabel2547[[#This Row],[10]]+Tabel2547[[#This Row],[8]]+Tabel2547[[#This Row],[6]]+Tabel2547[[#This Row],[4]]+Tabel2547[[#This Row],[2]]","v":16},null,{"$f":"Tabel2547[[#This Row],[51]]+Tabel2547[[#This Row],[49]]+Tabel2547[[#This Row],[47]]+Tabel2547[[#This Row],[45]]+Tabel2547[[#This Row],[43]]+Tabel2547[[#This Row],[41]]+Tabel2547[[#This Row],[39]]+Tabel2547[[#This Row],[37]]+Tabel2547[[#This Row],[35]]+Tabel2547[[#This Row],[33]]+Tabel2547[[#This Row],[31]]+Tabel2547[[#This Row],[29]]+Tabel2547[[#This Row],[27]]+Tabel2547[[#This Row],[25]]+Tabel2547[[#This Row],[23]]+Tabel2547[[#This Row],[21]]+Tabel2547[[#This Row],[19]]+Tabel2547[[#This Row],[17]]+Tabel2547[[#This Row],[15]]+Tabel2547[[#This Row],[13]]+Tabel2547[[#This Row],[11]]+Tabel2547[[#This Row],[9]]+Tabel2547[[#This Row],[7]]+Tabel2547[[#This Row],[5]]+Tabel2547[[#This Row],[3]]+Tabel2547[[#This Row],[1]]","v":0},{"$f":"Tabel2547[[#This Row],[RGFT]]+Tabel2547[[#This Row],[RPMD]]","v":0},0,"Leerdam","VHL"]
["4.1",null,"Maandag","1=Leerdam-West +2=Broekgraaf",null,8,8,8,null,null,null,null,3,3,null,null,null,null,null,4,14,null,null,0,null,null,null,null,null,null,null,null,null,null,null,null,null,null,null,null,null,null,null,null,null,null,null,null,null,null,null,null,null,null,null,null,null,null,null,null,{"$f":"Tabel2547[[#This Row],[52]]+Tabel2547[[#This Row],[50]]+Tabel2547[[#This Row],[48]]+Tabel2547[[#This Row],[46]]+Tabel2547[[#This Row],[44]]+Tabel2547[[#This Row],[42]]+Tabel2547[[#This Row],[40]]+Tabel2547[[#This Row],[38]]+Tabel2547[[#This Row],[36]]+Tabel2547[[#This Row],[34]]+Tabel2547[[#This Row],[32]]+Tabel2547[[#This Row],[30]]+Tabel2547[[#This Row],[28]]+Tabel2547[[#This Row],[26]]+Tabel2547[[#This Row],[24]]+Tabel2547[[#This Row],[22]]+Tabel2547[[#This Row],[20]]+Tabel2547[[#This Row],[18]]+Tabel2547[[#This Row],[16]]+Tabel2547[[#This Row],[14]]+Tabel2547[[#This Row],[12]]+Tabel2547[[#This Row],[10]]+Tabel2547[[#This Row],[8]]+Tabel2547[[#This Row],[6]]+Tabel2547[[#This Row],[4]]+Tabel2547[[#This Row],[2]]","v":7},null,{"$f":"Tabel2547[[#This Row],[51]]+Tabel2547[[#This Row],[49]]+Tabel2547[[#This Row],[47]]+Tabel2547[[#This Row],[45]]+Tabel2547[[#This Row],[43]]+Tabel2547[[#This Row],[41]]+Tabel2547[[#This Row],[39]]+Tabel2547[[#This Row],[37]]+Tabel2547[[#This Row],[35]]+Tabel2547[[#This Row],[33]]+Tabel2547[[#This Row],[31]]+Tabel2547[[#This Row],[29]]+Tabel2547[[#This Row],[27]]+Tabel2547[[#This Row],[25]]+Tabel2547[[#This Row],[23]]+Tabel2547[[#This Row],[21]]+Tabel2547[[#This Row],[19]]+Tabel2547[[#This Row],[17]]+Tabel2547[[#This Row],[15]]+Tabel2547[[#This Row],[13]]+Tabel2547[[#This Row],[11]]+Tabel2547[[#This Row],[9]]+Tabel2547[[#This Row],[7]]+Tabel2547[[#This Row],[5]]+Tabel2547[[#This Row],[3]]+Tabel2547[[#This Row],[1]]","v":17},null,{"$f":"Tabel2547[[#This Row],[RGFT]]+Tabel2547[[#This Row],[RPMD]]","v":24},79,"Leerdam","VHL"]
["4.1",null,"Maandag","1=Leerdam-West +2=Broekgraaf","1=Laantje van van Ieperen 3",8,8,8,null,null,null,null,6,19,null,null,null,null,null,19,26,null,null,9,null,null,null,null,null,null,null,null,null,null,null,null,null,null,null,null,null,null,null,null,null,null,null,null,null,null,null,null,null,null,null,null,null,null,null,null,null,{"$f":"Tabel2547[[#This Row],[52]]+Tabel2547[[#This Row],[50]]+Tabel2547[[#This Row],[48]]+Tabel2547[[#This Row],[46]]+Tabel2547[[#This Row],[44]]+Tabel2547[[#This Row],[42]]+Tabel2547[[#This Row],[40]]+Tabel2547[[#This Row],[38]]+Tabel2547[[#This Row],[36]]+Tabel2547[[#This Row],[34]]+Tabel2547[[#This Row],[32]]+Tabel2547[[#This Row],[30]]+Tabel2547[[#This Row],[28]]+Tabel2547[[#This Row],[26]]+Tabel2547[[#This Row],[24]]+Tabel2547[[#This Row],[22]]+Tabel2547[[#This Row],[20]]+Tabel2547[[#This Row],[18]]+Tabel2547[[#This Row],[16]]+Tabel2547[[#This Row],[14]]+Tabel2547[[#This Row],[12]]+Tabel2547[[#This Row],[10]]+Tabel2547[[#This Row],[8]]+Tabel2547[[#This Row],[6]]+Tabel2547[[#This Row],[4]]+Tabel2547[[#This Row],[2]]","v":47},null,{"$f":"Tabel2547[[#This Row],[51]]+Tabel2547[[#This Row],[49]]+Tabel2547[[#This Row],[47]]+Tabel2547[[#This Row],[45]]+Tabel2547[[#This Row],[43]]+Tabel2547[[#This Row],[41]]+Tabel2547[[#This Row],[39]]+Tabel2547[[#This Row],[37]]+Tabel2547[[#This Row],[35]]+Tabel2547[[#This Row],[33]]+Tabel2547[[#This Row],[31]]+Tabel2547[[#This Row],[29]]+Tabel2547[[#This Row],[27]]+Tabel2547[[#This Row],[25]]+Tabel2547[[#This Row],[23]]+Tabel2547[[#This Row],[21]]+Tabel2547[[#This Row],[19]]+Tabel2547[[#This Row],[17]]+Tabel2547[[#This Row],[15]]+Tabel2547[[#This Row],[13]]+Tabel2547[[#This Row],[11]]+Tabel2547[[#This Row],[9]]+Tabel2547[[#This Row],[7]]+Tabel2547[[#This Row],[5]]+Tabel2547[[#This Row],[3]]+Tabel2547[[#This Row],[1]]","v":32},{"$f":"Tabel2547[[#This Row],[RGFT]]+Tabel2547[[#This Row],[RPMD]]","v":0},0,"Leerdam","VHL"]
["5.1",null,"Maandag","1= Nieuwland en 2 = Leerbroek binnen en Leerdam",null,8,9,8,null,null,null,null,null,null,null,null,null,2,4,null,null,null,null,null,null,0,23,null,null,null,null,null,null,null,null,null,null,null,null,null,null,null,null,null,null,null,null,null,null,null,null,null,null,null,null,null,null,null,null,null,{"$f":"Tabel2547[[#This Row],[52]]+Tabel2547[[#This Row],[50]]+Tabel2547[[#This Row],[48]]+Tabel2547[[#This Row],[46]]+Tabel2547[[#This Row],[44]]+Tabel2547[[#This Row],[42]]+Tabel2547[[#This Row],[40]]+Tabel2547[[#This Row],[38]]+Tabel2547[[#This Row],[36]]+Tabel2547[[#This Row],[34]]+Tabel2547[[#This Row],[32]]+Tabel2547[[#This Row],[30]]+Tabel2547[[#This Row],[28]]+Tabel2547[[#This Row],[26]]+Tabel2547[[#This Row],[24]]+Tabel2547[[#This Row],[22]]+Tabel2547[[#This Row],[20]]+Tabel2547[[#This Row],[18]]+Tabel2547[[#This Row],[16]]+Tabel2547[[#This Row],[14]]+Tabel2547[[#This Row],[12]]+Tabel2547[[#This Row],[10]]+Tabel2547[[#This Row],[8]]+Tabel2547[[#This Row],[6]]+Tabel2547[[#This Row],[4]]+Tabel2547[[#This Row],[2]]","v":2},null,{"$f":"Tabel2547[[#This Row],[51]]+Tabel2547[[#This Row],[49]]+Tabel2547[[#This Row],[47]]+Tabel2547[[#This Row],[45]]+Tabel2547[[#This Row],[43]]+Tabel2547[[#This Row],[41]]+Tabel2547[[#This Row],[39]]+Tabel2547[[#This Row],[37]]+Tabel2547[[#This Row],[35]]+Tabel2547[[#This Row],[33]]+Tabel2547[[#This Row],[31]]+Tabel2547[[#This Row],[29]]+Tabel2547[[#This Row],[27]]+Tabel2547[[#This Row],[25]]+Tabel2547[[#This Row],[23]]+Tabel2547[[#This Row],[21]]+Tabel2547[[#This Row],[19]]+Tabel2547[[#This Row],[17]]+Tabel2547[[#This Row],[15]]+Tabel2547[[#This Row],[13]]+Tabel2547[[#This Row],[11]]+Tabel2547[[#This Row],[9]]+Tabel2547[[#This Row],[7]]+Tabel2547[[#This Row],[5]]+Tabel2547[[#This Row],[3]]+Tabel2547[[#This Row],[1]]","v":27},null,{"$f":"Tabel2547[[#This Row],[RGFT]]+Tabel2547[[#This Row],[RPMD]]","v":29},75,"VHL"]
["5.1",null,"Maandag","1 = Nieuwland en 2 = Leerbroek binnen en Leerdam","1=Kwakernaak 4 en 2= Recht van ter leede 11",8,9,8,null,null,null,null,null,null,null,null,null,21,19,null,null,null,null,null,null,8,27,null,null,null,null,null,null,null,null,null,null,null,null,null,null,null,null,null,null,null,null,null,null,null,null,null,null,null,null,null,null,null,null,null,null,{"$f":"Tabel2547[[#This Row],[52]]+Tabel2547[[#This Row],[50]]+Tabel2547[[#This Row],[48]]+Tabel2547[[#This Row],[46]]+Tabel2547[[#This Row],[44]]+Tabel2547[[#This Row],[42]]+Tabel2547[[#This Row],[40]]+Tabel2547[[#This Row],[38]]+Tabel2547[[#This Row],[36]]+Tabel2547[[#This Row],[34]]+Tabel2547[[#This Row],[32]]+Tabel2547[[#This Row],[30]]+Tabel2547[[#This Row],[28]]+Tabel2547[[#This Row],[26]]+Tabel2547[[#This Row],[24]]+Tabel2547[[#This Row],[22]]+Tabel2547[[#This Row],[20]]+Tabel2547[[#This Row],[18]]+Tabel2547[[#This Row],[16]]+Tabel2547[[#This Row],[14]]+Tabel2547[[#This Row],[12]]+Tabel2547[[#This Row],[10]]+Tabel2547[[#This Row],[8]]+Tabel2547[[#This Row],[6]]+Tabel2547[[#This Row],[4]]+Tabel2547[[#This Row],[2]]","v":29},null,{"$f":"Tabel2547[[#This Row],[51]]+Tabel2547[[#This Row],[49]]+Tabel2547[[#This Row],[47]]+Tabel2547[[#This Row],[45]]+Tabel2547[[#This Row],[43]]+Tabel2547[[#This Row],[41]]+Tabel2547[[#This Row],[39]]+Tabel2547[[#This Row],[37]]+Tabel2547[[#This Row],[35]]+Tabel2547[[#This Row],[33]]+Tabel2547[[#This Row],[31]]+Tabel2547[[#This Row],[29]]+Tabel2547[[#This Row],[27]]+Tabel2547[[#This Row],[25]]+Tabel2547[[#This Row],[23]]+Tabel2547[[#This Row],[21]]+Tabel2547[[#This Row],[19]]+Tabel2547[[#This Row],[17]]+Tabel2547[[#This Row],[15]]+Tabel2547[[#This Row],[13]]+Tabel2547[[#This Row],[11]]+Tabel2547[[#This Row],[9]]+Tabel2547[[#This Row],[7]]+Tabel2547[[#This Row],[5]]+Tabel2547[[#This Row],[3]]+Tabel2547[[#This Row],[1]]","v":46},{"$f":"Tabel2547[[#This Row],[RGFT]]+Tabel2547[[#This Row],[RPMD]]","v":0},0,"VHL"]
["1.1",null,"Dinsdag","Lingewijk Gorinchem",null,4,4,4,3,3,1,null,10,null,null,null,null,null,17,null,null,1,null,null,null,null,null,null,null,null,null,null,null,null,null,null,null,null,null,null,null,null,null,null,null,null,null,null,null,null,null,null,null,null,null,null,null,null,null,null,{"$f":"Tabel2547[[#This Row],[52]]+Tabel2547[[#This Row],[50]]+Tabel2547[[#This Row],[48]]+Tabel2547[[#This Row],[46]]+Tabel2547[[#This Row],[44]]+Tabel2547[[#This Row],[42]]+Tabel2547[[#This Row],[40]]+Tabel2547[[#This Row],[38]]+Tabel2547[[#This Row],[36]]+Tabel2547[[#This Row],[34]]+Tabel2547[[#This Row],[32]]+Tabel2547[[#This Row],[30]]+Tabel2547[[#This Row],[28]]+Tabel2547[[#This Row],[26]]+Tabel2547[[#This Row],[24]]+Tabel2547[[#This Row],[22]]+Tabel2547[[#This Row],[20]]+Tabel2547[[#This Row],[18]]+Tabel2547[[#This Row],[16]]+Tabel2547[[#This Row],[14]]+Tabel2547[[#This Row],[12]]+Tabel2547[[#This Row],[10]]+Tabel2547[[#This Row],[8]]+Tabel2547[[#This Row],[6]]+Tabel2547[[#This Row],[4]]+Tabel2547[[#This Row],[2]]","v":4},null,{"$f":"Tabel2547[[#This Row],[51]]+Tabel2547[[#This Row],[49]]+Tabel2547[[#This Row],[47]]+Tabel2547[[#This Row],[45]]+Tabel2547[[#This Row],[43]]+Tabel2547[[#This Row],[41]]+Tabel2547[[#This Row],[39]]+Tabel2547[[#This Row],[37]]+Tabel2547[[#This Row],[35]]+Tabel2547[[#This Row],[33]]+Tabel2547[[#This Row],[31]]+Tabel2547[[#This Row],[29]]+Tabel2547[[#This Row],[27]]+Tabel2547[[#This Row],[25]]+Tabel2547[[#This Row],[23]]+Tabel2547[[#This Row],[21]]+Tabel2547[[#This Row],[19]]+Tabel2547[[#This Row],[17]]+Tabel2547[[#This Row],[15]]+Tabel2547[[#This Row],[13]]+Tabel2547[[#This Row],[11]]+Tabel2547[[#This Row],[9]]+Tabel2547[[#This Row],[7]]+Tabel2547[[#This Row],[5]]+Tabel2547[[#This Row],[3]]+Tabel2547[[#This Row],[1]]","v":31},null,{"$f":"Tabel2547[[#This Row],[RGFT]]+Tabel2547[[#This Row],[RPMD]]","v":35},117,"Gorinchem"]
["1.1",null,"Dinsdag","Lingewijk Gorinchem","Buitenbaan 61",4,4,4,23,18,20,null,32,null,null,null,null,null,22,null,null,2,null,null,null,null,null,null,null,null,null,null,null,null,null,null,null,null,null,null,null,null,null,null,null,null,null,null,null,null,null,null,null,null,null,null,null,null,null,null,null,{"$f":"Tabel2547[[#This Row],[52]]+Tabel2547[[#This Row],[50]]+Tabel2547[[#This Row],[48]]+Tabel2547[[#This Row],[46]]+Tabel2547[[#This Row],[44]]+Tabel2547[[#This Row],[42]]+Tabel2547[[#This Row],[40]]+Tabel2547[[#This Row],[38]]+Tabel2547[[#This Row],[36]]+Tabel2547[[#This Row],[34]]+Tabel2547[[#This Row],[32]]+Tabel2547[[#This Row],[30]]+Tabel2547[[#This Row],[28]]+Tabel2547[[#This Row],[26]]+Tabel2547[[#This Row],[24]]+Tabel2547[[#This Row],[22]]+Tabel2547[[#This Row],[20]]+Tabel2547[[#This Row],[18]]+Tabel2547[[#This Row],[16]]+Tabel2547[[#This Row],[14]]+Tabel2547[[#This Row],[12]]+Tabel2547[[#This Row],[10]]+Tabel2547[[#This Row],[8]]+Tabel2547[[#This Row],[6]]+Tabel2547[[#This Row],[4]]+Tabel2547[[#This Row],[2]]","v":20},null,{"$f":"Tabel2547[[#This Row],[51]]+Tabel2547[[#This Row],[49]]+Tabel2547[[#This Row],[47]]+Tabel2547[[#This Row],[45]]+Tabel2547[[#This Row],[43]]+Tabel2547[[#This Row],[41]]+Tabel2547[[#This Row],[39]]+Tabel2547[[#This Row],[37]]+Tabel2547[[#This Row],[35]]+Tabel2547[[#This Row],[33]]+Tabel2547[[#This Row],[31]]+Tabel2547[[#This Row],[29]]+Tabel2547[[#This Row],[27]]+Tabel2547[[#This Row],[25]]+Tabel2547[[#This Row],[23]]+Tabel2547[[#This Row],[21]]+Tabel2547[[#This Row],[19]]+Tabel2547[[#This Row],[17]]+Tabel2547[[#This Row],[15]]+Tabel2547[[#This Row],[13]]+Tabel2547[[#This Row],[11]]+Tabel2547[[#This Row],[9]]+Tabel2547[[#This Row],[7]]+Tabel2547[[#This Row],[5]]+Tabel2547[[#This Row],[3]]+Tabel2547[[#This Row],[1]]","v":97},{"$f":"Tabel2547[[#This Row],[RGFT]]+Tabel2547[[#This Row],[RPMD]]","v":0},0,"Gorinchem"]
["1.2",null,"Dinsdag","Gildewijk, Haarwijk 2",null,4,4,4,5,0,8,0,4,null,null,null,null,null,null,null,null,null,null,null,5,null,null,null,null,null,null,null,null,null,null,null,null,null,null,null,null,null,null,null,null,null,null,null,null,null,null,null,null,null,null,null,null,null,null,null,{"$f":"Tabel2547[[#This Row],[52]]+Tabel2547[[#This Row],[50]]+Tabel2547[[#This Row],[48]]+Tabel2547[[#This Row],[46]]+Tabel2547[[#This Row],[44]]+Tabel2547[[#This Row],[42]]+Tabel2547[[#This Row],[40]]+Tabel2547[[#This Row],[38]]+Tabel2547[[#This Row],[36]]+Tabel2547[[#This Row],[34]]+Tabel2547[[#This Row],[32]]+Tabel2547[[#This Row],[30]]+Tabel2547[[#This Row],[28]]+Tabel2547[[#This Row],[26]]+Tabel2547[[#This Row],[24]]+Tabel2547[[#This Row],[22]]+Tabel2547[[#This Row],[20]]+Tabel2547[[#This Row],[18]]+Tabel2547[[#This Row],[16]]+Tabel2547[[#This Row],[14]]+Tabel2547[[#This Row],[12]]+Tabel2547[[#This Row],[10]]+Tabel2547[[#This Row],[8]]+Tabel2547[[#This Row],[6]]+Tabel2547[[#This Row],[4]]+Tabel2547[[#This Row],[2]]","v":0},null,{"$f":"Tabel2547[[#This Row],[51]]+Tabel2547[[#This Row],[49]]+Tabel2547[[#This Row],[47]]+Tabel2547[[#This Row],[45]]+Tabel2547[[#This Row],[43]]+Tabel2547[[#This Row],[41]]+Tabel2547[[#This Row],[39]]+Tabel2547[[#This Row],[37]]+Tabel2547[[#This Row],[35]]+Tabel2547[[#This Row],[33]]+Tabel2547[[#This Row],[31]]+Tabel2547[[#This Row],[29]]+Tabel2547[[#This Row],[27]]+Tabel2547[[#This Row],[25]]+Tabel2547[[#This Row],[23]]+Tabel2547[[#This Row],[21]]+Tabel2547[[#This Row],[19]]+Tabel2547[[#This Row],[17]]+Tabel2547[[#This Row],[15]]+Tabel2547[[#This Row],[13]]+Tabel2547[[#This Row],[11]]+Tabel2547[[#This Row],[9]]+Tabel2547[[#This Row],[7]]+Tabel2547[[#This Row],[5]]+Tabel2547[[#This Row],[3]]+Tabel2547[[#This Row],[1]]","v":22},null,{"$f":"Tabel2547[[#This Row],[RGFT]]+Tabel2547[[#This Row],[RPMD]]","v":22},58,"Gorinchem"]
["1.2",null,"Dinsdag","1=Gildewijk, 2=Haarwijk 2","1=Leidekkerstraat 1 2= Kon. Julianalaan 3",4,4,4,9,0,15,29,3,null,null,null,null,null,null,null,null,null,null,null,2,null,null,null,null,null,null,null,null,null,null,null,null,null,null,null,null,null,null,null,null,null,null,null,null,null,null,null,null,null,null,null,null,null,null,null,null,{"$f":"Tabel2547[[#This Row],[52]]+Tabel2547[[#This Row],[50]]+Tabel2547[[#This Row],[48]]+Tabel2547[[#This Row],[46]]+Tabel2547[[#This Row],[44]]+Tabel2547[[#This Row],[42]]+Tabel2547[[#This Row],[40]]+Tabel2547[[#This Row],[38]]+Tabel2547[[#This Row],[36]]+Tabel2547[[#This Row],[34]]+Tabel2547[[#This Row],[32]]+Tabel2547[[#This Row],[30]]+Tabel2547[[#This Row],[28]]+Tabel2547[[#This Row],[26]]+Tabel2547[[#This Row],[24]]+Tabel2547[[#This Row],[22]]+Tabel2547[[#This Row],[20]]+Tabel2547[[#This Row],[18]]+Tabel2547[[#This Row],[16]]+Tabel2547[[#This Row],[14]]+Tabel2547[[#This Row],[12]]+Tabel2547[[#This Row],[10]]+Tabel2547[[#This Row],[8]]+Tabel2547[[#This Row],[6]]+Tabel2547[[#This Row],[4]]+Tabel2547[[#This Row],[2]]","v":29},null,{"$f":"Tabel2547[[#This Row],[51]]+Tabel2547[[#This Row],[49]]+Tabel2547[[#This Row],[47]]+Tabel2547[[#This Row],[45]]+Tabel2547[[#This Row],[43]]+Tabel2547[[#This Row],[41]]+Tabel2547[[#This Row],[39]]+Tabel2547[[#This Row],[37]]+Tabel2547[[#This Row],[35]]+Tabel2547[[#This Row],[33]]+Tabel2547[[#This Row],[31]]+Tabel2547[[#This Row],[29]]+Tabel2547[[#This Row],[27]]+Tabel2547[[#This Row],[25]]+Tabel2547[[#This Row],[23]]+Tabel2547[[#This Row],[21]]+Tabel2547[[#This Row],[19]]+Tabel2547[[#This Row],[17]]+Tabel2547[[#This Row],[15]]+Tabel2547[[#This Row],[13]]+Tabel2547[[#This Row],[11]]+Tabel2547[[#This Row],[9]]+Tabel2547[[#This Row],[7]]+Tabel2547[[#This Row],[5]]+Tabel2547[[#This Row],[3]]+Tabel2547[[#This Row],[1]]","v":29},{"$f":"Tabel2547[[#This Row],[RGFT]]+Tabel2547[[#This Row],[RPMD]]","v":0},0,"Gorinchem"]
["2.1",null,"Dinsdag","Haarwijk 1 - Haarwijk 2 helpen",null,5,5,5,null,0,7,3,38,null,null,1,9,null,0,1,7,null,0,null,28,2,23,null,null,null,null,null,null,null,null,null,null,null,null,null,null,null,null,null,null,null,null,null,null,null,null,null,null,null,null,null,null,null,null,null,{"$f":"Tabel2547[[#This Row],[52]]+Tabel2547[[#This Row],[50]]+Tabel2547[[#This Row],[48]]+Tabel2547[[#This Row],[46]]+Tabel2547[[#This Row],[44]]+Tabel2547[[#This Row],[42]]+Tabel2547[[#This Row],[40]]+Tabel2547[[#This Row],[38]]+Tabel2547[[#This Row],[36]]+Tabel2547[[#This Row],[34]]+Tabel2547[[#This Row],[32]]+Tabel2547[[#This Row],[30]]+Tabel2547[[#This Row],[28]]+Tabel2547[[#This Row],[26]]+Tabel2547[[#This Row],[24]]+Tabel2547[[#This Row],[22]]+Tabel2547[[#This Row],[20]]+Tabel2547[[#This Row],[18]]+Tabel2547[[#This Row],[16]]+Tabel2547[[#This Row],[14]]+Tabel2547[[#This Row],[12]]+Tabel2547[[#This Row],[10]]+Tabel2547[[#This Row],[8]]+Tabel2547[[#This Row],[6]]+Tabel2547[[#This Row],[4]]+Tabel2547[[#This Row],[2]]","v":7},null,{"$f":"Tabel2547[[#This Row],[51]]+Tabel2547[[#This Row],[49]]+Tabel2547[[#This Row],[47]]+Tabel2547[[#This Row],[45]]+Tabel2547[[#This Row],[43]]+Tabel2547[[#This Row],[41]]+Tabel2547[[#This Row],[39]]+Tabel2547[[#This Row],[37]]+Tabel2547[[#This Row],[35]]+Tabel2547[[#This Row],[33]]+Tabel2547[[#This Row],[31]]+Tabel2547[[#This Row],[29]]+Tabel2547[[#This Row],[27]]+Tabel2547[[#This Row],[25]]+Tabel2547[[#This Row],[23]]+Tabel2547[[#This Row],[21]]+Tabel2547[[#This Row],[19]]+Tabel2547[[#This Row],[17]]+Tabel2547[[#This Row],[15]]+Tabel2547[[#This Row],[13]]+Tabel2547[[#This Row],[11]]+Tabel2547[[#This Row],[9]]+Tabel2547[[#This Row],[7]]+Tabel2547[[#This Row],[5]]+Tabel2547[[#This Row],[3]]+Tabel2547[[#This Row],[1]]","v":112},null,{"$f":"Tabel2547[[#This Row],[RGFT]]+Tabel2547[[#This Row],[RPMD]]","v":119},142,"Gorinchem"]
["2.1",null,"Dinsdag","1 =Haarwijk 1 - Haarwijk 2 helpen","1= Marinus spronklaan 1",5,5,5,null,11,11,21,20,null,null,7,10,null,6,11,8,null,6,null,17,10,4,null,null,null,null,null,null,null,null,null,null,null,null,null,null,null,null,null,null,null,null,null,null,null,null,null,null,null,null,null,null,null,null,null,null,{"$f":"Tabel2547[[#This Row],[52]]+Tabel2547[[#This Row],[50]]+Tabel2547[[#This Row],[48]]+Tabel2547[[#This Row],[46]]+Tabel2547[[#This Row],[44]]+Tabel2547[[#This Row],[42]]+Tabel2547[[#This Row],[40]]+Tabel2547[[#This Row],[38]]+Tabel2547[[#This Row],[36]]+Tabel2547[[#This Row],[34]]+Tabel2547[[#This Row],[32]]+Tabel2547[[#This Row],[30]]+Tabel2547[[#This Row],[28]]+Tabel2547[[#This Row],[26]]+Tabel2547[[#This Row],[24]]+Tabel2547[[#This Row],[22]]+Tabel2547[[#This Row],[20]]+Tabel2547[[#This Row],[18]]+Tabel2547[[#This Row],[16]]+Tabel2547[[#This Row],[14]]+Tabel2547[[#This Row],[12]]+Tabel2547[[#This Row],[10]]+Tabel2547[[#This Row],[8]]+Tabel2547[[#This Row],[6]]+Tabel2547[[#This Row],[4]]+Tabel2547[[#This Row],[2]]","v":60},null,{"$f":"Tabel2547[[#This Row],[51]]+Tabel2547[[#This Row],[49]]+Tabel2547[[#This Row],[47]]+Tabel2547[[#This Row],[45]]+Tabel2547[[#This Row],[43]]+Tabel2547[[#This Row],[41]]+Tabel2547[[#This Row],[39]]+Tabel2547[[#This Row],[37]]+Tabel2547[[#This Row],[35]]+Tabel2547[[#This Row],[33]]+Tabel2547[[#This Row],[31]]+Tabel2547[[#This Row],[29]]+Tabel2547[[#This Row],[27]]+Tabel2547[[#This Row],[25]]+Tabel2547[[#This Row],[23]]+Tabel2547[[#This Row],[21]]+Tabel2547[[#This Row],[19]]+Tabel2547[[#This Row],[17]]+Tabel2547[[#This Row],[15]]+Tabel2547[[#This Row],[13]]+Tabel2547[[#This Row],[11]]+Tabel2547[[#This Row],[9]]+Tabel2547[[#This Row],[7]]+Tabel2547[[#This Row],[5]]+Tabel2547[[#This Row],[3]]+Tabel2547[[#This Row],[1]]","v":82},{"$f":"Tabel2547[[#This Row],[RGFT]]+Tabel2547[[#This Row],[RPMD]]","v":0},0,"Gorinchem"]
["3.1",null,"Dinsdag","Gorinchem Wijdschild, daarna Componisten wijk",null,8,8,8,null,null,null,null,null,5,null,null,null,null,null,null,null,null,10,null,null,21,null,null,null,null,null,null,null,null,null,null,null,null,null,null,null,null,null,null,null,null,null,null,null,null,null,null,null,null,null,null,null,null,null,null,{"$f":"Tabel2547[[#This Row],[52]]+Tabel2547[[#This Row],[50]]+Tabel2547[[#This Row],[48]]+Tabel2547[[#This Row],[46]]+Tabel2547[[#This Row],[44]]+Tabel2547[[#This Row],[42]]+Tabel2547[[#This Row],[40]]+Tabel2547[[#This Row],[38]]+Tabel2547[[#This Row],[36]]+Tabel2547[[#This Row],[34]]+Tabel2547[[#This Row],[32]]+Tabel2547[[#This Row],[30]]+Tabel2547[[#This Row],[28]]+Tabel2547[[#This Row],[26]]+Tabel2547[[#This Row],[24]]+Tabel2547[[#This Row],[22]]+Tabel2547[[#This Row],[20]]+Tabel2547[[#This Row],[18]]+Tabel2547[[#This Row],[16]]+Tabel2547[[#This Row],[14]]+Tabel2547[[#This Row],[12]]+Tabel2547[[#This Row],[10]]+Tabel2547[[#This Row],[8]]+Tabel2547[[#This Row],[6]]+Tabel2547[[#This Row],[4]]+Tabel2547[[#This Row],[2]]","v":26},null,{"$f":"Tabel2547[[#This Row],[51]]+Tabel2547[[#This Row],[49]]+Tabel2547[[#This Row],[47]]+Tabel2547[[#This Row],[45]]+Tabel2547[[#This Row],[43]]+Tabel2547[[#This Row],[41]]+Tabel2547[[#This Row],[39]]+Tabel2547[[#This Row],[37]]+Tabel2547[[#This Row],[35]]+Tabel2547[[#This Row],[33]]+Tabel2547[[#This Row],[31]]+Tabel2547[[#This Row],[29]]+Tabel2547[[#This Row],[27]]+Tabel2547[[#This Row],[25]]+Tabel2547[[#This Row],[23]]+Tabel2547[[#This Row],[21]]+Tabel2547[[#This Row],[19]]+Tabel2547[[#This Row],[17]]+Tabel2547[[#This Row],[15]]+Tabel2547[[#This Row],[13]]+Tabel2547[[#This Row],[11]]+Tabel2547[[#This Row],[9]]+Tabel2547[[#This Row],[7]]+Tabel2547[[#This Row],[5]]+Tabel2547[[#This Row],[3]]+Tabel2547[[#This Row],[1]]","v":10},null,{"$f":"Tabel2547[[#This Row],[RGFT]]+Tabel2547[[#This Row],[RPMD]]","v":36},74,"Gorinchem"]
["3.1",null,"Dinsdag","1=Gorinchem Wijdschild, 2=  Componisten wijk","1=Flank 15 2= Verdistraat 9",8,8,8,null,null,null,null,null,30,null,null,null,null,null,null,null,null,35,null,null,9,null,null,null,null,null,null,null,null,null,null,null,null,null,null,null,null,null,null,null,null,null,null,null,null,null,null,null,null,null,null,null,null,null,null,null,{"$f":"Tabel2547[[#This Row],[52]]+Tabel2547[[#This Row],[50]]+Tabel2547[[#This Row],[48]]+Tabel2547[[#This Row],[46]]+Tabel2547[[#This Row],[44]]+Tabel2547[[#This Row],[42]]+Tabel2547[[#This Row],[40]]+Tabel2547[[#This Row],[38]]+Tabel2547[[#This Row],[36]]+Tabel2547[[#This Row],[34]]+Tabel2547[[#This Row],[32]]+Tabel2547[[#This Row],[30]]+Tabel2547[[#This Row],[28]]+Tabel2547[[#This Row],[26]]+Tabel2547[[#This Row],[24]]+Tabel2547[[#This Row],[22]]+Tabel2547[[#This Row],[20]]+Tabel2547[[#This Row],[18]]+Tabel2547[[#This Row],[16]]+Tabel2547[[#This Row],[14]]+Tabel2547[[#This Row],[12]]+Tabel2547[[#This Row],[10]]+Tabel2547[[#This Row],[8]]+Tabel2547[[#This Row],[6]]+Tabel2547[[#This Row],[4]]+Tabel2547[[#This Row],[2]]","v":39},null,{"$f":"Tabel2547[[#This Row],[51]]+Tabel2547[[#This Row],[49]]+Tabel2547[[#This Row],[47]]+Tabel2547[[#This Row],[45]]+Tabel2547[[#This Row],[43]]+Tabel2547[[#This Row],[41]]+Tabel2547[[#This Row],[39]]+Tabel2547[[#This Row],[37]]+Tabel2547[[#This Row],[35]]+Tabel2547[[#This Row],[33]]+Tabel2547[[#This Row],[31]]+Tabel2547[[#This Row],[29]]+Tabel2547[[#This Row],[27]]+Tabel2547[[#This Row],[25]]+Tabel2547[[#This Row],[23]]+Tabel2547[[#This Row],[21]]+Tabel2547[[#This Row],[19]]+Tabel2547[[#This Row],[17]]+Tabel2547[[#This Row],[15]]+Tabel2547[[#This Row],[13]]+Tabel2547[[#This Row],[11]]+Tabel2547[[#This Row],[9]]+Tabel2547[[#This Row],[7]]+Tabel2547[[#This Row],[5]]+Tabel2547[[#This Row],[3]]+Tabel2547[[#This Row],[1]]","v":35},{"$f":"Tabel2547[[#This Row],[RGFT]]+Tabel2547[[#This Row],[RPMD]]","v":0},0,"Gorinchem"]
["4.1",null,"Dinsdag","3=Hoogdalem, 2=Dalem en 1=Donken",null,7,7,7,null,null,null,null,null,null,null,null,21,1,null,8,null,null,null,0,6,null,null,null,null,null,null,null,null,null,null,null,null,null,null,null,null,null,null,null,null,null,null,null,null,null,null,null,null,null,null,null,null,null,null,null,{"$f":"Tabel2547[[#This Row],[52]]+Tabel2547[[#This Row],[50]]+Tabel2547[[#This Row],[48]]+Tabel2547[[#This Row],[46]]+Tabel2547[[#This Row],[44]]+Tabel2547[[#This Row],[42]]+Tabel2547[[#This Row],[40]]+Tabel2547[[#This Row],[38]]+Tabel2547[[#This Row],[36]]+Tabel2547[[#This Row],[34]]+Tabel2547[[#This Row],[32]]+Tabel2547[[#This Row],[30]]+Tabel2547[[#This Row],[28]]+Tabel2547[[#This Row],[26]]+Tabel2547[[#This Row],[24]]+Tabel2547[[#This Row],[22]]+Tabel2547[[#This Row],[20]]+Tabel2547[[#This Row],[18]]+Tabel2547[[#This Row],[16]]+Tabel2547[[#This Row],[14]]+Tabel2547[[#This Row],[12]]+Tabel2547[[#This Row],[10]]+Tabel2547[[#This Row],[8]]+Tabel2547[[#This Row],[6]]+Tabel2547[[#This Row],[4]]+Tabel2547[[#This Row],[2]]","v":9},null,{"$f":"Tabel2547[[#This Row],[51]]+Tabel2547[[#This Row],[49]]+Tabel2547[[#This Row],[47]]+Tabel2547[[#This Row],[45]]+Tabel2547[[#This Row],[43]]+Tabel2547[[#This Row],[41]]+Tabel2547[[#This Row],[39]]+Tabel2547[[#This Row],[37]]+Tabel2547[[#This Row],[35]]+Tabel2547[[#This Row],[33]]+Tabel2547[[#This Row],[31]]+Tabel2547[[#This Row],[29]]+Tabel2547[[#This Row],[27]]+Tabel2547[[#This Row],[25]]+Tabel2547[[#This Row],[23]]+Tabel2547[[#This Row],[21]]+Tabel2547[[#This Row],[19]]+Tabel2547[[#This Row],[17]]+Tabel2547[[#This Row],[15]]+Tabel2547[[#This Row],[13]]+Tabel2547[[#This Row],[11]]+Tabel2547[[#This Row],[9]]+Tabel2547[[#This Row],[7]]+Tabel2547[[#This Row],[5]]+Tabel2547[[#This Row],[3]]+Tabel2547[[#This Row],[1]]","v":27},null,{"$f":"Tabel2547[[#This Row],[RGFT]]+Tabel2547[[#This Row],[RPMD]]","v":36},97,"Gorinchem"]
["4.1",null,"Dinsdag","3=Hoogdalem, 2=Dalem en 1=Donken","1= Merwedonk 17 2= de Wetering 2",7,7,7,null,null,null,null,null,null,null,null,33,17,null,21,null,null,null,13,13,null,null,null,null,null,null,null,null,null,null,null,null,null,null,null,null,null,null,null,null,null,null,null,null,null,null,null,null,null,null,null,null,null,null,null,null,{"$f":"Tabel2547[[#This Row],[52]]+Tabel2547[[#This Row],[50]]+Tabel2547[[#This Row],[48]]+Tabel2547[[#This Row],[46]]+Tabel2547[[#This Row],[44]]+Tabel2547[[#This Row],[42]]+Tabel2547[[#This Row],[40]]+Tabel2547[[#This Row],[38]]+Tabel2547[[#This Row],[36]]+Tabel2547[[#This Row],[34]]+Tabel2547[[#This Row],[32]]+Tabel2547[[#This Row],[30]]+Tabel2547[[#This Row],[28]]+Tabel2547[[#This Row],[26]]+Tabel2547[[#This Row],[24]]+Tabel2547[[#This Row],[22]]+Tabel2547[[#This Row],[20]]+Tabel2547[[#This Row],[18]]+Tabel2547[[#This Row],[16]]+Tabel2547[[#This Row],[14]]+Tabel2547[[#This Row],[12]]+Tabel2547[[#This Row],[10]]+Tabel2547[[#This Row],[8]]+Tabel2547[[#This Row],[6]]+Tabel2547[[#This Row],[4]]+Tabel2547[[#This Row],[2]]","v":51},null,{"$f":"Tabel2547[[#This Row],[51]]+Tabel2547[[#This Row],[49]]+Tabel2547[[#This Row],[47]]+Tabel2547[[#This Row],[45]]+Tabel2547[[#This Row],[43]]+Tabel2547[[#This Row],[41]]+Tabel2547[[#This Row],[39]]+Tabel2547[[#This Row],[37]]+Tabel2547[[#This Row],[35]]+Tabel2547[[#This Row],[33]]+Tabel2547[[#This Row],[31]]+Tabel2547[[#This Row],[29]]+Tabel2547[[#This Row],[27]]+Tabel2547[[#This Row],[25]]+Tabel2547[[#This Row],[23]]+Tabel2547[[#This Row],[21]]+Tabel2547[[#This Row],[19]]+Tabel2547[[#This Row],[17]]+Tabel2547[[#This Row],[15]]+Tabel2547[[#This Row],[13]]+Tabel2547[[#This Row],[11]]+Tabel2547[[#This Row],[9]]+Tabel2547[[#This Row],[7]]+Tabel2547[[#This Row],[5]]+Tabel2547[[#This Row],[3]]+Tabel2547[[#This Row],[1]]","v":46},{"$f":"Tabel2547[[#This Row],[RGFT]]+Tabel2547[[#This Row],[RPMD]]","v":0},0,"Gorinchem"]
["5.1",null,"Dinsdag","Hoogblokland Binnen",null,5,5,5,null,null,null,null,null,null,null,null,null,null,null,null,null,null,null,null,null,1,22,null,null,null,null,null,null,null,null,null,null,null,null,null,null,null,null,null,null,null,null,null,null,null,null,null,null,null,null,null,null,null,null,null,{"$f":"Tabel2547[[#This Row],[52]]+Tabel2547[[#This Row],[50]]+Tabel2547[[#This Row],[48]]+Tabel2547[[#This Row],[46]]+Tabel2547[[#This Row],[44]]+Tabel2547[[#This Row],[42]]+Tabel2547[[#This Row],[40]]+Tabel2547[[#This Row],[38]]+Tabel2547[[#This Row],[36]]+Tabel2547[[#This Row],[34]]+Tabel2547[[#This Row],[32]]+Tabel2547[[#This Row],[30]]+Tabel2547[[#This Row],[28]]+Tabel2547[[#This Row],[26]]+Tabel2547[[#This Row],[24]]+Tabel2547[[#This Row],[22]]+Tabel2547[[#This Row],[20]]+Tabel2547[[#This Row],[18]]+Tabel2547[[#This Row],[16]]+Tabel2547[[#This Row],[14]]+Tabel2547[[#This Row],[12]]+Tabel2547[[#This Row],[10]]+Tabel2547[[#This Row],[8]]+Tabel2547[[#This Row],[6]]+Tabel2547[[#This Row],[4]]+Tabel2547[[#This Row],[2]]","v":1},null,{"$f":"Tabel2547[[#This Row],[51]]+Tabel2547[[#This Row],[49]]+Tabel2547[[#This Row],[47]]+Tabel2547[[#This Row],[45]]+Tabel2547[[#This Row],[43]]+Tabel2547[[#This Row],[41]]+Tabel2547[[#This Row],[39]]+Tabel2547[[#This Row],[37]]+Tabel2547[[#This Row],[35]]+Tabel2547[[#This Row],[33]]+Tabel2547[[#This Row],[31]]+Tabel2547[[#This Row],[29]]+Tabel2547[[#This Row],[27]]+Tabel2547[[#This Row],[25]]+Tabel2547[[#This Row],[23]]+Tabel2547[[#This Row],[21]]+Tabel2547[[#This Row],[19]]+Tabel2547[[#This Row],[17]]+Tabel2547[[#This Row],[15]]+Tabel2547[[#This Row],[13]]+Tabel2547[[#This Row],[11]]+Tabel2547[[#This Row],[9]]+Tabel2547[[#This Row],[7]]+Tabel2547[[#This Row],[5]]+Tabel2547[[#This Row],[3]]+Tabel2547[[#This Row],[1]]","v":22},null,{"$f":"Tabel2547[[#This Row],[RGFT]]+Tabel2547[[#This Row],[RPMD]]","v":23},19,"Molenlanden"]
["5.1",null,"Dinsdag","Hoogblokland Binnen","Onderweg 2",5,5,5,null,null,null,null,null,null,null,null,null,null,null,null,null,null,null,null,null,9,10,null,null,null,null,null,null,null,null,null,null,null,null,null,null,null,null,null,null,null,null,null,null,null,null,null,null,null,null,null,null,null,null,null,null,{"$f":"Tabel2547[[#This Row],[52]]+Tabel2547[[#This Row],[50]]+Tabel2547[[#This Row],[48]]+Tabel2547[[#This Row],[46]]+Tabel2547[[#This Row],[44]]+Tabel2547[[#This Row],[42]]+Tabel2547[[#This Row],[40]]+Tabel2547[[#This Row],[38]]+Tabel2547[[#This Row],[36]]+Tabel2547[[#This Row],[34]]+Tabel2547[[#This Row],[32]]+Tabel2547[[#This Row],[30]]+Tabel2547[[#This Row],[28]]+Tabel2547[[#This Row],[26]]+Tabel2547[[#This Row],[24]]+Tabel2547[[#This Row],[22]]+Tabel2547[[#This Row],[20]]+Tabel2547[[#This Row],[18]]+Tabel2547[[#This Row],[16]]+Tabel2547[[#This Row],[14]]+Tabel2547[[#This Row],[12]]+Tabel2547[[#This Row],[10]]+Tabel2547[[#This Row],[8]]+Tabel2547[[#This Row],[6]]+Tabel2547[[#This Row],[4]]+Tabel2547[[#This Row],[2]]","v":9},null,{"$f":"Tabel2547[[#This Row],[51]]+Tabel2547[[#This Row],[49]]+Tabel2547[[#This Row],[47]]+Tabel2547[[#This Row],[45]]+Tabel2547[[#This Row],[43]]+Tabel2547[[#This Row],[41]]+Tabel2547[[#This Row],[39]]+Tabel2547[[#This Row],[37]]+Tabel2547[[#This Row],[35]]+Tabel2547[[#This Row],[33]]+Tabel2547[[#This Row],[31]]+Tabel2547[[#This Row],[29]]+Tabel2547[[#This Row],[27]]+Tabel2547[[#This Row],[25]]+Tabel2547[[#This Row],[23]]+Tabel2547[[#This Row],[21]]+Tabel2547[[#This Row],[19]]+Tabel2547[[#This Row],[17]]+Tabel2547[[#This Row],[15]]+Tabel2547[[#This Row],[13]]+Tabel2547[[#This Row],[11]]+Tabel2547[[#This Row],[9]]+Tabel2547[[#This Row],[7]]+Tabel2547[[#This Row],[5]]+Tabel2547[[#This Row],[3]]+Tabel2547[[#This Row],[1]]","v":10},{"$f":"Tabel2547[[#This Row],[RGFT]]+Tabel2547[[#This Row],[RPMD]]","v":0},0,"Molenlanden"]
["6.1",null,"Dinsdag","Hoef en Haag ",null,4,3,3,null,null,null,null,null,null,null,null,null,null,null,null,16,18,24,null,null,null,64,null,null,null,null,null,null,null,null,null,null,null,null,null,null,null,null,null,null,null,null,null,null,null,null,null,null,null,null,null,null,null,null,null,{"$f":"Tabel2547[[#This Row],[52]]+Tabel2547[[#This Row],[50]]+Tabel2547[[#This Row],[48]]+Tabel2547[[#This Row],[46]]+Tabel2547[[#This Row],[44]]+Tabel2547[[#This Row],[42]]+Tabel2547[[#This Row],[40]]+Tabel2547[[#This Row],[38]]+Tabel2547[[#This Row],[36]]+Tabel2547[[#This Row],[34]]+Tabel2547[[#This Row],[32]]+Tabel2547[[#This Row],[30]]+Tabel2547[[#This Row],[28]]+Tabel2547[[#This Row],[26]]+Tabel2547[[#This Row],[24]]+Tabel2547[[#This Row],[22]]+Tabel2547[[#This Row],[20]]+Tabel2547[[#This Row],[18]]+Tabel2547[[#This Row],[16]]+Tabel2547[[#This Row],[14]]+Tabel2547[[#This Row],[12]]+Tabel2547[[#This Row],[10]]+Tabel2547[[#This Row],[8]]+Tabel2547[[#This Row],[6]]+Tabel2547[[#This Row],[4]]+Tabel2547[[#This Row],[2]]","v":18},null,{"$f":"Tabel2547[[#This Row],[51]]+Tabel2547[[#This Row],[49]]+Tabel2547[[#This Row],[47]]+Tabel2547[[#This Row],[45]]+Tabel2547[[#This Row],[43]]+Tabel2547[[#This Row],[41]]+Tabel2547[[#This Row],[39]]+Tabel2547[[#This Row],[37]]+Tabel2547[[#This Row],[35]]+Tabel2547[[#This Row],[33]]+Tabel2547[[#This Row],[31]]+Tabel2547[[#This Row],[29]]+Tabel2547[[#This Row],[27]]+Tabel2547[[#This Row],[25]]+Tabel2547[[#This Row],[23]]+Tabel2547[[#This Row],[21]]+Tabel2547[[#This Row],[19]]+Tabel2547[[#This Row],[17]]+Tabel2547[[#This Row],[15]]+Tabel2547[[#This Row],[13]]+Tabel2547[[#This Row],[11]]+Tabel2547[[#This Row],[9]]+Tabel2547[[#This Row],[7]]+Tabel2547[[#This Row],[5]]+Tabel2547[[#This Row],[3]]+Tabel2547[[#This Row],[1]]","v":104},null,{"$f":"Tabel2547[[#This Row],[RGFT]]+Tabel2547[[#This Row],[RPMD]]","v":122},61,"VHL"]
["6.1",null,"Dinsdag","Hoef en Haag ","Laurierkerspad 2",4,3,3,null,null,null,null,null,null,null,null,null,null,null,null,17,15,16,null,null,null,13,null,null,null,null,null,null,null,null,null,null,null,null,null,null,null,null,null,null,null,null,null,null,null,null,null,null,null,null,null,null,null,null,null,null,{"$f":"Tabel2547[[#This Row],[52]]+Tabel2547[[#This Row],[50]]+Tabel2547[[#This Row],[48]]+Tabel2547[[#This Row],[46]]+Tabel2547[[#This Row],[44]]+Tabel2547[[#This Row],[42]]+Tabel2547[[#This Row],[40]]+Tabel2547[[#This Row],[38]]+Tabel2547[[#This Row],[36]]+Tabel2547[[#This Row],[34]]+Tabel2547[[#This Row],[32]]+Tabel2547[[#This Row],[30]]+Tabel2547[[#This Row],[28]]+Tabel2547[[#This Row],[26]]+Tabel2547[[#This Row],[24]]+Tabel2547[[#This Row],[22]]+Tabel2547[[#This Row],[20]]+Tabel2547[[#This Row],[18]]+Tabel2547[[#This Row],[16]]+Tabel2547[[#This Row],[14]]+Tabel2547[[#This Row],[12]]+Tabel2547[[#This Row],[10]]+Tabel2547[[#This Row],[8]]+Tabel2547[[#This Row],[6]]+Tabel2547[[#This Row],[4]]+Tabel2547[[#This Row],[2]]","v":15},null,{"$f":"Tabel2547[[#This Row],[51]]+Tabel2547[[#This Row],[49]]+Tabel2547[[#This Row],[47]]+Tabel2547[[#This Row],[45]]+Tabel2547[[#This Row],[43]]+Tabel2547[[#This Row],[41]]+Tabel2547[[#This Row],[39]]+Tabel2547[[#This Row],[37]]+Tabel2547[[#This Row],[35]]+Tabel2547[[#This Row],[33]]+Tabel2547[[#This Row],[31]]+Tabel2547[[#This Row],[29]]+Tabel2547[[#This Row],[27]]+Tabel2547[[#This Row],[25]]+Tabel2547[[#This Row],[23]]+Tabel2547[[#This Row],[21]]+Tabel2547[[#This Row],[19]]+Tabel2547[[#This Row],[17]]+Tabel2547[[#This Row],[15]]+Tabel2547[[#This Row],[13]]+Tabel2547[[#This Row],[11]]+Tabel2547[[#This Row],[9]]+Tabel2547[[#This Row],[7]]+Tabel2547[[#This Row],[5]]+Tabel2547[[#This Row],[3]]+Tabel2547[[#This Row],[1]]","v":46},{"$f":"Tabel2547[[#This Row],[RGFT]]+Tabel2547[[#This Row],[RPMD]]","v":0},0,"VHL"]
["6.2",null,"Dinsdag","Vianen De Hagen ",null,null,null,null,null,null,null,null,null,null,null,null,null,null,null,null,null,4,3,null,null,null,5,null,null,null,null,null,null,null,null,null,null,null,null,null,null,null,null,null,null,null,null,null,null,null,null,null,null,null,null,null,null,null,null,null,{"$f":"Tabel2547[[#This Row],[52]]+Tabel2547[[#This Row],[50]]+Tabel2547[[#This Row],[48]]+Tabel2547[[#This Row],[46]]+Tabel2547[[#This Row],[44]]+Tabel2547[[#This Row],[42]]+Tabel2547[[#This Row],[40]]+Tabel2547[[#This Row],[38]]+Tabel2547[[#This Row],[36]]+Tabel2547[[#This Row],[34]]+Tabel2547[[#This Row],[32]]+Tabel2547[[#This Row],[30]]+Tabel2547[[#This Row],[28]]+Tabel2547[[#This Row],[26]]+Tabel2547[[#This Row],[24]]+Tabel2547[[#This Row],[22]]+Tabel2547[[#This Row],[20]]+Tabel2547[[#This Row],[18]]+Tabel2547[[#This Row],[16]]+Tabel2547[[#This Row],[14]]+Tabel2547[[#This Row],[12]]+Tabel2547[[#This Row],[10]]+Tabel2547[[#This Row],[8]]+Tabel2547[[#This Row],[6]]+Tabel2547[[#This Row],[4]]+Tabel2547[[#This Row],[2]]","v":4},null,{"$f":"Tabel2547[[#This Row],[51]]+Tabel2547[[#This Row],[49]]+Tabel2547[[#This Row],[47]]+Tabel2547[[#This Row],[45]]+Tabel2547[[#This Row],[43]]+Tabel2547[[#This Row],[41]]+Tabel2547[[#This Row],[39]]+Tabel2547[[#This Row],[37]]+Tabel2547[[#This Row],[35]]+Tabel2547[[#This Row],[33]]+Tabel2547[[#This Row],[31]]+Tabel2547[[#This Row],[29]]+Tabel2547[[#This Row],[27]]+Tabel2547[[#This Row],[25]]+Tabel2547[[#This Row],[23]]+Tabel2547[[#This Row],[21]]+Tabel2547[[#This Row],[19]]+Tabel2547[[#This Row],[17]]+Tabel2547[[#This Row],[15]]+Tabel2547[[#This Row],[13]]+Tabel2547[[#This Row],[11]]+Tabel2547[[#This Row],[9]]+Tabel2547[[#This Row],[7]]+Tabel2547[[#This Row],[5]]+Tabel2547[[#This Row],[3]]+Tabel2547[[#This Row],[1]]","v":8},null,{"$f":"Tabel2547[[#This Row],[RGFT]]+Tabel2547[[#This Row],[RPMD]]","v":12},15,"Vianen","VHL"]
["6.2",null,"Dinsdag","Vianen De Hagen ","Jan van Arkelstraat 42",null,null,null,null,null,null,null,null,null,null,null,null,null,null,null,null,5,8,null,null,null,2,null,null,null,null,null,null,null,null,null,null,null,null,null,null,null,null,null,null,null,null,null,null,null,null,null,null,null,null,null,null,null,null,null,null,{"$f":"Tabel2547[[#This Row],[52]]+Tabel2547[[#This Row],[50]]+Tabel2547[[#This Row],[48]]+Tabel2547[[#This Row],[46]]+Tabel2547[[#This Row],[44]]+Tabel2547[[#This Row],[42]]+Tabel2547[[#This Row],[40]]+Tabel2547[[#This Row],[38]]+Tabel2547[[#This Row],[36]]+Tabel2547[[#This Row],[34]]+Tabel2547[[#This Row],[32]]+Tabel2547[[#This Row],[30]]+Tabel2547[[#This Row],[28]]+Tabel2547[[#This Row],[26]]+Tabel2547[[#This Row],[24]]+Tabel2547[[#This Row],[22]]+Tabel2547[[#This Row],[20]]+Tabel2547[[#This Row],[18]]+Tabel2547[[#This Row],[16]]+Tabel2547[[#This Row],[14]]+Tabel2547[[#This Row],[12]]+Tabel2547[[#This Row],[10]]+Tabel2547[[#This Row],[8]]+Tabel2547[[#This Row],[6]]+Tabel2547[[#This Row],[4]]+Tabel2547[[#This Row],[2]]","v":5},null,{"$f":"Tabel2547[[#This Row],[51]]+Tabel2547[[#This Row],[49]]+Tabel2547[[#This Row],[47]]+Tabel2547[[#This Row],[45]]+Tabel2547[[#This Row],[43]]+Tabel2547[[#This Row],[41]]+Tabel2547[[#This Row],[39]]+Tabel2547[[#This Row],[37]]+Tabel2547[[#This Row],[35]]+Tabel2547[[#This Row],[33]]+Tabel2547[[#This Row],[31]]+Tabel2547[[#This Row],[29]]+Tabel2547[[#This Row],[27]]+Tabel2547[[#This Row],[25]]+Tabel2547[[#This Row],[23]]+Tabel2547[[#This Row],[21]]+Tabel2547[[#This Row],[19]]+Tabel2547[[#This Row],[17]]+Tabel2547[[#This Row],[15]]+Tabel2547[[#This Row],[13]]+Tabel2547[[#This Row],[11]]+Tabel2547[[#This Row],[9]]+Tabel2547[[#This Row],[7]]+Tabel2547[[#This Row],[5]]+Tabel2547[[#This Row],[3]]+Tabel2547[[#This Row],[1]]","v":10},{"$f":"Tabel2547[[#This Row],[RGFT]]+Tabel2547[[#This Row],[RPMD]]","v":0},0,"Vianen","VHL"]
["7.1",null,"Dinsdag"," Vianen Centrum en Hagestein",null,null,null,null,null,null,null,null,null,null,null,null,null,null,null,null,5,null,null,null,null,null,null,null,null,null,null,null,null,null,null,null,null,null,null,null,null,null,null,null,null,null,null,null,null,null,null,null,null,null,null,null,null,null,null,null,{"$f":"Tabel2547[[#This Row],[52]]+Tabel2547[[#This Row],[50]]+Tabel2547[[#This Row],[48]]+Tabel2547[[#This Row],[46]]+Tabel2547[[#This Row],[44]]+Tabel2547[[#This Row],[42]]+Tabel2547[[#This Row],[40]]+Tabel2547[[#This Row],[38]]+Tabel2547[[#This Row],[36]]+Tabel2547[[#This Row],[34]]+Tabel2547[[#This Row],[32]]+Tabel2547[[#This Row],[30]]+Tabel2547[[#This Row],[28]]+Tabel2547[[#This Row],[26]]+Tabel2547[[#This Row],[24]]+Tabel2547[[#This Row],[22]]+Tabel2547[[#This Row],[20]]+Tabel2547[[#This Row],[18]]+Tabel2547[[#This Row],[16]]+Tabel2547[[#This Row],[14]]+Tabel2547[[#This Row],[12]]+Tabel2547[[#This Row],[10]]+Tabel2547[[#This Row],[8]]+Tabel2547[[#This Row],[6]]+Tabel2547[[#This Row],[4]]+Tabel2547[[#This Row],[2]]","v":0},null,{"$f":"Tabel2547[[#This Row],[51]]+Tabel2547[[#This Row],[49]]+Tabel2547[[#This Row],[47]]+Tabel2547[[#This Row],[45]]+Tabel2547[[#This Row],[43]]+Tabel2547[[#This Row],[41]]+Tabel2547[[#This Row],[39]]+Tabel2547[[#This Row],[37]]+Tabel2547[[#This Row],[35]]+Tabel2547[[#This Row],[33]]+Tabel2547[[#This Row],[31]]+Tabel2547[[#This Row],[29]]+Tabel2547[[#This Row],[27]]+Tabel2547[[#This Row],[25]]+Tabel2547[[#This Row],[23]]+Tabel2547[[#This Row],[21]]+Tabel2547[[#This Row],[19]]+Tabel2547[[#This Row],[17]]+Tabel2547[[#This Row],[15]]+Tabel2547[[#This Row],[13]]+Tabel2547[[#This Row],[11]]+Tabel2547[[#This Row],[9]]+Tabel2547[[#This Row],[7]]+Tabel2547[[#This Row],[5]]+Tabel2547[[#This Row],[3]]+Tabel2547[[#This Row],[1]]","v":5},null,{"$f":"Tabel2547[[#This Row],[RGFT]]+Tabel2547[[#This Row],[RPMD]]","v":5},{"$f":"BJ36+BL36","v":17},"Vianen","VHL"]
["7.1",null,"Dinsdag"," 1=Vianen Centrum - 2=Hagestein","1= Weesdijk 42 2= Biezenweg 47",null,null,null,null,null,null,null,null,null,null,null,null,null,null,null,17,null,null,null,null,null,null,null,null,null,null,null,null,null,null,null,null,null,null,null,null,null,null,null,null,null,null,null,null,null,null,null,null,null,null,null,null,null,null,null,null,{"$f":"Tabel2547[[#This Row],[52]]+Tabel2547[[#This Row],[50]]+Tabel2547[[#This Row],[48]]+Tabel2547[[#This Row],[46]]+Tabel2547[[#This Row],[44]]+Tabel2547[[#This Row],[42]]+Tabel2547[[#This Row],[40]]+Tabel2547[[#This Row],[38]]+Tabel2547[[#This Row],[36]]+Tabel2547[[#This Row],[34]]+Tabel2547[[#This Row],[32]]+Tabel2547[[#This Row],[30]]+Tabel2547[[#This Row],[28]]+Tabel2547[[#This Row],[26]]+Tabel2547[[#This Row],[24]]+Tabel2547[[#This Row],[22]]+Tabel2547[[#This Row],[20]]+Tabel2547[[#This Row],[18]]+Tabel2547[[#This Row],[16]]+Tabel2547[[#This Row],[14]]+Tabel2547[[#This Row],[12]]+Tabel2547[[#This Row],[10]]+Tabel2547[[#This Row],[8]]+Tabel2547[[#This Row],[6]]+Tabel2547[[#This Row],[4]]+Tabel2547[[#This Row],[2]]","v":0},null,{"$f":"Tabel2547[[#This Row],[51]]+Tabel2547[[#This Row],[49]]+Tabel2547[[#This Row],[47]]+Tabel2547[[#This Row],[45]]+Tabel2547[[#This Row],[43]]+Tabel2547[[#This Row],[41]]+Tabel2547[[#This Row],[39]]+Tabel2547[[#This Row],[37]]+Tabel2547[[#This Row],[35]]+Tabel2547[[#This Row],[33]]+Tabel2547[[#This Row],[31]]+Tabel2547[[#This Row],[29]]+Tabel2547[[#This Row],[27]]+Tabel2547[[#This Row],[25]]+Tabel2547[[#This Row],[23]]+Tabel2547[[#This Row],[21]]+Tabel2547[[#This Row],[19]]+Tabel2547[[#This Row],[17]]+Tabel2547[[#This Row],[15]]+Tabel2547[[#This Row],[13]]+Tabel2547[[#This Row],[11]]+Tabel2547[[#This Row],[9]]+Tabel2547[[#This Row],[7]]+Tabel2547[[#This Row],[5]]+Tabel2547[[#This Row],[3]]+Tabel2547[[#This Row],[1]]","v":17},{"$f":"Tabel2547[[#This Row],[RGFT]]+Tabel2547[[#This Row],[RPMD]]","v":0},0,"Vianen","VHL"]
["8.1",null,"Dinsdag","1=Hoornaar  2 Schelluinen binnen",null,3,3,3,null,null,null,null,null,null,null,null,null,null,0,null,null,null,null,null,null,null,null,null,null,null,null,null,null,null,null,null,null,null,null,null,null,null,null,null,null,null,null,null,null,null,null,null,null,null,null,null,null,null,null,null,{"$f":"Tabel2547[[#This Row],[52]]+Tabel2547[[#This Row],[50]]+Tabel2547[[#This Row],[48]]+Tabel2547[[#This Row],[46]]+Tabel2547[[#This Row],[44]]+Tabel2547[[#This Row],[42]]+Tabel2547[[#This Row],[40]]+Tabel2547[[#This Row],[38]]+Tabel2547[[#This Row],[36]]+Tabel2547[[#This Row],[34]]+Tabel2547[[#This Row],[32]]+Tabel2547[[#This Row],[30]]+Tabel2547[[#This Row],[28]]+Tabel2547[[#This Row],[26]]+Tabel2547[[#This Row],[24]]+Tabel2547[[#This Row],[22]]+Tabel2547[[#This Row],[20]]+Tabel2547[[#This Row],[18]]+Tabel2547[[#This Row],[16]]+Tabel2547[[#This Row],[14]]+Tabel2547[[#This Row],[12]]+Tabel2547[[#This Row],[10]]+Tabel2547[[#This Row],[8]]+Tabel2547[[#This Row],[6]]+Tabel2547[[#This Row],[4]]+Tabel2547[[#This Row],[2]]","v":0},null,{"$f":"Tabel2547[[#This Row],[51]]+Tabel2547[[#This Row],[49]]+Tabel2547[[#This Row],[47]]+Tabel2547[[#This Row],[45]]+Tabel2547[[#This Row],[43]]+Tabel2547[[#This Row],[41]]+Tabel2547[[#This Row],[39]]+Tabel2547[[#This Row],[37]]+Tabel2547[[#This Row],[35]]+Tabel2547[[#This Row],[33]]+Tabel2547[[#This Row],[31]]+Tabel2547[[#This Row],[29]]+Tabel2547[[#This Row],[27]]+Tabel2547[[#This Row],[25]]+Tabel2547[[#This Row],[23]]+Tabel2547[[#This Row],[21]]+Tabel2547[[#This Row],[19]]+Tabel2547[[#This Row],[17]]+Tabel2547[[#This Row],[15]]+Tabel2547[[#This Row],[13]]+Tabel2547[[#This Row],[11]]+Tabel2547[[#This Row],[9]]+Tabel2547[[#This Row],[7]]+Tabel2547[[#This Row],[5]]+Tabel2547[[#This Row],[3]]+Tabel2547[[#This Row],[1]]","v":0},null,{"$f":"Tabel2547[[#This Row],[RGFT]]+Tabel2547[[#This Row],[RPMD]]","v":0},15,"Molenlanden"]
["8.1",null,"Dinsdag","1 = Hoornaar 2= Schelluinen binnen","1 = Weide 33A 2 = Commanderijstraat 28",3,3,3,null,null,null,null,null,null,null,null,null,null,15,null,null,null,null,null,null,null,null,null,null,null,null,null,null,null,null,null,null,null,null,null,null,null,null,null,null,null,null,null,null,null,null,null,null,null,null,null,null,null,null,null,null,{"$f":"Tabel2547[[#This Row],[52]]+Tabel2547[[#This Row],[50]]+Tabel2547[[#This Row],[48]]+Tabel2547[[#This Row],[46]]+Tabel2547[[#This Row],[44]]+Tabel2547[[#This Row],[42]]+Tabel2547[[#This Row],[40]]+Tabel2547[[#This Row],[38]]+Tabel2547[[#This Row],[36]]+Tabel2547[[#This Row],[34]]+Tabel2547[[#This Row],[32]]+Tabel2547[[#This Row],[30]]+Tabel2547[[#This Row],[28]]+Tabel2547[[#This Row],[26]]+Tabel2547[[#This Row],[24]]+Tabel2547[[#This Row],[22]]+Tabel2547[[#This Row],[20]]+Tabel2547[[#This Row],[18]]+Tabel2547[[#This Row],[16]]+Tabel2547[[#This Row],[14]]+Tabel2547[[#This Row],[12]]+Tabel2547[[#This Row],[10]]+Tabel2547[[#This Row],[8]]+Tabel2547[[#This Row],[6]]+Tabel2547[[#This Row],[4]]+Tabel2547[[#This Row],[2]]","v":0},null,{"$f":"Tabel2547[[#This Row],[51]]+Tabel2547[[#This Row],[49]]+Tabel2547[[#This Row],[47]]+Tabel2547[[#This Row],[45]]+Tabel2547[[#This Row],[43]]+Tabel2547[[#This Row],[41]]+Tabel2547[[#This Row],[39]]+Tabel2547[[#This Row],[37]]+Tabel2547[[#This Row],[35]]+Tabel2547[[#This Row],[33]]+Tabel2547[[#This Row],[31]]+Tabel2547[[#This Row],[29]]+Tabel2547[[#This Row],[27]]+Tabel2547[[#This Row],[25]]+Tabel2547[[#This Row],[23]]+Tabel2547[[#This Row],[21]]+Tabel2547[[#This Row],[19]]+Tabel2547[[#This Row],[17]]+Tabel2547[[#This Row],[15]]+Tabel2547[[#This Row],[13]]+Tabel2547[[#This Row],[11]]+Tabel2547[[#This Row],[9]]+Tabel2547[[#This Row],[7]]+Tabel2547[[#This Row],[5]]+Tabel2547[[#This Row],[3]]+Tabel2547[[#This Row],[1]]","v":15},{"$f":"Tabel2547[[#This Row],[RGFT]]+Tabel2547[[#This Row],[RPMD]]","v":0},0,"Molenlanden"]
["8.2",null,"Dinsdag","1 =Stalkaarsen oude Hoven",null,3,3,3,null,0,0,null,null,null,null,null,null,null,8,null,null,null,null,null,null,null,null,null,null,null,null,null,null,null,null,null,null,null,null,null,null,null,null,null,null,null,null,null,null,null,null,null,null,null,null,null,null,null,null,null,{"$f":"Tabel2547[[#This Row],[52]]+Tabel2547[[#This Row],[50]]+Tabel2547[[#This Row],[48]]+Tabel2547[[#This Row],[46]]+Tabel2547[[#This Row],[44]]+Tabel2547[[#This Row],[42]]+Tabel2547[[#This Row],[40]]+Tabel2547[[#This Row],[38]]+Tabel2547[[#This Row],[36]]+Tabel2547[[#This Row],[34]]+Tabel2547[[#This Row],[32]]+Tabel2547[[#This Row],[30]]+Tabel2547[[#This Row],[28]]+Tabel2547[[#This Row],[26]]+Tabel2547[[#This Row],[24]]+Tabel2547[[#This Row],[22]]+Tabel2547[[#This Row],[20]]+Tabel2547[[#This Row],[18]]+Tabel2547[[#This Row],[16]]+Tabel2547[[#This Row],[14]]+Tabel2547[[#This Row],[12]]+Tabel2547[[#This Row],[10]]+Tabel2547[[#This Row],[8]]+Tabel2547[[#This Row],[6]]+Tabel2547[[#This Row],[4]]+Tabel2547[[#This Row],[2]]","v":0},null,{"$f":"Tabel2547[[#This Row],[51]]+Tabel2547[[#This Row],[49]]+Tabel2547[[#This Row],[47]]+Tabel2547[[#This Row],[45]]+Tabel2547[[#This Row],[43]]+Tabel2547[[#This Row],[41]]+Tabel2547[[#This Row],[39]]+Tabel2547[[#This Row],[37]]+Tabel2547[[#This Row],[35]]+Tabel2547[[#This Row],[33]]+Tabel2547[[#This Row],[31]]+Tabel2547[[#This Row],[29]]+Tabel2547[[#This Row],[27]]+Tabel2547[[#This Row],[25]]+Tabel2547[[#This Row],[23]]+Tabel2547[[#This Row],[21]]+Tabel2547[[#This Row],[19]]+Tabel2547[[#This Row],[17]]+Tabel2547[[#This Row],[15]]+Tabel2547[[#This Row],[13]]+Tabel2547[[#This Row],[11]]+Tabel2547[[#This Row],[9]]+Tabel2547[[#This Row],[7]]+Tabel2547[[#This Row],[5]]+Tabel2547[[#This Row],[3]]+Tabel2547[[#This Row],[1]]","v":8},null,{"$f":"Tabel2547[[#This Row],[RGFT]]+Tabel2547[[#This Row],[RPMD]]","v":8},18,"Molenlanden"]
["8.2",null,"Dinsdag","1 =Stalkaarsen oude Hoven","1 = Dokter Schoyerstraat 43",3,3,3,null,0,10,null,null,null,null,null,null,null,8,null,null,null,null,null,null,null,null,null,null,null,null,null,null,null,null,null,null,null,null,null,null,null,null,null,null,null,null,null,null,null,null,null,null,null,null,null,null,null,null,null,null,{"$f":"Tabel2547[[#This Row],[52]]+Tabel2547[[#This Row],[50]]+Tabel2547[[#This Row],[48]]+Tabel2547[[#This Row],[46]]+Tabel2547[[#This Row],[44]]+Tabel2547[[#This Row],[42]]+Tabel2547[[#This Row],[40]]+Tabel2547[[#This Row],[38]]+Tabel2547[[#This Row],[36]]+Tabel2547[[#This Row],[34]]+Tabel2547[[#This Row],[32]]+Tabel2547[[#This Row],[30]]+Tabel2547[[#This Row],[28]]+Tabel2547[[#This Row],[26]]+Tabel2547[[#This Row],[24]]+Tabel2547[[#This Row],[22]]+Tabel2547[[#This Row],[20]]+Tabel2547[[#This Row],[18]]+Tabel2547[[#This Row],[16]]+Tabel2547[[#This Row],[14]]+Tabel2547[[#This Row],[12]]+Tabel2547[[#This Row],[10]]+Tabel2547[[#This Row],[8]]+Tabel2547[[#This Row],[6]]+Tabel2547[[#This Row],[4]]+Tabel2547[[#This Row],[2]]","v":0},null,{"$f":"Tabel2547[[#This Row],[51]]+Tabel2547[[#This Row],[49]]+Tabel2547[[#This Row],[47]]+Tabel2547[[#This Row],[45]]+Tabel2547[[#This Row],[43]]+Tabel2547[[#This Row],[41]]+Tabel2547[[#This Row],[39]]+Tabel2547[[#This Row],[37]]+Tabel2547[[#This Row],[35]]+Tabel2547[[#This Row],[33]]+Tabel2547[[#This Row],[31]]+Tabel2547[[#This Row],[29]]+Tabel2547[[#This Row],[27]]+Tabel2547[[#This Row],[25]]+Tabel2547[[#This Row],[23]]+Tabel2547[[#This Row],[21]]+Tabel2547[[#This Row],[19]]+Tabel2547[[#This Row],[17]]+Tabel2547[[#This Row],[15]]+Tabel2547[[#This Row],[13]]+Tabel2547[[#This Row],[11]]+Tabel2547[[#This Row],[9]]+Tabel2547[[#This Row],[7]]+Tabel2547[[#This Row],[5]]+Tabel2547[[#This Row],[3]]+Tabel2547[[#This Row],[1]]","v":18},{"$f":"Tabel2547[[#This Row],[RGFT]]+Tabel2547[[#This Row],[RPMD]]","v":0},0,"Molenlanden"]
["1.1",null,"Woensdag","Arkel binnen (helemaal) - Meerkerk",null,8,8,7,4,null,null,null,9,2,null,6,14,null,6,null,null,9,29,null,7,null,null,null,null,null,null,null,null,null,null,null,null,null,null,null,null,null,null,null,null,null,null,null,null,null,null,null,null,null,null,null,null,null,null,null,{"$f":"Tabel2547[[#This Row],[52]]+Tabel2547[[#This Row],[50]]+Tabel2547[[#This Row],[48]]+Tabel2547[[#This Row],[46]]+Tabel2547[[#This Row],[44]]+Tabel2547[[#This Row],[42]]+Tabel2547[[#This Row],[40]]+Tabel2547[[#This Row],[38]]+Tabel2547[[#This Row],[36]]+Tabel2547[[#This Row],[34]]+Tabel2547[[#This Row],[32]]+Tabel2547[[#This Row],[30]]+Tabel2547[[#This Row],[28]]+Tabel2547[[#This Row],[26]]+Tabel2547[[#This Row],[24]]+Tabel2547[[#This Row],[22]]+Tabel2547[[#This Row],[20]]+Tabel2547[[#This Row],[18]]+Tabel2547[[#This Row],[16]]+Tabel2547[[#This Row],[14]]+Tabel2547[[#This Row],[12]]+Tabel2547[[#This Row],[10]]+Tabel2547[[#This Row],[8]]+Tabel2547[[#This Row],[6]]+Tabel2547[[#This Row],[4]]+Tabel2547[[#This Row],[2]]","v":17},null,{"$f":"Tabel2547[[#This Row],[51]]+Tabel2547[[#This Row],[49]]+Tabel2547[[#This Row],[47]]+Tabel2547[[#This Row],[45]]+Tabel2547[[#This Row],[43]]+Tabel2547[[#This Row],[41]]+Tabel2547[[#This Row],[39]]+Tabel2547[[#This Row],[37]]+Tabel2547[[#This Row],[35]]+Tabel2547[[#This Row],[33]]+Tabel2547[[#This Row],[31]]+Tabel2547[[#This Row],[29]]+Tabel2547[[#This Row],[27]]+Tabel2547[[#This Row],[25]]+Tabel2547[[#This Row],[23]]+Tabel2547[[#This Row],[21]]+Tabel2547[[#This Row],[19]]+Tabel2547[[#This Row],[17]]+Tabel2547[[#This Row],[15]]+Tabel2547[[#This Row],[13]]+Tabel2547[[#This Row],[11]]+Tabel2547[[#This Row],[9]]+Tabel2547[[#This Row],[7]]+Tabel2547[[#This Row],[5]]+Tabel2547[[#This Row],[3]]+Tabel2547[[#This Row],[1]]","v":69},null,{"$f":"Tabel2547[[#This Row],[RGFT]]+Tabel2547[[#This Row],[RPMD]]","v":86},189,"Molenlanden"]
["1.1",null,"Woensdag","1=Arkel binnen  - 2=Meerkerk","1= Mispeldreef 29 2= Prinses Marijkeweg 5",8,8,7,10,null,null,null,30,41,null,16,18,null,12,null,null,13,38,null,7,4,null,null,null,null,null,null,null,null,null,null,null,null,null,null,null,null,null,null,null,null,null,null,null,null,null,null,null,null,null,null,null,null,null,null,null,{"$f":"Tabel2547[[#This Row],[52]]+Tabel2547[[#This Row],[50]]+Tabel2547[[#This Row],[48]]+Tabel2547[[#This Row],[46]]+Tabel2547[[#This Row],[44]]+Tabel2547[[#This Row],[42]]+Tabel2547[[#This Row],[40]]+Tabel2547[[#This Row],[38]]+Tabel2547[[#This Row],[36]]+Tabel2547[[#This Row],[34]]+Tabel2547[[#This Row],[32]]+Tabel2547[[#This Row],[30]]+Tabel2547[[#This Row],[28]]+Tabel2547[[#This Row],[26]]+Tabel2547[[#This Row],[24]]+Tabel2547[[#This Row],[22]]+Tabel2547[[#This Row],[20]]+Tabel2547[[#This Row],[18]]+Tabel2547[[#This Row],[16]]+Tabel2547[[#This Row],[14]]+Tabel2547[[#This Row],[12]]+Tabel2547[[#This Row],[10]]+Tabel2547[[#This Row],[8]]+Tabel2547[[#This Row],[6]]+Tabel2547[[#This Row],[4]]+Tabel2547[[#This Row],[2]]","v":74},null,{"$f":"Tabel2547[[#This Row],[51]]+Tabel2547[[#This Row],[49]]+Tabel2547[[#This Row],[47]]+Tabel2547[[#This Row],[45]]+Tabel2547[[#This Row],[43]]+Tabel2547[[#This Row],[41]]+Tabel2547[[#This Row],[39]]+Tabel2547[[#This Row],[37]]+Tabel2547[[#This Row],[35]]+Tabel2547[[#This Row],[33]]+Tabel2547[[#This Row],[31]]+Tabel2547[[#This Row],[29]]+Tabel2547[[#This Row],[27]]+Tabel2547[[#This Row],[25]]+Tabel2547[[#This Row],[23]]+Tabel2547[[#This Row],[21]]+Tabel2547[[#This Row],[19]]+Tabel2547[[#This Row],[17]]+Tabel2547[[#This Row],[15]]+Tabel2547[[#This Row],[13]]+Tabel2547[[#This Row],[11]]+Tabel2547[[#This Row],[9]]+Tabel2547[[#This Row],[7]]+Tabel2547[[#This Row],[5]]+Tabel2547[[#This Row],[3]]+Tabel2547[[#This Row],[1]]","v":115},{"$f":"Tabel2547[[#This Row],[RGFT]]+Tabel2547[[#This Row],[RPMD]]","v":0},0,"Molenlanden"]
["2.1",null,"Woensdag","Vianen Monnikenhof - Meerkerk helpen",null,null,null,null,0,null,null,null,null,null,null,null,null,null,null,2,null,null,null,13,24,null,null,null,null,null,null,null,null,null,null,null,null,null,null,null,null,null,null,null,null,null,null,null,null,null,null,null,null,null,null,null,null,null,null,null,{"$f":"Tabel2547[[#This Row],[52]]+Tabel2547[[#This Row],[50]]+Tabel2547[[#This Row],[48]]+Tabel2547[[#This Row],[46]]+Tabel2547[[#This Row],[44]]+Tabel2547[[#This Row],[42]]+Tabel2547[[#This Row],[40]]+Tabel2547[[#This Row],[38]]+Tabel2547[[#This Row],[36]]+Tabel2547[[#This Row],[34]]+Tabel2547[[#This Row],[32]]+Tabel2547[[#This Row],[30]]+Tabel2547[[#This Row],[28]]+Tabel2547[[#This Row],[26]]+Tabel2547[[#This Row],[24]]+Tabel2547[[#This Row],[22]]+Tabel2547[[#This Row],[20]]+Tabel2547[[#This Row],[18]]+Tabel2547[[#This Row],[16]]+Tabel2547[[#This Row],[14]]+Tabel2547[[#This Row],[12]]+Tabel2547[[#This Row],[10]]+Tabel2547[[#This Row],[8]]+Tabel2547[[#This Row],[6]]+Tabel2547[[#This Row],[4]]+Tabel2547[[#This Row],[2]]","v":15},null,{"$f":"Tabel2547[[#This Row],[51]]+Tabel2547[[#This Row],[49]]+Tabel2547[[#This Row],[47]]+Tabel2547[[#This Row],[45]]+Tabel2547[[#This Row],[43]]+Tabel2547[[#This Row],[41]]+Tabel2547[[#This Row],[39]]+Tabel2547[[#This Row],[37]]+Tabel2547[[#This Row],[35]]+Tabel2547[[#This Row],[33]]+Tabel2547[[#This Row],[31]]+Tabel2547[[#This Row],[29]]+Tabel2547[[#This Row],[27]]+Tabel2547[[#This Row],[25]]+Tabel2547[[#This Row],[23]]+Tabel2547[[#This Row],[21]]+Tabel2547[[#This Row],[19]]+Tabel2547[[#This Row],[17]]+Tabel2547[[#This Row],[15]]+Tabel2547[[#This Row],[13]]+Tabel2547[[#This Row],[11]]+Tabel2547[[#This Row],[9]]+Tabel2547[[#This Row],[7]]+Tabel2547[[#This Row],[5]]+Tabel2547[[#This Row],[3]]+Tabel2547[[#This Row],[1]]","v":24},null,{"$f":"Tabel2547[[#This Row],[RGFT]]+Tabel2547[[#This Row],[RPMD]]","v":39},76,"VHL"]
["2.1",null,"Woensdag","1=Vianen Monnikenhof -2= Meerkerk helpen","1= De zeven boompjes 3 2= Prinses Marijkeweg 5",null,null,null,0,null,null,null,null,null,null,null,null,null,null,21,null,null,null,26,29,null,null,null,null,null,null,null,null,null,null,null,null,null,null,null,null,null,null,null,null,null,null,null,null,null,null,null,null,null,null,null,null,null,null,null,null,{"$f":"Tabel2547[[#This Row],[52]]+Tabel2547[[#This Row],[50]]+Tabel2547[[#This Row],[48]]+Tabel2547[[#This Row],[46]]+Tabel2547[[#This Row],[44]]+Tabel2547[[#This Row],[42]]+Tabel2547[[#This Row],[40]]+Tabel2547[[#This Row],[38]]+Tabel2547[[#This Row],[36]]+Tabel2547[[#This Row],[34]]+Tabel2547[[#This Row],[32]]+Tabel2547[[#This Row],[30]]+Tabel2547[[#This Row],[28]]+Tabel2547[[#This Row],[26]]+Tabel2547[[#This Row],[24]]+Tabel2547[[#This Row],[22]]+Tabel2547[[#This Row],[20]]+Tabel2547[[#This Row],[18]]+Tabel2547[[#This Row],[16]]+Tabel2547[[#This Row],[14]]+Tabel2547[[#This Row],[12]]+Tabel2547[[#This Row],[10]]+Tabel2547[[#This Row],[8]]+Tabel2547[[#This Row],[6]]+Tabel2547[[#This Row],[4]]+Tabel2547[[#This Row],[2]]","v":47},null,{"$f":"Tabel2547[[#This Row],[51]]+Tabel2547[[#This Row],[49]]+Tabel2547[[#This Row],[47]]+Tabel2547[[#This Row],[45]]+Tabel2547[[#This Row],[43]]+Tabel2547[[#This Row],[41]]+Tabel2547[[#This Row],[39]]+Tabel2547[[#This Row],[37]]+Tabel2547[[#This Row],[35]]+Tabel2547[[#This Row],[33]]+Tabel2547[[#This Row],[31]]+Tabel2547[[#This Row],[29]]+Tabel2547[[#This Row],[27]]+Tabel2547[[#This Row],[25]]+Tabel2547[[#This Row],[23]]+Tabel2547[[#This Row],[21]]+Tabel2547[[#This Row],[19]]+Tabel2547[[#This Row],[17]]+Tabel2547[[#This Row],[15]]+Tabel2547[[#This Row],[13]]+Tabel2547[[#This Row],[11]]+Tabel2547[[#This Row],[9]]+Tabel2547[[#This Row],[7]]+Tabel2547[[#This Row],[5]]+Tabel2547[[#This Row],[3]]+Tabel2547[[#This Row],[1]]","v":29},{"$f":"Tabel2547[[#This Row],[RGFT]]+Tabel2547[[#This Row],[RPMD]]","v":0},0,"VHL"]
["3.1",null,"Woensdag","Ameide en Meerkerk",null,7,7,8,null,null,null,null,null,null,null,null,null,null,null,null,null,null,14,null,null,null,45,null,null,null,null,null,null,null,null,null,null,null,null,null,null,null,null,null,null,null,null,null,null,null,null,null,null,null,null,null,null,null,null,null,{"$f":"Tabel2547[[#This Row],[52]]+Tabel2547[[#This Row],[50]]+Tabel2547[[#This Row],[48]]+Tabel2547[[#This Row],[46]]+Tabel2547[[#This Row],[44]]+Tabel2547[[#This Row],[42]]+Tabel2547[[#This Row],[40]]+Tabel2547[[#This Row],[38]]+Tabel2547[[#This Row],[36]]+Tabel2547[[#This Row],[34]]+Tabel2547[[#This Row],[32]]+Tabel2547[[#This Row],[30]]+Tabel2547[[#This Row],[28]]+Tabel2547[[#This Row],[26]]+Tabel2547[[#This Row],[24]]+Tabel2547[[#This Row],[22]]+Tabel2547[[#This Row],[20]]+Tabel2547[[#This Row],[18]]+Tabel2547[[#This Row],[16]]+Tabel2547[[#This Row],[14]]+Tabel2547[[#This Row],[12]]+Tabel2547[[#This Row],[10]]+Tabel2547[[#This Row],[8]]+Tabel2547[[#This Row],[6]]+Tabel2547[[#This Row],[4]]+Tabel2547[[#This Row],[2]]","v":0},null,{"$f":"Tabel2547[[#This Row],[51]]+Tabel2547[[#This Row],[49]]+Tabel2547[[#This Row],[47]]+Tabel2547[[#This Row],[45]]+Tabel2547[[#This Row],[43]]+Tabel2547[[#This Row],[41]]+Tabel2547[[#This Row],[39]]+Tabel2547[[#This Row],[37]]+Tabel2547[[#This Row],[35]]+Tabel2547[[#This Row],[33]]+Tabel2547[[#This Row],[31]]+Tabel2547[[#This Row],[29]]+Tabel2547[[#This Row],[27]]+Tabel2547[[#This Row],[25]]+Tabel2547[[#This Row],[23]]+Tabel2547[[#This Row],[21]]+Tabel2547[[#This Row],[19]]+Tabel2547[[#This Row],[17]]+Tabel2547[[#This Row],[15]]+Tabel2547[[#This Row],[13]]+Tabel2547[[#This Row],[11]]+Tabel2547[[#This Row],[9]]+Tabel2547[[#This Row],[7]]+Tabel2547[[#This Row],[5]]+Tabel2547[[#This Row],[3]]+Tabel2547[[#This Row],[1]]","v":59},null,{"$f":"Tabel2547[[#This Row],[RGFT]]+Tabel2547[[#This Row],[RPMD]]","v":59},36,"VHL"]
["3.1",null,"Woensdag","1=Ameide en 2=Meerkerk","1= Peperstraat 3 - 2= overleggen",7,7,8,null,null,null,null,null,null,null,null,null,null,null,null,11,null,16,null,null,null,9,null,null,null,null,null,null,null,null,null,null,null,null,null,null,null,null,null,null,null,null,null,null,null,null,null,null,null,null,null,null,null,null,null,null,{"$f":"Tabel2547[[#This Row],[52]]+Tabel2547[[#This Row],[50]]+Tabel2547[[#This Row],[48]]+Tabel2547[[#This Row],[46]]+Tabel2547[[#This Row],[44]]+Tabel2547[[#This Row],[42]]+Tabel2547[[#This Row],[40]]+Tabel2547[[#This Row],[38]]+Tabel2547[[#This Row],[36]]+Tabel2547[[#This Row],[34]]+Tabel2547[[#This Row],[32]]+Tabel2547[[#This Row],[30]]+Tabel2547[[#This Row],[28]]+Tabel2547[[#This Row],[26]]+Tabel2547[[#This Row],[24]]+Tabel2547[[#This Row],[22]]+Tabel2547[[#This Row],[20]]+Tabel2547[[#This Row],[18]]+Tabel2547[[#This Row],[16]]+Tabel2547[[#This Row],[14]]+Tabel2547[[#This Row],[12]]+Tabel2547[[#This Row],[10]]+Tabel2547[[#This Row],[8]]+Tabel2547[[#This Row],[6]]+Tabel2547[[#This Row],[4]]+Tabel2547[[#This Row],[2]]","v":0},null,{"$f":"Tabel2547[[#This Row],[51]]+Tabel2547[[#This Row],[49]]+Tabel2547[[#This Row],[47]]+Tabel2547[[#This Row],[45]]+Tabel2547[[#This Row],[43]]+Tabel2547[[#This Row],[41]]+Tabel2547[[#This Row],[39]]+Tabel2547[[#This Row],[37]]+Tabel2547[[#This Row],[35]]+Tabel2547[[#This Row],[33]]+Tabel2547[[#This Row],[31]]+Tabel2547[[#This Row],[29]]+Tabel2547[[#This Row],[27]]+Tabel2547[[#This Row],[25]]+Tabel2547[[#This Row],[23]]+Tabel2547[[#This Row],[21]]+Tabel2547[[#This Row],[19]]+Tabel2547[[#This Row],[17]]+Tabel2547[[#This Row],[15]]+Tabel2547[[#This Row],[13]]+Tabel2547[[#This Row],[11]]+Tabel2547[[#This Row],[9]]+Tabel2547[[#This Row],[7]]+Tabel2547[[#This Row],[5]]+Tabel2547[[#This Row],[3]]+Tabel2547[[#This Row],[1]]","v":36},{"$f":"Tabel2547[[#This Row],[RGFT]]+Tabel2547[[#This Row],[RPMD]]","v":0},0,"VHL"]
["4.1",null,"Woensdag","1= Noordeloos 2= Goudriaan Binnen",null,6,6,6,null,0,1,null,0,null,null,null,null,null,null,1,7,null,null,null,4,null,null,null,null,null,null,null,null,null,null,null,null,null,null,null,null,null,null,null,null,null,null,null,null,null,null,null,null,null,null,null,null,null,null,null,{"$f":"Tabel2547[[#This Row],[52]]+Tabel2547[[#This Row],[50]]+Tabel2547[[#This Row],[48]]+Tabel2547[[#This Row],[46]]+Tabel2547[[#This Row],[44]]+Tabel2547[[#This Row],[42]]+Tabel2547[[#This Row],[40]]+Tabel2547[[#This Row],[38]]+Tabel2547[[#This Row],[36]]+Tabel2547[[#This Row],[34]]+Tabel2547[[#This Row],[32]]+Tabel2547[[#This Row],[30]]+Tabel2547[[#This Row],[28]]+Tabel2547[[#This Row],[26]]+Tabel2547[[#This Row],[24]]+Tabel2547[[#This Row],[22]]+Tabel2547[[#This Row],[20]]+Tabel2547[[#This Row],[18]]+Tabel2547[[#This Row],[16]]+Tabel2547[[#This Row],[14]]+Tabel2547[[#This Row],[12]]+Tabel2547[[#This Row],[10]]+Tabel2547[[#This Row],[8]]+Tabel2547[[#This Row],[6]]+Tabel2547[[#This Row],[4]]+Tabel2547[[#This Row],[2]]","v":1},null,{"$f":"Tabel2547[[#This Row],[51]]+Tabel2547[[#This Row],[49]]+Tabel2547[[#This Row],[47]]+Tabel2547[[#This Row],[45]]+Tabel2547[[#This Row],[43]]+Tabel2547[[#This Row],[41]]+Tabel2547[[#This Row],[39]]+Tabel2547[[#This Row],[37]]+Tabel2547[[#This Row],[35]]+Tabel2547[[#This Row],[33]]+Tabel2547[[#This Row],[31]]+Tabel2547[[#This Row],[29]]+Tabel2547[[#This Row],[27]]+Tabel2547[[#This Row],[25]]+Tabel2547[[#This Row],[23]]+Tabel2547[[#This Row],[21]]+Tabel2547[[#This Row],[19]]+Tabel2547[[#This Row],[17]]+Tabel2547[[#This Row],[15]]+Tabel2547[[#This Row],[13]]+Tabel2547[[#This Row],[11]]+Tabel2547[[#This Row],[9]]+Tabel2547[[#This Row],[7]]+Tabel2547[[#This Row],[5]]+Tabel2547[[#This Row],[3]]+Tabel2547[[#This Row],[1]]","v":12},null,{"$f":"Tabel2547[[#This Row],[RGFT]]+Tabel2547[[#This Row],[RPMD]]","v":13},52,"Molenlanden"]
["4.1",null,"Woensdag","1= Noordeloos 2= Goudriaan Binnen","1=Singel 1- 2=van Tetsstr 31",6,6,6,null,22,4,null,4,null,null,null,null,null,null,5,7,null,null,null,10,null,null,null,null,null,null,null,null,null,null,null,null,null,null,null,null,null,null,null,null,null,null,null,null,null,null,null,null,null,null,null,null,null,null,null,null,{"$f":"Tabel2547[[#This Row],[52]]+Tabel2547[[#This Row],[50]]+Tabel2547[[#This Row],[48]]+Tabel2547[[#This Row],[46]]+Tabel2547[[#This Row],[44]]+Tabel2547[[#This Row],[42]]+Tabel2547[[#This Row],[40]]+Tabel2547[[#This Row],[38]]+Tabel2547[[#This Row],[36]]+Tabel2547[[#This Row],[34]]+Tabel2547[[#This Row],[32]]+Tabel2547[[#This Row],[30]]+Tabel2547[[#This Row],[28]]+Tabel2547[[#This Row],[26]]+Tabel2547[[#This Row],[24]]+Tabel2547[[#This Row],[22]]+Tabel2547[[#This Row],[20]]+Tabel2547[[#This Row],[18]]+Tabel2547[[#This Row],[16]]+Tabel2547[[#This Row],[14]]+Tabel2547[[#This Row],[12]]+Tabel2547[[#This Row],[10]]+Tabel2547[[#This Row],[8]]+Tabel2547[[#This Row],[6]]+Tabel2547[[#This Row],[4]]+Tabel2547[[#This Row],[2]]","v":27},null,{"$f":"Tabel2547[[#This Row],[51]]+Tabel2547[[#This Row],[49]]+Tabel2547[[#This Row],[47]]+Tabel2547[[#This Row],[45]]+Tabel2547[[#This Row],[43]]+Tabel2547[[#This Row],[41]]+Tabel2547[[#This Row],[39]]+Tabel2547[[#This Row],[37]]+Tabel2547[[#This Row],[35]]+Tabel2547[[#This Row],[33]]+Tabel2547[[#This Row],[31]]+Tabel2547[[#This Row],[29]]+Tabel2547[[#This Row],[27]]+Tabel2547[[#This Row],[25]]+Tabel2547[[#This Row],[23]]+Tabel2547[[#This Row],[21]]+Tabel2547[[#This Row],[19]]+Tabel2547[[#This Row],[17]]+Tabel2547[[#This Row],[15]]+Tabel2547[[#This Row],[13]]+Tabel2547[[#This Row],[11]]+Tabel2547[[#This Row],[9]]+Tabel2547[[#This Row],[7]]+Tabel2547[[#This Row],[5]]+Tabel2547[[#This Row],[3]]+Tabel2547[[#This Row],[1]]","v":25},{"$f":"Tabel2547[[#This Row],[RGFT]]+Tabel2547[[#This Row],[RPMD]]","v":0},0,"Molenlanden"]
["4.2",null,"Woensdag","3=Nieuwpoort en 4=Langerak Binnen",null,6,6,6,null,null,null,null,null,null,null,null,null,null,null,0,8,null,null,null,8,null,null,null,null,null,null,null,null,null,null,null,null,null,null,null,null,null,null,null,null,null,null,null,null,null,null,null,null,null,null,null,null,null,null,null,{"$f":"Tabel2547[[#This Row],[52]]+Tabel2547[[#This Row],[50]]+Tabel2547[[#This Row],[48]]+Tabel2547[[#This Row],[46]]+Tabel2547[[#This Row],[44]]+Tabel2547[[#This Row],[42]]+Tabel2547[[#This Row],[40]]+Tabel2547[[#This Row],[38]]+Tabel2547[[#This Row],[36]]+Tabel2547[[#This Row],[34]]+Tabel2547[[#This Row],[32]]+Tabel2547[[#This Row],[30]]+Tabel2547[[#This Row],[28]]+Tabel2547[[#This Row],[26]]+Tabel2547[[#This Row],[24]]+Tabel2547[[#This Row],[22]]+Tabel2547[[#This Row],[20]]+Tabel2547[[#This Row],[18]]+Tabel2547[[#This Row],[16]]+Tabel2547[[#This Row],[14]]+Tabel2547[[#This Row],[12]]+Tabel2547[[#This Row],[10]]+Tabel2547[[#This Row],[8]]+Tabel2547[[#This Row],[6]]+Tabel2547[[#This Row],[4]]+Tabel2547[[#This Row],[2]]","v":0},null,{"$f":"Tabel2547[[#This Row],[51]]+Tabel2547[[#This Row],[49]]+Tabel2547[[#This Row],[47]]+Tabel2547[[#This Row],[45]]+Tabel2547[[#This Row],[43]]+Tabel2547[[#This Row],[41]]+Tabel2547[[#This Row],[39]]+Tabel2547[[#This Row],[37]]+Tabel2547[[#This Row],[35]]+Tabel2547[[#This Row],[33]]+Tabel2547[[#This Row],[31]]+Tabel2547[[#This Row],[29]]+Tabel2547[[#This Row],[27]]+Tabel2547[[#This Row],[25]]+Tabel2547[[#This Row],[23]]+Tabel2547[[#This Row],[21]]+Tabel2547[[#This Row],[19]]+Tabel2547[[#This Row],[17]]+Tabel2547[[#This Row],[15]]+Tabel2547[[#This Row],[13]]+Tabel2547[[#This Row],[11]]+Tabel2547[[#This Row],[9]]+Tabel2547[[#This Row],[7]]+Tabel2547[[#This Row],[5]]+Tabel2547[[#This Row],[3]]+Tabel2547[[#This Row],[1]]","v":16},null,{"$f":"Tabel2547[[#This Row],[RGFT]]+Tabel2547[[#This Row],[RPMD]]","v":16},33,"Molenlanden"]
["4.2",null,"Woensdag","3=Nieuwpoort en 4=Langerak Binnen","3= Hennepstr 32",6,6,6,null,null,null,null,null,null,null,null,null,null,null,14,5,null,null,null,14,null,null,null,null,null,null,null,null,null,null,null,null,null,null,null,null,null,null,null,null,null,null,null,null,null,null,null,null,null,null,null,null,null,null,null,null,{"$f":"Tabel2547[[#This Row],[52]]+Tabel2547[[#This Row],[50]]+Tabel2547[[#This Row],[48]]+Tabel2547[[#This Row],[46]]+Tabel2547[[#This Row],[44]]+Tabel2547[[#This Row],[42]]+Tabel2547[[#This Row],[40]]+Tabel2547[[#This Row],[38]]+Tabel2547[[#This Row],[36]]+Tabel2547[[#This Row],[34]]+Tabel2547[[#This Row],[32]]+Tabel2547[[#This Row],[30]]+Tabel2547[[#This Row],[28]]+Tabel2547[[#This Row],[26]]+Tabel2547[[#This Row],[24]]+Tabel2547[[#This Row],[22]]+Tabel2547[[#This Row],[20]]+Tabel2547[[#This Row],[18]]+Tabel2547[[#This Row],[16]]+Tabel2547[[#This Row],[14]]+Tabel2547[[#This Row],[12]]+Tabel2547[[#This Row],[10]]+Tabel2547[[#This Row],[8]]+Tabel2547[[#This Row],[6]]+Tabel2547[[#This Row],[4]]+Tabel2547[[#This Row],[2]]","v":14},null,{"$f":"Tabel2547[[#This Row],[51]]+Tabel2547[[#This Row],[49]]+Tabel2547[[#This Row],[47]]+Tabel2547[[#This Row],[45]]+Tabel2547[[#This Row],[43]]+Tabel2547[[#This Row],[41]]+Tabel2547[[#This Row],[39]]+Tabel2547[[#This Row],[37]]+Tabel2547[[#This Row],[35]]+Tabel2547[[#This Row],[33]]+Tabel2547[[#This Row],[31]]+Tabel2547[[#This Row],[29]]+Tabel2547[[#This Row],[27]]+Tabel2547[[#This Row],[25]]+Tabel2547[[#This Row],[23]]+Tabel2547[[#This Row],[21]]+Tabel2547[[#This Row],[19]]+Tabel2547[[#This Row],[17]]+Tabel2547[[#This Row],[15]]+Tabel2547[[#This Row],[13]]+Tabel2547[[#This Row],[11]]+Tabel2547[[#This Row],[9]]+Tabel2547[[#This Row],[7]]+Tabel2547[[#This Row],[5]]+Tabel2547[[#This Row],[3]]+Tabel2547[[#This Row],[1]]","v":19},{"$f":"Tabel2547[[#This Row],[RGFT]]+Tabel2547[[#This Row],[RPMD]]","v":0},0,"Molenlanden"]
["5.1",null,"Woensdag","Bleskensgraaf Binnen",null,5,5,5,null,null,6,null,11,null,null,null,null,2,9,null,null,null,null,null,null,null,null,null,null,null,null,null,null,null,null,null,null,null,null,null,null,null,null,null,null,null,null,null,null,null,null,null,null,null,null,null,null,null,null,null,{"$f":"Tabel2547[[#This Row],[52]]+Tabel2547[[#This Row],[50]]+Tabel2547[[#This Row],[48]]+Tabel2547[[#This Row],[46]]+Tabel2547[[#This Row],[44]]+Tabel2547[[#This Row],[42]]+Tabel2547[[#This Row],[40]]+Tabel2547[[#This Row],[38]]+Tabel2547[[#This Row],[36]]+Tabel2547[[#This Row],[34]]+Tabel2547[[#This Row],[32]]+Tabel2547[[#This Row],[30]]+Tabel2547[[#This Row],[28]]+Tabel2547[[#This Row],[26]]+Tabel2547[[#This Row],[24]]+Tabel2547[[#This Row],[22]]+Tabel2547[[#This Row],[20]]+Tabel2547[[#This Row],[18]]+Tabel2547[[#This Row],[16]]+Tabel2547[[#This Row],[14]]+Tabel2547[[#This Row],[12]]+Tabel2547[[#This Row],[10]]+Tabel2547[[#This Row],[8]]+Tabel2547[[#This Row],[6]]+Tabel2547[[#This Row],[4]]+Tabel2547[[#This Row],[2]]","v":2},null,{"$f":"Tabel2547[[#This Row],[51]]+Tabel2547[[#This Row],[49]]+Tabel2547[[#This Row],[47]]+Tabel2547[[#This Row],[45]]+Tabel2547[[#This Row],[43]]+Tabel2547[[#This Row],[41]]+Tabel2547[[#This Row],[39]]+Tabel2547[[#This Row],[37]]+Tabel2547[[#This Row],[35]]+Tabel2547[[#This Row],[33]]+Tabel2547[[#This Row],[31]]+Tabel2547[[#This Row],[29]]+Tabel2547[[#This Row],[27]]+Tabel2547[[#This Row],[25]]+Tabel2547[[#This Row],[23]]+Tabel2547[[#This Row],[21]]+Tabel2547[[#This Row],[19]]+Tabel2547[[#This Row],[17]]+Tabel2547[[#This Row],[15]]+Tabel2547[[#This Row],[13]]+Tabel2547[[#This Row],[11]]+Tabel2547[[#This Row],[9]]+Tabel2547[[#This Row],[7]]+Tabel2547[[#This Row],[5]]+Tabel2547[[#This Row],[3]]+Tabel2547[[#This Row],[1]]","v":26},null,{"$f":"Tabel2547[[#This Row],[RGFT]]+Tabel2547[[#This Row],[RPMD]]","v":28},66,"Molenlanden"]
["5.1",null,"Woensdag","Bleskensgraaf Binnen","Meidoornstraat 4",5,5,5,null,null,12,null,26,null,null,null,null,22,6,null,null,null,null,null,null,null,null,null,null,null,null,null,null,null,null,null,null,null,null,null,null,null,null,null,null,null,null,null,null,null,null,null,null,null,null,null,null,null,null,null,null,{"$f":"Tabel2547[[#This Row],[52]]+Tabel2547[[#This Row],[50]]+Tabel2547[[#This Row],[48]]+Tabel2547[[#This Row],[46]]+Tabel2547[[#This Row],[44]]+Tabel2547[[#This Row],[42]]+Tabel2547[[#This Row],[40]]+Tabel2547[[#This Row],[38]]+Tabel2547[[#This Row],[36]]+Tabel2547[[#This Row],[34]]+Tabel2547[[#This Row],[32]]+Tabel2547[[#This Row],[30]]+Tabel2547[[#This Row],[28]]+Tabel2547[[#This Row],[26]]+Tabel2547[[#This Row],[24]]+Tabel2547[[#This Row],[22]]+Tabel2547[[#This Row],[20]]+Tabel2547[[#This Row],[18]]+Tabel2547[[#This Row],[16]]+Tabel2547[[#This Row],[14]]+Tabel2547[[#This Row],[12]]+Tabel2547[[#This Row],[10]]+Tabel2547[[#This Row],[8]]+Tabel2547[[#This Row],[6]]+Tabel2547[[#This Row],[4]]+Tabel2547[[#This Row],[2]]","v":22},null,{"$f":"Tabel2547[[#This Row],[51]]+Tabel2547[[#This Row],[49]]+Tabel2547[[#This Row],[47]]+Tabel2547[[#This Row],[45]]+Tabel2547[[#This Row],[43]]+Tabel2547[[#This Row],[41]]+Tabel2547[[#This Row],[39]]+Tabel2547[[#This Row],[37]]+Tabel2547[[#This Row],[35]]+Tabel2547[[#This Row],[33]]+Tabel2547[[#This Row],[31]]+Tabel2547[[#This Row],[29]]+Tabel2547[[#This Row],[27]]+Tabel2547[[#This Row],[25]]+Tabel2547[[#This Row],[23]]+Tabel2547[[#This Row],[21]]+Tabel2547[[#This Row],[19]]+Tabel2547[[#This Row],[17]]+Tabel2547[[#This Row],[15]]+Tabel2547[[#This Row],[13]]+Tabel2547[[#This Row],[11]]+Tabel2547[[#This Row],[9]]+Tabel2547[[#This Row],[7]]+Tabel2547[[#This Row],[5]]+Tabel2547[[#This Row],[3]]+Tabel2547[[#This Row],[1]]","v":44},{"$f":"Tabel2547[[#This Row],[RGFT]]+Tabel2547[[#This Row],[RPMD]]","v":0},0,"Molenlanden"]
["5.2",null,"Woensdag","1 Brandwijk 2Molenaarsgraaf  3 Ottoland Binnen",null,5,5,5,null,1,null,null,null,null,null,null,null,0,11,null,null,null,null,null,null,null,null,null,null,null,null,null,null,null,null,null,null,null,null,null,null,null,null,null,null,null,null,null,null,null,null,null,null,null,null,null,null,null,null,null,{"$f":"Tabel2547[[#This Row],[52]]+Tabel2547[[#This Row],[50]]+Tabel2547[[#This Row],[48]]+Tabel2547[[#This Row],[46]]+Tabel2547[[#This Row],[44]]+Tabel2547[[#This Row],[42]]+Tabel2547[[#This Row],[40]]+Tabel2547[[#This Row],[38]]+Tabel2547[[#This Row],[36]]+Tabel2547[[#This Row],[34]]+Tabel2547[[#This Row],[32]]+Tabel2547[[#This Row],[30]]+Tabel2547[[#This Row],[28]]+Tabel2547[[#This Row],[26]]+Tabel2547[[#This Row],[24]]+Tabel2547[[#This Row],[22]]+Tabel2547[[#This Row],[20]]+Tabel2547[[#This Row],[18]]+Tabel2547[[#This Row],[16]]+Tabel2547[[#This Row],[14]]+Tabel2547[[#This Row],[12]]+Tabel2547[[#This Row],[10]]+Tabel2547[[#This Row],[8]]+Tabel2547[[#This Row],[6]]+Tabel2547[[#This Row],[4]]+Tabel2547[[#This Row],[2]]","v":1},null,{"$f":"Tabel2547[[#This Row],[51]]+Tabel2547[[#This Row],[49]]+Tabel2547[[#This Row],[47]]+Tabel2547[[#This Row],[45]]+Tabel2547[[#This Row],[43]]+Tabel2547[[#This Row],[41]]+Tabel2547[[#This Row],[39]]+Tabel2547[[#This Row],[37]]+Tabel2547[[#This Row],[35]]+Tabel2547[[#This Row],[33]]+Tabel2547[[#This Row],[31]]+Tabel2547[[#This Row],[29]]+Tabel2547[[#This Row],[27]]+Tabel2547[[#This Row],[25]]+Tabel2547[[#This Row],[23]]+Tabel2547[[#This Row],[21]]+Tabel2547[[#This Row],[19]]+Tabel2547[[#This Row],[17]]+Tabel2547[[#This Row],[15]]+Tabel2547[[#This Row],[13]]+Tabel2547[[#This Row],[11]]+Tabel2547[[#This Row],[9]]+Tabel2547[[#This Row],[7]]+Tabel2547[[#This Row],[5]]+Tabel2547[[#This Row],[3]]+Tabel2547[[#This Row],[1]]","v":11},null,{"$f":"Tabel2547[[#This Row],[RGFT]]+Tabel2547[[#This Row],[RPMD]]","v":12},32,"Molenlanden"]
["5.2",null,"Woensdag","1 Brandwijk 2Molenaarsgraaf  3 Ottoland Binnen","1 = Julianastraat 1+ 2 = Graveland 54+ 3= Burg.Visserwerf 2",5,5,5,null,11,null,null,null,null,null,null,null,7,6,null,null,null,null,null,null,8,null,null,null,null,null,null,null,null,null,null,null,null,null,null,null,null,null,null,null,null,null,null,null,null,null,null,null,null,null,null,null,null,null,null,null,{"$f":"Tabel2547[[#This Row],[52]]+Tabel2547[[#This Row],[50]]+Tabel2547[[#This Row],[48]]+Tabel2547[[#This Row],[46]]+Tabel2547[[#This Row],[44]]+Tabel2547[[#This Row],[42]]+Tabel2547[[#This Row],[40]]+Tabel2547[[#This Row],[38]]+Tabel2547[[#This Row],[36]]+Tabel2547[[#This Row],[34]]+Tabel2547[[#This Row],[32]]+Tabel2547[[#This Row],[30]]+Tabel2547[[#This Row],[28]]+Tabel2547[[#This Row],[26]]+Tabel2547[[#This Row],[24]]+Tabel2547[[#This Row],[22]]+Tabel2547[[#This Row],[20]]+Tabel2547[[#This Row],[18]]+Tabel2547[[#This Row],[16]]+Tabel2547[[#This Row],[14]]+Tabel2547[[#This Row],[12]]+Tabel2547[[#This Row],[10]]+Tabel2547[[#This Row],[8]]+Tabel2547[[#This Row],[6]]+Tabel2547[[#This Row],[4]]+Tabel2547[[#This Row],[2]]","v":26},null,{"$f":"Tabel2547[[#This Row],[51]]+Tabel2547[[#This Row],[49]]+Tabel2547[[#This Row],[47]]+Tabel2547[[#This Row],[45]]+Tabel2547[[#This Row],[43]]+Tabel2547[[#This Row],[41]]+Tabel2547[[#This Row],[39]]+Tabel2547[[#This Row],[37]]+Tabel2547[[#This Row],[35]]+Tabel2547[[#This Row],[33]]+Tabel2547[[#This Row],[31]]+Tabel2547[[#This Row],[29]]+Tabel2547[[#This Row],[27]]+Tabel2547[[#This Row],[25]]+Tabel2547[[#This Row],[23]]+Tabel2547[[#This Row],[21]]+Tabel2547[[#This Row],[19]]+Tabel2547[[#This Row],[17]]+Tabel2547[[#This Row],[15]]+Tabel2547[[#This Row],[13]]+Tabel2547[[#This Row],[11]]+Tabel2547[[#This Row],[9]]+Tabel2547[[#This Row],[7]]+Tabel2547[[#This Row],[5]]+Tabel2547[[#This Row],[3]]+Tabel2547[[#This Row],[1]]","v":6},{"$f":"Tabel2547[[#This Row],[RGFT]]+Tabel2547[[#This Row],[RPMD]]","v":0},0,"Molenlanden"]
["1.1",null,"Donderdag","Zijderveld Everdingen Daarna Hardinxveld helpen",null,null,null,null,null,null,null,null,null,null,null,null,9,null,2,null,null,2,5,null,null,null,null,null,null,null,null,null,null,null,null,null,null,null,null,null,null,null,null,null,null,null,null,null,null,null,null,null,null,null,null,null,null,null,null,null,{"$f":"Tabel2547[[#This Row],[52]]+Tabel2547[[#This Row],[50]]+Tabel2547[[#This Row],[48]]+Tabel2547[[#This Row],[46]]+Tabel2547[[#This Row],[44]]+Tabel2547[[#This Row],[42]]+Tabel2547[[#This Row],[40]]+Tabel2547[[#This Row],[38]]+Tabel2547[[#This Row],[36]]+Tabel2547[[#This Row],[34]]+Tabel2547[[#This Row],[32]]+Tabel2547[[#This Row],[30]]+Tabel2547[[#This Row],[28]]+Tabel2547[[#This Row],[26]]+Tabel2547[[#This Row],[24]]+Tabel2547[[#This Row],[22]]+Tabel2547[[#This Row],[20]]+Tabel2547[[#This Row],[18]]+Tabel2547[[#This Row],[16]]+Tabel2547[[#This Row],[14]]+Tabel2547[[#This Row],[12]]+Tabel2547[[#This Row],[10]]+Tabel2547[[#This Row],[8]]+Tabel2547[[#This Row],[6]]+Tabel2547[[#This Row],[4]]+Tabel2547[[#This Row],[2]]","v":2},null,{"$f":"Tabel2547[[#This Row],[51]]+Tabel2547[[#This Row],[49]]+Tabel2547[[#This Row],[47]]+Tabel2547[[#This Row],[45]]+Tabel2547[[#This Row],[43]]+Tabel2547[[#This Row],[41]]+Tabel2547[[#This Row],[39]]+Tabel2547[[#This Row],[37]]+Tabel2547[[#This Row],[35]]+Tabel2547[[#This Row],[33]]+Tabel2547[[#This Row],[31]]+Tabel2547[[#This Row],[29]]+Tabel2547[[#This Row],[27]]+Tabel2547[[#This Row],[25]]+Tabel2547[[#This Row],[23]]+Tabel2547[[#This Row],[21]]+Tabel2547[[#This Row],[19]]+Tabel2547[[#This Row],[17]]+Tabel2547[[#This Row],[15]]+Tabel2547[[#This Row],[13]]+Tabel2547[[#This Row],[11]]+Tabel2547[[#This Row],[9]]+Tabel2547[[#This Row],[7]]+Tabel2547[[#This Row],[5]]+Tabel2547[[#This Row],[3]]+Tabel2547[[#This Row],[1]]","v":16},null,{"$f":"Tabel2547[[#This Row],[RGFT]]+Tabel2547[[#This Row],[RPMD]]","v":18},21,"VHL"]
["1.1",null,"Donderdag","1=Zijderveld 2=Everdingen  3=Hardinxveld helpen","1=schoolstraat 2-2=Graaf florisstr 1 3= overleggen",null,null,null,null,null,null,null,null,null,null,null,0,null,9,null,null,0,12,null,null,null,null,null,null,null,null,null,null,null,null,null,null,null,null,null,null,null,null,null,null,null,null,null,null,null,null,null,null,null,null,null,null,null,null,null,null,{"$f":"Tabel2547[[#This Row],[52]]+Tabel2547[[#This Row],[50]]+Tabel2547[[#This Row],[48]]+Tabel2547[[#This Row],[46]]+Tabel2547[[#This Row],[44]]+Tabel2547[[#This Row],[42]]+Tabel2547[[#This Row],[40]]+Tabel2547[[#This Row],[38]]+Tabel2547[[#This Row],[36]]+Tabel2547[[#This Row],[34]]+Tabel2547[[#This Row],[32]]+Tabel2547[[#This Row],[30]]+Tabel2547[[#This Row],[28]]+Tabel2547[[#This Row],[26]]+Tabel2547[[#This Row],[24]]+Tabel2547[[#This Row],[22]]+Tabel2547[[#This Row],[20]]+Tabel2547[[#This Row],[18]]+Tabel2547[[#This Row],[16]]+Tabel2547[[#This Row],[14]]+Tabel2547[[#This Row],[12]]+Tabel2547[[#This Row],[10]]+Tabel2547[[#This Row],[8]]+Tabel2547[[#This Row],[6]]+Tabel2547[[#This Row],[4]]+Tabel2547[[#This Row],[2]]","v":0},null,{"$f":"Tabel2547[[#This Row],[51]]+Tabel2547[[#This Row],[49]]+Tabel2547[[#This Row],[47]]+Tabel2547[[#This Row],[45]]+Tabel2547[[#This Row],[43]]+Tabel2547[[#This Row],[41]]+Tabel2547[[#This Row],[39]]+Tabel2547[[#This Row],[37]]+Tabel2547[[#This Row],[35]]+Tabel2547[[#This Row],[33]]+Tabel2547[[#This Row],[31]]+Tabel2547[[#This Row],[29]]+Tabel2547[[#This Row],[27]]+Tabel2547[[#This Row],[25]]+Tabel2547[[#This Row],[23]]+Tabel2547[[#This Row],[21]]+Tabel2547[[#This Row],[19]]+Tabel2547[[#This Row],[17]]+Tabel2547[[#This Row],[15]]+Tabel2547[[#This Row],[13]]+Tabel2547[[#This Row],[11]]+Tabel2547[[#This Row],[9]]+Tabel2547[[#This Row],[7]]+Tabel2547[[#This Row],[5]]+Tabel2547[[#This Row],[3]]+Tabel2547[[#This Row],[1]]","v":21},{"$f":"Tabel2547[[#This Row],[RGFT]]+Tabel2547[[#This Row],[RPMD]]","v":0},0,"VHL"]
["2.1",null,"Donderdag","Giessenburg binnen en Hardinxveld Het Spoor",null,8,8,8,null,null,null,null,null,null,null,null,null,null,null,null,5,null,null,null,16,null,null,null,null,null,null,null,null,null,null,null,null,null,null,null,null,null,null,null,null,null,null,null,null,null,null,null,null,null,null,null,null,null,null,null,{"$f":"Tabel2547[[#This Row],[52]]+Tabel2547[[#This Row],[50]]+Tabel2547[[#This Row],[48]]+Tabel2547[[#This Row],[46]]+Tabel2547[[#This Row],[44]]+Tabel2547[[#This Row],[42]]+Tabel2547[[#This Row],[40]]+Tabel2547[[#This Row],[38]]+Tabel2547[[#This Row],[36]]+Tabel2547[[#This Row],[34]]+Tabel2547[[#This Row],[32]]+Tabel2547[[#This Row],[30]]+Tabel2547[[#This Row],[28]]+Tabel2547[[#This Row],[26]]+Tabel2547[[#This Row],[24]]+Tabel2547[[#This Row],[22]]+Tabel2547[[#This Row],[20]]+Tabel2547[[#This Row],[18]]+Tabel2547[[#This Row],[16]]+Tabel2547[[#This Row],[14]]+Tabel2547[[#This Row],[12]]+Tabel2547[[#This Row],[10]]+Tabel2547[[#This Row],[8]]+Tabel2547[[#This Row],[6]]+Tabel2547[[#This Row],[4]]+Tabel2547[[#This Row],[2]]","v":0},null,{"$f":"Tabel2547[[#This Row],[51]]+Tabel2547[[#This Row],[49]]+Tabel2547[[#This Row],[47]]+Tabel2547[[#This Row],[45]]+Tabel2547[[#This Row],[43]]+Tabel2547[[#This Row],[41]]+Tabel2547[[#This Row],[39]]+Tabel2547[[#This Row],[37]]+Tabel2547[[#This Row],[35]]+Tabel2547[[#This Row],[33]]+Tabel2547[[#This Row],[31]]+Tabel2547[[#This Row],[29]]+Tabel2547[[#This Row],[27]]+Tabel2547[[#This Row],[25]]+Tabel2547[[#This Row],[23]]+Tabel2547[[#This Row],[21]]+Tabel2547[[#This Row],[19]]+Tabel2547[[#This Row],[17]]+Tabel2547[[#This Row],[15]]+Tabel2547[[#This Row],[13]]+Tabel2547[[#This Row],[11]]+Tabel2547[[#This Row],[9]]+Tabel2547[[#This Row],[7]]+Tabel2547[[#This Row],[5]]+Tabel2547[[#This Row],[3]]+Tabel2547[[#This Row],[1]]","v":21},null,{"$f":"Tabel2547[[#This Row],[RGFT]]+Tabel2547[[#This Row],[RPMD]]","v":21},38,"Hardinxveld"]
["2.1",null,"Donderdag","Giessenburg binnen en Hardinxveld Het Spoor","Arent van gentstr 33 en Spoorweg 30",8,8,8,null,null,null,null,null,null,null,null,null,null,null,null,15,null,null,null,23,null,null,null,null,null,null,null,null,null,null,null,null,null,null,null,null,null,null,null,null,null,null,null,null,null,null,null,null,null,null,null,null,null,null,null,null,{"$f":"Tabel2547[[#This Row],[52]]+Tabel2547[[#This Row],[50]]+Tabel2547[[#This Row],[48]]+Tabel2547[[#This Row],[46]]+Tabel2547[[#This Row],[44]]+Tabel2547[[#This Row],[42]]+Tabel2547[[#This Row],[40]]+Tabel2547[[#This Row],[38]]+Tabel2547[[#This Row],[36]]+Tabel2547[[#This Row],[34]]+Tabel2547[[#This Row],[32]]+Tabel2547[[#This Row],[30]]+Tabel2547[[#This Row],[28]]+Tabel2547[[#This Row],[26]]+Tabel2547[[#This Row],[24]]+Tabel2547[[#This Row],[22]]+Tabel2547[[#This Row],[20]]+Tabel2547[[#This Row],[18]]+Tabel2547[[#This Row],[16]]+Tabel2547[[#This Row],[14]]+Tabel2547[[#This Row],[12]]+Tabel2547[[#This Row],[10]]+Tabel2547[[#This Row],[8]]+Tabel2547[[#This Row],[6]]+Tabel2547[[#This Row],[4]]+Tabel2547[[#This Row],[2]]","v":0},null,{"$f":"Tabel2547[[#This Row],[51]]+Tabel2547[[#This Row],[49]]+Tabel2547[[#This Row],[47]]+Tabel2547[[#This Row],[45]]+Tabel2547[[#This Row],[43]]+Tabel2547[[#This Row],[41]]+Tabel2547[[#This Row],[39]]+Tabel2547[[#This Row],[37]]+Tabel2547[[#This Row],[35]]+Tabel2547[[#This Row],[33]]+Tabel2547[[#This Row],[31]]+Tabel2547[[#This Row],[29]]+Tabel2547[[#This Row],[27]]+Tabel2547[[#This Row],[25]]+Tabel2547[[#This Row],[23]]+Tabel2547[[#This Row],[21]]+Tabel2547[[#This Row],[19]]+Tabel2547[[#This Row],[17]]+Tabel2547[[#This Row],[15]]+Tabel2547[[#This Row],[13]]+Tabel2547[[#This Row],[11]]+Tabel2547[[#This Row],[9]]+Tabel2547[[#This Row],[7]]+Tabel2547[[#This Row],[5]]+Tabel2547[[#This Row],[3]]+Tabel2547[[#This Row],[1]]","v":38},{"$f":"Tabel2547[[#This Row],[RGFT]]+Tabel2547[[#This Row],[RPMD]]","v":0},0,"Hardinxveld"]
["3.1",null,"Donderdag","Kern Oud Alblas en Wijngaarden",null,5,5,5,null,null,null,null,null,null,null,null,null,null,null,null,null,0,0,null,null,19,null,null,null,null,null,null,null,null,null,null,null,null,null,null,null,null,null,null,null,null,null,null,null,null,null,null,null,null,null,null,null,null,null,null,{"$f":"Tabel2547[[#This Row],[52]]+Tabel2547[[#This Row],[50]]+Tabel2547[[#This Row],[48]]+Tabel2547[[#This Row],[46]]+Tabel2547[[#This Row],[44]]+Tabel2547[[#This Row],[42]]+Tabel2547[[#This Row],[40]]+Tabel2547[[#This Row],[38]]+Tabel2547[[#This Row],[36]]+Tabel2547[[#This Row],[34]]+Tabel2547[[#This Row],[32]]+Tabel2547[[#This Row],[30]]+Tabel2547[[#This Row],[28]]+Tabel2547[[#This Row],[26]]+Tabel2547[[#This Row],[24]]+Tabel2547[[#This Row],[22]]+Tabel2547[[#This Row],[20]]+Tabel2547[[#This Row],[18]]+Tabel2547[[#This Row],[16]]+Tabel2547[[#This Row],[14]]+Tabel2547[[#This Row],[12]]+Tabel2547[[#This Row],[10]]+Tabel2547[[#This Row],[8]]+Tabel2547[[#This Row],[6]]+Tabel2547[[#This Row],[4]]+Tabel2547[[#This Row],[2]]","v":19},null,{"$f":"Tabel2547[[#This Row],[51]]+Tabel2547[[#This Row],[49]]+Tabel2547[[#This Row],[47]]+Tabel2547[[#This Row],[45]]+Tabel2547[[#This Row],[43]]+Tabel2547[[#This Row],[41]]+Tabel2547[[#This Row],[39]]+Tabel2547[[#This Row],[37]]+Tabel2547[[#This Row],[35]]+Tabel2547[[#This Row],[33]]+Tabel2547[[#This Row],[31]]+Tabel2547[[#This Row],[29]]+Tabel2547[[#This Row],[27]]+Tabel2547[[#This Row],[25]]+Tabel2547[[#This Row],[23]]+Tabel2547[[#This Row],[21]]+Tabel2547[[#This Row],[19]]+Tabel2547[[#This Row],[17]]+Tabel2547[[#This Row],[15]]+Tabel2547[[#This Row],[13]]+Tabel2547[[#This Row],[11]]+Tabel2547[[#This Row],[9]]+Tabel2547[[#This Row],[7]]+Tabel2547[[#This Row],[5]]+Tabel2547[[#This Row],[3]]+Tabel2547[[#This Row],[1]]","v":0},null,{"$f":"Tabel2547[[#This Row],[RGFT]]+Tabel2547[[#This Row],[RPMD]]","v":19},15,"Molenlanden"]
["3.1",null,"Donderdag","Kern Oud Alblas en Wijngaarden","Dorpsstraat 6 +Dokter ingelstr 1",5,5,5,null,null,null,null,null,null,null,null,null,null,null,null,null,10,0,null,null,5,null,null,null,null,null,null,null,null,null,null,null,null,null,null,null,null,null,null,null,null,null,null,null,null,null,null,null,null,null,null,null,null,null,null,null,{"$f":"Tabel2547[[#This Row],[52]]+Tabel2547[[#This Row],[50]]+Tabel2547[[#This Row],[48]]+Tabel2547[[#This Row],[46]]+Tabel2547[[#This Row],[44]]+Tabel2547[[#This Row],[42]]+Tabel2547[[#This Row],[40]]+Tabel2547[[#This Row],[38]]+Tabel2547[[#This Row],[36]]+Tabel2547[[#This Row],[34]]+Tabel2547[[#This Row],[32]]+Tabel2547[[#This Row],[30]]+Tabel2547[[#This Row],[28]]+Tabel2547[[#This Row],[26]]+Tabel2547[[#This Row],[24]]+Tabel2547[[#This Row],[22]]+Tabel2547[[#This Row],[20]]+Tabel2547[[#This Row],[18]]+Tabel2547[[#This Row],[16]]+Tabel2547[[#This Row],[14]]+Tabel2547[[#This Row],[12]]+Tabel2547[[#This Row],[10]]+Tabel2547[[#This Row],[8]]+Tabel2547[[#This Row],[6]]+Tabel2547[[#This Row],[4]]+Tabel2547[[#This Row],[2]]","v":15},null,{"$f":"Tabel2547[[#This Row],[51]]+Tabel2547[[#This Row],[49]]+Tabel2547[[#This Row],[47]]+Tabel2547[[#This Row],[45]]+Tabel2547[[#This Row],[43]]+Tabel2547[[#This Row],[41]]+Tabel2547[[#This Row],[39]]+Tabel2547[[#This Row],[37]]+Tabel2547[[#This Row],[35]]+Tabel2547[[#This Row],[33]]+Tabel2547[[#This Row],[31]]+Tabel2547[[#This Row],[29]]+Tabel2547[[#This Row],[27]]+Tabel2547[[#This Row],[25]]+Tabel2547[[#This Row],[23]]+Tabel2547[[#This Row],[21]]+Tabel2547[[#This Row],[19]]+Tabel2547[[#This Row],[17]]+Tabel2547[[#This Row],[15]]+Tabel2547[[#This Row],[13]]+Tabel2547[[#This Row],[11]]+Tabel2547[[#This Row],[9]]+Tabel2547[[#This Row],[7]]+Tabel2547[[#This Row],[5]]+Tabel2547[[#This Row],[3]]+Tabel2547[[#This Row],[1]]","v":0},{"$f":"Tabel2547[[#This Row],[RGFT]]+Tabel2547[[#This Row],[RPMD]]","v":0},0,"Molenlanden"]
["4.1",null,"Donderdag","Hardinxveld Oud en wijk over het spoor",null,6,6,6,null,2,0,2,4,null,null,2,16,null,null,null,null,null,null,null,null,null,null,null,null,null,null,null,null,null,null,null,null,null,null,null,null,null,null,null,null,null,null,null,null,null,null,null,null,null,null,null,null,null,null,null,{"$f":"Tabel2547[[#This Row],[52]]+Tabel2547[[#This Row],[50]]+Tabel2547[[#This Row],[48]]+Tabel2547[[#This Row],[46]]+Tabel2547[[#This Row],[44]]+Tabel2547[[#This Row],[42]]+Tabel2547[[#This Row],[40]]+Tabel2547[[#This Row],[38]]+Tabel2547[[#This Row],[36]]+Tabel2547[[#This Row],[34]]+Tabel2547[[#This Row],[32]]+Tabel2547[[#This Row],[30]]+Tabel2547[[#This Row],[28]]+Tabel2547[[#This Row],[26]]+Tabel2547[[#This Row],[24]]+Tabel2547[[#This Row],[22]]+Tabel2547[[#This Row],[20]]+Tabel2547[[#This Row],[18]]+Tabel2547[[#This Row],[16]]+Tabel2547[[#This Row],[14]]+Tabel2547[[#This Row],[12]]+Tabel2547[[#This Row],[10]]+Tabel2547[[#This Row],[8]]+Tabel2547[[#This Row],[6]]+Tabel2547[[#This Row],[4]]+Tabel2547[[#This Row],[2]]","v":6},null,{"$f":"Tabel2547[[#This Row],[51]]+Tabel2547[[#This Row],[49]]+Tabel2547[[#This Row],[47]]+Tabel2547[[#This Row],[45]]+Tabel2547[[#This Row],[43]]+Tabel2547[[#This Row],[41]]+Tabel2547[[#This Row],[39]]+Tabel2547[[#This Row],[37]]+Tabel2547[[#This Row],[35]]+Tabel2547[[#This Row],[33]]+Tabel2547[[#This Row],[31]]+Tabel2547[[#This Row],[29]]+Tabel2547[[#This Row],[27]]+Tabel2547[[#This Row],[25]]+Tabel2547[[#This Row],[23]]+Tabel2547[[#This Row],[21]]+Tabel2547[[#This Row],[19]]+Tabel2547[[#This Row],[17]]+Tabel2547[[#This Row],[15]]+Tabel2547[[#This Row],[13]]+Tabel2547[[#This Row],[11]]+Tabel2547[[#This Row],[9]]+Tabel2547[[#This Row],[7]]+Tabel2547[[#This Row],[5]]+Tabel2547[[#This Row],[3]]+Tabel2547[[#This Row],[1]]","v":20},null,{"$f":"Tabel2547[[#This Row],[RGFT]]+Tabel2547[[#This Row],[RPMD]]","v":26},130,"Hardinxveld"]
["4.1",null,"Donderdag","Hardinxveld Oud en wijk over het spoor","Spoorweg 30",6,6,6,null,14,17,48,16,null,null,15,20,null,null,null,null,null,null,null,null,null,null,null,null,null,null,null,null,null,null,null,null,null,null,null,null,null,null,null,null,null,null,null,null,null,null,null,null,null,null,null,null,null,null,null,null,{"$f":"Tabel2547[[#This Row],[52]]+Tabel2547[[#This Row],[50]]+Tabel2547[[#This Row],[48]]+Tabel2547[[#This Row],[46]]+Tabel2547[[#This Row],[44]]+Tabel2547[[#This Row],[42]]+Tabel2547[[#This Row],[40]]+Tabel2547[[#This Row],[38]]+Tabel2547[[#This Row],[36]]+Tabel2547[[#This Row],[34]]+Tabel2547[[#This Row],[32]]+Tabel2547[[#This Row],[30]]+Tabel2547[[#This Row],[28]]+Tabel2547[[#This Row],[26]]+Tabel2547[[#This Row],[24]]+Tabel2547[[#This Row],[22]]+Tabel2547[[#This Row],[20]]+Tabel2547[[#This Row],[18]]+Tabel2547[[#This Row],[16]]+Tabel2547[[#This Row],[14]]+Tabel2547[[#This Row],[12]]+Tabel2547[[#This Row],[10]]+Tabel2547[[#This Row],[8]]+Tabel2547[[#This Row],[6]]+Tabel2547[[#This Row],[4]]+Tabel2547[[#This Row],[2]]","v":77},null,{"$f":"Tabel2547[[#This Row],[51]]+Tabel2547[[#This Row],[49]]+Tabel2547[[#This Row],[47]]+Tabel2547[[#This Row],[45]]+Tabel2547[[#This Row],[43]]+Tabel2547[[#This Row],[41]]+Tabel2547[[#This Row],[39]]+Tabel2547[[#This Row],[37]]+Tabel2547[[#This Row],[35]]+Tabel2547[[#This Row],[33]]+Tabel2547[[#This Row],[31]]+Tabel2547[[#This Row],[29]]+Tabel2547[[#This Row],[27]]+Tabel2547[[#This Row],[25]]+Tabel2547[[#This Row],[23]]+Tabel2547[[#This Row],[21]]+Tabel2547[[#This Row],[19]]+Tabel2547[[#This Row],[17]]+Tabel2547[[#This Row],[15]]+Tabel2547[[#This Row],[13]]+Tabel2547[[#This Row],[11]]+Tabel2547[[#This Row],[9]]+Tabel2547[[#This Row],[7]]+Tabel2547[[#This Row],[5]]+Tabel2547[[#This Row],[3]]+Tabel2547[[#This Row],[1]]","v":53},{"$f":"Tabel2547[[#This Row],[RGFT]]+Tabel2547[[#This Row],[RPMD]]","v":0},0,"Hardinxveld"]
["5.1",null,"Donderdag","Hardinxveld Westwijk",null,5,5,5,1,null,null,null,null,null,null,null,null,null,null,null,null,null,null,null,null,null,null,null,null,null,null,null,null,null,null,null,null,null,null,null,null,null,null,null,null,null,null,null,null,null,null,null,null,null,null,null,null,null,null,null,{"$f":"Tabel2547[[#This Row],[52]]+Tabel2547[[#This Row],[50]]+Tabel2547[[#This Row],[48]]+Tabel2547[[#This Row],[46]]+Tabel2547[[#This Row],[44]]+Tabel2547[[#This Row],[42]]+Tabel2547[[#This Row],[40]]+Tabel2547[[#This Row],[38]]+Tabel2547[[#This Row],[36]]+Tabel2547[[#This Row],[34]]+Tabel2547[[#This Row],[32]]+Tabel2547[[#This Row],[30]]+Tabel2547[[#This Row],[28]]+Tabel2547[[#This Row],[26]]+Tabel2547[[#This Row],[24]]+Tabel2547[[#This Row],[22]]+Tabel2547[[#This Row],[20]]+Tabel2547[[#This Row],[18]]+Tabel2547[[#This Row],[16]]+Tabel2547[[#This Row],[14]]+Tabel2547[[#This Row],[12]]+Tabel2547[[#This Row],[10]]+Tabel2547[[#This Row],[8]]+Tabel2547[[#This Row],[6]]+Tabel2547[[#This Row],[4]]+Tabel2547[[#This Row],[2]]","v":0},null,{"$f":"Tabel2547[[#This Row],[51]]+Tabel2547[[#This Row],[49]]+Tabel2547[[#This Row],[47]]+Tabel2547[[#This Row],[45]]+Tabel2547[[#This Row],[43]]+Tabel2547[[#This Row],[41]]+Tabel2547[[#This Row],[39]]+Tabel2547[[#This Row],[37]]+Tabel2547[[#This Row],[35]]+Tabel2547[[#This Row],[33]]+Tabel2547[[#This Row],[31]]+Tabel2547[[#This Row],[29]]+Tabel2547[[#This Row],[27]]+Tabel2547[[#This Row],[25]]+Tabel2547[[#This Row],[23]]+Tabel2547[[#This Row],[21]]+Tabel2547[[#This Row],[19]]+Tabel2547[[#This Row],[17]]+Tabel2547[[#This Row],[15]]+Tabel2547[[#This Row],[13]]+Tabel2547[[#This Row],[11]]+Tabel2547[[#This Row],[9]]+Tabel2547[[#This Row],[7]]+Tabel2547[[#This Row],[5]]+Tabel2547[[#This Row],[3]]+Tabel2547[[#This Row],[1]]","v":1},null,{"$f":"Tabel2547[[#This Row],[RGFT]]+Tabel2547[[#This Row],[RPMD]]","v":1},22,"Hardinxveld"]
["5.1",null,"Donderdag","Hardinxveld Westwijk","Schapendrift 2",5,5,5,22,null,null,null,null,null,null,null,null,null,null,null,null,null,null,null,null,null,null,null,null,null,null,null,null,null,null,null,null,null,null,null,null,null,null,null,null,null,null,null,null,null,null,null,null,null,null,null,null,null,null,null,null,{"$f":"Tabel2547[[#This Row],[52]]+Tabel2547[[#This Row],[50]]+Tabel2547[[#This Row],[48]]+Tabel2547[[#This Row],[46]]+Tabel2547[[#This Row],[44]]+Tabel2547[[#This Row],[42]]+Tabel2547[[#This Row],[40]]+Tabel2547[[#This Row],[38]]+Tabel2547[[#This Row],[36]]+Tabel2547[[#This Row],[34]]+Tabel2547[[#This Row],[32]]+Tabel2547[[#This Row],[30]]+Tabel2547[[#This Row],[28]]+Tabel2547[[#This Row],[26]]+Tabel2547[[#This Row],[24]]+Tabel2547[[#This Row],[22]]+Tabel2547[[#This Row],[20]]+Tabel2547[[#This Row],[18]]+Tabel2547[[#This Row],[16]]+Tabel2547[[#This Row],[14]]+Tabel2547[[#This Row],[12]]+Tabel2547[[#This Row],[10]]+Tabel2547[[#This Row],[8]]+Tabel2547[[#This Row],[6]]+Tabel2547[[#This Row],[4]]+Tabel2547[[#This Row],[2]]","v":0},null,{"$f":"Tabel2547[[#This Row],[51]]+Tabel2547[[#This Row],[49]]+Tabel2547[[#This Row],[47]]+Tabel2547[[#This Row],[45]]+Tabel2547[[#This Row],[43]]+Tabel2547[[#This Row],[41]]+Tabel2547[[#This Row],[39]]+Tabel2547[[#This Row],[37]]+Tabel2547[[#This Row],[35]]+Tabel2547[[#This Row],[33]]+Tabel2547[[#This Row],[31]]+Tabel2547[[#This Row],[29]]+Tabel2547[[#This Row],[27]]+Tabel2547[[#This Row],[25]]+Tabel2547[[#This Row],[23]]+Tabel2547[[#This Row],[21]]+Tabel2547[[#This Row],[19]]+Tabel2547[[#This Row],[17]]+Tabel2547[[#This Row],[15]]+Tabel2547[[#This Row],[13]]+Tabel2547[[#This Row],[11]]+Tabel2547[[#This Row],[9]]+Tabel2547[[#This Row],[7]]+Tabel2547[[#This Row],[5]]+Tabel2547[[#This Row],[3]]+Tabel2547[[#This Row],[1]]","v":22},{"$f":"Tabel2547[[#This Row],[RGFT]]+Tabel2547[[#This Row],[RPMD]]","v":0},0,"Hardinxveld"]
["5.2",null,"Donderdag","Hardinxveld  (Jonathan)",null,6,6,6,null,null,null,null,null,null,null,null,null,3,null,null,null,0,null,null,null,null,null,null,null,null,null,null,null,null,null,null,null,null,null,null,null,null,null,null,null,null,null,null,null,null,null,null,null,null,null,null,null,null,null,null,{"$f":"Tabel2547[[#This Row],[52]]+Tabel2547[[#This Row],[50]]+Tabel2547[[#This Row],[48]]+Tabel2547[[#This Row],[46]]+Tabel2547[[#This Row],[44]]+Tabel2547[[#This Row],[42]]+Tabel2547[[#This Row],[40]]+Tabel2547[[#This Row],[38]]+Tabel2547[[#This Row],[36]]+Tabel2547[[#This Row],[34]]+Tabel2547[[#This Row],[32]]+Tabel2547[[#This Row],[30]]+Tabel2547[[#This Row],[28]]+Tabel2547[[#This Row],[26]]+Tabel2547[[#This Row],[24]]+Tabel2547[[#This Row],[22]]+Tabel2547[[#This Row],[20]]+Tabel2547[[#This Row],[18]]+Tabel2547[[#This Row],[16]]+Tabel2547[[#This Row],[14]]+Tabel2547[[#This Row],[12]]+Tabel2547[[#This Row],[10]]+Tabel2547[[#This Row],[8]]+Tabel2547[[#This Row],[6]]+Tabel2547[[#This Row],[4]]+Tabel2547[[#This Row],[2]]","v":3},null,{"$f":"Tabel2547[[#This Row],[51]]+Tabel2547[[#This Row],[49]]+Tabel2547[[#This Row],[47]]+Tabel2547[[#This Row],[45]]+Tabel2547[[#This Row],[43]]+Tabel2547[[#This Row],[41]]+Tabel2547[[#This Row],[39]]+Tabel2547[[#This Row],[37]]+Tabel2547[[#This Row],[35]]+Tabel2547[[#This Row],[33]]+Tabel2547[[#This Row],[31]]+Tabel2547[[#This Row],[29]]+Tabel2547[[#This Row],[27]]+Tabel2547[[#This Row],[25]]+Tabel2547[[#This Row],[23]]+Tabel2547[[#This Row],[21]]+Tabel2547[[#This Row],[19]]+Tabel2547[[#This Row],[17]]+Tabel2547[[#This Row],[15]]+Tabel2547[[#This Row],[13]]+Tabel2547[[#This Row],[11]]+Tabel2547[[#This Row],[9]]+Tabel2547[[#This Row],[7]]+Tabel2547[[#This Row],[5]]+Tabel2547[[#This Row],[3]]+Tabel2547[[#This Row],[1]]","v":0},null,{"$f":"Tabel2547[[#This Row],[RGFT]]+Tabel2547[[#This Row],[RPMD]]","v":3},22,"Hardinxveld"]
["5.2",null,"Donderdag","Hardinxveld (Jonathan)","Jonathan 2",6,6,6,null,null,null,null,null,null,null,null,null,12,null,null,null,10,null,null,null,null,null,null,null,null,null,null,null,null,null,null,null,null,null,null,null,null,null,null,null,null,null,null,null,null,null,null,null,null,null,null,null,null,null,null,null,{"$f":"Tabel2547[[#This Row],[52]]+Tabel2547[[#This Row],[50]]+Tabel2547[[#This Row],[48]]+Tabel2547[[#This Row],[46]]+Tabel2547[[#This Row],[44]]+Tabel2547[[#This Row],[42]]+Tabel2547[[#This Row],[40]]+Tabel2547[[#This Row],[38]]+Tabel2547[[#This Row],[36]]+Tabel2547[[#This Row],[34]]+Tabel2547[[#This Row],[32]]+Tabel2547[[#This Row],[30]]+Tabel2547[[#This Row],[28]]+Tabel2547[[#This Row],[26]]+Tabel2547[[#This Row],[24]]+Tabel2547[[#This Row],[22]]+Tabel2547[[#This Row],[20]]+Tabel2547[[#This Row],[18]]+Tabel2547[[#This Row],[16]]+Tabel2547[[#This Row],[14]]+Tabel2547[[#This Row],[12]]+Tabel2547[[#This Row],[10]]+Tabel2547[[#This Row],[8]]+Tabel2547[[#This Row],[6]]+Tabel2547[[#This Row],[4]]+Tabel2547[[#This Row],[2]]","v":22},null,{"$f":"Tabel2547[[#This Row],[51]]+Tabel2547[[#This Row],[49]]+Tabel2547[[#This Row],[47]]+Tabel2547[[#This Row],[45]]+Tabel2547[[#This Row],[43]]+Tabel2547[[#This Row],[41]]+Tabel2547[[#This Row],[39]]+Tabel2547[[#This Row],[37]]+Tabel2547[[#This Row],[35]]+Tabel2547[[#This Row],[33]]+Tabel2547[[#This Row],[31]]+Tabel2547[[#This Row],[29]]+Tabel2547[[#This Row],[27]]+Tabel2547[[#This Row],[25]]+Tabel2547[[#This Row],[23]]+Tabel2547[[#This Row],[21]]+Tabel2547[[#This Row],[19]]+Tabel2547[[#This Row],[17]]+Tabel2547[[#This Row],[15]]+Tabel2547[[#This Row],[13]]+Tabel2547[[#This Row],[11]]+Tabel2547[[#This Row],[9]]+Tabel2547[[#This Row],[7]]+Tabel2547[[#This Row],[5]]+Tabel2547[[#This Row],[3]]+Tabel2547[[#This Row],[1]]","v":0},{"$f":"Tabel2547[[#This Row],[RGFT]]+Tabel2547[[#This Row],[RPMD]]","v":0},0,"Hardinxveld"]
["6.1",null,"Donderdag","Hardinxveld buitendams",null,4,4,4,null,null,2,null,7,null,null,null,null,null,null,null,null,null,null,null,null,null,null,null,null,null,null,null,null,null,null,null,null,null,null,null,null,null,null,null,null,null,null,null,null,null,null,null,null,null,null,null,null,null,null,null,{"$f":"Tabel2547[[#This Row],[52]]+Tabel2547[[#This Row],[50]]+Tabel2547[[#This Row],[48]]+Tabel2547[[#This Row],[46]]+Tabel2547[[#This Row],[44]]+Tabel2547[[#This Row],[42]]+Tabel2547[[#This Row],[40]]+Tabel2547[[#This Row],[38]]+Tabel2547[[#This Row],[36]]+Tabel2547[[#This Row],[34]]+Tabel2547[[#This Row],[32]]+Tabel2547[[#This Row],[30]]+Tabel2547[[#This Row],[28]]+Tabel2547[[#This Row],[26]]+Tabel2547[[#This Row],[24]]+Tabel2547[[#This Row],[22]]+Tabel2547[[#This Row],[20]]+Tabel2547[[#This Row],[18]]+Tabel2547[[#This Row],[16]]+Tabel2547[[#This Row],[14]]+Tabel2547[[#This Row],[12]]+Tabel2547[[#This Row],[10]]+Tabel2547[[#This Row],[8]]+Tabel2547[[#This Row],[6]]+Tabel2547[[#This Row],[4]]+Tabel2547[[#This Row],[2]]","v":0},null,{"$f":"Tabel2547[[#This Row],[51]]+Tabel2547[[#This Row],[49]]+Tabel2547[[#This Row],[47]]+Tabel2547[[#This Row],[45]]+Tabel2547[[#This Row],[43]]+Tabel2547[[#This Row],[41]]+Tabel2547[[#This Row],[39]]+Tabel2547[[#This Row],[37]]+Tabel2547[[#This Row],[35]]+Tabel2547[[#This Row],[33]]+Tabel2547[[#This Row],[31]]+Tabel2547[[#This Row],[29]]+Tabel2547[[#This Row],[27]]+Tabel2547[[#This Row],[25]]+Tabel2547[[#This Row],[23]]+Tabel2547[[#This Row],[21]]+Tabel2547[[#This Row],[19]]+Tabel2547[[#This Row],[17]]+Tabel2547[[#This Row],[15]]+Tabel2547[[#This Row],[13]]+Tabel2547[[#This Row],[11]]+Tabel2547[[#This Row],[9]]+Tabel2547[[#This Row],[7]]+Tabel2547[[#This Row],[5]]+Tabel2547[[#This Row],[3]]+Tabel2547[[#This Row],[1]]","v":9},null,{"$f":"Tabel2547[[#This Row],[RGFT]]+Tabel2547[[#This Row],[RPMD]]","v":9},{"$f":"BJ68+BL68","v":28},"Hardinxveld"]
["6.1",null,"Donderdag","Hardinxveld buitendams","Buitendams 62",4,4,4,null,null,12,null,16,null,null,null,null,null,null,null,null,null,null,null,null,null,null,null,null,null,null,null,null,null,null,null,null,null,null,null,null,null,null,null,null,null,null,null,null,null,null,null,null,null,null,null,null,null,null,null,null,{"$f":"Tabel2547[[#This Row],[52]]+Tabel2547[[#This Row],[50]]+Tabel2547[[#This Row],[48]]+Tabel2547[[#This Row],[46]]+Tabel2547[[#This Row],[44]]+Tabel2547[[#This Row],[42]]+Tabel2547[[#This Row],[40]]+Tabel2547[[#This Row],[38]]+Tabel2547[[#This Row],[36]]+Tabel2547[[#This Row],[34]]+Tabel2547[[#This Row],[32]]+Tabel2547[[#This Row],[30]]+Tabel2547[[#This Row],[28]]+Tabel2547[[#This Row],[26]]+Tabel2547[[#This Row],[24]]+Tabel2547[[#This Row],[22]]+Tabel2547[[#This Row],[20]]+Tabel2547[[#This Row],[18]]+Tabel2547[[#This Row],[16]]+Tabel2547[[#This Row],[14]]+Tabel2547[[#This Row],[12]]+Tabel2547[[#This Row],[10]]+Tabel2547[[#This Row],[8]]+Tabel2547[[#This Row],[6]]+Tabel2547[[#This Row],[4]]+Tabel2547[[#This Row],[2]]","v":0},null,{"$f":"Tabel2547[[#This Row],[51]]+Tabel2547[[#This Row],[49]]+Tabel2547[[#This Row],[47]]+Tabel2547[[#This Row],[45]]+Tabel2547[[#This Row],[43]]+Tabel2547[[#This Row],[41]]+Tabel2547[[#This Row],[39]]+Tabel2547[[#This Row],[37]]+Tabel2547[[#This Row],[35]]+Tabel2547[[#This Row],[33]]+Tabel2547[[#This Row],[31]]+Tabel2547[[#This Row],[29]]+Tabel2547[[#This Row],[27]]+Tabel2547[[#This Row],[25]]+Tabel2547[[#This Row],[23]]+Tabel2547[[#This Row],[21]]+Tabel2547[[#This Row],[19]]+Tabel2547[[#This Row],[17]]+Tabel2547[[#This Row],[15]]+Tabel2547[[#This Row],[13]]+Tabel2547[[#This Row],[11]]+Tabel2547[[#This Row],[9]]+Tabel2547[[#This Row],[7]]+Tabel2547[[#This Row],[5]]+Tabel2547[[#This Row],[3]]+Tabel2547[[#This Row],[1]]","v":28},{"$f":"Tabel2547[[#This Row],[RGFT]]+Tabel2547[[#This Row],[RPMD]]","v":0},0,"Hardinxveld"]
["6.2",null,"Donderdag","Peulen Hardinxveld",null,4,4,4,null,null,null,null,null,null,null,null,null,null,null,null,null,2,null,null,null,10,null,null,null,null,null,null,null,null,null,null,null,null,null,null,null,null,null,null,null,null,null,null,null,null,null,null,null,null,null,null,null,null,null,null,{"$f":"Tabel2547[[#This Row],[52]]+Tabel2547[[#This Row],[50]]+Tabel2547[[#This Row],[48]]+Tabel2547[[#This Row],[46]]+Tabel2547[[#This Row],[44]]+Tabel2547[[#This Row],[42]]+Tabel2547[[#This Row],[40]]+Tabel2547[[#This Row],[38]]+Tabel2547[[#This Row],[36]]+Tabel2547[[#This Row],[34]]+Tabel2547[[#This Row],[32]]+Tabel2547[[#This Row],[30]]+Tabel2547[[#This Row],[28]]+Tabel2547[[#This Row],[26]]+Tabel2547[[#This Row],[24]]+Tabel2547[[#This Row],[22]]+Tabel2547[[#This Row],[20]]+Tabel2547[[#This Row],[18]]+Tabel2547[[#This Row],[16]]+Tabel2547[[#This Row],[14]]+Tabel2547[[#This Row],[12]]+Tabel2547[[#This Row],[10]]+Tabel2547[[#This Row],[8]]+Tabel2547[[#This Row],[6]]+Tabel2547[[#This Row],[4]]+Tabel2547[[#This Row],[2]]","v":12},null,{"$f":"Tabel2547[[#This Row],[51]]+Tabel2547[[#This Row],[49]]+Tabel2547[[#This Row],[47]]+Tabel2547[[#This Row],[45]]+Tabel2547[[#This Row],[43]]+Tabel2547[[#This Row],[41]]+Tabel2547[[#This Row],[39]]+Tabel2547[[#This Row],[37]]+Tabel2547[[#This Row],[35]]+Tabel2547[[#This Row],[33]]+Tabel2547[[#This Row],[31]]+Tabel2547[[#This Row],[29]]+Tabel2547[[#This Row],[27]]+Tabel2547[[#This Row],[25]]+Tabel2547[[#This Row],[23]]+Tabel2547[[#This Row],[21]]+Tabel2547[[#This Row],[19]]+Tabel2547[[#This Row],[17]]+Tabel2547[[#This Row],[15]]+Tabel2547[[#This Row],[13]]+Tabel2547[[#This Row],[11]]+Tabel2547[[#This Row],[9]]+Tabel2547[[#This Row],[7]]+Tabel2547[[#This Row],[5]]+Tabel2547[[#This Row],[3]]+Tabel2547[[#This Row],[1]]","v":0},null,{"$f":"Tabel2547[[#This Row],[RGFT]]+Tabel2547[[#This Row],[RPMD]]","v":12},27,"Hardinxveld"]
["6.2",null,"Donderdag","Peulen Hardinxveld","Troelstrastraat 2",4,4,4,null,null,null,null,null,null,null,null,null,null,null,null,null,2,19,null,null,6,null,null,null,null,null,null,null,null,null,null,null,null,null,null,null,null,null,null,null,null,null,null,null,null,null,null,null,null,null,null,null,null,null,null,null,{"$f":"Tabel2547[[#This Row],[52]]+Tabel2547[[#This Row],[50]]+Tabel2547[[#This Row],[48]]+Tabel2547[[#This Row],[46]]+Tabel2547[[#This Row],[44]]+Tabel2547[[#This Row],[42]]+Tabel2547[[#This Row],[40]]+Tabel2547[[#This Row],[38]]+Tabel2547[[#This Row],[36]]+Tabel2547[[#This Row],[34]]+Tabel2547[[#This Row],[32]]+Tabel2547[[#This Row],[30]]+Tabel2547[[#This Row],[28]]+Tabel2547[[#This Row],[26]]+Tabel2547[[#This Row],[24]]+Tabel2547[[#This Row],[22]]+Tabel2547[[#This Row],[20]]+Tabel2547[[#This Row],[18]]+Tabel2547[[#This Row],[16]]+Tabel2547[[#This Row],[14]]+Tabel2547[[#This Row],[12]]+Tabel2547[[#This Row],[10]]+Tabel2547[[#This Row],[8]]+Tabel2547[[#This Row],[6]]+Tabel2547[[#This Row],[4]]+Tabel2547[[#This Row],[2]]","v":8},null,{"$f":"Tabel2547[[#This Row],[51]]+Tabel2547[[#This Row],[49]]+Tabel2547[[#This Row],[47]]+Tabel2547[[#This Row],[45]]+Tabel2547[[#This Row],[43]]+Tabel2547[[#This Row],[41]]+Tabel2547[[#This Row],[39]]+Tabel2547[[#This Row],[37]]+Tabel2547[[#This Row],[35]]+Tabel2547[[#This Row],[33]]+Tabel2547[[#This Row],[31]]+Tabel2547[[#This Row],[29]]+Tabel2547[[#This Row],[27]]+Tabel2547[[#This Row],[25]]+Tabel2547[[#This Row],[23]]+Tabel2547[[#This Row],[21]]+Tabel2547[[#This Row],[19]]+Tabel2547[[#This Row],[17]]+Tabel2547[[#This Row],[15]]+Tabel2547[[#This Row],[13]]+Tabel2547[[#This Row],[11]]+Tabel2547[[#This Row],[9]]+Tabel2547[[#This Row],[7]]+Tabel2547[[#This Row],[5]]+Tabel2547[[#This Row],[3]]+Tabel2547[[#This Row],[1]]","v":19},{"$f":"Tabel2547[[#This Row],[RGFT]]+Tabel2547[[#This Row],[RPMD]]","v":0},0,"Hardinxveld"]
["7.1",null,"Donderdag","Boven Hardinxveld afhelpen Hardinxveld",null,7,7,7,2,null,null,null,null,null,null,null,2,null,0,5,null,null,4,null,null,null,null,null,null,null,null,null,null,null,null,null,null,null,null,null,null,null,null,null,null,null,null,null,null,null,null,null,null,null,null,null,null,null,null,null,{"$f":"Tabel2547[[#This Row],[52]]+Tabel2547[[#This Row],[50]]+Tabel2547[[#This Row],[48]]+Tabel2547[[#This Row],[46]]+Tabel2547[[#This Row],[44]]+Tabel2547[[#This Row],[42]]+Tabel2547[[#This Row],[40]]+Tabel2547[[#This Row],[38]]+Tabel2547[[#This Row],[36]]+Tabel2547[[#This Row],[34]]+Tabel2547[[#This Row],[32]]+Tabel2547[[#This Row],[30]]+Tabel2547[[#This Row],[28]]+Tabel2547[[#This Row],[26]]+Tabel2547[[#This Row],[24]]+Tabel2547[[#This Row],[22]]+Tabel2547[[#This Row],[20]]+Tabel2547[[#This Row],[18]]+Tabel2547[[#This Row],[16]]+Tabel2547[[#This Row],[14]]+Tabel2547[[#This Row],[12]]+Tabel2547[[#This Row],[10]]+Tabel2547[[#This Row],[8]]+Tabel2547[[#This Row],[6]]+Tabel2547[[#This Row],[4]]+Tabel2547[[#This Row],[2]]","v":5},null,{"$f":"Tabel2547[[#This Row],[51]]+Tabel2547[[#This Row],[49]]+Tabel2547[[#This Row],[47]]+Tabel2547[[#This Row],[45]]+Tabel2547[[#This Row],[43]]+Tabel2547[[#This Row],[41]]+Tabel2547[[#This Row],[39]]+Tabel2547[[#This Row],[37]]+Tabel2547[[#This Row],[35]]+Tabel2547[[#This Row],[33]]+Tabel2547[[#This Row],[31]]+Tabel2547[[#This Row],[29]]+Tabel2547[[#This Row],[27]]+Tabel2547[[#This Row],[25]]+Tabel2547[[#This Row],[23]]+Tabel2547[[#This Row],[21]]+Tabel2547[[#This Row],[19]]+Tabel2547[[#This Row],[17]]+Tabel2547[[#This Row],[15]]+Tabel2547[[#This Row],[13]]+Tabel2547[[#This Row],[11]]+Tabel2547[[#This Row],[9]]+Tabel2547[[#This Row],[7]]+Tabel2547[[#This Row],[5]]+Tabel2547[[#This Row],[3]]+Tabel2547[[#This Row],[1]]","v":8},null,{"$f":"Tabel2547[[#This Row],[RGFT]]+Tabel2547[[#This Row],[RPMD]]","v":13},72,"Hardinxveld"]
["7.1",null,"Donderdag","Boven Hardinxveld afhelpen Hardinxveld","Drijverschuit 5",7,7,7,29,null,null,null,null,null,null,null,9,null,5,21,null,null,8,null,null,null,null,null,null,null,null,null,null,null,null,null,null,null,null,null,null,null,null,null,null,null,null,null,null,null,null,null,null,null,null,null,null,null,null,null,null,{"$f":"Tabel2547[[#This Row],[52]]+Tabel2547[[#This Row],[50]]+Tabel2547[[#This Row],[48]]+Tabel2547[[#This Row],[46]]+Tabel2547[[#This Row],[44]]+Tabel2547[[#This Row],[42]]+Tabel2547[[#This Row],[40]]+Tabel2547[[#This Row],[38]]+Tabel2547[[#This Row],[36]]+Tabel2547[[#This Row],[34]]+Tabel2547[[#This Row],[32]]+Tabel2547[[#This Row],[30]]+Tabel2547[[#This Row],[28]]+Tabel2547[[#This Row],[26]]+Tabel2547[[#This Row],[24]]+Tabel2547[[#This Row],[22]]+Tabel2547[[#This Row],[20]]+Tabel2547[[#This Row],[18]]+Tabel2547[[#This Row],[16]]+Tabel2547[[#This Row],[14]]+Tabel2547[[#This Row],[12]]+Tabel2547[[#This Row],[10]]+Tabel2547[[#This Row],[8]]+Tabel2547[[#This Row],[6]]+Tabel2547[[#This Row],[4]]+Tabel2547[[#This Row],[2]]","v":21},null,{"$f":"Tabel2547[[#This Row],[51]]+Tabel2547[[#This Row],[49]]+Tabel2547[[#This Row],[47]]+Tabel2547[[#This Row],[45]]+Tabel2547[[#This Row],[43]]+Tabel2547[[#This Row],[41]]+Tabel2547[[#This Row],[39]]+Tabel2547[[#This Row],[37]]+Tabel2547[[#This Row],[35]]+Tabel2547[[#This Row],[33]]+Tabel2547[[#This Row],[31]]+Tabel2547[[#This Row],[29]]+Tabel2547[[#This Row],[27]]+Tabel2547[[#This Row],[25]]+Tabel2547[[#This Row],[23]]+Tabel2547[[#This Row],[21]]+Tabel2547[[#This Row],[19]]+Tabel2547[[#This Row],[17]]+Tabel2547[[#This Row],[15]]+Tabel2547[[#This Row],[13]]+Tabel2547[[#This Row],[11]]+Tabel2547[[#This Row],[9]]+Tabel2547[[#This Row],[7]]+Tabel2547[[#This Row],[5]]+Tabel2547[[#This Row],[3]]+Tabel2547[[#This Row],[1]]","v":51},{"$f":"Tabel2547[[#This Row],[RGFT]]+Tabel2547[[#This Row],[RPMD]]","v":0},0,"Hardinxveld"]
[4.0999999999999996,null,"Vrijdag","kern Streefkerk",null,6,6,6,null,null,null,null,null,null,null,null,null,null,null,null,null,null,null,5,null,null,null,null,null,null,null,null,null,null,null,null,null,null,null,null,null,null,null,null,null,null,null,null,null,null,null,null,null,null,null,null,null,null,null,null,{"$f":"Tabel2547[[#This Row],[52]]+Tabel2547[[#This Row],[50]]+Tabel2547[[#This Row],[48]]+Tabel2547[[#This Row],[46]]+Tabel2547[[#This Row],[44]]+Tabel2547[[#This Row],[42]]+Tabel2547[[#This Row],[40]]+Tabel2547[[#This Row],[38]]+Tabel2547[[#This Row],[36]]+Tabel2547[[#This Row],[34]]+Tabel2547[[#This Row],[32]]+Tabel2547[[#This Row],[30]]+Tabel2547[[#This Row],[28]]+Tabel2547[[#This Row],[26]]+Tabel2547[[#This Row],[24]]+Tabel2547[[#This Row],[22]]+Tabel2547[[#This Row],[20]]+Tabel2547[[#This Row],[18]]+Tabel2547[[#This Row],[16]]+Tabel2547[[#This Row],[14]]+Tabel2547[[#This Row],[12]]+Tabel2547[[#This Row],[10]]+Tabel2547[[#This Row],[8]]+Tabel2547[[#This Row],[6]]+Tabel2547[[#This Row],[4]]+Tabel2547[[#This Row],[2]]","v":5},null,{"$f":"Tabel2547[[#This Row],[51]]+Tabel2547[[#This Row],[49]]+Tabel2547[[#This Row],[47]]+Tabel2547[[#This Row],[45]]+Tabel2547[[#This Row],[43]]+Tabel2547[[#This Row],[41]]+Tabel2547[[#This Row],[39]]+Tabel2547[[#This Row],[37]]+Tabel2547[[#This Row],[35]]+Tabel2547[[#This Row],[33]]+Tabel2547[[#This Row],[31]]+Tabel2547[[#This Row],[29]]+Tabel2547[[#This Row],[27]]+Tabel2547[[#This Row],[25]]+Tabel2547[[#This Row],[23]]+Tabel2547[[#This Row],[21]]+Tabel2547[[#This Row],[19]]+Tabel2547[[#This Row],[17]]+Tabel2547[[#This Row],[15]]+Tabel2547[[#This Row],[13]]+Tabel2547[[#This Row],[11]]+Tabel2547[[#This Row],[9]]+Tabel2547[[#This Row],[7]]+Tabel2547[[#This Row],[5]]+Tabel2547[[#This Row],[3]]+Tabel2547[[#This Row],[1]]","v":0},null,{"$f":"Tabel2547[[#This Row],[RGFT]]+Tabel2547[[#This Row],[RPMD]]","v":5},6,"Molenlanden"]
["4.1",null,"Vrijdag","kern Streefkerk","1e Zwanenvliet 4",6,6,6,null,null,null,null,null,null,null,null,null,null,null,null,null,null,null,6,null,null,null,null,null,null,null,null,null,null,null,null,null,null,null,null,null,null,null,null,null,null,null,null,null,null,null,null,null,null,null,null,null,null,null,null,null,{"$f":"Tabel2547[[#This Row],[52]]+Tabel2547[[#This Row],[50]]+Tabel2547[[#This Row],[48]]+Tabel2547[[#This Row],[46]]+Tabel2547[[#This Row],[44]]+Tabel2547[[#This Row],[42]]+Tabel2547[[#This Row],[40]]+Tabel2547[[#This Row],[38]]+Tabel2547[[#This Row],[36]]+Tabel2547[[#This Row],[34]]+Tabel2547[[#This Row],[32]]+Tabel2547[[#This Row],[30]]+Tabel2547[[#This Row],[28]]+Tabel2547[[#This Row],[26]]+Tabel2547[[#This Row],[24]]+Tabel2547[[#This Row],[22]]+Tabel2547[[#This Row],[20]]+Tabel2547[[#This Row],[18]]+Tabel2547[[#This Row],[16]]+Tabel2547[[#This Row],[14]]+Tabel2547[[#This Row],[12]]+Tabel2547[[#This Row],[10]]+Tabel2547[[#This Row],[8]]+Tabel2547[[#This Row],[6]]+Tabel2547[[#This Row],[4]]+Tabel2547[[#This Row],[2]]","v":6},null,{"$f":"Tabel2547[[#This Row],[51]]+Tabel2547[[#This Row],[49]]+Tabel2547[[#This Row],[47]]+Tabel2547[[#This Row],[45]]+Tabel2547[[#This Row],[43]]+Tabel2547[[#This Row],[41]]+Tabel2547[[#This Row],[39]]+Tabel2547[[#This Row],[37]]+Tabel2547[[#This Row],[35]]+Tabel2547[[#This Row],[33]]+Tabel2547[[#This Row],[31]]+Tabel2547[[#This Row],[29]]+Tabel2547[[#This Row],[27]]+Tabel2547[[#This Row],[25]]+Tabel2547[[#This Row],[23]]+Tabel2547[[#This Row],[21]]+Tabel2547[[#This Row],[19]]+Tabel2547[[#This Row],[17]]+Tabel2547[[#This Row],[15]]+Tabel2547[[#This Row],[13]]+Tabel2547[[#This Row],[11]]+Tabel2547[[#This Row],[9]]+Tabel2547[[#This Row],[7]]+Tabel2547[[#This Row],[5]]+Tabel2547[[#This Row],[3]]+Tabel2547[[#This Row],[1]]","v":0},{"$f":"Tabel2547[[#This Row],[RGFT]]+Tabel2547[[#This Row],[RPMD]]","v":0},0,"Molenlanden"]
["1.1",null,"Vrijdag","1=Vianen Amaliastein en 2=Molenwijk en 3=Slyk",null,null,null,null,null,null,null,null,3,null,null,null,null,null,2,null,null,null,null,null,null,null,null,null,null,null,null,null,null,null,null,null,null,null,null,null,null,null,null,null,null,null,null,null,null,null,null,null,null,null,null,null,null,null,null,null,{"$f":"Tabel2547[[#This Row],[52]]+Tabel2547[[#This Row],[50]]+Tabel2547[[#This Row],[48]]+Tabel2547[[#This Row],[46]]+Tabel2547[[#This Row],[44]]+Tabel2547[[#This Row],[42]]+Tabel2547[[#This Row],[40]]+Tabel2547[[#This Row],[38]]+Tabel2547[[#This Row],[36]]+Tabel2547[[#This Row],[34]]+Tabel2547[[#This Row],[32]]+Tabel2547[[#This Row],[30]]+Tabel2547[[#This Row],[28]]+Tabel2547[[#This Row],[26]]+Tabel2547[[#This Row],[24]]+Tabel2547[[#This Row],[22]]+Tabel2547[[#This Row],[20]]+Tabel2547[[#This Row],[18]]+Tabel2547[[#This Row],[16]]+Tabel2547[[#This Row],[14]]+Tabel2547[[#This Row],[12]]+Tabel2547[[#This Row],[10]]+Tabel2547[[#This Row],[8]]+Tabel2547[[#This Row],[6]]+Tabel2547[[#This Row],[4]]+Tabel2547[[#This Row],[2]]","v":0},null,{"$f":"Tabel2547[[#This Row],[51]]+Tabel2547[[#This Row],[49]]+Tabel2547[[#This Row],[47]]+Tabel2547[[#This Row],[45]]+Tabel2547[[#This Row],[43]]+Tabel2547[[#This Row],[41]]+Tabel2547[[#This Row],[39]]+Tabel2547[[#This Row],[37]]+Tabel2547[[#This Row],[35]]+Tabel2547[[#This Row],[33]]+Tabel2547[[#This Row],[31]]+Tabel2547[[#This Row],[29]]+Tabel2547[[#This Row],[27]]+Tabel2547[[#This Row],[25]]+Tabel2547[[#This Row],[23]]+Tabel2547[[#This Row],[21]]+Tabel2547[[#This Row],[19]]+Tabel2547[[#This Row],[17]]+Tabel2547[[#This Row],[15]]+Tabel2547[[#This Row],[13]]+Tabel2547[[#This Row],[11]]+Tabel2547[[#This Row],[9]]+Tabel2547[[#This Row],[7]]+Tabel2547[[#This Row],[5]]+Tabel2547[[#This Row],[3]]+Tabel2547[[#This Row],[1]]","v":5},null,{"$f":"Tabel2547[[#This Row],[RGFT]]+Tabel2547[[#This Row],[RPMD]]","v":5},44,"VHL"]
["1.1",null,"Vrijdag","1=Vianen Amaliastein en 2=Molenwijk en 3=Slyk","1=M van Borselenstr 47 2=Dammolen 1 3=Uithoflaan 53",null,null,null,null,null,null,null,27,null,null,null,null,null,17,null,null,null,null,null,null,null,null,null,null,null,null,null,null,null,null,null,null,null,null,null,null,null,null,null,null,null,null,null,null,null,null,null,null,null,null,null,null,null,null,null,null,{"$f":"Tabel2547[[#This Row],[52]]+Tabel2547[[#This Row],[50]]+Tabel2547[[#This Row],[48]]+Tabel2547[[#This Row],[46]]+Tabel2547[[#This Row],[44]]+Tabel2547[[#This Row],[42]]+Tabel2547[[#This Row],[40]]+Tabel2547[[#This Row],[38]]+Tabel2547[[#This Row],[36]]+Tabel2547[[#This Row],[34]]+Tabel2547[[#This Row],[32]]+Tabel2547[[#This Row],[30]]+Tabel2547[[#This Row],[28]]+Tabel2547[[#This Row],[26]]+Tabel2547[[#This Row],[24]]+Tabel2547[[#This Row],[22]]+Tabel2547[[#This Row],[20]]+Tabel2547[[#This Row],[18]]+Tabel2547[[#This Row],[16]]+Tabel2547[[#This Row],[14]]+Tabel2547[[#This Row],[12]]+Tabel2547[[#This Row],[10]]+Tabel2547[[#This Row],[8]]+Tabel2547[[#This Row],[6]]+Tabel2547[[#This Row],[4]]+Tabel2547[[#This Row],[2]]","v":0},null,{"$f":"Tabel2547[[#This Row],[51]]+Tabel2547[[#This Row],[49]]+Tabel2547[[#This Row],[47]]+Tabel2547[[#This Row],[45]]+Tabel2547[[#This Row],[43]]+Tabel2547[[#This Row],[41]]+Tabel2547[[#This Row],[39]]+Tabel2547[[#This Row],[37]]+Tabel2547[[#This Row],[35]]+Tabel2547[[#This Row],[33]]+Tabel2547[[#This Row],[31]]+Tabel2547[[#This Row],[29]]+Tabel2547[[#This Row],[27]]+Tabel2547[[#This Row],[25]]+Tabel2547[[#This Row],[23]]+Tabel2547[[#This Row],[21]]+Tabel2547[[#This Row],[19]]+Tabel2547[[#This Row],[17]]+Tabel2547[[#This Row],[15]]+Tabel2547[[#This Row],[13]]+Tabel2547[[#This Row],[11]]+Tabel2547[[#This Row],[9]]+Tabel2547[[#This Row],[7]]+Tabel2547[[#This Row],[5]]+Tabel2547[[#This Row],[3]]+Tabel2547[[#This Row],[1]]","v":44},{"$f":"Tabel2547[[#This Row],[RGFT]]+Tabel2547[[#This Row],[RPMD]]","v":0},0,"VHL"]
["2.1",null,"Vrijdag","kern Nieuw Lekkerland ",null,5,5,5,3,2,6,1,null,null,null,null,null,null,null,5,18,null,null,null,null,null,null,null,null,null,null,null,null,null,null,null,null,null,null,null,null,null,null,null,null,null,null,null,null,null,null,null,null,null,null,null,null,null,null,null,{"$f":"Tabel2547[[#This Row],[52]]+Tabel2547[[#This Row],[50]]+Tabel2547[[#This Row],[48]]+Tabel2547[[#This Row],[46]]+Tabel2547[[#This Row],[44]]+Tabel2547[[#This Row],[42]]+Tabel2547[[#This Row],[40]]+Tabel2547[[#This Row],[38]]+Tabel2547[[#This Row],[36]]+Tabel2547[[#This Row],[34]]+Tabel2547[[#This Row],[32]]+Tabel2547[[#This Row],[30]]+Tabel2547[[#This Row],[28]]+Tabel2547[[#This Row],[26]]+Tabel2547[[#This Row],[24]]+Tabel2547[[#This Row],[22]]+Tabel2547[[#This Row],[20]]+Tabel2547[[#This Row],[18]]+Tabel2547[[#This Row],[16]]+Tabel2547[[#This Row],[14]]+Tabel2547[[#This Row],[12]]+Tabel2547[[#This Row],[10]]+Tabel2547[[#This Row],[8]]+Tabel2547[[#This Row],[6]]+Tabel2547[[#This Row],[4]]+Tabel2547[[#This Row],[2]]","v":8},null,{"$f":"Tabel2547[[#This Row],[51]]+Tabel2547[[#This Row],[49]]+Tabel2547[[#This Row],[47]]+Tabel2547[[#This Row],[45]]+Tabel2547[[#This Row],[43]]+Tabel2547[[#This Row],[41]]+Tabel2547[[#This Row],[39]]+Tabel2547[[#This Row],[37]]+Tabel2547[[#This Row],[35]]+Tabel2547[[#This Row],[33]]+Tabel2547[[#This Row],[31]]+Tabel2547[[#This Row],[29]]+Tabel2547[[#This Row],[27]]+Tabel2547[[#This Row],[25]]+Tabel2547[[#This Row],[23]]+Tabel2547[[#This Row],[21]]+Tabel2547[[#This Row],[19]]+Tabel2547[[#This Row],[17]]+Tabel2547[[#This Row],[15]]+Tabel2547[[#This Row],[13]]+Tabel2547[[#This Row],[11]]+Tabel2547[[#This Row],[9]]+Tabel2547[[#This Row],[7]]+Tabel2547[[#This Row],[5]]+Tabel2547[[#This Row],[3]]+Tabel2547[[#This Row],[1]]","v":27},null,{"$f":"Tabel2547[[#This Row],[RGFT]]+Tabel2547[[#This Row],[RPMD]]","v":35},120,"Molenlanden"]
["2.1",null,"Vrijdag","kern Nieuw Lekkerland ","1e :Hoogaarslaan 21 en ",5,5,5,27,31,19,20,null,null,null,null,null,null,null,12,11,null,null,null,null,null,null,null,null,null,null,null,null,null,null,null,null,null,null,null,null,null,null,null,null,null,null,null,null,null,null,null,null,null,null,null,null,null,null,null,null,{"$f":"Tabel2547[[#This Row],[52]]+Tabel2547[[#This Row],[50]]+Tabel2547[[#This Row],[48]]+Tabel2547[[#This Row],[46]]+Tabel2547[[#This Row],[44]]+Tabel2547[[#This Row],[42]]+Tabel2547[[#This Row],[40]]+Tabel2547[[#This Row],[38]]+Tabel2547[[#This Row],[36]]+Tabel2547[[#This Row],[34]]+Tabel2547[[#This Row],[32]]+Tabel2547[[#This Row],[30]]+Tabel2547[[#This Row],[28]]+Tabel2547[[#This Row],[26]]+Tabel2547[[#This Row],[24]]+Tabel2547[[#This Row],[22]]+Tabel2547[[#This Row],[20]]+Tabel2547[[#This Row],[18]]+Tabel2547[[#This Row],[16]]+Tabel2547[[#This Row],[14]]+Tabel2547[[#This Row],[12]]+Tabel2547[[#This Row],[10]]+Tabel2547[[#This Row],[8]]+Tabel2547[[#This Row],[6]]+Tabel2547[[#This Row],[4]]+Tabel2547[[#This Row],[2]]","v":63},null,{"$f":"Tabel2547[[#This Row],[51]]+Tabel2547[[#This Row],[49]]+Tabel2547[[#This Row],[47]]+Tabel2547[[#This Row],[45]]+Tabel2547[[#This Row],[43]]+Tabel2547[[#This Row],[41]]+Tabel2547[[#This Row],[39]]+Tabel2547[[#This Row],[37]]+Tabel2547[[#This Row],[35]]+Tabel2547[[#This Row],[33]]+Tabel2547[[#This Row],[31]]+Tabel2547[[#This Row],[29]]+Tabel2547[[#This Row],[27]]+Tabel2547[[#This Row],[25]]+Tabel2547[[#This Row],[23]]+Tabel2547[[#This Row],[21]]+Tabel2547[[#This Row],[19]]+Tabel2547[[#This Row],[17]]+Tabel2547[[#This Row],[15]]+Tabel2547[[#This Row],[13]]+Tabel2547[[#This Row],[11]]+Tabel2547[[#This Row],[9]]+Tabel2547[[#This Row],[7]]+Tabel2547[[#This Row],[5]]+Tabel2547[[#This Row],[3]]+Tabel2547[[#This Row],[1]]","v":57},{"$f":"Tabel2547[[#This Row],[RGFT]]+Tabel2547[[#This Row],[RPMD]]","v":0},0,"Molenlanden"]
["2.2",null,"Vrijdag","Kern Nieuw Lekkerland 2 (molenwijk)",null,4,4,4,null,null,null,null,null,null,null,null,null,null,null,null,null,null,null,null,null,null,null,null,null,null,null,null,null,null,null,null,null,null,null,null,null,null,null,null,null,null,null,null,null,null,null,null,null,null,null,null,null,null,null,null,{"$f":"Tabel2547[[#This Row],[52]]+Tabel2547[[#This Row],[50]]+Tabel2547[[#This Row],[48]]+Tabel2547[[#This Row],[46]]+Tabel2547[[#This Row],[44]]+Tabel2547[[#This Row],[42]]+Tabel2547[[#This Row],[40]]+Tabel2547[[#This Row],[38]]+Tabel2547[[#This Row],[36]]+Tabel2547[[#This Row],[34]]+Tabel2547[[#This Row],[32]]+Tabel2547[[#This Row],[30]]+Tabel2547[[#This Row],[28]]+Tabel2547[[#This Row],[26]]+Tabel2547[[#This Row],[24]]+Tabel2547[[#This Row],[22]]+Tabel2547[[#This Row],[20]]+Tabel2547[[#This Row],[18]]+Tabel2547[[#This Row],[16]]+Tabel2547[[#This Row],[14]]+Tabel2547[[#This Row],[12]]+Tabel2547[[#This Row],[10]]+Tabel2547[[#This Row],[8]]+Tabel2547[[#This Row],[6]]+Tabel2547[[#This Row],[4]]+Tabel2547[[#This Row],[2]]","v":0},null,{"$f":"Tabel2547[[#This Row],[51]]+Tabel2547[[#This Row],[49]]+Tabel2547[[#This Row],[47]]+Tabel2547[[#This Row],[45]]+Tabel2547[[#This Row],[43]]+Tabel2547[[#This Row],[41]]+Tabel2547[[#This Row],[39]]+Tabel2547[[#This Row],[37]]+Tabel2547[[#This Row],[35]]+Tabel2547[[#This Row],[33]]+Tabel2547[[#This Row],[31]]+Tabel2547[[#This Row],[29]]+Tabel2547[[#This Row],[1]]","v":0},null,{"$f":"Tabel2547[[#This Row],[RGFT]]+Tabel2547[[#This Row],[RPMD]]","v":0},0,"Molenlanden"]
["2.2",null,"Vrijdag","Kern Nieuw Lekkerland 2 (molenwijk)","Wipmolen 2",4,4,4,null,null,null,null,null,null,null,null,null,null,null,null,null,null,null,null,null,null,null,null,null,null,null,null,null,null,null,null,null,null,null,null,null,null,null,null,null,null,null,null,null,null,null,null,null,null,null,null,null,null,null,null,null,{"$f":"Tabel2547[[#This Row],[52]]+Tabel2547[[#This Row],[50]]+Tabel2547[[#This Row],[48]]+Tabel2547[[#This Row],[46]]+Tabel2547[[#This Row],[44]]+Tabel2547[[#This Row],[42]]+Tabel2547[[#This Row],[40]]+Tabel2547[[#This Row],[38]]+Tabel2547[[#This Row],[36]]+Tabel2547[[#This Row],[34]]+Tabel2547[[#This Row],[32]]+Tabel2547[[#This Row],[30]]+Tabel2547[[#This Row],[28]]+Tabel2547[[#This Row],[26]]+Tabel2547[[#This Row],[24]]+Tabel2547[[#This Row],[22]]+Tabel2547[[#This Row],[20]]+Tabel2547[[#This Row],[18]]+Tabel2547[[#This Row],[16]]+Tabel2547[[#This Row],[14]]+Tabel2547[[#This Row],[12]]+Tabel2547[[#This Row],[10]]+Tabel2547[[#This Row],[8]]+Tabel2547[[#This Row],[6]]+Tabel2547[[#This Row],[4]]+Tabel2547[[#This Row],[2]]","v":0},null,{"$f":"Tabel2547[[#This Row],[51]]+Tabel2547[[#This Row],[49]]+Tabel2547[[#This Row],[47]]+Tabel2547[[#This Row],[45]]+Tabel2547[[#This Row],[43]]+Tabel2547[[#This Row],[41]]+Tabel2547[[#This Row],[39]]+Tabel2547[[#This Row],[37]]+Tabel2547[[#This Row],[35]]+Tabel2547[[#This Row],[33]]+Tabel2547[[#This Row],[31]]+Tabel2547[[#This Row],[29]]+Tabel2547[[#This Row],[27]]+Tabel2547[[#This Row],[25]]+Tabel2547[[#This Row],[23]]+Tabel2547[[#This Row],[21]]+Tabel2547[[#This Row],[19]]+Tabel2547[[#This Row],[17]]+Tabel2547[[#This Row],[15]]+Tabel2547[[#This Row],[13]]+Tabel2547[[#This Row],[11]]+Tabel2547[[#This Row],[9]]+Tabel2547[[#This Row],[7]]+Tabel2547[[#This Row],[5]]+Tabel2547[[#This Row],[3]]+Tabel2547[[#This Row],[1]]","v":0},{"$f":"Tabel2547[[#This Row],[RGFT]]+Tabel2547[[#This Row],[RPMD]]","v":0},0,"Molenlanden"]
["3.1",null,"Vrijdag","Kern Groot Ammers nieuw bouw",null,6,5,6,null,null,null,null,null,null,null,null,9,null,null,null,null,null,15,null,null,null,null,null,null,null,null,null,null,null,null,null,null,null,null,null,null,null,null,null,null,null,null,null,null,null,null,null,null,null,null,null,null,null,null,null,{"$f":"Tabel2547[[#This Row],[52]]+Tabel2547[[#This Row],[50]]+Tabel2547[[#This Row],[48]]+Tabel2547[[#This Row],[46]]+Tabel2547[[#This Row],[44]]+Tabel2547[[#This Row],[42]]+Tabel2547[[#This Row],[40]]+Tabel2547[[#This Row],[38]]+Tabel2547[[#This Row],[36]]+Tabel2547[[#This Row],[34]]+Tabel2547[[#This Row],[32]]+Tabel2547[[#This Row],[30]]+Tabel2547[[#This Row],[28]]+Tabel2547[[#This Row],[26]]+Tabel2547[[#This Row],[24]]+Tabel2547[[#This Row],[22]]+Tabel2547[[#This Row],[20]]+Tabel2547[[#This Row],[18]]+Tabel2547[[#This Row],[16]]+Tabel2547[[#This Row],[14]]+Tabel2547[[#This Row],[12]]+Tabel2547[[#This Row],[10]]+Tabel2547[[#This Row],[8]]+Tabel2547[[#This Row],[6]]+Tabel2547[[#This Row],[4]]+Tabel2547[[#This Row],[2]]","v":0},null,{"$f":"Tabel2547[[#This Row],[51]]+Tabel2547[[#This Row],[49]]+Tabel2547[[#This Row],[47]]+Tabel2547[[#This Row],[45]]+Tabel2547[[#This Row],[43]]+Tabel2547[[#This Row],[41]]+Tabel2547[[#This Row],[39]]+Tabel2547[[#This Row],[37]]+Tabel2547[[#This Row],[35]]+Tabel2547[[#This Row],[33]]+Tabel2547[[#This Row],[31]]+Tabel2547[[#This Row],[29]]+Tabel2547[[#This Row],[27]]+Tabel2547[[#This Row],[25]]+Tabel2547[[#This Row],[23]]+Tabel2547[[#This Row],[21]]+Tabel2547[[#This Row],[19]]+Tabel2547[[#This Row],[17]]+Tabel2547[[#This Row],[15]]+Tabel2547[[#This Row],[13]]+Tabel2547[[#This Row],[11]]+Tabel2547[[#This Row],[9]]+Tabel2547[[#This Row],[7]]+Tabel2547[[#This Row],[5]]+Tabel2547[[#This Row],[3]]+Tabel2547[[#This Row],[1]]","v":24},null,{"$f":"Tabel2547[[#This Row],[RGFT]]+Tabel2547[[#This Row],[RPMD]]","v":24},34,"Molenlanden"]
["3.1",null,"Vrijdag","Kern Groot Ammers nieuw bouw","Beatrixstraat 2",6,5,6,null,null,null,null,null,null,null,null,8,null,null,null,null,null,26,null,null,null,null,null,null,null,null,null,null,null,null,null,null,null,null,null,null,null,null,null,null,null,null,null,null,null,null,null,null,null,null,null,null,null,null,null,null,{"$f":"Tabel2547[[#This Row],[52]]+Tabel2547[[#This Row],[50]]+Tabel2547[[#This Row],[48]]+Tabel2547[[#This Row],[46]]+Tabel2547[[#This Row],[44]]+Tabel2547[[#This Row],[42]]+Tabel2547[[#This Row],[40]]+Tabel2547[[#This Row],[38]]+Tabel2547[[#This Row],[36]]+Tabel2547[[#This Row],[34]]+Tabel2547[[#This Row],[32]]+Tabel2547[[#This Row],[30]]+Tabel2547[[#This Row],[28]]+Tabel2547[[#This Row],[26]]+Tabel2547[[#This Row],[24]]+Tabel2547[[#This Row],[22]]+Tabel2547[[#This Row],[20]]+Tabel2547[[#This Row],[18]]+Tabel2547[[#This Row],[16]]+Tabel2547[[#This Row],[14]]+Tabel2547[[#This Row],[12]]+Tabel2547[[#This Row],[10]]+Tabel2547[[#This Row],[8]]+Tabel2547[[#This Row],[6]]+Tabel2547[[#This Row],[4]]+Tabel2547[[#This Row],[2]]","v":0},null,{"$f":"Tabel2547[[#This Row],[51]]+Tabel2547[[#This Row],[49]]+Tabel2547[[#This Row],[47]]+Tabel2547[[#This Row],[45]]+Tabel2547[[#This Row],[43]]+Tabel2547[[#This Row],[41]]+Tabel2547[[#This Row],[39]]+Tabel2547[[#This Row],[37]]+Tabel2547[[#This Row],[35]]+Tabel2547[[#This Row],[33]]+Tabel2547[[#This Row],[31]]+Tabel2547[[#This Row],[29]]+Tabel2547[[#This Row],[27]]+Tabel2547[[#This Row],[25]]+Tabel2547[[#This Row],[23]]+Tabel2547[[#This Row],[21]]+Tabel2547[[#This Row],[19]]+Tabel2547[[#This Row],[17]]+Tabel2547[[#This Row],[15]]+Tabel2547[[#This Row],[13]]+Tabel2547[[#This Row],[11]]+Tabel2547[[#This Row],[9]]+Tabel2547[[#This Row],[7]]+Tabel2547[[#This Row],[5]]+Tabel2547[[#This Row],[3]]+Tabel2547[[#This Row],[1]]","v":34},{"$f":"Tabel2547[[#This Row],[RGFT]]+Tabel2547[[#This Row],[RPMD]]","v":0},0,"Molenlanden"]
["3.2",null,"Vrijdag","Kern Groot Ammers Oude bouw",null,3,3,4,null,null,null,null,null,null,null,null,null,null,null,null,null,6,null,null,null,null,null,null,null,null,null,null,null,null,null,null,null,null,null,null,null,null,null,null,null,null,null,null,null,null,null,null,null,null,null,null,null,null,null,null,{"$f":"Tabel2547[[#This Row],[52]]+Tabel2547[[#This Row],[50]]+Tabel2547[[#This Row],[48]]+Tabel2547[[#This Row],[46]]+Tabel2547[[#This Row],[44]]+Tabel2547[[#This Row],[42]]+Tabel2547[[#This Row],[40]]+Tabel2547[[#This Row],[38]]+Tabel2547[[#This Row],[36]]+Tabel2547[[#This Row],[34]]+Tabel2547[[#This Row],[32]]+Tabel2547[[#This Row],[30]]+Tabel2547[[#This Row],[28]]+Tabel2547[[#This Row],[26]]+Tabel2547[[#This Row],[24]]+Tabel2547[[#This Row],[22]]+Tabel2547[[#This Row],[20]]+Tabel2547[[#This Row],[18]]+Tabel2547[[#This Row],[16]]+Tabel2547[[#This Row],[14]]+Tabel2547[[#This Row],[12]]+Tabel2547[[#This Row],[10]]+Tabel2547[[#This Row],[8]]+Tabel2547[[#This Row],[6]]+Tabel2547[[#This Row],[4]]+Tabel2547[[#This Row],[2]]","v":6},null,{"$f":"Tabel2547[[#This Row],[51]]+Tabel2547[[#This Row],[49]]+Tabel2547[[#This Row],[47]]+Tabel2547[[#This Row],[45]]+Tabel2547[[#This Row],[43]]+Tabel2547[[#This Row],[41]]+Tabel2547[[#This Row],[39]]+Tabel2547[[#This Row],[37]]+Tabel2547[[#This Row],[35]]+Tabel2547[[#This Row],[33]]+Tabel2547[[#This Row],[31]]+Tabel2547[[#This Row],[29]]+Tabel2547[[#This Row],[27]]+Tabel2547[[#This Row],[25]]+Tabel2547[[#This Row],[23]]+Tabel2547[[#This Row],[21]]+Tabel2547[[#This Row],[19]]+Tabel2547[[#This Row],[17]]+Tabel2547[[#This Row],[15]]+Tabel2547[[#This Row],[13]]+Tabel2547[[#This Row],[11]]+Tabel2547[[#This Row],[9]]+Tabel2547[[#This Row],[7]]+Tabel2547[[#This Row],[5]]+Tabel2547[[#This Row],[3]]+Tabel2547[[#This Row],[1]]","v":0},null,{"$f":"Tabel2547[[#This Row],[RGFT]]+Tabel2547[[#This Row],[RPMD]]","v":6},8,"Molenlanden"]
["3.2",null,"Vrijdag","Kern Groot Ammers Oude bouw",null,3,3,4,null,null,null,null,null,null,null,null,null,null,null,null,null,8,null,null,null,null,null,null,null,null,null,null,null,null,null,null,null,null,null,null,null,null,null,null,null,null,null,null,null,null,null,null,null,null,null,null,null,null,null,null,null,{"$f":"Tabel2547[[#This Row],[52]]+Tabel2547[[#This Row],[50]]+Tabel2547[[#This Row],[48]]+Tabel2547[[#This Row],[46]]+Tabel2547[[#This Row],[44]]+Tabel2547[[#This Row],[42]]+Tabel2547[[#This Row],[40]]+Tabel2547[[#This Row],[38]]+Tabel2547[[#This Row],[36]]+Tabel2547[[#This Row],[34]]+Tabel2547[[#This Row],[32]]+Tabel2547[[#This Row],[30]]+Tabel2547[[#This Row],[28]]+Tabel2547[[#This Row],[26]]+Tabel2547[[#This Row],[24]]+Tabel2547[[#This Row],[22]]+Tabel2547[[#This Row],[20]]+Tabel2547[[#This Row],[18]]+Tabel2547[[#This Row],[16]]+Tabel2547[[#This Row],[14]]+Tabel2547[[#This Row],[12]]+Tabel2547[[#This Row],[10]]+Tabel2547[[#This Row],[8]]+Tabel2547[[#This Row],[6]]+Tabel2547[[#This Row],[4]]+Tabel2547[[#This Row],[2]]","v":8},null,{"$f":"Tabel2547[[#This Row],[51]]+Tabel2547[[#This Row],[49]]+Tabel2547[[#This Row],[47]]+Tabel2547[[#This Row],[45]]+Tabel2547[[#This Row],[43]]+Tabel2547[[#This Row],[41]]+Tabel2547[[#This Row],[39]]+Tabel2547[[#This Row],[37]]+Tabel2547[[#This Row],[35]]+Tabel2547[[#This Row],[33]]+Tabel2547[[#This Row],[31]]+Tabel2547[[#This Row],[29]]+Tabel2547[[#This Row],[27]]+Tabel2547[[#This Row],[25]]+Tabel2547[[#This Row],[23]]+Tabel2547[[#This Row],[21]]+Tabel2547[[#This Row],[19]]+Tabel2547[[#This Row],[17]]+Tabel2547[[#This Row],[15]]+Tabel2547[[#This Row],[13]]+Tabel2547[[#This Row],[11]]+Tabel2547[[#This Row],[9]]+Tabel2547[[#This Row],[7]]+Tabel2547[[#This Row],[5]]+Tabel2547[[#This Row],[3]]+Tabel2547[[#This Row],[1]]","v":0},{"$f":"Tabel2547[[#This Row],[RGFT]]+Tabel2547[[#This Row],[RPMD]]","v":0},0,"Molenlanden"]
[null,null,null,null,null,null,null,null,null,null,null,null,null,null,null,null,null,null,null,null,null,null,null,null,null,null,null,null,null,null,null,null,null,null,null,null,null,null,null,null,null,null,null,null,null,null,null,null,null,null,null,null,null,null,null,null,null,null,null,null,null,null,null,null,{"$f":"Tabel2547[[#This Row],[RGFT]]+Tabel2547[[#This Row],[RPMD]]","v":0},0]
[null,null,null,null,null,null,null,null,null,null,null,null,null,null,null,null,null,null,null,null,null,null,null,null,null,null,null,null,null,null,null,null,null,null,null,null,null,null,null,null,null,null,null,null,null,null,null,null,null,null,null,null,null,null,null,null,null,null,null,null,null,null,null,null,{"$f":"Tabel2547[[#This Row],[RGFT]]+Tabel2547[[#This Row],[RPMD]]","v":0},0]
[null,null,null,null,null,null,null,null,null,null,null,null,null,null,null,null,null,null,null,null,null,null,null,null,null,null,null,null,null,null,null,null,null,null,null,null,null,null,null,null,null,null,null,null,null,null,null,null,null,null,null,null,null,null,null,null,null,null,null,null,null,null,null,null,{"$f":"SUBTOTAL(109,BM3:BM86)","v":1069},{"$f":"SUBTOTAL(109,BN3:BN86)","v":2192}]
[null,null,null,null,null,null,null,null,null,null,null,null,null,null,null,null,null,null,null,null,null,null,null,null,null,null,null,null,null,null,null,null,null,null,null,null,null,null,null,null,null,null,null,null,null,null,null,null,null,null,null,null,null,null,null,null,null,null,{"$f":"SUBTOTAL(109,Tabel2547[51])","v":0},{"$f":"SUBTOTAL(109,Tabel2547[52])","v":0},{"$f":"SUM(BI3:BI87)","v":219},{"$f":"SUM(BJ3:BJ87)","v":872},{"$f":"SUM(BK3:BK87)","v":850},{"$f":"SUM(BL3:BL87)","v":1320}]

{"sheet":"Adressen 2024","index":1,"n_rows":284,"n_cols":12,"rows_kept":284,"cut":false,"hidden":false,"merged":[]}
["Naam","Dag","Controle wijk","Route","Week","Label","Postcode","Nummer","Woonplaats","Aangetroffen","Aangetroffen 2","Aangetroffen 3 "]
["Daan","Maandag","1= Nieuwland en 2 = Leerbroek binnen en Leerdam",null,19,"r","4243 gc",17,"Leerdam"]
["Daan","Maandag","1= Nieuwland en 2 = Leerbroek binnen en Leerdam",null,19,"r","4143 gb",90,"Leerdam"]
["Daan","Maandag","1= Nieuwland en 2 = Leerbroek binnen en Leerdam",null,19,"r","4143 gx","?","Leerdam"]
["Daan","Maandag","1= Nieuwland en 2 = Leerbroek binnen en Leerdam",null,19,"r","4143 gx",12,"Leerdam"]
["Daan","Maandag","1= Nieuwland en 2 = Leerbroek binnen en Leerdam",null,19,"r","4143 gd",136,"Leerdam"]
["Daan","Maandag","1= Nieuwland en 2 = Leerbroek binnen en Leerdam",null,19,"r","4143 gd",142,"Leerdam"]
["Daan","Maandag","1= Nieuwland en 2 = Leerbroek binnen en Leerdam",null,19,"r","4143 gj",3,"Leerdam"]
["Daan","Maandag","1= Nieuwland en 2 = Leerbroek binnen en Leerdam",null,19,"r","4143 gc","?","Leerdam"]
["Daan","Maandag","1= Nieuwland en 2 = Leerbroek binnen en Leerdam",null,19,"r","4142 rl",13,"Leerdam"]
["Daan","Maandag","1= Nieuwland en 2 = Leerbroek binnen en Leerdam",null,19,"r","4142 ra",7,"Leerdam"]
["Daan","Maandag","1= Nieuwland en 2 = Leerbroek binnen en Leerdam",null,19,"r","4245 lc",42,"leerbroek"]
["Daan","Maandag","1= Nieuwland en 2 = Leerbroek binnen en Leerdam",null,19,"r","4245 kz",4,"leerbroek"]
["Daan","Maandag","1= Nieuwland en 2 = Leerbroek binnen en Leerdam",null,19,"r","4245 kg",31,"leerbroek"]
["Daan","Maandag","1= Nieuwland en 2 = Leerbroek binnen en Leerdam",null,19,"r","4245 kg",67,"leerbroek"]
["Daan","Maandag","1= Nieuwland en 2 = Leerbroek binnen en Leerdam",null,19,"r","4245 kc","?","leerbroek"]
["Daan","Maandag","1= Nieuwland en 2 = Leerbroek binnen en Leerdam",null,19,"r","4245 kd",14,"leerbroek"]
["Daan","Maandag","1= Nieuwland en 2 = Leerbroek binnen en Leerdam",null,19,"r","4245 kk",6,"leerbroek"]
["Daan","Maandag","1= Nieuwland en 2 = Leerbroek binnen en Leerdam",null,19,"r","4245 km",3,"leerbroek"]
["Daan","Maandag","1= Nieuwland en 2 = Leerbroek binnen en Leerdam",null,19,"r","4243 jj",14,"nieuwland"]
["Daan","Maandag","1= Nieuwland en 2 = Leerbroek binnen en Leerdam",null,19,"r","4243 jj","?","nieuwland"]
["Daan","Maandag","1= Nieuwland en 2 = Leerbroek binnen en Leerdam",null,19,"r","4243 jx",29,"nieuwland"]
["Daan","Maandag","1= Nieuwland en 2 = Leerbroek binnen en Leerdam",null,19,"r","4243 jv",25,"nieuwland"]
["Daan","Maandag","1= Nieuwland en 2 = Leerbroek binnen en Leerdam",null,19,"r","4243 jx",6,"nieuwland"]
["Daan","Maandag","1= Nieuwland en 2 = Leerbroek binnen en Leerdam",null,19,"g","4143 gg",11,"Leerdam"]
["Daan","Maandag","1= Nieuwland en 2 = Leerbroek binnen en Leerdam",null,19,"g","4143 gg",2,"Leerdam"]
["Daan","Maandag","1= Nieuwland en 2 = Leerbroek binnen en Leerdam",null,19,"g","4143 gb",46,"Leerdam"]
["Daan","Maandag","1= Nieuwland en 2 = Leerbroek binnen en Leerdam",null,19,"g","4143 gb",60,"Leerdam"]
["Daan","Maandag","1= Nieuwland en 2 = Leerbroek binnen en Leerdam",null,19,"g","4143 gb","?","Leerdam"]
["Daan","Maandag","1= Nieuwland en 2 = Leerbroek binnen en Leerdam",null,19,"g","4143 gd",176,"Leerdam"]
["Daan","Maandag","1= Nieuwland en 2 = Leerbroek binnen en Leerdam",null,19,"g","4143 gd",172,"Leerdam"]
["Daan","Maandag","1= Nieuwland en 2 = Leerbroek binnen en Leerdam",null,19,"g","4143 gd",160,"Leerdam"]
["Daan","Maandag","1= Nieuwland en 2 = Leerbroek binnen en Leerdam",null,19,"g","4143 gd",74,"Leerdam"]
["Daan","Maandag","1= Nieuwland en 2 = Leerbroek binnen en Leerdam",null,19,"g","4143 gc",35,"Leerdam"]
["Daan","Maandag","1= Nieuwland en 2 = Leerbroek binnen en Leerdam",null,19,"g","4143 gj",11,"Leerdam"]
["Daan","Maandag","1= Nieuwland en 2 = Leerbroek binnen en Leerdam",null,19,"g","4143 gj",5,"Leerdam"]
["Daan","Maandag","1= Nieuwland en 2 = Leerbroek binnen en Leerdam",null,19,"g","4143 rg",7,"Leerdam"]
["Daan","Maandag","1= Nieuwland en 2 = Leerbroek binnen en Leerdam",null,19,"g","4143 re",31,"Leerdam"]
["Daan","Maandag","1= Nieuwland en 2 = Leerbroek binnen en Leerdam",null,19,"g","4142 re",33,"Leerdam"]
["Daan","Maandag","1= Nieuwland en 2 = Leerbroek binnen en Leerdam",null,19,"g","4142 rl",16,"Leerdam"]
["Daan","Maandag","1= Nieuwland en 2 = Leerbroek binnen en Leerdam",null,19,"g","4142 rg",12,"Leerdam"]
["Daan","Maandag","1= Nieuwland en 2 = Leerbroek binnen en Leerdam",null,19,"g","4245 la","2d","leerbroek"]
["Daan","Maandag","1= Nieuwland en 2 = Leerbroek binnen en Leerdam",null,19,"g","4245 kg",69,"leerbroek"]
["Daan","Maandag","1= Nieuwland en 2 = Leerbroek binnen en Leerdam",null,19,"g","4245 kg",30,"leerbroek"]
["Daan","Maandag","1= Nieuwland en 2 = Leerbroek binnen en Leerdam",null,19,"g","4245 kg",45,"leerbroek"]
["Daan","Maandag","1= Nieuwland en 2 = Leerbroek binnen en Leerdam",null,19,"g","4245 kd",18,"leerbroek"]
["Daan","Maandag","1= Nieuwland en 2 = Leerbroek binnen en Leerdam",null,19,"g","4245 kg","?","leerbroek"]
["Daan","Maandag","1= Nieuwland en 2 = Leerbroek binnen en Leerdam",null,19,"g","4243 jk","?","nieuwland"]
["Daan","Maandag","1= Nieuwland en 2 = Leerbroek binnen en Leerdam",null,19,"g","4243 jk","?","nieuwland"]
["Daan","Maandag","1= Nieuwland en 2 = Leerbroek binnen en Leerdam",null,19,"g","4243 jv",2,"nieuwland"]
["Daan","Maandag","1= Nieuwland en 2 = Leerbroek binnen en Leerdam",null,19,"g","4243 jx",31,"nieuwland"]
["Daan","Dinsdag","Haarwijk 1 - Haarwijk 2 helpen",null,19,"r","4205 gl/gk","?","Gorinchem"]
["Daan","Dinsdag","Haarwijk 1 - Haarwijk 2 helpen",null,19,"r","4205 gv",16,"Gorinchem"]
["Daan","Dinsdag","Haarwijk 1 - Haarwijk 2 helpen",null,19,"r","4205 gk",37,"Gorinchem"]
["Daan","Dinsdag","Haarwijk 1 - Haarwijk 2 helpen",null,19,"r","4205 gl",32,"Gorinchem"]
["Daan","Dinsdag","Haarwijk 1 - Haarwijk 2 helpen",null,19,"r","4205 gk",13,"Gorinchem"]
["Daan","Dinsdag","Haarwijk 1 - Haarwijk 2 helpen",null,19,"r","4205 gk",7,"Gorinchem"]
["Daan","Dinsdag","Haarwijk 1 - Haarwijk 2 helpen",null,19,"r","4205 gl",4,"Gorinchem"]
["Daan","Dinsdag","Haarwijk 1 - Haarwijk 2 helpen",null,19,"r","4205 gl","?","Gorinchem"]
["Daan","Dinsdag","Haarwijk 1 - Haarwijk 2 helpen",null,19,"r","4205 gj",8,"Gorinchem"]
["Daan","Dinsdag","Haarwijk 1 - Haarwijk 2 helpen",null,19,"r","4205 gj",6,"Gorinchem"]
["Daan","Dinsdag","Haarwijk 1 - Haarwijk 2 helpen",null,19,"r","4205 gj",14,"Gorinchem"]
["Daan","Dinsdag","Haarwijk 1 - Haarwijk 2 helpen",null,19,"r","4205 gz","?","Gorinchem"]
["Daan","Dinsdag","Haarwijk 1 - Haarwijk 2 helpen",null,19,"r","4205 gv",49,"Gorinchem"]
["Daan","Dinsdag","Haarwijk 1 - Haarwijk 2 helpen",null,19,"r","4205 gx",2,"Gorinchem"]
["Daan","Dinsdag","Haarwijk 1 - Haarwijk 2 helpen",null,19,"r","4205 gz",6,"Gorinchem"]
["Daan","Dinsdag","Haarwijk 1 - Haarwijk 2 helpen",null,19,"r","4205 gz","?","Gorinchem"]
["Daan","Dinsdag","Haarwijk 1 - Haarwijk 2 helpen",null,19,"r","4205 gz",8,"Gorinchem"]
["Daan","Dinsdag","Haarwijk 1 - Haarwijk 2 helpen",null,19,"r","4205 gz",19,"Gorinchem"]
["Daan","Dinsdag","Haarwijk 1 - Haarwijk 2 helpen",null,19,"r","4205 gz",21,"Gorinchem"]
["Daan","Dinsdag","Haarwijk 1 - Haarwijk 2 helpen",null,19,"r","4205 zd","?","Gorinchem"]
["Daan","Dinsdag","Haarwijk 1 - Haarwijk 2 helpen",null,19,"r","4205 zd",31,"Gorinchem"]
["Daan","Dinsdag","Haarwijk 1 - Haarwijk 2 helpen",null,19,"r","4205 zd","?","Gorinchem"]
["Daan","Dinsdag","Haarwijk 1 - Haarwijk 2 helpen",null,19,"r","4205 za","3a","Gorinchem"]
["Daan","Dinsdag","Hoogblokland Binnen",null,19,"r","4221 lx",8,"Hoogblokland"]
["Daan","Dinsdag","Hoogblokland Binnen",null,19,"r","4221 lw","?","Hoogblokland"]
["Daan","Dinsdag","Hoogblokland Binnen",null,19,"r","4221 lw","?","Hoogblokland"]
["Daan","Dinsdag","Hoogblokland Binnen",null,19,"r","4221 lw","?","Hoogblokland"]
["Daan","Dinsdag","Hoogblokland Binnen",null,19,"r","4221 lw",19,"Hoogblokland"]
["Daan","Dinsdag","Hoogblokland Binnen",null,19,"r","4221 lx",20,"Hoogblokland"]
["Daan","Dinsdag","Hoogblokland Binnen",null,19,"r","4221 lx",16,"Hoogblokland"]
["Daan","Dinsdag","Hoogblokland Binnen",null,19,"r","4221 ls","?","Hoogblokland"]
["Daan","Dinsdag","Hoogblokland Binnen",null,19,"r","4221 ls","?","Hoogblokland"]
["Daan","Dinsdag","Hoogblokland Binnen",null,19,"r","4221 ls",9,"Hoogblokland"]
["Daan","Dinsdag","Hoogblokland Binnen",null,19,"r","4221 lp",10,"Hoogblokland"]
["Daan","Dinsdag","Hoogblokland Binnen",null,19,"r","4221 lr","?","Hoogblokland"]
["Daan","Dinsdag","Hoogblokland Binnen",null,19,"r","4221 lr","?","Hoogblokland"]
["Daan","Dinsdag","Hoogblokland Binnen",null,19,"r","4221 la","?","Hoogblokland"]
["Daan","Dinsdag","Hoogblokland Binnen",null,19,"r","4221 la",12,"Hoogblokland"]
["Daan","Dinsdag","Hoogblokland Binnen",null,19,"r","4221 la",28,"Hoogblokland"]
["Daan","Dinsdag","Hoogblokland Binnen",null,19,"r","4221 lm",14,"Hoogblokland"]
["Daan","Dinsdag","Hoogblokland Binnen",null,19,"r","4221 ls",17,"Hoogblokland"]
["Daan","Dinsdag","Hoogblokland Binnen",null,19,"r","4221 ls",27,"Hoogblokland"]
["Daan","Dinsdag","Hoogblokland Binnen",null,19,"r","4221 lp",28,"Hoogblokland"]
["Daan","Dinsdag","Hoogblokland Binnen",null,19,"r","4221 lp",26,"Hoogblokland"]
["Daan","Dinsdag","Hoogblokland Binnen",null,19,"r","4221 lp",30,"Hoogblokland"]
["Daan","Dinsdag","Haarwijk 1 - Haarwijk 2 helpen",null,19,"g","4205 gl","?","Gorinchem"]
["Daan","Dinsdag","Haarwijk 1 - Haarwijk 2 helpen",null,19,"g","4205 gl","?","Gorinchem"]
["Daan","Dinsdag","Haarwijk 1 - Haarwijk 2 helpen",null,19,"g","4205 zc",27,"Gorinchem"]
["Daan","Dinsdag","Haarwijk 1 - Haarwijk 2 helpen",null,19,"g","4205 za",13,"Gorinchem"]
["Daan","Dinsdag","Hoogblokland Binnen",null,19,"g","4221 lz",3,"Hoogblokland"]
["Daan","Dinsdag","Hoogblokland Binnen",null,19,"g","4221 lw",1,"Hoogblokland"]
["Daan","Dinsdag","Hoogblokland Binnen",null,19,"g","4221 lw",39,"Hoogblokland"]
["Daan","Dinsdag","Hoogblokland Binnen",null,19,"g","4221 la",1,"Hoogblokland"]
["Daan","Dinsdag","Hoogblokland Binnen",null,19,"g","4221 kd",13,"Hoogblokland"]
["Daan","Dinsdag","Hoogblokland Binnen",null,19,"g","4221 ln",9,"Hoogblokland"]
["Daan","Dinsdag","Hoogblokland Binnen",null,19,"g","4221 la",52,"Hoogblokland"]
["Daan","Dinsdag","Hoogblokland Binnen",null,19,"g","4221 la",16,"Hoogblokland"]
["Daan","Dinsdag","Hoogblokland Binnen",null,19,"g","4221 ln",31,"Hoogblokland"]
["Daan","Dinsdag","Hoogblokland Binnen",null,19,"g","4221 lm","?","Hoogblokland"]
["Nico","Maandag","1=Lexmond, 2=Hei en Boeicop binnen",null,19,"r","4128 cd",36,"Lexmond"]
["Nico","Maandag","1=Lexmond, 2=Hei en Boeicop binnen",null,19,"r","4128 cc",16,"Lexmond"]
["Nico","Maandag","1=Lexmond, 2=Hei en Boeicop binnen",null,19,"r","4128 cc",14,"Lexmond"]
["Nico","Maandag","1=Lexmond, 2=Hei en Boeicop binnen",null,19,"r","4128 cd",18,"Lexmond"]
["Nico","Maandag","1=Lexmond, 2=Hei en Boeicop binnen",null,19,"r","4128 ck",9,"Lexmond"]
["Nico","Maandag","1=Lexmond, 2=Hei en Boeicop binnen",null,19,"r","4128 st",3,"Lexmond"]
["Nico","Maandag","1=Lexmond, 2=Hei en Boeicop binnen",null,19,"r","4128 bw",71,"Lexmond"]
["Nico","Maandag","1=Lexmond, 2=Hei en Boeicop binnen",null,19,"r","4128 st",15,"Lexmond"]
["Nico","Maandag","1=Lexmond, 2=Hei en Boeicop binnen",null,19,"r","4128 sw",11,"Lexmond"]
["Nico","Maandag","1=Lexmond, 2=Hei en Boeicop binnen",null,19,"r","4128 aa",2,"Lexmond"]
["Nico","Maandag","1=Lexmond, 2=Hei en Boeicop binnen",null,19,"r","4128 ca","?","Lexmond"]
["Nico","Maandag","1=Lexmond, 2=Hei en Boeicop binnen",null,19,"r","4126 rs",2,"Hei en Boeicop"]
["Nico","Maandag","1=Lexmond, 2=Hei en Boeicop binnen",null,19,"r","4126 rv",11,"Hei en Boeicop"]
["Nico","Maandag","1=Lexmond, 2=Hei en Boeicop binnen",null,19,"r","4126 rt",9,"Hei en Boeicop"]
["Nico","Maandag","Schoonrewoerd binnen",null,19,"r","4145 nd",17,"Schoonrewoerd"]
["Nico","Maandag","Schoonrewoerd binnen",null,19,"r","4145 nd","?","Schoonrewoerd"]
["Nico","Maandag","Schoonrewoerd binnen",null,19,"r","4145 nt",3,"Schoonrewoerd"]
["Nico","Maandag","Schoonrewoerd binnen",null,19,"r","4145 ne",17,"Schoonrewoerd"]
["Nico","Maandag","Schoonrewoerd binnen",null,19,"r","4145 nd",24,"Schoonrewoerd"]
["Nico","Maandag","Schoonrewoerd binnen",null,19,"r","4145 nv",18,"Schoonrewoerd"]
["Nico","Maandag","Schoonrewoerd binnen",null,19,"r","4145 kj",8,"Schoonrewoerd"]
["Nico","Maandag","Schoonrewoerd binnen",null,19,"r","4145 kn",2,"Schoonrewoerd"]
["Nico","Maandag","Schoonrewoerd binnen",null,19,"r","4145 kl",19,"Schoonrewoerd"]
["Nico","Maandag","Schoonrewoerd binnen",null,19,"r","4145 kr",16,"Schoonrewoerd"]
["Nico","Maandag","Schoonrewoerd binnen",null,19,"r","4145 ka",1,"Schoonrewoerd"]
["Nico","Dinsdag","Hoef en Haag ",null,19,"r","4125 rr",14,"Hoef en Haag"]
["Nico","Dinsdag","Hoef en Haag ",null,19,"r","4125 sp",4,"Hoef en Haag"]
["Nico","Dinsdag","Hoef en Haag ",null,19,"r","4125 sp",12,"Hoef en Haag"]
["Nico","Dinsdag","Hoef en Haag ",null,19,"r","4125 sm",20,"Hoef en Haag"]
["Nico","Dinsdag","Hoef en Haag ",null,19,"r","4125 sl",64,"Hoef en Haag"]
["Nico","Dinsdag","Hoef en Haag ",null,19,"r","4125 sm",28,"Hoef en Haag"]
["Nico","Dinsdag","Hoef en Haag ",null,19,"r","4125 sm",33,"Hoef en Haag"]
["Nico","Dinsdag","Hoef en Haag ",null,19,"r","4125 sm",35,"Hoef en Haag"]
["Nico","Dinsdag","Hoef en Haag ",null,19,"r","4125 sm",38,"Hoef en Haag"]
["Nico","Dinsdag","Hoef en Haag ",null,19,"r","4125 sl",123,"Hoef en Haag"]
["Nico","Dinsdag","Hoef en Haag ",null,19,"r","4125 rg",36,"Hoef en Haag"]
["Nico","Dinsdag","Hoef en Haag ",null,19,"r","4125 rg","?","Hoef en Haag"]
["Nico","Dinsdag","Hoef en Haag ",null,19,"r","4125 rg",69,"Hoef en Haag"]
["Nico","Dinsdag","Hoef en Haag ",null,19,"r","4125 rg","?","Hoef en Haag"]
["Nico","Dinsdag","Hoef en Haag ",null,19,"r","4125 rg",56,"Hoef en Haag"]
["Nico","Dinsdag","Hoef en Haag ",null,19,"r","4125 rg",17,"Hoef en Haag"]
["Nico","Dinsdag","Hoef en Haag ",null,19,"r","4125 rg",1,"Hoef en Haag"]
["Nico","Dinsdag","Hoef en Haag ",null,19,"r","4125 rg","1F","Hoef en Haag"]
["Nico","Dinsdag","Hoef en Haag ",null,19,"r","4125 rg",11,"Hoef en Haag"]
["Nico","Dinsdag","Hoef en Haag ",null,19,"r","4125 rd",8,"Hoef en Haag"]
["Nico","Dinsdag","Hoef en Haag ",null,19,"r","4125 rd",11,"Hoef en Haag"]
["Nico","Dinsdag","Hoef en Haag ",null,19,"r","4125 rj",2,"Hoef en Haag"]
["Nico","Dinsdag","Hoef en Haag ",null,19,"r","4125 re",2,"Hoef en Haag"]
["Nico","Dinsdag","Hoef en Haag ",null,19,"r","4125 re",6,"Hoef en Haag"]
["Nico","Dinsdag","Hoef en Haag ",null,19,"r","4125 rj",16,"Hoef en Haag"]
["Nico","Dinsdag","Hoef en Haag ",null,19,"r","4125 rj",20,"Hoef en Haag"]
["Nico","Dinsdag","Hoef en Haag ",null,19,"r","4125 rj",8,"Hoef en Haag"]
["Nico","Dinsdag","Hoef en Haag ",null,19,"r","4125 re",5,"Hoef en Haag"]
["Nico","Dinsdag","Hoef en Haag ",null,19,"r","4125 re",7,"Hoef en Haag"]
["Nico","Dinsdag","Hoef en Haag ",null,19,"r","4125 rl",8,"Hoef en Haag"]
["Nico","Dinsdag","Hoef en Haag ",null,19,"r","4125 tk",3,"Hoef en Haag"]
["Nico","Dinsdag","Hoef en Haag ",null,19,"r","4125 tn",8,"Hoef en Haag"]
["Nico","Dinsdag","Hoef en Haag ",null,19,"r","4125 tp",16,"Hoef en Haag"]
["Nico","Dinsdag","Hoef en Haag ",null,19,"r","4125 tp",5,"Hoef en Haag"]
["Nico","Dinsdag","Hoef en Haag ",null,19,"r","4125 vb",2,"Hoef en Haag"]
["Nico","Dinsdag","Hoef en Haag ",null,19,"r","4125 vc","?","Hoef en Haag"]
["Nico","Dinsdag","Hoef en Haag ",null,19,"r","4125 xh",20,"Hoef en Haag"]
["Nico","Dinsdag","Hoef en Haag ",null,19,"r","4125 td",77,"Hoef en Haag"]
["Nico","Dinsdag","Hoef en Haag ",null,19,"r","4125 xh",42,"Hoef en Haag"]
["Nico","Dinsdag","Hoef en Haag ",null,19,"r","4125 xh",18,"Hoef en Haag"]
["Nico","Dinsdag","Hoef en Haag ",null,19,"r","4125 ve",8,"Hoef en Haag"]
["Nico","Dinsdag","Hoef en Haag ",null,19,"r","4125 vd",9,"Hoef en Haag"]
["Nico","Dinsdag","Hoef en Haag ",null,19,"r","4125 vd",2,"Hoef en Haag"]
["Nico","Dinsdag","Hoef en Haag ",null,19,"r","4125 vd",12,"Hoef en Haag"]
["Nico","Dinsdag","Hoef en Haag ",null,19,"r","4125 vd",29,"Hoef en Haag"]
["Nico","Dinsdag","Hoef en Haag ",null,19,"r","4125 vd",20,"Hoef en Haag"]
["Nico","Dinsdag","Hoef en Haag ",null,19,"r","4125 vd",24,"Hoef en Haag"]
["Nico","Dinsdag","Hoef en Haag ",null,19,"r","4125 vg",17,"Hoef en Haag"]
["Nico","Dinsdag","Hoef en Haag ",null,19,"r","4125 vj",22,"Hoef en Haag"]
["Nico","Dinsdag","Hoef en Haag ",null,19,"r","4125 vg",19,"Hoef en Haag"]
["Nico","Dinsdag","Hoef en Haag ",null,19,"r","4125 vj",13,"Hoef en Haag"]
["Nico","Dinsdag","Hoef en Haag ",null,19,"r","4125 vj",10,"Hoef en Haag"]
["Nico","Dinsdag","Hoef en Haag ",null,19,"r","4125 vd","?","Hoef en Haag"]
["Nico","Dinsdag","Hoef en Haag ",null,19,"r","4125 vr",6,"Hoef en Haag"]
["Nico","Dinsdag","Hoef en Haag ",null,19,"r","4125 vp",17,"Hoef en Haag"]
["Nico","Dinsdag","Hoef en Haag ",null,19,"r","4125 vp",12,"Hoef en Haag"]
["Nico","Dinsdag","Hoef en Haag ",null,19,"r","4125 vp",32,"Hoef en Haag"]
["Nico","Dinsdag","Hoef en Haag ",null,19,"r","4125 xa",91,"Hoef en Haag"]
["Nico","Dinsdag","Hoef en Haag ",null,19,"r","4125 xa",124,"Hoef en Haag"]
["Nico","Dinsdag","Hoef en Haag ",null,19,"r","4125 xa",79,"Hoef en Haag"]
["Nico","Dinsdag","Hoef en Haag ",null,19,"r","4125 xa",110,"Hoef en Haag"]
["Nico","Dinsdag","Hoef en Haag ",null,19,"r","4125 xa",108,"Hoef en Haag"]
["Nico","Dinsdag","Hoef en Haag ",null,19,"r","4125 xr",39,"Hoef en Haag"]
["Nico","Dinsdag","Hoef en Haag ",null,19,"r","4125 wb",4,"Hoef en Haag"]
["Nico","Dinsdag","Vianen De Hagen ",null,19,"r","4131 bj",6,"Vianen"]
["Nico","Dinsdag","Vianen De Hagen ",null,19,"r","4131 az",60,"Vianen"]
["Nico","Dinsdag","Vianen De Hagen ",null,19,"r","4131 az",74,"Vianen"]
["Nico","Dinsdag","Vianen De Hagen ",null,19,"r","4131 bg",9,"Vianen"]
["Nico","Dinsdag","Vianen De Hagen ",null,19,"r","4131 bh",21,"Vianen"]
["Nico","Dinsdag","Hoef en Haag ",null,19,"g","4125 sh",14,"Hoef en Haag"]
["Nico","Dinsdag","Hoef en Haag ",null,19,"g","4125 sl",87,"Hoef en Haag"]
["Nico","Dinsdag","Hoef en Haag ",null,19,"g","4125 sp",2,"Hoef en Haag"]
["Nico","Dinsdag","Hoef en Haag ",null,19,"g","4125 sm",29,"Hoef en Haag"]
["Nico","Dinsdag","Hoef en Haag ",null,19,"g","4124 az",77,"Hoef en Haag"]
["Nico","Dinsdag","Hoef en Haag ",null,19,"g","4125 rg",47,"Hoef en Haag"]
["Nico","Dinsdag","Hoef en Haag ",null,19,"g","4125 re",12,"Hoef en Haag"]
["Nico","Dinsdag","Hoef en Haag ",null,19,"g","4125 rd",4,"Hoef en Haag"]
["Nico","Dinsdag","Hoef en Haag ",null,19,"g","4125 va",16,"Hoef en Haag"]
["Nico","Dinsdag","Hoef en Haag ",null,19,"g","4125 vc",24,"Hoef en Haag"]
["Nico","Dinsdag","Hoef en Haag ",null,19,"g","4125 td",89,"Hoef en Haag"]
["Nico","Dinsdag","Hoef en Haag ",null,19,"g","4125 ve",6,"Hoef en Haag"]
["Nico","Dinsdag","Hoef en Haag ",null,19,"g","4125 vd",19,"Hoef en Haag"]
["Nico","Dinsdag","Vianen De Hagen ",null,19,"g","4131 bg",10,"Vianen"]
["Nico","Dinsdag","Vianen De Hagen ",null,19,"g","4131 bh",9,"Vianen"]
["Nico","Dinsdag","1=Lexmond, 2=Hei en Boeicop binnen",null,19,"g",4128,"?","Lexmond"]
["Nico","Dinsdag","1=Lexmond, 2=Hei en Boeicop binnen",null,19,"g","4128 cj",20,"Lexmond"]
["Nico","Dinsdag","1=Lexmond, 2=Hei en Boeicop binnen",null,19,"g","4128 cj",9,"Lexmond"]
["Nico","Dinsdag","1=Lexmond, 2=Hei en Boeicop binnen",null,19,"g","4128 sw","?","Lexmond"]
["Nico","Dinsdag","1=Lexmond, 2=Hei en Boeicop binnen",null,19,"g","4128 bw",45,"Lexmond"]
["Nico","Dinsdag","1=Lexmond, 2=Hei en Boeicop binnen",null,19,"g","4126 rr",7,"Hei en Boeicop"]
["Nico","Dinsdag","1=Lexmond, 2=Hei en Boeicop binnen",null,19,"g","4126 rv",12,"Hei en Boeicop"]
["Nico","Dinsdag","1=Lexmond, 2=Hei en Boeicop binnen",null,19,"g","4126 rr",15,"Hei en Boeicop"]
["Nico","Dinsdag","1=Lexmond, 2=Hei en Boeicop binnen",null,19,"g","4126 rt",33,"Hei en Boeicop"]
["Nico","Dinsdag","Schoonrewoerd binnen",null,19,"g","4145 nv",20,"Schoonrewoerd"]
["Nico","Dinsdag","Schoonrewoerd binnen",null,19,"g","4145 kn",16,"Schoonrewoerd"]
["Nico","Woensdag","Ameide en Meerkerk",null,19,"r","4233 cr",97,"Ameide"]
["Nico","Woensdag","Ameide en Meerkerk",null,19,"r","4233 cz",60,"Ameide"]
["Nico","Woensdag","Ameide en Meerkerk",null,19,"r","4233 cr",63,"Ameide"]
["Nico","Woensdag","Ameide en Meerkerk",null,19,"r","4233 cr","?","Ameide"]
["Nico","Woensdag","Ameide en Meerkerk",null,19,"r","4233 gm",2,"Ameide"]
["Nico","Woensdag","Ameide en Meerkerk",null,19,"r","4233 cn","?","Ameide"]
["Nico","Woensdag","Ameide en Meerkerk",null,19,"r","4233 gn",5,"Ameide"]
["Nico","Woensdag","Ameide en Meerkerk",null,19,"r","4233 gg",22,"Ameide"]
["Nico","Woensdag","Ameide en Meerkerk",null,19,"r","4233 gb","?","Ameide"]
["Nico","Woensdag","Ameide en Meerkerk",null,19,"r","4233 gs",2,"Ameide"]
["Nico","Woensdag","Ameide en Meerkerk",null,19,"r","4233 gb",65,"Ameide"]
["Nico","Woensdag","Ameide en Meerkerk",null,19,"r","4233 gd",84,"Ameide"]
["Nico","Woensdag","Ameide en Meerkerk",null,19,"r","4233 gj","?","Ameide"]
["Nico","Woensdag","Ameide en Meerkerk",null,19,"r","4233 gb",37,"Ameide"]
["Nico","Woensdag","Ameide en Meerkerk",null,19,"r","4233 gd",7,"Ameide"]
["Nico","Woensdag","Ameide en Meerkerk",null,19,"r","4233 gb",47,"Ameide"]
["Nico","Woensdag","Ameide en Meerkerk",null,19,"r","4233 gb",25,"Ameide"]
["Nico","Woensdag","Ameide en Meerkerk",null,19,"r","4233 gb",29,"Ameide"]
["Nico","Woensdag","Ameide en Meerkerk",null,19,"r","4233 gb",6,"Ameide"]
["Nico","Woensdag","Ameide en Meerkerk",null,19,"r","4233 gg","?","Ameide"]
["Nico","Woensdag","Ameide en Meerkerk",null,19,"r","4233 gc",26,"Ameide"]
["Nico","Woensdag","Ameide en Meerkerk",null,19,"r","4233 gc",42,"Ameide"]
["Nico","Woensdag","Ameide en Meerkerk",null,19,"r",4233,"?","Ameide"]
["Nico","Woensdag","Ameide en Meerkerk",null,19,"r","4231 ab",28,"Meerkerk"]
["Nico","Woensdag","Ameide en Meerkerk",null,19,"r","4231 bg","?","Meerkerk"]
["Nico","Woensdag","Ameide en Meerkerk",null,19,"r","4231 bk",4,"Meerkerk"]
["Nico","Woensdag","Ameide en Meerkerk",null,19,"r","4231 bl",8,"Meerkerk"]
["Nico","Woensdag","Ameide en Meerkerk",null,19,"r","4231 bn",12,"Meerkerk"]
["Nico","Woensdag","Ameide en Meerkerk",null,19,"r","4231 bm",9,"Meerkerk"]
["Nico","Woensdag","Ameide en Meerkerk",null,19,"r","4231 bs",28,"Meerkerk"]
["Nico","Woensdag","Ameide en Meerkerk",null,19,"r","4231 bp",23,"Meerkerk"]
["Nico","Woensdag","Ameide en Meerkerk",null,19,"r","4231 br",37,"Meerkerk"]
["Nico","Woensdag","Ameide en Meerkerk",null,19,"r","4231 br",53,"Meerkerk"]
["Nico","Woensdag","Ameide en Meerkerk",null,19,"r","4231 az",2,"Meerkerk"]
["Nico","Woensdag","Ameide en Meerkerk",null,19,"r","4231 az","?","Meerkerk"]
["Nico","Woensdag","Ameide en Meerkerk",null,19,"r","4231 as",15,"Meerkerk"]
["Nico","Woensdag","Ameide en Meerkerk",null,19,"r","4231 ae",48,"Meerkerk"]
["Nico","Woensdag","Ameide en Meerkerk",null,19,"r","4231 ad","?","Meerkerk"]
["Nico","Woensdag","Ameide en Meerkerk",null,19,"r","4231 ad","?","Meerkerk"]
["Nico","Woensdag","Ameide en Meerkerk",null,19,"r","4231 ag",7,"Meerkerk"]
["Nico","Woensdag","Ameide en Meerkerk",null,19,"r","4231 ag",16,"Meerkerk"]
["Nico","Woensdag","Ameide en Meerkerk",null,19,"r","4231 ak",2,"Meerkerk"]
["Nico","Woensdag","Ameide en Meerkerk",null,19,"r","4231 am",34,"Meerkerk"]
["Nico","Woensdag","Ameide en Meerkerk",null,19,"r","4231 ae",10,"Meerkerk"]
["Nico","Woensdag","Ameide en Meerkerk",null,19,"r","4231 ad",1,"Meerkerk"]
["Nico","Woensdag","Ameide en Meerkerk",null,19,"g","4233 gh","?","Ameide"]
["Nico","Woensdag","Ameide en Meerkerk",null,19,"g","4233 gc",8,"Ameide"]
["Nico","Woensdag","Ameide en Meerkerk",null,19,"g","4233 gh",12,"Ameide"]
["Nico","Woensdag","Ameide en Meerkerk",null,19,"g","4233 gh","?","Ameide"]
["Nico","Woensdag","Ameide en Meerkerk",null,19,"g","4233 gn",25,"Ameide"]
["Nico","Woensdag","Ameide en Meerkerk",null,19,"g","4233 gn",16,"Ameide"]
["Nico","Woensdag","Ameide en Meerkerk",null,19,"g","4233 bs",22,"Meerkerk"]
["Nico","Woensdag","Ameide en Meerkerk",null,19,"g","4233 at",15,"Meerkerk"]
["Nico","Woensdag","Ameide en Meerkerk",null,19,"g","4233 bt",15,"Meerkerk"]

{"sheet":"Rit 2024  Test in % overzicht","index":2,"n_rows":88,"n_cols":66,"rows_kept":88,"cut":false,"hidden":false,"merged":[]}
[{"$f":"D1+E1","v":3261},null,null,{"$f":"BM1","v":1069},{"$f":"BN1","v":2192},null,null,null,{"$f":"'Rit overzicht 2024 '!I1","v":138},{"$f":"'Rit overzicht 2024 '!J1","v":159},{"$f":"'Rit overzicht 2024 '!K1","v":168},{"$f":"'Rit overzicht 2024 '!L1","v":147},{"$f":"'Rit overzicht 2024 '!M1","v":343},{"$f":"'Rit overzicht 2024 '!N1","v":111},{"$f":"'Rit overzicht 2024 '!O1","v":0},{"$f":"'Rit overzicht 2024 '!P1","v":58},{"$f":"'Rit overzicht 2024 '!Q1","v":201},{"$f":"'Rit overzicht 2024 '!R1","v":104},{"$f":"'Rit overzicht 2024 '!S1","v":206},{"$f":"'Rit overzicht 2024 '!T1","v":168},{"$f":"'Rit overzicht 2024 '!U1","v":230},{"$f":"'Rit overzicht 2024 '!V1","v":107},{"$f":"'Rit overzicht 2024 '!W1","v":360},{"$f":"'Rit overzicht 2024 '!X1","v":102},{"$f":"'Rit overzicht 2024 '!Y1","v":246},{"$f":"'Rit overzicht 2024 '!Z1","v":135},{"$f":"'Rit overzicht 2024 '!AA1","v":278},{"$f":"'Rit overzicht 2024 '!AB1","v":0},{"$f":"'Rit overzicht 2024 '!AC1","v":0},{"$f":"'Rit overzicht 2024 '!AD1","v":0},{"$f":"'Rit overzicht 2024 '!AE1","v":0},{"$f":"'Rit overzicht 2024 '!AF1","v":0},{"$f":"'Rit overzicht 2024 '!AG1","v":0},{"$f":"'Rit overzicht 2024 '!AH1","v":0},{"$f":"'Rit overzicht 2024 '!AI1","v":0},{"$f":"'Rit overzicht 2024 '!AJ1","v":0},{"$f":"'Rit overzicht 2024 '!AK1","v":0},{"$f":"'Rit overzicht 2024 '!AL1","v":0},{"$f":"'Rit overzicht 2024 '!AM1","v":0},{"$f":"'Rit overzicht 2024 '!AN1","v":0},{"$f":"'Rit overzicht 2024 '!AO1","v":0},{"$f":"'Rit overzicht 2024 '!AP1","v":0},{"$f":"'Rit overzicht 2024 '!AQ1","v":0},{"$f":"'Rit overzicht 2024 '!AR1","v":0},{"$f":"'Rit overzicht 2024 '!AS1","v":0},{"$f":"'Rit overzicht 2024 '!AT1","v":0},{"$f":"'Rit overzicht 2024 '!AU1","v":0},{"$f":"'Rit overzicht 2024 '!AV1","v":0},{"$f":"'Rit overzicht 2024 '!AW1","v":0},{"$f":"'Rit overzicht 2024 '!AX1","v":0},{"$f":"'Rit overzicht 2024 '!AY1","v":0},{"$f":"'Rit overzicht 2024 '!AZ1","v":0},{"$f":"'Rit overzicht 2024 '!BA1","v":0},{"$f":"'Rit overzicht 2024 '!BB1","v":0},{"$f":"'Rit overzicht 2024 '!BC1","v":0},{"$f":"'Rit overzicht 2024 '!BD1","v":0},{"$f":"'Rit overzicht 2024 '!BE1","v":0},{"$f":"'Rit overzicht 2024 '!BF1","v":0},{"$f":"'Rit overzicht 2024 '!BG1","v":0},{"$f":"'Rit overzicht 2024 '!BH1","v":0},{"$f":"'Rit overzicht 2024 '!BI1","v":219},{"$f":"'Rit overzicht 2024 '!BJ1","v":872},{"$f":"'Rit overzicht 2024 '!BK1","v":850},{"$f":"'Rit overzicht 2024 '!BL1","v":1320},{"$f":"'Rit overzicht 2024 '!BM1","v":1069},{"$f":"'Rit overzicht 2024 '!BN1","v":2192}]
["Route","Kolom1","Dag","Route                                                          ","                                             Week","Rest","GFT","PMD",{"$f":"'Rit overzicht 2024 '!I2","v":"1"},{"$f":"'Rit overzicht 2024 '!J2","v":"2"},{"$f":"'Rit overzicht 2024 '!K2","v":"3"},{"$f":"'Rit overzicht 2024 '!L2","v":"4"},{"$f":"'Rit overzicht 2024 '!M2","v":"5"},{"$f":"'Rit overzicht 2024 '!N2","v":"6"},{"$f":"'Rit overzicht 2024 '!O2","v":"7"},{"$f":"'Rit overzicht 2024 '!P2","v":"8"},{"$f":"'Rit overzicht 2024 '!Q2","v":"9"},{"$f":"'Rit overzicht 2024 '!R2","v":"10"},{"$f":"'Rit overzicht 2024 '!S2","v":"11"},{"$f":"'Rit overzicht 2024 '!T2","v":"12"},{"$f":"'Rit overzicht 2024 '!U2","v":"13"},{"$f":"'Rit overzicht 2024 '!V2","v":"14"},{"$f":"'Rit overzicht 2024 '!W2","v":"15"},{"$f":"'Rit overzicht 2024 '!X2","v":"16"},{"$f":"'Rit overzicht 2024 '!Y2","v":"17"},{"$f":"'Rit overzicht 2024 '!Z2","v":"18"},{"$f":"'Rit overzicht 2024 '!AA2","v":"19"},{"$f":"'Rit overzicht 2024 '!AB2","v":"20"},{"$f":"'Rit overzicht 2024 '!AC2","v":"21"},{"$f":"'Rit overzicht 2024 '!AD2","v":"22"},{"$f":"'Rit overzicht 2024 '!AE2","v":"23"},{"$f":"'Rit overzicht 2024 '!AF2","v":"24"},{"$f":"'Rit overzicht 2024 '!AG2","v":"25"},{"$f":"'Rit overzicht 2024 '!AH2","v":"26"},{"$f":"'Rit overzicht 2024 '!AI2","v":"27"},{"$f":"'Rit overzicht 2024 '!AJ2","v":"28"},{"$f":"'Rit overzicht 2024 '!AK2","v":"29"},{"$f":"'Rit overzicht 2024 '!AL2","v":"30"},{"$f":"'Rit overzicht 2024 '!AM2","v":"31"},{"$f":"'Rit overzicht 2024 '!AN2","v":"32"},{"$f":"'Rit overzicht 2024 '!AO2","v":"33"},{"$f":"'Rit overzicht 2024 '!AP2","v":"34"},{"$f":"'Rit overzicht 2024 '!AQ2","v":"35"},{"$f":"'Rit overzicht 2024 '!AR2","v":"36"},{"$f":"'Rit overzicht 2024 '!AS2","v":"37"},{"$f":"'Rit overzicht 2024 '!AT2","v":"38"},{"$f":"'Rit overzicht 2024 '!AU2","v":"39"},{"$f":"'Rit overzicht 2024 '!AV2","v":"40"},{"$f":"'Rit overzicht 2024 '!AW2","v":"41"},{"$f":"'Rit overzicht 2024 '!AX2","v":"42"},{"$f":"'Rit overzicht 2024 '!AY2","v":"43"},{"$f":"'Rit overzicht 2024 '!AZ2","v":"44"},{"$f":"'Rit overzicht 2024 '!BA2","v":"45"},{"$f":"'Rit overzicht 2024 '!BB2","v":"46"},{"$f":"'Rit overzicht 2024 '!BC2","v":"47"},{"$f":"'Rit overzicht 2024 '!BD2","v":"48"},{"$f":"'Rit overzicht 2024 '!BE2","v":"49"},{"$f":"'Rit overzicht 2024 '!BF2","v":"50"},{"$f":"'Rit overzicht 2024 '!BG2","v":"51"},{"$f":"'Rit overzicht 2024 '!BH2","v":"52"},{"$f":"'Rit overzicht 2024 '!BI2","v":"RGFT"},{"$f":"'Rit overzicht 2024 '!BJ2","v":"GLGFT"},{"$f":"'Rit overzicht 2024 '!BK2","v":"RPMD"},{"$f":"'Rit overzicht 2024 '!BL2","v":"GPMD"},{"$f":"'Rit overzicht 2024 '!BM2","v":"Totaal Rood"},{"$f":"'Rit overzicht 2024 '!BN2","v":"Totaal Geel"}]
["1.1",null,"Maandag","Kedichem  - Leerdam Varseveld - Leerdam Oost ","1e Zwaanseweg 26",6,4,4,{"$f":"'Rit overzicht 2024 '!I3","v":0},{"$f":"'Rit overzicht 2024 '!J3","v":0},{"$f":"'Rit overzicht 2024 '!K3","v":0},{"$f":"'Rit overzicht 2024 '!L3","v":0},{"$f":"'Rit overzicht 2024 '!M3","v":0},{"$f":"'Rit overzicht 2024 '!N3","v":0},{"$f":"'Rit overzicht 2024 '!O3","v":0},{"$f":"'Rit overzicht 2024 '!P3","v":0},{"$f":"'Rit overzicht 2024 '!Q3","v":0},{"$f":"'Rit overzicht 2024 '!R3","v":0},{"$f":"'Rit overzicht 2024 '!S3","v":0},{"$f":"'Rit overzicht 2024 '!T3","v":0},{"$f":"'Rit overzicht 2024 '!U3","v":0},{"$f":"'Rit overzicht 2024 '!V3","v":0},{"$f":"'Rit overzicht 2024 '!W3/W5","v":0.21333333333333335},{"$f":"'Rit overzicht 2024 '!X3","v":0},{"$f":"'Rit overzicht 2024 '!Y3","v":0},{"$f":"'Rit overzicht 2024 '!Z3","v":0},{"$f":"'Rit overzicht 2024 '!AA3","v":0},{"$f":"'Rit overzicht 2024 '!AB3","v":0},{"$f":"'Rit overzicht 2024 '!AC3","v":0},{"$f":"'Rit overzicht 2024 '!AD3","v":0},{"$f":"'Rit overzicht 2024 '!AE3","v":0},{"$f":"'Rit overzicht 2024 '!AF3","v":0},{"$f":"'Rit overzicht 2024 '!AG3","v":0},{"$f":"'Rit overzicht 2024 '!AH3","v":0},{"$f":"'Rit overzicht 2024 '!AI3","v":0},{"$f":"'Rit overzicht 2024 '!AJ3","v":0},{"$f":"'Rit overzicht 2024 '!AK3","v":0},{"$f":"'Rit overzicht 2024 '!AL3","v":0},{"$f":"'Rit overzicht 2024 '!AM3","v":0},{"$f":"'Rit overzicht 2024 '!AN3","v":0},{"$f":"'Rit overzicht 2024 '!AO3","v":0},{"$f":"'Rit overzicht 2024 '!AP3","v":0},{"$f":"'Rit overzicht 2024 '!AQ3","v":0},{"$f":"'Rit overzicht 2024 '!AR3","v":0},{"$f":"'Rit overzicht 2024 '!AS3","v":0},{"$f":"'Rit overzicht 2024 '!AT3","v":0},{"$f":"'Rit overzicht 2024 '!AU3","v":0},{"$f":"'Rit overzicht 2024 '!AV3","v":0},{"$f":"'Rit overzicht 2024 '!AW3","v":0},{"$f":"'Rit overzicht 2024 '!AX3","v":0},{"$f":"'Rit overzicht 2024 '!AY3","v":0},{"$f":"'Rit overzicht 2024 '!AZ3","v":0},{"$f":"'Rit overzicht 2024 '!BA3","v":0},{"$f":"'Rit overzicht 2024 '!BB3","v":0},{"$f":"'Rit overzicht 2024 '!BC3","v":0},{"$f":"'Rit overzicht 2024 '!BD3","v":0},{"$f":"'Rit overzicht 2024 '!BE3","v":0},{"$f":"'Rit overzicht 2024 '!BF3","v":0},{"$f":"'Rit overzicht 2024 '!BG3","v":0},{"$f":"'Rit overzicht 2024 '!BH3","v":0},{"$f":"'Rit overzicht 2024 '!BI3","v":0},{"$f":"'Rit overzicht 2024 '!BJ3","v":0},{"$f":"'Rit overzicht 2024 '!BK3","v":16},{"$f":"'Rit overzicht 2024 '!BL3","v":0},{"$f":"'Rit overzicht 2024 '!BM3","v":16},{"$f":"'Rit overzicht 2024 '!BN3","v":42}]
["1.1",null,"Maandag","Kedichem  - Leerdam Varseveld - Leerdam Oost ",null,6,4,4,{"$f":"'Rit overzicht 2024 '!I4","v":0},{"$f":"'Rit overzicht 2024 '!J4","v":0},{"$f":"'Rit overzicht 2024 '!K4","v":0},{"$f":"'Rit overzicht 2024 '!L4","v":0},{"$f":"'Rit overzicht 2024 '!M4","v":0},{"$f":"'Rit overzicht 2024 '!N4","v":0},{"$f":"'Rit overzicht 2024 '!O4","v":0},{"$f":"'Rit overzicht 2024 '!P4","v":0},{"$f":"'Rit overzicht 2024 '!Q4","v":0},{"$f":"'Rit overzicht 2024 '!R4","v":0},{"$f":"'Rit overzicht 2024 '!S4","v":22},{"$f":"'Rit overzicht 2024 '!T4","v":0},{"$f":"'Rit overzicht 2024 '!U4","v":0},{"$f":"'Rit overzicht 2024 '!V4","v":0},{"$f":"'Rit overzicht 2024 '!W4/W5","v":0.26666666666666666},{"$f":"'Rit overzicht 2024 '!X4","v":0},{"$f":"'Rit overzicht 2024 '!Y4","v":0},{"$f":"'Rit overzicht 2024 '!Z4","v":0},{"$f":"'Rit overzicht 2024 '!AA4","v":0},{"$f":"'Rit overzicht 2024 '!AB4","v":0},{"$f":"'Rit overzicht 2024 '!AC4","v":0},{"$f":"'Rit overzicht 2024 '!AD4","v":0},{"$f":"'Rit overzicht 2024 '!AE4","v":0},{"$f":"'Rit overzicht 2024 '!AF4","v":0},{"$f":"'Rit overzicht 2024 '!AG4","v":0},{"$f":"'Rit overzicht 2024 '!AH4","v":0},{"$f":"'Rit overzicht 2024 '!AI4","v":0},{"$f":"'Rit overzicht 2024 '!AJ4","v":0},{"$f":"'Rit overzicht 2024 '!AK4","v":0},{"$f":"'Rit overzicht 2024 '!AL4","v":0},{"$f":"'Rit overzicht 2024 '!AM4","v":0},{"$f":"'Rit overzicht 2024 '!AN4","v":0},{"$f":"'Rit overzicht 2024 '!AO4","v":0},{"$f":"'Rit overzicht 2024 '!AP4","v":0},{"$f":"'Rit overzicht 2024 '!AQ4","v":0},{"$f":"'Rit overzicht 2024 '!AR4","v":0},{"$f":"'Rit overzicht 2024 '!AS4","v":0},{"$f":"'Rit overzicht 2024 '!AT4","v":0},{"$f":"'Rit overzicht 2024 '!AU4","v":0},{"$f":"'Rit overzicht 2024 '!AV4","v":0},{"$f":"'Rit overzicht 2024 '!AW4","v":0},{"$f":"'Rit overzicht 2024 '!AX4","v":0},{"$f":"'Rit overzicht 2024 '!AY4","v":0},{"$f":"'Rit overzicht 2024 '!AZ4","v":0},{"$f":"'Rit overzicht 2024 '!BA4","v":0},{"$f":"'Rit overzicht 2024 '!BB4","v":0},{"$f":"'Rit overzicht 2024 '!BC4","v":0},{"$f":"'Rit overzicht 2024 '!BD4","v":0},{"$f":"'Rit overzicht 2024 '!BE4","v":0},{"$f":"'Rit overzicht 2024 '!BF4","v":0},{"$f":"'Rit overzicht 2024 '!BG4","v":0},{"$f":"'Rit overzicht 2024 '!BH4","v":0},{"$f":"'Rit overzicht 2024 '!BI4","v":0},{"$f":"'Rit overzicht 2024 '!BJ4","v":0},{"$f":"'Rit overzicht 2024 '!BK4","v":0},{"$f":"'Rit overzicht 2024 '!BL4","v":42},{"$f":"'Rit overzicht 2024 '!BM4","v":0},{"$f":"'Rit overzicht 2024 '!BN4","v":0}]
[null,null,null,null,"Aantal Gecontroleerd",null,null,null,null,null,null,null,null,null,null,null,null,null,null,null,null,null,75]
["2.1",null,"Maandag","Vianen Koningsbuurt",null,null,null,null,{"$f":"'Rit overzicht 2024 '!I5","v":0},{"$f":"'Rit overzicht 2024 '!J5","v":0},{"$f":"'Rit overzicht 2024 '!K5","v":0},{"$f":"'Rit overzicht 2024 '!L5","v":0},{"$f":"'Rit overzicht 2024 '!M5","v":7},{"$f":"'Rit overzicht 2024 '!N5","v":0},{"$f":"'Rit overzicht 2024 '!O5","v":0},{"$f":"'Rit overzicht 2024 '!P5","v":0},{"$f":"'Rit overzicht 2024 '!Q5","v":2},{"$f":"'Rit overzicht 2024 '!R5","v":0},{"$f":"'Rit overzicht 2024 '!S5","v":0},{"$f":"'Rit overzicht 2024 '!T5","v":0},{"$f":"'Rit overzicht 2024 '!U5","v":10},{"$f":"'Rit overzicht 2024 '!V5","v":0},{"$f":"'Rit overzicht 2024 '!W5","v":0},{"$f":"'Rit overzicht 2024 '!X5","v":11},{"$f":"'Rit overzicht 2024 '!Y5","v":14},{"$f":"'Rit overzicht 2024 '!Z5","v":0},{"$f":"'Rit overzicht 2024 '!AA5","v":0},{"$f":"'Rit overzicht 2024 '!AB5","v":0},{"$f":"'Rit overzicht 2024 '!AC5","v":0},{"$f":"'Rit overzicht 2024 '!AD5","v":0},{"$f":"'Rit overzicht 2024 '!AE5","v":0},{"$f":"'Rit overzicht 2024 '!AF5","v":0},{"$f":"'Rit overzicht 2024 '!AG5","v":0},{"$f":"'Rit overzicht 2024 '!AH5","v":0},{"$f":"'Rit overzicht 2024 '!AI5","v":0},{"$f":"'Rit overzicht 2024 '!AJ5","v":0},{"$f":"'Rit overzicht 2024 '!AK5","v":0},{"$f":"'Rit overzicht 2024 '!AL5","v":0},{"$f":"'Rit overzicht 2024 '!AM5","v":0},{"$f":"'Rit overzicht 2024 '!AN5","v":0},{"$f":"'Rit overzicht 2024 '!AO5","v":0},{"$f":"'Rit overzicht 2024 '!AP5","v":0},{"$f":"'Rit overzicht 2024 '!AQ5","v":0},{"$f":"'Rit overzicht 2024 '!AR5","v":0},{"$f":"'Rit overzicht 2024 '!AS5","v":0},{"$f":"'Rit overzicht 2024 '!AT5","v":0},{"$f":"'Rit overzicht 2024 '!AU5","v":0},{"$f":"'Rit overzicht 2024 '!AV5","v":0},{"$f":"'Rit overzicht 2024 '!AW5","v":0},{"$f":"'Rit overzicht 2024 '!AX5","v":0},{"$f":"'Rit overzicht 2024 '!AY5","v":0},{"$f":"'Rit overzicht 2024 '!AZ5","v":0},{"$f":"'Rit overzicht 2024 '!BA5","v":0},{"$f":"'Rit overzicht 2024 '!BB5","v":0},{"$f":"'Rit overzicht 2024 '!BC5","v":0},{"$f":"'Rit overzicht 2024 '!BD5","v":0},{"$f":"'Rit overzicht 2024 '!BE5","v":0},{"$f":"'Rit overzicht 2024 '!BF5","v":0},{"$f":"'Rit overzicht 2024 '!BG5","v":0},{"$f":"'Rit overzicht 2024 '!BH5","v":0},{"$f":"'Rit overzicht 2024 '!BI5","v":11},{"$f":"'Rit overzicht 2024 '!BJ5","v":0},{"$f":"'Rit overzicht 2024 '!BK5","v":33},{"$f":"'Rit overzicht 2024 '!BL5","v":0},{"$f":"'Rit overzicht 2024 '!BM5","v":44},{"$f":"'Rit overzicht 2024 '!BN5","v":110}]
["2.1",null,"Maandag","Vianen Koningsbuurt","Mauritsstraat 67",null,null,null,{"$f":"'Rit overzicht 2024 '!I6","v":0},{"$f":"'Rit overzicht 2024 '!J6","v":0},{"$f":"'Rit overzicht 2024 '!K6","v":0},{"$f":"'Rit overzicht 2024 '!L6","v":0},{"$f":"'Rit overzicht 2024 '!M6","v":34},{"$f":"'Rit overzicht 2024 '!N6","v":0},{"$f":"'Rit overzicht 2024 '!O6","v":0},{"$f":"'Rit overzicht 2024 '!P6","v":11},{"$f":"'Rit overzicht 2024 '!Q6","v":3},{"$f":"'Rit overzicht 2024 '!R6","v":0},{"$f":"'Rit overzicht 2024 '!S6","v":0},{"$f":"'Rit overzicht 2024 '!T6","v":13},{"$f":"'Rit overzicht 2024 '!U6","v":17},{"$f":"'Rit overzicht 2024 '!V6","v":0},{"$f":"'Rit overzicht 2024 '!W6","v":0},{"$f":"'Rit overzicht 2024 '!X6","v":15},{"$f":"'Rit overzicht 2024 '!Y6","v":17},{"$f":"'Rit overzicht 2024 '!Z6","v":0},{"$f":"'Rit overzicht 2024 '!AA6","v":0},{"$f":"'Rit overzicht 2024 '!AB6","v":0},{"$f":"'Rit overzicht 2024 '!AC6","v":0},{"$f":"'Rit overzicht 2024 '!AD6","v":0},{"$f":"'Rit overzicht 2024 '!AE6","v":0},{"$f":"'Rit overzicht 2024 '!AF6","v":0},{"$f":"'Rit overzicht 2024 '!AG6","v":0},{"$f":"'Rit overzicht 2024 '!AH6","v":0},{"$f":"'Rit overzicht 2024 '!AI6","v":0},{"$f":"'Rit overzicht 2024 '!AJ6","v":0},{"$f":"'Rit overzicht 2024 '!AK6","v":0},{"$f":"'Rit overzicht 2024 '!AL6","v":0},{"$f":"'Rit overzicht 2024 '!AM6","v":0},{"$f":"'Rit overzicht 2024 '!AN6","v":0},{"$f":"'Rit overzicht 2024 '!AO6","v":0},{"$f":"'Rit overzicht 2024 '!AP6","v":0},{"$f":"'Rit overzicht 2024 '!AQ6","v":0},{"$f":"'Rit overzicht 2024 '!AR6","v":0},{"$f":"'Rit overzicht 2024 '!AS6","v":0},{"$f":"'Rit overzicht 2024 '!AT6","v":0},{"$f":"'Rit overzicht 2024 '!AU6","v":0},{"$f":"'Rit overzicht 2024 '!AV6","v":0},{"$f":"'Rit overzicht 2024 '!AW6","v":0},{"$f":"'Rit overzicht 2024 '!AX6","v":0},{"$f":"'Rit overzicht 2024 '!AY6","v":0},{"$f":"'Rit overzicht 2024 '!AZ6","v":0},{"$f":"'Rit overzicht 2024 '!BA6","v":0},{"$f":"'Rit overzicht 2024 '!BB6","v":0},{"$f":"'Rit overzicht 2024 '!BC6","v":0},{"$f":"'Rit overzicht 2024 '!BD6","v":0},{"$f":"'Rit overzicht 2024 '!BE6","v":0},{"$f":"'Rit overzicht 2024 '!BF6","v":0},{"$f":"'Rit overzicht 2024 '!BG6","v":0},{"$f":"'Rit overzicht 2024 '!BH6","v":0},{"$f":"'Rit overzicht 2024 '!BI6","v":0},{"$f":"'Rit overzicht 2024 '!BJ6","v":39},{"$f":"'Rit overzicht 2024 '!BK6","v":0},{"$f":"'Rit overzicht 2024 '!BL6","v":71},{"$f":"'Rit overzicht 2024 '!BM6","v":0},{"$f":"'Rit overzicht 2024 '!BN6","v":0}]
["2.2",null,"Maandag","Leerdam Ter Leede binnen",null,null,9,null,{"$f":"'Rit overzicht 2024 '!I7","v":0},{"$f":"'Rit overzicht 2024 '!J7","v":8},{"$f":"'Rit overzicht 2024 '!K7","v":0},{"$f":"'Rit overzicht 2024 '!L7","v":0},{"$f":"'Rit overzicht 2024 '!M7","v":5},{"$f":"'Rit overzicht 2024 '!N7","v":0},{"$f":"'Rit overzicht 2024 '!O7","v":0},{"$f":"'Rit overzicht 2024 '!P7","v":0},{"$f":"'Rit overzicht 2024 '!Q7","v":7},{"$f":"'Rit overzicht 2024 '!R7","v":0},{"$f":"'Rit overzicht 2024 '!S7","v":0},{"$f":"'Rit overzicht 2024 '!T7","v":1},{"$f":"'Rit overzicht 2024 '!U7","v":2},{"$f":"'Rit overzicht 2024 '!V7","v":0},{"$f":"'Rit overzicht 2024 '!W7","v":0},{"$f":"'Rit overzicht 2024 '!X7","v":2},{"$f":"'Rit overzicht 2024 '!Y7","v":2},{"$f":"'Rit overzicht 2024 '!Z7","v":0},{"$f":"'Rit overzicht 2024 '!AA7","v":0},{"$f":"'Rit overzicht 2024 '!AB7","v":0},{"$f":"'Rit overzicht 2024 '!AC7","v":0},{"$f":"'Rit overzicht 2024 '!AD7","v":0},{"$f":"'Rit overzicht 2024 '!AE7","v":0},{"$f":"'Rit overzicht 2024 '!AF7","v":0},{"$f":"'Rit overzicht 2024 '!AG7","v":0},{"$f":"'Rit overzicht 2024 '!AH7","v":0},{"$f":"'Rit overzicht 2024 '!AI7","v":0},{"$f":"'Rit overzicht 2024 '!AJ7","v":0},{"$f":"'Rit overzicht 2024 '!AK7","v":0},{"$f":"'Rit overzicht 2024 '!AL7","v":0},{"$f":"'Rit overzicht 2024 '!AM7","v":0},{"$f":"'Rit overzicht 2024 '!AN7","v":0},{"$f":"'Rit overzicht 2024 '!AO7","v":0},{"$f":"'Rit overzicht 2024 '!AP7","v":0},{"$f":"'Rit overzicht 2024 '!AQ7","v":0},{"$f":"'Rit overzicht 2024 '!AR7","v":0},{"$f":"'Rit overzicht 2024 '!AS7","v":0},{"$f":"'Rit overzicht 2024 '!AT7","v":0},{"$f":"'Rit overzicht 2024 '!AU7","v":0},{"$f":"'Rit overzicht 2024 '!AV7","v":0},{"$f":"'Rit overzicht 2024 '!AW7","v":0},{"$f":"'Rit overzicht 2024 '!AX7","v":0},{"$f":"'Rit overzicht 2024 '!AY7","v":0},{"$f":"'Rit overzicht 2024 '!AZ7","v":0},{"$f":"'Rit overzicht 2024 '!BA7","v":0},{"$f":"'Rit overzicht 2024 '!BB7","v":0},{"$f":"'Rit overzicht 2024 '!BC7","v":0},{"$f":"'Rit overzicht 2024 '!BD7","v":0},{"$f":"'Rit overzicht 2024 '!BE7","v":0},{"$f":"'Rit overzicht 2024 '!BF7","v":0},{"$f":"'Rit overzicht 2024 '!BG7","v":0},{"$f":"'Rit overzicht 2024 '!BH7","v":0},{"$f":"'Rit overzicht 2024 '!BI7","v":11},{"$f":"'Rit overzicht 2024 '!BJ7","v":0},{"$f":"'Rit overzicht 2024 '!BK7","v":16},{"$f":"'Rit overzicht 2024 '!BL7","v":0},{"$f":"'Rit overzicht 2024 '!BM7","v":27},{"$f":"'Rit overzicht 2024 '!BN7","v":33}]
["2.2",null,"Maandag","Leerdam Ter Leede binnen","Glasblazerstraat 25",null,9,null,{"$f":"'Rit overzicht 2024 '!I8","v":0},{"$f":"'Rit overzicht 2024 '!J8","v":4},{"$f":"'Rit overzicht 2024 '!K8","v":0},{"$f":"'Rit overzicht 2024 '!L8","v":0},{"$f":"'Rit overzicht 2024 '!M8","v":8},{"$f":"'Rit overzicht 2024 '!N8","v":0},{"$f":"'Rit overzicht 2024 '!O8","v":0},{"$f":"'Rit overzicht 2024 '!P8","v":0},{"$f":"'Rit overzicht 2024 '!Q8","v":11},{"$f":"'Rit overzicht 2024 '!R8","v":0},{"$f":"'Rit overzicht 2024 '!S8","v":0},{"$f":"'Rit overzicht 2024 '!T8","v":4},{"$f":"'Rit overzicht 2024 '!U8","v":4},{"$f":"'Rit overzicht 2024 '!V8","v":0},{"$f":"'Rit overzicht 2024 '!W8","v":0},{"$f":"'Rit overzicht 2024 '!X8","v":2},{"$f":"'Rit overzicht 2024 '!Y8","v":0},{"$f":"'Rit overzicht 2024 '!Z8","v":0},{"$f":"'Rit overzicht 2024 '!AA8","v":0},{"$f":"'Rit overzicht 2024 '!AB8","v":0},{"$f":"'Rit overzicht 2024 '!AC8","v":0},{"$f":"'Rit overzicht 2024 '!AD8","v":0},{"$f":"'Rit overzicht 2024 '!AE8","v":0},{"$f":"'Rit overzicht 2024 '!AF8","v":0},{"$f":"'Rit overzicht 2024 '!AG8","v":0},{"$f":"'Rit overzicht 2024 '!AH8","v":0},{"$f":"'Rit overzicht 2024 '!AI8","v":0},{"$f":"'Rit overzicht 2024 '!AJ8","v":0},{"$f":"'Rit overzicht 2024 '!AK8","v":0},{"$f":"'Rit overzicht 2024 '!AL8","v":0},{"$f":"'Rit overzicht 2024 '!AM8","v":0},{"$f":"'Rit overzicht 2024 '!AN8","v":0},{"$f":"'Rit overzicht 2024 '!AO8","v":0},{"$f":"'Rit overzicht 2024 '!AP8","v":0},{"$f":"'Rit overzicht 2024 '!AQ8","v":0},{"$f":"'Rit overzicht 2024 '!AR8","v":0},{"$f":"'Rit overzicht 2024 '!AS8","v":0},{"$f":"'Rit overzicht 2024 '!AT8","v":0},{"$f":"'Rit overzicht 2024 '!AU8","v":0},{"$f":"'Rit overzicht 2024 '!AV8","v":0},{"$f":"'Rit overzicht 2024 '!AW8","v":0},{"$f":"'Rit overzicht 2024 '!AX8","v":0},{"$f":"'Rit overzicht 2024 '!AY8","v":0},{"$f":"'Rit overzicht 2024 '!AZ8","v":0},{"$f":"'Rit overzicht 2024 '!BA8","v":0},{"$f":"'Rit overzicht 2024 '!BB8","v":0},{"$f":"'Rit overzicht 2024 '!BC8","v":0},{"$f":"'Rit overzicht 2024 '!BD8","v":0},{"$f":"'Rit overzicht 2024 '!BE8","v":0},{"$f":"'Rit overzicht 2024 '!BF8","v":0},{"$f":"'Rit overzicht 2024 '!BG8","v":0},{"$f":"'Rit overzicht 2024 '!BH8","v":0},{"$f":"'Rit overzicht 2024 '!BI8","v":0},{"$f":"'Rit overzicht 2024 '!BJ8","v":10},{"$f":"'Rit overzicht 2024 '!BK8","v":0},{"$f":"'Rit overzicht 2024 '!BL8","v":23},{"$f":"'Rit overzicht 2024 '!BM8","v":0},{"$f":"'Rit overzicht 2024 '!BN8","v":0}]
["3.1",null,"Maandag","Lexmond, Hei en Boeicop binnen",null,4,3,3,{"$f":"'Rit overzicht 2024 '!I9","v":0},{"$f":"'Rit overzicht 2024 '!J9","v":0},{"$f":"'Rit overzicht 2024 '!K9","v":5},{"$f":"'Rit overzicht 2024 '!L9","v":0},{"$f":"'Rit overzicht 2024 '!M9","v":6},{"$f":"'Rit overzicht 2024 '!N9","v":0},{"$f":"'Rit overzicht 2024 '!O9","v":0},{"$f":"'Rit overzicht 2024 '!P9","v":0},{"$f":"'Rit overzicht 2024 '!Q9","v":0},{"$f":"'Rit overzicht 2024 '!R9","v":0},{"$f":"'Rit overzicht 2024 '!S9","v":0},{"$f":"'Rit overzicht 2024 '!T9","v":0},{"$f":"'Rit overzicht 2024 '!U9","v":0},{"$f":"'Rit overzicht 2024 '!V9","v":0},{"$f":"'Rit overzicht 2024 '!W9","v":8},{"$f":"'Rit overzicht 2024 '!X9","v":0},{"$f":"'Rit overzicht 2024 '!Y9","v":0},{"$f":"'Rit overzicht 2024 '!Z9","v":10},{"$f":"'Rit overzicht 2024 '!AA9","v":14},{"$f":"'Rit overzicht 2024 '!AB9","v":0},{"$f":"'Rit overzicht 2024 '!AC9","v":0},{"$f":"'Rit overzicht 2024 '!AD9","v":0},{"$f":"'Rit overzicht 2024 '!AE9","v":0},{"$f":"'Rit overzicht 2024 '!AF9","v":0},{"$f":"'Rit overzicht 2024 '!AG9","v":0},{"$f":"'Rit overzicht 2024 '!AH9","v":0},{"$f":"'Rit overzicht 2024 '!AI9","v":0},{"$f":"'Rit overzicht 2024 '!AJ9","v":0},{"$f":"'Rit overzicht 2024 '!AK9","v":0},{"$f":"'Rit overzicht 2024 '!AL9","v":0},{"$f":"'Rit overzicht 2024 '!AM9","v":0},{"$f":"'Rit overzicht 2024 '!AN9","v":0},{"$f":"'Rit overzicht 2024 '!AO9","v":0},{"$f":"'Rit overzicht 2024 '!AP9","v":0},{"$f":"'Rit overzicht 2024 '!AQ9","v":0},{"$f":"'Rit overzicht 2024 '!AR9","v":0},{"$f":"'Rit overzicht 2024 '!AS9","v":0},{"$f":"'Rit overzicht 2024 '!AT9","v":0},{"$f":"'Rit overzicht 2024 '!AU9","v":0},{"$f":"'Rit overzicht 2024 '!AV9","v":0},{"$f":"'Rit overzicht 2024 '!AW9","v":0},{"$f":"'Rit overzicht 2024 '!AX9","v":0},{"$f":"'Rit overzicht 2024 '!AY9","v":0},{"$f":"'Rit overzicht 2024 '!AZ9","v":0},{"$f":"'Rit overzicht 2024 '!BA9","v":0},{"$f":"'Rit overzicht 2024 '!BB9","v":0},{"$f":"'Rit overzicht 2024 '!BC9","v":0},{"$f":"'Rit overzicht 2024 '!BD9","v":0},{"$f":"'Rit overzicht 2024 '!BE9","v":0},{"$f":"'Rit overzicht 2024 '!BF9","v":0},{"$f":"'Rit overzicht 2024 '!BG9","v":0},{"$f":"'Rit overzicht 2024 '!BH9","v":0},{"$f":"'Rit overzicht 2024 '!BI9","v":10},{"$f":"'Rit overzicht 2024 '!BJ9","v":0},{"$f":"'Rit overzicht 2024 '!BK9","v":33},{"$f":"'Rit overzicht 2024 '!BL9","v":0},{"$f":"'Rit overzicht 2024 '!BM9","v":43},{"$f":"'Rit overzicht 2024 '!BN9","v":111}]
["3.1",null,"Maandag","Lexmond, Hei en Boeicop binnen",null,4,3,3,{"$f":"'Rit overzicht 2024 '!I10","v":0},{"$f":"'Rit overzicht 2024 '!J10","v":32},{"$f":"'Rit overzicht 2024 '!K10","v":12},{"$f":"'Rit overzicht 2024 '!L10","v":14},{"$f":"'Rit overzicht 2024 '!M10","v":14},{"$f":"'Rit overzicht 2024 '!N10","v":11},{"$f":"'Rit overzicht 2024 '!O10","v":0},{"$f":"'Rit overzicht 2024 '!P10","v":0},{"$f":"'Rit overzicht 2024 '!Q10","v":0},{"$f":"'Rit overzicht 2024 '!R10","v":0},{"$f":"'Rit overzicht 2024 '!S10","v":0},{"$f":"'Rit overzicht 2024 '!T10","v":0},{"$f":"'Rit overzicht 2024 '!U10","v":0},{"$f":"'Rit overzicht 2024 '!V10","v":0},{"$f":"'Rit overzicht 2024 '!W10","v":18},{"$f":"'Rit overzicht 2024 '!X10","v":0},{"$f":"'Rit overzicht 2024 '!Y10","v":0},{"$f":"'Rit overzicht 2024 '!Z10","v":6},{"$f":"'Rit overzicht 2024 '!AA10","v":4},{"$f":"'Rit overzicht 2024 '!AB10","v":0},{"$f":"'Rit overzicht 2024 '!AC10","v":0},{"$f":"'Rit overzicht 2024 '!AD10","v":0},{"$f":"'Rit overzicht 2024 '!AE10","v":0},{"$f":"'Rit overzicht 2024 '!AF10","v":0},{"$f":"'Rit overzicht 2024 '!AG10","v":0},{"$f":"'Rit overzicht 2024 '!AH10","v":0},{"$f":"'Rit overzicht 2024 '!AI10","v":0},{"$f":"'Rit overzicht 2024 '!AJ10","v":0},{"$f":"'Rit overzicht 2024 '!AK10","v":0},{"$f":"'Rit overzicht 2024 '!AL10","v":0},{"$f":"'Rit overzicht 2024 '!AM10","v":0},{"$f":"'Rit overzicht 2024 '!AN10","v":0},{"$f":"'Rit overzicht 2024 '!AO10","v":0},{"$f":"'Rit overzicht 2024 '!AP10","v":0},{"$f":"'Rit overzicht 2024 '!AQ10","v":0},{"$f":"'Rit overzicht 2024 '!AR10","v":0},{"$f":"'Rit overzicht 2024 '!AS10","v":0},{"$f":"'Rit overzicht 2024 '!AT10","v":0},{"$f":"'Rit overzicht 2024 '!AU10","v":0},{"$f":"'Rit overzicht 2024 '!AV10","v":0},{"$f":"'Rit overzicht 2024 '!AW10","v":0},{"$f":"'Rit overzicht 2024 '!AX10","v":0},{"$f":"'Rit overzicht 2024 '!AY10","v":0},{"$f":"'Rit overzicht 2024 '!AZ10","v":0},{"$f":"'Rit overzicht 2024 '!BA10","v":0},{"$f":"'Rit overzicht 2024 '!BB10","v":0},{"$f":"'Rit overzicht 2024 '!BC10","v":0},{"$f":"'Rit overzicht 2024 '!BD10","v":0},{"$f":"'Rit overzicht 2024 '!BE10","v":0},{"$f":"'Rit overzicht 2024 '!BF10","v":0},{"$f":"'Rit overzicht 2024 '!BG10","v":0},{"$f":"'Rit overzicht 2024 '!BH10","v":0},{"$f":"'Rit overzicht 2024 '!BI10","v":0},{"$f":"'Rit overzicht 2024 '!BJ10","v":63},{"$f":"'Rit overzicht 2024 '!BK10","v":0},{"$f":"'Rit overzicht 2024 '!BL10","v":48},{"$f":"'Rit overzicht 2024 '!BM10","v":0},{"$f":"'Rit overzicht 2024 '!BN10","v":0}]
["3.2",null,"Maandag","Schoonrewoerd binnen",null,5,7,7,{"$f":"'Rit overzicht 2024 '!I11","v":0},{"$f":"'Rit overzicht 2024 '!J11","v":0},{"$f":"'Rit overzicht 2024 '!K11","v":0},{"$f":"'Rit overzicht 2024 '!L11","v":2},{"$f":"'Rit overzicht 2024 '!M11","v":0},{"$f":"'Rit overzicht 2024 '!N11","v":0},{"$f":"'Rit overzicht 2024 '!O11","v":0},{"$f":"'Rit overzicht 2024 '!P11","v":0},{"$f":"'Rit overzicht 2024 '!Q11","v":0},{"$f":"'Rit overzicht 2024 '!R11","v":0},{"$f":"'Rit overzicht 2024 '!S11","v":0},{"$f":"'Rit overzicht 2024 '!T11","v":0},{"$f":"'Rit overzicht 2024 '!U11","v":0},{"$f":"'Rit overzicht 2024 '!V11","v":0},{"$f":"'Rit overzicht 2024 '!W11","v":0},{"$f":"'Rit overzicht 2024 '!X11","v":0},{"$f":"'Rit overzicht 2024 '!Y11","v":0},{"$f":"'Rit overzicht 2024 '!Z11","v":4},{"$f":"'Rit overzicht 2024 '!AA11","v":11},{"$f":"'Rit overzicht 2024 '!AB11","v":0},{"$f":"'Rit overzicht 2024 '!AC11","v":0},{"$f":"'Rit overzicht 2024 '!AD11","v":0},{"$f":"'Rit overzicht 2024 '!AE11","v":0},{"$f":"'Rit overzicht 2024 '!AF11","v":0},{"$f":"'Rit overzicht 2024 '!AG11","v":0},{"$f":"'Rit overzicht 2024 '!AH11","v":0},{"$f":"'Rit overzicht 2024 '!AI11","v":0},{"$f":"'Rit overzicht 2024 '!AJ11","v":0},{"$f":"'Rit overzicht 2024 '!AK11","v":0},{"$f":"'Rit overzicht 2024 '!AL11","v":0},{"$f":"'Rit overzicht 2024 '!AM11","v":0},{"$f":"'Rit overzicht 2024 '!AN11","v":0},{"$f":"'Rit overzicht 2024 '!AO11","v":0},{"$f":"'Rit overzicht 2024 '!AP11","v":0},{"$f":"'Rit overzicht 2024 '!AQ11","v":0},{"$f":"'Rit overzicht 2024 '!AR11","v":0},{"$f":"'Rit overzicht 2024 '!AS11","v":0},{"$f":"'Rit overzicht 2024 '!AT11","v":0},{"$f":"'Rit overzicht 2024 '!AU11","v":0},{"$f":"'Rit overzicht 2024 '!AV11","v":0},{"$f":"'Rit overzicht 2024 '!AW11","v":0},{"$f":"'Rit overzicht 2024 '!AX11","v":0},{"$f":"'Rit overzicht 2024 '!AY11","v":0},{"$f":"'Rit overzicht 2024 '!AZ11","v":0},{"$f":"'Rit overzicht 2024 '!BA11","v":0},{"$f":"'Rit overzicht 2024 '!BB11","v":0},{"$f":"'Rit overzicht 2024 '!BC11","v":0},{"$f":"'Rit overzicht 2024 '!BD11","v":0},{"$f":"'Rit overzicht 2024 '!BE11","v":0},{"$f":"'Rit overzicht 2024 '!BF11","v":0},{"$f":"'Rit overzicht 2024 '!BG11","v":0},{"$f":"'Rit overzicht 2024 '!BH11","v":0},{"$f":"'Rit overzicht 2024 '!BI11","v":6},{"$f":"'Rit overzicht 2024 '!BJ11","v":0},{"$f":"'Rit overzicht 2024 '!BK11","v":11},{"$f":"'Rit overzicht 2024 '!BL11","v":0},{"$f":"'Rit overzicht 2024 '!BM11","v":17},{"$f":"'Rit overzicht 2024 '!BN11","v":22}]
["3.2",null,"Maandag","Schoonrewoerd binnen",null,5,7,7,{"$f":"'Rit overzicht 2024 '!I12","v":0},{"$f":"'Rit overzicht 2024 '!J12","v":0},{"$f":"'Rit overzicht 2024 '!K12","v":0},{"$f":"'Rit overzicht 2024 '!L12","v":7},{"$f":"'Rit overzicht 2024 '!M12","v":0},{"$f":"'Rit overzicht 2024 '!N12","v":0},{"$f":"'Rit overzicht 2024 '!O12","v":0},{"$f":"'Rit overzicht 2024 '!P12","v":0},{"$f":"'Rit overzicht 2024 '!Q12","v":0},{"$f":"'Rit overzicht 2024 '!R12","v":0},{"$f":"'Rit overzicht 2024 '!S12","v":0},{"$f":"'Rit overzicht 2024 '!T12","v":0},{"$f":"'Rit overzicht 2024 '!U12","v":0},{"$f":"'Rit overzicht 2024 '!V12","v":0},{"$f":"'Rit overzicht 2024 '!W12","v":10},{"$f":"'Rit overzicht 2024 '!X12","v":0},{"$f":"'Rit overzicht 2024 '!Y12","v":0},{"$f":"'Rit overzicht 2024 '!Z12","v":3},{"$f":"'Rit overzicht 2024 '!AA12","v":2},{"$f":"'Rit overzicht 2024 '!AB12","v":0},{"$f":"'Rit overzicht 2024 '!AC12","v":0},{"$f":"'Rit overzicht 2024 '!AD12","v":0},{"$f":"'Rit overzicht 2024 '!AE12","v":0},{"$f":"'Rit overzicht 2024 '!AF12","v":0},{"$f":"'Rit overzicht 2024 '!AG12","v":0},{"$f":"'Rit overzicht 2024 '!AH12","v":0},{"$f":"'Rit overzicht 2024 '!AI12","v":0},{"$f":"'Rit overzicht 2024 '!AJ12","v":0},{"$f":"'Rit overzicht 2024 '!AK12","v":0},{"$f":"'Rit overzicht 2024 '!AL12","v":0},{"$f":"'Rit overzicht 2024 '!AM12","v":0},{"$f":"'Rit overzicht 2024 '!AN12","v":0},{"$f":"'Rit overzicht 2024 '!AO12","v":0},{"$f":"'Rit overzicht 2024 '!AP12","v":0},{"$f":"'Rit overzicht 2024 '!AQ12","v":0},{"$f":"'Rit overzicht 2024 '!AR12","v":0},{"$f":"'Rit overzicht 2024 '!AS12","v":0},{"$f":"'Rit overzicht 2024 '!AT12","v":0},{"$f":"'Rit overzicht 2024 '!AU12","v":0},{"$f":"'Rit overzicht 2024 '!AV12","v":0},{"$f":"'Rit overzicht 2024 '!AW12","v":0},{"$f":"'Rit overzicht 2024 '!AX12","v":0},{"$f":"'Rit overzicht 2024 '!AY12","v":0},{"$f":"'Rit overzicht 2024 '!AZ12","v":0},{"$f":"'Rit overzicht 2024 '!BA12","v":0},{"$f":"'Rit overzicht 2024 '!BB12","v":0},{"$f":"'Rit overzicht 2024 '!BC12","v":0},{"$f":"'Rit overzicht 2024 '!BD12","v":0},{"$f":"'Rit overzicht 2024 '!BE12","v":0},{"$f":"'Rit overzicht 2024 '!BF12","v":0},{"$f":"'Rit overzicht 2024 '!BG12","v":0},{"$f":"'Rit overzicht 2024 '!BH12","v":0},{"$f":"'Rit overzicht 2024 '!BI12","v":0},{"$f":"'Rit overzicht 2024 '!BJ12","v":10},{"$f":"'Rit overzicht 2024 '!BK12","v":0},{"$f":"'Rit overzicht 2024 '!BL12","v":12},{"$f":"'Rit overzicht 2024 '!BM12","v":0},{"$f":"'Rit overzicht 2024 '!BN12","v":0}]
["3.3",null,"Maandag","Leerdam Noord",null,7,2,null,{"$f":"'Rit overzicht 2024 '!I13","v":0},{"$f":"'Rit overzicht 2024 '!J13","v":0},{"$f":"'Rit overzicht 2024 '!K13","v":0},{"$f":"'Rit overzicht 2024 '!L13","v":0},{"$f":"'Rit overzicht 2024 '!M13","v":0},{"$f":"'Rit overzicht 2024 '!N13","v":0},{"$f":"'Rit overzicht 2024 '!O13","v":0},{"$f":"'Rit overzicht 2024 '!P13","v":0},{"$f":"'Rit overzicht 2024 '!Q13","v":0},{"$f":"'Rit overzicht 2024 '!R13","v":1},{"$f":"'Rit overzicht 2024 '!S13","v":0},{"$f":"'Rit overzicht 2024 '!T13","v":0},{"$f":"'Rit overzicht 2024 '!U13","v":0},{"$f":"'Rit overzicht 2024 '!V13","v":0},{"$f":"'Rit overzicht 2024 '!W13","v":0},{"$f":"'Rit overzicht 2024 '!X13","v":0},{"$f":"'Rit overzicht 2024 '!Y13","v":0},{"$f":"'Rit overzicht 2024 '!Z13","v":0},{"$f":"'Rit overzicht 2024 '!AA13","v":0},{"$f":"'Rit overzicht 2024 '!AB13","v":0},{"$f":"'Rit overzicht 2024 '!AC13","v":0},{"$f":"'Rit overzicht 2024 '!AD13","v":0},{"$f":"'Rit overzicht 2024 '!AE13","v":0},{"$f":"'Rit overzicht 2024 '!AF13","v":0},{"$f":"'Rit overzicht 2024 '!AG13","v":0},{"$f":"'Rit overzicht 2024 '!AH13","v":0},{"$f":"'Rit overzicht 2024 '!AI13","v":0},{"$f":"'Rit overzicht 2024 '!AJ13","v":0},{"$f":"'Rit overzicht 2024 '!AK13","v":0},{"$f":"'Rit overzicht 2024 '!AL13","v":0},{"$f":"'Rit overzicht 2024 '!AM13","v":0},{"$f":"'Rit overzicht 2024 '!AN13","v":0},{"$f":"'Rit overzicht 2024 '!AO13","v":0},{"$f":"'Rit overzicht 2024 '!AP13","v":0},{"$f":"'Rit overzicht 2024 '!AQ13","v":0},{"$f":"'Rit overzicht 2024 '!AR13","v":0},{"$f":"'Rit overzicht 2024 '!AS13","v":0},{"$f":"'Rit overzicht 2024 '!AT13","v":0},{"$f":"'Rit overzicht 2024 '!AU13","v":0},{"$f":"'Rit overzicht 2024 '!AV13","v":0},{"$f":"'Rit overzicht 2024 '!AW13","v":0},{"$f":"'Rit overzicht 2024 '!AX13","v":0},{"$f":"'Rit overzicht 2024 '!AY13","v":0},{"$f":"'Rit overzicht 2024 '!AZ13","v":0},{"$f":"'Rit overzicht 2024 '!BA13","v":0},{"$f":"'Rit overzicht 2024 '!BB13","v":0},{"$f":"'Rit overzicht 2024 '!BC13","v":0},{"$f":"'Rit overzicht 2024 '!BD13","v":0},{"$f":"'Rit overzicht 2024 '!BE13","v":0},{"$f":"'Rit overzicht 2024 '!BF13","v":0},{"$f":"'Rit overzicht 2024 '!BG13","v":0},{"$f":"'Rit overzicht 2024 '!BH13","v":0},{"$f":"'Rit overzicht 2024 '!BI13","v":1},{"$f":"'Rit overzicht 2024 '!BJ13","v":0},{"$f":"'Rit overzicht 2024 '!BK13","v":0},{"$f":"'Rit overzicht 2024 '!BL13","v":0},{"$f":"'Rit overzicht 2024 '!BM13","v":1},{"$f":"'Rit overzicht 2024 '!BN13","v":16}]
["3.3",null,"Maandag ","Leerdam Noord",null,7,2,null,{"$f":"'Rit overzicht 2024 '!I15","v":0},{"$f":"'Rit overzicht 2024 '!J15","v":0},{"$f":"'Rit overzicht 2024 '!K15","v":0},{"$f":"'Rit overzicht 2024 '!L15","v":0},{"$f":"'Rit overzicht 2024 '!M15","v":3},{"$f":"'Rit overzicht 2024 '!N15","v":3},{"$f":"'Rit overzicht 2024 '!O15","v":0},{"$f":"'Rit overzicht 2024 '!P15","v":0},{"$f":"'Rit overzicht 2024 '!Q15","v":0},{"$f":"'Rit overzicht 2024 '!R15","v":0},{"$f":"'Rit overzicht 2024 '!S15","v":0},{"$f":"'Rit overzicht 2024 '!T15","v":4},{"$f":"'Rit overzicht 2024 '!U15","v":14},{"$f":"'Rit overzicht 2024 '!V15","v":0},{"$f":"'Rit overzicht 2024 '!W15","v":0},{"$f":"'Rit overzicht 2024 '!X15","v":0},{"$f":"'Rit overzicht 2024 '!Y15","v":0},{"$f":"'Rit overzicht 2024 '!Z15","v":0},{"$f":"'Rit overzicht 2024 '!AA15","v":0},{"$f":"'Rit overzicht 2024 '!AB15","v":0},{"$f":"'Rit overzicht 2024 '!AC15","v":0},{"$f":"'Rit overzicht 2024 '!AD15","v":0},{"$f":"'Rit overzicht 2024 '!AE15","v":0},{"$f":"'Rit overzicht 2024 '!AF15","v":0},{"$f":"'Rit overzicht 2024 '!AG15","v":0},{"$f":"'Rit overzicht 2024 '!AH15","v":0},{"$f":"'Rit overzicht 2024 '!AI15","v":0},{"$f":"'Rit overzicht 2024 '!AJ15","v":0},{"$f":"'Rit overzicht 2024 '!AK15","v":0},{"$f":"'Rit overzicht 2024 '!AL15","v":0},{"$f":"'Rit overzicht 2024 '!AM15","v":0},{"$f":"'Rit overzicht 2024 '!AN15","v":0},{"$f":"'Rit overzicht 2024 '!AO15","v":0},{"$f":"'Rit overzicht 2024 '!AP15","v":0},{"$f":"'Rit overzicht 2024 '!AQ15","v":0},{"$f":"'Rit overzicht 2024 '!AR15","v":0},{"$f":"'Rit overzicht 2024 '!AS15","v":0},{"$f":"'Rit overzicht 2024 '!AT15","v":0},{"$f":"'Rit overzicht 2024 '!AU15","v":0},{"$f":"'Rit overzicht 2024 '!AV15","v":0},{"$f":"'Rit overzicht 2024 '!AW15","v":0},{"$f":"'Rit overzicht 2024 '!AX15","v":0},{"$f":"'Rit overzicht 2024 '!AY15","v":0},{"$f":"'Rit overzicht 2024 '!AZ15","v":0},{"$f":"'Rit overzicht 2024 '!BA15","v":0},{"$f":"'Rit overzicht 2024 '!BB15","v":0},{"$f":"'Rit overzicht 2024 '!BC15","v":0},{"$f":"'Rit overzicht 2024 '!BD15","v":0},{"$f":"'Rit overzicht 2024 '!BE15","v":0},{"$f":"'Rit overzicht 2024 '!BF15","v":0},{"$f":"'Rit overzicht 2024 '!BG15","v":0},{"$f":"'Rit overzicht 2024 '!BH15","v":0},{"$f":"'Rit overzicht 2024 '!BI15","v":7},{"$f":"'Rit overzicht 2024 '!BJ15","v":0},{"$f":"'Rit overzicht 2024 '!BK15","v":17},{"$f":"'Rit overzicht 2024 '!BL15","v":0},{"$f":"'Rit overzicht 2024 '!BM15","v":24},{"$f":"'Rit overzicht 2024 '!BN15","v":79}]
["4.1",null,"Maandag","1=Leerdam-West +2=Broekgraaf",null,8,8,8,{"$f":"'Rit overzicht 2024 '!I16","v":0},{"$f":"'Rit overzicht 2024 '!J16","v":0},{"$f":"'Rit overzicht 2024 '!K16","v":0},{"$f":"'Rit overzicht 2024 '!L16","v":0},{"$f":"'Rit overzicht 2024 '!M16","v":6},{"$f":"'Rit overzicht 2024 '!N16","v":19},{"$f":"'Rit overzicht 2024 '!O16","v":0},{"$f":"'Rit overzicht 2024 '!P16","v":0},{"$f":"'Rit overzicht 2024 '!Q16","v":0},{"$f":"'Rit overzicht 2024 '!R16","v":0},{"$f":"'Rit overzicht 2024 '!S16","v":0},{"$f":"'Rit overzicht 2024 '!T16","v":19},{"$f":"'Rit overzicht 2024 '!U16","v":26},{"$f":"'Rit overzicht 2024 '!V16","v":0},{"$f":"'Rit overzicht 2024 '!W16","v":0},{"$f":"'Rit overzicht 2024 '!X16","v":9},{"$f":"'Rit overzicht 2024 '!Y16","v":0},{"$f":"'Rit overzicht 2024 '!Z16","v":0},{"$f":"'Rit overzicht 2024 '!AA16","v":0},{"$f":"'Rit overzicht 2024 '!AB16","v":0},{"$f":"'Rit overzicht 2024 '!AC16","v":0},{"$f":"'Rit overzicht 2024 '!AD16","v":0},{"$f":"'Rit overzicht 2024 '!AE16","v":0},{"$f":"'Rit overzicht 2024 '!AF16","v":0},{"$f":"'Rit overzicht 2024 '!AG16","v":0},{"$f":"'Rit overzicht 2024 '!AH16","v":0},{"$f":"'Rit overzicht 2024 '!AI16","v":0},{"$f":"'Rit overzicht 2024 '!AJ16","v":0},{"$f":"'Rit overzicht 2024 '!AK16","v":0},{"$f":"'Rit overzicht 2024 '!AL16","v":0},{"$f":"'Rit overzicht 2024 '!AM16","v":0},{"$f":"'Rit overzicht 2024 '!AN16","v":0},{"$f":"'Rit overzicht 2024 '!AO16","v":0},{"$f":"'Rit overzicht 2024 '!AP16","v":0},{"$f":"'Rit overzicht 2024 '!AQ16","v":0},{"$f":"'Rit overzicht 2024 '!AR16","v":0},{"$f":"'Rit overzicht 2024 '!AS16","v":0},{"$f":"'Rit overzicht 2024 '!AT16","v":0},{"$f":"'Rit overzicht 2024 '!AU16","v":0},{"$f":"'Rit overzicht 2024 '!AV16","v":0},{"$f":"'Rit overzicht 2024 '!AW16","v":0},{"$f":"'Rit overzicht 2024 '!AX16","v":0},{"$f":"'Rit overzicht 2024 '!AY16","v":0},{"$f":"'Rit overzicht 2024 '!AZ16","v":0},{"$f":"'Rit overzicht 2024 '!BA16","v":0},{"$f":"'Rit overzicht 2024 '!BB16","v":0},{"$f":"'Rit overzicht 2024 '!BC16","v":0},{"$f":"'Rit overzicht 2024 '!BD16","v":0},{"$f":"'Rit overzicht 2024 '!BE16","v":0},{"$f":"'Rit overzicht 2024 '!BF16","v":0},{"$f":"'Rit overzicht 2024 '!BG16","v":0},{"$f":"'Rit overzicht 2024 '!BH16","v":0},{"$f":"'Rit overzicht 2024 '!BI16","v":0},{"$f":"'Rit overzicht 2024 '!BJ16","v":47},{"$f":"'Rit overzicht 2024 '!BK16","v":0},{"$f":"'Rit overzicht 2024 '!BL16","v":32},{"$f":"'Rit overzicht 2024 '!BM16","v":0},{"$f":"'Rit overzicht 2024 '!BN16","v":0}]
["4.1",null,"Maandag","1=Leerdam-West +2=Broekgraaf","1=Laantje van van Ieperen 3",8,8,8,{"$f":"'Rit overzicht 2024 '!I17","v":0},{"$f":"'Rit overzicht 2024 '!J17","v":0},{"$f":"'Rit overzicht 2024 '!K17","v":0},{"$f":"'Rit overzicht 2024 '!L17","v":0},{"$f":"'Rit overzicht 2024 '!M17","v":0},{"$f":"'Rit overzicht 2024 '!N17","v":0},{"$f":"'Rit overzicht 2024 '!O17","v":0},{"$f":"'Rit overzicht 2024 '!P17","v":0},{"$f":"'Rit overzicht 2024 '!Q17","v":0},{"$f":"'Rit overzicht 2024 '!R17","v":2},{"$f":"'Rit overzicht 2024 '!S17","v":4},{"$f":"'Rit overzicht 2024 '!T17","v":0},{"$f":"'Rit overzicht 2024 '!U17","v":0},{"$f":"'Rit overzicht 2024 '!V17","v":0},{"$f":"'Rit overzicht 2024 '!W17","v":0},{"$f":"'Rit overzicht 2024 '!X17","v":0},{"$f":"'Rit overzicht 2024 '!Y17","v":0},{"$f":"'Rit overzicht 2024 '!Z17","v":0},{"$f":"'Rit overzicht 2024 '!AA17","v":23},{"$f":"'Rit overzicht 2024 '!AB17","v":0},{"$f":"'Rit overzicht 2024 '!AC17","v":0},{"$f":"'Rit overzicht 2024 '!AD17","v":0},{"$f":"'Rit overzicht 2024 '!AE17","v":0},{"$f":"'Rit overzicht 2024 '!AF17","v":0},{"$f":"'Rit overzicht 2024 '!AG17","v":0},{"$f":"'Rit overzicht 2024 '!AH17","v":0},{"$f":"'Rit overzicht 2024 '!AI17","v":0},{"$f":"'Rit overzicht 2024 '!AJ17","v":0},{"$f":"'Rit overzicht 2024 '!AK17","v":0},{"$f":"'Rit overzicht 2024 '!AL17","v":0},{"$f":"'Rit overzicht 2024 '!AM17","v":0},{"$f":"'Rit overzicht 2024 '!AN17","v":0},{"$f":"'Rit overzicht 2024 '!AO17","v":0},{"$f":"'Rit overzicht 2024 '!AP17","v":0},{"$f":"'Rit overzicht 2024 '!AQ17","v":0},{"$f":"'Rit overzicht 2024 '!AR17","v":0},{"$f":"'Rit overzicht 2024 '!AS17","v":0},{"$f":"'Rit overzicht 2024 '!AT17","v":0},{"$f":"'Rit overzicht 2024 '!AU17","v":0},{"$f":"'Rit overzicht 2024 '!AV17","v":0},{"$f":"'Rit overzicht 2024 '!AW17","v":0},{"$f":"'Rit overzicht 2024 '!AX17","v":0},{"$f":"'Rit overzicht 2024 '!AY17","v":0},{"$f":"'Rit overzicht 2024 '!AZ17","v":0},{"$f":"'Rit overzicht 2024 '!BA17","v":0},{"$f":"'Rit overzicht 2024 '!BB17","v":0},{"$f":"'Rit overzicht 2024 '!BC17","v":0},{"$f":"'Rit overzicht 2024 '!BD17","v":0},{"$f":"'Rit overzicht 2024 '!BE17","v":0},{"$f":"'Rit overzicht 2024 '!BF17","v":0},{"$f":"'Rit overzicht 2024 '!BG17","v":0},{"$f":"'Rit overzicht 2024 '!BH17","v":0},{"$f":"'Rit overzicht 2024 '!BI17","v":2},{"$f":"'Rit overzicht 2024 '!BJ17","v":0},{"$f":"'Rit overzicht 2024 '!BK17","v":27},{"$f":"'Rit overzicht 2024 '!BL17","v":0},{"$f":"'Rit overzicht 2024 '!BM17","v":29},{"$f":"'Rit overzicht 2024 '!BN17","v":75}]
["5.1",null,"Maandag","1= Nieuwland en 2 = Leerbroek binnen en Leerdam",null,8,9,8,{"$f":"'Rit overzicht 2024 '!I18","v":0},{"$f":"'Rit overzicht 2024 '!J18","v":0},{"$f":"'Rit overzicht 2024 '!K18","v":0},{"$f":"'Rit overzicht 2024 '!L18","v":0},{"$f":"'Rit overzicht 2024 '!M18","v":0},{"$f":"'Rit overzicht 2024 '!N18","v":0},{"$f":"'Rit overzicht 2024 '!O18","v":0},{"$f":"'Rit overzicht 2024 '!P18","v":0},{"$f":"'Rit overzicht 2024 '!Q18","v":0},{"$f":"'Rit overzicht 2024 '!R18","v":21},{"$f":"'Rit overzicht 2024 '!S18","v":19},{"$f":"'Rit overzicht 2024 '!T18","v":0},{"$f":"'Rit overzicht 2024 '!U18","v":0},{"$f":"'Rit overzicht 2024 '!V18","v":0},{"$f":"'Rit overzicht 2024 '!W18","v":0},{"$f":"'Rit overzicht 2024 '!X18","v":0},{"$f":"'Rit overzicht 2024 '!Y18","v":0},{"$f":"'Rit overzicht 2024 '!Z18","v":8},{"$f":"'Rit overzicht 2024 '!AA18","v":27},{"$f":"'Rit overzicht 2024 '!AB18","v":0},{"$f":"'Rit overzicht 2024 '!AC18","v":0},{"$f":"'Rit overzicht 2024 '!AD18","v":0},{"$f":"'Rit overzicht 2024 '!AE18","v":0},{"$f":"'Rit overzicht 2024 '!AF18","v":0},{"$f":"'Rit overzicht 2024 '!AG18","v":0},{"$f":"'Rit overzicht 2024 '!AH18","v":0},{"$f":"'Rit overzicht 2024 '!AI18","v":0},{"$f":"'Rit overzicht 2024 '!AJ18","v":0},{"$f":"'Rit overzicht 2024 '!AK18","v":0},{"$f":"'Rit overzicht 2024 '!AL18","v":0},{"$f":"'Rit overzicht 2024 '!AM18","v":0},{"$f":"'Rit overzicht 2024 '!AN18","v":0},{"$f":"'Rit overzicht 2024 '!AO18","v":0},{"$f":"'Rit overzicht 2024 '!AP18","v":0},{"$f":"'Rit overzicht 2024 '!AQ18","v":0},{"$f":"'Rit overzicht 2024 '!AR18","v":0},{"$f":"'Rit overzicht 2024 '!AS18","v":0},{"$f":"'Rit overzicht 2024 '!AT18","v":0},{"$f":"'Rit overzicht 2024 '!AU18","v":0},{"$f":"'Rit overzicht 2024 '!AV18","v":0},{"$f":"'Rit overzicht 2024 '!AW18","v":0},{"$f":"'Rit overzicht 2024 '!AX18","v":0},{"$f":"'Rit overzicht 2024 '!AY18","v":0},{"$f":"'Rit overzicht 2024 '!AZ18","v":0},{"$f":"'Rit overzicht 2024 '!BA18","v":0},{"$f":"'Rit overzicht 2024 '!BB18","v":0},{"$f":"'Rit overzicht 2024 '!BC18","v":0},{"$f":"'Rit overzicht 2024 '!BD18","v":0},{"$f":"'Rit overzicht 2024 '!BE18","v":0},{"$f":"'Rit overzicht 2024 '!BF18","v":0},{"$f":"'Rit overzicht 2024 '!BG18","v":0},{"$f":"'Rit overzicht 2024 '!BH18","v":0},{"$f":"'Rit overzicht 2024 '!BI18","v":0},{"$f":"'Rit overzicht 2024 '!BJ18","v":29},{"$f":"'Rit overzicht 2024 '!BK18","v":0},{"$f":"'Rit overzicht 2024 '!BL18","v":46},{"$f":"'Rit overzicht 2024 '!BM18","v":0},{"$f":"'Rit overzicht 2024 '!BN18","v":0}]
["5.1",null,"Maandag","1 = Nieuwland en 2 = Leerbroek binnen en Leerdam","1=Kwakernaak 4 en 2= Recht van ter leede 11",8,9,8,{"$f":"'Rit overzicht 2024 '!I19","v":3},{"$f":"'Rit overzicht 2024 '!J19","v":3},{"$f":"'Rit overzicht 2024 '!K19","v":1},{"$f":"'Rit overzicht 2024 '!L19","v":0},{"$f":"'Rit overzicht 2024 '!M19","v":10},{"$f":"'Rit overzicht 2024 '!N19","v":0},{"$f":"'Rit overzicht 2024 '!O19","v":0},{"$f":"'Rit overzicht 2024 '!P19","v":0},{"$f":"'Rit overzicht 2024 '!Q19","v":0},{"$f":"'Rit overzicht 2024 '!R19","v":0},{"$f":"'Rit overzicht 2024 '!S19","v":17},{"$f":"'Rit overzicht 2024 '!T19","v":0},{"$f":"'Rit overzicht 2024 '!U19","v":0},{"$f":"'Rit overzicht 2024 '!V19","v":1},{"$f":"'Rit overzicht 2024 '!W19","v":0},{"$f":"'Rit overzicht 2024 '!X19","v":0},{"$f":"'Rit overzicht 2024 '!Y19","v":0},{"$f":"'Rit overzicht 2024 '!Z19","v":0},{"$f":"'Rit overzicht 2024 '!AA19","v":0},{"$f":"'Rit overzicht 2024 '!AB19","v":0},{"$f":"'Rit overzicht 2024 '!AC19","v":0},{"$f":"'Rit overzicht 2024 '!AD19","v":0},{"$f":"'Rit overzicht 2024 '!AE19","v":0},{"$f":"'Rit overzicht 2024 '!AF19","v":0},{"$f":"'Rit overzicht 2024 '!AG19","v":0},{"$f":"'Rit overzicht 2024 '!AH19","v":0},{"$f":"'Rit overzicht 2024 '!AI19","v":0},{"$f":"'Rit overzicht 2024 '!AJ19","v":0},{"$f":"'Rit overzicht 2024 '!AK19","v":0},{"$f":"'Rit overzicht 2024 '!AL19","v":0},{"$f":"'Rit overzicht 2024 '!AM19","v":0},{"$f":"'Rit overzicht 2024 '!AN19","v":0},{"$f":"'Rit overzicht 2024 '!AO19","v":0},{"$f":"'Rit overzicht 2024 '!AP19","v":0},{"$f":"'Rit overzicht 2024 '!AQ19","v":0},{"$f":"'Rit overzicht 2024 '!AR19","v":0},{"$f":"'Rit overzicht 2024 '!AS19","v":0},{"$f":"'Rit overzicht 2024 '!AT19","v":0},{"$f":"'Rit overzicht 2024 '!AU19","v":0},{"$f":"'Rit overzicht 2024 '!AV19","v":0},{"$f":"'Rit overzicht 2024 '!AW19","v":0},{"$f":"'Rit overzicht 2024 '!AX19","v":0},{"$f":"'Rit overzicht 2024 '!AY19","v":0},{"$f":"'Rit overzicht 2024 '!AZ19","v":0},{"$f":"'Rit overzicht 2024 '!BA19","v":0},{"$f":"'Rit overzicht 2024 '!BB19","v":0},{"$f":"'Rit overzicht 2024 '!BC19","v":0},{"$f":"'Rit overzicht 2024 '!BD19","v":0},{"$f":"'Rit overzicht 2024 '!BE19","v":0},{"$f":"'Rit overzicht 2024 '!BF19","v":0},{"$f":"'Rit overzicht 2024 '!BG19","v":0},{"$f":"'Rit overzicht 2024 '!BH19","v":0},{"$f":"'Rit overzicht 2024 '!BI19","v":4},{"$f":"'Rit overzicht 2024 '!BJ19","v":0},{"$f":"'Rit overzicht 2024 '!BK19","v":31},{"$f":"'Rit overzicht 2024 '!BL19","v":0},{"$f":"'Rit overzicht 2024 '!BM19","v":35},{"$f":"'Rit overzicht 2024 '!BN19","v":117}]
["1.1",null,"Dinsdag","Lingewijk Gorinchem",null,4,4,4,{"$f":"'Rit overzicht 2024 '!I20","v":23},{"$f":"'Rit overzicht 2024 '!J20","v":18},{"$f":"'Rit overzicht 2024 '!K20","v":20},{"$f":"'Rit overzicht 2024 '!L20","v":0},{"$f":"'Rit overzicht 2024 '!M20","v":32},{"$f":"'Rit overzicht 2024 '!N20","v":0},{"$f":"'Rit overzicht 2024 '!O20","v":0},{"$f":"'Rit overzicht 2024 '!P20","v":0},{"$f":"'Rit overzicht 2024 '!Q20","v":0},{"$f":"'Rit overzicht 2024 '!R20","v":0},{"$f":"'Rit overzicht 2024 '!S20","v":22},{"$f":"'Rit overzicht 2024 '!T20","v":0},{"$f":"'Rit overzicht 2024 '!U20","v":0},{"$f":"'Rit overzicht 2024 '!V20","v":2},{"$f":"'Rit overzicht 2024 '!W20","v":0},{"$f":"'Rit overzicht 2024 '!X20","v":0},{"$f":"'Rit overzicht 2024 '!Y20","v":0},{"$f":"'Rit overzicht 2024 '!Z20","v":0},{"$f":"'Rit overzicht 2024 '!AA20","v":0},{"$f":"'Rit overzicht 2024 '!AB20","v":0},{"$f":"'Rit overzicht 2024 '!AC20","v":0},{"$f":"'Rit overzicht 2024 '!AD20","v":0},{"$f":"'Rit overzicht 2024 '!AE20","v":0},{"$f":"'Rit overzicht 2024 '!AF20","v":0},{"$f":"'Rit overzicht 2024 '!AG20","v":0},{"$f":"'Rit overzicht 2024 '!AH20","v":0},{"$f":"'Rit overzicht 2024 '!AI20","v":0},{"$f":"'Rit overzicht 2024 '!AJ20","v":0},{"$f":"'Rit overzicht 2024 '!AK20","v":0},{"$f":"'Rit overzicht 2024 '!AL20","v":0},{"$f":"'Rit overzicht 2024 '!AM20","v":0},{"$f":"'Rit overzicht 2024 '!AN20","v":0},{"$f":"'Rit overzicht 2024 '!AO20","v":0},{"$f":"'Rit overzicht 2024 '!AP20","v":0},{"$f":"'Rit overzicht 2024 '!AQ20","v":0},{"$f":"'Rit overzicht 2024 '!AR20","v":0},{"$f":"'Rit overzicht 2024 '!AS20","v":0},{"$f":"'Rit overzicht 2024 '!AT20","v":0},{"$f":"'Rit overzicht 2024 '!AU20","v":0},{"$f":"'Rit overzicht 2024 '!AV20","v":0},{"$f":"'Rit overzicht 2024 '!AW20","v":0},{"$f":"'Rit overzicht 2024 '!AX20","v":0},{"$f":"'Rit overzicht 2024 '!AY20","v":0},{"$f":"'Rit overzicht 2024 '!AZ20","v":0},{"$f":"'Rit overzicht 2024 '!BA20","v":0},{"$f":"'Rit overzicht 2024 '!BB20","v":0},{"$f":"'Rit overzicht 2024 '!BC20","v":0},{"$f":"'Rit overzicht 2024 '!BD20","v":0},{"$f":"'Rit overzicht 2024 '!BE20","v":0},{"$f":"'Rit overzicht 2024 '!BF20","v":0},{"$f":"'Rit overzicht 2024 '!BG20","v":0},{"$f":"'Rit overzicht 2024 '!BH20","v":0},{"$f":"'Rit overzicht 2024 '!BI20","v":0},{"$f":"'Rit overzicht 2024 '!BJ20","v":20},{"$f":"'Rit overzicht 2024 '!BK20","v":0},{"$f":"'Rit overzicht 2024 '!BL20","v":97},{"$f":"'Rit overzicht 2024 '!BM20","v":0},{"$f":"'Rit overzicht 2024 '!BN20","v":0}]
["1.1",null,"Dinsdag","Lingewijk Gorinchem",null,4,4,4,{"$f":"'Rit overzicht 2024 '!I21","v":5},{"$f":"'Rit overzicht 2024 '!J21","v":0},{"$f":"'Rit overzicht 2024 '!K21","v":8},{"$f":"'Rit overzicht 2024 '!L21","v":0},{"$f":"'Rit overzicht 2024 '!M21","v":4},{"$f":"'Rit overzicht 2024 '!N21","v":0},{"$f":"'Rit overzicht 2024 '!O21","v":0},{"$f":"'Rit overzicht 2024 '!P21","v":0},{"$f":"'Rit overzicht 2024 '!Q21","v":0},{"$f":"'Rit overzicht 2024 '!R21","v":0},{"$f":"'Rit overzicht 2024 '!S21","v":0},{"$f":"'Rit overzicht 2024 '!T21","v":0},{"$f":"'Rit overzicht 2024 '!U21","v":0},{"$f":"'Rit overzicht 2024 '!V21","v":0},{"$f":"'Rit overzicht 2024 '!W21","v":0},{"$f":"'Rit overzicht 2024 '!X21","v":0},{"$f":"'Rit overzicht 2024 '!Y21","v":5},{"$f":"'Rit overzicht 2024 '!Z21","v":0},{"$f":"'Rit overzicht 2024 '!AA21","v":0},{"$f":"'Rit overzicht 2024 '!AB21","v":0},{"$f":"'Rit overzicht 2024 '!AC21","v":0},{"$f":"'Rit overzicht 2024 '!AD21","v":0},{"$f":"'Rit overzicht 2024 '!AE21","v":0},{"$f":"'Rit overzicht 2024 '!AF21","v":0},{"$f":"'Rit overzicht 2024 '!AG21","v":0},{"$f":"'Rit overzicht 2024 '!AH21","v":0},{"$f":"'Rit overzicht 2024 '!AI21","v":0},{"$f":"'Rit overzicht 2024 '!AJ21","v":0},{"$f":"'Rit overzicht 2024 '!AK21","v":0},{"$f":"'Rit overzicht 2024 '!AL21","v":0},{"$f":"'Rit overzicht 2024 '!AM21","v":0},{"$f":"'Rit overzicht 2024 '!AN21","v":0},{"$f":"'Rit overzicht 2024 '!AO21","v":0},{"$f":"'Rit overzicht 2024 '!AP21","v":0},{"$f":"'Rit overzicht 2024 '!AQ21","v":0},{"$f":"'Rit overzicht 2024 '!AR21","v":0},{"$f":"'Rit overzicht 2024 '!AS21","v":0},{"$f":"'Rit overzicht 2024 '!AT21","v":0},{"$f":"'Rit overzicht 2024 '!AU21","v":0},{"$f":"'Rit overzicht 2024 '!AV21","v":0},{"$f":"'Rit overzicht 2024 '!AW21","v":0},{"$f":"'Rit overzicht 2024 '!AX21","v":0},{"$f":"'Rit overzicht 2024 '!AY21","v":0},{"$f":"'Rit overzicht 2024 '!AZ21","v":0},{"$f":"'Rit overzicht 2024 '!BA21","v":0},{"$f":"'Rit overzicht 2024 '!BB21","v":0},{"$f":"'Rit overzicht 2024 '!BC21","v":0},{"$f":"'Rit overzicht 2024 '!BD21","v":0},{"$f":"'Rit overzicht 2024 '!BE21","v":0},{"$f":"'Rit overzicht 2024 '!BF21","v":0},{"$f":"'Rit overzicht 2024 '!BG21","v":0},{"$f":"'Rit overzicht 2024 '!BH21","v":0},{"$f":"'Rit overzicht 2024 '!BI21","v":0},{"$f":"'Rit overzicht 2024 '!BJ21","v":0},{"$f":"'Rit overzicht 2024 '!BK21","v":22},{"$f":"'Rit overzicht 2024 '!BL21","v":0},{"$f":"'Rit overzicht 2024 '!BM21","v":22},{"$f":"'Rit overzicht 2024 '!BN21","v":58}]
["1.2",null,"Dinsdag","Gildewijk, Haarwijk 2",null,4,4,4,{"$f":"'Rit overzicht 2024 '!I22","v":9},{"$f":"'Rit overzicht 2024 '!J22","v":0},{"$f":"'Rit overzicht 2024 '!K22","v":15},{"$f":"'Rit overzicht 2024 '!L22","v":29},{"$f":"'Rit overzicht 2024 '!M22","v":3},{"$f":"'Rit overzicht 2024 '!N22","v":0},{"$f":"'Rit overzicht 2024 '!O22","v":0},{"$f":"'Rit overzicht 2024 '!P22","v":0},{"$f":"'Rit overzicht 2024 '!Q22","v":0},{"$f":"'Rit overzicht 2024 '!R22","v":0},{"$f":"'Rit overzicht 2024 '!S22","v":0},{"$f":"'Rit overzicht 2024 '!T22","v":0},{"$f":"'Rit overzicht 2024 '!U22","v":0},{"$f":"'Rit overzicht 2024 '!V22","v":0},{"$f":"'Rit overzicht 2024 '!W22","v":0},{"$f":"'Rit overzicht 2024 '!X22","v":0},{"$f":"'Rit overzicht 2024 '!Y22","v":2},{"$f":"'Rit overzicht 2024 '!Z22","v":0},{"$f":"'Rit overzicht 2024 '!AA22","v":0},{"$f":"'Rit overzicht 2024 '!AB22","v":0},{"$f":"'Rit overzicht 2024 '!AC22","v":0},{"$f":"'Rit overzicht 2024 '!AD22","v":0},{"$f":"'Rit overzicht 2024 '!AE22","v":0},{"$f":"'Rit overzicht 2024 '!AF22","v":0},{"$f":"'Rit overzicht 2024 '!AG22","v":0},{"$f":"'Rit overzicht 2024 '!AH22","v":0},{"$f":"'Rit overzicht 2024 '!AI22","v":0},{"$f":"'Rit overzicht 2024 '!AJ22","v":0},{"$f":"'Rit overzicht 2024 '!AK22","v":0},{"$f":"'Rit overzicht 2024 '!AL22","v":0},{"$f":"'Rit overzicht 2024 '!AM22","v":0},{"$f":"'Rit overzicht 2024 '!AN22","v":0},{"$f":"'Rit overzicht 2024 '!AO22","v":0},{"$f":"'Rit overzicht 2024 '!AP22","v":0},{"$f":"'Rit overzicht 2024 '!AQ22","v":0},{"$f":"'Rit overzicht 2024 '!AR22","v":0},{"$f":"'Rit overzicht 2024 '!AS22","v":0},{"$f":"'Rit overzicht 2024 '!AT22","v":0},{"$f":"'Rit overzicht 2024 '!AU22","v":0},{"$f":"'Rit overzicht 2024 '!AV22","v":0},{"$f":"'Rit overzicht 2024 '!AW22","v":0},{"$f":"'Rit overzicht 2024 '!AX22","v":0},{"$f":"'Rit overzicht 2024 '!AY22","v":0},{"$f":"'Rit overzicht 2024 '!AZ22","v":0},{"$f":"'Rit overzicht 2024 '!BA22","v":0},{"$f":"'Rit overzicht 2024 '!BB22","v":0},{"$f":"'Rit overzicht 2024 '!BC22","v":0},{"$f":"'Rit overzicht 2024 '!BD22","v":0},{"$f":"'Rit overzicht 2024 '!BE22","v":0},{"$f":"'Rit overzicht 2024 '!BF22","v":0},{"$f":"'Rit overzicht 2024 '!BG22","v":0},{"$f":"'Rit overzicht 2024 '!BH22","v":0},{"$f":"'Rit overzicht 2024 '!BI22","v":0},{"$f":"'Rit overzicht 2024 '!BJ22","v":29},{"$f":"'Rit overzicht 2024 '!BK22","v":0},{"$f":"'Rit overzicht 2024 '!BL22","v":29},{"$f":"'Rit overzicht 2024 '!BM22","v":0},{"$f":"'Rit overzicht 2024 '!BN22","v":0}]
["1.2",null,"Dinsdag","Gildewijk, Haarwijk 2",null,4,4,4,{"$f":"'Rit overzicht 2024 '!I23","v":0},{"$f":"'Rit overzicht 2024 '!J23","v":0},{"$f":"'Rit overzicht 2024 '!K23","v":7},{"$f":"'Rit overzicht 2024 '!L23","v":3},{"$f":"'Rit overzicht 2024 '!M23","v":38},{"$f":"'Rit overzicht 2024 '!N23","v":0},{"$f":"'Rit overzicht 2024 '!O23","v":0},{"$f":"'Rit overzicht 2024 '!P23","v":1},{"$f":"'Rit overzicht 2024 '!Q23","v":9},{"$f":"'Rit overzicht 2024 '!R23","v":0},{"$f":"'Rit overzicht 2024 '!S23","v":0},{"$f":"'Rit overzicht 2024 '!T23","v":1},{"$f":"'Rit overzicht 2024 '!U23","v":7},{"$f":"'Rit overzicht 2024 '!V23","v":0},{"$f":"'Rit overzicht 2024 '!W23","v":0},{"$f":"'Rit overzicht 2024 '!X23","v":0},{"$f":"'Rit overzicht 2024 '!Y23","v":28},{"$f":"'Rit overzicht 2024 '!Z23","v":2},{"$f":"'Rit overzicht 2024 '!AA23","v":23},{"$f":"'Rit overzicht 2024 '!AB23","v":0},{"$f":"'Rit overzicht 2024 '!AC23","v":0},{"$f":"'Rit overzicht 2024 '!AD23","v":0},{"$f":"'Rit overzicht 2024 '!AE23","v":0},{"$f":"'Rit overzicht 2024 '!AF23","v":0},{"$f":"'Rit overzicht 2024 '!AG23","v":0},{"$f":"'Rit overzicht 2024 '!AH23","v":0},{"$f":"'Rit overzicht 2024 '!AI23","v":0},{"$f":"'Rit overzicht 2024 '!AJ23","v":0},{"$f":"'Rit overzicht 2024 '!AK23","v":0},{"$f":"'Rit overzicht 2024 '!AL23","v":0},{"$f":"'Rit overzicht 2024 '!AM23","v":0},{"$f":"'Rit overzicht 2024 '!AN23","v":0},{"$f":"'Rit overzicht 2024 '!AO23","v":0},{"$f":"'Rit overzicht 2024 '!AP23","v":0},{"$f":"'Rit overzicht 2024 '!AQ23","v":0},{"$f":"'Rit overzicht 2024 '!AR23","v":0},{"$f":"'Rit overzicht 2024 '!AS23","v":0},{"$f":"'Rit overzicht 2024 '!AT23","v":0},{"$f":"'Rit overzicht 2024 '!AU23","v":0},{"$f":"'Rit overzicht 2024 '!AV23","v":0},{"$f":"'Rit overzicht 2024 '!AW23","v":0},{"$f":"'Rit overzicht 2024 '!AX23","v":0},{"$f":"'Rit overzicht 2024 '!AY23","v":0},{"$f":"'Rit overzicht 2024 '!AZ23","v":0},{"$f":"'Rit overzicht 2024 '!BA23","v":0},{"$f":"'Rit overzicht 2024 '!BB23","v":0},{"$f":"'Rit overzicht 2024 '!BC23","v":0},{"$f":"'Rit overzicht 2024 '!BD23","v":0},{"$f":"'Rit overzicht 2024 '!BE23","v":0},{"$f":"'Rit overzicht 2024 '!BF23","v":0},{"$f":"'Rit overzicht 2024 '!BG23","v":0},{"$f":"'Rit overzicht 2024 '!BH23","v":0},{"$f":"'Rit overzicht 2024 '!BI23","v":7},{"$f":"'Rit overzicht 2024 '!BJ23","v":0},{"$f":"'Rit overzicht 2024 '!BK23","v":112},{"$f":"'Rit overzicht 2024 '!BL23","v":0},{"$f":"'Rit overzicht 2024 '!BM23","v":119},{"$f":"'Rit overzicht 2024 '!BN23","v":142}]
["2.1",null,"Dinsdag","Haarwijk 1 - Haarwijk 2 helpen",null,5,5,5,{"$f":"'Rit overzicht 2024 '!I24","v":0},{"$f":"'Rit overzicht 2024 '!J24","v":11},{"$f":"'Rit overzicht 2024 '!K24","v":11},{"$f":"'Rit overzicht 2024 '!L24","v":21},{"$f":"'Rit overzicht 2024 '!M24","v":20},{"$f":"'Rit overzicht 2024 '!N24","v":0},{"$f":"'Rit overzicht 2024 '!O24","v":0},{"$f":"'Rit overzicht 2024 '!P24","v":7},{"$f":"'Rit overzicht 2024 '!Q24","v":10},{"$f":"'Rit overzicht 2024 '!R24","v":0},{"$f":"'Rit overzicht 2024 '!S24","v":6},{"$f":"'Rit overzicht 2024 '!T24","v":11},{"$f":"'Rit overzicht 2024 '!U24","v":8},{"$f":"'Rit overzicht 2024 '!V24","v":0},{"$f":"'Rit overzicht 2024 '!W24","v":6},{"$f":"'Rit overzicht 2024 '!X24","v":0},{"$f":"'Rit overzicht 2024 '!Y24","v":17},{"$f":"'Rit overzicht 2024 '!Z24","v":10},{"$f":"'Rit overzicht 2024 '!AA24","v":4},{"$f":"'Rit overzicht 2024 '!AB24","v":0},{"$f":"'Rit overzicht 2024 '!AC24","v":0},{"$f":"'Rit overzicht 2024 '!AD24","v":0},{"$f":"'Rit overzicht 2024 '!AE24","v":0},{"$f":"'Rit overzicht 2024 '!AF24","v":0},{"$f":"'Rit overzicht 2024 '!AG24","v":0},{"$f":"'Rit overzicht 2024 '!AH24","v":0},{"$f":"'Rit overzicht 2024 '!AI24","v":0},{"$f":"'Rit overzicht 2024 '!AJ24","v":0},{"$f":"'Rit overzicht 2024 '!AK24","v":0},{"$f":"'Rit overzicht 2024 '!AL24","v":0},{"$f":"'Rit overzicht 2024 '!AM24","v":0},{"$f":"'Rit overzicht 2024 '!AN24","v":0},{"$f":"'Rit overzicht 2024 '!AO24","v":0},{"$f":"'Rit overzicht 2024 '!AP24","v":0},{"$f":"'Rit overzicht 2024 '!AQ24","v":0},{"$f":"'Rit overzicht 2024 '!AR24","v":0},{"$f":"'Rit overzicht 2024 '!AS24","v":0},{"$f":"'Rit overzicht 2024 '!AT24","v":0},{"$f":"'Rit overzicht 2024 '!AU24","v":0},{"$f":"'Rit overzicht 2024 '!AV24","v":0},{"$f":"'Rit overzicht 2024 '!AW24","v":0},{"$f":"'Rit overzicht 2024 '!AX24","v":0},{"$f":"'Rit overzicht 2024 '!AY24","v":0},{"$f":"'Rit overzicht 2024 '!AZ24","v":0},{"$f":"'Rit overzicht 2024 '!BA24","v":0},{"$f":"'Rit overzicht 2024 '!BB24","v":0},{"$f":"'Rit overzicht 2024 '!BC24","v":0},{"$f":"'Rit overzicht 2024 '!BD24","v":0},{"$f":"'Rit overzicht 2024 '!BE24","v":0},{"$f":"'Rit overzicht 2024 '!BF24","v":0},{"$f":"'Rit overzicht 2024 '!BG24","v":0},{"$f":"'Rit overzicht 2024 '!BH24","v":0},{"$f":"'Rit overzicht 2024 '!BI24","v":0},{"$f":"'Rit overzicht 2024 '!BJ24","v":60},{"$f":"'Rit overzicht 2024 '!BK24","v":0},{"$f":"'Rit overzicht 2024 '!BL24","v":82},{"$f":"'Rit overzicht 2024 '!BM24","v":0},{"$f":"'Rit overzicht 2024 '!BN24","v":0}]
["2.1",null,"Dinsdag","1 =Haarwijk 1 - Haarwijk 2 helpen","1= Marinus spronklaan 1",5,5,5,{"$f":"'Rit overzicht 2024 '!I25","v":0},{"$f":"'Rit overzicht 2024 '!J25","v":0},{"$f":"'Rit overzicht 2024 '!K25","v":0},{"$f":"'Rit overzicht 2024 '!L25","v":0},{"$f":"'Rit overzicht 2024 '!M25","v":0},{"$f":"'Rit overzicht 2024 '!N25","v":5},{"$f":"'Rit overzicht 2024 '!O25","v":0},{"$f":"'Rit overzicht 2024 '!P25","v":0},{"$f":"'Rit overzicht 2024 '!Q25","v":0},{"$f":"'Rit overzicht 2024 '!R25","v":0},{"$f":"'Rit overzicht 2024 '!S25","v":0},{"$f":"'Rit overzicht 2024 '!T25","v":0},{"$f":"'Rit overzicht 2024 '!U25","v":0},{"$f":"'Rit overzicht 2024 '!V25","v":0},{"$f":"'Rit overzicht 2024 '!W25","v":10},{"$f":"'Rit overzicht 2024 '!X25","v":0},{"$f":"'Rit overzicht 2024 '!Y25","v":0},{"$f":"'Rit overzicht 2024 '!Z25","v":21},{"$f":"'Rit overzicht 2024 '!AA25","v":0},{"$f":"'Rit overzicht 2024 '!AB25","v":0},{"$f":"'Rit overzicht 2024 '!AC25","v":0},{"$f":"'Rit overzicht 2024 '!AD25","v":0},{"$f":"'Rit overzicht 2024 '!AE25","v":0},{"$f":"'Rit overzicht 2024 '!AF25","v":0},{"$f":"'Rit overzicht 2024 '!AG25","v":0},{"$f":"'Rit overzicht 2024 '!AH25","v":0},{"$f":"'Rit overzicht 2024 '!AI25","v":0},{"$f":"'Rit overzicht 2024 '!AJ25","v":0},{"$f":"'Rit overzicht 2024 '!AK25","v":0},{"$f":"'Rit overzicht 2024 '!AL25","v":0},{"$f":"'Rit overzicht 2024 '!AM25","v":0},{"$f":"'Rit overzicht 2024 '!AN25","v":0},{"$f":"'Rit overzicht 2024 '!AO25","v":0},{"$f":"'Rit overzicht 2024 '!AP25","v":0},{"$f":"'Rit overzicht 2024 '!AQ25","v":0},{"$f":"'Rit overzicht 2024 '!AR25","v":0},{"$f":"'Rit overzicht 2024 '!AS25","v":0},{"$f":"'Rit overzicht 2024 '!AT25","v":0},{"$f":"'Rit overzicht 2024 '!AU25","v":0},{"$f":"'Rit overzicht 2024 '!AV25","v":0},{"$f":"'Rit overzicht 2024 '!AW25","v":0},{"$f":"'Rit overzicht 2024 '!AX25","v":0},{"$f":"'Rit overzicht 2024 '!AY25","v":0},{"$f":"'Rit overzicht 2024 '!AZ25","v":0},{"$f":"'Rit overzicht 2024 '!BA25","v":0},{"$f":"'Rit overzicht 2024 '!BB25","v":0},{"$f":"'Rit overzicht 2024 '!BC25","v":0},{"$f":"'Rit overzicht 2024 '!BD25","v":0},{"$f":"'Rit overzicht 2024 '!BE25","v":0},{"$f":"'Rit overzicht 2024 '!BF25","v":0},{"$f":"'Rit overzicht 2024 '!BG25","v":0},{"$f":"'Rit overzicht 2024 '!BH25","v":0},{"$f":"'Rit overzicht 2024 '!BI25","v":26},{"$f":"'Rit overzicht 2024 '!BJ25","v":0},{"$f":"'Rit overzicht 2024 '!BK25","v":10},{"$f":"'Rit overzicht 2024 '!BL25","v":0},{"$f":"'Rit overzicht 2024 '!BM25","v":36},{"$f":"'Rit overzicht 2024 '!BN25","v":74}]
["3.1",null,"Dinsdag","Gorinchem Wijdschild, daarna Componisten wijk",null,8,8,8,{"$f":"'Rit overzicht 2024 '!I26","v":0},{"$f":"'Rit overzicht 2024 '!J26","v":0},{"$f":"'Rit overzicht 2024 '!K26","v":0},{"$f":"'Rit overzicht 2024 '!L26","v":0},{"$f":"'Rit overzicht 2024 '!M26","v":0},{"$f":"'Rit overzicht 2024 '!N26","v":30},{"$f":"'Rit overzicht 2024 '!O26","v":0},{"$f":"'Rit overzicht 2024 '!P26","v":0},{"$f":"'Rit overzicht 2024 '!Q26","v":0},{"$f":"'Rit overzicht 2024 '!R26","v":0},{"$f":"'Rit overzicht 2024 '!S26","v":0},{"$f":"'Rit overzicht 2024 '!T26","v":0},{"$f":"'Rit overzicht 2024 '!U26","v":0},{"$f":"'Rit overzicht 2024 '!V26","v":0},{"$f":"'Rit overzicht 2024 '!W26","v":35},{"$f":"'Rit overzicht 2024 '!X26","v":0},{"$f":"'Rit overzicht 2024 '!Y26","v":0},{"$f":"'Rit overzicht 2024 '!Z26","v":9},{"$f":"'Rit overzicht 2024 '!AA26","v":0},{"$f":"'Rit overzicht 2024 '!AB26","v":0},{"$f":"'Rit overzicht 2024 '!AC26","v":0},{"$f":"'Rit overzicht 2024 '!AD26","v":0},{"$f":"'Rit overzicht 2024 '!AE26","v":0},{"$f":"'Rit overzicht 2024 '!AF26","v":0},{"$f":"'Rit overzicht 2024 '!AG26","v":0},{"$f":"'Rit overzicht 2024 '!AH26","v":0},{"$f":"'Rit overzicht 2024 '!AI26","v":0},{"$f":"'Rit overzicht 2024 '!AJ26","v":0},{"$f":"'Rit overzicht 2024 '!AK26","v":0},{"$f":"'Rit overzicht 2024 '!AL26","v":0},{"$f":"'Rit overzicht 2024 '!AM26","v":0},{"$f":"'Rit overzicht 2024 '!AN26","v":0},{"$f":"'Rit overzicht 2024 '!AO26","v":0},{"$f":"'Rit overzicht 2024 '!AP26","v":0},{"$f":"'Rit overzicht 2024 '!AQ26","v":0},{"$f":"'Rit overzicht 2024 '!AR26","v":0},{"$f":"'Rit overzicht 2024 '!AS26","v":0},{"$f":"'Rit overzicht 2024 '!AT26","v":0},{"$f":"'Rit overzicht 2024 '!AU26","v":0},{"$f":"'Rit overzicht 2024 '!AV26","v":0},{"$f":"'Rit overzicht 2024 '!AW26","v":0},{"$f":"'Rit overzicht 2024 '!AX26","v":0},{"$f":"'Rit overzicht 2024 '!AY26","v":0},{"$f":"'Rit overzicht 2024 '!AZ26","v":0},{"$f":"'Rit overzicht 2024 '!BA26","v":0},{"$f":"'Rit overzicht 2024 '!BB26","v":0},{"$f":"'Rit overzicht 2024 '!BC26","v":0},{"$f":"'Rit overzicht 2024 '!BD26","v":0},{"$f":"'Rit overzicht 2024 '!BE26","v":0},{"$f":"'Rit overzicht 2024 '!BF26","v":0},{"$f":"'Rit overzicht 2024 '!BG26","v":0},{"$f":"'Rit overzicht 2024 '!BH26","v":0},{"$f":"'Rit overzicht 2024 '!BI26","v":0},{"$f":"'Rit overzicht 2024 '!BJ26","v":39},{"$f":"'Rit overzicht 2024 '!BK26","v":0},{"$f":"'Rit overzicht 2024 '!BL26","v":35},{"$f":"'Rit overzicht 2024 '!BM26","v":0},{"$f":"'Rit overzicht 2024 '!BN26","v":0}]
["3.1",null,"Dinsdag","Gorinchem Wijdschild, daarna Componisten wijk",null,8,8,8,{"$f":"'Rit overzicht 2024 '!I27","v":0},{"$f":"'Rit overzicht 2024 '!J27","v":0},{"$f":"'Rit overzicht 2024 '!K27","v":0},{"$f":"'Rit overzicht 2024 '!L27","v":0},{"$f":"'Rit overzicht 2024 '!M27","v":0},{"$f":"'Rit overzicht 2024 '!N27","v":0},{"$f":"'Rit overzicht 2024 '!O27","v":0},{"$f":"'Rit overzicht 2024 '!P27","v":0},{"$f":"'Rit overzicht 2024 '!Q27","v":21},{"$f":"'Rit overzicht 2024 '!R27","v":1},{"$f":"'Rit overzicht 2024 '!S27","v":0},{"$f":"'Rit overzicht 2024 '!T27","v":8},{"$f":"'Rit overzicht 2024 '!U27","v":0},{"$f":"'Rit overzicht 2024 '!V27","v":0},{"$f":"'Rit overzicht 2024 '!W27","v":0},{"$f":"'Rit overzicht 2024 '!X27","v":0},{"$f":"'Rit overzicht 2024 '!Y27","v":6},{"$f":"'Rit overzicht 2024 '!Z27","v":0},{"$f":"'Rit overzicht 2024 '!AA27","v":0},{"$f":"'Rit overzicht 2024 '!AB27","v":0},{"$f":"'Rit overzicht 2024 '!AC27","v":0},{"$f":"'Rit overzicht 2024 '!AD27","v":0},{"$f":"'Rit overzicht 2024 '!AE27","v":0},{"$f":"'Rit overzicht 2024 '!AF27","v":0},{"$f":"'Rit overzicht 2024 '!AG27","v":0},{"$f":"'Rit overzicht 2024 '!AH27","v":0},{"$f":"'Rit overzicht 2024 '!AI27","v":0},{"$f":"'Rit overzicht 2024 '!AJ27","v":0},{"$f":"'Rit overzicht 2024 '!AK27","v":0},{"$f":"'Rit overzicht 2024 '!AL27","v":0},{"$f":"'Rit overzicht 2024 '!AM27","v":0},{"$f":"'Rit overzicht 2024 '!AN27","v":0},{"$f":"'Rit overzicht 2024 '!AO27","v":0},{"$f":"'Rit overzicht 2024 '!AP27","v":0},{"$f":"'Rit overzicht 2024 '!AQ27","v":0},{"$f":"'Rit overzicht 2024 '!AR27","v":0},{"$f":"'Rit overzicht 2024 '!AS27","v":0},{"$f":"'Rit overzicht 2024 '!AT27","v":0},{"$f":"'Rit overzicht 2024 '!AU27","v":0},{"$f":"'Rit overzicht 2024 '!AV27","v":0},{"$f":"'Rit overzicht 2024 '!AW27","v":0},{"$f":"'Rit overzicht 2024 '!AX27","v":0},{"$f":"'Rit overzicht 2024 '!AY27","v":0},{"$f":"'Rit overzicht 2024 '!AZ27","v":0},{"$f":"'Rit overzicht 2024 '!BA27","v":0},{"$f":"'Rit overzicht 2024 '!BB27","v":0},{"$f":"'Rit overzicht 2024 '!BC27","v":0},{"$f":"'Rit overzicht 2024 '!BD27","v":0},{"$f":"'Rit overzicht 2024 '!BE27","v":0},{"$f":"'Rit overzicht 2024 '!BF27","v":0},{"$f":"'Rit overzicht 2024 '!BG27","v":0},{"$f":"'Rit overzicht 2024 '!BH27","v":0},{"$f":"'Rit overzicht 2024 '!BI27","v":9},{"$f":"'Rit overzicht 2024 '!BJ27","v":0},{"$f":"'Rit overzicht 2024 '!BK27","v":27},{"$f":"'Rit overzicht 2024 '!BL27","v":0},{"$f":"'Rit overzicht 2024 '!BM27","v":36},{"$f":"'Rit overzicht 2024 '!BN27","v":97}]
["4.1",null,"Dinsdag","3=Hoogdalem, 2=Dalem en 1=Donken",null,7,7,7,{"$f":"'Rit overzicht 2024 '!I28","v":0},{"$f":"'Rit overzicht 2024 '!J28","v":0},{"$f":"'Rit overzicht 2024 '!K28","v":0},{"$f":"'Rit overzicht 2024 '!L28","v":0},{"$f":"'Rit overzicht 2024 '!M28","v":0},{"$f":"'Rit overzicht 2024 '!N28","v":0},{"$f":"'Rit overzicht 2024 '!O28","v":0},{"$f":"'Rit overzicht 2024 '!P28","v":0},{"$f":"'Rit overzicht 2024 '!Q28","v":33},{"$f":"'Rit overzicht 2024 '!R28","v":17},{"$f":"'Rit overzicht 2024 '!S28","v":0},{"$f":"'Rit overzicht 2024 '!T28","v":21},{"$f":"'Rit overzicht 2024 '!U28","v":0},{"$f":"'Rit overzicht 2024 '!V28","v":0},{"$f":"'Rit overzicht 2024 '!W28","v":0},{"$f":"'Rit overzicht 2024 '!X28","v":13},{"$f":"'Rit overzicht 2024 '!Y28","v":13},{"$f":"'Rit overzicht 2024 '!Z28","v":0},{"$f":"'Rit overzicht 2024 '!AA28","v":0},{"$f":"'Rit overzicht 2024 '!AB28","v":0},{"$f":"'Rit overzicht 2024 '!AC28","v":0},{"$f":"'Rit overzicht 2024 '!AD28","v":0},{"$f":"'Rit overzicht 2024 '!AE28","v":0},{"$f":"'Rit overzicht 2024 '!AF28","v":0},{"$f":"'Rit overzicht 2024 '!AG28","v":0},{"$f":"'Rit overzicht 2024 '!AH28","v":0},{"$f":"'Rit overzicht 2024 '!AI28","v":0},{"$f":"'Rit overzicht 2024 '!AJ28","v":0},{"$f":"'Rit overzicht 2024 '!AK28","v":0},{"$f":"'Rit overzicht 2024 '!AL28","v":0},{"$f":"'Rit overzicht 2024 '!AM28","v":0},{"$f":"'Rit overzicht 2024 '!AN28","v":0},{"$f":"'Rit overzicht 2024 '!AO28","v":0},{"$f":"'Rit overzicht 2024 '!AP28","v":0},{"$f":"'Rit overzicht 2024 '!AQ28","v":0},{"$f":"'Rit overzicht 2024 '!AR28","v":0},{"$f":"'Rit overzicht 2024 '!AS28","v":0},{"$f":"'Rit overzicht 2024 '!AT28","v":0},{"$f":"'Rit overzicht 2024 '!AU28","v":0},{"$f":"'Rit overzicht 2024 '!AV28","v":0},{"$f":"'Rit overzicht 2024 '!AW28","v":0},{"$f":"'Rit overzicht 2024 '!AX28","v":0},{"$f":"'Rit overzicht 2024 '!AY28","v":0},{"$f":"'Rit overzicht 2024 '!AZ28","v":0},{"$f":"'Rit overzicht 2024 '!BA28","v":0},{"$f":"'Rit overzicht 2024 '!BB28","v":0},{"$f":"'Rit overzicht 2024 '!BC28","v":0},{"$f":"'Rit overzicht 2024 '!BD28","v":0},{"$f":"'Rit overzicht 2024 '!BE28","v":0},{"$f":"'Rit overzicht 2024 '!BF28","v":0},{"$f":"'Rit overzicht 2024 '!BG28","v":0},{"$f":"'Rit overzicht 2024 '!BH28","v":0},{"$f":"'Rit overzicht 2024 '!BI28","v":0},{"$f":"'Rit overzicht 2024 '!BJ28","v":51},{"$f":"'Rit overzicht 2024 '!BK28","v":0},{"$f":"'Rit overzicht 2024 '!BL28","v":46},{"$f":"'Rit overzicht 2024 '!BM28","v":0},{"$f":"'Rit overzicht 2024 '!BN28","v":0}]
["4.1",null,"Dinsdag","3=Hoogdalem, 2=Dalem en 1=Donken","1= Merwedonk 17 2= de Wetering 2",7,7,7,{"$f":"'Rit overzicht 2024 '!I29","v":0},{"$f":"'Rit overzicht 2024 '!J29","v":0},{"$f":"'Rit overzicht 2024 '!K29","v":0},{"$f":"'Rit overzicht 2024 '!L29","v":0},{"$f":"'Rit overzicht 2024 '!M29","v":0},{"$f":"'Rit overzicht 2024 '!N29","v":0},{"$f":"'Rit overzicht 2024 '!O29","v":0},{"$f":"'Rit overzicht 2024 '!P29","v":0},{"$f":"'Rit overzicht 2024 '!Q29","v":0},{"$f":"'Rit overzicht 2024 '!R29","v":0},{"$f":"'Rit overzicht 2024 '!S29","v":0},{"$f":"'Rit overzicht 2024 '!T29","v":0},{"$f":"'Rit overzicht 2024 '!U29","v":0},{"$f":"'Rit overzicht 2024 '!V29","v":0},{"$f":"'Rit overzicht 2024 '!W29","v":0},{"$f":"'Rit overzicht 2024 '!X29","v":0},{"$f":"'Rit overzicht 2024 '!Y29","v":0},{"$f":"'Rit overzicht 2024 '!Z29","v":1},{"$f":"'Rit overzicht 2024 '!AA29","v":22},{"$f":"'Rit overzicht 2024 '!AB29","v":0},{"$f":"'Rit overzicht 2024 '!AC29","v":0},{"$f":"'Rit overzicht 2024 '!AD29","v":0},{"$f":"'Rit overzicht 2024 '!AE29","v":0},{"$f":"'Rit overzicht 2024 '!AF29","v":0},{"$f":"'Rit overzicht 2024 '!AG29","v":0},{"$f":"'Rit overzicht 2024 '!AH29","v":0},{"$f":"'Rit overzicht 2024 '!AI29","v":0},{"$f":"'Rit overzicht 2024 '!AJ29","v":0},{"$f":"'Rit overzicht 2024 '!AK29","v":0},{"$f":"'Rit overzicht 2024 '!AL29","v":0},{"$f":"'Rit overzicht 2024 '!AM29","v":0},{"$f":"'Rit overzicht 2024 '!AN29","v":0},{"$f":"'Rit overzicht 2024 '!AO29","v":0},{"$f":"'Rit overzicht 2024 '!AP29","v":0},{"$f":"'Rit overzicht 2024 '!AQ29","v":0},{"$f":"'Rit overzicht 2024 '!AR29","v":0},{"$f":"'Rit overzicht 2024 '!AS29","v":0},{"$f":"'Rit overzicht 2024 '!AT29","v":0},{"$f":"'Rit overzicht 2024 '!AU29","v":0},{"$f":"'Rit overzicht 2024 '!AV29","v":0},{"$f":"'Rit overzicht 2024 '!AW29","v":0},{"$f":"'Rit overzicht 2024 '!AX29","v":0},{"$f":"'Rit overzicht 2024 '!AY29","v":0},{"$f":"'Rit overzicht 2024 '!AZ29","v":0},{"$f":"'Rit overzicht 2024 '!BA29","v":0},{"$f":"'Rit overzicht 2024 '!BB29","v":0},{"$f":"'Rit overzicht 2024 '!BC29","v":0},{"$f":"'Rit overzicht 2024 '!BD29","v":0},{"$f":"'Rit overzicht 2024 '!BE29","v":0},{"$f":"'Rit overzicht 2024 '!BF29","v":0},{"$f":"'Rit overzicht 2024 '!BG29","v":0},{"$f":"'Rit overzicht 2024 '!BH29","v":0},{"$f":"'Rit overzicht 2024 '!BI29","v":1},{"$f":"'Rit overzicht 2024 '!BJ29","v":0},{"$f":"'Rit overzicht 2024 '!BK29","v":22},{"$f":"'Rit overzicht 2024 '!BL29","v":0},{"$f":"'Rit overzicht 2024 '!BM29","v":23},{"$f":"'Rit overzicht 2024 '!BN29","v":19}]
["5.1",null,"Dinsdag","Hoogblokland Binnen",null,5,5,5,{"$f":"'Rit overzicht 2024 '!I30","v":0},{"$f":"'Rit overzicht 2024 '!J30","v":0},{"$f":"'Rit overzicht 2024 '!K30","v":0},{"$f":"'Rit overzicht 2024 '!L30","v":0},{"$f":"'Rit overzicht 2024 '!M30","v":0},{"$f":"'Rit overzicht 2024 '!N30","v":0},{"$f":"'Rit overzicht 2024 '!O30","v":0},{"$f":"'Rit overzicht 2024 '!P30","v":0},{"$f":"'Rit overzicht 2024 '!Q30","v":0},{"$f":"'Rit overzicht 2024 '!R30","v":0},{"$f":"'Rit overzicht 2024 '!S30","v":0},{"$f":"'Rit overzicht 2024 '!T30","v":0},{"$f":"'Rit overzicht 2024 '!U30","v":0},{"$f":"'Rit overzicht 2024 '!V30","v":0},{"$f":"'Rit overzicht 2024 '!W30","v":0},{"$f":"'Rit overzicht 2024 '!X30","v":0},{"$f":"'Rit overzicht 2024 '!Y30","v":0},{"$f":"'Rit overzicht 2024 '!Z30","v":9},{"$f":"'Rit overzicht 2024 '!AA30","v":10},{"$f":"'Rit overzicht 2024 '!AB30","v":0},{"$f":"'Rit overzicht 2024 '!AC30","v":0},{"$f":"'Rit overzicht 2024 '!AD30","v":0},{"$f":"'Rit overzicht 2024 '!AE30","v":0},{"$f":"'Rit overzicht 2024 '!AF30","v":0},{"$f":"'Rit overzicht 2024 '!AG30","v":0},{"$f":"'Rit overzicht 2024 '!AH30","v":0},{"$f":"'Rit overzicht 2024 '!AI30","v":0},{"$f":"'Rit overzicht 2024 '!AJ30","v":0},{"$f":"'Rit overzicht 2024 '!AK30","v":0},{"$f":"'Rit overzicht 2024 '!AL30","v":0},{"$f":"'Rit overzicht 2024 '!AM30","v":0},{"$f":"'Rit overzicht 2024 '!AN30","v":0},{"$f":"'Rit overzicht 2024 '!AO30","v":0},{"$f":"'Rit overzicht 2024 '!AP30","v":0},{"$f":"'Rit overzicht 2024 '!AQ30","v":0},{"$f":"'Rit overzicht 2024 '!AR30","v":0},{"$f":"'Rit overzicht 2024 '!AS30","v":0},{"$f":"'Rit overzicht 2024 '!AT30","v":0},{"$f":"'Rit overzicht 2024 '!AU30","v":0},{"$f":"'Rit overzicht 2024 '!AV30","v":0},{"$f":"'Rit overzicht 2024 '!AW30","v":0},{"$f":"'Rit overzicht 2024 '!AX30","v":0},{"$f":"'Rit overzicht 2024 '!AY30","v":0},{"$f":"'Rit overzicht 2024 '!AZ30","v":0},{"$f":"'Rit overzicht 2024 '!BA30","v":0},{"$f":"'Rit overzicht 2024 '!BB30","v":0},{"$f":"'Rit overzicht 2024 '!BC30","v":0},{"$f":"'Rit overzicht 2024 '!BD30","v":0},{"$f":"'Rit overzicht 2024 '!BE30","v":0},{"$f":"'Rit overzicht 2024 '!BF30","v":0},{"$f":"'Rit overzicht 2024 '!BG30","v":0},{"$f":"'Rit overzicht 2024 '!BH30","v":0},{"$f":"'Rit overzicht 2024 '!BI30","v":0},{"$f":"'Rit overzicht 2024 '!BJ30","v":9},{"$f":"'Rit overzicht 2024 '!BK30","v":0},{"$f":"'Rit overzicht 2024 '!BL30","v":10},{"$f":"'Rit overzicht 2024 '!BM30","v":0},{"$f":"'Rit overzicht 2024 '!BN30","v":0}]
["5.1",null,"Dinsdag","Hoogblokland Binnen",null,5,5,5,{"$f":"'Rit overzicht 2024 '!I31","v":0},{"$f":"'Rit overzicht 2024 '!J31","v":0},{"$f":"'Rit overzicht 2024 '!K31","v":0},{"$f":"'Rit overzicht 2024 '!L31","v":0},{"$f":"'Rit overzicht 2024 '!M31","v":0},{"$f":"'Rit overzicht 2024 '!N31","v":0},{"$f":"'Rit overzicht 2024 '!O31","v":0},{"$f":"'Rit overzicht 2024 '!P31","v":0},{"$f":"'Rit overzicht 2024 '!Q31","v":0},{"$f":"'Rit overzicht 2024 '!R31","v":0},{"$f":"'Rit overzicht 2024 '!S31","v":0},{"$f":"'Rit overzicht 2024 '!T31","v":0},{"$f":"'Rit overzicht 2024 '!U31","v":16},{"$f":"'Rit overzicht 2024 '!V31","v":18},{"$f":"'Rit overzicht 2024 '!W31","v":24},{"$f":"'Rit overzicht 2024 '!X31","v":0},{"$f":"'Rit overzicht 2024 '!Y31","v":0},{"$f":"'Rit overzicht 2024 '!Z31","v":0},{"$f":"'Rit overzicht 2024 '!AA31","v":64},{"$f":"'Rit overzicht 2024 '!AB31","v":0},{"$f":"'Rit overzicht 2024 '!AC31","v":0},{"$f":"'Rit overzicht 2024 '!AD31","v":0},{"$f":"'Rit overzicht 2024 '!AE31","v":0},{"$f":"'Rit overzicht 2024 '!AF31","v":0},{"$f":"'Rit overzicht 2024 '!AG31","v":0},{"$f":"'Rit overzicht 2024 '!AH31","v":0},{"$f":"'Rit overzicht 2024 '!AI31","v":0},{"$f":"'Rit overzicht 2024 '!AJ31","v":0},{"$f":"'Rit overzicht 2024 '!AK31","v":0},{"$f":"'Rit overzicht 2024 '!AL31","v":0},{"$f":"'Rit overzicht 2024 '!AM31","v":0},{"$f":"'Rit overzicht 2024 '!AN31","v":0},{"$f":"'Rit overzicht 2024 '!AO31","v":0},{"$f":"'Rit overzicht 2024 '!AP31","v":0},{"$f":"'Rit overzicht 2024 '!AQ31","v":0},{"$f":"'Rit overzicht 2024 '!AR31","v":0},{"$f":"'Rit overzicht 2024 '!AS31","v":0},{"$f":"'Rit overzicht 2024 '!AT31","v":0},{"$f":"'Rit overzicht 2024 '!AU31","v":0},{"$f":"'Rit overzicht 2024 '!AV31","v":0},{"$f":"'Rit overzicht 2024 '!AW31","v":0},{"$f":"'Rit overzicht 2024 '!AX31","v":0},{"$f":"'Rit overzicht 2024 '!AY31","v":0},{"$f":"'Rit overzicht 2024 '!AZ31","v":0},{"$f":"'Rit overzicht 2024 '!BA31","v":0},{"$f":"'Rit overzicht 2024 '!BB31","v":0},{"$f":"'Rit overzicht 2024 '!BC31","v":0},{"$f":"'Rit overzicht 2024 '!BD31","v":0},{"$f":"'Rit overzicht 2024 '!BE31","v":0},{"$f":"'Rit overzicht 2024 '!BF31","v":0},{"$f":"'Rit overzicht 2024 '!BG31","v":0},{"$f":"'Rit overzicht 2024 '!BH31","v":0},{"$f":"'Rit overzicht 2024 '!BI31","v":18},{"$f":"'Rit overzicht 2024 '!BJ31","v":0},{"$f":"'Rit overzicht 2024 '!BK31","v":104},{"$f":"'Rit overzicht 2024 '!BL31","v":0},{"$f":"'Rit overzicht 2024 '!BM31","v":122},{"$f":"'Rit overzicht 2024 '!BN31","v":61}]
["6.1",null,"Dinsdag","Hoef en Haag ",null,4,3,3,{"$f":"'Rit overzicht 2024 '!I32","v":0},{"$f":"'Rit overzicht 2024 '!J32","v":0},{"$f":"'Rit overzicht 2024 '!K32","v":0},{"$f":"'Rit overzicht 2024 '!L32","v":0},{"$f":"'Rit overzicht 2024 '!M32","v":0},{"$f":"'Rit overzicht 2024 '!N32","v":0},{"$f":"'Rit overzicht 2024 '!O32","v":0},{"$f":"'Rit overzicht 2024 '!P32","v":0},{"$f":"'Rit overzicht 2024 '!Q32","v":0},{"$f":"'Rit overzicht 2024 '!R32","v":0},{"$f":"'Rit overzicht 2024 '!S32","v":0},{"$f":"'Rit overzicht 2024 '!T32","v":0},{"$f":"'Rit overzicht 2024 '!U32","v":17},{"$f":"'Rit overzicht 2024 '!V32","v":15},{"$f":"'Rit overzicht 2024 '!W32","v":16},{"$f":"'Rit overzicht 2024 '!X32","v":0},{"$f":"'Rit overzicht 2024 '!Y32","v":0},{"$f":"'Rit overzicht 2024 '!Z32","v":0},{"$f":"'Rit overzicht 2024 '!AA32","v":13},{"$f":"'Rit overzicht 2024 '!AB32","v":0},{"$f":"'Rit overzicht 2024 '!AC32","v":0},{"$f":"'Rit overzicht 2024 '!AD32","v":0},{"$f":"'Rit overzicht 2024 '!AE32","v":0},{"$f":"'Rit overzicht 2024 '!AF32","v":0},{"$f":"'Rit overzicht 2024 '!AG32","v":0},{"$f":"'Rit overzicht 2024 '!AH32","v":0},{"$f":"'Rit overzicht 2024 '!AI32","v":0},{"$f":"'Rit overzicht 2024 '!AJ32","v":0},{"$f":"'Rit overzicht 2024 '!AK32","v":0},{"$f":"'Rit overzicht 2024 '!AL32","v":0},{"$f":"'Rit overzicht 2024 '!AM32","v":0},{"$f":"'Rit overzicht 2024 '!AN32","v":0},{"$f":"'Rit overzicht 2024 '!AO32","v":0},{"$f":"'Rit overzicht 2024 '!AP32","v":0},{"$f":"'Rit overzicht 2024 '!AQ32","v":0},{"$f":"'Rit overzicht 2024 '!AR32","v":0},{"$f":"'Rit overzicht 2024 '!AS32","v":0},{"$f":"'Rit overzicht 2024 '!AT32","v":0},{"$f":"'Rit overzicht 2024 '!AU32","v":0},{"$f":"'Rit overzicht 2024 '!AV32","v":0},{"$f":"'Rit overzicht 2024 '!AW32","v":0},{"$f":"'Rit overzicht 2024 '!AX32","v":0},{"$f":"'Rit overzicht 2024 '!AY32","v":0},{"$f":"'Rit overzicht 2024 '!AZ32","v":0},{"$f":"'Rit overzicht 2024 '!BA32","v":0},{"$f":"'Rit overzicht 2024 '!BB32","v":0},{"$f":"'Rit overzicht 2024 '!BC32","v":0},{"$f":"'Rit overzicht 2024 '!BD32","v":0},{"$f":"'Rit overzicht 2024 '!BE32","v":0},{"$f":"'Rit overzicht 2024 '!BF32","v":0},{"$f":"'Rit overzicht 2024 '!BG32","v":0},{"$f":"'Rit overzicht 2024 '!BH32","v":0},{"$f":"'Rit overzicht 2024 '!BI32","v":0},{"$f":"'Rit overzicht 2024 '!BJ32","v":15},{"$f":"'Rit overzicht 2024 '!BK32","v":0},{"$f":"'Rit overzicht 2024 '!BL32","v":46},{"$f":"'Rit overzicht 2024 '!BM32","v":0},{"$f":"'Rit overzicht 2024 '!BN32","v":0}]
["6.1",null,"Dinsdag","Hoef en Haag ",null,4,3,3,{"$f":"'Rit overzicht 2024 '!I33","v":0},{"$f":"'Rit overzicht 2024 '!J33","v":0},{"$f":"'Rit overzicht 2024 '!K33","v":0},{"$f":"'Rit overzicht 2024 '!L33","v":0},{"$f":"'Rit overzicht 2024 '!M33","v":0},{"$f":"'Rit overzicht 2024 '!N33","v":0},{"$f":"'Rit overzicht 2024 '!O33","v":0},{"$f":"'Rit overzicht 2024 '!P33","v":0},{"$f":"'Rit overzicht 2024 '!Q33","v":0},{"$f":"'Rit overzicht 2024 '!R33","v":0},{"$f":"'Rit overzicht 2024 '!S33","v":0},{"$f":"'Rit overzicht 2024 '!T33","v":0},{"$f":"'Rit overzicht 2024 '!U33","v":0},{"$f":"'Rit overzicht 2024 '!V33","v":4},{"$f":"'Rit overzicht 2024 '!W33","v":3},{"$f":"'Rit overzicht 2024 '!X33","v":0},{"$f":"'Rit overzicht 2024 '!Y33","v":0},{"$f":"'Rit overzicht 2024 '!Z33","v":0},{"$f":"'Rit overzicht 2024 '!AA33","v":5},{"$f":"'Rit overzicht 2024 '!AB33","v":0},{"$f":"'Rit overzicht 2024 '!AC33","v":0},{"$f":"'Rit overzicht 2024 '!AD33","v":0},{"$f":"'Rit overzicht 2024 '!AE33","v":0},{"$f":"'Rit overzicht 2024 '!AF33","v":0},{"$f":"'Rit overzicht 2024 '!AG33","v":0},{"$f":"'Rit overzicht 2024 '!AH33","v":0},{"$f":"'Rit overzicht 2024 '!AI33","v":0},{"$f":"'Rit overzicht 2024 '!AJ33","v":0},{"$f":"'Rit overzicht 2024 '!AK33","v":0},{"$f":"'Rit overzicht 2024 '!AL33","v":0},{"$f":"'Rit overzicht 2024 '!AM33","v":0},{"$f":"'Rit overzicht 2024 '!AN33","v":0},{"$f":"'Rit overzicht 2024 '!AO33","v":0},{"$f":"'Rit overzicht 2024 '!AP33","v":0},{"$f":"'Rit overzicht 2024 '!AQ33","v":0},{"$f":"'Rit overzicht 2024 '!AR33","v":0},{"$f":"'Rit overzicht 2024 '!AS33","v":0},{"$f":"'Rit overzicht 2024 '!AT33","v":0},{"$f":"'Rit overzicht 2024 '!AU33","v":0},{"$f":"'Rit overzicht 2024 '!AV33","v":0},{"$f":"'Rit overzicht 2024 '!AW33","v":0},{"$f":"'Rit overzicht 2024 '!AX33","v":0},{"$f":"'Rit overzicht 2024 '!AY33","v":0},{"$f":"'Rit overzicht 2024 '!AZ33","v":0},{"$f":"'Rit overzicht 2024 '!BA33","v":0},{"$f":"'Rit overzicht 2024 '!BB33","v":0},{"$f":"'Rit overzicht 2024 '!BC33","v":0},{"$f":"'Rit overzicht 2024 '!BD33","v":0},{"$f":"'Rit overzicht 2024 '!BE33","v":0},{"$f":"'Rit overzicht 2024 '!BF33","v":0},{"$f":"'Rit overzicht 2024 '!BG33","v":0},{"$f":"'Rit overzicht 2024 '!BH33","v":0},{"$f":"'Rit overzicht 2024 '!BI33","v":4},{"$f":"'Rit overzicht 2024 '!BJ33","v":0},{"$f":"'Rit overzicht 2024 '!BK33","v":8},{"$f":"'Rit overzicht 2024 '!BL33","v":0},{"$f":"'Rit overzicht 2024 '!BM33","v":12},{"$f":"'Rit overzicht 2024 '!BN33","v":15}]
["6.2",null,"Dinsdag","Vianen De Hagen ",null,null,null,null,{"$f":"'Rit overzicht 2024 '!I34","v":0},{"$f":"'Rit overzicht 2024 '!J34","v":0},{"$f":"'Rit overzicht 2024 '!K34","v":0},{"$f":"'Rit overzicht 2024 '!L34","v":0},{"$f":"'Rit overzicht 2024 '!M34","v":0},{"$f":"'Rit overzicht 2024 '!N34","v":0},{"$f":"'Rit overzicht 2024 '!O34","v":0},{"$f":"'Rit overzicht 2024 '!P34","v":0},{"$f":"'Rit overzicht 2024 '!Q34","v":0},{"$f":"'Rit overzicht 2024 '!R34","v":0},{"$f":"'Rit overzicht 2024 '!S34","v":0},{"$f":"'Rit overzicht 2024 '!T34","v":0},{"$f":"'Rit overzicht 2024 '!U34","v":0},{"$f":"'Rit overzicht 2024 '!V34","v":5},{"$f":"'Rit overzicht 2024 '!W34","v":8},{"$f":"'Rit overzicht 2024 '!X34","v":0},{"$f":"'Rit overzicht 2024 '!Y34","v":0},{"$f":"'Rit overzicht 2024 '!Z34","v":0},{"$f":"'Rit overzicht 2024 '!AA34","v":2},{"$f":"'Rit overzicht 2024 '!AB34","v":0},{"$f":"'Rit overzicht 2024 '!AC34","v":0},{"$f":"'Rit overzicht 2024 '!AD34","v":0},{"$f":"'Rit overzicht 2024 '!AE34","v":0},{"$f":"'Rit overzicht 2024 '!AF34","v":0},{"$f":"'Rit overzicht 2024 '!AG34","v":0},{"$f":"'Rit overzicht 2024 '!AH34","v":0},{"$f":"'Rit overzicht 2024 '!AI34","v":0},{"$f":"'Rit overzicht 2024 '!AJ34","v":0},{"$f":"'Rit overzicht 2024 '!AK34","v":0},{"$f":"'Rit overzicht 2024 '!AL34","v":0},{"$f":"'Rit overzicht 2024 '!AM34","v":0},{"$f":"'Rit overzicht 2024 '!AN34","v":0},{"$f":"'Rit overzicht 2024 '!AO34","v":0},{"$f":"'Rit overzicht 2024 '!AP34","v":0},{"$f":"'Rit overzicht 2024 '!AQ34","v":0},{"$f":"'Rit overzicht 2024 '!AR34","v":0},{"$f":"'Rit overzicht 2024 '!AS34","v":0},{"$f":"'Rit overzicht 2024 '!AT34","v":0},{"$f":"'Rit overzicht 2024 '!AU34","v":0},{"$f":"'Rit overzicht 2024 '!AV34","v":0},{"$f":"'Rit overzicht 2024 '!AW34","v":0},{"$f":"'Rit overzicht 2024 '!AX34","v":0},{"$f":"'Rit overzicht 2024 '!AY34","v":0},{"$f":"'Rit overzicht 2024 '!AZ34","v":0},{"$f":"'Rit overzicht 2024 '!BA34","v":0},{"$f":"'Rit overzicht 2024 '!BB34","v":0},{"$f":"'Rit overzicht 2024 '!BC34","v":0},{"$f":"'Rit overzicht 2024 '!BD34","v":0},{"$f":"'Rit overzicht 2024 '!BE34","v":0},{"$f":"'Rit overzicht 2024 '!BF34","v":0},{"$f":"'Rit overzicht 2024 '!BG34","v":0},{"$f":"'Rit overzicht 2024 '!BH34","v":0},{"$f":"'Rit overzicht 2024 '!BI34","v":0},{"$f":"'Rit overzicht 2024 '!BJ34","v":5},{"$f":"'Rit overzicht 2024 '!BK34","v":0},{"$f":"'Rit overzicht 2024 '!BL34","v":10},{"$f":"'Rit overzicht 2024 '!BM34","v":0},{"$f":"'Rit overzicht 2024 '!BN34","v":0}]
["6.2",null,"Dinsdag","Vianen De Hagen ",null,null,null,null,{"$f":"'Rit overzicht 2024 '!I35","v":0},{"$f":"'Rit overzicht 2024 '!J35","v":0},{"$f":"'Rit overzicht 2024 '!K35","v":0},{"$f":"'Rit overzicht 2024 '!L35","v":0},{"$f":"'Rit overzicht 2024 '!M35","v":0},{"$f":"'Rit overzicht 2024 '!N35","v":0},{"$f":"'Rit overzicht 2024 '!O35","v":0},{"$f":"'Rit overzicht 2024 '!P35","v":0},{"$f":"'Rit overzicht 2024 '!Q35","v":0},{"$f":"'Rit overzicht 2024 '!R35","v":0},{"$f":"'Rit overzicht 2024 '!S35","v":0},{"$f":"'Rit overzicht 2024 '!T35","v":0},{"$f":"'Rit overzicht 2024 '!U35","v":5},{"$f":"'Rit overzicht 2024 '!V35","v":0},{"$f":"'Rit overzicht 2024 '!W35","v":0},{"$f":"'Rit overzicht 2024 '!X35","v":0},{"$f":"'Rit overzicht 2024 '!Y35","v":0},{"$f":"'Rit overzicht 2024 '!Z35","v":0},{"$f":"'Rit overzicht 2024 '!AA35","v":0},{"$f":"'Rit overzicht 2024 '!AB35","v":0},{"$f":"'Rit overzicht 2024 '!AC35","v":0},{"$f":"'Rit overzicht 2024 '!AD35","v":0},{"$f":"'Rit overzicht 2024 '!AE35","v":0},{"$f":"'Rit overzicht 2024 '!AF35","v":0},{"$f":"'Rit overzicht 2024 '!AG35","v":0},{"$f":"'Rit overzicht 2024 '!AH35","v":0},{"$f":"'Rit overzicht 2024 '!AI35","v":0},{"$f":"'Rit overzicht 2024 '!AJ35","v":0},{"$f":"'Rit overzicht 2024 '!AK35","v":0},{"$f":"'Rit overzicht 2024 '!AL35","v":0},{"$f":"'Rit overzicht 2024 '!AM35","v":0},{"$f":"'Rit overzicht 2024 '!AN35","v":0},{"$f":"'Rit overzicht 2024 '!AO35","v":0},{"$f":"'Rit overzicht 2024 '!AP35","v":0},{"$f":"'Rit overzicht 2024 '!AQ35","v":0},{"$f":"'Rit overzicht 2024 '!AR35","v":0},{"$f":"'Rit overzicht 2024 '!AS35","v":0},{"$f":"'Rit overzicht 2024 '!AT35","v":0},{"$f":"'Rit overzicht 2024 '!AU35","v":0},{"$f":"'Rit overzicht 2024 '!AV35","v":0},{"$f":"'Rit overzicht 2024 '!AW35","v":0},{"$f":"'Rit overzicht 2024 '!AX35","v":0},{"$f":"'Rit overzicht 2024 '!AY35","v":0},{"$f":"'Rit overzicht 2024 '!AZ35","v":0},{"$f":"'Rit overzicht 2024 '!BA35","v":0},{"$f":"'Rit overzicht 2024 '!BB35","v":0},{"$f":"'Rit overzicht 2024 '!BC35","v":0},{"$f":"'Rit overzicht 2024 '!BD35","v":0},{"$f":"'Rit overzicht 2024 '!BE35","v":0},{"$f":"'Rit overzicht 2024 '!BF35","v":0},{"$f":"'Rit overzicht 2024 '!BG35","v":0},{"$f":"'Rit overzicht 2024 '!BH35","v":0},{"$f":"'Rit overzicht 2024 '!BI35","v":0},{"$f":"'Rit overzicht 2024 '!BJ35","v":0},{"$f":"'Rit overzicht 2024 '!BK35","v":5},{"$f":"'Rit overzicht 2024 '!BL35","v":0},{"$f":"'Rit overzicht 2024 '!BM35","v":5},{"$f":"'Rit overzicht 2024 '!BN35","v":17}]
["7.1",null,"Dinsdag"," Vianen Centrum en Hagestein",null,null,null,null,{"$f":"'Rit overzicht 2024 '!I36","v":0},{"$f":"'Rit overzicht 2024 '!J36","v":0},{"$f":"'Rit overzicht 2024 '!K36","v":0},{"$f":"'Rit overzicht 2024 '!L36","v":0},{"$f":"'Rit overzicht 2024 '!M36","v":0},{"$f":"'Rit overzicht 2024 '!N36","v":0},{"$f":"'Rit overzicht 2024 '!O36","v":0},{"$f":"'Rit overzicht 2024 '!P36","v":0},{"$f":"'Rit overzicht 2024 '!Q36","v":0},{"$f":"'Rit overzicht 2024 '!R36","v":0},{"$f":"'Rit overzicht 2024 '!S36","v":0},{"$f":"'Rit overzicht 2024 '!T36","v":0},{"$f":"'Rit overzicht 2024 '!U36","v":17},{"$f":"'Rit overzicht 2024 '!V36","v":0},{"$f":"'Rit overzicht 2024 '!W36","v":0},{"$f":"'Rit overzicht 2024 '!X36","v":0},{"$f":"'Rit overzicht 2024 '!Y36","v":0},{"$f":"'Rit overzicht 2024 '!Z36","v":0},{"$f":"'Rit overzicht 2024 '!AA36","v":0},{"$f":"'Rit overzicht 2024 '!AB36","v":0},{"$f":"'Rit overzicht 2024 '!AC36","v":0},{"$f":"'Rit overzicht 2024 '!AD36","v":0},{"$f":"'Rit overzicht 2024 '!AE36","v":0},{"$f":"'Rit overzicht 2024 '!AF36","v":0},{"$f":"'Rit overzicht 2024 '!AG36","v":0},{"$f":"'Rit overzicht 2024 '!AH36","v":0},{"$f":"'Rit overzicht 2024 '!AI36","v":0},{"$f":"'Rit overzicht 2024 '!AJ36","v":0},{"$f":"'Rit overzicht 2024 '!AK36","v":0},{"$f":"'Rit overzicht 2024 '!AL36","v":0},{"$f":"'Rit overzicht 2024 '!AM36","v":0},{"$f":"'Rit overzicht 2024 '!AN36","v":0},{"$f":"'Rit overzicht 2024 '!AO36","v":0},{"$f":"'Rit overzicht 2024 '!AP36","v":0},{"$f":"'Rit overzicht 2024 '!AQ36","v":0},{"$f":"'Rit overzicht 2024 '!AR36","v":0},{"$f":"'Rit overzicht 2024 '!AS36","v":0},{"$f":"'Rit overzicht 2024 '!AT36","v":0},{"$f":"'Rit overzicht 2024 '!AU36","v":0},{"$f":"'Rit overzicht 2024 '!AV36","v":0},{"$f":"'Rit overzicht 2024 '!AW36","v":0},{"$f":"'Rit overzicht 2024 '!AX36","v":0},{"$f":"'Rit overzicht 2024 '!AY36","v":0},{"$f":"'Rit overzicht 2024 '!AZ36","v":0},{"$f":"'Rit overzicht 2024 '!BA36","v":0},{"$f":"'Rit overzicht 2024 '!BB36","v":0},{"$f":"'Rit overzicht 2024 '!BC36","v":0},{"$f":"'Rit overzicht 2024 '!BD36","v":0},{"$f":"'Rit overzicht 2024 '!BE36","v":0},{"$f":"'Rit overzicht 2024 '!BF36","v":0},{"$f":"'Rit overzicht 2024 '!BG36","v":0},{"$f":"'Rit overzicht 2024 '!BH36","v":0},{"$f":"'Rit overzicht 2024 '!BI36","v":0},{"$f":"'Rit overzicht 2024 '!BJ36","v":0},{"$f":"'Rit overzicht 2024 '!BK36","v":0},{"$f":"'Rit overzicht 2024 '!BL36","v":17},{"$f":"'Rit overzicht 2024 '!BM36","v":0},{"$f":"'Rit overzicht 2024 '!BN36","v":0}]
["7.1",null,"Dinsdag"," Vianen Centrum en Hagestein",null,null,null,null,{"$f":"'Rit overzicht 2024 '!I37","v":0},{"$f":"'Rit overzicht 2024 '!J37","v":0},{"$f":"'Rit overzicht 2024 '!K37","v":0},{"$f":"'Rit overzicht 2024 '!L37","v":0},{"$f":"'Rit overzicht 2024 '!M37","v":0},{"$f":"'Rit overzicht 2024 '!N37","v":0},{"$f":"'Rit overzicht 2024 '!O37","v":0},{"$f":"'Rit overzicht 2024 '!P37","v":0},{"$f":"'Rit overzicht 2024 '!Q37","v":0},{"$f":"'Rit overzicht 2024 '!R37","v":0},{"$f":"'Rit overzicht 2024 '!S37","v":0},{"$f":"'Rit overzicht 2024 '!T37","v":0},{"$f":"'Rit overzicht 2024 '!U37","v":0},{"$f":"'Rit overzicht 2024 '!V37","v":0},{"$f":"'Rit overzicht 2024 '!W37","v":0},{"$f":"'Rit overzicht 2024 '!X37","v":0},{"$f":"'Rit overzicht 2024 '!Y37","v":0},{"$f":"'Rit overzicht 2024 '!Z37","v":0},{"$f":"'Rit overzicht 2024 '!AA37","v":0},{"$f":"'Rit overzicht 2024 '!AB37","v":0},{"$f":"'Rit overzicht 2024 '!AC37","v":0},{"$f":"'Rit overzicht 2024 '!AD37","v":0},{"$f":"'Rit overzicht 2024 '!AE37","v":0},{"$f":"'Rit overzicht 2024 '!AF37","v":0},{"$f":"'Rit overzicht 2024 '!AG37","v":0},{"$f":"'Rit overzicht 2024 '!AH37","v":0},{"$f":"'Rit overzicht 2024 '!AI37","v":0},{"$f":"'Rit overzicht 2024 '!AJ37","v":0},{"$f":"'Rit overzicht 2024 '!AK37","v":0},{"$f":"'Rit overzicht 2024 '!AL37","v":0},{"$f":"'Rit overzicht 2024 '!AM37","v":0},{"$f":"'Rit overzicht 2024 '!AN37","v":0},{"$f":"'Rit overzicht 2024 '!AO37","v":0},{"$f":"'Rit overzicht 2024 '!AP37","v":0},{"$f":"'Rit overzicht 2024 '!AQ37","v":0},{"$f":"'Rit overzicht 2024 '!AR37","v":0},{"$f":"'Rit overzicht 2024 '!AS37","v":0},{"$f":"'Rit overzicht 2024 '!AT37","v":0},{"$f":"'Rit overzicht 2024 '!AU37","v":0},{"$f":"'Rit overzicht 2024 '!AV37","v":0},{"$f":"'Rit overzicht 2024 '!AW37","v":0},{"$f":"'Rit overzicht 2024 '!AX37","v":0},{"$f":"'Rit overzicht 2024 '!AY37","v":0},{"$f":"'Rit overzicht 2024 '!AZ37","v":0},{"$f":"'Rit overzicht 2024 '!BA37","v":0},{"$f":"'Rit overzicht 2024 '!BB37","v":0},{"$f":"'Rit overzicht 2024 '!BC37","v":0},{"$f":"'Rit overzicht 2024 '!BD37","v":0},{"$f":"'Rit overzicht 2024 '!BE37","v":0},{"$f":"'Rit overzicht 2024 '!BF37","v":0},{"$f":"'Rit overzicht 2024 '!BG37","v":0},{"$f":"'Rit overzicht 2024 '!BH37","v":0},{"$f":"'Rit overzicht 2024 '!BI37","v":0},{"$f":"'Rit overzicht 2024 '!BJ37","v":0},{"$f":"'Rit overzicht 2024 '!BK37","v":0},{"$f":"'Rit overzicht 2024 '!BL37","v":0},{"$f":"'Rit overzicht 2024 '!BM37","v":0},{"$f":"'Rit overzicht 2024 '!BN37","v":15}]
["8.1",null,"Dinsdag","1=Hoornaar  2 Schelluinen binnen",null,3,3,3,{"$f":"'Rit overzicht 2024 '!I38","v":0},{"$f":"'Rit overzicht 2024 '!J38","v":0},{"$f":"'Rit overzicht 2024 '!K38","v":0},{"$f":"'Rit overzicht 2024 '!L38","v":0},{"$f":"'Rit overzicht 2024 '!M38","v":0},{"$f":"'Rit overzicht 2024 '!N38","v":0},{"$f":"'Rit overzicht 2024 '!O38","v":0},{"$f":"'Rit overzicht 2024 '!P38","v":0},{"$f":"'Rit overzicht 2024 '!Q38","v":0},{"$f":"'Rit overzicht 2024 '!R38","v":0},{"$f":"'Rit overzicht 2024 '!S38","v":15},{"$f":"'Rit overzicht 2024 '!T38","v":0},{"$f":"'Rit overzicht 2024 '!U38","v":0},{"$f":"'Rit overzicht 2024 '!V38","v":0},{"$f":"'Rit overzicht 2024 '!W38","v":0},{"$f":"'Rit overzicht 2024 '!X38","v":0},{"$f":"'Rit overzicht 2024 '!Y38","v":0},{"$f":"'Rit overzicht 2024 '!Z38","v":0},{"$f":"'Rit overzicht 2024 '!AA38","v":0},{"$f":"'Rit overzicht 2024 '!AB38","v":0},{"$f":"'Rit overzicht 2024 '!AC38","v":0},{"$f":"'Rit overzicht 2024 '!AD38","v":0},{"$f":"'Rit overzicht 2024 '!AE38","v":0},{"$f":"'Rit overzicht 2024 '!AF38","v":0},{"$f":"'Rit overzicht 2024 '!AG38","v":0},{"$f":"'Rit overzicht 2024 '!AH38","v":0},{"$f":"'Rit overzicht 2024 '!AI38","v":0},{"$f":"'Rit overzicht 2024 '!AJ38","v":0},{"$f":"'Rit overzicht 2024 '!AK38","v":0},{"$f":"'Rit overzicht 2024 '!AL38","v":0},{"$f":"'Rit overzicht 2024 '!AM38","v":0},{"$f":"'Rit overzicht 2024 '!AN38","v":0},{"$f":"'Rit overzicht 2024 '!AO38","v":0},{"$f":"'Rit overzicht 2024 '!AP38","v":0},{"$f":"'Rit overzicht 2024 '!AQ38","v":0},{"$f":"'Rit overzicht 2024 '!AR38","v":0},{"$f":"'Rit overzicht 2024 '!AS38","v":0},{"$f":"'Rit overzicht 2024 '!AT38","v":0},{"$f":"'Rit overzicht 2024 '!AU38","v":0},{"$f":"'Rit overzicht 2024 '!AV38","v":0},{"$f":"'Rit overzicht 2024 '!AW38","v":0},{"$f":"'Rit overzicht 2024 '!AX38","v":0},{"$f":"'Rit overzicht 2024 '!AY38","v":0},{"$f":"'Rit overzicht 2024 '!AZ38","v":0},{"$f":"'Rit overzicht 2024 '!BA38","v":0},{"$f":"'Rit overzicht 2024 '!BB38","v":0},{"$f":"'Rit overzicht 2024 '!BC38","v":0},{"$f":"'Rit overzicht 2024 '!BD38","v":0},{"$f":"'Rit overzicht 2024 '!BE38","v":0},{"$f":"'Rit overzicht 2024 '!BF38","v":0},{"$f":"'Rit overzicht 2024 '!BG38","v":0},{"$f":"'Rit overzicht 2024 '!BH38","v":0},{"$f":"'Rit overzicht 2024 '!BI38","v":0},{"$f":"'Rit overzicht 2024 '!BJ38","v":0},{"$f":"'Rit overzicht 2024 '!BK38","v":0},{"$f":"'Rit overzicht 2024 '!BL38","v":15},{"$f":"'Rit overzicht 2024 '!BM38","v":0},{"$f":"'Rit overzicht 2024 '!BN38","v":0}]
["8.1",null,"Dinsdag","1 = Hoornaar 2= Schelluinen binnen","1 = Weide 33A 2 = Commanderijstraat 28",3,3,3,{"$f":"'Rit overzicht 2024 '!I39","v":0},{"$f":"'Rit overzicht 2024 '!J39","v":0},{"$f":"'Rit overzicht 2024 '!K39","v":0},{"$f":"'Rit overzicht 2024 '!L39","v":0},{"$f":"'Rit overzicht 2024 '!M39","v":0},{"$f":"'Rit overzicht 2024 '!N39","v":0},{"$f":"'Rit overzicht 2024 '!O39","v":0},{"$f":"'Rit overzicht 2024 '!P39","v":0},{"$f":"'Rit overzicht 2024 '!Q39","v":0},{"$f":"'Rit overzicht 2024 '!R39","v":0},{"$f":"'Rit overzicht 2024 '!S39","v":8},{"$f":"'Rit overzicht 2024 '!T39","v":0},{"$f":"'Rit overzicht 2024 '!U39","v":0},{"$f":"'Rit overzicht 2024 '!V39","v":0},{"$f":"'Rit overzicht 2024 '!W39","v":0},{"$f":"'Rit overzicht 2024 '!X39","v":0},{"$f":"'Rit overzicht 2024 '!Y39","v":0},{"$f":"'Rit overzicht 2024 '!Z39","v":0},{"$f":"'Rit overzicht 2024 '!AA39","v":0},{"$f":"'Rit overzicht 2024 '!AB39","v":0},{"$f":"'Rit overzicht 2024 '!AC39","v":0},{"$f":"'Rit overzicht 2024 '!AD39","v":0},{"$f":"'Rit overzicht 2024 '!AE39","v":0},{"$f":"'Rit overzicht 2024 '!AF39","v":0},{"$f":"'Rit overzicht 2024 '!AG39","v":0},{"$f":"'Rit overzicht 2024 '!AH39","v":0},{"$f":"'Rit overzicht 2024 '!AI39","v":0},{"$f":"'Rit overzicht 2024 '!AJ39","v":0},{"$f":"'Rit overzicht 2024 '!AK39","v":0},{"$f":"'Rit overzicht 2024 '!AL39","v":0},{"$f":"'Rit overzicht 2024 '!AM39","v":0},{"$f":"'Rit overzicht 2024 '!AN39","v":0},{"$f":"'Rit overzicht 2024 '!AO39","v":0},{"$f":"'Rit overzicht 2024 '!AP39","v":0},{"$f":"'Rit overzicht 2024 '!AQ39","v":0},{"$f":"'Rit overzicht 2024 '!AR39","v":0},{"$f":"'Rit overzicht 2024 '!AS39","v":0},{"$f":"'Rit overzicht 2024 '!AT39","v":0},{"$f":"'Rit overzicht 2024 '!AU39","v":0},{"$f":"'Rit overzicht 2024 '!AV39","v":0},{"$f":"'Rit overzicht 2024 '!AW39","v":0},{"$f":"'Rit overzicht 2024 '!AX39","v":0},{"$f":"'Rit overzicht 2024 '!AY39","v":0},{"$f":"'Rit overzicht 2024 '!AZ39","v":0},{"$f":"'Rit overzicht 2024 '!BA39","v":0},{"$f":"'Rit overzicht 2024 '!BB39","v":0},{"$f":"'Rit overzicht 2024 '!BC39","v":0},{"$f":"'Rit overzicht 2024 '!BD39","v":0},{"$f":"'Rit overzicht 2024 '!BE39","v":0},{"$f":"'Rit overzicht 2024 '!BF39","v":0},{"$f":"'Rit overzicht 2024 '!BG39","v":0},{"$f":"'Rit overzicht 2024 '!BH39","v":0},{"$f":"'Rit overzicht 2024 '!BI39","v":0},{"$f":"'Rit overzicht 2024 '!BJ39","v":0},{"$f":"'Rit overzicht 2024 '!BK39","v":8},{"$f":"'Rit overzicht 2024 '!BL39","v":0},{"$f":"'Rit overzicht 2024 '!BM39","v":8},{"$f":"'Rit overzicht 2024 '!BN39","v":18}]
["8.2",null,"Dinsdag","1 =Stalkaarsen oude Hoven",null,3,3,3,{"$f":"'Rit overzicht 2024 '!I40","v":0},{"$f":"'Rit overzicht 2024 '!J40","v":0},{"$f":"'Rit overzicht 2024 '!K40","v":10},{"$f":"'Rit overzicht 2024 '!L40","v":0},{"$f":"'Rit overzicht 2024 '!M40","v":0},{"$f":"'Rit overzicht 2024 '!N40","v":0},{"$f":"'Rit overzicht 2024 '!O40","v":0},{"$f":"'Rit overzicht 2024 '!P40","v":0},{"$f":"'Rit overzicht 2024 '!Q40","v":0},{"$f":"'Rit overzicht 2024 '!R40","v":0},{"$f":"'Rit overzicht 2024 '!S40","v":8},{"$f":"'Rit overzicht 2024 '!T40","v":0},{"$f":"'Rit overzicht 2024 '!U40","v":0},{"$f":"'Rit overzicht 2024 '!V40","v":0},{"$f":"'Rit overzicht 2024 '!W40","v":0},{"$f":"'Rit overzicht 2024 '!X40","v":0},{"$f":"'Rit overzicht 2024 '!Y40","v":0},{"$f":"'Rit overzicht 2024 '!Z40","v":0},{"$f":"'Rit overzicht 2024 '!AA40","v":0},{"$f":"'Rit overzicht 2024 '!AB40","v":0},{"$f":"'Rit overzicht 2024 '!AC40","v":0},{"$f":"'Rit overzicht 2024 '!AD40","v":0},{"$f":"'Rit overzicht 2024 '!AE40","v":0},{"$f":"'Rit overzicht 2024 '!AF40","v":0},{"$f":"'Rit overzicht 2024 '!AG40","v":0},{"$f":"'Rit overzicht 2024 '!AH40","v":0},{"$f":"'Rit overzicht 2024 '!AI40","v":0},{"$f":"'Rit overzicht 2024 '!AJ40","v":0},{"$f":"'Rit overzicht 2024 '!AK40","v":0},{"$f":"'Rit overzicht 2024 '!AL40","v":0},{"$f":"'Rit overzicht 2024 '!AM40","v":0},{"$f":"'Rit overzicht 2024 '!AN40","v":0},{"$f":"'Rit overzicht 2024 '!AO40","v":0},{"$f":"'Rit overzicht 2024 '!AP40","v":0},{"$f":"'Rit overzicht 2024 '!AQ40","v":0},{"$f":"'Rit overzicht 2024 '!AR40","v":0},{"$f":"'Rit overzicht 2024 '!AS40","v":0},{"$f":"'Rit overzicht 2024 '!AT40","v":0},{"$f":"'Rit overzicht 2024 '!AU40","v":0},{"$f":"'Rit overzicht 2024 '!AV40","v":0},{"$f":"'Rit overzicht 2024 '!AW40","v":0},{"$f":"'Rit overzicht 2024 '!AX40","v":0},{"$f":"'Rit overzicht 2024 '!AY40","v":0},{"$f":"'Rit overzicht 2024 '!AZ40","v":0},{"$f":"'Rit overzicht 2024 '!BA40","v":0},{"$f":"'Rit overzicht 2024 '!BB40","v":0},{"$f":"'Rit overzicht 2024 '!BC40","v":0},{"$f":"'Rit overzicht 2024 '!BD40","v":0},{"$f":"'Rit overzicht 2024 '!BE40","v":0},{"$f":"'Rit overzicht 2024 '!BF40","v":0},{"$f":"'Rit overzicht 2024 '!BG40","v":0},{"$f":"'Rit overzicht 2024 '!BH40","v":0},{"$f":"'Rit overzicht 2024 '!BI40","v":0},{"$f":"'Rit overzicht 2024 '!BJ40","v":0},{"$f":"'Rit overzicht 2024 '!BK40","v":0},{"$f":"'Rit overzicht 2024 '!BL40","v":18},{"$f":"'Rit overzicht 2024 '!BM40","v":0},{"$f":"'Rit overzicht 2024 '!BN40","v":0}]
["8.2",null,"Dinsdag","1 =Stalkaarsen oude Hoven","1 = Dokter Schoyerstraat 43",3,3,3,{"$f":"'Rit overzicht 2024 '!I41","v":4},{"$f":"'Rit overzicht 2024 '!J41","v":0},{"$f":"'Rit overzicht 2024 '!K41","v":0},{"$f":"'Rit overzicht 2024 '!L41","v":0},{"$f":"'Rit overzicht 2024 '!M41","v":9},{"$f":"'Rit overzicht 2024 '!N41","v":2},{"$f":"'Rit overzicht 2024 '!O41","v":0},{"$f":"'Rit overzicht 2024 '!P41","v":6},{"$f":"'Rit overzicht 2024 '!Q41","v":14},{"$f":"'Rit overzicht 2024 '!R41","v":0},{"$f":"'Rit overzicht 2024 '!S41","v":6},{"$f":"'Rit overzicht 2024 '!T41","v":0},{"$f":"'Rit overzicht 2024 '!U41","v":0},{"$f":"'Rit overzicht 2024 '!V41","v":9},{"$f":"'Rit overzicht 2024 '!W41","v":29},{"$f":"'Rit overzicht 2024 '!X41","v":0},{"$f":"'Rit overzicht 2024 '!Y41","v":7},{"$f":"'Rit overzicht 2024 '!Z41","v":0},{"$f":"'Rit overzicht 2024 '!AA41","v":0},{"$f":"'Rit overzicht 2024 '!AB41","v":0},{"$f":"'Rit overzicht 2024 '!AC41","v":0},{"$f":"'Rit overzicht 2024 '!AD41","v":0},{"$f":"'Rit overzicht 2024 '!AE41","v":0},{"$f":"'Rit overzicht 2024 '!AF41","v":0},{"$f":"'Rit overzicht 2024 '!AG41","v":0},{"$f":"'Rit overzicht 2024 '!AH41","v":0},{"$f":"'Rit overzicht 2024 '!AI41","v":0},{"$f":"'Rit overzicht 2024 '!AJ41","v":0},{"$f":"'Rit overzicht 2024 '!AK41","v":0},{"$f":"'Rit overzicht 2024 '!AL41","v":0},{"$f":"'Rit overzicht 2024 '!AM41","v":0},{"$f":"'Rit overzicht 2024 '!AN41","v":0},{"$f":"'Rit overzicht 2024 '!AO41","v":0},{"$f":"'Rit overzicht 2024 '!AP41","v":0},{"$f":"'Rit overzicht 2024 '!AQ41","v":0},{"$f":"'Rit overzicht 2024 '!AR41","v":0},{"$f":"'Rit overzicht 2024 '!AS41","v":0},{"$f":"'Rit overzicht 2024 '!AT41","v":0},{"$f":"'Rit overzicht 2024 '!AU41","v":0},{"$f":"'Rit overzicht 2024 '!AV41","v":0},{"$f":"'Rit overzicht 2024 '!AW41","v":0},{"$f":"'Rit overzicht 2024 '!AX41","v":0},{"$f":"'Rit overzicht 2024 '!AY41","v":0},{"$f":"'Rit overzicht 2024 '!AZ41","v":0},{"$f":"'Rit overzicht 2024 '!BA41","v":0},{"$f":"'Rit overzicht 2024 '!BB41","v":0},{"$f":"'Rit overzicht 2024 '!BC41","v":0},{"$f":"'Rit overzicht 2024 '!BD41","v":0},{"$f":"'Rit overzicht 2024 '!BE41","v":0},{"$f":"'Rit overzicht 2024 '!BF41","v":0},{"$f":"'Rit overzicht 2024 '!BG41","v":0},{"$f":"'Rit overzicht 2024 '!BH41","v":0},{"$f":"'Rit overzicht 2024 '!BI41","v":17},{"$f":"'Rit overzicht 2024 '!BJ41","v":0},{"$f":"'Rit overzicht 2024 '!BK41","v":69},{"$f":"'Rit overzicht 2024 '!BL41","v":0},{"$f":"'Rit overzicht 2024 '!BM41","v":86},{"$f":"'Rit overzicht 2024 '!BN41","v":189}]
["1.1",null,"Woensdag","Arkel binnen (helemaal) - Meerkerk",null,8,8,7,{"$f":"'Rit overzicht 2024 '!I42","v":10},{"$f":"'Rit overzicht 2024 '!J42","v":0},{"$f":"'Rit overzicht 2024 '!K42","v":0},{"$f":"'Rit overzicht 2024 '!L42","v":0},{"$f":"'Rit overzicht 2024 '!M42","v":30},{"$f":"'Rit overzicht 2024 '!N42","v":41},{"$f":"'Rit overzicht 2024 '!O42","v":0},{"$f":"'Rit overzicht 2024 '!P42","v":16},{"$f":"'Rit overzicht 2024 '!Q42","v":18},{"$f":"'Rit overzicht 2024 '!R42","v":0},{"$f":"'Rit overzicht 2024 '!S42","v":12},{"$f":"'Rit overzicht 2024 '!T42","v":0},{"$f":"'Rit overzicht 2024 '!U42","v":0},{"$f":"'Rit overzicht 2024 '!V42","v":13},{"$f":"'Rit overzicht 2024 '!W42","v":38},{"$f":"'Rit overzicht 2024 '!X42","v":0},{"$f":"'Rit overzicht 2024 '!Y42","v":7},{"$f":"'Rit overzicht 2024 '!Z42","v":4},{"$f":"'Rit overzicht 2024 '!AA42","v":0},{"$f":"'Rit overzicht 2024 '!AB42","v":0},{"$f":"'Rit overzicht 2024 '!AC42","v":0},{"$f":"'Rit overzicht 2024 '!AD42","v":0},{"$f":"'Rit overzicht 2024 '!AE42","v":0},{"$f":"'Rit overzicht 2024 '!AF42","v":0},{"$f":"'Rit overzicht 2024 '!AG42","v":0},{"$f":"'Rit overzicht 2024 '!AH42","v":0},{"$f":"'Rit overzicht 2024 '!AI42","v":0},{"$f":"'Rit overzicht 2024 '!AJ42","v":0},{"$f":"'Rit overzicht 2024 '!AK42","v":0},{"$f":"'Rit overzicht 2024 '!AL42","v":0},{"$f":"'Rit overzicht 2024 '!AM42","v":0},{"$f":"'Rit overzicht 2024 '!AN42","v":0},{"$f":"'Rit overzicht 2024 '!AO42","v":0},{"$f":"'Rit overzicht 2024 '!AP42","v":0},{"$f":"'Rit overzicht 2024 '!AQ42","v":0},{"$f":"'Rit overzicht 2024 '!AR42","v":0},{"$f":"'Rit overzicht 2024 '!AS42","v":0},{"$f":"'Rit overzicht 2024 '!AT42","v":0},{"$f":"'Rit overzicht 2024 '!AU42","v":0},{"$f":"'Rit overzicht 2024 '!AV42","v":0},{"$f":"'Rit overzicht 2024 '!AW42","v":0},{"$f":"'Rit overzicht 2024 '!AX42","v":0},{"$f":"'Rit overzicht 2024 '!AY42","v":0},{"$f":"'Rit overzicht 2024 '!AZ42","v":0},{"$f":"'Rit overzicht 2024 '!BA42","v":0},{"$f":"'Rit overzicht 2024 '!BB42","v":0},{"$f":"'Rit overzicht 2024 '!BC42","v":0},{"$f":"'Rit overzicht 2024 '!BD42","v":0},{"$f":"'Rit overzicht 2024 '!BE42","v":0},{"$f":"'Rit overzicht 2024 '!BF42","v":0},{"$f":"'Rit overzicht 2024 '!BG42","v":0},{"$f":"'Rit overzicht 2024 '!BH42","v":0},{"$f":"'Rit overzicht 2024 '!BI42","v":0},{"$f":"'Rit overzicht 2024 '!BJ42","v":74},{"$f":"'Rit overzicht 2024 '!BK42","v":0},{"$f":"'Rit overzicht 2024 '!BL42","v":115},{"$f":"'Rit overzicht 2024 '!BM42","v":0},{"$f":"'Rit overzicht 2024 '!BN42","v":0}]
["1.1",null,"Woensdag","Arkel binnen (helemaal) - Meerkerk",null,8,8,7,{"$f":"'Rit overzicht 2024 '!I43","v":0},{"$f":"'Rit overzicht 2024 '!J43","v":0},{"$f":"'Rit overzicht 2024 '!K43","v":0},{"$f":"'Rit overzicht 2024 '!L43","v":0},{"$f":"'Rit overzicht 2024 '!M43","v":0},{"$f":"'Rit overzicht 2024 '!N43","v":0},{"$f":"'Rit overzicht 2024 '!O43","v":0},{"$f":"'Rit overzicht 2024 '!P43","v":0},{"$f":"'Rit overzicht 2024 '!Q43","v":0},{"$f":"'Rit overzicht 2024 '!R43","v":0},{"$f":"'Rit overzicht 2024 '!S43","v":0},{"$f":"'Rit overzicht 2024 '!T43","v":2},{"$f":"'Rit overzicht 2024 '!U43","v":0},{"$f":"'Rit overzicht 2024 '!V43","v":0},{"$f":"'Rit overzicht 2024 '!W43","v":0},{"$f":"'Rit overzicht 2024 '!X43","v":13},{"$f":"'Rit overzicht 2024 '!Y43","v":24},{"$f":"'Rit overzicht 2024 '!Z43","v":0},{"$f":"'Rit overzicht 2024 '!AA43","v":0},{"$f":"'Rit overzicht 2024 '!AB43","v":0},{"$f":"'Rit overzicht 2024 '!AC43","v":0},{"$f":"'Rit overzicht 2024 '!AD43","v":0},{"$f":"'Rit overzicht 2024 '!AE43","v":0},{"$f":"'Rit overzicht 2024 '!AF43","v":0},{"$f":"'Rit overzicht 2024 '!AG43","v":0},{"$f":"'Rit overzicht 2024 '!AH43","v":0},{"$f":"'Rit overzicht 2024 '!AI43","v":0},{"$f":"'Rit overzicht 2024 '!AJ43","v":0},{"$f":"'Rit overzicht 2024 '!AK43","v":0},{"$f":"'Rit overzicht 2024 '!AL43","v":0},{"$f":"'Rit overzicht 2024 '!AM43","v":0},{"$f":"'Rit overzicht 2024 '!AN43","v":0},{"$f":"'Rit overzicht 2024 '!AO43","v":0},{"$f":"'Rit overzicht 2024 '!AP43","v":0},{"$f":"'Rit overzicht 2024 '!AQ43","v":0},{"$f":"'Rit overzicht 2024 '!AR43","v":0},{"$f":"'Rit overzicht 2024 '!AS43","v":0},{"$f":"'Rit overzicht 2024 '!AT43","v":0},{"$f":"'Rit overzicht 2024 '!AU43","v":0},{"$f":"'Rit overzicht 2024 '!AV43","v":0},{"$f":"'Rit overzicht 2024 '!AW43","v":0},{"$f":"'Rit overzicht 2024 '!AX43","v":0},{"$f":"'Rit overzicht 2024 '!AY43","v":0},{"$f":"'Rit overzicht 2024 '!AZ43","v":0},{"$f":"'Rit overzicht 2024 '!BA43","v":0},{"$f":"'Rit overzicht 2024 '!BB43","v":0},{"$f":"'Rit overzicht 2024 '!BC43","v":0},{"$f":"'Rit overzicht 2024 '!BD43","v":0},{"$f":"'Rit overzicht 2024 '!BE43","v":0},{"$f":"'Rit overzicht 2024 '!BF43","v":0},{"$f":"'Rit overzicht 2024 '!BG43","v":0},{"$f":"'Rit overzicht 2024 '!BH43","v":0},{"$f":"'Rit overzicht 2024 '!BI43","v":15},{"$f":"'Rit overzicht 2024 '!BJ43","v":0},{"$f":"'Rit overzicht 2024 '!BK43","v":24},{"$f":"'Rit overzicht 2024 '!BL43","v":0},{"$f":"'Rit overzicht 2024 '!BM43","v":39},{"$f":"'Rit overzicht 2024 '!BN43","v":76}]
["2.1",null,"Woensdag","Vianen Monnikenhof - Meerkerk helpen",null,null,null,null,{"$f":"'Rit overzicht 2024 '!I44","v":0},{"$f":"'Rit overzicht 2024 '!J44","v":0},{"$f":"'Rit overzicht 2024 '!K44","v":0},{"$f":"'Rit overzicht 2024 '!L44","v":0},{"$f":"'Rit overzicht 2024 '!M44","v":0},{"$f":"'Rit overzicht 2024 '!N44","v":0},{"$f":"'Rit overzicht 2024 '!O44","v":0},{"$f":"'Rit overzicht 2024 '!P44","v":0},{"$f":"'Rit overzicht 2024 '!Q44","v":0},{"$f":"'Rit overzicht 2024 '!R44","v":0},{"$f":"'Rit overzicht 2024 '!S44","v":0},{"$f":"'Rit overzicht 2024 '!T44","v":21},{"$f":"'Rit overzicht 2024 '!U44","v":0},{"$f":"'Rit overzicht 2024 '!V44","v":0},{"$f":"'Rit overzicht 2024 '!W44","v":0},{"$f":"'Rit overzicht 2024 '!X44","v":26},{"$f":"'Rit overzicht 2024 '!Y44","v":29},{"$f":"'Rit overzicht 2024 '!Z44","v":0},{"$f":"'Rit overzicht 2024 '!AA44","v":0},{"$f":"'Rit overzicht 2024 '!AB44","v":0},{"$f":"'Rit overzicht 2024 '!AC44","v":0},{"$f":"'Rit overzicht 2024 '!AD44","v":0},{"$f":"'Rit overzicht 2024 '!AE44","v":0},{"$f":"'Rit overzicht 2024 '!AF44","v":0},{"$f":"'Rit overzicht 2024 '!AG44","v":0},{"$f":"'Rit overzicht 2024 '!AH44","v":0},{"$f":"'Rit overzicht 2024 '!AI44","v":0},{"$f":"'Rit overzicht 2024 '!AJ44","v":0},{"$f":"'Rit overzicht 2024 '!AK44","v":0},{"$f":"'Rit overzicht 2024 '!AL44","v":0},{"$f":"'Rit overzicht 2024 '!AM44","v":0},{"$f":"'Rit overzicht 2024 '!AN44","v":0},{"$f":"'Rit overzicht 2024 '!AO44","v":0},{"$f":"'Rit overzicht 2024 '!AP44","v":0},{"$f":"'Rit overzicht 2024 '!AQ44","v":0},{"$f":"'Rit overzicht 2024 '!AR44","v":0},{"$f":"'Rit overzicht 2024 '!AS44","v":0},{"$f":"'Rit overzicht 2024 '!AT44","v":0},{"$f":"'Rit overzicht 2024 '!AU44","v":0},{"$f":"'Rit overzicht 2024 '!AV44","v":0},{"$f":"'Rit overzicht 2024 '!AW44","v":0},{"$f":"'Rit overzicht 2024 '!AX44","v":0},{"$f":"'Rit overzicht 2024 '!AY44","v":0},{"$f":"'Rit overzicht 2024 '!AZ44","v":0},{"$f":"'Rit overzicht 2024 '!BA44","v":0},{"$f":"'Rit overzicht 2024 '!BB44","v":0},{"$f":"'Rit overzicht 2024 '!BC44","v":0},{"$f":"'Rit overzicht 2024 '!BD44","v":0},{"$f":"'Rit overzicht 2024 '!BE44","v":0},{"$f":"'Rit overzicht 2024 '!BF44","v":0},{"$f":"'Rit overzicht 2024 '!BG44","v":0},{"$f":"'Rit overzicht 2024 '!BH44","v":0},{"$f":"'Rit overzicht 2024 '!BI44","v":0},{"$f":"'Rit overzicht 2024 '!BJ44","v":47},{"$f":"'Rit overzicht 2024 '!BK44","v":0},{"$f":"'Rit overzicht 2024 '!BL44","v":29},{"$f":"'Rit overzicht 2024 '!BM44","v":0},{"$f":"'Rit overzicht 2024 '!BN44","v":0}]
["2.1",null,"Woensdag","Vianen Monnikenhof - Meerkerk helpen",null,null,null,null,{"$f":"'Rit overzicht 2024 '!I45","v":0},{"$f":"'Rit overzicht 2024 '!J45","v":0},{"$f":"'Rit overzicht 2024 '!K45","v":0},{"$f":"'Rit overzicht 2024 '!L45","v":0},{"$f":"'Rit overzicht 2024 '!M45","v":0},{"$f":"'Rit overzicht 2024 '!N45","v":0},{"$f":"'Rit overzicht 2024 '!O45","v":0},{"$f":"'Rit overzicht 2024 '!P45","v":0},{"$f":"'Rit overzicht 2024 '!Q45","v":0},{"$f":"'Rit overzicht 2024 '!R45","v":0},{"$f":"'Rit overzicht 2024 '!S45","v":0},{"$f":"'Rit overzicht 2024 '!T45","v":0},{"$f":"'Rit overzicht 2024 '!U45","v":0},{"$f":"'Rit overzicht 2024 '!V45","v":0},{"$f":"'Rit overzicht 2024 '!W45","v":14},{"$f":"'Rit overzicht 2024 '!X45","v":0},{"$f":"'Rit overzicht 2024 '!Y45","v":0},{"$f":"'Rit overzicht 2024 '!Z45","v":0},{"$f":"'Rit overzicht 2024 '!AA45","v":45},{"$f":"'Rit overzicht 2024 '!AB45","v":0},{"$f":"'Rit overzicht 2024 '!AC45","v":0},{"$f":"'Rit overzicht 2024 '!AD45","v":0},{"$f":"'Rit overzicht 2024 '!AE45","v":0},{"$f":"'Rit overzicht 2024 '!AF45","v":0},{"$f":"'Rit overzicht 2024 '!AG45","v":0},{"$f":"'Rit overzicht 2024 '!AH45","v":0},{"$f":"'Rit overzicht 2024 '!AI45","v":0},{"$f":"'Rit overzicht 2024 '!AJ45","v":0},{"$f":"'Rit overzicht 2024 '!AK45","v":0},{"$f":"'Rit overzicht 2024 '!AL45","v":0},{"$f":"'Rit overzicht 2024 '!AM45","v":0},{"$f":"'Rit overzicht 2024 '!AN45","v":0},{"$f":"'Rit overzicht 2024 '!AO45","v":0},{"$f":"'Rit overzicht 2024 '!AP45","v":0},{"$f":"'Rit overzicht 2024 '!AQ45","v":0},{"$f":"'Rit overzicht 2024 '!AR45","v":0},{"$f":"'Rit overzicht 2024 '!AS45","v":0},{"$f":"'Rit overzicht 2024 '!AT45","v":0},{"$f":"'Rit overzicht 2024 '!AU45","v":0},{"$f":"'Rit overzicht 2024 '!AV45","v":0},{"$f":"'Rit overzicht 2024 '!AW45","v":0},{"$f":"'Rit overzicht 2024 '!AX45","v":0},{"$f":"'Rit overzicht 2024 '!AY45","v":0},{"$f":"'Rit overzicht 2024 '!AZ45","v":0},{"$f":"'Rit overzicht 2024 '!BA45","v":0},{"$f":"'Rit overzicht 2024 '!BB45","v":0},{"$f":"'Rit overzicht 2024 '!BC45","v":0},{"$f":"'Rit overzicht 2024 '!BD45","v":0},{"$f":"'Rit overzicht 2024 '!BE45","v":0},{"$f":"'Rit overzicht 2024 '!BF45","v":0},{"$f":"'Rit overzicht 2024 '!BG45","v":0},{"$f":"'Rit overzicht 2024 '!BH45","v":0},{"$f":"'Rit overzicht 2024 '!BI45","v":0},{"$f":"'Rit overzicht 2024 '!BJ45","v":0},{"$f":"'Rit overzicht 2024 '!BK45","v":59},{"$f":"'Rit overzicht 2024 '!BL45","v":0},{"$f":"'Rit overzicht 2024 '!BM45","v":59},{"$f":"'Rit overzicht 2024 '!BN45","v":36}]
["3.1",null,"Woensdag","Ameide en Tienhoven Binnen",null,7,7,8,{"$f":"'Rit overzicht 2024 '!I46","v":0},{"$f":"'Rit overzicht 2024 '!J46","v":0},{"$f":"'Rit overzicht 2024 '!K46","v":0},{"$f":"'Rit overzicht 2024 '!L46","v":0},{"$f":"'Rit overzicht 2024 '!M46","v":0},{"$f":"'Rit overzicht 2024 '!N46","v":0},{"$f":"'Rit overzicht 2024 '!O46","v":0},{"$f":"'Rit overzicht 2024 '!P46","v":0},{"$f":"'Rit overzicht 2024 '!Q46","v":0},{"$f":"'Rit overzicht 2024 '!R46","v":0},{"$f":"'Rit overzicht 2024 '!S46","v":0},{"$f":"'Rit overzicht 2024 '!T46","v":0},{"$f":"'Rit overzicht 2024 '!U46","v":11},{"$f":"'Rit overzicht 2024 '!V46","v":0},{"$f":"'Rit overzicht 2024 '!W46","v":16},{"$f":"'Rit overzicht 2024 '!X46","v":0},{"$f":"'Rit overzicht 2024 '!Y46","v":0},{"$f":"'Rit overzicht 2024 '!Z46","v":0},{"$f":"'Rit overzicht 2024 '!AA46","v":9},{"$f":"'Rit overzicht 2024 '!AB46","v":0},{"$f":"'Rit overzicht 2024 '!AC46","v":0},{"$f":"'Rit overzicht 2024 '!AD46","v":0},{"$f":"'Rit overzicht 2024 '!AE46","v":0},{"$f":"'Rit overzicht 2024 '!AF46","v":0},{"$f":"'Rit overzicht 2024 '!AG46","v":0},{"$f":"'Rit overzicht 2024 '!AH46","v":0},{"$f":"'Rit overzicht 2024 '!AI46","v":0},{"$f":"'Rit overzicht 2024 '!AJ46","v":0},{"$f":"'Rit overzicht 2024 '!AK46","v":0},{"$f":"'Rit overzicht 2024 '!AL46","v":0},{"$f":"'Rit overzicht 2024 '!AM46","v":0},{"$f":"'Rit overzicht 2024 '!AN46","v":0},{"$f":"'Rit overzicht 2024 '!AO46","v":0},{"$f":"'Rit overzicht 2024 '!AP46","v":0},{"$f":"'Rit overzicht 2024 '!AQ46","v":0},{"$f":"'Rit overzicht 2024 '!AR46","v":0},{"$f":"'Rit overzicht 2024 '!AS46","v":0},{"$f":"'Rit overzicht 2024 '!AT46","v":0},{"$f":"'Rit overzicht 2024 '!AU46","v":0},{"$f":"'Rit overzicht 2024 '!AV46","v":0},{"$f":"'Rit overzicht 2024 '!AW46","v":0},{"$f":"'Rit overzicht 2024 '!AX46","v":0},{"$f":"'Rit overzicht 2024 '!AY46","v":0},{"$f":"'Rit overzicht 2024 '!AZ46","v":0},{"$f":"'Rit overzicht 2024 '!BA46","v":0},{"$f":"'Rit overzicht 2024 '!BB46","v":0},{"$f":"'Rit overzicht 2024 '!BC46","v":0},{"$f":"'Rit overzicht 2024 '!BD46","v":0},{"$f":"'Rit overzicht 2024 '!BE46","v":0},{"$f":"'Rit overzicht 2024 '!BF46","v":0},{"$f":"'Rit overzicht 2024 '!BG46","v":0},{"$f":"'Rit overzicht 2024 '!BH46","v":0},{"$f":"'Rit overzicht 2024 '!BI46","v":0},{"$f":"'Rit overzicht 2024 '!BJ46","v":0},{"$f":"'Rit overzicht 2024 '!BK46","v":0},{"$f":"'Rit overzicht 2024 '!BL46","v":36},{"$f":"'Rit overzicht 2024 '!BM46","v":0},{"$f":"'Rit overzicht 2024 '!BN46","v":0}]
["3.1",null,"Woensdag","Ameide en Tienhoven Binnen",null,7,7,8,{"$f":"'Rit overzicht 2024 '!I47","v":0},{"$f":"'Rit overzicht 2024 '!J47","v":0},{"$f":"'Rit overzicht 2024 '!K47","v":1},{"$f":"'Rit overzicht 2024 '!L47","v":0},{"$f":"'Rit overzicht 2024 '!M47","v":0},{"$f":"'Rit overzicht 2024 '!N47","v":0},{"$f":"'Rit overzicht 2024 '!O47","v":0},{"$f":"'Rit overzicht 2024 '!P47","v":0},{"$f":"'Rit overzicht 2024 '!Q47","v":0},{"$f":"'Rit overzicht 2024 '!R47","v":0},{"$f":"'Rit overzicht 2024 '!S47","v":0},{"$f":"'Rit overzicht 2024 '!T47","v":1},{"$f":"'Rit overzicht 2024 '!U47","v":7},{"$f":"'Rit overzicht 2024 '!V47","v":0},{"$f":"'Rit overzicht 2024 '!W47","v":0},{"$f":"'Rit overzicht 2024 '!X47","v":0},{"$f":"'Rit overzicht 2024 '!Y47","v":4},{"$f":"'Rit overzicht 2024 '!Z47","v":0},{"$f":"'Rit overzicht 2024 '!AA47","v":0},{"$f":"'Rit overzicht 2024 '!AB47","v":0},{"$f":"'Rit overzicht 2024 '!AC47","v":0},{"$f":"'Rit overzicht 2024 '!AD47","v":0},{"$f":"'Rit overzicht 2024 '!AE47","v":0},{"$f":"'Rit overzicht 2024 '!AF47","v":0},{"$f":"'Rit overzicht 2024 '!AG47","v":0},{"$f":"'Rit overzicht 2024 '!AH47","v":0},{"$f":"'Rit overzicht 2024 '!AI47","v":0},{"$f":"'Rit overzicht 2024 '!AJ47","v":0},{"$f":"'Rit overzicht 2024 '!AK47","v":0},{"$f":"'Rit overzicht 2024 '!AL47","v":0},{"$f":"'Rit overzicht 2024 '!AM47","v":0},{"$f":"'Rit overzicht 2024 '!AN47","v":0},{"$f":"'Rit overzicht 2024 '!AO47","v":0},{"$f":"'Rit overzicht 2024 '!AP47","v":0},{"$f":"'Rit overzicht 2024 '!AQ47","v":0},{"$f":"'Rit overzicht 2024 '!AR47","v":0},{"$f":"'Rit overzicht 2024 '!AS47","v":0},{"$f":"'Rit overzicht 2024 '!AT47","v":0},{"$f":"'Rit overzicht 2024 '!AU47","v":0},{"$f":"'Rit overzicht 2024 '!AV47","v":0},{"$f":"'Rit overzicht 2024 '!AW47","v":0},{"$f":"'Rit overzicht 2024 '!AX47","v":0},{"$f":"'Rit overzicht 2024 '!AY47","v":0},{"$f":"'Rit overzicht 2024 '!AZ47","v":0},{"$f":"'Rit overzicht 2024 '!BA47","v":0},{"$f":"'Rit overzicht 2024 '!BB47","v":0},{"$f":"'Rit overzicht 2024 '!BC47","v":0},{"$f":"'Rit overzicht 2024 '!BD47","v":0},{"$f":"'Rit overzicht 2024 '!BE47","v":0},{"$f":"'Rit overzicht 2024 '!BF47","v":0},{"$f":"'Rit overzicht 2024 '!BG47","v":0},{"$f":"'Rit overzicht 2024 '!BH47","v":0},{"$f":"'Rit overzicht 2024 '!BI47","v":1},{"$f":"'Rit overzicht 2024 '!BJ47","v":0},{"$f":"'Rit overzicht 2024 '!BK47","v":12},{"$f":"'Rit overzicht 2024 '!BL47","v":0},{"$f":"'Rit overzicht 2024 '!BM47","v":13},{"$f":"'Rit overzicht 2024 '!BN47","v":52}]
["4.1",null,"Woensdag","1= Noordeloos 2= Goudriaan Binnen",null,6,6,6,{"$f":"'Rit overzicht 2024 '!I48","v":0},{"$f":"'Rit overzicht 2024 '!J48","v":22},{"$f":"'Rit overzicht 2024 '!K48","v":4},{"$f":"'Rit overzicht 2024 '!L48","v":0},{"$f":"'Rit overzicht 2024 '!M48","v":4},{"$f":"'Rit overzicht 2024 '!N48","v":0},{"$f":"'Rit overzicht 2024 '!O48","v":0},{"$f":"'Rit overzicht 2024 '!P48","v":0},{"$f":"'Rit overzicht 2024 '!Q48","v":0},{"$f":"'Rit overzicht 2024 '!R48","v":0},{"$f":"'Rit overzicht 2024 '!S48","v":0},{"$f":"'Rit overzicht 2024 '!T48","v":5},{"$f":"'Rit overzicht 2024 '!U48","v":7},{"$f":"'Rit overzicht 2024 '!V48","v":0},{"$f":"'Rit overzicht 2024 '!W48","v":0},{"$f":"'Rit overzicht 2024 '!X48","v":0},{"$f":"'Rit overzicht 2024 '!Y48","v":10},{"$f":"'Rit overzicht 2024 '!Z48","v":0},{"$f":"'Rit overzicht 2024 '!AA48","v":0},{"$f":"'Rit overzicht 2024 '!AB48","v":0},{"$f":"'Rit overzicht 2024 '!AC48","v":0},{"$f":"'Rit overzicht 2024 '!AD48","v":0},{"$f":"'Rit overzicht 2024 '!AE48","v":0},{"$f":"'Rit overzicht 2024 '!AF48","v":0},{"$f":"'Rit overzicht 2024 '!AG48","v":0},{"$f":"'Rit overzicht 2024 '!AH48","v":0},{"$f":"'Rit overzicht 2024 '!AI48","v":0},{"$f":"'Rit overzicht 2024 '!AJ48","v":0},{"$f":"'Rit overzicht 2024 '!AK48","v":0},{"$f":"'Rit overzicht 2024 '!AL48","v":0},{"$f":"'Rit overzicht 2024 '!AM48","v":0},{"$f":"'Rit overzicht 2024 '!AN48","v":0},{"$f":"'Rit overzicht 2024 '!AO48","v":0},{"$f":"'Rit overzicht 2024 '!AP48","v":0},{"$f":"'Rit overzicht 2024 '!AQ48","v":0},{"$f":"'Rit overzicht 2024 '!AR48","v":0},{"$f":"'Rit overzicht 2024 '!AS48","v":0},{"$f":"'Rit overzicht 2024 '!AT48","v":0},{"$f":"'Rit overzicht 2024 '!AU48","v":0},{"$f":"'Rit overzicht 2024 '!AV48","v":0},{"$f":"'Rit overzicht 2024 '!AW48","v":0},{"$f":"'Rit overzicht 2024 '!AX48","v":0},{"$f":"'Rit overzicht 2024 '!AY48","v":0},{"$f":"'Rit overzicht 2024 '!AZ48","v":0},{"$f":"'Rit overzicht 2024 '!BA48","v":0},{"$f":"'Rit overzicht 2024 '!BB48","v":0},{"$f":"'Rit overzicht 2024 '!BC48","v":0},{"$f":"'Rit overzicht 2024 '!BD48","v":0},{"$f":"'Rit overzicht 2024 '!BE48","v":0},{"$f":"'Rit overzicht 2024 '!BF48","v":0},{"$f":"'Rit overzicht 2024 '!BG48","v":0},{"$f":"'Rit overzicht 2024 '!BH48","v":0},{"$f":"'Rit overzicht 2024 '!BI48","v":0},{"$f":"'Rit overzicht 2024 '!BJ48","v":27},{"$f":"'Rit overzicht 2024 '!BK48","v":0},{"$f":"'Rit overzicht 2024 '!BL48","v":25},{"$f":"'Rit overzicht 2024 '!BM48","v":0},{"$f":"'Rit overzicht 2024 '!BN48","v":0}]
["4.1",null,"Woensdag","1= Noordeloos 2= Goudriaan Binnen","1=Singel 1- 2=van Tetsstr 31",6,6,6,{"$f":"'Rit overzicht 2024 '!I49","v":0},{"$f":"'Rit overzicht 2024 '!J49","v":0},{"$f":"'Rit overzicht 2024 '!K49","v":0},{"$f":"'Rit overzicht 2024 '!L49","v":0},{"$f":"'Rit overzicht 2024 '!M49","v":0},{"$f":"'Rit overzicht 2024 '!N49","v":0},{"$f":"'Rit overzicht 2024 '!O49","v":0},{"$f":"'Rit overzicht 2024 '!P49","v":0},{"$f":"'Rit overzicht 2024 '!Q49","v":0},{"$f":"'Rit overzicht 2024 '!R49","v":0},{"$f":"'Rit overzicht 2024 '!S49","v":0},{"$f":"'Rit overzicht 2024 '!T49","v":0},{"$f":"'Rit overzicht 2024 '!U49","v":8},{"$f":"'Rit overzicht 2024 '!V49","v":0},{"$f":"'Rit overzicht 2024 '!W49","v":0},{"$f":"'Rit overzicht 2024 '!X49","v":0},{"$f":"'Rit overzicht 2024 '!Y49","v":8},{"$f":"'Rit overzicht 2024 '!Z49","v":0},{"$f":"'Rit overzicht 2024 '!AA49","v":0},{"$f":"'Rit overzicht 2024 '!AB49","v":0},{"$f":"'Rit overzicht 2024 '!AC49","v":0},{"$f":"'Rit overzicht 2024 '!AD49","v":0},{"$f":"'Rit overzicht 2024 '!AE49","v":0},{"$f":"'Rit overzicht 2024 '!AF49","v":0},{"$f":"'Rit overzicht 2024 '!AG49","v":0},{"$f":"'Rit overzicht 2024 '!AH49","v":0},{"$f":"'Rit overzicht 2024 '!AI49","v":0},{"$f":"'Rit overzicht 2024 '!AJ49","v":0},{"$f":"'Rit overzicht 2024 '!AK49","v":0},{"$f":"'Rit overzicht 2024 '!AL49","v":0},{"$f":"'Rit overzicht 2024 '!AM49","v":0},{"$f":"'Rit overzicht 2024 '!AN49","v":0},{"$f":"'Rit overzicht 2024 '!AO49","v":0},{"$f":"'Rit overzicht 2024 '!AP49","v":0},{"$f":"'Rit overzicht 2024 '!AQ49","v":0},{"$f":"'Rit overzicht 2024 '!AR49","v":0},{"$f":"'Rit overzicht 2024 '!AS49","v":0},{"$f":"'Rit overzicht 2024 '!AT49","v":0},{"$f":"'Rit overzicht 2024 '!AU49","v":0},{"$f":"'Rit overzicht 2024 '!AV49","v":0},{"$f":"'Rit overzicht 2024 '!AW49","v":0},{"$f":"'Rit overzicht 2024 '!AX49","v":0},{"$f":"'Rit overzicht 2024 '!AY49","v":0},{"$f":"'Rit overzicht 2024 '!AZ49","v":0},{"$f":"'Rit overzicht 2024 '!BA49","v":0},{"$f":"'Rit overzicht 2024 '!BB49","v":0},{"$f":"'Rit overzicht 2024 '!BC49","v":0},{"$f":"'Rit overzicht 2024 '!BD49","v":0},{"$f":"'Rit overzicht 2024 '!BE49","v":0},{"$f":"'Rit overzicht 2024 '!BF49","v":0},{"$f":"'Rit overzicht 2024 '!BG49","v":0},{"$f":"'Rit overzicht 2024 '!BH49","v":0},{"$f":"'Rit overzicht 2024 '!BI49","v":0},{"$f":"'Rit overzicht 2024 '!BJ49","v":0},{"$f":"'Rit overzicht 2024 '!BK49","v":16},{"$f":"'Rit overzicht 2024 '!BL49","v":0},{"$f":"'Rit overzicht 2024 '!BM49","v":16},{"$f":"'Rit overzicht 2024 '!BN49","v":33}]
["4.2",null,"Woensdag","3=Nieuwpoort en 4=Langerak Binnen",null,6,6,6,{"$f":"'Rit overzicht 2024 '!I50","v":0},{"$f":"'Rit overzicht 2024 '!J50","v":0},{"$f":"'Rit overzicht 2024 '!K50","v":0},{"$f":"'Rit overzicht 2024 '!L50","v":0},{"$f":"'Rit overzicht 2024 '!M50","v":0},{"$f":"'Rit overzicht 2024 '!N50","v":0},{"$f":"'Rit overzicht 2024 '!O50","v":0},{"$f":"'Rit overzicht 2024 '!P50","v":0},{"$f":"'Rit overzicht 2024 '!Q50","v":0},{"$f":"'Rit overzicht 2024 '!R50","v":0},{"$f":"'Rit overzicht 2024 '!S50","v":0},{"$f":"'Rit overzicht 2024 '!T50","v":14},{"$f":"'Rit overzicht 2024 '!U50","v":5},{"$f":"'Rit overzicht 2024 '!V50","v":0},{"$f":"'Rit overzicht 2024 '!W50","v":0},{"$f":"'Rit overzicht 2024 '!X50","v":0},{"$f":"'Rit overzicht 2024 '!Y50","v":14},{"$f":"'Rit overzicht 2024 '!Z50","v":0},{"$f":"'Rit overzicht 2024 '!AA50","v":0},{"$f":"'Rit overzicht 2024 '!AB50","v":0},{"$f":"'Rit overzicht 2024 '!AC50","v":0},{"$f":"'Rit overzicht 2024 '!AD50","v":0},{"$f":"'Rit overzicht 2024 '!AE50","v":0},{"$f":"'Rit overzicht 2024 '!AF50","v":0},{"$f":"'Rit overzicht 2024 '!AG50","v":0},{"$f":"'Rit overzicht 2024 '!AH50","v":0},{"$f":"'Rit overzicht 2024 '!AI50","v":0},{"$f":"'Rit overzicht 2024 '!AJ50","v":0},{"$f":"'Rit overzicht 2024 '!AK50","v":0},{"$f":"'Rit overzicht 2024 '!AL50","v":0},{"$f":"'Rit overzicht 2024 '!AM50","v":0},{"$f":"'Rit overzicht 2024 '!AN50","v":0},{"$f":"'Rit overzicht 2024 '!AO50","v":0},{"$f":"'Rit overzicht 2024 '!AP50","v":0},{"$f":"'Rit overzicht 2024 '!AQ50","v":0},{"$f":"'Rit overzicht 2024 '!AR50","v":0},{"$f":"'Rit overzicht 2024 '!AS50","v":0},{"$f":"'Rit overzicht 2024 '!AT50","v":0},{"$f":"'Rit overzicht 2024 '!AU50","v":0},{"$f":"'Rit overzicht 2024 '!AV50","v":0},{"$f":"'Rit overzicht 2024 '!AW50","v":0},{"$f":"'Rit overzicht 2024 '!AX50","v":0},{"$f":"'Rit overzicht 2024 '!AY50","v":0},{"$f":"'Rit overzicht 2024 '!AZ50","v":0},{"$f":"'Rit overzicht 2024 '!BA50","v":0},{"$f":"'Rit overzicht 2024 '!BB50","v":0},{"$f":"'Rit overzicht 2024 '!BC50","v":0},{"$f":"'Rit overzicht 2024 '!BD50","v":0},{"$f":"'Rit overzicht 2024 '!BE50","v":0},{"$f":"'Rit overzicht 2024 '!BF50","v":0},{"$f":"'Rit overzicht 2024 '!BG50","v":0},{"$f":"'Rit overzicht 2024 '!BH50","v":0},{"$f":"'Rit overzicht 2024 '!BI50","v":0},{"$f":"'Rit overzicht 2024 '!BJ50","v":14},{"$f":"'Rit overzicht 2024 '!BK50","v":0},{"$f":"'Rit overzicht 2024 '!BL50","v":19},{"$f":"'Rit overzicht 2024 '!BM50","v":0},{"$f":"'Rit overzicht 2024 '!BN50","v":0}]
["4.2",null,"Woensdag","3=Nieuwpoort en 4=Langerak Binnen","3= Hennepstr 32",6,6,6,{"$f":"'Rit overzicht 2024 '!I51","v":0},{"$f":"'Rit overzicht 2024 '!J51","v":0},{"$f":"'Rit overzicht 2024 '!K51","v":6},{"$f":"'Rit overzicht 2024 '!L51","v":0},{"$f":"'Rit overzicht 2024 '!M51","v":11},{"$f":"'Rit overzicht 2024 '!N51","v":0},{"$f":"'Rit overzicht 2024 '!O51","v":0},{"$f":"'Rit overzicht 2024 '!P51","v":0},{"$f":"'Rit overzicht 2024 '!Q51","v":0},{"$f":"'Rit overzicht 2024 '!R51","v":2},{"$f":"'Rit overzicht 2024 '!S51","v":9},{"$f":"'Rit overzicht 2024 '!T51","v":0},{"$f":"'Rit overzicht 2024 '!U51","v":0},{"$f":"'Rit overzicht 2024 '!V51","v":0},{"$f":"'Rit overzicht 2024 '!W51","v":0},{"$f":"'Rit overzicht 2024 '!X51","v":0},{"$f":"'Rit overzicht 2024 '!Y51","v":0},{"$f":"'Rit overzicht 2024 '!Z51","v":0},{"$f":"'Rit overzicht 2024 '!AA51","v":0},{"$f":"'Rit overzicht 2024 '!AB51","v":0},{"$f":"'Rit overzicht 2024 '!AC51","v":0},{"$f":"'Rit overzicht 2024 '!AD51","v":0},{"$f":"'Rit overzicht 2024 '!AE51","v":0},{"$f":"'Rit overzicht 2024 '!AF51","v":0},{"$f":"'Rit overzicht 2024 '!AG51","v":0},{"$f":"'Rit overzicht 2024 '!AH51","v":0},{"$f":"'Rit overzicht 2024 '!AI51","v":0},{"$f":"'Rit overzicht 2024 '!AJ51","v":0},{"$f":"'Rit overzicht 2024 '!AK51","v":0},{"$f":"'Rit overzicht 2024 '!AL51","v":0},{"$f":"'Rit overzicht 2024 '!AM51","v":0},{"$f":"'Rit overzicht 2024 '!AN51","v":0},{"$f":"'Rit overzicht 2024 '!AO51","v":0},{"$f":"'Rit overzicht 2024 '!AP51","v":0},{"$f":"'Rit overzicht 2024 '!AQ51","v":0},{"$f":"'Rit overzicht 2024 '!AR51","v":0},{"$f":"'Rit overzicht 2024 '!AS51","v":0},{"$f":"'Rit overzicht 2024 '!AT51","v":0},{"$f":"'Rit overzicht 2024 '!AU51","v":0},{"$f":"'Rit overzicht 2024 '!AV51","v":0},{"$f":"'Rit overzicht 2024 '!AW51","v":0},{"$f":"'Rit overzicht 2024 '!AX51","v":0},{"$f":"'Rit overzicht 2024 '!AY51","v":0},{"$f":"'Rit overzicht 2024 '!AZ51","v":0},{"$f":"'Rit overzicht 2024 '!BA51","v":0},{"$f":"'Rit overzicht 2024 '!BB51","v":0},{"$f":"'Rit overzicht 2024 '!BC51","v":0},{"$f":"'Rit overzicht 2024 '!BD51","v":0},{"$f":"'Rit overzicht 2024 '!BE51","v":0},{"$f":"'Rit overzicht 2024 '!BF51","v":0},{"$f":"'Rit overzicht 2024 '!BG51","v":0},{"$f":"'Rit overzicht 2024 '!BH51","v":0},{"$f":"'Rit overzicht 2024 '!BI51","v":2},{"$f":"'Rit overzicht 2024 '!BJ51","v":0},{"$f":"'Rit overzicht 2024 '!BK51","v":26},{"$f":"'Rit overzicht 2024 '!BL51","v":0},{"$f":"'Rit overzicht 2024 '!BM51","v":28},{"$f":"'Rit overzicht 2024 '!BN51","v":66}]
["5.1",null,"Woensdag","Bleskensgraaf Binnen","Meidoornstraat 4",5,5,5,{"$f":"'Rit overzicht 2024 '!I52","v":0},{"$f":"'Rit overzicht 2024 '!J52","v":0},{"$f":"'Rit overzicht 2024 '!K52","v":12},{"$f":"'Rit overzicht 2024 '!L52","v":0},{"$f":"'Rit overzicht 2024 '!M52","v":26},{"$f":"'Rit overzicht 2024 '!N52","v":0},{"$f":"'Rit overzicht 2024 '!O52","v":0},{"$f":"'Rit overzicht 2024 '!P52","v":0},{"$f":"'Rit overzicht 2024 '!Q52","v":0},{"$f":"'Rit overzicht 2024 '!R52","v":22},{"$f":"'Rit overzicht 2024 '!S52","v":6},{"$f":"'Rit overzicht 2024 '!T52","v":0},{"$f":"'Rit overzicht 2024 '!U52","v":0},{"$f":"'Rit overzicht 2024 '!V52","v":0},{"$f":"'Rit overzicht 2024 '!W52","v":0},{"$f":"'Rit overzicht 2024 '!X52","v":0},{"$f":"'Rit overzicht 2024 '!Y52","v":0},{"$f":"'Rit overzicht 2024 '!Z52","v":0},{"$f":"'Rit overzicht 2024 '!AA52","v":0},{"$f":"'Rit overzicht 2024 '!AB52","v":0},{"$f":"'Rit overzicht 2024 '!AC52","v":0},{"$f":"'Rit overzicht 2024 '!AD52","v":0},{"$f":"'Rit overzicht 2024 '!AE52","v":0},{"$f":"'Rit overzicht 2024 '!AF52","v":0},{"$f":"'Rit overzicht 2024 '!AG52","v":0},{"$f":"'Rit overzicht 2024 '!AH52","v":0},{"$f":"'Rit overzicht 2024 '!AI52","v":0},{"$f":"'Rit overzicht 2024 '!AJ52","v":0},{"$f":"'Rit overzicht 2024 '!AK52","v":0},{"$f":"'Rit overzicht 2024 '!AL52","v":0},{"$f":"'Rit overzicht 2024 '!AM52","v":0},{"$f":"'Rit overzicht 2024 '!AN52","v":0},{"$f":"'Rit overzicht 2024 '!AO52","v":0},{"$f":"'Rit overzicht 2024 '!AP52","v":0},{"$f":"'Rit overzicht 2024 '!AQ52","v":0},{"$f":"'Rit overzicht 2024 '!AR52","v":0},{"$f":"'Rit overzicht 2024 '!AS52","v":0},{"$f":"'Rit overzicht 2024 '!AT52","v":0},{"$f":"'Rit overzicht 2024 '!AU52","v":0},{"$f":"'Rit overzicht 2024 '!AV52","v":0},{"$f":"'Rit overzicht 2024 '!AW52","v":0},{"$f":"'Rit overzicht 2024 '!AX52","v":0},{"$f":"'Rit overzicht 2024 '!AY52","v":0},{"$f":"'Rit overzicht 2024 '!AZ52","v":0},{"$f":"'Rit overzicht 2024 '!BA52","v":0},{"$f":"'Rit overzicht 2024 '!BB52","v":0},{"$f":"'Rit overzicht 2024 '!BC52","v":0},{"$f":"'Rit overzicht 2024 '!BD52","v":0},{"$f":"'Rit overzicht 2024 '!BE52","v":0},{"$f":"'Rit overzicht 2024 '!BF52","v":0},{"$f":"'Rit overzicht 2024 '!BG52","v":0},{"$f":"'Rit overzicht 2024 '!BH52","v":0},{"$f":"'Rit overzicht 2024 '!BI52","v":0},{"$f":"'Rit overzicht 2024 '!BJ52","v":22},{"$f":"'Rit overzicht 2024 '!BK52","v":0},{"$f":"'Rit overzicht 2024 '!BL52","v":44},{"$f":"'Rit overzicht 2024 '!BM52","v":0},{"$f":"'Rit overzicht 2024 '!BN52","v":0}]
["5.1",null,"Woensdag","Bleskensgraaf Binnen",null,5,5,5,{"$f":"'Rit overzicht 2024 '!I53","v":0},{"$f":"'Rit overzicht 2024 '!J53","v":1},{"$f":"'Rit overzicht 2024 '!K53","v":0},{"$f":"'Rit overzicht 2024 '!L53","v":0},{"$f":"'Rit overzicht 2024 '!M53","v":0},{"$f":"'Rit overzicht 2024 '!N53","v":0},{"$f":"'Rit overzicht 2024 '!O53","v":0},{"$f":"'Rit overzicht 2024 '!P53","v":0},{"$f":"'Rit overzicht 2024 '!Q53","v":0},{"$f":"'Rit overzicht 2024 '!R53","v":0},{"$f":"'Rit overzicht 2024 '!S53","v":11},{"$f":"'Rit overzicht 2024 '!T53","v":0},{"$f":"'Rit overzicht 2024 '!U53","v":0},{"$f":"'Rit overzicht 2024 '!V53","v":0},{"$f":"'Rit overzicht 2024 '!W53","v":0},{"$f":"'Rit overzicht 2024 '!X53","v":0},{"$f":"'Rit overzicht 2024 '!Y53","v":0},{"$f":"'Rit overzicht 2024 '!Z53","v":0},{"$f":"'Rit overzicht 2024 '!AA53","v":0},{"$f":"'Rit overzicht 2024 '!AB53","v":0},{"$f":"'Rit overzicht 2024 '!AC53","v":0},{"$f":"'Rit overzicht 2024 '!AD53","v":0},{"$f":"'Rit overzicht 2024 '!AE53","v":0},{"$f":"'Rit overzicht 2024 '!AF53","v":0},{"$f":"'Rit overzicht 2024 '!AG53","v":0},{"$f":"'Rit overzicht 2024 '!AH53","v":0},{"$f":"'Rit overzicht 2024 '!AI53","v":0},{"$f":"'Rit overzicht 2024 '!AJ53","v":0},{"$f":"'Rit overzicht 2024 '!AK53","v":0},{"$f":"'Rit overzicht 2024 '!AL53","v":0},{"$f":"'Rit overzicht 2024 '!AM53","v":0},{"$f":"'Rit overzicht 2024 '!AN53","v":0},{"$f":"'Rit overzicht 2024 '!AO53","v":0},{"$f":"'Rit overzicht 2024 '!AP53","v":0},{"$f":"'Rit overzicht 2024 '!AQ53","v":0},{"$f":"'Rit overzicht 2024 '!AR53","v":0},{"$f":"'Rit overzicht 2024 '!AS53","v":0},{"$f":"'Rit overzicht 2024 '!AT53","v":0},{"$f":"'Rit overzicht 2024 '!AU53","v":0},{"$f":"'Rit overzicht 2024 '!AV53","v":0},{"$f":"'Rit overzicht 2024 '!AW53","v":0},{"$f":"'Rit overzicht 2024 '!AX53","v":0},{"$f":"'Rit overzicht 2024 '!AY53","v":0},{"$f":"'Rit overzicht 2024 '!AZ53","v":0},{"$f":"'Rit overzicht 2024 '!BA53","v":0},{"$f":"'Rit overzicht 2024 '!BB53","v":0},{"$f":"'Rit overzicht 2024 '!BC53","v":0},{"$f":"'Rit overzicht 2024 '!BD53","v":0},{"$f":"'Rit overzicht 2024 '!BE53","v":0},{"$f":"'Rit overzicht 2024 '!BF53","v":0},{"$f":"'Rit overzicht 2024 '!BG53","v":0},{"$f":"'Rit overzicht 2024 '!BH53","v":0},{"$f":"'Rit overzicht 2024 '!BI53","v":1},{"$f":"'Rit overzicht 2024 '!BJ53","v":0},{"$f":"'Rit overzicht 2024 '!BK53","v":11},{"$f":"'Rit overzicht 2024 '!BL53","v":0},{"$f":"'Rit overzicht 2024 '!BM53","v":12},{"$f":"'Rit overzicht 2024 '!BN53","v":32}]
["5.2",null,"Woensdag","1 Brandwijk 2Molenaarsgraaf  3 Ottoland Binnen","1 = Julianastraat 1+ 2 = Graveland 54+ 3= Burg.Visserwerf 2",5,5,5,{"$f":"'Rit overzicht 2024 '!I54","v":0},{"$f":"'Rit overzicht 2024 '!J54","v":11},{"$f":"'Rit overzicht 2024 '!K54","v":0},{"$f":"'Rit overzicht 2024 '!L54","v":0},{"$f":"'Rit overzicht 2024 '!M54","v":0},{"$f":"'Rit overzicht 2024 '!N54","v":0},{"$f":"'Rit overzicht 2024 '!O54","v":0},{"$f":"'Rit overzicht 2024 '!P54","v":0},{"$f":"'Rit overzicht 2024 '!Q54","v":0},{"$f":"'Rit overzicht 2024 '!R54","v":7},{"$f":"'Rit overzicht 2024 '!S54","v":6},{"$f":"'Rit overzicht 2024 '!T54","v":0},{"$f":"'Rit overzicht 2024 '!U54","v":0},{"$f":"'Rit overzicht 2024 '!V54","v":0},{"$f":"'Rit overzicht 2024 '!W54","v":0},{"$f":"'Rit overzicht 2024 '!X54","v":0},{"$f":"'Rit overzicht 2024 '!Y54","v":0},{"$f":"'Rit overzicht 2024 '!Z54","v":8},{"$f":"'Rit overzicht 2024 '!AA54","v":0},{"$f":"'Rit overzicht 2024 '!AB54","v":0},{"$f":"'Rit overzicht 2024 '!AC54","v":0},{"$f":"'Rit overzicht 2024 '!AD54","v":0},{"$f":"'Rit overzicht 2024 '!AE54","v":0},{"$f":"'Rit overzicht 2024 '!AF54","v":0},{"$f":"'Rit overzicht 2024 '!AG54","v":0},{"$f":"'Rit overzicht 2024 '!AH54","v":0},{"$f":"'Rit overzicht 2024 '!AI54","v":0},{"$f":"'Rit overzicht 2024 '!AJ54","v":0},{"$f":"'Rit overzicht 2024 '!AK54","v":0},{"$f":"'Rit overzicht 2024 '!AL54","v":0},{"$f":"'Rit overzicht 2024 '!AM54","v":0},{"$f":"'Rit overzicht 2024 '!AN54","v":0},{"$f":"'Rit overzicht 2024 '!AO54","v":0},{"$f":"'Rit overzicht 2024 '!AP54","v":0},{"$f":"'Rit overzicht 2024 '!AQ54","v":0},{"$f":"'Rit overzicht 2024 '!AR54","v":0},{"$f":"'Rit overzicht 2024 '!AS54","v":0},{"$f":"'Rit overzicht 2024 '!AT54","v":0},{"$f":"'Rit overzicht 2024 '!AU54","v":0},{"$f":"'Rit overzicht 2024 '!AV54","v":0},{"$f":"'Rit overzicht 2024 '!AW54","v":0},{"$f":"'Rit overzicht 2024 '!AX54","v":0},{"$f":"'Rit overzicht 2024 '!AY54","v":0},{"$f":"'Rit overzicht 2024 '!AZ54","v":0},{"$f":"'Rit overzicht 2024 '!BA54","v":0},{"$f":"'Rit overzicht 2024 '!BB54","v":0},{"$f":"'Rit overzicht 2024 '!BC54","v":0},{"$f":"'Rit overzicht 2024 '!BD54","v":0},{"$f":"'Rit overzicht 2024 '!BE54","v":0},{"$f":"'Rit overzicht 2024 '!BF54","v":0},{"$f":"'Rit overzicht 2024 '!BG54","v":0},{"$f":"'Rit overzicht 2024 '!BH54","v":0},{"$f":"'Rit overzicht 2024 '!BI54","v":0},{"$f":"'Rit overzicht 2024 '!BJ54","v":26},{"$f":"'Rit overzicht 2024 '!BK54","v":0},{"$f":"'Rit overzicht 2024 '!BL54","v":6},{"$f":"'Rit overzicht 2024 '!BM54","v":0},{"$f":"'Rit overzicht 2024 '!BN54","v":0}]
["5.2",null,"Woensdag","1 Brandwijk 2Molenaarsgraaf  3 Ottoland Binnen",null,5,5,5,{"$f":"'Rit overzicht 2024 '!I55","v":0},{"$f":"'Rit overzicht 2024 '!J55","v":0},{"$f":"'Rit overzicht 2024 '!K55","v":0},{"$f":"'Rit overzicht 2024 '!L55","v":0},{"$f":"'Rit overzicht 2024 '!M55","v":0},{"$f":"'Rit overzicht 2024 '!N55","v":0},{"$f":"'Rit overzicht 2024 '!O55","v":0},{"$f":"'Rit overzicht 2024 '!P55","v":0},{"$f":"'Rit overzicht 2024 '!Q55","v":9},{"$f":"'Rit overzicht 2024 '!R55","v":0},{"$f":"'Rit overzicht 2024 '!S55","v":2},{"$f":"'Rit overzicht 2024 '!T55","v":0},{"$f":"'Rit overzicht 2024 '!U55","v":0},{"$f":"'Rit overzicht 2024 '!V55","v":2},{"$f":"'Rit overzicht 2024 '!W55","v":5},{"$f":"'Rit overzicht 2024 '!X55","v":0},{"$f":"'Rit overzicht 2024 '!Y55","v":0},{"$f":"'Rit overzicht 2024 '!Z55","v":0},{"$f":"'Rit overzicht 2024 '!AA55","v":0},{"$f":"'Rit overzicht 2024 '!AB55","v":0},{"$f":"'Rit overzicht 2024 '!AC55","v":0},{"$f":"'Rit overzicht 2024 '!AD55","v":0},{"$f":"'Rit overzicht 2024 '!AE55","v":0},{"$f":"'Rit overzicht 2024 '!AF55","v":0},{"$f":"'Rit overzicht 2024 '!AG55","v":0},{"$f":"'Rit overzicht 2024 '!AH55","v":0},{"$f":"'Rit overzicht 2024 '!AI55","v":0},{"$f":"'Rit overzicht 2024 '!AJ55","v":0},{"$f":"'Rit overzicht 2024 '!AK55","v":0},{"$f":"'Rit overzicht 2024 '!AL55","v":0},{"$f":"'Rit overzicht 2024 '!AM55","v":0},{"$f":"'Rit overzicht 2024 '!AN55","v":0},{"$f":"'Rit overzicht 2024 '!AO55","v":0},{"$f":"'Rit overzicht 2024 '!AP55","v":0},{"$f":"'Rit overzicht 2024 '!AQ55","v":0},{"$f":"'Rit overzicht 2024 '!AR55","v":0},{"$f":"'Rit overzicht 2024 '!AS55","v":0},{"$f":"'Rit overzicht 2024 '!AT55","v":0},{"$f":"'Rit overzicht 2024 '!AU55","v":0},{"$f":"'Rit overzicht 2024 '!AV55","v":0},{"$f":"'Rit overzicht 2024 '!AW55","v":0},{"$f":"'Rit overzicht 2024 '!AX55","v":0},{"$f":"'Rit overzicht 2024 '!AY55","v":0},{"$f":"'Rit overzicht 2024 '!AZ55","v":0},{"$f":"'Rit overzicht 2024 '!BA55","v":0},{"$f":"'Rit overzicht 2024 '!BB55","v":0},{"$f":"'Rit overzicht 2024 '!BC55","v":0},{"$f":"'Rit overzicht 2024 '!BD55","v":0},{"$f":"'Rit overzicht 2024 '!BE55","v":0},{"$f":"'Rit overzicht 2024 '!BF55","v":0},{"$f":"'Rit overzicht 2024 '!BG55","v":0},{"$f":"'Rit overzicht 2024 '!BH55","v":0},{"$f":"'Rit overzicht 2024 '!BI55","v":2},{"$f":"'Rit overzicht 2024 '!BJ55","v":0},{"$f":"'Rit overzicht 2024 '!BK55","v":16},{"$f":"'Rit overzicht 2024 '!BL55","v":0},{"$f":"'Rit overzicht 2024 '!BM55","v":18},{"$f":"'Rit overzicht 2024 '!BN55","v":21}]
["1.1",null,"Donderdag","Zijderveld Everdingen Daarna Hardinxveld helpen",null,null,null,null,{"$f":"'Rit overzicht 2024 '!I56","v":0},{"$f":"'Rit overzicht 2024 '!J56","v":0},{"$f":"'Rit overzicht 2024 '!K56","v":0},{"$f":"'Rit overzicht 2024 '!L56","v":0},{"$f":"'Rit overzicht 2024 '!M56","v":0},{"$f":"'Rit overzicht 2024 '!N56","v":0},{"$f":"'Rit overzicht 2024 '!O56","v":0},{"$f":"'Rit overzicht 2024 '!P56","v":0},{"$f":"'Rit overzicht 2024 '!Q56","v":0},{"$f":"'Rit overzicht 2024 '!R56","v":0},{"$f":"'Rit overzicht 2024 '!S56","v":9},{"$f":"'Rit overzicht 2024 '!T56","v":0},{"$f":"'Rit overzicht 2024 '!U56","v":0},{"$f":"'Rit overzicht 2024 '!V56","v":0},{"$f":"'Rit overzicht 2024 '!W56","v":12},{"$f":"'Rit overzicht 2024 '!X56","v":0},{"$f":"'Rit overzicht 2024 '!Y56","v":0},{"$f":"'Rit overzicht 2024 '!Z56","v":0},{"$f":"'Rit overzicht 2024 '!AA56","v":0},{"$f":"'Rit overzicht 2024 '!AB56","v":0},{"$f":"'Rit overzicht 2024 '!AC56","v":0},{"$f":"'Rit overzicht 2024 '!AD56","v":0},{"$f":"'Rit overzicht 2024 '!AE56","v":0},{"$f":"'Rit overzicht 2024 '!AF56","v":0},{"$f":"'Rit overzicht 2024 '!AG56","v":0},{"$f":"'Rit overzicht 2024 '!AH56","v":0},{"$f":"'Rit overzicht 2024 '!AI56","v":0},{"$f":"'Rit overzicht 2024 '!AJ56","v":0},{"$f":"'Rit overzicht 2024 '!AK56","v":0},{"$f":"'Rit overzicht 2024 '!AL56","v":0},{"$f":"'Rit overzicht 2024 '!AM56","v":0},{"$f":"'Rit overzicht 2024 '!AN56","v":0},{"$f":"'Rit overzicht 2024 '!AO56","v":0},{"$f":"'Rit overzicht 2024 '!AP56","v":0},{"$f":"'Rit overzicht 2024 '!AQ56","v":0},{"$f":"'Rit overzicht 2024 '!AR56","v":0},{"$f":"'Rit overzicht 2024 '!AS56","v":0},{"$f":"'Rit overzicht 2024 '!AT56","v":0},{"$f":"'Rit overzicht 2024 '!AU56","v":0},{"$f":"'Rit overzicht 2024 '!AV56","v":0},{"$f":"'Rit overzicht 2024 '!AW56","v":0},{"$f":"'Rit overzicht 2024 '!AX56","v":0},{"$f":"'Rit overzicht 2024 '!AY56","v":0},{"$f":"'Rit overzicht 2024 '!AZ56","v":0},{"$f":"'Rit overzicht 2024 '!BA56","v":0},{"$f":"'Rit overzicht 2024 '!BB56","v":0},{"$f":"'Rit overzicht 2024 '!BC56","v":0},{"$f":"'Rit overzicht 2024 '!BD56","v":0},{"$f":"'Rit overzicht 2024 '!BE56","v":0},{"$f":"'Rit overzicht 2024 '!BF56","v":0},{"$f":"'Rit overzicht 2024 '!BG56","v":0},{"$f":"'Rit overzicht 2024 '!BH56","v":0},{"$f":"'Rit overzicht 2024 '!BI56","v":0},{"$f":"'Rit overzicht 2024 '!BJ56","v":0},{"$f":"'Rit overzicht 2024 '!BK56","v":0},{"$f":"'Rit overzicht 2024 '!BL56","v":21},{"$f":"'Rit overzicht 2024 '!BM56","v":0},{"$f":"'Rit overzicht 2024 '!BN56","v":0}]
["1.1",null,"Donderdag","Zijderveld Everdingen Daarna Hardinxveld helpen",null,null,null,null,{"$f":"'Rit overzicht 2024 '!I57","v":0},{"$f":"'Rit overzicht 2024 '!J57","v":0},{"$f":"'Rit overzicht 2024 '!K57","v":0},{"$f":"'Rit overzicht 2024 '!L57","v":0},{"$f":"'Rit overzicht 2024 '!M57","v":0},{"$f":"'Rit overzicht 2024 '!N57","v":0},{"$f":"'Rit overzicht 2024 '!O57","v":0},{"$f":"'Rit overzicht 2024 '!P57","v":0},{"$f":"'Rit overzicht 2024 '!Q57","v":0},{"$f":"'Rit overzicht 2024 '!R57","v":0},{"$f":"'Rit overzicht 2024 '!S57","v":0},{"$f":"'Rit overzicht 2024 '!T57","v":0},{"$f":"'Rit overzicht 2024 '!U57","v":5},{"$f":"'Rit overzicht 2024 '!V57","v":0},{"$f":"'Rit overzicht 2024 '!W57","v":0},{"$f":"'Rit overzicht 2024 '!X57","v":0},{"$f":"'Rit overzicht 2024 '!Y57","v":16},{"$f":"'Rit overzicht 2024 '!Z57","v":0},{"$f":"'Rit overzicht 2024 '!AA57","v":0},{"$f":"'Rit overzicht 2024 '!AB57","v":0},{"$f":"'Rit overzicht 2024 '!AC57","v":0},{"$f":"'Rit overzicht 2024 '!AD57","v":0},{"$f":"'Rit overzicht 2024 '!AE57","v":0},{"$f":"'Rit overzicht 2024 '!AF57","v":0},{"$f":"'Rit overzicht 2024 '!AG57","v":0},{"$f":"'Rit overzicht 2024 '!AH57","v":0},{"$f":"'Rit overzicht 2024 '!AI57","v":0},{"$f":"'Rit overzicht 2024 '!AJ57","v":0},{"$f":"'Rit overzicht 2024 '!AK57","v":0},{"$f":"'Rit overzicht 2024 '!AL57","v":0},{"$f":"'Rit overzicht 2024 '!AM57","v":0},{"$f":"'Rit overzicht 2024 '!AN57","v":0},{"$f":"'Rit overzicht 2024 '!AO57","v":0},{"$f":"'Rit overzicht 2024 '!AP57","v":0},{"$f":"'Rit overzicht 2024 '!AQ57","v":0},{"$f":"'Rit overzicht 2024 '!AR57","v":0},{"$f":"'Rit overzicht 2024 '!AS57","v":0},{"$f":"'Rit overzicht 2024 '!AT57","v":0},{"$f":"'Rit overzicht 2024 '!AU57","v":0},{"$f":"'Rit overzicht 2024 '!AV57","v":0},{"$f":"'Rit overzicht 2024 '!AW57","v":0},{"$f":"'Rit overzicht 2024 '!AX57","v":0},{"$f":"'Rit overzicht 2024 '!AY57","v":0},{"$f":"'Rit overzicht 2024 '!AZ57","v":0},{"$f":"'Rit overzicht 2024 '!BA57","v":0},{"$f":"'Rit overzicht 2024 '!BB57","v":0},{"$f":"'Rit overzicht 2024 '!BC57","v":0},{"$f":"'Rit overzicht 2024 '!BD57","v":0},{"$f":"'Rit overzicht 2024 '!BE57","v":0},{"$f":"'Rit overzicht 2024 '!BF57","v":0},{"$f":"'Rit overzicht 2024 '!BG57","v":0},{"$f":"'Rit overzicht 2024 '!BH57","v":0},{"$f":"'Rit overzicht 2024 '!BI57","v":0},{"$f":"'Rit overzicht 2024 '!BJ57","v":0},{"$f":"'Rit overzicht 2024 '!BK57","v":21},{"$f":"'Rit overzicht 2024 '!BL57","v":0},{"$f":"'Rit overzicht 2024 '!BM57","v":21},{"$f":"'Rit overzicht 2024 '!BN57","v":38}]
["2.1",null,"Donderdag","Giessenburg binnen en Hardinxveld Het Spoor",null,8,8,8,{"$f":"'Rit overzicht 2024 '!I58","v":0},{"$f":"'Rit overzicht 2024 '!J58","v":0},{"$f":"'Rit overzicht 2024 '!K58","v":0},{"$f":"'Rit overzicht 2024 '!L58","v":0},{"$f":"'Rit overzicht 2024 '!M58","v":0},{"$f":"'Rit overzicht 2024 '!N58","v":0},{"$f":"'Rit overzicht 2024 '!O58","v":0},{"$f":"'Rit overzicht 2024 '!P58","v":0},{"$f":"'Rit overzicht 2024 '!Q58","v":0},{"$f":"'Rit overzicht 2024 '!R58","v":0},{"$f":"'Rit overzicht 2024 '!S58","v":0},{"$f":"'Rit overzicht 2024 '!T58","v":0},{"$f":"'Rit overzicht 2024 '!U58","v":15},{"$f":"'Rit overzicht 2024 '!V58","v":0},{"$f":"'Rit overzicht 2024 '!W58","v":0},{"$f":"'Rit overzicht 2024 '!X58","v":0},{"$f":"'Rit overzicht 2024 '!Y58","v":23},{"$f":"'Rit overzicht 2024 '!Z58","v":0},{"$f":"'Rit overzicht 2024 '!AA58","v":0},{"$f":"'Rit overzicht 2024 '!AB58","v":0},{"$f":"'Rit overzicht 2024 '!AC58","v":0},{"$f":"'Rit overzicht 2024 '!AD58","v":0},{"$f":"'Rit overzicht 2024 '!AE58","v":0},{"$f":"'Rit overzicht 2024 '!AF58","v":0},{"$f":"'Rit overzicht 2024 '!AG58","v":0},{"$f":"'Rit overzicht 2024 '!AH58","v":0},{"$f":"'Rit overzicht 2024 '!AI58","v":0},{"$f":"'Rit overzicht 2024 '!AJ58","v":0},{"$f":"'Rit overzicht 2024 '!AK58","v":0},{"$f":"'Rit overzicht 2024 '!AL58","v":0},{"$f":"'Rit overzicht 2024 '!AM58","v":0},{"$f":"'Rit overzicht 2024 '!AN58","v":0},{"$f":"'Rit overzicht 2024 '!AO58","v":0},{"$f":"'Rit overzicht 2024 '!AP58","v":0},{"$f":"'Rit overzicht 2024 '!AQ58","v":0},{"$f":"'Rit overzicht 2024 '!AR58","v":0},{"$f":"'Rit overzicht 2024 '!AS58","v":0},{"$f":"'Rit overzicht 2024 '!AT58","v":0},{"$f":"'Rit overzicht 2024 '!AU58","v":0},{"$f":"'Rit overzicht 2024 '!AV58","v":0},{"$f":"'Rit overzicht 2024 '!AW58","v":0},{"$f":"'Rit overzicht 2024 '!AX58","v":0},{"$f":"'Rit overzicht 2024 '!AY58","v":0},{"$f":"'Rit overzicht 2024 '!AZ58","v":0},{"$f":"'Rit overzicht 2024 '!BA58","v":0},{"$f":"'Rit overzicht 2024 '!BB58","v":0},{"$f":"'Rit overzicht 2024 '!BC58","v":0},{"$f":"'Rit overzicht 2024 '!BD58","v":0},{"$f":"'Rit overzicht 2024 '!BE58","v":0},{"$f":"'Rit overzicht 2024 '!BF58","v":0},{"$f":"'Rit overzicht 2024 '!BG58","v":0},{"$f":"'Rit overzicht 2024 '!BH58","v":0},{"$f":"'Rit overzicht 2024 '!BI58","v":0},{"$f":"'Rit overzicht 2024 '!BJ58","v":0},{"$f":"'Rit overzicht 2024 '!BK58","v":0},{"$f":"'Rit overzicht 2024 '!BL58","v":38},{"$f":"'Rit overzicht 2024 '!BM58","v":0},{"$f":"'Rit overzicht 2024 '!BN58","v":0}]
["2.1",null,"Donderdag","Giessenburg binnen en Hardinxveld Het Spoor","Arent van gentstr 33 en Spoorweg 30",8,8,8,{"$f":"'Rit overzicht 2024 '!I59","v":0},{"$f":"'Rit overzicht 2024 '!J59","v":0},{"$f":"'Rit overzicht 2024 '!K59","v":0},{"$f":"'Rit overzicht 2024 '!L59","v":0},{"$f":"'Rit overzicht 2024 '!M59","v":0},{"$f":"'Rit overzicht 2024 '!N59","v":0},{"$f":"'Rit overzicht 2024 '!O59","v":0},{"$f":"'Rit overzicht 2024 '!P59","v":0},{"$f":"'Rit overzicht 2024 '!Q59","v":0},{"$f":"'Rit overzicht 2024 '!R59","v":0},{"$f":"'Rit overzicht 2024 '!S59","v":0},{"$f":"'Rit overzicht 2024 '!T59","v":0},{"$f":"'Rit overzicht 2024 '!U59","v":0},{"$f":"'Rit overzicht 2024 '!V59","v":0},{"$f":"'Rit overzicht 2024 '!W59","v":0},{"$f":"'Rit overzicht 2024 '!X59","v":0},{"$f":"'Rit overzicht 2024 '!Y59","v":0},{"$f":"'Rit overzicht 2024 '!Z59","v":19},{"$f":"'Rit overzicht 2024 '!AA59","v":0},{"$f":"'Rit overzicht 2024 '!AB59","v":0},{"$f":"'Rit overzicht 2024 '!AC59","v":0},{"$f":"'Rit overzicht 2024 '!AD59","v":0},{"$f":"'Rit overzicht 2024 '!AE59","v":0},{"$f":"'Rit overzicht 2024 '!AF59","v":0},{"$f":"'Rit overzicht 2024 '!AG59","v":0},{"$f":"'Rit overzicht 2024 '!AH59","v":0},{"$f":"'Rit overzicht 2024 '!AI59","v":0},{"$f":"'Rit overzicht 2024 '!AJ59","v":0},{"$f":"'Rit overzicht 2024 '!AK59","v":0},{"$f":"'Rit overzicht 2024 '!AL59","v":0},{"$f":"'Rit overzicht 2024 '!AM59","v":0},{"$f":"'Rit overzicht 2024 '!AN59","v":0},{"$f":"'Rit overzicht 2024 '!AO59","v":0},{"$f":"'Rit overzicht 2024 '!AP59","v":0},{"$f":"'Rit overzicht 2024 '!AQ59","v":0},{"$f":"'Rit overzicht 2024 '!AR59","v":0},{"$f":"'Rit overzicht 2024 '!AS59","v":0},{"$f":"'Rit overzicht 2024 '!AT59","v":0},{"$f":"'Rit overzicht 2024 '!AU59","v":0},{"$f":"'Rit overzicht 2024 '!AV59","v":0},{"$f":"'Rit overzicht 2024 '!AW59","v":0},{"$f":"'Rit overzicht 2024 '!AX59","v":0},{"$f":"'Rit overzicht 2024 '!AY59","v":0},{"$f":"'Rit overzicht 2024 '!AZ59","v":0},{"$f":"'Rit overzicht 2024 '!BA59","v":0},{"$f":"'Rit overzicht 2024 '!BB59","v":0},{"$f":"'Rit overzicht 2024 '!BC59","v":0},{"$f":"'Rit overzicht 2024 '!BD59","v":0},{"$f":"'Rit overzicht 2024 '!BE59","v":0},{"$f":"'Rit overzicht 2024 '!BF59","v":0},{"$f":"'Rit overzicht 2024 '!BG59","v":0},{"$f":"'Rit overzicht 2024 '!BH59","v":0},{"$f":"'Rit overzicht 2024 '!BI59","v":19},{"$f":"'Rit overzicht 2024 '!BJ59","v":0},{"$f":"'Rit overzicht 2024 '!BK59","v":0},{"$f":"'Rit overzicht 2024 '!BL59","v":0},{"$f":"'Rit overzicht 2024 '!BM59","v":19},{"$f":"'Rit overzicht 2024 '!BN59","v":15}]
["3.1",null,"Donderdag","Kern Oud Alblas en Wijngaarden",null,5,5,5,{"$f":"'Rit overzicht 2024 '!I60","v":0},{"$f":"'Rit overzicht 2024 '!J60","v":0},{"$f":"'Rit overzicht 2024 '!K60","v":0},{"$f":"'Rit overzicht 2024 '!L60","v":0},{"$f":"'Rit overzicht 2024 '!M60","v":0},{"$f":"'Rit overzicht 2024 '!N60","v":0},{"$f":"'Rit overzicht 2024 '!O60","v":0},{"$f":"'Rit overzicht 2024 '!P60","v":0},{"$f":"'Rit overzicht 2024 '!Q60","v":0},{"$f":"'Rit overzicht 2024 '!R60","v":0},{"$f":"'Rit overzicht 2024 '!S60","v":0},{"$f":"'Rit overzicht 2024 '!T60","v":0},{"$f":"'Rit overzicht 2024 '!U60","v":0},{"$f":"'Rit overzicht 2024 '!V60","v":10},{"$f":"'Rit overzicht 2024 '!W60","v":0},{"$f":"'Rit overzicht 2024 '!X60","v":0},{"$f":"'Rit overzicht 2024 '!Y60","v":0},{"$f":"'Rit overzicht 2024 '!Z60","v":5},{"$f":"'Rit overzicht 2024 '!AA60","v":0},{"$f":"'Rit overzicht 2024 '!AB60","v":0},{"$f":"'Rit overzicht 2024 '!AC60","v":0},{"$f":"'Rit overzicht 2024 '!AD60","v":0},{"$f":"'Rit overzicht 2024 '!AE60","v":0},{"$f":"'Rit overzicht 2024 '!AF60","v":0},{"$f":"'Rit overzicht 2024 '!AG60","v":0},{"$f":"'Rit overzicht 2024 '!AH60","v":0},{"$f":"'Rit overzicht 2024 '!AI60","v":0},{"$f":"'Rit overzicht 2024 '!AJ60","v":0},{"$f":"'Rit overzicht 2024 '!AK60","v":0},{"$f":"'Rit overzicht 2024 '!AL60","v":0},{"$f":"'Rit overzicht 2024 '!AM60","v":0},{"$f":"'Rit overzicht 2024 '!AN60","v":0},{"$f":"'Rit overzicht 2024 '!AO60","v":0},{"$f":"'Rit overzicht 2024 '!AP60","v":0},{"$f":"'Rit overzicht 2024 '!AQ60","v":0},{"$f":"'Rit overzicht 2024 '!AR60","v":0},{"$f":"'Rit overzicht 2024 '!AS60","v":0},{"$f":"'Rit overzicht 2024 '!AT60","v":0},{"$f":"'Rit overzicht 2024 '!AU60","v":0},{"$f":"'Rit overzicht 2024 '!AV60","v":0},{"$f":"'Rit overzicht 2024 '!AW60","v":0},{"$f":"'Rit overzicht 2024 '!AX60","v":0},{"$f":"'Rit overzicht 2024 '!AY60","v":0},{"$f":"'Rit overzicht 2024 '!AZ60","v":0},{"$f":"'Rit overzicht 2024 '!BA60","v":0},{"$f":"'Rit overzicht 2024 '!BB60","v":0},{"$f":"'Rit overzicht 2024 '!BC60","v":0},{"$f":"'Rit overzicht 2024 '!BD60","v":0},{"$f":"'Rit overzicht 2024 '!BE60","v":0},{"$f":"'Rit overzicht 2024 '!BF60","v":0},{"$f":"'Rit overzicht 2024 '!BG60","v":0},{"$f":"'Rit overzicht 2024 '!BH60","v":0},{"$f":"'Rit overzicht 2024 '!BI60","v":0},{"$f":"'Rit overzicht 2024 '!BJ60","v":15},{"$f":"'Rit overzicht 2024 '!BK60","v":0},{"$f":"'Rit overzicht 2024 '!BL60","v":0},{"$f":"'Rit overzicht 2024 '!BM60","v":0},{"$f":"'Rit overzicht 2024 '!BN60","v":0}]
["3.1",null,"Donderdag","Kern Oud Alblas en Wijngaarden","Dorpsstraat 6 +Dokter ingelstr 1",5,5,5,{"$f":"'Rit overzicht 2024 '!I61","v":0},{"$f":"'Rit overzicht 2024 '!J61","v":2},{"$f":"'Rit overzicht 2024 '!K61","v":0},{"$f":"'Rit overzicht 2024 '!L61","v":2},{"$f":"'Rit overzicht 2024 '!M61","v":4},{"$f":"'Rit overzicht 2024 '!N61","v":0},{"$f":"'Rit overzicht 2024 '!O61","v":0},{"$f":"'Rit overzicht 2024 '!P61","v":2},{"$f":"'Rit overzicht 2024 '!Q61","v":16},{"$f":"'Rit overzicht 2024 '!R61","v":0},{"$f":"'Rit overzicht 2024 '!S61","v":0},{"$f":"'Rit overzicht 2024 '!T61","v":0},{"$f":"'Rit overzicht 2024 '!U61","v":0},{"$f":"'Rit overzicht 2024 '!V61","v":0},{"$f":"'Rit overzicht 2024 '!W61","v":0},{"$f":"'Rit overzicht 2024 '!X61","v":0},{"$f":"'Rit overzicht 2024 '!Y61","v":0},{"$f":"'Rit overzicht 2024 '!Z61","v":0},{"$f":"'Rit overzicht 2024 '!AA61","v":0},{"$f":"'Rit overzicht 2024 '!AB61","v":0},{"$f":"'Rit overzicht 2024 '!AC61","v":0},{"$f":"'Rit overzicht 2024 '!AD61","v":0},{"$f":"'Rit overzicht 2024 '!AE61","v":0},{"$f":"'Rit overzicht 2024 '!AF61","v":0},{"$f":"'Rit overzicht 2024 '!AG61","v":0},{"$f":"'Rit overzicht 2024 '!AH61","v":0},{"$f":"'Rit overzicht 2024 '!AI61","v":0},{"$f":"'Rit overzicht 2024 '!AJ61","v":0},{"$f":"'Rit overzicht 2024 '!AK61","v":0},{"$f":"'Rit overzicht 2024 '!AL61","v":0},{"$f":"'Rit overzicht 2024 '!AM61","v":0},{"$f":"'Rit overzicht 2024 '!AN61","v":0},{"$f":"'Rit overzicht 2024 '!AO61","v":0},{"$f":"'Rit overzicht 2024 '!AP61","v":0},{"$f":"'Rit overzicht 2024 '!AQ61","v":0},{"$f":"'Rit overzicht 2024 '!AR61","v":0},{"$f":"'Rit overzicht 2024 '!AS61","v":0},{"$f":"'Rit overzicht 2024 '!AT61","v":0},{"$f":"'Rit overzicht 2024 '!AU61","v":0},{"$f":"'Rit overzicht 2024 '!AV61","v":0},{"$f":"'Rit overzicht 2024 '!AW61","v":0},{"$f":"'Rit overzicht 2024 '!AX61","v":0},{"$f":"'Rit overzicht 2024 '!AY61","v":0},{"$f":"'Rit overzicht 2024 '!AZ61","v":0},{"$f":"'Rit overzicht 2024 '!BA61","v":0},{"$f":"'Rit overzicht 2024 '!BB61","v":0},{"$f":"'Rit overzicht 2024 '!BC61","v":0},{"$f":"'Rit overzicht 2024 '!BD61","v":0},{"$f":"'Rit overzicht 2024 '!BE61","v":0},{"$f":"'Rit overzicht 2024 '!BF61","v":0},{"$f":"'Rit overzicht 2024 '!BG61","v":0},{"$f":"'Rit overzicht 2024 '!BH61","v":0},{"$f":"'Rit overzicht 2024 '!BI61","v":6},{"$f":"'Rit overzicht 2024 '!BJ61","v":0},{"$f":"'Rit overzicht 2024 '!BK61","v":20},{"$f":"'Rit overzicht 2024 '!BL61","v":0},{"$f":"'Rit overzicht 2024 '!BM61","v":26},{"$f":"'Rit overzicht 2024 '!BN61","v":130}]
["4.1",null,"Donderdag","Hardinxveld Oud en wijk over het spoor",null,6,6,6,{"$f":"'Rit overzicht 2024 '!I62","v":0},{"$f":"'Rit overzicht 2024 '!J62","v":14},{"$f":"'Rit overzicht 2024 '!K62","v":17},{"$f":"'Rit overzicht 2024 '!L62","v":48},{"$f":"'Rit overzicht 2024 '!M62","v":16},{"$f":"'Rit overzicht 2024 '!N62","v":0},{"$f":"'Rit overzicht 2024 '!O62","v":0},{"$f":"'Rit overzicht 2024 '!P62","v":15},{"$f":"'Rit overzicht 2024 '!Q62","v":20},{"$f":"'Rit overzicht 2024 '!R62","v":0},{"$f":"'Rit overzicht 2024 '!S62","v":0},{"$f":"'Rit overzicht 2024 '!T62","v":0},{"$f":"'Rit overzicht 2024 '!U62","v":0},{"$f":"'Rit overzicht 2024 '!V62","v":0},{"$f":"'Rit overzicht 2024 '!W62","v":0},{"$f":"'Rit overzicht 2024 '!X62","v":0},{"$f":"'Rit overzicht 2024 '!Y62","v":0},{"$f":"'Rit overzicht 2024 '!Z62","v":0},{"$f":"'Rit overzicht 2024 '!AA62","v":0},{"$f":"'Rit overzicht 2024 '!AB62","v":0},{"$f":"'Rit overzicht 2024 '!AC62","v":0},{"$f":"'Rit overzicht 2024 '!AD62","v":0},{"$f":"'Rit overzicht 2024 '!AE62","v":0},{"$f":"'Rit overzicht 2024 '!AF62","v":0},{"$f":"'Rit overzicht 2024 '!AG62","v":0},{"$f":"'Rit overzicht 2024 '!AH62","v":0},{"$f":"'Rit overzicht 2024 '!AI62","v":0},{"$f":"'Rit overzicht 2024 '!AJ62","v":0},{"$f":"'Rit overzicht 2024 '!AK62","v":0},{"$f":"'Rit overzicht 2024 '!AL62","v":0},{"$f":"'Rit overzicht 2024 '!AM62","v":0},{"$f":"'Rit overzicht 2024 '!AN62","v":0},{"$f":"'Rit overzicht 2024 '!AO62","v":0},{"$f":"'Rit overzicht 2024 '!AP62","v":0},{"$f":"'Rit overzicht 2024 '!AQ62","v":0},{"$f":"'Rit overzicht 2024 '!AR62","v":0},{"$f":"'Rit overzicht 2024 '!AS62","v":0},{"$f":"'Rit overzicht 2024 '!AT62","v":0},{"$f":"'Rit overzicht 2024 '!AU62","v":0},{"$f":"'Rit overzicht 2024 '!AV62","v":0},{"$f":"'Rit overzicht 2024 '!AW62","v":0},{"$f":"'Rit overzicht 2024 '!AX62","v":0},{"$f":"'Rit overzicht 2024 '!AY62","v":0},{"$f":"'Rit overzicht 2024 '!AZ62","v":0},{"$f":"'Rit overzicht 2024 '!BA62","v":0},{"$f":"'Rit overzicht 2024 '!BB62","v":0},{"$f":"'Rit overzicht 2024 '!BC62","v":0},{"$f":"'Rit overzicht 2024 '!BD62","v":0},{"$f":"'Rit overzicht 2024 '!BE62","v":0},{"$f":"'Rit overzicht 2024 '!BF62","v":0},{"$f":"'Rit overzicht 2024 '!BG62","v":0},{"$f":"'Rit overzicht 2024 '!BH62","v":0},{"$f":"'Rit overzicht 2024 '!BI62","v":0},{"$f":"'Rit overzicht 2024 '!BJ62","v":77},{"$f":"'Rit overzicht 2024 '!BK62","v":0},{"$f":"'Rit overzicht 2024 '!BL62","v":53},{"$f":"'Rit overzicht 2024 '!BM62","v":0},{"$f":"'Rit overzicht 2024 '!BN62","v":0}]
["4.1",null,"Donderdag","Hardinxveld Oud en wijk over het spoor","Spoorweg 30",6,6,6,{"$f":"'Rit overzicht 2024 '!I63","v":1},{"$f":"'Rit overzicht 2024 '!J63","v":0},{"$f":"'Rit overzicht 2024 '!K63","v":0},{"$f":"'Rit overzicht 2024 '!L63","v":0},{"$f":"'Rit overzicht 2024 '!M63","v":0},{"$f":"'Rit overzicht 2024 '!N63","v":0},{"$f":"'Rit overzicht 2024 '!O63","v":0},{"$f":"'Rit overzicht 2024 '!P63","v":0},{"$f":"'Rit overzicht 2024 '!Q63","v":0},{"$f":"'Rit overzicht 2024 '!R63","v":0},{"$f":"'Rit overzicht 2024 '!S63","v":0},{"$f":"'Rit overzicht 2024 '!T63","v":0},{"$f":"'Rit overzicht 2024 '!U63","v":0},{"$f":"'Rit overzicht 2024 '!V63","v":0},{"$f":"'Rit overzicht 2024 '!W63","v":0},{"$f":"'Rit overzicht 2024 '!X63","v":0},{"$f":"'Rit overzicht 2024 '!Y63","v":0},{"$f":"'Rit overzicht 2024 '!Z63","v":0},{"$f":"'Rit overzicht 2024 '!AA63","v":0},{"$f":"'Rit overzicht 2024 '!AB63","v":0},{"$f":"'Rit overzicht 2024 '!AC63","v":0},{"$f":"'Rit overzicht 2024 '!AD63","v":0},{"$f":"'Rit overzicht 2024 '!AE63","v":0},{"$f":"'Rit overzicht 2024 '!AF63","v":0},{"$f":"'Rit overzicht 2024 '!AG63","v":0},{"$f":"'Rit overzicht 2024 '!AH63","v":0},{"$f":"'Rit overzicht 2024 '!AI63","v":0},{"$f":"'Rit overzicht 2024 '!AJ63","v":0},{"$f":"'Rit overzicht 2024 '!AK63","v":0},{"$f":"'Rit overzicht 2024 '!AL63","v":0},{"$f":"'Rit overzicht 2024 '!AM63","v":0},{"$f":"'Rit overzicht 2024 '!AN63","v":0},{"$f":"'Rit overzicht 2024 '!AO63","v":0},{"$f":"'Rit overzicht 2024 '!AP63","v":0},{"$f":"'Rit overzicht 2024 '!AQ63","v":0},{"$f":"'Rit overzicht 2024 '!AR63","v":0},{"$f":"'Rit overzicht 2024 '!AS63","v":0},{"$f":"'Rit overzicht 2024 '!AT63","v":0},{"$f":"'Rit overzicht 2024 '!AU63","v":0},{"$f":"'Rit overzicht 2024 '!AV63","v":0},{"$f":"'Rit overzicht 2024 '!AW63","v":0},{"$f":"'Rit overzicht 2024 '!AX63","v":0},{"$f":"'Rit overzicht 2024 '!AY63","v":0},{"$f":"'Rit overzicht 2024 '!AZ63","v":0},{"$f":"'Rit overzicht 2024 '!BA63","v":0},{"$f":"'Rit overzicht 2024 '!BB63","v":0},{"$f":"'Rit overzicht 2024 '!BC63","v":0},{"$f":"'Rit overzicht 2024 '!BD63","v":0},{"$f":"'Rit overzicht 2024 '!BE63","v":0},{"$f":"'Rit overzicht 2024 '!BF63","v":0},{"$f":"'Rit overzicht 2024 '!BG63","v":0},{"$f":"'Rit overzicht 2024 '!BH63","v":0},{"$f":"'Rit overzicht 2024 '!BI63","v":0},{"$f":"'Rit overzicht 2024 '!BJ63","v":0},{"$f":"'Rit overzicht 2024 '!BK63","v":1},{"$f":"'Rit overzicht 2024 '!BL63","v":0},{"$f":"'Rit overzicht 2024 '!BM63","v":1},{"$f":"'Rit overzicht 2024 '!BN63","v":22}]
["5.1",null,"Donderdag","Hardinxveld Westwijk",null,5,5,5,{"$f":"'Rit overzicht 2024 '!I64","v":22},{"$f":"'Rit overzicht 2024 '!J64","v":0},{"$f":"'Rit overzicht 2024 '!K64","v":0},{"$f":"'Rit overzicht 2024 '!L64","v":0},{"$f":"'Rit overzicht 2024 '!M64","v":0},{"$f":"'Rit overzicht 2024 '!N64","v":0},{"$f":"'Rit overzicht 2024 '!O64","v":0},{"$f":"'Rit overzicht 2024 '!P64","v":0},{"$f":"'Rit overzicht 2024 '!Q64","v":0},{"$f":"'Rit overzicht 2024 '!R64","v":0},{"$f":"'Rit overzicht 2024 '!S64","v":0},{"$f":"'Rit overzicht 2024 '!T64","v":0},{"$f":"'Rit overzicht 2024 '!U64","v":0},{"$f":"'Rit overzicht 2024 '!V64","v":0},{"$f":"'Rit overzicht 2024 '!W64","v":0},{"$f":"'Rit overzicht 2024 '!X64","v":0},{"$f":"'Rit overzicht 2024 '!Y64","v":0},{"$f":"'Rit overzicht 2024 '!Z64","v":0},{"$f":"'Rit overzicht 2024 '!AA64","v":0},{"$f":"'Rit overzicht 2024 '!AB64","v":0},{"$f":"'Rit overzicht 2024 '!AC64","v":0},{"$f":"'Rit overzicht 2024 '!AD64","v":0},{"$f":"'Rit overzicht 2024 '!AE64","v":0},{"$f":"'Rit overzicht 2024 '!AF64","v":0},{"$f":"'Rit overzicht 2024 '!AG64","v":0},{"$f":"'Rit overzicht 2024 '!AH64","v":0},{"$f":"'Rit overzicht 2024 '!AI64","v":0},{"$f":"'Rit overzicht 2024 '!AJ64","v":0},{"$f":"'Rit overzicht 2024 '!AK64","v":0},{"$f":"'Rit overzicht 2024 '!AL64","v":0},{"$f":"'Rit overzicht 2024 '!AM64","v":0},{"$f":"'Rit overzicht 2024 '!AN64","v":0},{"$f":"'Rit overzicht 2024 '!AO64","v":0},{"$f":"'Rit overzicht 2024 '!AP64","v":0},{"$f":"'Rit overzicht 2024 '!AQ64","v":0},{"$f":"'Rit overzicht 2024 '!AR64","v":0},{"$f":"'Rit overzicht 2024 '!AS64","v":0},{"$f":"'Rit overzicht 2024 '!AT64","v":0},{"$f":"'Rit overzicht 2024 '!AU64","v":0},{"$f":"'Rit overzicht 2024 '!AV64","v":0},{"$f":"'Rit overzicht 2024 '!AW64","v":0},{"$f":"'Rit overzicht 2024 '!AX64","v":0},{"$f":"'Rit overzicht 2024 '!AY64","v":0},{"$f":"'Rit overzicht 2024 '!AZ64","v":0},{"$f":"'Rit overzicht 2024 '!BA64","v":0},{"$f":"'Rit overzicht 2024 '!BB64","v":0},{"$f":"'Rit overzicht 2024 '!BC64","v":0},{"$f":"'Rit overzicht 2024 '!BD64","v":0},{"$f":"'Rit overzicht 2024 '!BE64","v":0},{"$f":"'Rit overzicht 2024 '!BF64","v":0},{"$f":"'Rit overzicht 2024 '!BG64","v":0},{"$f":"'Rit overzicht 2024 '!BH64","v":0},{"$f":"'Rit overzicht 2024 '!BI64","v":0},{"$f":"'Rit overzicht 2024 '!BJ64","v":0},{"$f":"'Rit overzicht 2024 '!BK64","v":0},{"$f":"'Rit overzicht 2024 '!BL64","v":22},{"$f":"'Rit overzicht 2024 '!BM64","v":0},{"$f":"'Rit overzicht 2024 '!BN64","v":0}]
["5.1",null,"Donderdag","Hardinxveld Westwijk","Schapendrift 2",5,5,5,{"$f":"'Rit overzicht 2024 '!I65","v":0},{"$f":"'Rit overzicht 2024 '!J65","v":0},{"$f":"'Rit overzicht 2024 '!K65","v":0},{"$f":"'Rit overzicht 2024 '!L65","v":0},{"$f":"'Rit overzicht 2024 '!M65","v":0},{"$f":"'Rit overzicht 2024 '!N65","v":0},{"$f":"'Rit overzicht 2024 '!O65","v":0},{"$f":"'Rit overzicht 2024 '!P65","v":0},{"$f":"'Rit overzicht 2024 '!Q65","v":0},{"$f":"'Rit overzicht 2024 '!R65","v":3},{"$f":"'Rit overzicht 2024 '!S65","v":0},{"$f":"'Rit overzicht 2024 '!T65","v":0},{"$f":"'Rit overzicht 2024 '!U65","v":0},{"$f":"'Rit overzicht 2024 '!V65","v":0},{"$f":"'Rit overzicht 2024 '!W65","v":0},{"$f":"'Rit overzicht 2024 '!X65","v":0},{"$f":"'Rit overzicht 2024 '!Y65","v":0},{"$f":"'Rit overzicht 2024 '!Z65","v":0},{"$f":"'Rit overzicht 2024 '!AA65","v":0},{"$f":"'Rit overzicht 2024 '!AB65","v":0},{"$f":"'Rit overzicht 2024 '!AC65","v":0},{"$f":"'Rit overzicht 2024 '!AD65","v":0},{"$f":"'Rit overzicht 2024 '!AE65","v":0},{"$f":"'Rit overzicht 2024 '!AF65","v":0},{"$f":"'Rit overzicht 2024 '!AG65","v":0},{"$f":"'Rit overzicht 2024 '!AH65","v":0},{"$f":"'Rit overzicht 2024 '!AI65","v":0},{"$f":"'Rit overzicht 2024 '!AJ65","v":0},{"$f":"'Rit overzicht 2024 '!AK65","v":0},{"$f":"'Rit overzicht 2024 '!AL65","v":0},{"$f":"'Rit overzicht 2024 '!AM65","v":0},{"$f":"'Rit overzicht 2024 '!AN65","v":0},{"$f":"'Rit overzicht 2024 '!AO65","v":0},{"$f":"'Rit overzicht 2024 '!AP65","v":0},{"$f":"'Rit overzicht 2024 '!AQ65","v":0},{"$f":"'Rit overzicht 2024 '!AR65","v":0},{"$f":"'Rit overzicht 2024 '!AS65","v":0},{"$f":"'Rit overzicht 2024 '!AT65","v":0},{"$f":"'Rit overzicht 2024 '!AU65","v":0},{"$f":"'Rit overzicht 2024 '!AV65","v":0},{"$f":"'Rit overzicht 2024 '!AW65","v":0},{"$f":"'Rit overzicht 2024 '!AX65","v":0},{"$f":"'Rit overzicht 2024 '!AY65","v":0},{"$f":"'Rit overzicht 2024 '!AZ65","v":0},{"$f":"'Rit overzicht 2024 '!BA65","v":0},{"$f":"'Rit overzicht 2024 '!BB65","v":0},{"$f":"'Rit overzicht 2024 '!BC65","v":0},{"$f":"'Rit overzicht 2024 '!BD65","v":0},{"$f":"'Rit overzicht 2024 '!BE65","v":0},{"$f":"'Rit overzicht 2024 '!BF65","v":0},{"$f":"'Rit overzicht 2024 '!BG65","v":0},{"$f":"'Rit overzicht 2024 '!BH65","v":0},{"$f":"'Rit overzicht 2024 '!BI65","v":3},{"$f":"'Rit overzicht 2024 '!BJ65","v":0},{"$f":"'Rit overzicht 2024 '!BK65","v":0},{"$f":"'Rit overzicht 2024 '!BL65","v":0},{"$f":"'Rit overzicht 2024 '!BM65","v":3},{"$f":"'Rit overzicht 2024 '!BN65","v":22}]
["5.2",null,"Donderdag","Hardinxveld  (Jonathan)",null,6,6,6,{"$f":"'Rit overzicht 2024 '!I66","v":0},{"$f":"'Rit overzicht 2024 '!J66","v":0},{"$f":"'Rit overzicht 2024 '!K66","v":0},{"$f":"'Rit overzicht 2024 '!L66","v":0},{"$f":"'Rit overzicht 2024 '!M66","v":0},{"$f":"'Rit overzicht 2024 '!N66","v":0},{"$f":"'Rit overzicht 2024 '!O66","v":0},{"$f":"'Rit overzicht 2024 '!P66","v":0},{"$f":"'Rit overzicht 2024 '!Q66","v":0},{"$f":"'Rit overzicht 2024 '!R66","v":12},{"$f":"'Rit overzicht 2024 '!S66","v":0},{"$f":"'Rit overzicht 2024 '!T66","v":0},{"$f":"'Rit overzicht 2024 '!U66","v":0},{"$f":"'Rit overzicht 2024 '!V66","v":10},{"$f":"'Rit overzicht 2024 '!W66","v":0},{"$f":"'Rit overzicht 2024 '!X66","v":0},{"$f":"'Rit overzicht 2024 '!Y66","v":0},{"$f":"'Rit overzicht 2024 '!Z66","v":0},{"$f":"'Rit overzicht 2024 '!AA66","v":0},{"$f":"'Rit overzicht 2024 '!AB66","v":0},{"$f":"'Rit overzicht 2024 '!AC66","v":0},{"$f":"'Rit overzicht 2024 '!AD66","v":0},{"$f":"'Rit overzicht 2024 '!AE66","v":0},{"$f":"'Rit overzicht 2024 '!AF66","v":0},{"$f":"'Rit overzicht 2024 '!AG66","v":0},{"$f":"'Rit overzicht 2024 '!AH66","v":0},{"$f":"'Rit overzicht 2024 '!AI66","v":0},{"$f":"'Rit overzicht 2024 '!AJ66","v":0},{"$f":"'Rit overzicht 2024 '!AK66","v":0},{"$f":"'Rit overzicht 2024 '!AL66","v":0},{"$f":"'Rit overzicht 2024 '!AM66","v":0},{"$f":"'Rit overzicht 2024 '!AN66","v":0},{"$f":"'Rit overzicht 2024 '!AO66","v":0},{"$f":"'Rit overzicht 2024 '!AP66","v":0},{"$f":"'Rit overzicht 2024 '!AQ66","v":0},{"$f":"'Rit overzicht 2024 '!AR66","v":0},{"$f":"'Rit overzicht 2024 '!AS66","v":0},{"$f":"'Rit overzicht 2024 '!AT66","v":0},{"$f":"'Rit overzicht 2024 '!AU66","v":0},{"$f":"'Rit overzicht 2024 '!AV66","v":0},{"$f":"'Rit overzicht 2024 '!AW66","v":0},{"$f":"'Rit overzicht 2024 '!AX66","v":0},{"$f":"'Rit overzicht 2024 '!AY66","v":0},{"$f":"'Rit overzicht 2024 '!AZ66","v":0},{"$f":"'Rit overzicht 2024 '!BA66","v":0},{"$f":"'Rit overzicht 2024 '!BB66","v":0},{"$f":"'Rit overzicht 2024 '!BC66","v":0},{"$f":"'Rit overzicht 2024 '!BD66","v":0},{"$f":"'Rit overzicht 2024 '!BE66","v":0},{"$f":"'Rit overzicht 2024 '!BF66","v":0},{"$f":"'Rit overzicht 2024 '!BG66","v":0},{"$f":"'Rit overzicht 2024 '!BH66","v":0},{"$f":"'Rit overzicht 2024 '!BI66","v":0},{"$f":"'Rit overzicht 2024 '!BJ66","v":22},{"$f":"'Rit overzicht 2024 '!BK66","v":0},{"$f":"'Rit overzicht 2024 '!BL66","v":0},{"$f":"'Rit overzicht 2024 '!BM66","v":0},{"$f":"'Rit overzicht 2024 '!BN66","v":0}]
["5.2",null,"Donderdag","Hardinxveld (Jonathan)",null,6,6,6,{"$f":"'Rit overzicht 2024 '!I67","v":0},{"$f":"'Rit overzicht 2024 '!J67","v":0},{"$f":"'Rit overzicht 2024 '!K67","v":2},{"$f":"'Rit overzicht 2024 '!L67","v":0},{"$f":"'Rit overzicht 2024 '!M67","v":7},{"$f":"'Rit overzicht 2024 '!N67","v":0},{"$f":"'Rit overzicht 2024 '!O67","v":0},{"$f":"'Rit overzicht 2024 '!P67","v":0},{"$f":"'Rit overzicht 2024 '!Q67","v":0},{"$f":"'Rit overzicht 2024 '!R67","v":0},{"$f":"'Rit overzicht 2024 '!S67","v":0},{"$f":"'Rit overzicht 2024 '!T67","v":0},{"$f":"'Rit overzicht 2024 '!U67","v":0},{"$f":"'Rit overzicht 2024 '!V67","v":0},{"$f":"'Rit overzicht 2024 '!W67","v":0},{"$f":"'Rit overzicht 2024 '!X67","v":0},{"$f":"'Rit overzicht 2024 '!Y67","v":0},{"$f":"'Rit overzicht 2024 '!Z67","v":0},{"$f":"'Rit overzicht 2024 '!AA67","v":0},{"$f":"'Rit overzicht 2024 '!AB67","v":0},{"$f":"'Rit overzicht 2024 '!AC67","v":0},{"$f":"'Rit overzicht 2024 '!AD67","v":0},{"$f":"'Rit overzicht 2024 '!AE67","v":0},{"$f":"'Rit overzicht 2024 '!AF67","v":0},{"$f":"'Rit overzicht 2024 '!AG67","v":0},{"$f":"'Rit overzicht 2024 '!AH67","v":0},{"$f":"'Rit overzicht 2024 '!AI67","v":0},{"$f":"'Rit overzicht 2024 '!AJ67","v":0},{"$f":"'Rit overzicht 2024 '!AK67","v":0},{"$f":"'Rit overzicht 2024 '!AL67","v":0},{"$f":"'Rit overzicht 2024 '!AM67","v":0},{"$f":"'Rit overzicht 2024 '!AN67","v":0},{"$f":"'Rit overzicht 2024 '!AO67","v":0},{"$f":"'Rit overzicht 2024 '!AP67","v":0},{"$f":"'Rit overzicht 2024 '!AQ67","v":0},{"$f":"'Rit overzicht 2024 '!AR67","v":0},{"$f":"'Rit overzicht 2024 '!AS67","v":0},{"$f":"'Rit overzicht 2024 '!AT67","v":0},{"$f":"'Rit overzicht 2024 '!AU67","v":0},{"$f":"'Rit overzicht 2024 '!AV67","v":0},{"$f":"'Rit overzicht 2024 '!AW67","v":0},{"$f":"'Rit overzicht 2024 '!AX67","v":0},{"$f":"'Rit overzicht 2024 '!AY67","v":0},{"$f":"'Rit overzicht 2024 '!AZ67","v":0},{"$f":"'Rit overzicht 2024 '!BA67","v":0},{"$f":"'Rit overzicht 2024 '!BB67","v":0},{"$f":"'Rit overzicht 2024 '!BC67","v":0},{"$f":"'Rit overzicht 2024 '!BD67","v":0},{"$f":"'Rit overzicht 2024 '!BE67","v":0},{"$f":"'Rit overzicht 2024 '!BF67","v":0},{"$f":"'Rit overzicht 2024 '!BG67","v":0},{"$f":"'Rit overzicht 2024 '!BH67","v":0},{"$f":"'Rit overzicht 2024 '!BI67","v":0},{"$f":"'Rit overzicht 2024 '!BJ67","v":0},{"$f":"'Rit overzicht 2024 '!BK67","v":9},{"$f":"'Rit overzicht 2024 '!BL67","v":0},{"$f":"'Rit overzicht 2024 '!BM67","v":9},{"$f":"'Rit overzicht 2024 '!BN67","v":28}]
["6.1",null,"Donderdag","Hardinxveld buitendams",null,4,4,4,{"$f":"'Rit overzicht 2024 '!I68","v":0},{"$f":"'Rit overzicht 2024 '!J68","v":0},{"$f":"'Rit overzicht 2024 '!K68","v":12},{"$f":"'Rit overzicht 2024 '!L68","v":0},{"$f":"'Rit overzicht 2024 '!M68","v":16},{"$f":"'Rit overzicht 2024 '!N68","v":0},{"$f":"'Rit overzicht 2024 '!O68","v":0},{"$f":"'Rit overzicht 2024 '!P68","v":0},{"$f":"'Rit overzicht 2024 '!Q68","v":0},{"$f":"'Rit overzicht 2024 '!R68","v":0},{"$f":"'Rit overzicht 2024 '!S68","v":0},{"$f":"'Rit overzicht 2024 '!T68","v":0},{"$f":"'Rit overzicht 2024 '!U68","v":0},{"$f":"'Rit overzicht 2024 '!V68","v":0},{"$f":"'Rit overzicht 2024 '!W68","v":0},{"$f":"'Rit overzicht 2024 '!X68","v":0},{"$f":"'Rit overzicht 2024 '!Y68","v":0},{"$f":"'Rit overzicht 2024 '!Z68","v":0},{"$f":"'Rit overzicht 2024 '!AA68","v":0},{"$f":"'Rit overzicht 2024 '!AB68","v":0},{"$f":"'Rit overzicht 2024 '!AC68","v":0},{"$f":"'Rit overzicht 2024 '!AD68","v":0},{"$f":"'Rit overzicht 2024 '!AE68","v":0},{"$f":"'Rit overzicht 2024 '!AF68","v":0},{"$f":"'Rit overzicht 2024 '!AG68","v":0},{"$f":"'Rit overzicht 2024 '!AH68","v":0},{"$f":"'Rit overzicht 2024 '!AI68","v":0},{"$f":"'Rit overzicht 2024 '!AJ68","v":0},{"$f":"'Rit overzicht 2024 '!AK68","v":0},{"$f":"'Rit overzicht 2024 '!AL68","v":0},{"$f":"'Rit overzicht 2024 '!AM68","v":0},{"$f":"'Rit overzicht 2024 '!AN68","v":0},{"$f":"'Rit overzicht 2024 '!AO68","v":0},{"$f":"'Rit overzicht 2024 '!AP68","v":0},{"$f":"'Rit overzicht 2024 '!AQ68","v":0},{"$f":"'Rit overzicht 2024 '!AR68","v":0},{"$f":"'Rit overzicht 2024 '!AS68","v":0},{"$f":"'Rit overzicht 2024 '!AT68","v":0},{"$f":"'Rit overzicht 2024 '!AU68","v":0},{"$f":"'Rit overzicht 2024 '!AV68","v":0},{"$f":"'Rit overzicht 2024 '!AW68","v":0},{"$f":"'Rit overzicht 2024 '!AX68","v":0},{"$f":"'Rit overzicht 2024 '!AY68","v":0},{"$f":"'Rit overzicht 2024 '!AZ68","v":0},{"$f":"'Rit overzicht 2024 '!BA68","v":0},{"$f":"'Rit overzicht 2024 '!BB68","v":0},{"$f":"'Rit overzicht 2024 '!BC68","v":0},{"$f":"'Rit overzicht 2024 '!BD68","v":0},{"$f":"'Rit overzicht 2024 '!BE68","v":0},{"$f":"'Rit overzicht 2024 '!BF68","v":0},{"$f":"'Rit overzicht 2024 '!BG68","v":0},{"$f":"'Rit overzicht 2024 '!BH68","v":0},{"$f":"'Rit overzicht 2024 '!BI68","v":0},{"$f":"'Rit overzicht 2024 '!BJ68","v":0},{"$f":"'Rit overzicht 2024 '!BK68","v":0},{"$f":"'Rit overzicht 2024 '!BL68","v":28},{"$f":"'Rit overzicht 2024 '!BM68","v":0},{"$f":"'Rit overzicht 2024 '!BN68","v":0}]
["6.1",null,"Donderdag","Hardinxveld buitendams",null,4,4,4,{"$f":"'Rit overzicht 2024 '!I69","v":0},{"$f":"'Rit overzicht 2024 '!J69","v":0},{"$f":"'Rit overzicht 2024 '!K69","v":0},{"$f":"'Rit overzicht 2024 '!L69","v":0},{"$f":"'Rit overzicht 2024 '!M69","v":0},{"$f":"'Rit overzicht 2024 '!N69","v":0},{"$f":"'Rit overzicht 2024 '!O69","v":0},{"$f":"'Rit overzicht 2024 '!P69","v":0},{"$f":"'Rit overzicht 2024 '!Q69","v":0},{"$f":"'Rit overzicht 2024 '!R69","v":0},{"$f":"'Rit overzicht 2024 '!S69","v":0},{"$f":"'Rit overzicht 2024 '!T69","v":0},{"$f":"'Rit overzicht 2024 '!U69","v":0},{"$f":"'Rit overzicht 2024 '!V69","v":2},{"$f":"'Rit overzicht 2024 '!W69","v":0},{"$f":"'Rit overzicht 2024 '!X69","v":0},{"$f":"'Rit overzicht 2024 '!Y69","v":0},{"$f":"'Rit overzicht 2024 '!Z69","v":10},{"$f":"'Rit overzicht 2024 '!AA69","v":0},{"$f":"'Rit overzicht 2024 '!AB69","v":0},{"$f":"'Rit overzicht 2024 '!AC69","v":0},{"$f":"'Rit overzicht 2024 '!AD69","v":0},{"$f":"'Rit overzicht 2024 '!AE69","v":0},{"$f":"'Rit overzicht 2024 '!AF69","v":0},{"$f":"'Rit overzicht 2024 '!AG69","v":0},{"$f":"'Rit overzicht 2024 '!AH69","v":0},{"$f":"'Rit overzicht 2024 '!AI69","v":0},{"$f":"'Rit overzicht 2024 '!AJ69","v":0},{"$f":"'Rit overzicht 2024 '!AK69","v":0},{"$f":"'Rit overzicht 2024 '!AL69","v":0},{"$f":"'Rit overzicht 2024 '!AM69","v":0},{"$f":"'Rit overzicht 2024 '!AN69","v":0},{"$f":"'Rit overzicht 2024 '!AO69","v":0},{"$f":"'Rit overzicht 2024 '!AP69","v":0},{"$f":"'Rit overzicht 2024 '!AQ69","v":0},{"$f":"'Rit overzicht 2024 '!AR69","v":0},{"$f":"'Rit overzicht 2024 '!AS69","v":0},{"$f":"'Rit overzicht 2024 '!AT69","v":0},{"$f":"'Rit overzicht 2024 '!AU69","v":0},{"$f":"'Rit overzicht 2024 '!AV69","v":0},{"$f":"'Rit overzicht 2024 '!AW69","v":0},{"$f":"'Rit overzicht 2024 '!AX69","v":0},{"$f":"'Rit overzicht 2024 '!AY69","v":0},{"$f":"'Rit overzicht 2024 '!AZ69","v":0},{"$f":"'Rit overzicht 2024 '!BA69","v":0},{"$f":"'Rit overzicht 2024 '!BB69","v":0},{"$f":"'Rit overzicht 2024 '!BC69","v":0},{"$f":"'Rit overzicht 2024 '!BD69","v":0},{"$f":"'Rit overzicht 2024 '!BE69","v":0},{"$f":"'Rit overzicht 2024 '!BF69","v":0},{"$f":"'Rit overzicht 2024 '!BG69","v":0},{"$f":"'Rit overzicht 2024 '!BH69","v":0},{"$f":"'Rit overzicht 2024 '!BI69","v":12},{"$f":"'Rit overzicht 2024 '!BJ69","v":0},{"$f":"'Rit overzicht 2024 '!BK69","v":0},{"$f":"'Rit overzicht 2024 '!BL69","v":0},{"$f":"'Rit overzicht 2024 '!BM69","v":12},{"$f":"'Rit overzicht 2024 '!BN69","v":27}]
["6.2",null,"Donderdag","Peulen Hardinxveld",null,4,4,4,{"$f":"'Rit overzicht 2024 '!I70","v":0},{"$f":"'Rit overzicht 2024 '!J70","v":0},{"$f":"'Rit overzicht 2024 '!K70","v":0},{"$f":"'Rit overzicht 2024 '!L70","v":0},{"$f":"'Rit overzicht 2024 '!M70","v":0},{"$f":"'Rit overzicht 2024 '!N70","v":0},{"$f":"'Rit overzicht 2024 '!O70","v":0},{"$f":"'Rit overzicht 2024 '!P70","v":0},{"$f":"'Rit overzicht 2024 '!Q70","v":0},{"$f":"'Rit overzicht 2024 '!R70","v":0},{"$f":"'Rit overzicht 2024 '!S70","v":0},{"$f":"'Rit overzicht 2024 '!T70","v":0},{"$f":"'Rit overzicht 2024 '!U70","v":0},{"$f":"'Rit overzicht 2024 '!V70","v":2},{"$f":"'Rit overzicht 2024 '!W70","v":19},{"$f":"'Rit overzicht 2024 '!X70","v":0},{"$f":"'Rit overzicht 2024 '!Y70","v":0},{"$f":"'Rit overzicht 2024 '!Z70","v":6},{"$f":"'Rit overzicht 2024 '!AA70","v":0},{"$f":"'Rit overzicht 2024 '!AB70","v":0},{"$f":"'Rit overzicht 2024 '!AC70","v":0},{"$f":"'Rit overzicht 2024 '!AD70","v":0},{"$f":"'Rit overzicht 2024 '!AE70","v":0},{"$f":"'Rit overzicht 2024 '!AF70","v":0},{"$f":"'Rit overzicht 2024 '!AG70","v":0},{"$f":"'Rit overzicht 2024 '!AH70","v":0},{"$f":"'Rit overzicht 2024 '!AI70","v":0},{"$f":"'Rit overzicht 2024 '!AJ70","v":0},{"$f":"'Rit overzicht 2024 '!AK70","v":0},{"$f":"'Rit overzicht 2024 '!AL70","v":0},{"$f":"'Rit overzicht 2024 '!AM70","v":0},{"$f":"'Rit overzicht 2024 '!AN70","v":0},{"$f":"'Rit overzicht 2024 '!AO70","v":0},{"$f":"'Rit overzicht 2024 '!AP70","v":0},{"$f":"'Rit overzicht 2024 '!AQ70","v":0},{"$f":"'Rit overzicht 2024 '!AR70","v":0},{"$f":"'Rit overzicht 2024 '!AS70","v":0},{"$f":"'Rit overzicht 2024 '!AT70","v":0},{"$f":"'Rit overzicht 2024 '!AU70","v":0},{"$f":"'Rit overzicht 2024 '!AV70","v":0},{"$f":"'Rit overzicht 2024 '!AW70","v":0},{"$f":"'Rit overzicht 2024 '!AX70","v":0},{"$f":"'Rit overzicht 2024 '!AY70","v":0},{"$f":"'Rit overzicht 2024 '!AZ70","v":0},{"$f":"'Rit overzicht 2024 '!BA70","v":0},{"$f":"'Rit overzicht 2024 '!BB70","v":0},{"$f":"'Rit overzicht 2024 '!BC70","v":0},{"$f":"'Rit overzicht 2024 '!BD70","v":0},{"$f":"'Rit overzicht 2024 '!BE70","v":0},{"$f":"'Rit overzicht 2024 '!BF70","v":0},{"$f":"'Rit overzicht 2024 '!BG70","v":0},{"$f":"'Rit overzicht 2024 '!BH70","v":0},{"$f":"'Rit overzicht 2024 '!BI70","v":0},{"$f":"'Rit overzicht 2024 '!BJ70","v":8},{"$f":"'Rit overzicht 2024 '!BK70","v":0},{"$f":"'Rit overzicht 2024 '!BL70","v":19},{"$f":"'Rit overzicht 2024 '!BM70","v":0},{"$f":"'Rit overzicht 2024 '!BN70","v":0}]
["6.2",null,"Donderdag","Peulen Hardinxveld","Troelstrastraat 2",4,4,4,{"$f":"'Rit overzicht 2024 '!I71","v":2},{"$f":"'Rit overzicht 2024 '!J71","v":0},{"$f":"'Rit overzicht 2024 '!K71","v":0},{"$f":"'Rit overzicht 2024 '!L71","v":0},{"$f":"'Rit overzicht 2024 '!M71","v":0},{"$f":"'Rit overzicht 2024 '!N71","v":0},{"$f":"'Rit overzicht 2024 '!O71","v":0},{"$f":"'Rit overzicht 2024 '!P71","v":0},{"$f":"'Rit overzicht 2024 '!Q71","v":2},{"$f":"'Rit overzicht 2024 '!R71","v":0},{"$f":"'Rit overzicht 2024 '!S71","v":0},{"$f":"'Rit overzicht 2024 '!T71","v":5},{"$f":"'Rit overzicht 2024 '!U71","v":0},{"$f":"'Rit overzicht 2024 '!V71","v":0},{"$f":"'Rit overzicht 2024 '!W71","v":4},{"$f":"'Rit overzicht 2024 '!X71","v":0},{"$f":"'Rit overzicht 2024 '!Y71","v":0},{"$f":"'Rit overzicht 2024 '!Z71","v":0},{"$f":"'Rit overzicht 2024 '!AA71","v":0},{"$f":"'Rit overzicht 2024 '!AB71","v":0},{"$f":"'Rit overzicht 2024 '!AC71","v":0},{"$f":"'Rit overzicht 2024 '!AD71","v":0},{"$f":"'Rit overzicht 2024 '!AE71","v":0},{"$f":"'Rit overzicht 2024 '!AF71","v":0},{"$f":"'Rit overzicht 2024 '!AG71","v":0},{"$f":"'Rit overzicht 2024 '!AH71","v":0},{"$f":"'Rit overzicht 2024 '!AI71","v":0},{"$f":"'Rit overzicht 2024 '!AJ71","v":0},{"$f":"'Rit overzicht 2024 '!AK71","v":0},{"$f":"'Rit overzicht 2024 '!AL71","v":0},{"$f":"'Rit overzicht 2024 '!AM71","v":0},{"$f":"'Rit overzicht 2024 '!AN71","v":0},{"$f":"'Rit overzicht 2024 '!AO71","v":0},{"$f":"'Rit overzicht 2024 '!AP71","v":0},{"$f":"'Rit overzicht 2024 '!AQ71","v":0},{"$f":"'Rit overzicht 2024 '!AR71","v":0},{"$f":"'Rit overzicht 2024 '!AS71","v":0},{"$f":"'Rit overzicht 2024 '!AT71","v":0},{"$f":"'Rit overzicht 2024 '!AU71","v":0},{"$f":"'Rit overzicht 2024 '!AV71","v":0},{"$f":"'Rit overzicht 2024 '!AW71","v":0},{"$f":"'Rit overzicht 2024 '!AX71","v":0},{"$f":"'Rit overzicht 2024 '!AY71","v":0},{"$f":"'Rit overzicht 2024 '!AZ71","v":0},{"$f":"'Rit overzicht 2024 '!BA71","v":0},{"$f":"'Rit overzicht 2024 '!BB71","v":0},{"$f":"'Rit overzicht 2024 '!BC71","v":0},{"$f":"'Rit overzicht 2024 '!BD71","v":0},{"$f":"'Rit overzicht 2024 '!BE71","v":0},{"$f":"'Rit overzicht 2024 '!BF71","v":0},{"$f":"'Rit overzicht 2024 '!BG71","v":0},{"$f":"'Rit overzicht 2024 '!BH71","v":0},{"$f":"'Rit overzicht 2024 '!BI71","v":5},{"$f":"'Rit overzicht 2024 '!BJ71","v":0},{"$f":"'Rit overzicht 2024 '!BK71","v":8},{"$f":"'Rit overzicht 2024 '!BL71","v":0},{"$f":"'Rit overzicht 2024 '!BM71","v":13},{"$f":"'Rit overzicht 2024 '!BN71","v":72}]
["7.1",null,"Donderdag","Boven Hardinxveld afhelpen Hardinxveld",null,7,7,7,{"$f":"'Rit overzicht 2024 '!I72","v":29},{"$f":"'Rit overzicht 2024 '!J72","v":0},{"$f":"'Rit overzicht 2024 '!K72","v":0},{"$f":"'Rit overzicht 2024 '!L72","v":0},{"$f":"'Rit overzicht 2024 '!M72","v":0},{"$f":"'Rit overzicht 2024 '!N72","v":0},{"$f":"'Rit overzicht 2024 '!O72","v":0},{"$f":"'Rit overzicht 2024 '!P72","v":0},{"$f":"'Rit overzicht 2024 '!Q72","v":9},{"$f":"'Rit overzicht 2024 '!R72","v":0},{"$f":"'Rit overzicht 2024 '!S72","v":5},{"$f":"'Rit overzicht 2024 '!T72","v":21},{"$f":"'Rit overzicht 2024 '!U72","v":0},{"$f":"'Rit overzicht 2024 '!V72","v":0},{"$f":"'Rit overzicht 2024 '!W72","v":8},{"$f":"'Rit overzicht 2024 '!X72","v":0},{"$f":"'Rit overzicht 2024 '!Y72","v":0},{"$f":"'Rit overzicht 2024 '!Z72","v":0},{"$f":"'Rit overzicht 2024 '!AA72","v":0},{"$f":"'Rit overzicht 2024 '!AB72","v":0},{"$f":"'Rit overzicht 2024 '!AC72","v":0},{"$f":"'Rit overzicht 2024 '!AD72","v":0},{"$f":"'Rit overzicht 2024 '!AE72","v":0},{"$f":"'Rit overzicht 2024 '!AF72","v":0},{"$f":"'Rit overzicht 2024 '!AG72","v":0},{"$f":"'Rit overzicht 2024 '!AH72","v":0},{"$f":"'Rit overzicht 2024 '!AI72","v":0},{"$f":"'Rit overzicht 2024 '!AJ72","v":0},{"$f":"'Rit overzicht 2024 '!AK72","v":0},{"$f":"'Rit overzicht 2024 '!AL72","v":0},{"$f":"'Rit overzicht 2024 '!AM72","v":0},{"$f":"'Rit overzicht 2024 '!AN72","v":0},{"$f":"'Rit overzicht 2024 '!AO72","v":0},{"$f":"'Rit overzicht 2024 '!AP72","v":0},{"$f":"'Rit overzicht 2024 '!AQ72","v":0},{"$f":"'Rit overzicht 2024 '!AR72","v":0},{"$f":"'Rit overzicht 2024 '!AS72","v":0},{"$f":"'Rit overzicht 2024 '!AT72","v":0},{"$f":"'Rit overzicht 2024 '!AU72","v":0},{"$f":"'Rit overzicht 2024 '!AV72","v":0},{"$f":"'Rit overzicht 2024 '!AW72","v":0},{"$f":"'Rit overzicht 2024 '!AX72","v":0},{"$f":"'Rit overzicht 2024 '!AY72","v":0},{"$f":"'Rit overzicht 2024 '!AZ72","v":0},{"$f":"'Rit overzicht 2024 '!BA72","v":0},{"$f":"'Rit overzicht 2024 '!BB72","v":0},{"$f":"'Rit overzicht 2024 '!BC72","v":0},{"$f":"'Rit overzicht 2024 '!BD72","v":0},{"$f":"'Rit overzicht 2024 '!BE72","v":0},{"$f":"'Rit overzicht 2024 '!BF72","v":0},{"$f":"'Rit overzicht 2024 '!BG72","v":0},{"$f":"'Rit overzicht 2024 '!BH72","v":0},{"$f":"'Rit overzicht 2024 '!BI72","v":0},{"$f":"'Rit overzicht 2024 '!BJ72","v":21},{"$f":"'Rit overzicht 2024 '!BK72","v":0},{"$f":"'Rit overzicht 2024 '!BL72","v":51},{"$f":"'Rit overzicht 2024 '!BM72","v":0},{"$f":"'Rit overzicht 2024 '!BN72","v":0}]
["7.1",null,"Donderdag","Boven Hardinxveld afhelpen Hardinxveld","Drijverschuit 5",7,7,7,{"$f":"'Rit overzicht 2024 '!I73","v":0},{"$f":"'Rit overzicht 2024 '!J73","v":0},{"$f":"'Rit overzicht 2024 '!K73","v":0},{"$f":"'Rit overzicht 2024 '!L73","v":0},{"$f":"'Rit overzicht 2024 '!M73","v":0},{"$f":"'Rit overzicht 2024 '!N73","v":0},{"$f":"'Rit overzicht 2024 '!O73","v":0},{"$f":"'Rit overzicht 2024 '!P73","v":0},{"$f":"'Rit overzicht 2024 '!Q73","v":0},{"$f":"'Rit overzicht 2024 '!R73","v":0},{"$f":"'Rit overzicht 2024 '!S73","v":0},{"$f":"'Rit overzicht 2024 '!T73","v":0},{"$f":"'Rit overzicht 2024 '!U73","v":0},{"$f":"'Rit overzicht 2024 '!V73","v":0},{"$f":"'Rit overzicht 2024 '!W73","v":0},{"$f":"'Rit overzicht 2024 '!X73","v":5},{"$f":"'Rit overzicht 2024 '!Y73","v":0},{"$f":"'Rit overzicht 2024 '!Z73","v":0},{"$f":"'Rit overzicht 2024 '!AA73","v":0},{"$f":"'Rit overzicht 2024 '!AB73","v":0},{"$f":"'Rit overzicht 2024 '!AC73","v":0},{"$f":"'Rit overzicht 2024 '!AD73","v":0},{"$f":"'Rit overzicht 2024 '!AE73","v":0},{"$f":"'Rit overzicht 2024 '!AF73","v":0},{"$f":"'Rit overzicht 2024 '!AG73","v":0},{"$f":"'Rit overzicht 2024 '!AH73","v":0},{"$f":"'Rit overzicht 2024 '!AI73","v":0},{"$f":"'Rit overzicht 2024 '!AJ73","v":0},{"$f":"'Rit overzicht 2024 '!AK73","v":0},{"$f":"'Rit overzicht 2024 '!AL73","v":0},{"$f":"'Rit overzicht 2024 '!AM73","v":0},{"$f":"'Rit overzicht 2024 '!AN73","v":0},{"$f":"'Rit overzicht 2024 '!AO73","v":0},{"$f":"'Rit overzicht 2024 '!AP73","v":0},{"$f":"'Rit overzicht 2024 '!AQ73","v":0},{"$f":"'Rit overzicht 2024 '!AR73","v":0},{"$f":"'Rit overzicht 2024 '!AS73","v":0},{"$f":"'Rit overzicht 2024 '!AT73","v":0},{"$f":"'Rit overzicht 2024 '!AU73","v":0},{"$f":"'Rit overzicht 2024 '!AV73","v":0},{"$f":"'Rit overzicht 2024 '!AW73","v":0},{"$f":"'Rit overzicht 2024 '!AX73","v":0},{"$f":"'Rit overzicht 2024 '!AY73","v":0},{"$f":"'Rit overzicht 2024 '!AZ73","v":0},{"$f":"'Rit overzicht 2024 '!BA73","v":0},{"$f":"'Rit overzicht 2024 '!BB73","v":0},{"$f":"'Rit overzicht 2024 '!BC73","v":0},{"$f":"'Rit overzicht 2024 '!BD73","v":0},{"$f":"'Rit overzicht 2024 '!BE73","v":0},{"$f":"'Rit overzicht 2024 '!BF73","v":0},{"$f":"'Rit overzicht 2024 '!BG73","v":0},{"$f":"'Rit overzicht 2024 '!BH73","v":0},{"$f":"'Rit overzicht 2024 '!BI73","v":5},{"$f":"'Rit overzicht 2024 '!BJ73","v":0},{"$f":"'Rit overzicht 2024 '!BK73","v":0},{"$f":"'Rit overzicht 2024 '!BL73","v":0},{"$f":"'Rit overzicht 2024 '!BM73","v":5},{"$f":"'Rit overzicht 2024 '!BN73","v":6}]
[4.0999999999999996,null,"Vrijdag","kern Streefkerk","1e Zwanenvliet 4",6,6,6,{"$f":"'Rit overzicht 2024 '!I74","v":0},{"$f":"'Rit overzicht 2024 '!J74","v":0},{"$f":"'Rit overzicht 2024 '!K74","v":0},{"$f":"'Rit overzicht 2024 '!L74","v":0},{"$f":"'Rit overzicht 2024 '!M74","v":0},{"$f":"'Rit overzicht 2024 '!N74","v":0},{"$f":"'Rit overzicht 2024 '!O74","v":0},{"$f":"'Rit overzicht 2024 '!P74","v":0},{"$f":"'Rit overzicht 2024 '!Q74","v":0},{"$f":"'Rit overzicht 2024 '!R74","v":0},{"$f":"'Rit overzicht 2024 '!S74","v":0},{"$f":"'Rit overzicht 2024 '!T74","v":0},{"$f":"'Rit overzicht 2024 '!U74","v":0},{"$f":"'Rit overzicht 2024 '!V74","v":0},{"$f":"'Rit overzicht 2024 '!W74","v":0},{"$f":"'Rit overzicht 2024 '!X74","v":6},{"$f":"'Rit overzicht 2024 '!Y74","v":0},{"$f":"'Rit overzicht 2024 '!Z74","v":0},{"$f":"'Rit overzicht 2024 '!AA74","v":0},{"$f":"'Rit overzicht 2024 '!AB74","v":0},{"$f":"'Rit overzicht 2024 '!AC74","v":0},{"$f":"'Rit overzicht 2024 '!AD74","v":0},{"$f":"'Rit overzicht 2024 '!AE74","v":0},{"$f":"'Rit overzicht 2024 '!AF74","v":0},{"$f":"'Rit overzicht 2024 '!AG74","v":0},{"$f":"'Rit overzicht 2024 '!AH74","v":0},{"$f":"'Rit overzicht 2024 '!AI74","v":0},{"$f":"'Rit overzicht 2024 '!AJ74","v":0},{"$f":"'Rit overzicht 2024 '!AK74","v":0},{"$f":"'Rit overzicht 2024 '!AL74","v":0},{"$f":"'Rit overzicht 2024 '!AM74","v":0},{"$f":"'Rit overzicht 2024 '!AN74","v":0},{"$f":"'Rit overzicht 2024 '!AO74","v":0},{"$f":"'Rit overzicht 2024 '!AP74","v":0},{"$f":"'Rit overzicht 2024 '!AQ74","v":0},{"$f":"'Rit overzicht 2024 '!AR74","v":0},{"$f":"'Rit overzicht 2024 '!AS74","v":0},{"$f":"'Rit overzicht 2024 '!AT74","v":0},{"$f":"'Rit overzicht 2024 '!AU74","v":0},{"$f":"'Rit overzicht 2024 '!AV74","v":0},{"$f":"'Rit overzicht 2024 '!AW74","v":0},{"$f":"'Rit overzicht 2024 '!AX74","v":0},{"$f":"'Rit overzicht 2024 '!AY74","v":0},{"$f":"'Rit overzicht 2024 '!AZ74","v":0},{"$f":"'Rit overzicht 2024 '!BA74","v":0},{"$f":"'Rit overzicht 2024 '!BB74","v":0},{"$f":"'Rit overzicht 2024 '!BC74","v":0},{"$f":"'Rit overzicht 2024 '!BD74","v":0},{"$f":"'Rit overzicht 2024 '!BE74","v":0},{"$f":"'Rit overzicht 2024 '!BF74","v":0},{"$f":"'Rit overzicht 2024 '!BG74","v":0},{"$f":"'Rit overzicht 2024 '!BH74","v":0},{"$f":"'Rit overzicht 2024 '!BI74","v":0},{"$f":"'Rit overzicht 2024 '!BJ74","v":6},{"$f":"'Rit overzicht 2024 '!BK74","v":0},{"$f":"'Rit overzicht 2024 '!BL74","v":0},{"$f":"'Rit overzicht 2024 '!BM74","v":0},{"$f":"'Rit overzicht 2024 '!BN74","v":0}]
["4.1",null,"Vrijdag","kern Streefkerk",null,6,6,6,{"$f":"'Rit overzicht 2024 '!I75","v":0},{"$f":"'Rit overzicht 2024 '!J75","v":0},{"$f":"'Rit overzicht 2024 '!K75","v":0},{"$f":"'Rit overzicht 2024 '!L75","v":0},{"$f":"'Rit overzicht 2024 '!M75","v":3},{"$f":"'Rit overzicht 2024 '!N75","v":0},{"$f":"'Rit overzicht 2024 '!O75","v":0},{"$f":"'Rit overzicht 2024 '!P75","v":0},{"$f":"'Rit overzicht 2024 '!Q75","v":0},{"$f":"'Rit overzicht 2024 '!R75","v":0},{"$f":"'Rit overzicht 2024 '!S75","v":2},{"$f":"'Rit overzicht 2024 '!T75","v":0},{"$f":"'Rit overzicht 2024 '!U75","v":0},{"$f":"'Rit overzicht 2024 '!V75","v":0},{"$f":"'Rit overzicht 2024 '!W75","v":0},{"$f":"'Rit overzicht 2024 '!X75","v":0},{"$f":"'Rit overzicht 2024 '!Y75","v":0},{"$f":"'Rit overzicht 2024 '!Z75","v":0},{"$f":"'Rit overzicht 2024 '!AA75","v":0},{"$f":"'Rit overzicht 2024 '!AB75","v":0},{"$f":"'Rit overzicht 2024 '!AC75","v":0},{"$f":"'Rit overzicht 2024 '!AD75","v":0},{"$f":"'Rit overzicht 2024 '!AE75","v":0},{"$f":"'Rit overzicht 2024 '!AF75","v":0},{"$f":"'Rit overzicht 2024 '!AG75","v":0},{"$f":"'Rit overzicht 2024 '!AH75","v":0},{"$f":"'Rit overzicht 2024 '!AI75","v":0},{"$f":"'Rit overzicht 2024 '!AJ75","v":0},{"$f":"'Rit overzicht 2024 '!AK75","v":0},{"$f":"'Rit overzicht 2024 '!AL75","v":0},{"$f":"'Rit overzicht 2024 '!AM75","v":0},{"$f":"'Rit overzicht 2024 '!AN75","v":0},{"$f":"'Rit overzicht 2024 '!AO75","v":0},{"$f":"'Rit overzicht 2024 '!AP75","v":0},{"$f":"'Rit overzicht 2024 '!AQ75","v":0},{"$f":"'Rit overzicht 2024 '!AR75","v":0},{"$f":"'Rit overzicht 2024 '!AS75","v":0},{"$f":"'Rit overzicht 2024 '!AT75","v":0},{"$f":"'Rit overzicht 2024 '!AU75","v":0},{"$f":"'Rit overzicht 2024 '!AV75","v":0},{"$f":"'Rit overzicht 2024 '!AW75","v":0},{"$f":"'Rit overzicht 2024 '!AX75","v":0},{"$f":"'Rit overzicht 2024 '!AY75","v":0},{"$f":"'Rit overzicht 2024 '!AZ75","v":0},{"$f":"'Rit overzicht 2024 '!BA75","v":0},{"$f":"'Rit overzicht 2024 '!BB75","v":0},{"$f":"'Rit overzicht 2024 '!BC75","v":0},{"$f":"'Rit overzicht 2024 '!BD75","v":0},{"$f":"'Rit overzicht 2024 '!BE75","v":0},{"$f":"'Rit overzicht 2024 '!BF75","v":0},{"$f":"'Rit overzicht 2024 '!BG75","v":0},{"$f":"'Rit overzicht 2024 '!BH75","v":0},{"$f":"'Rit overzicht 2024 '!BI75","v":0},{"$f":"'Rit overzicht 2024 '!BJ75","v":0},{"$f":"'Rit overzicht 2024 '!BK75","v":5},{"$f":"'Rit overzicht 2024 '!BL75","v":0},{"$f":"'Rit overzicht 2024 '!BM75","v":5},{"$f":"'Rit overzicht 2024 '!BN75","v":44}]
["1.1",null,"Vrijdag","1=Vianen Amaliastein en 2=Molenwijk en 3=Slyk",null,null,null,null,{"$f":"'Rit overzicht 2024 '!I76","v":0},{"$f":"'Rit overzicht 2024 '!J76","v":0},{"$f":"'Rit overzicht 2024 '!K76","v":0},{"$f":"'Rit overzicht 2024 '!L76","v":0},{"$f":"'Rit overzicht 2024 '!M76","v":27},{"$f":"'Rit overzicht 2024 '!N76","v":0},{"$f":"'Rit overzicht 2024 '!O76","v":0},{"$f":"'Rit overzicht 2024 '!P76","v":0},{"$f":"'Rit overzicht 2024 '!Q76","v":0},{"$f":"'Rit overzicht 2024 '!R76","v":0},{"$f":"'Rit overzicht 2024 '!S76","v":17},{"$f":"'Rit overzicht 2024 '!T76","v":0},{"$f":"'Rit overzicht 2024 '!U76","v":0},{"$f":"'Rit overzicht 2024 '!V76","v":0},{"$f":"'Rit overzicht 2024 '!W76","v":0},{"$f":"'Rit overzicht 2024 '!X76","v":0},{"$f":"'Rit overzicht 2024 '!Y76","v":0},{"$f":"'Rit overzicht 2024 '!Z76","v":0},{"$f":"'Rit overzicht 2024 '!AA76","v":0},{"$f":"'Rit overzicht 2024 '!AB76","v":0},{"$f":"'Rit overzicht 2024 '!AC76","v":0},{"$f":"'Rit overzicht 2024 '!AD76","v":0},{"$f":"'Rit overzicht 2024 '!AE76","v":0},{"$f":"'Rit overzicht 2024 '!AF76","v":0},{"$f":"'Rit overzicht 2024 '!AG76","v":0},{"$f":"'Rit overzicht 2024 '!AH76","v":0},{"$f":"'Rit overzicht 2024 '!AI76","v":0},{"$f":"'Rit overzicht 2024 '!AJ76","v":0},{"$f":"'Rit overzicht 2024 '!AK76","v":0},{"$f":"'Rit overzicht 2024 '!AL76","v":0},{"$f":"'Rit overzicht 2024 '!AM76","v":0},{"$f":"'Rit overzicht 2024 '!AN76","v":0},{"$f":"'Rit overzicht 2024 '!AO76","v":0},{"$f":"'Rit overzicht 2024 '!AP76","v":0},{"$f":"'Rit overzicht 2024 '!AQ76","v":0},{"$f":"'Rit overzicht 2024 '!AR76","v":0},{"$f":"'Rit overzicht 2024 '!AS76","v":0},{"$f":"'Rit overzicht 2024 '!AT76","v":0},{"$f":"'Rit overzicht 2024 '!AU76","v":0},{"$f":"'Rit overzicht 2024 '!AV76","v":0},{"$f":"'Rit overzicht 2024 '!AW76","v":0},{"$f":"'Rit overzicht 2024 '!AX76","v":0},{"$f":"'Rit overzicht 2024 '!AY76","v":0},{"$f":"'Rit overzicht 2024 '!AZ76","v":0},{"$f":"'Rit overzicht 2024 '!BA76","v":0},{"$f":"'Rit overzicht 2024 '!BB76","v":0},{"$f":"'Rit overzicht 2024 '!BC76","v":0},{"$f":"'Rit overzicht 2024 '!BD76","v":0},{"$f":"'Rit overzicht 2024 '!BE76","v":0},{"$f":"'Rit overzicht 2024 '!BF76","v":0},{"$f":"'Rit overzicht 2024 '!BG76","v":0},{"$f":"'Rit overzicht 2024 '!BH76","v":0},{"$f":"'Rit overzicht 2024 '!BI76","v":0},{"$f":"'Rit overzicht 2024 '!BJ76","v":0},{"$f":"'Rit overzicht 2024 '!BK76","v":0},{"$f":"'Rit overzicht 2024 '!BL76","v":44},{"$f":"'Rit overzicht 2024 '!BM76","v":0},{"$f":"'Rit overzicht 2024 '!BN76","v":0}]
["1.1",null,"Vrijdag","1=Vianen Amaliastein en 2=Molenwijk en 3=Slyk","1=M van Borselenstr 47 2=Dammolen 1 3=Uithoflaan 53",null,null,null,{"$f":"'Rit overzicht 2024 '!I77","v":3},{"$f":"'Rit overzicht 2024 '!J77","v":2},{"$f":"'Rit overzicht 2024 '!K77","v":6},{"$f":"'Rit overzicht 2024 '!L77","v":1},{"$f":"'Rit overzicht 2024 '!M77","v":0},{"$f":"'Rit overzicht 2024 '!N77","v":0},{"$f":"'Rit overzicht 2024 '!O77","v":0},{"$f":"'Rit overzicht 2024 '!P77","v":0},{"$f":"'Rit overzicht 2024 '!Q77","v":0},{"$f":"'Rit overzicht 2024 '!R77","v":0},{"$f":"'Rit overzicht 2024 '!S77","v":0},{"$f":"'Rit overzicht 2024 '!T77","v":5},{"$f":"'Rit overzicht 2024 '!U77","v":18},{"$f":"'Rit overzicht 2024 '!V77","v":0},{"$f":"'Rit overzicht 2024 '!W77","v":0},{"$f":"'Rit overzicht 2024 '!X77","v":0},{"$f":"'Rit overzicht 2024 '!Y77","v":0},{"$f":"'Rit overzicht 2024 '!Z77","v":0},{"$f":"'Rit overzicht 2024 '!AA77","v":0},{"$f":"'Rit overzicht 2024 '!AB77","v":0},{"$f":"'Rit overzicht 2024 '!AC77","v":0},{"$f":"'Rit overzicht 2024 '!AD77","v":0},{"$f":"'Rit overzicht 2024 '!AE77","v":0},{"$f":"'Rit overzicht 2024 '!AF77","v":0},{"$f":"'Rit overzicht 2024 '!AG77","v":0},{"$f":"'Rit overzicht 2024 '!AH77","v":0},{"$f":"'Rit overzicht 2024 '!AI77","v":0},{"$f":"'Rit overzicht 2024 '!AJ77","v":0},{"$f":"'Rit overzicht 2024 '!AK77","v":0},{"$f":"'Rit overzicht 2024 '!AL77","v":0},{"$f":"'Rit overzicht 2024 '!AM77","v":0},{"$f":"'Rit overzicht 2024 '!AN77","v":0},{"$f":"'Rit overzicht 2024 '!AO77","v":0},{"$f":"'Rit overzicht 2024 '!AP77","v":0},{"$f":"'Rit overzicht 2024 '!AQ77","v":0},{"$f":"'Rit overzicht 2024 '!AR77","v":0},{"$f":"'Rit overzicht 2024 '!AS77","v":0},{"$f":"'Rit overzicht 2024 '!AT77","v":0},{"$f":"'Rit overzicht 2024 '!AU77","v":0},{"$f":"'Rit overzicht 2024 '!AV77","v":0},{"$f":"'Rit overzicht 2024 '!AW77","v":0},{"$f":"'Rit overzicht 2024 '!AX77","v":0},{"$f":"'Rit overzicht 2024 '!AY77","v":0},{"$f":"'Rit overzicht 2024 '!AZ77","v":0},{"$f":"'Rit overzicht 2024 '!BA77","v":0},{"$f":"'Rit overzicht 2024 '!BB77","v":0},{"$f":"'Rit overzicht 2024 '!BC77","v":0},{"$f":"'Rit overzicht 2024 '!BD77","v":0},{"$f":"'Rit overzicht 2024 '!BE77","v":0},{"$f":"'Rit overzicht 2024 '!BF77","v":0},{"$f":"'Rit overzicht 2024 '!BG77","v":0},{"$f":"'Rit overzicht 2024 '!BH77","v":0},{"$f":"'Rit overzicht 2024 '!BI77","v":8},{"$f":"'Rit overzicht 2024 '!BJ77","v":0},{"$f":"'Rit overzicht 2024 '!BK77","v":27},{"$f":"'Rit overzicht 2024 '!BL77","v":0},{"$f":"'Rit overzicht 2024 '!BM77","v":35},{"$f":"'Rit overzicht 2024 '!BN77","v":120}]
["2.1",null,"Vrijdag","kern Nieuw Lekkerland en kern Kinderdijk","tijd over 3e:  Schansweg 2 Kinderdijk",5,5,5,{"$f":"'Rit overzicht 2024 '!I78","v":27},{"$f":"'Rit overzicht 2024 '!J78","v":31},{"$f":"'Rit overzicht 2024 '!K78","v":19},{"$f":"'Rit overzicht 2024 '!L78","v":20},{"$f":"'Rit overzicht 2024 '!M78","v":0},{"$f":"'Rit overzicht 2024 '!N78","v":0},{"$f":"'Rit overzicht 2024 '!O78","v":0},{"$f":"'Rit overzicht 2024 '!P78","v":0},{"$f":"'Rit overzicht 2024 '!Q78","v":0},{"$f":"'Rit overzicht 2024 '!R78","v":0},{"$f":"'Rit overzicht 2024 '!S78","v":0},{"$f":"'Rit overzicht 2024 '!T78","v":12},{"$f":"'Rit overzicht 2024 '!U78","v":11},{"$f":"'Rit overzicht 2024 '!V78","v":0},{"$f":"'Rit overzicht 2024 '!W78","v":0},{"$f":"'Rit overzicht 2024 '!X78","v":0},{"$f":"'Rit overzicht 2024 '!Y78","v":0},{"$f":"'Rit overzicht 2024 '!Z78","v":0},{"$f":"'Rit overzicht 2024 '!AA78","v":0},{"$f":"'Rit overzicht 2024 '!AB78","v":0},{"$f":"'Rit overzicht 2024 '!AC78","v":0},{"$f":"'Rit overzicht 2024 '!AD78","v":0},{"$f":"'Rit overzicht 2024 '!AE78","v":0},{"$f":"'Rit overzicht 2024 '!AF78","v":0},{"$f":"'Rit overzicht 2024 '!AG78","v":0},{"$f":"'Rit overzicht 2024 '!AH78","v":0},{"$f":"'Rit overzicht 2024 '!AI78","v":0},{"$f":"'Rit overzicht 2024 '!AJ78","v":0},{"$f":"'Rit overzicht 2024 '!AK78","v":0},{"$f":"'Rit overzicht 2024 '!AL78","v":0},{"$f":"'Rit overzicht 2024 '!AM78","v":0},{"$f":"'Rit overzicht 2024 '!AN78","v":0},{"$f":"'Rit overzicht 2024 '!AO78","v":0},{"$f":"'Rit overzicht 2024 '!AP78","v":0},{"$f":"'Rit overzicht 2024 '!AQ78","v":0},{"$f":"'Rit overzicht 2024 '!AR78","v":0},{"$f":"'Rit overzicht 2024 '!AS78","v":0},{"$f":"'Rit overzicht 2024 '!AT78","v":0},{"$f":"'Rit overzicht 2024 '!AU78","v":0},{"$f":"'Rit overzicht 2024 '!AV78","v":0},{"$f":"'Rit overzicht 2024 '!AW78","v":0},{"$f":"'Rit overzicht 2024 '!AX78","v":0},{"$f":"'Rit overzicht 2024 '!AY78","v":0},{"$f":"'Rit overzicht 2024 '!AZ78","v":0},{"$f":"'Rit overzicht 2024 '!BA78","v":0},{"$f":"'Rit overzicht 2024 '!BB78","v":0},{"$f":"'Rit overzicht 2024 '!BC78","v":0},{"$f":"'Rit overzicht 2024 '!BD78","v":0},{"$f":"'Rit overzicht 2024 '!BE78","v":0},{"$f":"'Rit overzicht 2024 '!BF78","v":0},{"$f":"'Rit overzicht 2024 '!BG78","v":0},{"$f":"'Rit overzicht 2024 '!BH78","v":0},{"$f":"'Rit overzicht 2024 '!BI78","v":0},{"$f":"'Rit overzicht 2024 '!BJ78","v":63},{"$f":"'Rit overzicht 2024 '!BK78","v":0},{"$f":"'Rit overzicht 2024 '!BL78","v":57},{"$f":"'Rit overzicht 2024 '!BM78","v":0},{"$f":"'Rit overzicht 2024 '!BN78","v":0}]
["2.1",null,"Vrijdag","kern Nieuw Lekkerland en kern Kinderdijk","1e :Hoogaarslaan 21 en ",5,5,5,{"$f":"'Rit overzicht 2024 '!I79","v":0},{"$f":"'Rit overzicht 2024 '!J79","v":0},{"$f":"'Rit overzicht 2024 '!K79","v":0},{"$f":"'Rit overzicht 2024 '!L79","v":0},{"$f":"'Rit overzicht 2024 '!M79","v":0},{"$f":"'Rit overzicht 2024 '!N79","v":0},{"$f":"'Rit overzicht 2024 '!O79","v":0},{"$f":"'Rit overzicht 2024 '!P79","v":0},{"$f":"'Rit overzicht 2024 '!Q79","v":0},{"$f":"'Rit overzicht 2024 '!R79","v":0},{"$f":"'Rit overzicht 2024 '!S79","v":0},{"$f":"'Rit overzicht 2024 '!T79","v":0},{"$f":"'Rit overzicht 2024 '!U79","v":0},{"$f":"'Rit overzicht 2024 '!V79","v":0},{"$f":"'Rit overzicht 2024 '!W79","v":0},{"$f":"'Rit overzicht 2024 '!X79","v":0},{"$f":"'Rit overzicht 2024 '!Y79","v":0},{"$f":"'Rit overzicht 2024 '!Z79","v":0},{"$f":"'Rit overzicht 2024 '!AA79","v":0},{"$f":"'Rit overzicht 2024 '!AB79","v":0},{"$f":"'Rit overzicht 2024 '!AC79","v":0},{"$f":"'Rit overzicht 2024 '!AD79","v":0},{"$f":"'Rit overzicht 2024 '!AE79","v":0},{"$f":"'Rit overzicht 2024 '!AF79","v":0},{"$f":"'Rit overzicht 2024 '!AG79","v":0},{"$f":"'Rit overzicht 2024 '!AH79","v":0},{"$f":"'Rit overzicht 2024 '!AI79","v":0},{"$f":"'Rit overzicht 2024 '!AJ79","v":0},{"$f":"'Rit overzicht 2024 '!AK79","v":0},{"$f":"'Rit overzicht 2024 '!AL79","v":0},{"$f":"'Rit overzicht 2024 '!AM79","v":0},{"$f":"'Rit overzicht 2024 '!AN79","v":0},{"$f":"'Rit overzicht 2024 '!AO79","v":0},{"$f":"'Rit overzicht 2024 '!AP79","v":0},{"$f":"'Rit overzicht 2024 '!AQ79","v":0},{"$f":"'Rit overzicht 2024 '!AR79","v":0},{"$f":"'Rit overzicht 2024 '!AS79","v":0},{"$f":"'Rit overzicht 2024 '!AT79","v":0},{"$f":"'Rit overzicht 2024 '!AU79","v":0},{"$f":"'Rit overzicht 2024 '!AV79","v":0},{"$f":"'Rit overzicht 2024 '!AW79","v":0},{"$f":"'Rit overzicht 2024 '!AX79","v":0},{"$f":"'Rit overzicht 2024 '!AY79","v":0},{"$f":"'Rit overzicht 2024 '!AZ79","v":0},{"$f":"'Rit overzicht 2024 '!BA79","v":0},{"$f":"'Rit overzicht 2024 '!BB79","v":0},{"$f":"'Rit overzicht 2024 '!BC79","v":0},{"$f":"'Rit overzicht 2024 '!BD79","v":0},{"$f":"'Rit overzicht 2024 '!BE79","v":0},{"$f":"'Rit overzicht 2024 '!BF79","v":0},{"$f":"'Rit overzicht 2024 '!BG79","v":0},{"$f":"'Rit overzicht 2024 '!BH79","v":0},{"$f":"'Rit overzicht 2024 '!BI79","v":0},{"$f":"'Rit overzicht 2024 '!BJ79","v":0},{"$f":"'Rit overzicht 2024 '!BK79","v":0},{"$f":"'Rit overzicht 2024 '!BL79","v":0},{"$f":"'Rit overzicht 2024 '!BM79","v":0},{"$f":"'Rit overzicht 2024 '!BN79","v":0}]
["2.2",null,"Vrijdag","Kern Nieuw Lekkerland 2 (molenwijk)",null,4,4,4,{"$f":"'Rit overzicht 2024 '!I80","v":0},{"$f":"'Rit overzicht 2024 '!J80","v":0},{"$f":"'Rit overzicht 2024 '!K80","v":0},{"$f":"'Rit overzicht 2024 '!L80","v":0},{"$f":"'Rit overzicht 2024 '!M80","v":0},{"$f":"'Rit overzicht 2024 '!N80","v":0},{"$f":"'Rit overzicht 2024 '!O80","v":0},{"$f":"'Rit overzicht 2024 '!P80","v":0},{"$f":"'Rit overzicht 2024 '!Q80","v":0},{"$f":"'Rit overzicht 2024 '!R80","v":0},{"$f":"'Rit overzicht 2024 '!S80","v":0},{"$f":"'Rit overzicht 2024 '!T80","v":0},{"$f":"'Rit overzicht 2024 '!U80","v":0},{"$f":"'Rit overzicht 2024 '!V80","v":0},{"$f":"'Rit overzicht 2024 '!W80","v":0},{"$f":"'Rit overzicht 2024 '!X80","v":0},{"$f":"'Rit overzicht 2024 '!Y80","v":0},{"$f":"'Rit overzicht 2024 '!Z80","v":0},{"$f":"'Rit overzicht 2024 '!AA80","v":0},{"$f":"'Rit overzicht 2024 '!AB80","v":0},{"$f":"'Rit overzicht 2024 '!AC80","v":0},{"$f":"'Rit overzicht 2024 '!AD80","v":0},{"$f":"'Rit overzicht 2024 '!AE80","v":0},{"$f":"'Rit overzicht 2024 '!AF80","v":0},{"$f":"'Rit overzicht 2024 '!AG80","v":0},{"$f":"'Rit overzicht 2024 '!AH80","v":0},{"$f":"'Rit overzicht 2024 '!AI80","v":0},{"$f":"'Rit overzicht 2024 '!AJ80","v":0},{"$f":"'Rit overzicht 2024 '!AK80","v":0},{"$f":"'Rit overzicht 2024 '!AL80","v":0},{"$f":"'Rit overzicht 2024 '!AM80","v":0},{"$f":"'Rit overzicht 2024 '!AN80","v":0},{"$f":"'Rit overzicht 2024 '!AO80","v":0},{"$f":"'Rit overzicht 2024 '!AP80","v":0},{"$f":"'Rit overzicht 2024 '!AQ80","v":0},{"$f":"'Rit overzicht 2024 '!AR80","v":0},{"$f":"'Rit overzicht 2024 '!AS80","v":0},{"$f":"'Rit overzicht 2024 '!AT80","v":0},{"$f":"'Rit overzicht 2024 '!AU80","v":0},{"$f":"'Rit overzicht 2024 '!AV80","v":0},{"$f":"'Rit overzicht 2024 '!AW80","v":0},{"$f":"'Rit overzicht 2024 '!AX80","v":0},{"$f":"'Rit overzicht 2024 '!AY80","v":0},{"$f":"'Rit overzicht 2024 '!AZ80","v":0},{"$f":"'Rit overzicht 2024 '!BA80","v":0},{"$f":"'Rit overzicht 2024 '!BB80","v":0},{"$f":"'Rit overzicht 2024 '!BC80","v":0},{"$f":"'Rit overzicht 2024 '!BD80","v":0},{"$f":"'Rit overzicht 2024 '!BE80","v":0},{"$f":"'Rit overzicht 2024 '!BF80","v":0},{"$f":"'Rit overzicht 2024 '!BG80","v":0},{"$f":"'Rit overzicht 2024 '!BH80","v":0},{"$f":"'Rit overzicht 2024 '!BI80","v":0},{"$f":"'Rit overzicht 2024 '!BJ80","v":0},{"$f":"'Rit overzicht 2024 '!BK80","v":0},{"$f":"'Rit overzicht 2024 '!BL80","v":0},{"$f":"'Rit overzicht 2024 '!BM80","v":0},{"$f":"'Rit overzicht 2024 '!BN80","v":0}]
["2.2",null,"Vrijdag","Kern Nieuw Lekkerland 2 (molenwijk)",null,4,4,4,{"$f":"'Rit overzicht 2024 '!I81","v":0},{"$f":"'Rit overzicht 2024 '!J81","v":0},{"$f":"'Rit overzicht 2024 '!K81","v":0},{"$f":"'Rit overzicht 2024 '!L81","v":0},{"$f":"'Rit overzicht 2024 '!M81","v":0},{"$f":"'Rit overzicht 2024 '!N81","v":0},{"$f":"'Rit overzicht 2024 '!O81","v":0},{"$f":"'Rit overzicht 2024 '!P81","v":0},{"$f":"'Rit overzicht 2024 '!Q81","v":9},{"$f":"'Rit overzicht 2024 '!R81","v":0},{"$f":"'Rit overzicht 2024 '!S81","v":0},{"$f":"'Rit overzicht 2024 '!T81","v":0},{"$f":"'Rit overzicht 2024 '!U81","v":0},{"$f":"'Rit overzicht 2024 '!V81","v":0},{"$f":"'Rit overzicht 2024 '!W81","v":15},{"$f":"'Rit overzicht 2024 '!X81","v":0},{"$f":"'Rit overzicht 2024 '!Y81","v":0},{"$f":"'Rit overzicht 2024 '!Z81","v":0},{"$f":"'Rit overzicht 2024 '!AA81","v":0},{"$f":"'Rit overzicht 2024 '!AB81","v":0},{"$f":"'Rit overzicht 2024 '!AC81","v":0},{"$f":"'Rit overzicht 2024 '!AD81","v":0},{"$f":"'Rit overzicht 2024 '!AE81","v":0},{"$f":"'Rit overzicht 2024 '!AF81","v":0},{"$f":"'Rit overzicht 2024 '!AG81","v":0},{"$f":"'Rit overzicht 2024 '!AH81","v":0},{"$f":"'Rit overzicht 2024 '!AI81","v":0},{"$f":"'Rit overzicht 2024 '!AJ81","v":0},{"$f":"'Rit overzicht 2024 '!AK81","v":0},{"$f":"'Rit overzicht 2024 '!AL81","v":0},{"$f":"'Rit overzicht 2024 '!AM81","v":0},{"$f":"'Rit overzicht 2024 '!AN81","v":0},{"$f":"'Rit overzicht 2024 '!AO81","v":0},{"$f":"'Rit overzicht 2024 '!AP81","v":0},{"$f":"'Rit overzicht 2024 '!AQ81","v":0},{"$f":"'Rit overzicht 2024 '!AR81","v":0},{"$f":"'Rit overzicht 2024 '!AS81","v":0},{"$f":"'Rit overzicht 2024 '!AT81","v":0},{"$f":"'Rit overzicht 2024 '!AU81","v":0},{"$f":"'Rit overzicht 2024 '!AV81","v":0},{"$f":"'Rit overzicht 2024 '!AW81","v":0},{"$f":"'Rit overzicht 2024 '!AX81","v":0},{"$f":"'Rit overzicht 2024 '!AY81","v":0},{"$f":"'Rit overzicht 2024 '!AZ81","v":0},{"$f":"'Rit overzicht 2024 '!BA81","v":0},{"$f":"'Rit overzicht 2024 '!BB81","v":0},{"$f":"'Rit overzicht 2024 '!BC81","v":0},{"$f":"'Rit overzicht 2024 '!BD81","v":0},{"$f":"'Rit overzicht 2024 '!BE81","v":0},{"$f":"'Rit overzicht 2024 '!BF81","v":0},{"$f":"'Rit overzicht 2024 '!BG81","v":0},{"$f":"'Rit overzicht 2024 '!BH81","v":0},{"$f":"'Rit overzicht 2024 '!BI81","v":0},{"$f":"'Rit overzicht 2024 '!BJ81","v":0},{"$f":"'Rit overzicht 2024 '!BK81","v":24},{"$f":"'Rit overzicht 2024 '!BL81","v":0},{"$f":"'Rit overzicht 2024 '!BM81","v":24},{"$f":"'Rit overzicht 2024 '!BN81","v":34}]
["3.1",null,"Vrijdag","Kern Groot Ammers nieuw bouw",null,6,5,6,{"$f":"'Rit overzicht 2024 '!I82","v":0},{"$f":"'Rit overzicht 2024 '!J82","v":0},{"$f":"'Rit overzicht 2024 '!K82","v":0},{"$f":"'Rit overzicht 2024 '!L82","v":0},{"$f":"'Rit overzicht 2024 '!M82","v":0},{"$f":"'Rit overzicht 2024 '!N82","v":0},{"$f":"'Rit overzicht 2024 '!O82","v":0},{"$f":"'Rit overzicht 2024 '!P82","v":0},{"$f":"'Rit overzicht 2024 '!Q82","v":8},{"$f":"'Rit overzicht 2024 '!R82","v":0},{"$f":"'Rit overzicht 2024 '!S82","v":0},{"$f":"'Rit overzicht 2024 '!T82","v":0},{"$f":"'Rit overzicht 2024 '!U82","v":0},{"$f":"'Rit overzicht 2024 '!V82","v":0},{"$f":"'Rit overzicht 2024 '!W82","v":26},{"$f":"'Rit overzicht 2024 '!X82","v":0},{"$f":"'Rit overzicht 2024 '!Y82","v":0},{"$f":"'Rit overzicht 2024 '!Z82","v":0},{"$f":"'Rit overzicht 2024 '!AA82","v":0},{"$f":"'Rit overzicht 2024 '!AB82","v":0},{"$f":"'Rit overzicht 2024 '!AC82","v":0},{"$f":"'Rit overzicht 2024 '!AD82","v":0},{"$f":"'Rit overzicht 2024 '!AE82","v":0},{"$f":"'Rit overzicht 2024 '!AF82","v":0},{"$f":"'Rit overzicht 2024 '!AG82","v":0},{"$f":"'Rit overzicht 2024 '!AH82","v":0},{"$f":"'Rit overzicht 2024 '!AI82","v":0},{"$f":"'Rit overzicht 2024 '!AJ82","v":0},{"$f":"'Rit overzicht 2024 '!AK82","v":0},{"$f":"'Rit overzicht 2024 '!AL82","v":0},{"$f":"'Rit overzicht 2024 '!AM82","v":0},{"$f":"'Rit overzicht 2024 '!AN82","v":0},{"$f":"'Rit overzicht 2024 '!AO82","v":0},{"$f":"'Rit overzicht 2024 '!AP82","v":0},{"$f":"'Rit overzicht 2024 '!AQ82","v":0},{"$f":"'Rit overzicht 2024 '!AR82","v":0},{"$f":"'Rit overzicht 2024 '!AS82","v":0},{"$f":"'Rit overzicht 2024 '!AT82","v":0},{"$f":"'Rit overzicht 2024 '!AU82","v":0},{"$f":"'Rit overzicht 2024 '!AV82","v":0},{"$f":"'Rit overzicht 2024 '!AW82","v":0},{"$f":"'Rit overzicht 2024 '!AX82","v":0},{"$f":"'Rit overzicht 2024 '!AY82","v":0},{"$f":"'Rit overzicht 2024 '!AZ82","v":0},{"$f":"'Rit overzicht 2024 '!BA82","v":0},{"$f":"'Rit overzicht 2024 '!BB82","v":0},{"$f":"'Rit overzicht 2024 '!BC82","v":0},{"$f":"'Rit overzicht 2024 '!BD82","v":0},{"$f":"'Rit overzicht 2024 '!BE82","v":0},{"$f":"'Rit overzicht 2024 '!BF82","v":0},{"$f":"'Rit overzicht 2024 '!BG82","v":0},{"$f":"'Rit overzicht 2024 '!BH82","v":0},{"$f":"'Rit overzicht 2024 '!BI82","v":0},{"$f":"'Rit overzicht 2024 '!BJ82","v":0},{"$f":"'Rit overzicht 2024 '!BK82","v":0},{"$f":"'Rit overzicht 2024 '!BL82","v":34},{"$f":"'Rit overzicht 2024 '!BM82","v":0},{"$f":"'Rit overzicht 2024 '!BN82","v":0}]
["3.1",null,"Vrijdag","Kern Groot Ammers nieuw bouw","Beatrixstraat 2",6,5,6,{"$f":"'Rit overzicht 2024 '!I83","v":0},{"$f":"'Rit overzicht 2024 '!J83","v":0},{"$f":"'Rit overzicht 2024 '!K83","v":0},{"$f":"'Rit overzicht 2024 '!L83","v":0},{"$f":"'Rit overzicht 2024 '!M83","v":0},{"$f":"'Rit overzicht 2024 '!N83","v":0},{"$f":"'Rit overzicht 2024 '!O83","v":0},{"$f":"'Rit overzicht 2024 '!P83","v":0},{"$f":"'Rit overzicht 2024 '!Q83","v":0},{"$f":"'Rit overzicht 2024 '!R83","v":0},{"$f":"'Rit overzicht 2024 '!S83","v":0},{"$f":"'Rit overzicht 2024 '!T83","v":0},{"$f":"'Rit overzicht 2024 '!U83","v":0},{"$f":"'Rit overzicht 2024 '!V83","v":6},{"$f":"'Rit overzicht 2024 '!W83","v":0},{"$f":"'Rit overzicht 2024 '!X83","v":0},{"$f":"'Rit overzicht 2024 '!Y83","v":0},{"$f":"'Rit overzicht 2024 '!Z83","v":0},{"$f":"'Rit overzicht 2024 '!AA83","v":0},{"$f":"'Rit overzicht 2024 '!AB83","v":0},{"$f":"'Rit overzicht 2024 '!AC83","v":0},{"$f":"'Rit overzicht 2024 '!AD83","v":0},{"$f":"'Rit overzicht 2024 '!AE83","v":0},{"$f":"'Rit overzicht 2024 '!AF83","v":0},{"$f":"'Rit overzicht 2024 '!AG83","v":0},{"$f":"'Rit overzicht 2024 '!AH83","v":0},{"$f":"'Rit overzicht 2024 '!AI83","v":0},{"$f":"'Rit overzicht 2024 '!AJ83","v":0},{"$f":"'Rit overzicht 2024 '!AK83","v":0},{"$f":"'Rit overzicht 2024 '!AL83","v":0},{"$f":"'Rit overzicht 2024 '!AM83","v":0},{"$f":"'Rit overzicht 2024 '!AN83","v":0},{"$f":"'Rit overzicht 2024 '!AO83","v":0},{"$f":"'Rit overzicht 2024 '!AP83","v":0},{"$f":"'Rit overzicht 2024 '!AQ83","v":0},{"$f":"'Rit overzicht 2024 '!AR83","v":0},{"$f":"'Rit overzicht 2024 '!AS83","v":0},{"$f":"'Rit overzicht 2024 '!AT83","v":0},{"$f":"'Rit overzicht 2024 '!AU83","v":0},{"$f":"'Rit overzicht 2024 '!AV83","v":0},{"$f":"'Rit overzicht 2024 '!AW83","v":0},{"$f":"'Rit overzicht 2024 '!AX83","v":0},{"$f":"'Rit overzicht 2024 '!AY83","v":0},{"$f":"'Rit overzicht 2024 '!AZ83","v":0},{"$f":"'Rit overzicht 2024 '!BA83","v":0},{"$f":"'Rit overzicht 2024 '!BB83","v":0},{"$f":"'Rit overzicht 2024 '!BC83","v":0},{"$f":"'Rit overzicht 2024 '!BD83","v":0},{"$f":"'Rit overzicht 2024 '!BE83","v":0},{"$f":"'Rit overzicht 2024 '!BF83","v":0},{"$f":"'Rit overzicht 2024 '!BG83","v":0},{"$f":"'Rit overzicht 2024 '!BH83","v":0},{"$f":"'Rit overzicht 2024 '!BI83","v":6},{"$f":"'Rit overzicht 2024 '!BJ83","v":0},{"$f":"'Rit overzicht 2024 '!BK83","v":0},{"$f":"'Rit overzicht 2024 '!BL83","v":0},{"$f":"'Rit overzicht 2024 '!BM83","v":6},{"$f":"'Rit overzicht 2024 '!BN83","v":8}]
["3.2",null,"Vrijdag","Kern Groot Ammers Oude bouw",null,3,3,4,{"$f":"'Rit overzicht 2024 '!I84","v":0},{"$f":"'Rit overzicht 2024 '!J84","v":0},{"$f":"'Rit overzicht 2024 '!K84","v":0},{"$f":"'Rit overzicht 2024 '!L84","v":0},{"$f":"'Rit overzicht 2024 '!M84","v":0},{"$f":"'Rit overzicht 2024 '!N84","v":0},{"$f":"'Rit overzicht 2024 '!O84","v":0},{"$f":"'Rit overzicht 2024 '!P84","v":0},{"$f":"'Rit overzicht 2024 '!Q84","v":0},{"$f":"'Rit overzicht 2024 '!R84","v":0},{"$f":"'Rit overzicht 2024 '!S84","v":0},{"$f":"'Rit overzicht 2024 '!T84","v":0},{"$f":"'Rit overzicht 2024 '!U84","v":0},{"$f":"'Rit overzicht 2024 '!V84","v":8},{"$f":"'Rit overzicht 2024 '!W84","v":0},{"$f":"'Rit overzicht 2024 '!X84","v":0},{"$f":"'Rit overzicht 2024 '!Y84","v":0},{"$f":"'Rit overzicht 2024 '!Z84","v":0},{"$f":"'Rit overzicht 2024 '!AA84","v":0},{"$f":"'Rit overzicht 2024 '!AB84","v":0},{"$f":"'Rit overzicht 2024 '!AC84","v":0},{"$f":"'Rit overzicht 2024 '!AD84","v":0},{"$f":"'Rit overzicht 2024 '!AE84","v":0},{"$f":"'Rit overzicht 2024 '!AF84","v":0},{"$f":"'Rit overzicht 2024 '!AG84","v":0},{"$f":"'Rit overzicht 2024 '!AH84","v":0},{"$f":"'Rit overzicht 2024 '!AI84","v":0},{"$f":"'Rit overzicht 2024 '!AJ84","v":0},{"$f":"'Rit overzicht 2024 '!AK84","v":0},{"$f":"'Rit overzicht 2024 '!AL84","v":0},{"$f":"'Rit overzicht 2024 '!AM84","v":0},{"$f":"'Rit overzicht 2024 '!AN84","v":0},{"$f":"'Rit overzicht 2024 '!AO84","v":0},{"$f":"'Rit overzicht 2024 '!AP84","v":0},{"$f":"'Rit overzicht 2024 '!AQ84","v":0},{"$f":"'Rit overzicht 2024 '!AR84","v":0},{"$f":"'Rit overzicht 2024 '!AS84","v":0},{"$f":"'Rit overzicht 2024 '!AT84","v":0},{"$f":"'Rit overzicht 2024 '!AU84","v":0},{"$f":"'Rit overzicht 2024 '!AV84","v":0},{"$f":"'Rit overzicht 2024 '!AW84","v":0},{"$f":"'Rit overzicht 2024 '!AX84","v":0},{"$f":"'Rit overzicht 2024 '!AY84","v":0},{"$f":"'Rit overzicht 2024 '!AZ84","v":0},{"$f":"'Rit overzicht 2024 '!BA84","v":0},{"$f":"'Rit overzicht 2024 '!BB84","v":0},{"$f":"'Rit overzicht 2024 '!BC84","v":0},{"$f":"'Rit overzicht 2024 '!BD84","v":0},{"$f":"'Rit overzicht 2024 '!BE84","v":0},{"$f":"'Rit overzicht 2024 '!BF84","v":0},{"$f":"'Rit overzicht 2024 '!BG84","v":0},{"$f":"'Rit overzicht 2024 '!BH84","v":0},{"$f":"'Rit overzicht 2024 '!BI84","v":0},{"$f":"'Rit overzicht 2024 '!BJ84","v":8},{"$f":"'Rit overzicht 2024 '!BK84","v":0},{"$f":"'Rit overzicht 2024 '!BL84","v":0},{"$f":"'Rit overzicht 2024 '!BM84","v":0},{"$f":"'Rit overzicht 2024 '!BN84","v":0}]
["3.2",null,"Vrijdag","Kern Groot Ammers Oude bouw",null,3,3,4,{"$f":"'Rit overzicht 2024 '!I14","v":0},{"$f":"'Rit overzicht 2024 '!J14","v":0},{"$f":"'Rit overzicht 2024 '!K14","v":0},{"$f":"'Rit overzicht 2024 '!L14","v":0},{"$f":"'Rit overzicht 2024 '!M14","v":0},{"$f":"'Rit overzicht 2024 '!N14","v":0},{"$f":"'Rit overzicht 2024 '!O14","v":0},{"$f":"'Rit overzicht 2024 '!P14","v":0},{"$f":"'Rit overzicht 2024 '!Q14","v":0},{"$f":"'Rit overzicht 2024 '!R14","v":16},{"$f":"'Rit overzicht 2024 '!S14","v":0},{"$f":"'Rit overzicht 2024 '!T14","v":0},{"$f":"'Rit overzicht 2024 '!U14","v":0},{"$f":"'Rit overzicht 2024 '!V14","v":0},{"$f":"'Rit overzicht 2024 '!W14","v":0},{"$f":"'Rit overzicht 2024 '!X14","v":0},{"$f":"'Rit overzicht 2024 '!Y14","v":0},{"$f":"'Rit overzicht 2024 '!Z14","v":0},{"$f":"'Rit overzicht 2024 '!AA14","v":0},{"$f":"'Rit overzicht 2024 '!AB14","v":0},{"$f":"'Rit overzicht 2024 '!AC14","v":0},{"$f":"'Rit overzicht 2024 '!AD14","v":0},{"$f":"'Rit overzicht 2024 '!AE14","v":0},{"$f":"'Rit overzicht 2024 '!AF14","v":0},{"$f":"'Rit overzicht 2024 '!AG14","v":0},{"$f":"'Rit overzicht 2024 '!AH14","v":0},{"$f":"'Rit overzicht 2024 '!AI14","v":0},{"$f":"'Rit overzicht 2024 '!AJ14","v":0},{"$f":"'Rit overzicht 2024 '!AK14","v":0},{"$f":"'Rit overzicht 2024 '!AL14","v":0},{"$f":"'Rit overzicht 2024 '!AM14","v":0},{"$f":"'Rit overzicht 2024 '!AN14","v":0},{"$f":"'Rit overzicht 2024 '!AO14","v":0},{"$f":"'Rit overzicht 2024 '!AP14","v":0},{"$f":"'Rit overzicht 2024 '!AQ14","v":0},{"$f":"'Rit overzicht 2024 '!AR14","v":0},{"$f":"'Rit overzicht 2024 '!AS14","v":0},{"$f":"'Rit overzicht 2024 '!AT14","v":0},{"$f":"'Rit overzicht 2024 '!AU14","v":0},{"$f":"'Rit overzicht 2024 '!AV14","v":0},{"$f":"'Rit overzicht 2024 '!AW14","v":0},{"$f":"'Rit overzicht 2024 '!AX14","v":0},{"$f":"'Rit overzicht 2024 '!AY14","v":0},{"$f":"'Rit overzicht 2024 '!AZ14","v":0},{"$f":"'Rit overzicht 2024 '!BA14","v":0},{"$f":"'Rit overzicht 2024 '!BB14","v":0},{"$f":"'Rit overzicht 2024 '!BC14","v":0},{"$f":"'Rit overzicht 2024 '!BD14","v":0},{"$f":"'Rit overzicht 2024 '!BE14","v":0},{"$f":"'Rit overzicht 2024 '!BF14","v":0},{"$f":"'Rit overzicht 2024 '!BG14","v":0},{"$f":"'Rit overzicht 2024 '!BH14","v":0},{"$f":"'Rit overzicht 2024 '!BI14","v":0},{"$f":"'Rit overzicht 2024 '!BJ14","v":16},{"$f":"'Rit overzicht 2024 '!BK14","v":0},{"$f":"'Rit overzicht 2024 '!BL14","v":0},{"$f":"'Rit overzicht 2024 '!BM14","v":0},{"$f":"'Rit overzicht 2024 '!BN14","v":0}]
[null,null,null,null,null,null,null,null,{"$f":"'Rit overzicht 2024 '!I86","v":0},{"$f":"'Rit overzicht 2024 '!J86","v":0},{"$f":"'Rit overzicht 2024 '!K86","v":0},{"$f":"'Rit overzicht 2024 '!L86","v":0},{"$f":"'Rit overzicht 2024 '!M86","v":0},{"$f":"'Rit overzicht 2024 '!N86","v":0},{"$f":"'Rit overzicht 2024 '!O86","v":0},{"$f":"'Rit overzicht 2024 '!P86","v":0},{"$f":"'Rit overzicht 2024 '!Q86","v":0},{"$f":"'Rit overzicht 2024 '!R86","v":0},{"$f":"'Rit overzicht 2024 '!S86","v":0},{"$f":"'Rit overzicht 2024 '!T86","v":0},{"$f":"'Rit overzicht 2024 '!U86","v":0},{"$f":"'Rit overzicht 2024 '!V86","v":0},{"$f":"'Rit overzicht 2024 '!W86","v":0},{"$f":"'Rit overzicht 2024 '!X86","v":0},{"$f":"'Rit overzicht 2024 '!Y86","v":0},{"$f":"'Rit overzicht 2024 '!Z86","v":0},{"$f":"'Rit overzicht 2024 '!AA86","v":0},{"$f":"'Rit overzicht 2024 '!AB86","v":0},{"$f":"'Rit overzicht 2024 '!AC86","v":0},{"$f":"'Rit overzicht 2024 '!AD86","v":0},{"$f":"'Rit overzicht 2024 '!AE86","v":0},{"$f":"'Rit overzicht 2024 '!AF86","v":0},{"$f":"'Rit overzicht 2024 '!AG86","v":0},{"$f":"'Rit overzicht 2024 '!AH86","v":0},{"$f":"'Rit overzicht 2024 '!AI86","v":0},{"$f":"'Rit overzicht 2024 '!AJ86","v":0},{"$f":"'Rit overzicht 2024 '!AK86","v":0},{"$f":"'Rit overzicht 2024 '!AL86","v":0},{"$f":"'Rit overzicht 2024 '!AM86","v":0},{"$f":"'Rit overzicht 2024 '!AN86","v":0},{"$f":"'Rit overzicht 2024 '!AO86","v":0},{"$f":"'Rit overzicht 2024 '!AP86","v":0},{"$f":"'Rit overzicht 2024 '!AQ86","v":0},{"$f":"'Rit overzicht 2024 '!AR86","v":0},{"$f":"'Rit overzicht 2024 '!AS86","v":0},{"$f":"'Rit overzicht 2024 '!AT86","v":0},{"$f":"'Rit overzicht 2024 '!AU86","v":0},{"$f":"'Rit overzicht 2024 '!AV86","v":0},{"$f":"'Rit overzicht 2024 '!AW86","v":0},{"$f":"'Rit overzicht 2024 '!AX86","v":0},{"$f":"'Rit overzicht 2024 '!AY86","v":0},{"$f":"'Rit overzicht 2024 '!AZ86","v":0},{"$f":"'Rit overzicht 2024 '!BA86","v":0},{"$f":"'Rit overzicht 2024 '!BB86","v":0},{"$f":"'Rit overzicht 2024 '!BC86","v":0},{"$f":"'Rit overzicht 2024 '!BD86","v":0},{"$f":"'Rit overzicht 2024 '!BE86","v":0},{"$f":"'Rit overzicht 2024 '!BF86","v":0},{"$f":"'Rit overzicht 2024 '!BG86","v":0},{"$f":"'Rit overzicht 2024 '!BH86","v":0},{"$f":"'Rit overzicht 2024 '!BI86","v":0},{"$f":"'Rit overzicht 2024 '!BJ86","v":0},{"$f":"'Rit overzicht 2024 '!BK86","v":0},{"$f":"'Rit overzicht 2024 '!BL86","v":0},{"$f":"'Rit overzicht 2024 '!BM86","v":0},{"$f":"'Rit overzicht 2024 '!BN86","v":0}]
[null,null,null,null,null,null,null,null,{"$f":"'Rit overzicht 2024 '!I87","v":0},{"$f":"'Rit overzicht 2024 '!J87","v":0},{"$f":"'Rit overzicht 2024 '!K87","v":0},{"$f":"'Rit overzicht 2024 '!L87","v":0},{"$f":"'Rit overzicht 2024 '!M87","v":0},{"$f":"'Rit overzicht 2024 '!N87","v":0},{"$f":"'Rit overzicht 2024 '!O87","v":0},{"$f":"'Rit overzicht 2024 '!P87","v":0},{"$f":"'Rit overzicht 2024 '!Q87","v":0},{"$f":"'Rit overzicht 2024 '!R87","v":0},{"$f":"'Rit overzicht 2024 '!S87","v":0},{"$f":"'Rit overzicht 2024 '!T87","v":0},{"$f":"'Rit overzicht 2024 '!U87","v":0},{"$f":"'Rit overzicht 2024 '!V87","v":0},{"$f":"'Rit overzicht 2024 '!W87","v":0},{"$f":"'Rit overzicht 2024 '!X87","v":0},{"$f":"'Rit overzicht 2024 '!Y87","v":0},{"$f":"'Rit overzicht 2024 '!Z87","v":0},{"$f":"'Rit overzicht 2024 '!AA87","v":0},{"$f":"'Rit overzicht 2024 '!AB87","v":0},{"$f":"'Rit overzicht 2024 '!AC87","v":0},{"$f":"'Rit overzicht 2024 '!AD87","v":0},{"$f":"'Rit overzicht 2024 '!AE87","v":0},{"$f":"'Rit overzicht 2024 '!AF87","v":0},{"$f":"'Rit overzicht 2024 '!AG87","v":0},{"$f":"'Rit overzicht 2024 '!AH87","v":0},{"$f":"'Rit overzicht 2024 '!AI87","v":0},{"$f":"'Rit overzicht 2024 '!AJ87","v":0},{"$f":"'Rit overzicht 2024 '!AK87","v":0},{"$f":"'Rit overzicht 2024 '!AL87","v":0},{"$f":"'Rit overzicht 2024 '!AM87","v":0},{"$f":"'Rit overzicht 2024 '!AN87","v":0},{"$f":"'Rit overzicht 2024 '!AO87","v":0},{"$f":"'Rit overzicht 2024 '!AP87","v":0},{"$f":"'Rit overzicht 2024 '!AQ87","v":0},{"$f":"'Rit overzicht 2024 '!AR87","v":0},{"$f":"'Rit overzicht 2024 '!AS87","v":0},{"$f":"'Rit overzicht 2024 '!AT87","v":0},{"$f":"'Rit overzicht 2024 '!AU87","v":0},{"$f":"'Rit overzicht 2024 '!AV87","v":0},{"$f":"'Rit overzicht 2024 '!AW87","v":0},{"$f":"'Rit overzicht 2024 '!AX87","v":0},{"$f":"'Rit overzicht 2024 '!AY87","v":0},{"$f":"'Rit overzicht 2024 '!AZ87","v":0},{"$f":"'Rit overzicht 2024 '!BA87","v":0},{"$f":"'Rit overzicht 2024 '!BB87","v":0},{"$f":"'Rit overzicht 2024 '!BC87","v":0},{"$f":"'Rit overzicht 2024 '!BD87","v":0},{"$f":"'Rit overzicht 2024 '!BE87","v":0},{"$f":"'Rit overzicht 2024 '!BF87","v":0},{"$f":"'Rit overzicht 2024 '!BG87","v":0},{"$f":"'Rit overzicht 2024 '!BH87","v":0},{"$f":"'Rit overzicht 2024 '!BI87","v":0},{"$f":"'Rit overzicht 2024 '!BJ87","v":0},{"$f":"'Rit overzicht 2024 '!BK87","v":0},{"$f":"'Rit overzicht 2024 '!BL87","v":0},{"$f":"'Rit overzicht 2024 '!BM87","v":1069},{"$f":"'Rit overzicht 2024 '!BN87","v":2192}]
[null,null,null,null,null,null,null,null,{"$f":"'Rit overzicht 2024 '!I88","v":0},{"$f":"'Rit overzicht 2024 '!J88","v":0},{"$f":"'Rit overzicht 2024 '!K88","v":0},{"$f":"'Rit overzicht 2024 '!L88","v":0},{"$f":"'Rit overzicht 2024 '!M88","v":0},{"$f":"'Rit overzicht 2024 '!N88","v":0},{"$f":"'Rit overzicht 2024 '!O88","v":0},{"$f":"'Rit overzicht 2024 '!P88","v":0},{"$f":"'Rit overzicht 2024 '!Q88","v":0},{"$f":"'Rit overzicht 2024 '!R88","v":0},{"$f":"'Rit overzicht 2024 '!S88","v":0},{"$f":"'Rit overzicht 2024 '!T88","v":0},{"$f":"'Rit overzicht 2024 '!U88","v":0},{"$f":"'Rit overzicht 2024 '!V88","v":0},{"$f":"'Rit overzicht 2024 '!W88","v":0},{"$f":"'Rit overzicht 2024 '!X88","v":0},{"$f":"'Rit overzicht 2024 '!Y88","v":0},{"$f":"'Rit overzicht 2024 '!Z88","v":0},{"$f":"'Rit overzicht 2024 '!AA88","v":0},{"$f":"'Rit overzicht 2024 '!AB88","v":0},{"$f":"'Rit overzicht 2024 '!AC88","v":0},{"$f":"'Rit overzicht 2024 '!AD88","v":0},{"$f":"'Rit overzicht 2024 '!AE88","v":0},{"$f":"'Rit overzicht 2024 '!AF88","v":0},{"$f":"'Rit overzicht 2024 '!AG88","v":0},{"$f":"'Rit overzicht 2024 '!AH88","v":0},{"$f":"'Rit overzicht 2024 '!AI88","v":0},{"$f":"'Rit overzicht 2024 '!AJ88","v":0},{"$f":"'Rit overzicht 2024 '!AK88","v":0},{"$f":"'Rit overzicht 2024 '!AL88","v":0},{"$f":"'Rit overzicht 2024 '!AM88","v":0},{"$f":"'Rit overzicht 2024 '!AN88","v":0},{"$f":"'Rit overzicht 2024 '!AO88","v":0},{"$f":"'Rit overzicht 2024 '!AP88","v":0},{"$f":"'Rit overzicht 2024 '!AQ88","v":0},{"$f":"'Rit overzicht 2024 '!AR88","v":0},{"$f":"'Rit overzicht 2024 '!AS88","v":0},{"$f":"'Rit overzicht 2024 '!AT88","v":0},{"$f":"'Rit overzicht 2024 '!AU88","v":0},{"$f":"'Rit overzicht 2024 '!AV88","v":0},{"$f":"'Rit overzicht 2024 '!AW88","v":0},{"$f":"'Rit overzicht 2024 '!AX88","v":0},{"$f":"'Rit overzicht 2024 '!AY88","v":0},{"$f":"'Rit overzicht 2024 '!AZ88","v":0},{"$f":"'Rit overzicht 2024 '!BA88","v":0},{"$f":"'Rit overzicht 2024 '!BB88","v":0},{"$f":"'Rit overzicht 2024 '!BC88","v":0},{"$f":"'Rit overzicht 2024 '!BD88","v":0},{"$f":"'Rit overzicht 2024 '!BE88","v":0},{"$f":"'Rit overzicht 2024 '!BF88","v":0},{"$f":"'Rit overzicht 2024 '!BG88","v":0},{"$f":"'Rit overzicht 2024 '!BH88","v":0},{"$f":"'Rit overzicht 2024 '!BI88","v":219},{"$f":"'Rit overzicht 2024 '!BJ88","v":872},{"$f":"'Rit overzicht 2024 '!BK88","v":850},{"$f":"'Rit overzicht 2024 '!BL88","v":1320},{"$f":"'Rit overzicht 2024 '!BM88","v":0},{"$f":"'Rit overzicht 2024 '!BN88","v":0}]