{"text_format":"1","workbook":"xlsx","n_sheets":3,"sheets":["Blad1","Datum","Game"],"not_rendered":{"charts":0,"images":1,"macros":1,"external_links":0,"defined_names":2,"comments":0,"pivot_tables":0},"unopened":[],"bounds":{"document_bytes":16777216,"sheet_cells":100000,"rows_first":2000,"rows_last":500,"rows_between":2000,"halvings":0,"cell_chars":16384,"cell_head_chars":4096},"cells_cut":0,"cells_raw":0,"read":"whole","date_system":"1900"}

{"sheet":"Blad1","index":0,"n_rows":80,"n_cols":21,"rows_kept":80,"cut":false,"hidden":false,"merged":[[3,2,3,20],[7,2,7,11],[7,12,7,17]]}
[null,null,null,null,null,null,null,null,"ZIE VOORBEELD ONDERAAN"]
[]
[]
[null,null,"LOTTO - DE VRIENDEN VAN WALTER"]
[]
[null,"MANUEEL",null,null,null,"MANUELE INVULLING",null,null,null,null,null,null,null,null,null,null,null,null,null,null,"MANUEEL"]
[]
[null,"NAAM","VUL HIER UW GETALLEN IN VAN 1 TOT EN MET 45",null,null,null,null,null,null,null,null,null,"TREKKING NUMMERS (6)",null,null,null,null,null,"DATUM","AANTAL","POT"]
[]
[null,"Walter Van Eester",1,2,3,4,5,6,7,8,9,45,{"$f":"IF(C10=\"\",\"\",Game!$B$2)","v":1},{"$f":"IF(M10=\"\",\"\",Game!$C$2)","v":5},{"$f":"IF(M10=\"\",\"\",Game!$D$2)","v":21},{"$f":"IF(M10=\"\",\"\",Game!$E$2)","v":31},{"$f":"IF(M10=\"\",\"\",Game!$F$2)","v":34},{"$f":"IF(M10=\"\",\"\",Game!$G$2)","v":43},{"$f":"Game!A2","v":"2026-09-02"},{"$f":"IF(C10<>\"\",IF(10-SUM(INDEX(N(COUNTIF(M$10:R$60,C10:L10)<>0),))=0,\"JACKPOT\",10-SUM(INDEX(N(COUNTIF(M$10:R$60,C10:L10)<>0),))),\"\")","v":8}]
[null,"iemand",3,4,5,6,7,8,9,10,11,12,{"$f":"IF(C11=\"\",\"\",Game!$B$2)","v":1},{"$f":"IF(M11=\"\",\"\",Game!$C$2)","v":5},{"$f":"IF(M11=\"\",\"\",Game!$D$2)","v":21},{"$f":"IF(M11=\"\",\"\",Game!$E$2)","v":31},{"$f":"IF(M11=\"\",\"\",Game!$F$2)","v":34},{"$f":"IF(M11=\"\",\"\",Game!$G$2)","v":43},null,{"$f":"IF(C11<>\"\",IF(10-SUM(INDEX(N(COUNTIF(M$10:R$60,C11:L11)<>0),))=0,\"JACKPOT\",10-SUM(INDEX(N(COUNTIF(M$10:R$60,C11:L11)<>0),))),\"\")","v":9}]
[null,"anders",12,11,14,13,15,16,17,18,19,20,{"$f":"IF(C12=\"\",\"\",Game!$B$2)","v":1},{"$f":"IF(M12=\"\",\"\",Game!$C$2)","v":5},{"$f":"IF(M12=\"\",\"\",Game!$D$2)","v":21},{"$f":"IF(M12=\"\",\"\",Game!$E$2)","v":31},{"$f":"IF(M12=\"\",\"\",Game!$F$2)","v":34},{"$f":"IF(M12=\"\",\"\",Game!$G$2)","v":43},null,{"$f":"IF(C12<>\"\",IF(10-SUM(INDEX(N(COUNTIF(M$10:R$60,C12:L12)<>0),))=0,\"JACKPOT\",10-SUM(INDEX(N(COUNTIF(M$10:R$60,C12:L12)<>0),))),\"\")","v":10}]
[null,null,1,3,5,7,9,44,2,null,null,null,{"$f":"IF(C13=\"\",\"\",Game!$B$2)","v":1},{"$f":"IF(M13=\"\",\"\",Game!$C$2)","v":5},{"$f":"IF(M13=\"\",\"\",Game!$D$2)","v":21},{"$f":"IF(M13=\"\",\"\",Game!$E$2)","v":31},{"$f":"IF(M13=\"\",\"\",Game!$F$2)","v":34},{"$f":"IF(M13=\"\",\"\",Game!$G$2)","v":43},null,{"$f":"IF(C13<>\"\",IF(10-SUM(INDEX(N(COUNTIF(M$10:R$60,C13:L13)<>0),))=0,\"JACKPOT\",10-SUM(INDEX(N(COUNTIF(M$10:R$60,C13:L13)<>0),))),\"\")","v":8}]
[null,null,1,2,3,4,5,6,7,8,null,null,{"$f":"IF(C14=\"\",\"\",Game!$B$2)","v":1},{"$f":"IF(M14=\"\",\"\",Game!$C$2)","v":5},{"$f":"IF(M14=\"\",\"\",Game!$D$2)","v":21},{"$f":"IF(M14=\"\",\"\",Game!$E$2)","v":31},{"$f":"IF(M14=\"\",\"\",Game!$F$2)","v":34},{"$f":"IF(M14=\"\",\"\",Game!$G$2)","v":43},null,{"$f":"IF(C14<>\"\",IF(10-SUM(INDEX(N(COUNTIF(M$10:R$60,C14:L14)<>0),))=0,\"JACKPOT\",10-SUM(INDEX(N(COUNTIF(M$10:R$60,C14:L14)<>0),))),\"\")","v":8}]
[null,null,1,2,3,4,5,6,7,8,9,36,{"$f":"IF(C15=\"\",\"\",Game!$B$2)","v":1},{"$f":"IF(M15=\"\",\"\",Game!$C$2)","v":5},{"$f":"IF(M15=\"\",\"\",Game!$D$2)","v":21},{"$f":"IF(M15=\"\",\"\",Game!$E$2)","v":31},{"$f":"IF(M15=\"\",\"\",Game!$F$2)","v":34},{"$f":"IF(M15=\"\",\"\",Game!$G$2)","v":43},null,{"$f":"IF(C15<>\"\",IF(10-SUM(INDEX(N(COUNTIF(M$10:R$60,C15:L15)<>0),))=0,\"JACKPOT\",10-SUM(INDEX(N(COUNTIF(M$10:R$60,C15:L15)<>0),))),\"\")","v":8}]
[null,null,null,null,null,null,null,null,null,null,null,null,{"$f":"IF(C16=\"\",\"\",Game!$B$2)","v":""},{"$f":"IF(M16=\"\",\"\",Game!$C$2)","v":""},{"$f":"IF(M16=\"\",\"\",Game!$D$2)","v":""},{"$f":"IF(M16=\"\",\"\",Game!$E$2)","v":""},{"$f":"IF(M16=\"\",\"\",Game!$F$2)","v":""},{"$f":"IF(M16=\"\",\"\",Game!$G$2)","v":""},null,{"$f":"IF(C16<>\"\",IF(10-SUM(INDEX(N(COUNTIF(M$10:R$60,C16:L16)<>0),))=0,\"JACKPOT\",10-SUM(INDEX(N(COUNTIF(M$10:R$60,C16:L16)<>0),))),\"\")","v":""}]
[null,null,null,null,null,null,null,null,null,null,null,null,{"$f":"IF(C17=\"\",\"\",Game!$B$2)","v":""},{"$f":"IF(M17=\"\",\"\",Game!$C$2)","v":""},{"$f":"IF(M17=\"\",\"\",Game!$D$2)","v":""},{"$f":"IF(M17=\"\",\"\",Game!$E$2)","v":""},{"$f":"IF(M17=\"\",\"\",Game!$F$2)","v":""},{"$f":"IF(M17=\"\",\"\",Game!$G$2)","v":""},null,{"$f":"IF(C17<>\"\",IF(10-SUM(INDEX(N(COUNTIF(M$10:R$60,C17:L17)<>0),))=0,\"JACKPOT\",10-SUM(INDEX(N(COUNTIF(M$10:R$60,C17:L17)<>0),))),\"\")","v":""}]
[null,null,null,null,null,null,null,null,null,null,null,null,{"$f":"IF(C18=\"\",\"\",Game!$B$2)","v":""},{"$f":"IF(M18=\"\",\"\",Game!$C$2)","v":""},{"$f":"IF(M18=\"\",\"\",Game!$D$2)","v":""},{"$f":"IF(M18=\"\",\"\",Game!$E$2)","v":""},{"$f":"IF(M18=\"\",\"\",Game!$F$2)","v":""},{"$f":"IF(M18=\"\",\"\",Game!$G$2)","v":""},null,{"$f":"IF(C18<>\"\",IF(10-SUM(INDEX(N(COUNTIF(M$10:R$60,C18:L18)<>0),))=0,\"JACKPOT\",10-SUM(INDEX(N(COUNTIF(M$10:R$60,C18:L18)<>0),))),\"\")","v":""}]
[null,null,null,null,null,null,null,null,null,null,null,null,{"$f":"IF(C19=\"\",\"\",Game!$B$2)","v":""},{"$f":"IF(M19=\"\",\"\",Game!$C$2)","v":""},{"$f":"IF(M19=\"\",\"\",Game!$D$2)","v":""},{"$f":"IF(M19=\"\",\"\",Game!$E$2)","v":""},{"$f":"IF(M19=\"\",\"\",Game!$F$2)","v":""},{"$f":"IF(M19=\"\",\"\",Game!$G$2)","v":""},null,{"$f":"IF(C19<>\"\",IF(10-SUM(INDEX(N(COUNTIF(M$10:R$60,C19:L19)<>0),))=0,\"JACKPOT\",10-SUM(INDEX(N(COUNTIF(M$10:R$60,C19:L19)<>0),))),\"\")","v":""}]
[null,null,null,null,null,null,null,null,null,null,null,null,{"$f":"IF(C20=\"\",\"\",Game!$B$2)","v":""},{"$f":"IF(M20=\"\",\"\",Game!$C$2)","v":""},{"$f":"IF(M20=\"\",\"\",Game!$D$2)","v":""},{"$f":"IF(M20=\"\",\"\",Game!$E$2)","v":""},{"$f":"IF(M20=\"\",\"\",Game!$F$2)","v":""},{"$f":"IF(M20=\"\",\"\",Game!$G$2)","v":""},null,{"$f":"IF(C20<>\"\",IF(10-SUM(INDEX(N(COUNTIF(M$10:R$60,C20:L20)<>0),))=0,\"JACKPOT\",10-SUM(INDEX(N(COUNTIF(M$10:R$60,C20:L20)<>0),))),\"\")","v":""}]
[null,null,null,null,null,null,null,null,null,null,null,null,{"$f":"IF(C21=\"\",\"\",Game!$B$2)","v":""},{"$f":"IF(M21=\"\",\"\",Game!$C$2)","v":""},{"$f":"IF(M21=\"\",\"\",Game!$D$2)","v":""},{"$f":"IF(M21=\"\",\"\",Game!$E$2)","v":""},{"$f":"IF(M21=\"\",\"\",Game!$F$2)","v":""},{"$f":"IF(M21=\"\",\"\",Game!$G$2)","v":""},null,{"$f":"IF(C21<>\"\",IF(10-SUM(INDEX(N(COUNTIF(M$10:R$60,C21:L21)<>0),))=0,\"JACKPOT\",10-SUM(INDEX(N(COUNTIF(M$10:R$60,C21:L21)<>0),))),\"\")","v":""}]
[null,null,null,null,null,null,null,null,null,null,null,null,{"$f":"IF(C22=\"\",\"\",Game!$B$2)","v":""},{"$f":"IF(M22=\"\",\"\",Game!$C$2)","v":""},{"$f":"IF(M22=\"\",\"\",Game!$D$2)","v":""},{"$f":"IF(M22=\"\",\"\",Game!$E$2)","v":""},{"$f":"IF(M22=\"\",\"\",Game!$F$2)","v":""},{"$f":"IF(M22=\"\",\"\",Game!$G$2)","v":""},null,{"$f":"IF(C22<>\"\",IF(10-SUM(INDEX(N(COUNTIF(M$10:R$60,C22:L22)<>0),))=0,\"JACKPOT\",10-SUM(INDEX(N(COUNTIF(M$10:R$60,C22:L22)<>0),))),\"\")","v":""}]
[null,null,null,null,null,null,null,null,null,null,null,null,{"$f":"IF(C23=\"\",\"\",Game!$B$2)","v":""},{"$f":"IF(M23=\"\",\"\",Game!$C$2)","v":""},{"$f":"IF(M23=\"\",\"\",Game!$D$2)","v":""},{"$f":"IF(M23=\"\",\"\",Game!$E$2)","v":""},{"$f":"IF(M23=\"\",\"\",Game!$F$2)","v":""},{"$f":"IF(M23=\"\",\"\",Game!$G$2)","v":""},null,{"$f":"IF(C23<>\"\",IF(10-SUM(INDEX(N(COUNTIF(M$10:R$60,C23:L23)<>0),))=0,\"JACKPOT\",10-SUM(INDEX(N(COUNTIF(M$10:R$60,C23:L23)<>0),))),\"\")","v":""}]
[null,null,null,null,null,null,null,null,null,null,null,null,{"$f":"IF(C24=\"\",\"\",Game!$B$2)","v":""},{"$f":"IF(M24=\"\",\"\",Game!$C$2)","v":""},{"$f":"IF(M24=\"\",\"\",Game!$D$2)","v":""},{"$f":"IF(M24=\"\",\"\",Game!$E$2)","v":""},{"$f":"IF(M24=\"\",\"\",Game!$F$2)","v":""},{"$f":"IF(M24=\"\",\"\",Game!$G$2)","v":""},null,{"$f":"IF(C24<>\"\",IF(10-SUM(INDEX(N(COUNTIF(M$10:R$60,C24:L24)<>0),))=0,\"JACKPOT\",10-SUM(INDEX(N(COUNTIF(M$10:R$60,C24:L24)<>0),))),\"\")","v":""}]
[null,null,null,null,null,null,null,null,null,null,null,null,{"$f":"IF(C25=\"\",\"\",Game!$B$2)","v":""},{"$f":"IF(M25=\"\",\"\",Game!$C$2)","v":""},{"$f":"IF(M25=\"\",\"\",Game!$D$2)","v":""},{"$f":"IF(M25=\"\",\"\",Game!$E$2)","v":""},{"$f":"IF(M25=\"\",\"\",Game!$F$2)","v":""},{"$f":"IF(M25=\"\",\"\",Game!$G$2)","v":""},null,{"$f":"IF(C25<>\"\",IF(10-SUM(INDEX(N(COUNTIF(M$10:R$60,C25:L25)<>0),))=0,\"JACKPOT\",10-SUM(INDEX(N(COUNTIF(M$10:R$60,C25:L25)<>0),))),\"\")","v":""}]
[null,null,null,null,null,null,null,null,null,null,null,null,{"$f":"IF(C26=\"\",\"\",Game!$B$2)","v":""},{"$f":"IF(M26=\"\",\"\",Game!$C$2)","v":""},{"$f":"IF(M26=\"\",\"\",Game!$D$2)","v":""},{"$f":"IF(M26=\"\",\"\",Game!$E$2)","v":""},{"$f":"IF(M26=\"\",\"\",Game!$F$2)","v":""},{"$f":"IF(M26=\"\",\"\",Game!$G$2)","v":""},null,{"$f":"IF(C26<>\"\",IF(10-SUM(INDEX(N(COUNTIF(M$10:R$60,C26:L26)<>0),))=0,\"JACKPOT\",10-SUM(INDEX(N(COUNTIF(M$10:R$60,C26:L26)<>0),))),\"\")","v":""}]
[null,null,null,null,null,null,null,null,null,null,null,null,{"$f":"IF(C27=\"\",\"\",Game!$B$2)","v":""},{"$f":"IF(M27=\"\",\"\",Game!$C$2)","v":""},{"$f":"IF(M27=\"\",\"\",Game!$D$2)","v":""},{"$f":"IF(M27=\"\",\"\",Game!$E$2)","v":""},{"$f":"IF(M27=\"\",\"\",Game!$F$2)","v":""},{"$f":"IF(M27=\"\",\"\",Game!$G$2)","v":""},null,{"$f":"IF(C27<>\"\",IF(10-SUM(INDEX(N(COUNTIF(M$10:R$60,C27:L27)<>0),))=0,\"JACKPOT\",10-SUM(INDEX(N(COUNTIF(M$10:R$60,C27:L27)<>0),))),\"\")","v":""}]
[null,null,null,null,null,null,null,null,null,null,null,null,{"$f":"IF(C28=\"\",\"\",Game!$B$2)","v":""},{"$f":"IF(M28=\"\",\"\",Game!$C$2)","v":""},{"$f":"IF(M28=\"\",\"\",Game!$D$2)","v":""},{"$f":"IF(M28=\"\",\"\",Game!$E$2)","v":""},{"$f":"IF(M28=\"\",\"\",Game!$F$2)","v":""},{"$f":"IF(M28=\"\",\"\",Game!$G$2)","v":""},null,{"$f":"IF(C28<>\"\",IF(10-SUM(INDEX(N(COUNTIF(M$10:R$60,C28:L28)<>0),))=0,\"JACKPOT\",10-SUM(INDEX(N(COUNTIF(M$10:R$60,C28:L28)<>0),))),\"\")","v":""}]
[null,null,null,null,null,null,null,null,null,null,null,null,{"$f":"IF(C29=\"\",\"\",Game!$B$2)","v":""},{"$f":"IF(M29=\"\",\"\",Game!$C$2)","v":""},{"$f":"IF(M29=\"\",\"\",Game!$D$2)","v":""},{"$f":"IF(M29=\"\",\"\",Game!$E$2)","v":""},{"$f":"IF(M29=\"\",\"\",Game!$F$2)","v":""},{"$f":"IF(M29=\"\",\"\",Game!$G$2)","v":""},null,{"$f":"IF(C29<>\"\",IF(10-SUM(INDEX(N(COUNTIF(M$10:R$60,C29:L29)<>0),))=0,\"JACKPOT\",10-SUM(INDEX(N(COUNTIF(M$10:R$60,C29:L29)<>0),))),\"\")","v":""}]
[null,null,null,null,null,null,null,null,null,null,null,null,{"$f":"IF(C30=\"\",\"\",Game!$B$2)","v":""},{"$f":"IF(M30=\"\",\"\",Game!$C$2)","v":""},{"$f":"IF(M30=\"\",\"\",Game!$D$2)","v":""},{"$f":"IF(M30=\"\",\"\",Game!$E$2)","v":""},{"$f":"IF(M30=\"\",\"\",Game!$F$2)","v":""},{"$f":"IF(M30=\"\",\"\",Game!$G$2)","v":""},null,{"$f":"IF(C30<>\"\",IF(10-SUM(INDEX(N(COUNTIF(M$10:R$60,C30:L30)<>0),))=0,\"JACKPOT\",10-SUM(INDEX(N(COUNTIF(M$10:R$60,C30:L30)<>0),))),\"\")","v":""}]
[null,null,null,null,null,null,null,null,null,null,null,null,{"$f":"IF(C31=\"\",\"\",Game!$B$2)","v":""},{"$f":"IF(M31=\"\",\"\",Game!$C$2)","v":""},{"$f":"IF(M31=\"\",\"\",Game!$D$2)","v":""},{"$f":"IF(M31=\"\",\"\",Game!$E$2)","v":""},{"$f":"IF(M31=\"\",\"\",Game!$F$2)","v":""},{"$f":"IF(M31=\"\",\"\",Game!$G$2)","v":""},null,{"$f":"IF(C31<>\"\",IF(10-SUM(INDEX(N(COUNTIF(M$10:R$60,C31:L31)<>0),))=0,\"JACKPOT\",10-SUM(INDEX(N(COUNTIF(M$10:R$60,C31:L31)<>0),))),\"\")","v":""}]
[null,null,null,null,null,null,null,null,null,null,null,null,{"$f":"IF(C32=\"\",\"\",Game!$B$2)","v":""},{"$f":"IF(M32=\"\",\"\",Game!$C$2)","v":""},{"$f":"IF(M32=\"\",\"\",Game!$D$2)","v":""},{"$f":"IF(M32=\"\",\"\",Game!$E$2)","v":""},{"$f":"IF(M32=\"\",\"\",Game!$F$2)","v":""},{"$f":"IF(M32=\"\",\"\",Game!$G$2)","v":""},null,{"$f":"IF(C32<>\"\",IF(10-SUM(INDEX(N(COUNTIF(M$10:R$60,C32:L32)<>0),))=0,\"JACKPOT\",10-SUM(INDEX(N(COUNTIF(M$10:R$60,C32:L32)<>0),))),\"\")","v":""}]
[null,null,null,null,null,null,null,null,null,null,null,null,{"$f":"IF(C33=\"\",\"\",Game!$B$2)","v":""},{"$f":"IF(M33=\"\",\"\",Game!$C$2)","v":""},{"$f":"IF(M33=\"\",\"\",Game!$D$2)","v":""},{"$f":"IF(M33=\"\",\"\",Game!$E$2)","v":""},{"$f":"IF(M33=\"\",\"\",Game!$F$2)","v":""},{"$f":"IF(M33=\"\",\"\",Game!$G$2)","v":""},null,{"$f":"IF(C33<>\"\",IF(10-SUM(INDEX(N(COUNTIF(M$10:R$60,C33:L33)<>0),))=0,\"JACKPOT\",10-SUM(INDEX(N(COUNTIF(M$10:R$60,C33:L33)<>0),))),\"\")","v":""}]
[null,null,null,null,null,null,null,null,null,null,null,null,{"$f":"IF(C34=\"\",\"\",Game!$B$2)","v":""},{"$f":"IF(M34=\"\",\"\",Game!$C$2)","v":""},{"$f":"IF(M34=\"\",\"\",Game!$D$2)","v":""},{"$f":"IF(M34=\"\",\"\",Game!$E$2)","v":""},{"$f":"IF(M34=\"\",\"\",Game!$F$2)","v":""},{"$f":"IF(M34=\"\",\"\",Game!$G$2)","v":""},null,{"$f":"IF(C34<>\"\",IF(10-SUM(INDEX(N(COUNTIF(M$10:R$60,C34:L34)<>0),))=0,\"JACKPOT\",10-SUM(INDEX(N(COUNTIF(M$10:R$60,C34:L34)<>0),))),\"\")","v":""}]
[null,null,null,null,null,null,null,null,null,null,null,null,{"$f":"IF(C35=\"\",\"\",Game!$B$2)","v":""},{"$f":"IF(M35=\"\",\"\",Game!$C$2)","v":""},{"$f":"IF(M35=\"\",\"\",Game!$D$2)","v":""},{"$f":"IF(M35=\"\",\"\",Game!$E$2)","v":""},{"$f":"IF(M35=\"\",\"\",Game!$F$2)","v":""},{"$f":"IF(M35=\"\",\"\",Game!$G$2)","v":""},null,{"$f":"IF(C35<>\"\",IF(10-SUM(INDEX(N(COUNTIF(M$10:R$60,C35:L35)<>0),))=0,\"JACKPOT\",10-SUM(INDEX(N(COUNTIF(M$10:R$60,C35:L35)<>0),))),\"\")","v":""}]
[null,null,null,null,null,null,null,null,null,null,null,null,{"$f":"IF(C36=\"\",\"\",Game!$B$2)","v":""},{"$f":"IF(M36=\"\",\"\",Game!$C$2)","v":""},{"$f":"IF(M36=\"\",\"\",Game!$D$2)","v":""},{"$f":"IF(M36=\"\",\"\",Game!$E$2)","v":""},{"$f":"IF(M36=\"\",\"\",Game!$F$2)","v":""},{"$f":"IF(M36=\"\",\"\",Game!$G$2)","v":""},null,{"$f":"IF(C36<>\"\",IF(10-SUM(INDEX(N(COUNTIF(M$10:R$60,C36:L36)<>0),))=0,\"JACKPOT\",10-SUM(INDEX(N(COUNTIF(M$10:R$60,C36:L36)<>0),))),\"\")","v":""}]
[null,null,null,null,null,null,null,null,null,null,null,null,{"$f":"IF(C37=\"\",\"\",Game!$B$2)","v":""},{"$f":"IF(M37=\"\",\"\",Game!$C$2)","v":""},{"$f":"IF(M37=\"\",\"\",Game!$D$2)","v":""},{"$f":"IF(M37=\"\",\"\",Game!$E$2)","v":""},{"$f":"IF(M37=\"\",\"\",Game!$F$2)","v":""},{"$f":"IF(M37=\"\",\"\",Game!$G$2)","v":""},null,{"$f":"IF(C37<>\"\",IF(10-SUM(INDEX(N(COUNTIF(M$10:R$60,C37:L37)<>0),))=0,\"JACKPOT\",10-SUM(INDEX(N(COUNTIF(M$10:R$60,C37:L37)<>0),))),\"\")","v":""}]
[null,null,null,null,null,null,null,null,null,null,null,null,{"$f":"IF(C38=\"\",\"\",Game!$B$2)","v":""},{"$f":"IF(M38=\"\",\"\",Game!$C$2)","v":""},{"$f":"IF(M38=\"\",\"\",Game!$D$2)","v":""},{"$f":"IF(M38=\"\",\"\",Game!$E$2)","v":""},{"$f":"IF(M38=\"\",\"\",Game!$F$2)","v":""},{"$f":"IF(M38=\"\",\"\",Game!$G$2)","v":""},null,{"$f":"IF(C38<>\"\",IF(10-SUM(INDEX(N(COUNTIF(M$10:R$60,C38:L38)<>0),))=0,\"JACKPOT\",10-SUM(INDEX(N(COUNTIF(M$10:R$60,C38:L38)<>0),))),\"\")","v":""}]
[null,null,null,null,null,null,null,null,null,null,null,null,{"$f":"IF(C39=\"\",\"\",Game!$B$2)","v":""},{"$f":"IF(M39=\"\",\"\",Game!$C$2)","v":""},{"$f":"IF(M39=\"\",\"\",Game!$D$2)","v":""},{"$f":"IF(M39=\"\",\"\",Game!$E$2)","v":""},{"$f":"IF(M39=\"\",\"\",Game!$F$2)","v":""},{"$f":"IF(M39=\"\",\"\",Game!$G$2)","v":""},null,{"$f":"IF(C39<>\"\",IF(10-SUM(INDEX(N(COUNTIF(M$10:R$60,C39:L39)<>0),))=0,\"JACKPOT\",10-SUM(INDEX(N(COUNTIF(M$10:R$60,C39:L39)<>0),))),\"\")","v":""}]
[null,null,null,null,null,null,null,null,null,null,null,null,{"$f":"IF(C40=\"\",\"\",Game!$B$2)","v":""},{"$f":"IF(M40=\"\",\"\",Game!$C$2)","v":""},{"$f":"IF(M40=\"\",\"\",Game!$D$2)","v":""},{"$f":"IF(M40=\"\",\"\",Game!$E$2)","v":""},{"$f":"IF(M40=\"\",\"\",Game!$F$2)","v":""},{"$f":"IF(M40=\"\",\"\",Game!$G$2)","v":""},null,{"$f":"IF(C40<>\"\",IF(10-SUM(INDEX(N(COUNTIF(M$10:R$60,C40:L40)<>0),))=0,\"JACKPOT\",10-SUM(INDEX(N(COUNTIF(M$10:R$60,C40:L40)<>0),))),\"\")","v":""}]
[null,null,null,null,null,null,null,null,null,null,null,null,{"$f":"IF(C41=\"\",\"\",Game!$B$2)","v":""},{"$f":"IF(M41=\"\",\"\",Game!$C$2)","v":""},{"$f":"IF(M41=\"\",\"\",Game!$D$2)","v":""},{"$f":"IF(M41=\"\",\"\",Game!$E$2)","v":""},{"$f":"IF(M41=\"\",\"\",Game!$F$2)","v":""},{"$f":"IF(M41=\"\",\"\",Game!$G$2)","v":""},null,{"$f":"IF(C41<>\"\",IF(10-SUM(INDEX(N(COUNTIF(M$10:R$60,C41:L41)<>0),))=0,\"JACKPOT\",10-SUM(INDEX(N(COUNTIF(M$10:R$60,C41:L41)<>0),))),\"\")","v":""}]
[null,null,null,null,null,null,null,null,null,null,null,null,{"$f":"IF(C42=\"\",\"\",Game!$B$2)","v":""},{"$f":"IF(M42=\"\",\"\",Game!$C$2)","v":""},{"$f":"IF(M42=\"\",\"\",Game!$D$2)","v":""},{"$f":"IF(M42=\"\",\"\",Game!$E$2)","v":""},{"$f":"IF(M42=\"\",\"\",Game!$F$2)","v":""},{"$f":"IF(M42=\"\",\"\",Game!$G$2)","v":""},null,{"$f":"IF(C42<>\"\",IF(10-SUM(INDEX(N(COUNTIF(M$10:R$60,C42:L42)<>0),))=0,\"JACKPOT\",10-SUM(INDEX(N(COUNTIF(M$10:R$60,C42:L42)<>0),))),\"\")","v":""}]
[null,null,null,null,null,null,null,null,null,null,null,null,{"$f":"IF(C43=\"\",\"\",Game!$B$2)","v":""},{"$f":"IF(M43=\"\",\"\",Game!$C$2)","v":""},{"$f":"IF(M43=\"\",\"\",Game!$D$2)","v":""},{"$f":"IF(M43=\"\",\"\",Game!$E$2)","v":""},{"$f":"IF(M43=\"\",\"\",Game!$F$2)","v":""},{"$f":"IF(M43=\"\",\"\",Game!$G$2)","v":""},null,{"$f":"IF(C43<>\"\",IF(10-SUM(INDEX(N(COUNTIF(M$10:R$60,C43:L43)<>0),))=0,\"JACKPOT\",10-SUM(INDEX(N(COUNTIF(M$10:R$60,C43:L43)<>0),))),\"\")","v":""}]
[null,null,null,null,null,null,null,null,null,null,null,null,{"$f":"IF(C44=\"\",\"\",Game!$B$2)","v":""},{"$f":"IF(M44=\"\",\"\",Game!$C$2)","v":""},{"$f":"IF(M44=\"\",\"\",Game!$D$2)","v":""},{"$f":"IF(M44=\"\",\"\",Game!$E$2)","v":""},{"$f":"IF(M44=\"\",\"\",Game!$F$2)","v":""},{"$f":"IF(M44=\"\",\"\",Game!$G$2)","v":""},null,{"$f":"IF(C44<>\"\",IF(10-SUM(INDEX(N(COUNTIF(M$10:R$60,C44:L44)<>0),))=0,\"JACKPOT\",10-SUM(INDEX(N(COUNTIF(M$10:R$60,C44:L44)<>0),))),\"\")","v":""}]
[null,null,null,null,null,null,null,null,null,null,null,null,{"$f":"IF(C45=\"\",\"\",Game!$B$2)","v":""},{"$f":"IF(M45=\"\",\"\",Game!$C$2)","v":""},{"$f":"IF(M45=\"\",\"\",Game!$D$2)","v":""},{"$f":"IF(M45=\"\",\"\",Game!$E$2)","v":""},{"$f":"IF(M45=\"\",\"\",Game!$F$2)","v":""},{"$f":"IF(M45=\"\",\"\",Game!$G$2)","v":""},null,{"$f":"IF(C45<>\"\",IF(10-SUM(INDEX(N(COUNTIF(M$10:R$60,C45:L45)<>0),))=0,\"JACKPOT\",10-SUM(INDEX(N(COUNTIF(M$10:R$60,C45:L45)<>0),))),\"\")","v":""}]
[null,null,null,null,null,null,null,null,null,null,null,null,{"$f":"IF(C46=\"\",\"\",Game!$B$2)","v":""},{"$f":"IF(M46=\"\",\"\",Game!$C$2)","v":""},{"$f":"IF(M46=\"\",\"\",Game!$D$2)","v":""},{"$f":"IF(M46=\"\",\"\",Game!$E$2)","v":""},{"$f":"IF(M46=\"\",\"\",Game!$F$2)","v":""},{"$f":"IF(M46=\"\",\"\",Game!$G$2)","v":""},null,{"$f":"IF(C46<>\"\",IF(10-SUM(INDEX(N(COUNTIF(M$10:R$60,C46:L46)<>0),))=0,\"JACKPOT\",10-SUM(INDEX(N(COUNTIF(M$10:R$60,C46:L46)<>0),))),\"\")","v":""}]
[null,null,null,null,null,null,null,null,null,null,null,null,{"$f":"IF(C47=\"\",\"\",Game!$B$2)","v":""},{"$f":"IF(M47=\"\",\"\",Game!$C$2)","v":""},{"$f":"IF(M47=\"\",\"\",Game!$D$2)","v":""},{"$f":"IF(M47=\"\",\"\",Game!$E$2)","v":""},{"$f":"IF(M47=\"\",\"\",Game!$F$2)","v":""},{"$f":"IF(M47=\"\",\"\",Game!$G$2)","v":""},null,{"$f":"IF(C47<>\"\",IF(10-SUM(INDEX(N(COUNTIF(M$10:R$60,C47:L47)<>0),))=0,\"JACKPOT\",10-SUM(INDEX(N(COUNTIF(M$10:R$60,C47:L47)<>0),))),\"\")","v":""}]
[null,null,null,null,null,null,null,null,null,null,null,null,{"$f":"IF(C48=\"\",\"\",Game!$B$2)","v":""},{"$f":"IF(M48=\"\",\"\",Game!$C$2)","v":""},{"$f":"IF(M48=\"\",\"\",Game!$D$2)","v":""},{"$f":"IF(M48=\"\",\"\",Game!$E$2)","v":""},{"$f":"IF(M48=\"\",\"\",Game!$F$2)","v":""},{"$f":"IF(M48=\"\",\"\",Game!$G$2)","v":""},null,{"$f":"IF(C48<>\"\",IF(10-SUM(INDEX(N(COUNTIF(M$10:R$60,C48:L48)<>0),))=0,\"JACKPOT\",10-SUM(INDEX(N(COUNTIF(M$10:R$60,C48:L48)<>0),))),\"\")","v":""}]
[null,null,null,null,null,null,null,null,null,null,null,null,{"$f":"IF(C49=\"\",\"\",Game!$B$2)","v":""},{"$f":"IF(M49=\"\",\"\",Game!$C$2)","v":""},{"$f":"IF(M49=\"\",\"\",Game!$D$2)","v":""},{"$f":"IF(M49=\"\",\"\",Game!$E$2)","v":""},{"$f":"IF(M49=\"\",\"\",Game!$F$2)","v":""},{"$f":"IF(M49=\"\",\"\",Game!$G$2)","v":""},null,{"$f":"IF(C49<>\"\",IF(10-SUM(INDEX(N(COUNTIF(M$10:R$60,C49:L49)<>0),))=0,\"JACKPOT\",10-SUM(INDEX(N(COUNTIF(M$10:R$60,C49:L49)<>0),))),\"\")","v":""}]
[null,null,null,null,null,null,null,null,null,null,null,null,{"$f":"IF(C50=\"\",\"\",Game!$B$2)","v":""},{"$f":"IF(M50=\"\",\"\",Game!$C$2)","v":""},{"$f":"IF(M50=\"\",\"\",Game!$D$2)","v":""},{"$f":"IF(M50=\"\",\"\",Game!$E$2)","v":""},{"$f":"IF(M50=\"\",\"\",Game!$F$2)","v":""},{"$f":"IF(M50=\"\",\"\",Game!$G$2)","v":""},null,{"$f":"IF(C50<>\"\",IF(10-SUM(INDEX(N(COUNTIF(M$10:R$60,C50:L50)<>0),))=0,\"JACKPOT\",10-SUM(INDEX(N(COUNTIF(M$10:R$60,C50:L50)<>0),))),\"\")","v":""}]
[null,null,null,null,null,null,null,null,null,null,null,null,{"$f":"IF(C51=\"\",\"\",Game!$B$2)","v":""},{"$f":"IF(M51=\"\",\"\",Game!$C$2)","v":""},{"$f":"IF(M51=\"\",\"\",Game!$D$2)","v":""},{"$f":"IF(M51=\"\",\"\",Game!$E$2)","v":""},{"$f":"IF(M51=\"\",\"\",Game!$F$2)","v":""},{"$f":"IF(M51=\"\",\"\",Game!$G$2)","v":""},null,{"$f":"IF(C51<>\"\",IF(10-SUM(INDEX(N(COUNTIF(M$10:R$60,C51:L51)<>0),))=0,\"JACKPOT\",10-SUM(INDEX(N(COUNTIF(M$10:R$60,C51:L51)<>0),))),\"\")","v":""}]
[null,null,null,null,null,null,null,null,null,null,null,null,{"$f":"IF(C52=\"\",\"\",Game!$B$2)","v":""},{"$f":"IF(M52=\"\",\"\",Game!$C$2)","v":""},{"$f":"IF(M52=\"\",\"\",Game!$D$2)","v":""},{"$f":"IF(M52=\"\",\"\",Game!$E$2)","v":""},{"$f":"IF(M52=\"\",\"\",Game!$F$2)","v":""},{"$f":"IF(M52=\"\",\"\",Game!$G$2)","v":""},null,{"$f":"IF(C52<>\"\",IF(10-SUM(INDEX(N(COUNTIF(M$10:R$60,C52:L52)<>0),))=0,\"JACKPOT\",10-SUM(INDEX(N(COUNTIF(M$10:R$60,C52:L52)<>0),))),\"\")","v":""}]
[null,null,null,null,null,null,null,null,null,null,null,null,{"$f":"IF(C53=\"\",\"\",Game!$B$2)","v":""},{"$f":"IF(M53=\"\",\"\",Game!$C$2)","v":""},{"$f":"IF(M53=\"\",\"\",Game!$D$2)","v":""},{"$f":"IF(M53=\"\",\"\",Game!$E$2)","v":""},{"$f":"IF(M53=\"\",\"\",Game!$F$2)","v":""},{"$f":"IF(M53=\"\",\"\",Game!$G$2)","v":""},null,{"$f":"IF(C53<>\"\",IF(10-SUM(INDEX(N(COUNTIF(M$10:R$60,C53:L53)<>0),))=0,\"JACKPOT\",10-SUM(INDEX(N(COUNTIF(M$10:R$60,C53:L53)<>0),))),\"\")","v":""}]
[null,null,null,null,null,null,null,null,null,null,null,null,{"$f":"IF(C54=\"\",\"\",Game!$B$2)","v":""},{"$f":"IF(M54=\"\",\"\",Game!$C$2)","v":""},{"$f":"IF(M54=\"\",\"\",Game!$D$2)","v":""},{"$f":"IF(M54=\"\",\"\",Game!$E$2)","v":""},{"$f":"IF(M54=\"\",\"\",Game!$F$2)","v":""},{"$f":"IF(M54=\"\",\"\",Game!$G$2)","v":""},null,{"$f":"IF(C54<>\"\",IF(10-SUM(INDEX(N(COUNTIF(M$10:R$60,C54:L54)<>0),))=0,\"JACKPOT\",10-SUM(INDEX(N(COUNTIF(M$10:R$60,C54:L54)<>0),))),\"\")","v":""}]
[null,null,null,null,null,null,null,null,null,null,null,null,{"$f":"IF(C55=\"\",\"\",Game!$B$2)","v":""},{"$f":"IF(M55=\"\",\"\",Game!$C$2)","v":""},{"$f":"IF(M55=\"\",\"\",Game!$D$2)","v":""},{"$f":"IF(M55=\"\",\"\",Game!$E$2)","v":""},{"$f":"IF(M55=\"\",\"\",Game!$F$2)","v":""},{"$f":"IF(M55=\"\",\"\",Game!$G$2)","v":""},null,{"$f":"IF(C55<>\"\",IF(10-SUM(INDEX(N(COUNTIF(M$10:R$60,C55:L55)<>0),))=0,\"JACKPOT\",10-SUM(INDEX(N(COUNTIF(M$10:R$60,C55:L55)<>0),))),\"\")","v":""}]
[null,null,null,null,null,null,null,null,null,null,null,null,{"$f":"IF(C56=\"\",\"\",Game!$B$2)","v":""},{"$f":"IF(M56=\"\",\"\",Game!$C$2)","v":""},{"$f":"IF(M56=\"\",\"\",Game!$D$2)","v":""},{"$f":"IF(M56=\"\",\"\",Game!$E$2)","v":""},{"$f":"IF(M56=\"\",\"\",Game!$F$2)","v":""},{"$f":"IF(M56=\"\",\"\",Game!$G$2)","v":""},null,{"$f":"IF(C56<>\"\",IF(10-SUM(INDEX(N(COUNTIF(M$10:R$60,C56:L56)<>0),))=0,\"JACKPOT\",10-SUM(INDEX(N(COUNTIF(M$10:R$60,C56:L56)<>0),))),\"\")","v":""}]
[null,null,null,null,null,null,null,null,null,null,null,null,{"$f":"IF(C57=\"\",\"\",Game!$B$2)","v":""},{"$f":"IF(M57=\"\",\"\",Game!$C$2)","v":""},{"$f":"IF(M57=\"\",\"\",Game!$D$2)","v":""},{"$f":"IF(M57=\"\",\"\",Game!$E$2)","v":""},{"$f":"IF(M57=\"\",\"\",Game!$F$2)","v":""},{"$f":"IF(M57=\"\",\"\",Game!$G$2)","v":""},null,{"$f":"IF(C57<>\"\",IF(10-SUM(INDEX(N(COUNTIF(M$10:R$60,C57:L57)<>0),))=0,\"JACKPOT\",10-SUM(INDEX(N(COUNTIF(M$10:R$60,C57:L57)<>0),))),\"\")","v":""}]
[null,null,null,null,null,null,null,null,null,null,null,null,{"$f":"IF(C58=\"\",\"\",Game!$B$2)","v":""},{"$f":"IF(M58=\"\",\"\",Game!$C$2)","v":""},{"$f":"IF(M58=\"\",\"\",Game!$D$2)","v":""},{"$f":"IF(M58=\"\",\"\",Game!$E$2)","v":""},{"$f":"IF(M58=\"\",\"\",Game!$F$2)","v":""},{"$f":"IF(M58=\"\",\"\",Game!$G$2)","v":""},null,{"$f":"IF(C58<>\"\",IF(10-SUM(INDEX(N(COUNTIF(M$10:R$60,C58:L58)<>0),))=0,\"JACKPOT\",10-SUM(INDEX(N(COUNTIF(M$10:R$60,C58:L58)<>0),))),\"\")","v":""}]
[null,null,null,null,null,null,null,null,null,null,null,null,{"$f":"IF(C59=\"\",\"\",Game!$B$2)","v":""},{"$f":"IF(M59=\"\",\"\",Game!$C$2)","v":""},{"$f":"IF(M59=\"\",\"\",Game!$D$2)","v":""},{"$f":"IF(M59=\"\",\"\",Game!$E$2)","v":""},{"$f":"IF(M59=\"\",\"\",Game!$F$2)","v":""},{"$f":"IF(M59=\"\",\"\",Game!$G$2)","v":""},null,{"$f":"IF(C59<>\"\",IF(10-SUM(INDEX(N(COUNTIF(M$10:R$60,C59:L59)<>0),))=0,\"JACKPOT\",10-SUM(INDEX(N(COUNTIF(M$10:R$60,C59:L59)<>0),))),\"\")","v":""}]
[null,null,null,null,null,null,null,null,null,null,null,null,{"$f":"IF(C60=\"\",\"\",Game!$B$2)","v":""},{"$f":"IF(M60=\"\",\"\",Game!$C$2)","v":""},{"$f":"IF(M60=\"\",\"\",Game!$D$2)","v":""},{"$f":"IF(M60=\"\",\"\",Game!$E$2)","v":""},{"$f":"IF(M60=\"\",\"\",Game!$F$2)","v":""},{"$f":"IF(M60=\"\",\"\",Game!$G$2)","v":""},null,{"$f":"IF(C60<>\"\",IF(10-SUM(INDEX(N(COUNTIF(M$10:R$60,C60:L60)<>0),))=0,\"JACKPOT\",10-SUM(INDEX(N(COUNTIF(M$10:R$60,C60:L60)<>0),))),\"\")","v":""}]
[]
[null,"Namen worden manueel","Gekozen nummers van de deelnemers worden uiteraard MANUEEL ingevuld",null,null,null,null,null,null,null,null,null,"Trekking nummers worden elke week MANUEEL ingevuld, en ",null,null,null,null,null,"MANUEEL",null,"MANUEEL"]
[null,"ingevuld.","Na de trekking worden de nummers automatisch gecontroleerd en de numers die voorkomen op de",null,null,null,null,null,null,null,null,null,"getoetst aan de ingevulde nummers van alle deelnemers"]
[null,null,"trekking worden rood ingekleurd. Die inkleuring blijft bestaan. ",null,null,null,null,null,null,null,null,null,"Dus elke trekking wordt afzonderlijk ingegeven en getoest"]
[null,null,"In het vak AANTAL wordt dan weegegeven hoeveel nummers er nog NIET ingekleurd zijn.",null,null,null,null,null,null,null,null,null,"met de ingevulde nummers van de deelnemers."]
[null,null,"Staat er maar 3 nummers meer open, dan wordt dat in het vak AANTAL LICHTBLAUW ingekleurd. "]
[null,null,"Staan er maar 2 nummers meer open dan wordt dat in het vak AANTAL GEEL ingekleurd."]
[null,null,"Staat er maar 1 nummer meer open dan wordt dat in het vak AANTAL ROOD ingekleurd."]
[null,null,"Zijn alle nummers getrokken, dan wordt dat in het vak AANTAL GROEN  en JACKPOT"]
[null,null,"Dus, de nummers die door de deelnemer ingevuld werden, wijzigen nooit."]
[]
[null,"Voorbeeld",1,2,3,4,5,6,7,8,9,10,1,3,5,6,7,9,"2026-07-15",4,"XX"]
[null,null,"Stel dat bij de volgende trekking de cijfers 2 ook uitkomt dan worden die ook rood ingekleurd"]
[null,null,1,2,3,4,5,6,7,8,9,10,2,11,13,17,23,41,"2026-07-16",3,"XX"]
[]
[null,null,1,2,3,4,5,6,7,8,9,10,2,4,17,21,33,41,"2026-07-18",2,"XX"]
[null,null,"En bij nog een volgende trekking komen ook het nummer 8 uit, dan"]
[null,null,1,2,3,4,5,6,7,8,9,10,3,8,12,15,17,19,"2026-07-20",1,"XX"]
[null,null,"Zijn alle nummers getrokken dan."]
[null,null,1,2,3,4,5,6,7,8,9,10,10,22,27,31,35,36,"2026-07-23","JACKPOT","XX"]

{"sheet":"Datum","index":1,"n_rows":2,"n_cols":2,"rows_kept":2,"cut":false,"hidden":false,"merged":[]}
["Jaar",{"$f":"YEAR(B2)","v":2026}]
["Laatste trekking",{"$f":"TODAY()-MIN(MOD(WEEKDAY(TODAY(),2)-3,7),MOD(WEEKDAY(TODAY(),2)-6,7))","v":"2026-09-02"}]

{"sheet":"Game","index":2,"n_rows":71,"n_cols":8,"rows_kept":71,"cut":false,"hidden":false,"merged":[]}
["Datum","Nummer 1","Nummer 2","Nummer 3","Nummer 4","Nummer 5","Nummer 6","Bonus"]
["2026-09-02",1,5,21,31,34,43,9]
["2026-08-29",3,6,12,15,23,29,33]
["2026-08-26",3,10,14,34,35,39,23]
["2026-08-22",12,18,20,22,29,32,25]
["2026-08-19",8,10,16,20,26,40,41]
["2026-08-15",16,18,28,29,30,41,33]
["2026-08-12",19,22,24,30,31,45,27]
["2026-08-08",8,14,24,27,37,39,22]
["2026-08-05",3,4,15,24,29,44,32]
["2026-08-01",10,11,18,24,31,32,29]
["2026-07-29",11,17,27,33,43,45,20]
["2026-07-25",10,15,19,20,25,35,23]
["2026-07-22",3,4,19,25,29,40,24]
["2026-07-18",8,24,30,32,33,39,40]
["2026-07-15",4,5,13,14,25,26,38]
["2026-07-11",3,4,10,25,26,44,17]
["2026-07-08",8,17,25,26,28,43,11]
["2026-07-04",5,16,25,26,27,44,22]
["2026-07-01",4,10,13,25,26,30,41]
["2026-06-27",4,12,18,24,25,41,34]
["2026-06-24",11,13,16,18,21,43,36]
["2026-06-20",5,16,25,29,30,43,18]
["2026-06-17",11,21,30,41,42,44,24]
["2026-06-13",5,12,14,20,39,45,1]
["2026-06-10",7,11,12,16,22,34,33]
["2026-06-06",14,19,22,34,36,37,13]
["2026-06-03",9,15,19,20,21,38,25]
["2026-05-30",3,17,25,29,36,38,12]
["2026-05-27",5,14,19,20,44,45,34]
["2026-05-23",2,4,19,26,36,40,33]
["2026-05-20",11,21,22,23,34,42,8]
["2026-05-16",1,3,13,30,35,43,23]
["2026-05-13",12,24,29,35,43,44,10]
["2026-05-09",4,13,26,36,42,45,16]
["2026-05-06",8,10,19,35,38,45,27]
["2026-05-02",7,12,16,17,29,39,35]
["2026-04-29",5,13,14,20,32,34,1]
["2026-04-25",6,9,10,11,22,35,40]
["2026-04-22",5,6,24,25,26,28,9]
["2026-04-18",5,19,23,24,25,38,44]
["2026-04-15",2,5,9,16,29,36,35]
["2026-04-11",5,14,20,24,30,38,32]
["2026-04-08",3,14,17,24,28,32,35]
["2026-04-04",17,20,23,24,27,32,12]
["2026-04-01",4,9,39,43,44,45,23]
["2026-03-28",2,3,14,15,22,24,42]
["2026-03-25",2,4,10,35,40,44,41]
["2026-03-21",3,4,8,20,29,45,13]
["2026-03-18",1,21,25,33,35,43,24]
["2026-03-14",6,11,26,36,40,41,7]
["2026-03-11",16,20,24,29,36,39,35]
["2026-03-07",4,5,6,10,32,35,7]
["2026-03-04",14,16,23,29,34,41,40]
["2026-02-28",6,10,13,26,38,42,11]
["2026-02-25",2,3,4,20,23,38,22]
["2026-02-21",1,15,20,23,25,29,16]
["2026-02-18",9,10,14,28,34,41,4]
["2026-02-14",17,20,22,24,26,30,32]
["2026-02-11",3,9,10,12,26,40,27]
["2026-02-07",12,21,22,25,30,32,38]
["2026-02-04",9,13,15,20,23,26,19]
["2026-01-31",2,5,26,28,34,42,30]
["2026-01-28",3,8,11,20,23,31,7]
["2026-01-24",2,9,15,23,28,32,12]
["2026-01-21",4,10,17,20,24,31,21]
["2026-01-17",9,13,17,23,44,45,7]
["2026-01-14",13,27,28,32,37,38,17]
["2026-01-10",5,32,39,41,44,45,11]
["2026-01-07",4,6,17,25,36,39,14]
["2026-01-03",4,9,17,23,37,40,27]